{"text_format":"1","workbook":"xlsx","n_sheets":40,"sheets":["基本設定","表紙①","表紙②","表紙③","細1-1","細1-2","細1-3","細1-4","細1-5","細1-6","細1-7","細1-8","細1-9","細1-10","細1-11","細1-12","細2-1","細2-2","細2-3","細2-4","細2-5","細2-6","細2-7","細2-8","細2-9","細2-10","細2-11","細2-12","細3-1","細3-2","細3-3","細3-4","細3-5","細3-6","細3-7","細3-8","細3-9","細3-10","細3-11","細3-12"],"not_rendered":{"charts":0,"images":0,"macros":1,"external_links":0,"defined_names":75,"comments":4,"pivot_tables":0},"unopened":[],"bounds":{"document_bytes":16777216,"sheet_cells":100000,"rows_first":2000,"rows_last":500,"rows_between":2000,"halvings":0,"cell_chars":16384,"cell_head_chars":4096},"cells_cut":0,"cells_raw":0,"read":"whole","date_system":"1900"}

{"sheet":"基本設定","index":0,"n_rows":70,"n_cols":9,"rows_kept":70,"cut":false,"hidden":false,"merged":[[15,1,15,2],[6,6,6,8],[0,6,0,8],[7,7,7,8]]}
[null,"注:赤字項目は必須","【基本情報】",null,"【入力例】",null,"【消費税情報】"]
[]
[null,"社名",null,null,"(株)種村建設",null,"標準税率",10]
[null,"住所",null,null,"新潟県南魚沼市水尾４１７",null,"軽減税率",8,"軽"]
[null,"代表者",null,null,"代表取締役 種村成徳",null,"経過措置旧税率",8.1,"旧"]
[null,"電話",null,null,"025-779-2311",null,"非不課税",0,"非"]
[]
[null,"銀行名",null,null,"第四北越銀行",null,"ﾊﾞｰｼﾞｮﾝ","Ver.3.1.3"]
[null,"支店名",null,null,"六日町中央支店"]
[null,"口座名義",null,null,"カ.タネムラケンセツ"]
[null,"口座種別",null,null,"2.当座"]
[null,"口座番号",null,null,121813]
[null,"ｲﾝﾎﾞｲｽ登録番号",null,null,"T411001026384"]
[]
[]
[null,"【利用方法】"]
[null,"０．変更箇所"]
[null,"　　今回のバージョンから、消費税のインボイス制度に対応しました。"]
[]
[null,"１．基本情報の入力"]
[null,"　　まず、基本情報を入力してください。各書式に反映します。"]
[null,"　　赤字の所は必須項目なので、入力しないと印刷できません。"]
[null,"　　ｲﾝﾎﾞｲｽ登録番号取得前に、このﾊﾞｰｼﾞｮﾝを使用する場合は、法人番号を登録番号入力欄に入力して下さい。"]
[]
[null,"２．消費税情報"]
[null,"　　①今回から消費税は、明細書毎に税率を入力して下さい。従って、表紙は、日付だけの入力となりました。"]
[]
[null,"　　②調整消費税額"]
[null,"　　　特にコンピューター処理されている場合、入力が必要になる場合があります。"]
[null,"　　　ソフトによっては、商品1ヶ毎に消費税を掛けている場合がありますので、"]
[null,"　　　このような場合、消費税額が合わなくなります。そろぞれの各明細書の[税調]欄に、貴社の消費税額の"]
[null,"　　　差額を入力してください。差額分が＋－されて反映されます。"]
[]
[null,"　　③消費税率"]
[null,"　　　各明細書の税率欄に、消費税率を入力して下さい。"]
[null,"　　　税率は、[10][8][8.1][0]の4種類に現在対応しています。"]
[null,"　　　それぞれの明細書(現場)毎に消費税を計算しますので、１件の明細書(現場)で、複数の消費税が発生する"]
[null,"　　　場合は、面倒でも消費税毎に明細書(現場)を分けて下さい。"]
[null,"　　　尚、[8]は、軽減税率8%を、[8.1]は、経過措置旧税率8%を、[0]は、非不課税を意味します。"]
[null,"　　　便宜上、経過措置旧税率8%を、[8.1]と入力しますが、消費税額は、金額(税抜)*8%での計算となります。"]
[null,"　　　また、消費税率が変更若しくは追加になった場合は、この書式を変更しますので追って連絡します。"]
[]
[null,"　　④端数処理"]
[null,"　　　消費税計算と明細表の税抜金額計算時の小数点以下の処理は、四捨五入です。"]
[]
[null,"　　⑤インボイス制度"]
[null,"　　　上記制度に対応するため、それぞれの税率に対する消費税額及び対象額を表示する仕様にしました。"]
[]
[null,"３．書式情報"]
[null,"　　　①表紙の入力"]
[null,"　　　　「日付欄(必須)」と、必要に応じて「備考･通信欄」だけ入力して下さい。"]
[null,"　　　　こちらも同じく、表紙(貴社控･現場控)は、入力不要です。"]
[null,"　　　　各項目は、明細書の「工事番号」「工事名」「小計金額」が反映されます。"]
[]
[null,"　　　②明細書の入力"]
[null,"　　　　明細書での入力項目は、「工事番号」,「工事名」,「摘要・品名」,「数量」,「単位」,「単価」"]
[null,"　　　　です。必要に応じて、「注文番号」,「契約金額」等を入力して下さい。"]
[]
[null,"　　　表紙は、３枚用意してあります(３６現場分)。"]
[null,"　　　・表紙①に対応する明細書は、細1-1～細1-12。"]
[null,"　　　・表紙②に対応する明細書は、細2-1～細2-12。"]
[null,"　　　・表紙③に対応する明細書は、細3-1～細3-12。"]
[]
[null,"４．その他"]
[null,"　　①各シートは、念のため保護されています。"]
[null,"　　　従って、必要に応じて保護を解除し、訂正してください。"]
[null,"　　　パスワードは、設定していません。"]
[null,"　　②簡単なマクロが設定されていますが、こちらもパスワードは設定していません。"]
[null,"　　　適宜変更して、使用してください。"]
[null,"　　　シートのタブ名は変更しないでください。マクロを修正しないとエラーが発生します。"]

{"sheet":"表紙①","index":1,"n_rows":183,"n_cols":58,"rows_kept":183,"cut":false,"hidden":false,"merged":[[134,25,137,25],[138,25,141,25],[142,25,145,25],[146,25,149,25],[150,25,153,25],[154,25,157,25],[158,25,161,25],[162,25,165,25],[166,25,169,25],[62,1,65,4],[66,1,69,4],[70,1,73,4],[42,1,45,4],[42,24,45,24],[70,25,73,25],[74,25,77,25],[78,25,81,25],[82,25,85,25],[74,15,77,21],[78,15,81,21],[82,15,85,21],[50,1,53,4],[54,1,57,4],[58,1,61,4],[50,5,53,14],[54,5,57,14],[58,5,61,14],[62,5,65,14],[66,5,69,14],[70,5,73,14],[42,25,45,25],[46,25,49,25],[50,25,53,25],[66,24,69,24],[70,24,73,24],[62,15,65,21],[70,22,73,23],[70,26,73,31],[50,24,53,24],[54,24,57,24],[58,24,61,24],[62,24,65,24],[50,22,53,23],[54,22,57,23],[58,22,61,23],[62,22,65,23],[130,25,133,25],[86,1,89,14],[86,25,89,25],[126,5,129,14],[86,15,89,21],[104,1,107,9],[104,10,107,23],[94,19,97,34],[95,1,98,11],[95,12,98,13],[103,33,106,55],[96,53,98,55],[100,1,101,10],[96,41,98,45],[96,46,98,49],[126,22,129,24],[86,26,89,31],[126,26,129,31],[100,33,101,55],[96,50,98,52],[86,35,88,38],[86,39,88,43],[129,37,132,39],[129,40,132,44],[46,26,49,31],[50,26,53,31],[54,26,57,31],[58,26,61,31],[62,26,65,31],[66,26,69,31],[90,52,91,55],[42,33,44,55],[113,1,116,9],[113,10,116,23],[109,1,112,9],[109,10,112,23],[82,5,85,14],[82,1,85,4],[58,15,61,21],[66,15,69,21],[70,15,73,21],[66,22,69,23],[50,15,53,21],[54,15,57,21],[54,25,57,25],[58,25,61,25],[62,25,65,25],[66,25,69,25],[0,54,1,55],[4,57,6,60],[11,33,14,55],[15,33,18,55],[19,33,23,55],[24,33,27,55],[107,33,110,55],[111,33,115,55],[116,33,119,55],[72,39,73,43],[74,44,76,48],[72,44,73,48],[77,44,79,48],[80,44,82,48],[80,39,82,43],[83,35,85,38],[83,39,85,43],[37,37,40,39],[37,40,40,44],[37,45,40,48],[37,49,40,55],[47,33,70,55],[25,24,28,24],[3,1,6,11],[8,1,9,10],[8,33,9,55],[2,19,5,34],[3,12,6,13],[4,50,6,52],[12,10,15,23],[4,53,6,55],[12,1,15,9],[25,10,28,23],[4,41,6,45],[4,46,6,49],[17,10,20,23],[21,10,24,23],[17,1,20,9],[21,1,24,9],[25,1,28,9],[38,15,41,21],[38,22,41,23],[42,15,45,21],[46,15,49,21],[46,5,49,14],[29,37,32,45],[33,37,36,55],[29,33,32,36],[33,33,36,36],[37,33,40,36],[29,10,32,23],[29,46,32,55],[38,5,41,14],[29,1,32,9],[38,1,41,4],[34,1,37,4],[46,1,49,4],[34,22,37,24],[46,24,49,24],[42,22,45,23],[46,22,49,23],[34,26,37,31],[38,26,41,31],[42,26,45,31],[34,25,37,25],[38,25,41,25],[45,33,46,55],[34,5,37,14],[42,5,45,14],[83,44,85,48],[86,44,88,48],[72,35,73,38],[38,24,41,24],[74,24,77,24],[78,24,81,24],[82,24,85,24],[74,22,77,23],[78,22,81,23],[82,22,85,23],[74,35,76,38],[74,26,77,31],[78,26,81,31],[82,26,85,31],[74,39,76,43],[77,35,79,38],[77,39,79,43],[34,15,37,21],[72,49,73,53],[74,1,77,4],[78,1,81,4],[74,5,77,14],[78,5,81,14],[86,22,89,24],[125,33,128,36],[125,37,128,55],[117,1,120,9],[117,10,120,23],[121,33,124,36],[121,37,124,45],[121,46,124,55],[126,1,129,4],[121,1,124,9],[121,10,124,23],[126,25,129,25],[129,45,132,48],[129,49,132,55],[130,24,133,24],[86,49,88,53],[74,49,76,53],[77,49,79,53],[80,49,82,53],[83,49,85,53],[174,25,177,25],[178,1,181,14],[172,49,174,53],[175,35,177,38],[175,39,177,43],[175,44,177,48],[178,35,180,38],[178,39,180,43],[178,44,180,48],[174,15,177,21],[178,25,181,25],[175,49,177,53],[178,49,180,53],[150,1,153,4],[154,1,157,4],[158,1,161,4],[162,1,165,4],[166,1,169,4],[170,1,173,4],[174,1,177,4],[170,15,173,21],[146,1,149,4],[154,5,157,14],[158,5,161,14],[162,5,165,14],[142,1,145,4],[134,1,137,4],[138,1,141,4],[130,1,133,4],[130,22,133,23],[166,5,169,14],[170,5,173,14],[174,5,177,14],[130,15,133,21],[134,15,137,21],[138,15,141,21],[142,15,145,21],[146,15,149,21],[150,15,153,21],[154,15,157,21],[158,15,161,21],[162,15,165,21],[166,15,169,21],[130,5,133,14],[134,5,137,14],[138,5,141,14],[142,5,145,14],[146,5,149,14],[150,5,153,14],[134,24,137,24],[138,24,141,24],[166,22,169,23],[170,22,173,23],[174,22,177,23],[178,26,181,31],[38,32,41,32],[117,24,120,24],[134,22,137,23],[138,22,141,23],[142,22,145,23],[146,22,149,23],[150,22,153,23],[154,22,157,23],[158,22,161,23],[162,22,165,23],[142,24,145,24],[146,24,149,24],[150,24,153,24],[154,24,157,24],[158,24,161,24],[162,24,165,24],[170,25,173,25],[178,22,181,24],[74,0,77,0],[78,0,81,0],[82,0,85,0],[126,15,129,21],[166,24,169,24],[178,15,181,21],[182,52,183,55],[172,35,174,38],[172,39,174,43],[172,44,174,48],[170,24,173,24],[174,24,177,24],[130,26,133,31],[134,26,137,31],[138,26,141,31],[142,26,145,31],[146,26,149,31],[150,26,153,31],[154,26,157,31],[158,26,161,31],[162,26,165,31],[166,26,169,31],[170,26,173,31],[174,26,177,31],[38,0,41,0],[42,0,45,0],[46,0,49,0],[50,0,53,0],[54,0,57,0],[58,0,61,0],[62,0,65,0],[66,0,69,0],[70,0,73,0],[164,49,165,53],[166,49,168,53],[169,49,171,53],[134,33,162,55],[80,35,82,38],[164,39,165,43],[164,44,165,48],[166,35,168,38],[166,39,168,43],[166,44,168,48],[169,35,171,38],[169,39,171,43],[169,44,171,48],[164,35,165,38],[129,33,132,36]]}
[null,null,null,null,null,null,null,null,null,null,null,null,null,null,null,null,null,null,null,null,null,null,null,null,null,null,null,null,null,null,null,null,null,null,null,null,null,null,null,null,null,null,null,null,null,null,null,null,null,null,null,null,null,null,{"$f":"\"\"&IF(小計3>0,\"1/3\",IF(小計2>0,\"1/2\",\"\"))&\"\"","v":""}]
[]
[null,null,null,null,null,null,null,null,null,null,null,null,null,null,null,null,null,null,null,"請　求　書 (正)"]
[null,"株 式 会 社 種 村 建 設",null,null,null,null,null,null,null,null,null,null,"御中"]
[null,null,null,null,null,null,null,null,null,null,null,null,null,null,null,null,null,null,null,null,null,null,null,null,null,null,null,null,null,null,null,null,null,null,null,null,null,null,null,null,null,"請求年月日",null,null,null,null,null,null,null,null,null,null,null,null,null,null,null,"明細付表紙"]
[]
[]
[]
[null,"下記の通りご請求します。",null,null,null,null,null,null,null,null,null,null,null,null,null,null,null,null,null,null,null,null,null,null,null,null,null,null,null,null,null,null,null,"住所･社名･電話"]
[]
[null,null,null,null,null,null,null,null,null,null,null,null,null,null,null,null,null,null,null,null,null,null,null,null,null,null,null,null,null,null,null,null,null,"\n\n　　　　　　　　　新潟県南魚沼市水尾４１７\n\n　　　　　　　　　株式会社 種 村 建 設\n\n　　　　　　　　　代表取締役　並 木 成 德"]
[null,null,null,null,null,null,null,null,null,null,null,null,null,null,null,null,null,null,null,null,null,null,null,null,null,null,null,null,null,null,null,null,null,{"$f":"IF(住所=\"\",\"\",住所)","v":""}]
[null,"御請求金額",null,null,null,null,null,null,null,null,{"$f":"K30+K18","v":0}]
[]
[]
[null,null,null,null,null,null,null,null,null,null,null,null,null,null,null,null,null,null,null,null,null,null,null,null,null,null,null,null,null,null,null,null,null,{"$f":"IF(社名=\"\",\"\",社名)","v":""}]
[]
[null,"前月繰越額",null,null,null,null,null,null,null,null,0]
[]
[null,null,null,null,null,null,null,null,null,null,null,null,null,null,null,null,null,null,null,null,null,null,null,null,null,null,null,null,null,null,null,null,null,{"$f":"IF(代表者=\"\",\"\",代表者)","v":""}]
[]
[null,"当月請求額",null,null,null,null,null,null,null,null,{"$f":"IF(P87=0,0,P87+小計2+小計3)","v":0}]
[]
[]
[null,null,null,null,null,null,null,null,null,null,null,null,null,null,null,null,null,null,null,null,null,null,null,null,null,null,null,null,null,null,null,null,null,{"$f":"IF(電話=\"\",\"\",電話)","v":""}]
[null,"消費税額",null,null,null,null,null,null,null,null,{"$f":"IF(AA87=0,0,AA87+税計2+税計3)","v":0}]
[]
[]
[]
[null,"今回請求額",null,null,null,null,null,null,null,null,{"$f":"K22+K26","v":0},null,null,null,null,null,null,null,null,null,null,null,null,null,null,null,null,null,null,null,null,null,null,"取引銀行",null,null,null,{"$f":"IF(銀行名=\"\",\"\",銀行名)","v":""},null,null,null,null,null,null,null,null,{"$f":"IF(支店名=\"\",\"\",支店名)","v":""}]
[]
[]
[]
[null,null,null,null,null,null,null,null,null,null,null,null,null,null,null,null,null,null,null,null,null,null,null,null,null,null,null,null,null,null,null,null,null,"口座名義",null,null,null,{"$f":"IF(口座名義=\"\",\"\",口座名義)","v":""}]
[null,"工事番号",null,null,null,"工事名",null,null,null,null,null,null,null,null,null,"金額(税抜)",null,null,null,null,null,null,"税率",null,null,"税調","消費税"]
[]
[]
[null,null,null,null,null,null,null,null,null,null,null,null,null,null,null,null,null,null,null,null,null,null,null,null,null,null,null,null,null,null,null,null,null,"口座番号",null,null,null,{"$f":"IF(口座種別=\"\",\"\",口座種別)","v":""},null,null,{"$f":"IF(口座番号=\"\",\"\",口座番号)","v":""},null,null,null,null,"登録番号",null,null,null,{"$f":"IF(登録番号=\"\",\"\",登録番号)","v":""}]
["1",{"$f":"IF('細1-1'!G$9=\"\",\"\",'細1-1'!G$9)","v":""},null,null,null,{"$f":"IF('細1-1'!$Q$9=\"\",\"\",'細1-1'!$Q$9)","v":""},null,null,null,null,null,null,null,null,null,{"$f":"IF('細1-1'!AW$83=0,\"\",'細1-1'!AW$83)","v":""},null,null,null,null,null,null,{"$f":"IF('細1-1'!AR$90=\"\",\"\",'細1-1'!AR$90)","v":""},null,{"$f":"IF('細1-1'!AT$90=0,\"\",'細1-1'!AT$90)","v":""},{"$f":"IF('細1-1'!AU$90=0,\"\",'細1-1'!AU$90)","v":""},{"$f":"IF('細1-1'!AW$88=\"\",\"\",'細1-1'!AW$88)","v":""}]
[]
[]
[]
["2",{"$f":"IF('細1-2'!G$9=\"\",\"\",'細1-2'!G$9)","v":""},null,null,null,{"$f":"IF('細1-2'!$Q$9=\"\",\"\",'細1-2'!$Q$9)","v":""},null,null,null,null,null,null,null,null,null,{"$f":"IF('細1-2'!AW$83=0,\"\",'細1-2'!AW$83)","v":""},null,null,null,null,null,null,{"$f":"IF('細1-2'!AR$90=\"\",\"\",'細1-2'!AR$90)","v":""},null,{"$f":"IF('細1-2'!AT$90=0,\"\",'細1-2'!AT$90)","v":""},{"$f":"IF('細1-2'!AU$90=0,\"\",'細1-2'!AU$90)","v":""},{"$f":"IF('細1-2'!AW$88=\"\",\"\",'細1-2'!AW$88)","v":""},null,null,null,null,null,null,"備     考 ・ 通  信  欄"]
[]
[]
[null,null,null,null,null,null,null,null,null,null,null,null,null,null,null,null,null,null,null,null,null,null,null,null,null,null,null,null,null,null,null,null,null,"※左表の税率欄:便宜上8.1%(経過措置旧税率)表記は、8%として計算されます。"]
["3",{"$f":"IF('細1-3'!G$9=\"\",\"\",'細1-3'!G$9)","v":""},null,null,null,{"$f":"IF('細1-3'!$Q$9=\"\",\"\",'細1-3'!$Q$9)","v":""},null,null,null,null,null,null,null,null,null,{"$f":"IF('細1-3'!AW$83=0,\"\",'細1-3'!AW$83)","v":""},null,null,null,null,null,null,{"$f":"IF('細1-3'!AR$90=\"\",\"\",'細1-3'!AR$90)","v":""},null,{"$f":"IF('細1-3'!AT$90=0,\"\",'細1-3'!AT$90)","v":""},{"$f":"IF('細1-3'!AU$90=0,\"\",'細1-3'!AU$90)","v":""},{"$f":"IF('細1-3'!AW$88=\"\",\"\",'細1-3'!AW$88)","v":""}]
[]
[]
[]
["4",{"$f":"IF('細1-4'!G$9=\"\",\"\",'細1-4'!G$9)","v":""},null,null,null,{"$f":"IF('細1-4'!$Q$9=\"\",\"\",'細1-4'!$Q$9)","v":""},null,null,null,null,null,null,null,null,null,{"$f":"IF('細1-4'!AW$83=0,\"\",'細1-4'!AW$83)","v":""},null,null,null,null,null,null,{"$f":"IF('細1-4'!AR$90=\"\",\"\",'細1-4'!AR$90)","v":""},null,{"$f":"IF('細1-4'!AT$90=0,\"\",'細1-4'!AT$90)","v":""},{"$f":"IF('細1-4'!AU$90=0,\"\",'細1-4'!AU$90)","v":""},{"$f":"IF('細1-4'!AW$88=\"\",\"\",'細1-4'!AW$88)","v":""}]
[]
[]
[]
["5",{"$f":"IF('細1-5'!G$9=\"\",\"\",'細1-5'!G$9)","v":""},null,null,null,{"$f":"IF('細1-5'!$Q$9=\"\",\"\",'細1-5'!$Q$9)","v":""},null,null,null,null,null,null,null,null,null,{"$f":"IF('細1-5'!AW$83=0,\"\",'細1-5'!AW$83)","v":""},null,null,null,null,null,null,{"$f":"IF('細1-5'!AR$90=\"\",\"\",'細1-5'!AR$90)","v":""},null,{"$f":"IF('細1-5'!AT$90=0,\"\",'細1-5'!AT$90)","v":""},{"$f":"IF('細1-5'!AU$90=0,\"\",'細1-5'!AU$90)","v":""},{"$f":"IF('細1-5'!AW$88=\"\",\"\",'細1-5'!AW$88)","v":""}]
[]
[]
[]
["6",{"$f":"IF('細1-6'!G$9=\"\",\"\",'細1-6'!G$9)","v":""},null,null,null,{"$f":"IF('細1-6'!$Q$9=\"\",\"\",'細1-6'!$Q$9)","v":""},null,null,null,null,null,null,null,null,null,{"$f":"IF('細1-6'!AW$83=0,\"\",'細1-6'!AW$83)","v":""},null,null,null,null,null,null,{"$f":"IF('細1-6'!AR$90=\"\",\"\",'細1-6'!AR$90)","v":""},null,{"$f":"IF('細1-6'!AT$90=0,\"\",'細1-6'!AT$90)","v":""},{"$f":"IF('細1-6'!AU$90=0,\"\",'細1-6'!AU$90)","v":""},{"$f":"IF('細1-6'!AW$88=\"\",\"\",'細1-6'!AW$88)","v":""}]
[]
[]
[]
["7",{"$f":"IF('細1-7'!G$9=\"\",\"\",'細1-7'!G$9)","v":""},null,null,null,{"$f":"IF('細1-7'!$Q$9=\"\",\"\",'細1-7'!$Q$9)","v":""},null,null,null,null,null,null,null,null,null,{"$f":"IF('細1-7'!AW$83=0,\"\",'細1-7'!AW$83)","v":""},null,null,null,null,null,null,{"$f":"IF('細1-7'!AR$90=\"\",\"\",'細1-7'!AR$90)","v":""},null,{"$f":"IF('細1-7'!AT$90=0,\"\",'細1-7'!AT$90)","v":""},{"$f":"IF('細1-7'!AU$90=0,\"\",'細1-7'!AU$90)","v":""},{"$f":"IF('細1-7'!AW$88=\"\",\"\",'細1-7'!AW$88)","v":""}]
[]
[]
[]
["8",{"$f":"IF('細1-8'!G$9=\"\",\"\",'細1-8'!G$9)","v":""},null,null,null,{"$f":"IF('細1-8'!$Q$9=\"\",\"\",'細1-8'!$Q$9)","v":""},null,null,null,null,null,null,null,null,null,{"$f":"IF('細1-8'!AW$83=0,\"\",'細1-8'!AW$83)","v":""},null,null,null,null,null,null,{"$f":"IF('細1-8'!AR$90=\"\",\"\",'細1-8'!AR$90)","v":""},null,{"$f":"IF('細1-8'!AT$90=0,\"\",'細1-8'!AT$90)","v":""},{"$f":"IF('細1-8'!AU$90=0,\"\",'細1-8'!AU$90)","v":""},{"$f":"IF('細1-8'!AW$88=\"\",\"\",'細1-8'!AW$88)","v":""}]
[]
[]
[]
["9",{"$f":"IF('細1-9'!G$9=\"\",\"\",'細1-9'!G$9)","v":""},null,null,null,{"$f":"IF('細1-9'!$Q$9=\"\",\"\",'細1-9'!$Q$9)","v":""},null,null,null,null,null,null,null,null,null,{"$f":"IF('細1-9'!AW$83=0,\"\",'細1-9'!AW$83)","v":""},null,null,null,null,null,null,{"$f":"IF('細1-9'!AR$90=\"\",\"\",'細1-9'!AR$90)","v":""},null,{"$f":"IF('細1-9'!AT$90=0,\"\",'細1-9'!AT$90)","v":""},{"$f":"IF('細1-9'!AU$90=0,\"\",'細1-9'!AU$90)","v":""},{"$f":"IF('細1-9'!AW$88=\"\",\"\",'細1-9'!AW$88)","v":""}]
[]
[null,null,null,null,null,null,null,null,null,null,null,null,null,null,null,null,null,null,null,null,null,null,null,null,null,null,null,null,null,null,null,null,null,null,null,null,null,null,null,"税抜金額",null,null,null,null,"消費税額",null,null,null,null,"今回請求額"]
[]
["10",{"$f":"IF('細1-10'!G$9=\"\",\"\",'細1-10'!G$9)","v":""},null,null,null,{"$f":"IF('細1-10'!$Q$9=\"\",\"\",'細1-10'!$Q$9)","v":""},null,null,null,null,null,null,null,null,null,{"$f":"IF('細1-10'!AW$83=0,\"\",'細1-10'!AW$83)","v":""},null,null,null,null,null,null,{"$f":"IF('細1-10'!AR$90=\"\",\"\",'細1-10'!AR$90)","v":""},null,{"$f":"IF('細1-10'!AT$90=0,\"\",'細1-10'!AT$90)","v":""},{"$f":"IF('細1-10'!AU$90=0,\"\",'細1-10'!AU$90)","v":""},{"$f":"IF('細1-10'!AW$88=\"\",\"\",'細1-10'!AW$88)","v":""},null,null,null,null,null,null,null,null,"10%対象額",null,null,null,{"$f":"SUMIF($W$39:$W$86,\"=10\",$P$39:$P$86)+対象額10_1+対象額10_2","v":0},null,null,null,null,{"$f":"SUMIF($W$39:$AA$86,\"=10\",$AA$39:$AA$86)+税10_1+税10_2","v":0},null,null,null,null,{"$f":"IF(AN75=\"\",\"\",AN75+AS75)","v":0}]
[]
[]
[null,null,null,null,null,null,null,null,null,null,null,null,null,null,null,null,null,null,null,null,null,null,null,null,null,null,null,null,null,null,null,null,null,null,null,"8%軽対象額",null,null,null,{"$f":"SUMIF($W$39:$W$86,\"=8\",$P$39:$P$86)+対象額8_1+対象額8_2","v":0},null,null,null,null,{"$f":"SUMIF($W$39:$AA$86,\"=8\",$AA$39:$AA$86)+税8_1+税8_2","v":0},null,null,null,null,{"$f":"IF(AN78=\"\",\"\",AN78+AS78)","v":0}]
["11",{"$f":"IF('細1-11'!G$9=\"\",\"\",'細1-11'!G$9)","v":""},null,null,null,{"$f":"IF('細1-11'!$Q$9=\"\",\"\",'細1-11'!$Q$9)","v":""},null,null,null,null,null,null,null,null,null,{"$f":"IF('細1-11'!AW$83=0,\"\",'細1-11'!AW$83)","v":""},null,null,null,null,null,null,{"$f":"IF('細1-11'!AR$90=\"\",\"\",'細1-11'!AR$90)","v":""},null,{"$f":"IF('細1-11'!AT$90=0,\"\",'細1-11'!AT$90)","v":""},{"$f":"IF('細1-11'!AU$90=0,\"\",'細1-11'!AU$90)","v":""},{"$f":"IF('細1-11'!AW$88=\"\",\"\",'細1-11'!AW$88)","v":""}]
[]
[null,null,null,null,null,null,null,null,null,null,null,null,null,null,null,null,null,null,null,null,null,null,null,null,null,null,null,null,null,null,null,null,null,null,null,"8%旧対象額",null,null,null,{"$f":"SUMIF($W$39:$W$86,\"=8.1\",$P$39:$P$86)+対象額8.1_1++対象額8.1_2","v":0},null,null,null,null,{"$f":"SUMIF($W$39:$AA$86,\"=8.1\",$AA$39:$AA$86)+税8.1_1+税8.1_2","v":0},null,null,null,null,{"$f":"IF(AN81=\"\",\"\",AN81+AS81)","v":0}]
[]
["12",{"$f":"IF('細1-12'!G$9=\"\",\"\",'細1-12'!G$9)","v":""},null,null,null,{"$f":"IF('細1-12'!$Q$9=\"\",\"\",'細1-12'!$Q$9)","v":""},null,null,null,null,null,null,null,null,null,{"$f":"IF('細1-12'!AW$83=0,\"\",'細1-12'!AW$83)","v":""},null,null,null,null,null,null,{"$f":"IF('細1-12'!AR$90=\"\",\"\",'細1-12'!AR$90)","v":""},null,{"$f":"IF('細1-12'!AT$90=0,\"\",'細1-12'!AT$90)","v":""},{"$f":"IF('細1-12'!AU$90=0,\"\",'細1-12'!AU$90)","v":""},{"$f":"IF('細1-12'!AW$88=\"\",\"\",'細1-12'!AW$88)","v":""}]
[null,null,null,null,null,null,null,null,null,null,null,null,null,null,null,null,null,null,null,null,null,null,null,null,null,null,null,null,null,null,null,null,null,null,null,"非不課税額",null,null,null,{"$f":"SUMIF($W$39:$W$86,\"=0\",$P$39:$P$86)+対象額0_1+対象額0_2","v":0},null,null,null,null,null,null,null,null,null,{"$f":"AN84","v":0}]
[]
[]
[null,"合　　　　　計",null,null,null,null,null,null,null,null,null,null,null,null,null,{"$f":"SUM(P39:P85)","v":0},null,null,null,null,null,null,null,null,null,{"$f":"IF(SUM(Z39:Z86)=0,\"\",SUM(Z39:Z86))","v":""},{"$f":"SUM(AA39:AF86)","v":0},null,null,null,null,null,null,null,null,"合計額",null,null,null,{"$f":"SUM(AN75:AR84)","v":0},null,null,null,null,{"$f":"SUM(AS75:AW86)","v":0},null,null,null,null,{"$f":"IF(AN87=\"\",\"\",AN87+AS87)","v":0}]
[]
[]
[]
[null,null,null,null,null,null,null,null,null,null,null,null,null,null,null,null,null,null,null,null,null,null,null,null,null,null,null,null,null,null,null,null,null,null,null,null,null,null,null,null,null,null,null,null,null,null,null,null,null,null,null,null,{"$f":"ﾊﾞｰｼﾞｮﾝ","v":"Ver.3.1.3"}]
[]
[]
[]
[null,null,null,null,null,null,null,null,null,null,null,null,null,null,null,null,null,null,null,"請　求　書 (貴社控)"]
[null,"株 式 会 社 種 村 建 設",null,null,null,null,null,null,null,null,null,null,"御中"]
[null,null,null,null,null,null,null,null,null,null,null,null,null,null,null,null,null,null,null,null,null,null,null,null,null,null,null,null,null,null,null,null,null,null,null,null,null,null,null,null,null,"請求年月日",null,null,null,null,{"$f":"IF(AU5=\"\",\"\",AU5)","v":""},null,null,null,{"$f":"IF(AY5=\"\",\"\",AY5)","v":""},null,null,{"$f":"IF(BB5=\"\",\"\",BB5)","v":""}]
[]
[]
[]
[null,"下記の通りご請求します。",null,null,null,null,null,null,null,null,null,null,null,null,null,null,null,null,null,null,null,null,null,null,null,null,null,null,null,null,null,null,null,"住所･社名･電話"]
[]
[null,null,null,null,null,null,null,null,null,null,null,null,null,null,null,null,null,null,null,null,null,null,null,null,null,null,null,null,null,null,null,null,null,{"$f":"IF(AH11=\"\",\"\",AH11)","v":"\n\n　　　　　　　　　新潟県南魚沼市水尾４１７\n\n　　　　　　　　　株式会社 種 村 建 設\n\n　　　　　　　　　代表取締役　並 木 成 德"}]
[null,null,null,null,null,null,null,null,null,null,null,null,null,null,null,null,null,null,null,null,null,null,null,null,null,null,null,null,null,null,null,null,null,{"$f":"IF(AH12=\"\",\"\",AH12)","v":""}]
[null,"御請求金額",null,null,null,null,null,null,null,null,{"$f":"K13","v":0}]
[]
[]
[null,null,null,null,null,null,null,null,null,null,null,null,null,null,null,null,null,null,null,null,null,null,null,null,null,null,null,null,null,null,null,null,null,{"$f":"IF(社名=\"\",\"\",社名)","v":""}]
[]
[null,"前月繰越額",null,null,null,null,null,null,null,null,{"$f":"K18","v":0}]
[]
[null,null,null,null,null,null,null,null,null,null,null,null,null,null,null,null,null,null,null,null,null,null,null,null,null,null,null,null,null,null,null,null,null,{"$f":"IF(AH20=\"\",\"\",AH20)","v":""}]
[]
[null,"当月請求額",null,null,null,null,null,null,null,null,{"$f":"K22","v":0}]
[]
[]
[null,null,null,null,null,null,null,null,null,null,null,null,null,null,null,null,null,null,null,null,null,null,null,null,null,null,null,null,null,null,null,null,null,{"$f":"IF(AH25=\"\",\"\",AH25)","v":""}]
[null,{"$f":"B26","v":"消費税額"},null,null,null,null,null,null,null,null,{"$f":"K26","v":0},null,null,null,null,null,null,null,null,null,null,null,null,null,{"$f":"IF(Y26=\"\",\"\",Y26)","v":""}]
[]
[]
[]
[null,"今回請求額",null,null,null,null,null,null,null,null,{"$f":"K30","v":0},null,null,null,null,null,null,null,null,null,null,null,null,null,null,null,null,null,null,null,null,null,null,"取引銀行",null,null,null,{"$f":"IF(AL30=\"\",\"\",AL30)","v":""},null,null,null,null,null,null,null,null,{"$f":"IF(AU30=\"\",\"\",AU30)","v":""}]
[]
[]
[]
[null,null,null,null,null,null,null,null,null,null,null,null,null,null,null,null,null,null,null,null,null,null,null,null,null,null,null,null,null,null,null,null,null,"口座名義",null,null,null,{"$f":"IF(AL34=\"\",\"\",AL34)","v":""}]
[null,{"$f":"B35","v":"工事番号"},null,null,null,{"$f":"F35","v":"工事名"},null,null,null,null,null,null,null,null,null,{"$f":"P35","v":"金額(税抜)"},null,null,null,null,null,null,{"$f":"W35","v":"税率"},null,null,{"$f":"Z35","v":"税調"},{"$f":"AA35","v":"消費税"}]
[]
[]
[null,null,null,null,null,null,null,null,null,null,null,null,null,null,null,null,null,null,null,null,null,null,null,null,null,null,null,null,null,null,null,null,null,"口座番号",null,null,null,{"$f":"IF(AL38=\"\",\"\",AL38)","v":""},null,null,{"$f":"IF(AO38=\"\",\"\",AO38)","v":""},null,null,null,null,{"$f":"IF(AT38=\"\",\"\",AT38)","v":"登録番号"},null,null,null,{"$f":"IF(AX38=\"\",\"\",AX38)","v":""}]
[null,{"$f":"IF(B39=\"\",\"\",B39)","v":""},null,null,null,{"$f":"IF(F39=\"\",\"\",F39)","v":""},null,null,null,null,null,null,null,null,null,{"$f":"IF(P39=\"\",\"\",P39)","v":""},null,null,null,null,null,null,{"$f":"IF(W39=\"\",\"\",W39)","v":""},null,{"$f":"IF(Y39=\"\",\"\",Y39)","v":""},{"$f":"IF(Z39=\"\",\"\",Z39)","v":""},{"$f":"IF(AA39=\"\",\"\",AA39)","v":""},"","","","",""]
[]
[]
[]
[null,{"$f":"IF(B43=\"\",\"\",B43)","v":""},null,null,null,{"$f":"IF(F43=\"\",\"\",F43)","v":""},null,null,null,null,null,null,null,null,null,{"$f":"IF(P43=\"\",\"\",P43)","v":""},null,null,null,null,null,null,{"$f":"IF(W43=\"\",\"\",W43)","v":""},null,{"$f":"IF(Y43=\"\",\"\",Y43)","v":""},"","","","","","","",null,"　１．請求書の提出先及び提出期限\n　　　　毎月末締め切りにて本社へ翌月５日迄に必着の事。\n　　　　提出期日を経過したものは、当該月の支払い対象となりません。\n　２．記載上の注意\n　　　　・３枚１組の請求明細書にもれなく記入の上、明細書２枚を\n　　　　　請求書(正)に添付の上、提出してください。\n　　　　・明細書には、現場名毎に記入し、その合計を請求書に集計し\n　　　　　記入してください。\n　　　　・材料等、物品の請求の場合は、現場毎に明細書が出力されれば\n　　　　　自社の明細書で結構です。現場毎に出力されなければ、弊社\n　　　　　明細書を利用するか、自社明細書を工夫してください。\n　　　　　この場合も、明細書は２枚提出が必要です。\n　　　　・記入に際して不明の点は、当社係員と打合せの上ご記入下さい。\n　３．請求書は、弊社ホームページよりダウンロードして下さい。\n　※左表の税率欄:便宜上8.1%(軽減税率)表記は、8%として計算されます。"]
[]
[]
[]
[null,{"$f":"IF(B47=\"\",\"\",B47)","v":""},null,null,null,{"$f":"IF(F47=\"\",\"\",F47)","v":""},null,null,null,null,null,null,null,null,null,{"$f":"IF(P47=\"\",\"\",P47)","v":""},null,null,null,null,null,null,{"$f":"IF(W47=\"\",\"\",W47)","v":""},null,{"$f":"IF(Y47=\"\",\"\",Y47)","v":""},"","","","","","",""]
[]
[]
[]
[null,{"$f":"IF(B51=\"\",\"\",B51)","v":""},null,null,null,{"$f":"IF(F51=\"\",\"\",F51)","v":""},null,null,null,null,null,null,null,null,null,{"$f":"IF(P51=\"\",\"\",P51)","v":""},null,null,null,null,null,null,{"$f":"IF(W51=\"\",\"\",W51)","v":""},null,{"$f":"IF(Y51=\"\",\"\",Y51)","v":""},"","","","","","",""]
[]
[]
[]
[null,{"$f":"IF(B55=\"\",\"\",B55)","v":""},null,null,null,{"$f":"IF(F55=\"\",\"\",F55)","v":""},null,null,null,null,null,null,null,null,null,{"$f":"IF(P55=\"\",\"\",P55)","v":""},null,null,null,null,null,null,{"$f":"IF(W55=\"\",\"\",W55)","v":""},null,{"$f":"IF(Y55=\"\",\"\",Y55)","v":""},"","","","","","",""]
[]
[]
[]
[null,{"$f":"IF(B59=\"\",\"\",B59)","v":""},null,null,null,{"$f":"IF(F59=\"\",\"\",F59)","v":""},null,null,null,null,null,null,null,null,null,{"$f":"IF(P59=\"\",\"\",P59)","v":""},null,null,null,null,null,null,{"$f":"IF(W59=\"\",\"\",W59)","v":""},null,{"$f":"IF(Y59=\"\",\"\",Y59)","v":""},"","","","","","",""]
[]
[]
[]
[null,{"$f":"IF(B63=\"\",\"\",B63)","v":""},null,null,null,{"$f":"IF(F63=\"\",\"\",F63)","v":""},null,null,null,null,null,null,null,null,null,{"$f":"IF(P63=\"\",\"\",P63)","v":""},null,null,null,null,null,null,{"$f":"IF(W63=\"\",\"\",W63)","v":""},null,{"$f":"IF(Y63=\"\",\"\",Y63)","v":""},"","","","","","",""]
[]
[]
[]
[null,{"$f":"IF(B67=\"\",\"\",B67)","v":""},null,null,null,{"$f":"IF(F67=\"\",\"\",F67)","v":""},null,null,null,null,null,null,null,null,null,{"$f":"IF(P67=\"\",\"\",P67)","v":""},null,null,null,null,null,null,{"$f":"IF(W67=\"\",\"\",W67)","v":""},null,{"$f":"IF(Y67=\"\",\"\",Y67)","v":""},"","","","","","",""]
[]
[]
[]
[null,{"$f":"IF(B71=\"\",\"\",B71)","v":""},null,null,null,{"$f":"IF(F71=\"\",\"\",F71)","v":""},null,null,null,null,null,null,null,null,null,{"$f":"IF(P71=\"\",\"\",P71)","v":""},null,null,null,null,null,null,{"$f":"IF(W71=\"\",\"\",W71)","v":""},null,{"$f":"IF(Y71=\"\",\"\",Y71)","v":""},"","","","","","",""]
[]
[null,null,null,null,null,null,null,null,null,null,null,null,null,null,null,null,null,null,null,null,null,null,null,null,null,null,null,null,null,null,null,null,null,null,null,null,null,null,null,"税抜金額",null,null,null,null,"消費税額",null,null,null,null,"今回請求額"]
[]
[null,{"$f":"IF(B75=\"\",\"\",B75)","v":""},null,null,null,{"$f":"IF(F75=\"\",\"\",F75)","v":""},null,null,null,null,null,null,null,null,null,{"$f":"IF(P75=\"\",\"\",P75)","v":""},null,null,null,null,null,null,{"$f":"IF(W75=\"\",\"\",W75)","v":""},null,{"$f":"IF(Y75=\"\",\"\",Y75)","v":""},"","","","","","","",null,null,null,"10%対象額",null,null,null,{"$f":"AN75","v":0},null,null,null,null,{"$f":"AS75","v":0},null,null,null,null,{"$f":"AX75","v":0}]
[]
[]
[null,null,null,null,null,null,null,null,null,null,null,null,null,null,null,null,null,null,null,null,null,null,null,null,null,null,null,null,null,null,null,null,null,null,null,"8%対象額",null,null,null,{"$f":"AN78","v":0},null,null,null,null,{"$f":"AS78","v":0},null,null,null,null,{"$f":"AX78","v":0}]
[null,{"$f":"IF(B79=\"\",\"\",B79)","v":""},null,null,null,{"$f":"IF(F79=\"\",\"\",F79)","v":""},null,null,null,null,null,null,null,null,null,{"$f":"IF(P79=\"\",\"\",P79)","v":""},null,null,null,null,null,null,{"$f":"IF(W79=\"\",\"\",W79)","v":""},null,{"$f":"IF(Y79=\"\",\"\",Y79)","v":""},"","","","","","",""]
[]
[null,null,null,null,null,null,null,null,null,null,null,null,null,null,null,null,null,null,null,null,null,null,null,null,null,null,null,null,null,null,null,null,null,null,null,"8%軽対象額",null,null,null,{"$f":"AN81","v":0},null,null,null,null,{"$f":"AS81","v":0},null,null,null,null,{"$f":"AX81","v":0}]
[]
[null,{"$f":"IF(B83=\"\",\"\",B83)","v":""},null,null,null,{"$f":"IF(F83=\"\",\"\",F83)","v":""},null,null,null,null,null,null,null,null,null,{"$f":"IF(P83=\"\",\"\",P83)","v":""},null,null,null,null,null,null,{"$f":"IF(W83=\"\",\"\",W83)","v":""},null,{"$f":"IF(Y83=\"\",\"\",Y83)","v":""},"","","","","","",""]
[null,null,null,null,null,null,null,null,null,null,null,null,null,null,null,null,null,null,null,null,null,null,null,null,null,null,null,null,null,null,null,null,null,null,null,"非不課税",null,null,null,{"$f":"AN84","v":0},null,null,null,null,null,null,null,null,null,{"$f":"AX84","v":0}]
[]
[]
[null,"合　　　　　計",null,null,null,null,null,null,null,null,null,null,null,null,null,{"$f":"IF(P87=\"\",\"\",P87)","v":0},null,null,null,null,null,null,null,null,null,{"$f":"IF(Z87=\"\",\"\",Z87)","v":""},{"$f":"IF(AA87=\"\",\"\",AA87)","v":0},"","","","","",null,null,null,"合計額",null,null,null,{"$f":"AN87","v":0},null,null,null,null,{"$f":"AS87","v":0},null,null,null,null,{"$f":"AX87","v":0}]
[]
[]
[]
[null,null,null,null,null,null,null,null,null,null,null,null,null,null,null,null,null,null,null,null,null,null,null,null,null,null,null,null,null,null,null,null,null,null,null,null,null,null,null,null,null,null,null,null,null,null,null,null,null,null,null,null,{"$f":"ﾊﾞｰｼﾞｮﾝ","v":"Ver.3.1.3"}]

{"sheet":"表紙②","index":2,"n_rows":183,"n_cols":58,"rows_kept":183,"cut":false,"hidden":false,"merged":[[138,25,141,25],[142,25,145,25],[146,25,149,25],[150,25,153,25],[154,25,157,25],[158,25,161,25],[162,25,165,25],[74,39,76,43],[74,44,76,48],[77,35,79,38],[77,39,79,43],[77,44,79,48],[80,35,82,38],[80,39,82,43],[80,44,82,48],[74,35,76,38],[164,35,165,38],[164,39,165,43],[164,44,165,48],[129,37,132,39],[129,40,132,44],[129,45,132,48],[58,25,61,25],[62,25,65,25],[66,25,69,25],[70,25,73,25],[74,25,77,25],[94,19,97,34],[134,24,137,24],[134,26,137,31],[134,25,137,25],[47,33,70,55],[72,35,73,38],[72,39,73,43],[72,44,73,48],[129,49,132,55],[0,54,1,55],[2,19,5,34],[3,1,6,11],[3,12,6,13],[4,41,6,45],[4,46,6,49],[4,50,6,52],[4,53,6,55],[21,1,24,9],[21,10,24,23],[24,33,27,55],[25,1,28,9],[25,10,28,23],[25,24,28,24],[4,57,6,60],[8,1,9,10],[8,33,9,55],[11,33,14,55],[12,1,15,9],[12,10,15,23],[15,33,18,55],[17,1,20,9],[17,10,20,23],[19,33,23,55],[29,1,32,9],[29,10,32,23],[29,33,32,36],[29,37,32,45],[29,46,32,55],[33,33,36,36],[33,37,36,55],[34,1,37,4],[34,5,37,14],[34,15,37,21],[34,25,37,25],[34,22,37,24],[34,26,37,31],[37,37,40,39],[37,40,40,44],[37,45,40,48],[37,49,40,55],[42,33,44,55],[37,33,40,36],[38,1,41,4],[38,5,41,14],[38,15,41,21],[38,22,41,23],[38,24,41,24],[38,26,41,31],[38,32,41,32],[38,25,41,25],[42,25,45,25],[45,33,46,55],[54,1,57,4],[54,5,57,14],[54,15,57,21],[54,22,57,23],[54,24,57,24],[54,26,57,31],[42,1,45,4],[42,5,45,14],[42,15,45,21],[42,22,45,23],[42,24,45,24],[42,26,45,31],[46,25,49,25],[50,25,53,25],[54,25,57,25],[62,1,65,4],[62,5,65,14],[62,15,65,21],[62,22,65,23],[62,24,65,24],[62,26,65,31],[46,1,49,4],[46,5,49,14],[46,15,49,21],[46,22,49,23],[46,24,49,24],[46,26,49,31],[50,1,53,4],[50,5,53,14],[58,1,61,4],[58,5,61,14],[58,15,61,21],[58,22,61,23],[58,24,61,24],[58,26,61,31],[50,15,53,21],[50,22,53,23],[50,24,53,24],[50,26,53,31],[70,1,73,4],[70,5,73,14],[70,15,73,21],[70,22,73,23],[70,24,73,24],[70,26,73,31],[66,1,69,4],[66,5,69,14],[66,15,69,21],[66,22,69,23],[66,24,69,24],[66,26,69,31],[78,1,81,4],[78,5,81,14],[78,15,81,21],[78,22,81,23],[78,24,81,24],[78,26,81,31],[78,25,81,25],[82,25,85,25],[74,1,77,4],[74,5,77,14],[74,15,77,21],[74,22,77,23],[74,24,77,24],[74,26,77,31],[95,1,98,11],[95,12,98,13],[96,41,98,45],[96,46,98,49],[96,50,98,52],[96,53,98,55],[83,35,85,38],[83,39,85,43],[83,44,85,48],[86,1,89,14],[86,15,89,21],[86,22,89,24],[86,26,89,31],[86,35,88,38],[86,39,88,43],[86,44,88,48],[86,25,89,25],[82,1,85,4],[82,5,85,14],[82,15,85,21],[82,22,85,23],[82,24,85,24],[82,26,85,31],[90,52,91,55],[100,1,101,10],[100,33,101,55],[103,33,106,55],[104,1,107,9],[104,10,107,23],[107,33,110,55],[109,1,112,9],[109,10,112,23],[111,33,115,55],[113,1,116,9],[113,10,116,23],[116,33,119,55],[117,1,120,9],[117,10,120,23],[117,24,120,24],[121,1,124,9],[121,10,124,23],[121,33,124,36],[121,37,124,45],[121,46,124,55],[125,37,128,55],[126,1,129,4],[126,5,129,14],[126,15,129,21],[126,22,129,24],[126,26,129,31],[129,33,132,36],[126,25,129,25],[130,25,133,25],[130,1,133,4],[130,5,133,14],[130,15,133,21],[130,22,133,23],[130,24,133,24],[130,26,133,31],[125,33,128,36],[150,1,153,4],[150,5,153,14],[150,15,153,21],[150,22,153,23],[150,24,153,24],[150,26,153,31],[142,22,145,23],[142,24,145,24],[142,26,145,31],[146,1,149,4],[146,5,149,14],[146,15,149,21],[146,22,149,23],[146,24,149,24],[146,26,149,31],[142,1,145,4],[142,5,145,14],[142,15,145,21],[158,1,161,4],[158,5,161,14],[158,15,161,21],[158,22,161,23],[158,24,161,24],[158,26,161,31],[154,1,157,4],[154,5,157,14],[154,15,157,21],[154,22,157,23],[154,24,157,24],[154,26,157,31],[166,1,169,4],[166,5,169,14],[166,15,169,21],[166,22,169,23],[166,24,169,24],[166,26,169,31],[166,35,168,38],[162,1,165,4],[162,5,165,14],[162,15,165,21],[162,22,165,23],[162,24,165,24],[162,26,165,31],[134,33,162,55],[138,1,141,4],[138,5,141,14],[138,15,141,21],[138,22,141,23],[138,24,141,24],[138,26,141,31],[134,1,137,4],[134,5,137,14],[134,15,137,21],[134,22,137,23],[170,26,173,31],[175,35,177,38],[175,39,177,43],[175,44,177,48],[174,25,177,25],[166,39,168,43],[166,44,168,48],[166,49,168,49],[169,35,171,38],[169,39,171,43],[169,44,171,48],[169,49,171,49],[166,25,169,25],[170,25,173,25],[182,52,183,55],[178,1,181,14],[178,15,181,21],[178,22,181,24],[178,26,181,31],[178,35,180,38],[178,39,180,43],[178,44,180,48],[172,35,174,38],[172,39,174,43],[172,44,174,48],[178,25,181,25],[172,49,174,49],[174,1,177,4],[174,5,177,14],[174,15,177,21],[174,22,177,23],[174,24,177,24],[174,26,177,31],[170,1,173,4],[170,5,173,14],[170,15,173,21],[170,22,173,23],[170,24,173,24],[74,0,77,0],[78,0,81,0],[82,0,85,0],[38,0,41,0],[42,0,45,0],[46,0,49,0],[50,0,53,0],[54,0,57,0],[58,0,61,0],[62,0,65,0],[66,0,69,0],[70,0,73,0]]}
[null,null,null,null,null,null,null,null,null,null,null,null,null,null,null,null,null,null,null,null,null,null,null,null,null,null,null,null,null,null,null,null,null,null,null,null,null,null,null,null,null,null,null,null,null,null,null,null,null,null,null,null,null,null,{"$f":"\"\"&IF(小計3>0,\"2/3\",IF(小計2>0,\"2/2\",\"\"))&\"\"","v":""}]
[]
[null,null,null,null,null,null,null,null,null,null,null,null,null,null,null,null,null,null,null,"請　求　書 (正)"]
[null,"株 式 会 社 種 村 建 設",null,null,null,null,null,null,null,null,null,null,"御中"]
[null,null,null,null,null,null,null,null,null,null,null,null,null,null,null,null,null,null,null,null,null,null,null,null,null,null,null,null,null,null,null,null,null,null,null,null,null,null,null,null,null,"請求年月日",null,null,null,null,{"$f":"IF(年=\"\",\"\",年)","v":""},null,null,null,{"$f":"IF(月=\"\",\"\",月)","v":""},null,null,{"$f":"IF(日=\"\",\"\",日)","v":""},null,null,null,"明細付表紙"]
[]
[]
[]
[null,"下記の通りご請求します。",null,null,null,null,null,null,null,null,null,null,null,null,null,null,null,null,null,null,null,null,null,null,null,null,null,null,null,null,null,null,null,"住所･社名･電話"]
[]
[null,null,null,null,null,null,null,null,null,null,null,null,null,null,null,null,null,null,null,null,null,null,null,null,null,null,null,null,null,null,null,null,null,"\n\n　　　　　　　　　新潟県南魚沼市水尾４１７\n\n　　　　　　　　　株式会社 種 村 建 設\n\n　　　　　　　　　代表取締役　並 木 成 德"]
[null,null,null,null,null,null,null,null,null,null,null,null,null,null,null,null,null,null,null,null,null,null,null,null,null,null,null,null,null,null,null,null,null,{"$f":"IF(住所=\"\",\"\",住所)","v":""}]
[null,"御請求金額"]
[]
[]
[null,null,null,null,null,null,null,null,null,null,null,null,null,null,null,null,null,null,null,null,null,null,null,null,null,null,null,null,null,null,null,null,null,{"$f":"IF(社名=\"\",\"\",社名)","v":""}]
[]
[null,"前月繰越額"]
[]
[null,null,null,null,null,null,null,null,null,null,null,null,null,null,null,null,null,null,null,null,null,null,null,null,null,null,null,null,null,null,null,null,null,{"$f":"IF(代表者=\"\",\"\",代表者)","v":""}]
[]
[null,"当月請求額"]
[]
[]
[null,null,null,null,null,null,null,null,null,null,null,null,null,null,null,null,null,null,null,null,null,null,null,null,null,null,null,null,null,null,null,null,null,{"$f":"IF(電話=\"\",\"\",電話)","v":""}]
[null,"消費税額"]
[]
[]
[]
[null,"今回請求額",null,null,null,null,null,null,null,null,null,null,null,null,null,null,null,null,null,null,null,null,null,null,null,null,null,null,null,null,null,null,null,"取引銀行",null,null,null,{"$f":"IF(銀行名=\"\",\"\",銀行名)","v":""},null,null,null,null,null,null,null,null,{"$f":"IF(支店名=\"\",\"\",支店名)","v":""}]
[]
[]
[]
[null,null,null,null,null,null,null,null,null,null,null,null,null,null,null,null,null,null,null,null,null,null,null,null,null,null,null,null,null,null,null,null,null,"口座名義",null,null,null,{"$f":"IF(口座名義=\"\",\"\",口座名義)","v":""}]
[null,"工事番号",null,null,null,"工事名",null,null,null,null,null,null,null,null,null,"金額(税抜)",null,null,null,null,null,null,"税率",null,null,"税調","消費税"]
[]
[]
[null,null,null,null,null,null,null,null,null,null,null,null,null,null,null,null,null,null,null,null,null,null,null,null,null,null,null,null,null,null,null,null,null,"口座番号",null,null,null,{"$f":"IF(口座種別=\"\",\"\",口座種別)","v":""},null,null,{"$f":"IF(口座番号=\"\",\"\",口座番号)","v":""},null,null,null,null,"登録番号",null,null,null,{"$f":"IF(登録番号=\"\",\"\",登録番号)","v":""}]
["1",{"$f":"IF('細2-1'!G$9=\"\",\"\",'細2-1'!G$9)","v":""},null,null,null,{"$f":"IF('細2-1'!$Q$9=\"\",\"\",'細2-1'!$Q$9)","v":""},null,null,null,null,null,null,null,null,null,{"$f":"IF('細2-1'!AW$83=0,\"\",'細2-1'!AW$83)","v":""},null,null,null,null,null,null,{"$f":"IF('細2-1'!AR$90=\"\",\"\",'細2-1'!AR$90)","v":""},null,{"$f":"IF('細2-1'!AT$90=0,\"\",'細2-1'!AT$90)","v":""},{"$f":"IF('細2-1'!AU$90=0,\"\",'細2-1'!AU$90)","v":""},{"$f":"IF('細2-1'!AW$88=\"\",\"\",'細2-1'!AW$88)","v":""}]
[]
[]
[]
["2",{"$f":"IF('細2-2'!G$9=\"\",\"\",'細2-2'!G$9)","v":""},null,null,null,{"$f":"IF('細2-2'!$Q$9=\"\",\"\",'細2-2'!$Q$9)","v":""},null,null,null,null,null,null,null,null,null,{"$f":"IF('細2-2'!AW$83=0,\"\",'細2-2'!AW$83)","v":""},null,null,null,null,null,null,{"$f":"IF('細2-2'!AR$90=\"\",\"\",'細2-2'!AR$90)","v":""},null,{"$f":"IF('細2-2'!AT$90=0,\"\",'細2-2'!AT$90)","v":""},{"$f":"IF('細2-2'!AU$90=0,\"\",'細2-2'!AU$90)","v":""},{"$f":"IF('細2-2'!AW$88=\"\",\"\",'細2-2'!AW$88)","v":""},null,null,null,null,null,null,"備     考 ・ 通  信  欄"]
[]
[]
[null,null,null,null,null,null,null,null,null,null,null,null,null,null,null,null,null,null,null,null,null,null,null,null,null,null,null,null,null,null,null,null,null,"※左表の税率欄:便宜上8.1%(経過措置旧税率)表記は、8%として計算されます。"]
["3",{"$f":"IF('細2-3'!G$9=\"\",\"\",'細2-3'!G$9)","v":""},null,null,null,{"$f":"IF('細2-3'!$Q$9=\"\",\"\",'細2-3'!$Q$9)","v":""},null,null,null,null,null,null,null,null,null,{"$f":"IF('細2-3'!AW$83=0,\"\",'細2-3'!AW$83)","v":""},null,null,null,null,null,null,{"$f":"IF('細2-3'!AR$90=\"\",\"\",'細2-3'!AR$90)","v":""},null,{"$f":"IF('細2-3'!AT$90=0,\"\",'細2-3'!AT$90)","v":""},{"$f":"IF('細2-3'!AU$90=0,\"\",'細2-3'!AU$90)","v":""},{"$f":"IF('細2-3'!AW$88=\"\",\"\",'細2-3'!AW$88)","v":""}]
[]
[]
[]
["4",{"$f":"IF('細2-4'!G$9=\"\",\"\",'細2-4'!G$9)","v":""},null,null,null,{"$f":"IF('細2-4'!$Q$9=\"\",\"\",'細2-4'!$Q$9)","v":""},null,null,null,null,null,null,null,null,null,{"$f":"IF('細2-4'!AW$83=0,\"\",'細2-4'!AW$83)","v":""},null,null,null,null,null,null,{"$f":"IF('細2-4'!AR$90=\"\",\"\",'細2-4'!AR$90)","v":""},null,{"$f":"IF('細2-4'!AT$90=0,\"\",'細2-4'!AT$90)","v":""},{"$f":"IF('細2-4'!AU$90=0,\"\",'細2-4'!AU$90)","v":""},{"$f":"IF('細2-4'!AW$88=\"\",\"\",'細2-4'!AW$88)","v":""}]
[]
[]
[]
["5",{"$f":"IF('細2-5'!G$9=\"\",\"\",'細2-5'!G$9)","v":""},null,null,null,{"$f":"IF('細2-5'!$Q$9=\"\",\"\",'細2-5'!$Q$9)","v":""},null,null,null,null,null,null,null,null,null,{"$f":"IF('細2-5'!AW$83=0,\"\",'細2-5'!AW$83)","v":""},null,null,null,null,null,null,{"$f":"IF('細2-5'!AR$90=\"\",\"\",'細2-5'!AR$90)","v":""},null,{"$f":"IF('細2-5'!AT$90=0,\"\",'細2-5'!AT$90)","v":""},{"$f":"IF('細2-5'!AU$90=0,\"\",'細2-5'!AU$90)","v":""},{"$f":"IF('細2-5'!AW$88=\"\",\"\",'細2-5'!AW$88)","v":""}]
[]
[]
[]
["6",{"$f":"IF('細2-6'!G$9=\"\",\"\",'細2-6'!G$9)","v":""},null,null,null,{"$f":"IF('細2-6'!$Q$9=\"\",\"\",'細2-6'!$Q$9)","v":""},null,null,null,null,null,null,null,null,null,{"$f":"IF('細2-6'!AW$83=0,\"\",'細2-6'!AW$83)","v":""},null,null,null,null,null,null,{"$f":"IF('細2-6'!AR$90=\"\",\"\",'細2-6'!AR$90)","v":""},null,{"$f":"IF('細2-6'!AT$90=0,\"\",'細2-6'!AT$90)","v":""},{"$f":"IF('細2-6'!AU$90=0,\"\",'細2-6'!AU$90)","v":""},{"$f":"IF('細2-6'!AW$88=\"\",\"\",'細2-6'!AW$88)","v":""}]
[]
[]
[]
["7",{"$f":"IF('細2-7'!G$9=\"\",\"\",'細2-7'!G$9)","v":""},null,null,null,{"$f":"IF('細2-7'!$Q$9=\"\",\"\",'細2-7'!$Q$9)","v":""},null,null,null,null,null,null,null,null,null,{"$f":"IF('細2-7'!AW$83=0,\"\",'細2-7'!AW$83)","v":""},null,null,null,null,null,null,{"$f":"IF('細2-7'!AR$90=\"\",\"\",'細2-7'!AR$90)","v":""},null,{"$f":"IF('細2-7'!AT$90=0,\"\",'細2-7'!AT$90)","v":""},{"$f":"IF('細2-7'!AU$90=0,\"\",'細2-7'!AU$90)","v":""},{"$f":"IF('細2-7'!AW$88=\"\",\"\",'細2-7'!AW$88)","v":""}]
[]
[]
[]
["8",{"$f":"IF('細2-8'!G$9=\"\",\"\",'細2-8'!G$9)","v":""},null,null,null,{"$f":"IF('細2-8'!$Q$9=\"\",\"\",'細2-8'!$Q$9)","v":""},null,null,null,null,null,null,null,null,null,{"$f":"IF('細2-8'!AW$83=0,\"\",'細2-8'!AW$83)","v":""},null,null,null,null,null,null,{"$f":"IF('細2-8'!AR$90=\"\",\"\",'細2-8'!AR$90)","v":""},null,{"$f":"IF('細2-8'!AT$90=0,\"\",'細2-8'!AT$90)","v":""},{"$f":"IF('細2-8'!AU$90=0,\"\",'細2-8'!AU$90)","v":""},{"$f":"IF('細2-8'!AW$88=\"\",\"\",'細2-8'!AW$88)","v":""}]
[]
[]
[]
["9",{"$f":"IF('細2-9'!G$9=\"\",\"\",'細2-9'!G$9)","v":""},null,null,null,{"$f":"IF('細2-9'!$Q$9=\"\",\"\",'細2-9'!$Q$9)","v":""},null,null,null,null,null,null,null,null,null,{"$f":"IF('細2-9'!AW$83=0,\"\",'細2-9'!AW$83)","v":""},null,null,null,null,null,null,{"$f":"IF('細2-9'!AR$90=\"\",\"\",'細2-9'!AR$90)","v":""},null,{"$f":"IF('細2-9'!AT$90=0,\"\",'細2-9'!AT$90)","v":""},{"$f":"IF('細2-9'!AU$90=0,\"\",'細2-9'!AU$90)","v":""},{"$f":"IF('細2-9'!AW$88=\"\",\"\",'細2-9'!AW$88)","v":""}]
[]
[null,null,null,null,null,null,null,null,null,null,null,null,null,null,null,null,null,null,null,null,null,null,null,null,null,null,null,null,null,null,null,null,null,null,null,null,null,null,null,"税抜金額",null,null,null,null,"消費税額"]
[]
["10",{"$f":"IF('細2-10'!G$9=\"\",\"\",'細2-10'!G$9)","v":""},null,null,null,{"$f":"IF('細2-10'!$Q$9=\"\",\"\",'細2-10'!$Q$9)","v":""},null,null,null,null,null,null,null,null,null,{"$f":"IF('細2-10'!AW$83=0,\"\",'細2-10'!AW$83)","v":""},null,null,null,null,null,null,{"$f":"IF('細2-10'!AR$90=\"\",\"\",'細2-10'!AR$90)","v":""},null,{"$f":"IF('細2-10'!AT$90=0,\"\",'細2-10'!AT$90)","v":""},{"$f":"IF('細2-10'!AU$90=0,\"\",'細2-10'!AU$90)","v":""},{"$f":"IF('細2-10'!AW$88=\"\",\"\",'細2-10'!AW$88)","v":""},null,null,null,null,null,null,null,null,"10%対象額",null,null,null,{"$f":"SUMIF($W$39:$W$86,\"=10\",$P$39:$P$86)","v":0},null,null,null,null,{"$f":"SUMIF($W$39:$AA$86,\"=10\",$AA$39:$AA$86)","v":0}]
[]
[]
[null,null,null,null,null,null,null,null,null,null,null,null,null,null,null,null,null,null,null,null,null,null,null,null,null,null,null,null,null,null,null,null,null,null,null,"8%軽対象額",null,null,null,{"$f":"SUMIF($W$39:$W$86,\"=8\",$P$39:$P$86)","v":0},null,null,null,null,{"$f":"SUMIF($W$39:$AA$86,\"=8\",$AA$39:$AA$86)","v":0}]
["11",{"$f":"IF('細2-11'!G$9=\"\",\"\",'細2-11'!G$9)","v":""},null,null,null,{"$f":"IF('細2-11'!$Q$9=\"\",\"\",'細2-11'!$Q$9)","v":""},null,null,null,null,null,null,null,null,null,{"$f":"IF('細2-11'!AW$83=0,\"\",'細2-11'!AW$83)","v":""},null,null,null,null,null,null,{"$f":"IF('細2-11'!AR$90=\"\",\"\",'細2-11'!AR$90)","v":""},null,{"$f":"IF('細2-11'!AT$90=0,\"\",'細2-11'!AT$90)","v":""},{"$f":"IF('細2-11'!AU$90=0,\"\",'細2-11'!AU$90)","v":""},{"$f":"IF('細2-11'!AW$88=\"\",\"\",'細2-11'!AW$88)","v":""}]
[]
[null,null,null,null,null,null,null,null,null,null,null,null,null,null,null,null,null,null,null,null,null,null,null,null,null,null,null,null,null,null,null,null,null,null,null,"8%旧対象額",null,null,null,{"$f":"SUMIF($W$39:$W$86,\"=8.1\",$P$39:$P$86)","v":0},null,null,null,null,{"$f":"SUMIF($W$39:$AA$86,\"=8.1\",$AA$39:$AA$86)","v":0}]
[]
["12",{"$f":"IF('細2-12'!G$9=\"\",\"\",'細2-12'!G$9)","v":""},null,null,null,{"$f":"IF('細2-12'!$Q$9=\"\",\"\",'細2-12'!$Q$9)","v":""},null,null,null,null,null,null,null,null,null,{"$f":"IF('細2-12'!AW$83=0,\"\",'細2-12'!AW$83)","v":""},null,null,null,null,null,null,{"$f":"IF('細2-12'!AR$90=\"\",\"\",'細2-12'!AR$90)","v":""},null,{"$f":"IF('細2-12'!AT$90=0,\"\",'細2-12'!AT$90)","v":""},{"$f":"IF('細2-12'!AU$90=0,\"\",'細2-12'!AU$90)","v":""},{"$f":"IF('細2-12'!AW$88=\"\",\"\",'細2-12'!AW$88)","v":""}]
[null,null,null,null,null,null,null,null,null,null,null,null,null,null,null,null,null,null,null,null,null,null,null,null,null,null,null,null,null,null,null,null,null,null,null,"非不課税額",null,null,null,{"$f":"SUMIF($W$39:$W$86,\"=0\",$P$39:$P$86)","v":0}]
[]
[]
[null,"合　　　　　計",null,null,null,null,null,null,null,null,null,null,null,null,null,{"$f":"SUM(P39:P83)","v":0},null,null,null,null,null,null,null,null,null,{"$f":"IF(SUM(Z39:Z86)=0,\"\",SUM(Z39:Z86))","v":""},{"$f":"SUM(AA39:AF86)","v":0},null,null,null,null,null,null,null,null,"合計額",null,null,null,{"$f":"SUM(AN75:AR84)","v":0},null,null,null,null,{"$f":"SUM(AS75:AW86)","v":0}]
[]
[]
[]
[null,null,null,null,null,null,null,null,null,null,null,null,null,null,null,null,null,null,null,null,null,null,null,null,null,null,null,null,null,null,null,null,null,null,null,null,null,null,null,null,null,null,null,null,null,null,null,null,null,null,null,null,{"$f":"ﾊﾞｰｼﾞｮﾝ","v":"Ver.3.1.3"}]
[]
[]
[]
[null,null,null,null,null,null,null,null,null,null,null,null,null,null,null,null,null,null,null,"請　求　書 (貴社控)"]
[null,"株 式 会 社 種 村 建 設",null,null,null,null,null,null,null,null,null,null,"御中"]
[null,null,null,null,null,null,null,null,null,null,null,null,null,null,null,null,null,null,null,null,null,null,null,null,null,null,null,null,null,null,null,null,null,null,null,null,null,null,null,null,null,"請求年月日",null,null,null,null,{"$f":"IF(AU5=\"\",\"\",AU5)","v":""},null,null,null,{"$f":"IF(AY5=\"\",\"\",AY5)","v":""},null,null,{"$f":"IF(BB5=\"\",\"\",BB5)","v":""}]
[]
[]
[]
[null,"下記の通りご請求します。",null,null,null,null,null,null,null,null,null,null,null,null,null,null,null,null,null,null,null,null,null,null,null,null,null,null,null,null,null,null,null,"住所･社名･電話"]
[]
[null,null,null,null,null,null,null,null,null,null,null,null,null,null,null,null,null,null,null,null,null,null,null,null,null,null,null,null,null,null,null,null,null,{"$f":"IF(AH11=\"\",\"\",AH11)","v":"\n\n　　　　　　　　　新潟県南魚沼市水尾４１７\n\n　　　　　　　　　株式会社 種 村 建 設\n\n　　　　　　　　　代表取締役　並 木 成 德"}]
[null,null,null,null,null,null,null,null,null,null,null,null,null,null,null,null,null,null,null,null,null,null,null,null,null,null,null,null,null,null,null,null,null,{"$f":"IF(AH12=\"\",\"\",AH12)","v":""}]
[null,"御請求金額",null,null,null,null,null,null,null,null,{"$f":"K13","v":0}]
[]
[]
[null,null,null,null,null,null,null,null,null,null,null,null,null,null,null,null,null,null,null,null,null,null,null,null,null,null,null,null,null,null,null,null,null,{"$f":"IF(社名=\"\",\"\",社名)","v":""}]
[]
[null,"前月繰越額",null,null,null,null,null,null,null,null,{"$f":"K18","v":0}]
[]
[null,null,null,null,null,null,null,null,null,null,null,null,null,null,null,null,null,null,null,null,null,null,null,null,null,null,null,null,null,null,null,null,null,{"$f":"IF(AH20=\"\",\"\",AH20)","v":""}]
[]
[null,"当月請求額",null,null,null,null,null,null,null,null,{"$f":"K22","v":0}]
[]
[]
[null,null,null,null,null,null,null,null,null,null,null,null,null,null,null,null,null,null,null,null,null,null,null,null,null,null,null,null,null,null,null,null,null,{"$f":"IF(AH25=\"\",\"\",AH25)","v":""}]
[null,{"$f":"B26","v":"消費税額"},null,null,null,null,null,null,null,null,{"$f":"K26","v":0},null,null,null,null,null,null,null,null,null,null,null,null,null,{"$f":"IF(Y26=\"\",\"\",Y26)","v":""}]
[]
[]
[]
[null,"今回請求額",null,null,null,null,null,null,null,null,{"$f":"K30","v":0},null,null,null,null,null,null,null,null,null,null,null,null,null,null,null,null,null,null,null,null,null,null,"取引銀行",null,null,null,{"$f":"IF(AL30=\"\",\"\",AL30)","v":""},null,null,null,null,null,null,null,null,{"$f":"IF(AU30=\"\",\"\",AU30)","v":""}]
[]
[]
[]
[null,null,null,null,null,null,null,null,null,null,null,null,null,null,null,null,null,null,null,null,null,null,null,null,null,null,null,null,null,null,null,null,null,"口座名義",null,null,null,{"$f":"IF(AL34=\"\",\"\",AL34)","v":""}]
[null,{"$f":"B35","v":"工事番号"},null,null,null,{"$f":"F35","v":"工事名"},null,null,null,null,null,null,null,null,null,{"$f":"P35","v":"金額(税抜)"},null,null,null,null,null,null,{"$f":"W35","v":"税率"},null,null,null,{"$f":"AA35","v":"消費税"}]
[]
[]
[null,null,null,null,null,null,null,null,null,null,null,null,null,null,null,null,null,null,null,null,null,null,null,null,null,null,null,null,null,null,null,null,null,"口座番号",null,null,null,{"$f":"IF(AL38=\"\",\"\",AL38)","v":""},null,null,{"$f":"IF(AO38=\"\",\"\",AO38)","v":""},null,null,null,null,{"$f":"IF(AT38=\"\",\"\",AT38)","v":"登録番号"},null,null,null,{"$f":"IF(AX38=\"\",\"\",AX38)","v":""}]
[null,{"$f":"IF(B39=\"\",\"\",B39)","v":""},null,null,null,{"$f":"IF(F39=\"\",\"\",F39)","v":""},null,null,null,null,null,null,null,null,null,{"$f":"IF(P39=\"\",\"\",P39)","v":""},null,null,null,null,null,null,{"$f":"IF(W39=\"\",\"\",W39)","v":""},null,{"$f":"IF(Y39=\"\",\"\",Y39)","v":""},{"$f":"IF(Z39=\"\",\"\",Z39)","v":""},{"$f":"IF(AA39=\"\",\"\",AA39)","v":""},"","","","",""]
[]
[]
[]
[null,{"$f":"IF(B43=\"\",\"\",B43)","v":""},null,null,null,{"$f":"IF(F43=\"\",\"\",F43)","v":""},null,null,null,null,null,null,null,null,null,{"$f":"IF(P43=\"\",\"\",P43)","v":""},null,null,null,null,null,null,{"$f":"IF(W43=\"\",\"\",W43)","v":""},null,{"$f":"IF(Y43=\"\",\"\",Y43)","v":""},"","","","","","","",null,"　１．請求書の提出先及び提出期限\n　　　　毎月末締め切りにて本社へ翌月５日迄に必着の事。\n　　　　提出期日を経過したものは、当該月の支払い対象となりません。\n　２．記載上の注意\n　　　　・３枚１組の請求明細書にもれなく記入の上、明細書２枚を\n　　　　　請求書(正)に添付の上、提出してください。\n　　　　・明細書には、現場名毎に記入し、その合計を請求書に集計し\n　　　　　記入してください。\n　　　　・材料等、物品の請求の場合は、現場毎に明細書が出力されれば\n　　　　　自社の明細書で結構です。現場毎に出力されなければ、弊社\n　　　　　明細書を利用するか、自社明細書を工夫してください。\n　　　　　この場合も、明細書は２枚提出が必要です。\n　　　　・記入に際して不明の点は、当社係員と打合せの上ご記入下さい。\n　３．請求書は、弊社ホームページよりダウンロードして下さい。\n　※左表の税率欄:便宜上8.1%(軽減税率)表記は、8%として計算されます。"]
[]
[]
[]
[null,{"$f":"IF(B47=\"\",\"\",B47)","v":""},null,null,null,{"$f":"IF(F47=\"\",\"\",F47)","v":""},null,null,null,null,null,null,null,null,null,{"$f":"IF(P47=\"\",\"\",P47)","v":""},null,null,null,null,null,null,{"$f":"IF(W47=\"\",\"\",W47)","v":""},null,{"$f":"IF(Y47=\"\",\"\",Y47)","v":""},"","","","","","",""]
[]
[]
[]
[null,{"$f":"IF(B51=\"\",\"\",B51)","v":""},null,null,null,{"$f":"IF(F51=\"\",\"\",F51)","v":""},null,null,null,null,null,null,null,null,null,{"$f":"IF(P51=\"\",\"\",P51)","v":""},null,null,null,null,null,null,{"$f":"IF(W51=\"\",\"\",W51)","v":""},null,{"$f":"IF(Y51=\"\",\"\",Y51)","v":""},"","","","","","",""]
[]
[]
[]
[null,{"$f":"IF(B55=\"\",\"\",B55)","v":""},null,null,null,{"$f":"IF(F55=\"\",\"\",F55)","v":""},null,null,null,null,null,null,null,null,null,{"$f":"IF(P55=\"\",\"\",P55)","v":""},null,null,null,null,null,null,{"$f":"IF(W55=\"\",\"\",W55)","v":""},null,{"$f":"IF(Y55=\"\",\"\",Y55)","v":""},"","","","","","",""]
[]
[]
[]
[null,{"$f":"IF(B59=\"\",\"\",B59)","v":""},null,null,null,{"$f":"IF(F59=\"\",\"\",F59)","v":""},null,null,null,null,null,null,null,null,null,{"$f":"IF(P59=\"\",\"\",P59)","v":""},null,null,null,null,null,null,{"$f":"IF(W59=\"\",\"\",W59)","v":""},null,{"$f":"IF(Y59=\"\",\"\",Y59)","v":""},"","","","","","",""]
[]
[]
[]
[null,{"$f":"IF(B63=\"\",\"\",B63)","v":""},null,null,null,{"$f":"IF(F63=\"\",\"\",F63)","v":""},null,null,null,null,null,null,null,null,null,{"$f":"IF(P63=\"\",\"\",P63)","v":""},null,null,null,null,null,null,{"$f":"IF(W63=\"\",\"\",W63)","v":""},null,{"$f":"IF(Y63=\"\",\"\",Y63)","v":""},"","","","","","",""]
[]
[]
[]
[null,{"$f":"IF(B67=\"\",\"\",B67)","v":""},null,null,null,{"$f":"IF(F67=\"\",\"\",F67)","v":""},null,null,null,null,null,null,null,null,null,{"$f":"IF(P67=\"\",\"\",P67)","v":""},null,null,null,null,null,null,{"$f":"IF(W67=\"\",\"\",W67)","v":""},null,{"$f":"IF(Y67=\"\",\"\",Y67)","v":""},"","","","","","",""]
[]
[]
[]
[null,{"$f":"IF(B71=\"\",\"\",B71)","v":""},null,null,null,{"$f":"IF(F71=\"\",\"\",F71)","v":""},null,null,null,null,null,null,null,null,null,{"$f":"IF(P71=\"\",\"\",P71)","v":""},null,null,null,null,null,null,{"$f":"IF(W71=\"\",\"\",W71)","v":""},null,{"$f":"IF(Y71=\"\",\"\",Y71)","v":""},"","","","","","",""]
[]
[null,null,null,null,null,null,null,null,null,null,null,null,null,null,null,null,null,null,null,null,null,null,null,null,null,null,null,null,null,null,null,null,null,null,null,null,null,null,null,"税抜金額",null,null,null,null,"消費税額"]
[]
[null,{"$f":"IF(B75=\"\",\"\",B75)","v":""},null,null,null,{"$f":"IF(F75=\"\",\"\",F75)","v":""},null,null,null,null,null,null,null,null,null,{"$f":"IF(P75=\"\",\"\",P75)","v":""},null,null,null,null,null,null,{"$f":"IF(W75=\"\",\"\",W75)","v":""},null,{"$f":"IF(Y75=\"\",\"\",Y75)","v":""},"","","","","","","",null,null,null,"10%対象額",null,null,null,{"$f":"AN75","v":0},null,null,null,null,{"$f":"AS75","v":0},null,null,null,null,{"$f":"IF(AX75=\"\",\"\",AX75)","v":""}]
[]
[]
[null,null,null,null,null,null,null,null,null,null,null,null,null,null,null,null,null,null,null,null,null,null,null,null,null,null,null,null,null,null,null,null,null,null,null,"8%対象額",null,null,null,{"$f":"AN78","v":0},null,null,null,null,{"$f":"AS78","v":0},null,null,null,null,{"$f":"IF(AX78=\"\",\"\",AX78)","v":""}]
[null,{"$f":"IF(B79=\"\",\"\",B79)","v":""},null,null,null,{"$f":"IF(F79=\"\",\"\",F79)","v":""},null,null,null,null,null,null,null,null,null,{"$f":"IF(P79=\"\",\"\",P79)","v":""},null,null,null,null,null,null,{"$f":"IF(W79=\"\",\"\",W79)","v":""},null,{"$f":"IF(Y79=\"\",\"\",Y79)","v":""},"","","","","","",""]
[]
[null,null,null,null,null,null,null,null,null,null,null,null,null,null,null,null,null,null,null,null,null,null,null,null,null,null,null,null,null,null,null,null,null,null,null,"8%軽対象額",null,null,null,{"$f":"AN81","v":0},null,null,null,null,{"$f":"AS81","v":0},null,null,null,null,{"$f":"IF(AX81=\"\",\"\",AX81)","v":""}]
[]
[null,{"$f":"IF(B83=\"\",\"\",B83)","v":""},null,null,null,{"$f":"IF(F83=\"\",\"\",F83)","v":""},null,null,null,null,null,null,null,null,null,{"$f":"IF(P83=\"\",\"\",P83)","v":""},null,null,null,null,null,null,{"$f":"IF(W83=\"\",\"\",W83)","v":""},null,{"$f":"IF(Y83=\"\",\"\",Y83)","v":""},"","","","","","",""]
[null,null,null,null,null,null,null,null,null,null,null,null,null,null,null,null,null,null,null,null,null,null,null,null,null,null,null,null,null,null,null,null,null,null,null,"非不課税",null,null,null,{"$f":"AN84","v":0}]
[]
[]
[null,"合　　　　　計",null,null,null,null,null,null,null,null,null,null,null,null,null,{"$f":"IF(P87=\"\",\"\",P87)","v":0},null,null,null,null,null,null,null,null,null,{"$f":"IF(Z87=\"\",\"\",Z87)","v":""},{"$f":"IF(AA87=\"\",\"\",AA87)","v":0},"","","","","",null,null,null,"合計額",null,null,null,{"$f":"AN87","v":0},null,null,null,null,{"$f":"AS87","v":0}]
[]
[]
[]
[null,null,null,null,null,null,null,null,null,null,null,null,null,null,null,null,null,null,null,null,null,null,null,null,null,null,null,null,null,null,null,null,null,null,null,null,null,null,null,null,null,null,null,null,null,null,null,null,null,null,null,null,{"$f":"ﾊﾞｰｼﾞｮﾝ","v":"Ver.3.1.3"}]

{"sheet":"表紙③","index":3,"n_rows":183,"n_cols":58,"rows_kept":183,"cut":false,"hidden":false,"merged":[[37,45,40,48],[37,49,40,55],[129,37,132,39],[129,40,132,44],[129,45,132,48],[129,49,132,55],[178,39,180,43],[178,44,180,48],[103,33,106,55],[94,19,97,34],[66,15,69,21],[66,22,69,23],[66,24,69,24],[66,25,69,25],[74,35,76,38],[74,39,76,43],[74,44,76,48],[77,35,79,38],[77,39,79,43],[77,44,79,48],[72,35,73,38],[72,39,73,43],[170,22,173,23],[170,24,173,24],[182,52,183,55],[174,26,177,31],[175,35,177,38],[175,39,177,43],[175,44,177,48],[178,1,181,14],[178,15,181,21],[178,22,181,24],[178,25,181,25],[178,26,181,31],[178,35,180,38],[172,35,174,38],[172,39,174,43],[172,44,174,48],[172,49,174,49],[174,1,177,4],[174,5,177,14],[174,15,177,21],[174,22,177,23],[174,24,177,24],[174,25,177,25],[170,1,173,4],[170,5,173,14],[170,15,173,21],[170,25,173,25],[166,26,169,31],[166,35,168,38],[166,39,168,43],[166,44,168,48],[166,49,168,49],[169,35,171,38],[169,39,171,43],[169,44,171,48],[169,49,171,49],[170,26,173,31],[162,26,165,31],[164,35,165,38],[164,39,165,43],[164,44,165,48],[166,1,169,4],[166,5,169,14],[166,15,169,21],[166,22,169,23],[166,24,169,24],[166,25,169,25],[162,1,165,4],[162,5,165,14],[162,15,165,21],[162,22,165,23],[162,24,165,24],[162,25,165,25],[154,26,157,31],[158,1,161,4],[158,5,161,14],[158,15,161,21],[158,22,161,23],[158,24,161,24],[158,25,161,25],[158,26,161,31],[154,1,157,4],[154,5,157,14],[154,15,157,21],[154,22,157,23],[154,24,157,24],[154,25,157,25],[150,5,153,14],[150,15,153,21],[150,22,153,23],[150,24,153,24],[150,25,153,25],[150,26,153,31],[146,1,149,4],[146,5,149,14],[146,15,149,21],[146,22,149,23],[146,24,149,24],[146,25,149,25],[142,5,145,14],[142,15,145,21],[142,22,145,23],[142,24,145,24],[142,25,145,25],[142,26,145,31],[134,26,137,31],[134,33,162,55],[138,1,141,4],[138,5,141,14],[138,15,141,21],[138,22,141,23],[138,24,141,24],[138,25,141,25],[138,26,141,31],[142,1,145,4],[134,1,137,4],[134,5,137,14],[134,15,137,21],[134,22,137,23],[134,24,137,24],[134,25,137,25],[146,26,149,31],[150,1,153,4],[121,1,124,9],[121,10,124,23],[121,33,124,36],[121,37,124,45],[121,46,124,55],[130,1,133,4],[130,5,133,14],[130,15,133,21],[130,22,133,23],[130,24,133,24],[130,25,133,25],[130,26,133,31],[125,33,128,36],[125,37,128,55],[126,1,129,4],[126,5,129,14],[126,15,129,21],[126,22,129,24],[126,25,129,25],[126,26,129,31],[129,33,132,36],[104,1,107,9],[104,10,107,23],[107,33,110,55],[109,1,112,9],[109,10,112,23],[111,33,115,55],[113,1,116,9],[113,10,116,23],[116,33,119,55],[117,1,120,9],[117,10,120,23],[117,24,120,24],[95,1,98,11],[95,12,98,13],[96,41,98,45],[96,46,98,49],[96,50,98,52],[96,53,98,55],[100,1,101,10],[100,33,101,55],[86,1,89,14],[86,15,89,21],[86,22,89,24],[86,25,89,25],[86,26,89,31],[86,35,88,38],[86,39,88,43],[86,44,88,48],[90,52,91,55],[82,1,85,4],[82,5,85,14],[82,15,85,21],[82,22,85,23],[82,24,85,24],[82,25,85,25],[78,1,81,4],[78,5,81,14],[78,15,81,21],[78,22,81,23],[78,24,81,24],[78,25,81,25],[72,44,73,48],[78,26,81,31],[80,35,82,38],[80,39,82,43],[80,44,82,48],[82,26,85,31],[83,35,85,38],[83,39,85,43],[83,44,85,48],[62,1,65,4],[62,5,65,14],[62,15,65,21],[62,22,65,23],[62,24,65,24],[62,25,65,25],[62,26,65,31],[74,1,77,4],[74,5,77,14],[74,15,77,21],[74,22,77,23],[74,24,77,24],[74,25,77,25],[74,26,77,31],[66,26,69,31],[70,1,73,4],[70,5,73,14],[70,15,73,21],[70,22,73,23],[70,24,73,24],[70,25,73,25],[70,26,73,31],[66,1,69,4],[66,5,69,14],[54,1,57,4],[54,5,57,14],[54,15,57,21],[54,22,57,23],[54,24,57,24],[54,25,57,25],[54,26,57,31],[58,1,61,4],[58,5,61,14],[58,15,61,21],[58,22,61,23],[58,24,61,24],[58,25,61,25],[58,26,61,31],[42,26,45,31],[42,33,44,55],[45,33,46,55],[46,1,49,4],[46,5,49,14],[46,15,49,21],[46,22,49,23],[46,24,49,24],[46,25,49,25],[46,26,49,31],[42,1,45,4],[42,5,45,14],[42,15,45,21],[42,22,45,23],[42,24,45,24],[42,25,45,25],[47,33,70,55],[50,1,53,4],[50,5,53,14],[50,15,53,21],[50,22,53,23],[50,24,53,24],[50,25,53,25],[50,26,53,31],[37,33,40,36],[38,26,41,31],[38,32,41,32],[29,1,32,9],[29,10,32,23],[29,33,32,36],[29,37,32,45],[29,46,32,55],[33,33,36,36],[33,37,36,55],[34,1,37,4],[34,5,37,14],[34,15,37,21],[38,1,41,4],[38,5,41,14],[38,15,41,21],[38,22,41,23],[38,24,41,24],[38,25,41,25],[34,22,37,24],[34,25,37,25],[34,26,37,31],[37,37,40,39],[37,40,40,44],[4,57,6,60],[8,1,9,10],[8,33,9,55],[11,33,14,55],[12,1,15,9],[12,10,15,23],[15,33,18,55],[17,1,20,9],[17,10,20,23],[19,33,23,55],[0,54,1,55],[2,19,5,34],[3,1,6,11],[3,12,6,13],[4,41,6,45],[4,46,6,49],[4,50,6,52],[4,53,6,55],[21,1,24,9],[21,10,24,23],[24,33,27,55],[25,1,28,9],[25,10,28,23],[25,24,28,24],[62,0,65,0],[66,0,69,0],[70,0,73,0],[74,0,77,0],[78,0,81,0],[82,0,85,0],[38,0,41,0],[42,0,45,0],[46,0,49,0],[50,0,53,0],[54,0,57,0],[58,0,61,0]]}
[null,null,null,null,null,null,null,null,null,null,null,null,null,null,null,null,null,null,null,null,null,null,null,null,null,null,null,null,null,null,null,null,null,null,null,null,null,null,null,null,null,null,null,null,null,null,null,null,null,null,null,null,null,null,{"$f":"\"\"&IF(小計3>0,\"3/3\",\"\")&\"\"","v":""}]
[]
[null,null,null,null,null,null,null,null,null,null,null,null,null,null,null,null,null,null,null,"請　求　書 (正)"]
[null,"株 式 会 社 種 村 建 設",null,null,null,null,null,null,null,null,null,null,"御中"]
[null,null,null,null,null,null,null,null,null,null,null,null,null,null,null,null,null,null,null,null,null,null,null,null,null,null,null,null,null,null,null,null,null,null,null,null,null,null,null,null,null,"請求年月日",null,null,null,null,{"$f":"IF(年=\"\",\"\",年)","v":""},null,null,null,{"$f":"IF(月=\"\",\"\",月)","v":""},null,null,{"$f":"IF(日=\"\",\"\",日)","v":""},null,null,null,"明細付表紙"]
[]
[]
[]
[null,"下記の通りご請求します。",null,null,null,null,null,null,null,null,null,null,null,null,null,null,null,null,null,null,null,null,null,null,null,null,null,null,null,null,null,null,null,"住所･社名･電話"]
[]
[null,null,null,null,null,null,null,null,null,null,null,null,null,null,null,null,null,null,null,null,null,null,null,null,null,null,null,null,null,null,null,null,null,"\n\n　　　　　　　　　新潟県南魚沼市水尾４１７\n\n　　　　　　　　　株式会社 種 村 建 設\n\n　　　　　　　　　代表取締役　並 木 成 德"]
[null,null,null,null,null,null,null,null,null,null,null,null,null,null,null,null,null,null,null,null,null,null,null,null,null,null,null,null,null,null,null,null,null,{"$f":"IF(住所=\"\",\"\",住所)","v":""}]
[null,"御請求金額"]
[]
[]
[null,null,null,null,null,null,null,null,null,null,null,null,null,null,null,null,null,null,null,null,null,null,null,null,null,null,null,null,null,null,null,null,null,{"$f":"IF(社名=\"\",\"\",社名)","v":""}]
[]
[null,"前月繰越額"]
[]
[null,null,null,null,null,null,null,null,null,null,null,null,null,null,null,null,null,null,null,null,null,null,null,null,null,null,null,null,null,null,null,null,null,{"$f":"IF(代表者=\"\",\"\",代表者)","v":""}]
[]
[null,"当月請求額"]
[]
[]
[null,null,null,null,null,null,null,null,null,null,null,null,null,null,null,null,null,null,null,null,null,null,null,null,null,null,null,null,null,null,null,null,null,{"$f":"IF(電話=\"\",\"\",電話)","v":""}]
[null,"消費税額"]
[]
[]
[]
[null,"今回請求額",null,null,null,null,null,null,null,null,null,null,null,null,null,null,null,null,null,null,null,null,null,null,null,null,null,null,null,null,null,null,null,"取引銀行",null,null,null,{"$f":"IF(銀行名=\"\",\"\",銀行名)","v":""},null,null,null,null,null,null,null,null,{"$f":"IF(支店名=\"\",\"\",支店名)","v":""}]
[]
[]
[]
[null,null,null,null,null,null,null,null,null,null,null,null,null,null,null,null,null,null,null,null,null,null,null,null,null,null,null,null,null,null,null,null,null,"口座名義",null,null,null,{"$f":"IF(口座名義=\"\",\"\",口座名義)","v":""}]
[null,"工事番号",null,null,null,"工事名",null,null,null,null,null,null,null,null,null,"金額(税抜)",null,null,null,null,null,null,"税率",null,null,"税調","消費税"]
[]
[]
[null,null,null,null,null,null,null,null,null,null,null,null,null,null,null,null,null,null,null,null,null,null,null,null,null,null,null,null,null,null,null,null,null,"口座番号",null,null,null,{"$f":"IF(口座種別=\"\",\"\",口座種別)","v":""},null,null,{"$f":"IF(口座番号=\"\",\"\",口座番号)","v":""},null,null,null,null,"登録番号",null,null,null,{"$f":"IF(登録番号=\"\",\"\",登録番号)","v":""}]
["1",{"$f":"IF('細3-1'!G$9=\"\",\"\",'細3-1'!G$9)","v":""},null,null,null,{"$f":"IF('細3-1'!$Q$9=\"\",\"\",'細3-1'!$Q$9)","v":""},null,null,null,null,null,null,null,null,null,{"$f":"IF('細3-1'!AW$83=0,\"\",'細3-1'!AW$83)","v":""},null,null,null,null,null,null,{"$f":"IF('細3-1'!AR$90=\"\",\"\",'細3-1'!AR$90)","v":""},null,{"$f":"IF('細3-1'!AT$90=0,\"\",'細3-1'!AT$90)","v":""},{"$f":"IF('細3-1'!AU$90=0,\"\",'細3-1'!AU$90)","v":""},{"$f":"IF('細3-1'!AW$88=\"\",\"\",'細3-1'!AW$88)","v":""}]
[]
[]
[]
["2",{"$f":"IF('細3-2'!G$9=\"\",\"\",'細3-2'!G$9)","v":""},null,null,null,{"$f":"IF('細3-2'!$Q$9=\"\",\"\",'細3-2'!$Q$9)","v":""},null,null,null,null,null,null,null,null,null,{"$f":"IF('細3-2'!AW$83=0,\"\",'細3-2'!AW$83)","v":""},null,null,null,null,null,null,{"$f":"IF('細3-2'!AR$90=\"\",\"\",'細3-2'!AR$90)","v":""},null,{"$f":"IF('細3-2'!AT$90=0,\"\",'細3-2'!AT$90)","v":""},{"$f":"IF('細3-2'!AU$90=0,\"\",'細3-2'!AU$90)","v":""},{"$f":"IF('細3-2'!AW$88=\"\",\"\",'細3-2'!AW$88)","v":""},null,null,null,null,null,null,"備     考 ・ 通  信  欄"]
[]
[]
[null,null,null,null,null,null,null,null,null,null,null,null,null,null,null,null,null,null,null,null,null,null,null,null,null,null,null,null,null,null,null,null,null,"※左表の税率欄:便宜上8.1%(経過措置旧税率)表記は、8%として計算されます。"]
["3",{"$f":"IF('細3-3'!G$9=\"\",\"\",'細3-3'!G$9)","v":""},null,null,null,{"$f":"IF('細3-3'!$Q$9=\"\",\"\",'細3-3'!$Q$9)","v":""},null,null,null,null,null,null,null,null,null,{"$f":"IF('細3-3'!AW$83=0,\"\",'細3-3'!AW$83)","v":""},null,null,null,null,null,null,{"$f":"IF('細3-3'!AR$90=\"\",\"\",'細3-3'!AR$90)","v":""},null,{"$f":"IF('細3-3'!AT$90=0,\"\",'細3-3'!AT$90)","v":""},{"$f":"IF('細3-3'!AU$90=0,\"\",'細3-3'!AU$90)","v":""},{"$f":"IF('細3-3'!AW$88=\"\",\"\",'細3-3'!AW$88)","v":""}]
[]
[]
[]
["4",{"$f":"IF('細3-4'!G$9=\"\",\"\",'細3-4'!G$9)","v":""},null,null,null,{"$f":"IF('細3-4'!$Q$9=\"\",\"\",'細3-4'!$Q$9)","v":""},null,null,null,null,null,null,null,null,null,{"$f":"IF('細3-4'!AW$83=0,\"\",'細3-4'!AW$83)","v":""},null,null,null,null,null,null,{"$f":"IF('細3-4'!AR$90=\"\",\"\",'細3-4'!AR$90)","v":""},null,{"$f":"IF('細3-4'!AT$90=0,\"\",'細3-4'!AT$90)","v":""},{"$f":"IF('細3-4'!AU$90=0,\"\",'細3-4'!AU$90)","v":""},{"$f":"IF('細3-4'!AW$88=\"\",\"\",'細3-4'!AW$88)","v":""}]
[]
[]
[]
["5",{"$f":"IF('細3-5'!G$9=\"\",\"\",'細3-5'!G$9)","v":""},null,null,null,{"$f":"IF('細3-5'!$Q$9=\"\",\"\",'細3-5'!$Q$9)","v":""},null,null,null,null,null,null,null,null,null,{"$f":"IF('細3-5'!AW$83=0,\"\",'細3-5'!AW$83)","v":""},null,null,null,null,null,null,{"$f":"IF('細3-5'!AR$90=\"\",\"\",'細3-5'!AR$90)","v":""},null,{"$f":"IF('細3-5'!AT$90=0,\"\",'細3-5'!AT$90)","v":""},{"$f":"IF('細3-5'!AU$90=0,\"\",'細3-5'!AU$90)","v":""},{"$f":"IF('細3-5'!AW$88=\"\",\"\",'細3-5'!AW$88)","v":""}]
[]
[]
[]
["6",{"$f":"IF('細3-6'!G$9=\"\",\"\",'細3-6'!G$9)","v":""},null,null,null,{"$f":"IF('細3-6'!$Q$9=\"\",\"\",'細3-6'!$Q$9)","v":""},null,null,null,null,null,null,null,null,null,{"$f":"IF('細3-6'!AW$83=0,\"\",'細3-6'!AW$83)","v":""},null,null,null,null,null,null,{"$f":"IF('細3-6'!AR$90=\"\",\"\",'細3-6'!AR$90)","v":""},null,{"$f":"IF('細3-6'!AT$90=0,\"\",'細3-6'!AT$90)","v":""},{"$f":"IF('細3-6'!AU$90=0,\"\",'細3-6'!AU$90)","v":""},{"$f":"IF('細3-6'!AW$88=\"\",\"\",'細3-6'!AW$88)","v":""}]
[]
[]
[]
["7",{"$f":"IF('細3-7'!G$9=\"\",\"\",'細3-7'!G$9)","v":""},null,null,null,{"$f":"IF('細3-7'!$Q$9=\"\",\"\",'細3-7'!$Q$9)","v":""},null,null,null,null,null,null,null,null,null,{"$f":"IF('細3-7'!AW$83=0,\"\",'細3-7'!AW$83)","v":""},null,null,null,null,null,null,{"$f":"IF('細3-7'!AR$90=\"\",\"\",'細3-7'!AR$90)","v":""},null,{"$f":"IF('細3-7'!AT$90=0,\"\",'細3-7'!AT$90)","v":""},{"$f":"IF('細3-7'!AU$90=0,\"\",'細3-7'!AU$90)","v":""},{"$f":"IF('細3-7'!AW$88=\"\",\"\",'細3-7'!AW$88)","v":""}]
[]
[]
[]
["8",{"$f":"IF('細3-8'!G$9=\"\",\"\",'細3-8'!G$9)","v":""},null,null,null,{"$f":"IF('細3-8'!$Q$9=\"\",\"\",'細3-8'!$Q$9)","v":""},null,null,null,null,null,null,null,null,null,{"$f":"IF('細3-8'!AW$83=0,\"\",'細3-8'!AW$83)","v":""},null,null,null,null,null,null,{"$f":"IF('細3-8'!AR$90=\"\",\"\",'細3-8'!AR$90)","v":""},null,{"$f":"IF('細3-8'!AT$90=0,\"\",'細3-8'!AT$90)","v":""},{"$f":"IF('細3-8'!AU$90=0,\"\",'細3-8'!AU$90)","v":""},{"$f":"IF('細3-8'!AW$88=\"\",\"\",'細3-8'!AW$88)","v":""}]
[]
[]
[]
["9",{"$f":"IF('細3-9'!G$9=\"\",\"\",'細3-9'!G$9)","v":""},null,null,null,{"$f":"IF('細3-9'!$Q$9=\"\",\"\",'細3-9'!$Q$9)","v":""},null,null,null,null,null,null,null,null,null,{"$f":"IF('細3-9'!AW$88=0,\"\",'細3-9'!AW$88)","v":""},null,null,null,null,null,null,{"$f":"IF('細3-9'!AR$90=\"\",\"\",'細3-9'!AR$90)","v":""},null,{"$f":"IF('細3-9'!AT$90=0,\"\",'細3-9'!AT$90)","v":""},{"$f":"IF('細3-9'!AU$90=0,\"\",'細3-9'!AU$90)","v":""},{"$f":"IF('細3-9'!AW$88=\"\",\"\",'細3-9'!AW$88)","v":""}]
[]
[null,null,null,null,null,null,null,null,null,null,null,null,null,null,null,null,null,null,null,null,null,null,null,null,null,null,null,null,null,null,null,null,null,null,null,null,null,null,null,"税抜金額",null,null,null,null,"消費税額"]
[]
["10",{"$f":"IF('細3-10'!G$9=\"\",\"\",'細3-10'!G$9)","v":""},null,null,null,{"$f":"IF('細3-10'!$Q$9=\"\",\"\",'細3-10'!$Q$9)","v":""},null,null,null,null,null,null,null,null,null,{"$f":"IF('細3-10'!AW$88=0,\"\",'細3-10'!AW$88)","v":""},null,null,null,null,null,null,{"$f":"IF('細3-10'!AR$90=\"\",\"\",'細3-10'!AR$90)","v":""},null,{"$f":"IF('細3-10'!AT$90=0,\"\",'細3-10'!AT$90)","v":""},{"$f":"IF('細3-10'!AU$90=0,\"\",'細3-10'!AU$90)","v":""},{"$f":"IF('細3-10'!AW$88=\"\",\"\",'細3-10'!AW$88)","v":""},null,null,null,null,null,null,null,null,"10%対象額",null,null,null,{"$f":"SUMIF($W$39:$W$86,\"=10\",$P$39:$P$86)","v":0},null,null,null,null,{"$f":"SUMIF($W$39:$AA$86,\"=10\",$AA$39:$AA$86)","v":0}]
[]
[]
[null,null,null,null,null,null,null,null,null,null,null,null,null,null,null,null,null,null,null,null,null,null,null,null,null,null,null,null,null,null,null,null,null,null,null,"8%軽対象額",null,null,null,{"$f":"SUMIF($W$39:$W$86,\"=8\",$P$39:$P$86)","v":0},null,null,null,null,{"$f":"SUMIF($W$39:$AA$86,\"=8\",$AA$39:$AA$86)","v":0}]
["11",{"$f":"IF('細3-11'!G$9=\"\",\"\",'細3-11'!G$9)","v":""},null,null,null,{"$f":"IF('細3-11'!$Q$9=\"\",\"\",'細3-11'!$Q$9)","v":""},null,null,null,null,null,null,null,null,null,{"$f":"IF('細3-11'!AW$88=0,\"\",'細3-11'!AW$88)","v":""},null,null,null,null,null,null,{"$f":"IF('細3-11'!AR$90=\"\",\"\",'細3-11'!AR$90)","v":""},null,{"$f":"IF('細3-11'!AT$90=0,\"\",'細3-11'!AT$90)","v":""},{"$f":"IF('細3-11'!AU$90=0,\"\",'細3-11'!AU$90)","v":""},{"$f":"IF('細3-11'!AW$88=\"\",\"\",'細3-11'!AW$88)","v":""}]
[]
[null,null,null,null,null,null,null,null,null,null,null,null,null,null,null,null,null,null,null,null,null,null,null,null,null,null,null,null,null,null,null,null,null,null,null,"8%旧対象額",null,null,null,{"$f":"SUMIF($W$39:$W$86,\"=8.1\",$P$39:$P$86)","v":0},null,null,null,null,{"$f":"SUMIF($W$39:$AA$86,\"=8.1\",$AA$39:$AA$86)","v":0}]
[]
["12",{"$f":"IF('細3-12'!G$9=\"\",\"\",'細3-12'!G$9)","v":""},null,null,null,{"$f":"IF('細3-12'!$Q$9=\"\",\"\",'細3-12'!$Q$9)","v":""},null,null,null,null,null,null,null,null,null,{"$f":"IF('細3-12'!AW$88=0,\"\",'細3-12'!AW$88)","v":""},null,null,null,null,null,null,{"$f":"IF('細3-12'!AR$90=\"\",\"\",'細3-12'!AR$90)","v":""},null,{"$f":"IF('細3-12'!AT$90=0,\"\",'細3-12'!AT$90)","v":""},{"$f":"IF('細3-12'!AU$90=0,\"\",'細3-12'!AU$90)","v":""},{"$f":"IF('細3-12'!AW$88=\"\",\"\",'細3-12'!AW$88)","v":""}]
[null,null,null,null,null,null,null,null,null,null,null,null,null,null,null,null,null,null,null,null,null,null,null,null,null,null,null,null,null,null,null,null,null,null,null,"非不課税額",null,null,null,{"$f":"SUMIF($W$39:$W$86,\"=0\",$P$39:$P$86)","v":0}]
[]
[]
[null,"合　　　　　計",null,null,null,null,null,null,null,null,null,null,null,null,null,{"$f":"SUM(P39:P83)","v":0},null,null,null,null,null,null,null,null,null,{"$f":"IF(SUM(Z39:Z86)=0,\"\",SUM(Z39:Z86))","v":""},{"$f":"SUM(AA39:AF86)","v":0},null,null,null,null,null,null,null,null,"合計額",null,null,null,{"$f":"SUM(AN75:AR84)","v":0},null,null,null,null,{"$f":"SUM(AS75:AW86)","v":0}]
[]
[]
[]
[null,null,null,null,null,null,null,null,null,null,null,null,null,null,null,null,null,null,null,null,null,null,null,null,null,null,null,null,null,null,null,null,null,null,null,null,null,null,null,null,null,null,null,null,null,null,null,null,null,null,null,null,{"$f":"ﾊﾞｰｼﾞｮﾝ","v":"Ver.3.1.3"}]
[]
[]
[]
[null,null,null,null,null,null,null,null,null,null,null,null,null,null,null,null,null,null,null,"請　求　書 (貴社控)"]
[null,"株 式 会 社 種 村 建 設",null,null,null,null,null,null,null,null,null,null,"御中"]
[null,null,null,null,null,null,null,null,null,null,null,null,null,null,null,null,null,null,null,null,null,null,null,null,null,null,null,null,null,null,null,null,null,null,null,null,null,null,null,null,null,"請求年月日",null,null,null,null,{"$f":"IF(AU5=\"\",\"\",AU5)","v":""},null,null,null,{"$f":"IF(AY5=\"\",\"\",AY5)","v":""},null,null,{"$f":"IF(BB5=\"\",\"\",BB5)","v":""}]
[]
[]
[]
[null,"下記の通りご請求します。",null,null,null,null,null,null,null,null,null,null,null,null,null,null,null,null,null,null,null,null,null,null,null,null,null,null,null,null,null,null,null,"住所･社名･電話"]
[]
[null,null,null,null,null,null,null,null,null,null,null,null,null,null,null,null,null,null,null,null,null,null,null,null,null,null,null,null,null,null,null,null,null,{"$f":"IF(AH11=\"\",\"\",AH11)","v":"\n\n　　　　　　　　　新潟県南魚沼市水尾４１７\n\n　　　　　　　　　株式会社 種 村 建 設\n\n　　　　　　　　　代表取締役　並 木 成 德"}]
[null,null,null,null,null,null,null,null,null,null,null,null,null,null,null,null,null,null,null,null,null,null,null,null,null,null,null,null,null,null,null,null,null,{"$f":"IF(AH12=\"\",\"\",AH12)","v":""}]
[null,"御請求金額",null,null,null,null,null,null,null,null,{"$f":"K13","v":0}]
[]
[]
[null,null,null,null,null,null,null,null,null,null,null,null,null,null,null,null,null,null,null,null,null,null,null,null,null,null,null,null,null,null,null,null,null,{"$f":"IF(社名=\"\",\"\",社名)","v":""}]
[]
[null,"前月繰越額",null,null,null,null,null,null,null,null,{"$f":"K18","v":0}]
[]
[null,null,null,null,null,null,null,null,null,null,null,null,null,null,null,null,null,null,null,null,null,null,null,null,null,null,null,null,null,null,null,null,null,{"$f":"IF(AH20=\"\",\"\",AH20)","v":""}]
[]
[null,"当月請求額",null,null,null,null,null,null,null,null,{"$f":"K22","v":0}]
[]
[]
[null,null,null,null,null,null,null,null,null,null,null,null,null,null,null,null,null,null,null,null,null,null,null,null,null,null,null,null,null,null,null,null,null,{"$f":"IF(AH25=\"\",\"\",AH25)","v":""}]
[null,{"$f":"B26","v":"消費税額"},null,null,null,null,null,null,null,null,{"$f":"K26","v":0},null,null,null,null,null,null,null,null,null,null,null,null,null,{"$f":"IF(Y26=\"\",\"\",Y26)","v":""}]
[]
[]
[]
[null,"今回請求額",null,null,null,null,null,null,null,null,{"$f":"K30","v":0},null,null,null,null,null,null,null,null,null,null,null,null,null,null,null,null,null,null,null,null,null,null,"取引銀行",null,null,null,{"$f":"IF(AL30=\"\",\"\",AL30)","v":""},null,null,null,null,null,null,null,null,{"$f":"IF(AU30=\"\",\"\",AU30)","v":""}]
[]
[]
[]
[null,null,null,null,null,null,null,null,null,null,null,null,null,null,null,null,null,null,null,null,null,null,null,null,null,null,null,null,null,null,null,null,null,"口座名義",null,null,null,{"$f":"IF(AL34=\"\",\"\",AL34)","v":""}]
[null,{"$f":"B35","v":"工事番号"},null,null,null,{"$f":"F35","v":"工事名"},null,null,null,null,null,null,null,null,null,{"$f":"P35","v":"金額(税抜)"},null,null,null,null,null,null,{"$f":"W35","v":"税率"},null,null,null,{"$f":"AA35","v":"消費税"}]
[]
[]
[null,null,null,null,null,null,null,null,null,null,null,null,null,null,null,null,null,null,null,null,null,null,null,null,null,null,null,null,null,null,null,null,null,"口座番号",null,null,null,{"$f":"IF(AL38=\"\",\"\",AL38)","v":""},null,null,{"$f":"IF(AO38=\"\",\"\",AO38)","v":""},null,null,null,null,{"$f":"IF(AT38=\"\",\"\",AT38)","v":"登録番号"},null,null,null,{"$f":"IF(AX38=\"\",\"\",AX38)","v":""}]
[null,{"$f":"IF(B39=\"\",\"\",B39)","v":""},null,null,null,{"$f":"IF(F39=\"\",\"\",F39)","v":""},null,null,null,null,null,null,null,null,null,{"$f":"IF(P39=\"\",\"\",P39)","v":""},null,null,null,null,null,null,{"$f":"IF(W39=\"\",\"\",W39)","v":""},null,{"$f":"IF(Y39=\"\",\"\",Y39)","v":""},{"$f":"IF(Z39=\"\",\"\",Z39)","v":""},{"$f":"IF(AA39=\"\",\"\",AA39)","v":""},"","","","",""]
[]
[]
[]
[null,{"$f":"IF(B43=\"\",\"\",B43)","v":""},null,null,null,{"$f":"IF(F43=\"\",\"\",F43)","v":""},null,null,null,null,null,null,null,null,null,{"$f":"IF(P43=\"\",\"\",P43)","v":""},null,null,null,null,null,null,{"$f":"IF(W43=\"\",\"\",W43)","v":""},null,{"$f":"IF(Y43=\"\",\"\",Y43)","v":""},"","","","","","","",null,"　１．請求書の提出先及び提出期限\n　　　　毎月末締め切りにて本社へ翌月５日迄に必着の事。\n　　　　提出期日を経過したものは、当該月の支払い対象となりません。\n　２．記載上の注意\n　　　　・３枚１組の請求明細書にもれなく記入の上、明細書２枚を\n　　　　　請求書(正)に添付の上、提出してください。\n　　　　・明細書には、現場名毎に記入し、その合計を請求書に集計し\n　　　　　記入してください。\n　　　　・材料等、物品の請求の場合は、現場毎に明細書が出力されれば\n　　　　　自社の明細書で結構です。現場毎に出力されなければ、弊社\n　　　　　明細書を利用するか、自社明細書を工夫してください。\n　　　　　この場合も、明細書は２枚提出が必要です。\n　　　　・記入に際して不明の点は、当社係員と打合せの上ご記入下さい。\n　３．請求書は、弊社ホームページよりダウンロードして下さい。\n　※左表の税率欄:便宜上8.1%(軽減税率)表記は、8%として計算されます。"]
[]
[]
[]
[null,{"$f":"IF(B47=\"\",\"\",B47)","v":""},null,null,null,{"$f":"IF(F47=\"\",\"\",F47)","v":""},null,null,null,null,null,null,null,null,null,{"$f":"IF(P47=\"\",\"\",P47)","v":""},null,null,null,null,null,null,{"$f":"IF(W47=\"\",\"\",W47)","v":""},null,{"$f":"IF(Y47=\"\",\"\",Y47)","v":""},"","","","","","",""]
[]
[]
[]
[null,{"$f":"IF(B51=\"\",\"\",B51)","v":""},null,null,null,{"$f":"IF(F51=\"\",\"\",F51)","v":""},null,null,null,null,null,null,null,null,null,{"$f":"IF(P51=\"\",\"\",P51)","v":""},null,null,null,null,null,null,{"$f":"IF(W51=\"\",\"\",W51)","v":""},null,{"$f":"IF(Y51=\"\",\"\",Y51)","v":""},"","","","","","",""]
[]
[]
[]
[null,{"$f":"IF(B55=\"\",\"\",B55)","v":""},null,null,null,{"$f":"IF(F55=\"\",\"\",F55)","v":""},null,null,null,null,null,null,null,null,null,{"$f":"IF(P55=\"\",\"\",P55)","v":""},null,null,null,null,null,null,{"$f":"IF(W55=\"\",\"\",W55)","v":""},null,{"$f":"IF(Y55=\"\",\"\",Y55)","v":""},"","","","","","",""]
[]
[]
[]
[null,{"$f":"IF(B59=\"\",\"\",B59)","v":""},null,null,null,{"$f":"IF(F59=\"\",\"\",F59)","v":""},null,null,null,null,null,null,null,null,null,{"$f":"IF(P59=\"\",\"\",P59)","v":""},null,null,null,null,null,null,{"$f":"IF(W59=\"\",\"\",W59)","v":""},null,{"$f":"IF(Y59=\"\",\"\",Y59)","v":""},"","","","","","",""]
[]
[]
[]
[null,{"$f":"IF(B63=\"\",\"\",B63)","v":""},null,null,null,{"$f":"IF(F63=\"\",\"\",F63)","v":""},null,null,null,null,null,null,null,null,null,{"$f":"IF(P63=\"\",\"\",P63)","v":""},null,null,null,null,null,null,{"$f":"IF(W63=\"\",\"\",W63)","v":""},null,{"$f":"IF(Y63=\"\",\"\",Y63)","v":""},"","","","","","",""]
[]
[]
[]
[null,{"$f":"IF(B67=\"\",\"\",B67)","v":""},null,null,null,{"$f":"IF(F67=\"\",\"\",F67)","v":""},null,null,null,null,null,null,null,null,null,{"$f":"IF(P67=\"\",\"\",P67)","v":""},null,null,null,null,null,null,{"$f":"IF(W67=\"\",\"\",W67)","v":""},null,{"$f":"IF(Y67=\"\",\"\",Y67)","v":""},"","","","","","",""]
[]
[]
[]
[null,{"$f":"IF(B71=\"\",\"\",B71)","v":""},null,null,null,{"$f":"IF(F71=\"\",\"\",F71)","v":""},null,null,null,null,null,null,null,null,null,{"$f":"IF(P71=\"\",\"\",P71)","v":""},null,null,null,null,null,null,{"$f":"IF(W71=\"\",\"\",W71)","v":""},null,{"$f":"IF(Y71=\"\",\"\",Y71)","v":""},"","","","","","",""]
[]
[null,null,null,null,null,null,null,null,null,null,null,null,null,null,null,null,null,null,null,null,null,null,null,null,null,null,null,null,null,null,null,null,null,null,null,null,null,null,null,"税抜金額",null,null,null,null,"消費税額"]
[]
[null,{"$f":"IF(B75=\"\",\"\",B75)","v":""},null,null,null,{"$f":"IF(F75=\"\",\"\",F75)","v":""},null,null,null,null,null,null,null,null,null,{"$f":"IF(P75=\"\",\"\",P75)","v":""},null,null,null,null,null,null,{"$f":"IF(W75=\"\",\"\",W75)","v":""},null,{"$f":"IF(Y75=\"\",\"\",Y75)","v":""},"","","","","","","",null,null,null,"10%対象額",null,null,null,{"$f":"AN75","v":0},null,null,null,null,{"$f":"AS75","v":0},null,null,null,null,{"$f":"IF(AX75=\"\",\"\",AX75)","v":""}]
[]
[]
[null,null,null,null,null,null,null,null,null,null,null,null,null,null,null,null,null,null,null,null,null,null,null,null,null,null,null,null,null,null,null,null,null,null,null,"8%対象額",null,null,null,{"$f":"AN78","v":0},null,null,null,null,{"$f":"AS78","v":0},null,null,null,null,{"$f":"IF(AX78=\"\",\"\",AX78)","v":""}]
[null,{"$f":"IF(B79=\"\",\"\",B79)","v":""},null,null,null,{"$f":"IF(F79=\"\",\"\",F79)","v":""},null,null,null,null,null,null,null,null,null,{"$f":"IF(P79=\"\",\"\",P79)","v":""},null,null,null,null,null,null,{"$f":"IF(W79=\"\",\"\",W79)","v":""},null,{"$f":"IF(Y79=\"\",\"\",Y79)","v":""},"","","","","","",""]
[]
[null,null,null,null,null,null,null,null,null,null,null,null,null,null,null,null,null,null,null,null,null,null,null,null,null,null,null,null,null,null,null,null,null,null,null,"8%軽対象額",null,null,null,{"$f":"AN81","v":0},null,null,null,null,{"$f":"AS81","v":0},null,null,null,null,{"$f":"IF(AX81=\"\",\"\",AX81)","v":""}]
[]
[null,{"$f":"IF(B83=\"\",\"\",B83)","v":""},null,null,null,{"$f":"IF(F83=\"\",\"\",F83)","v":""},null,null,null,null,null,null,null,null,null,{"$f":"IF(P83=\"\",\"\",P83)","v":""},null,null,null,null,null,null,{"$f":"IF(W83=\"\",\"\",W83)","v":""},null,{"$f":"IF(Y83=\"\",\"\",Y83)","v":""},"","","","","","",""]
[null,null,null,null,null,null,null,null,null,null,null,null,null,null,null,null,null,null,null,null,null,null,null,null,null,null,null,null,null,null,null,null,null,null,null,"非不課税",null,null,null,{"$f":"AN84","v":0}]
[]
[]
[null,"合　　　　　計",null,null,null,null,null,null,null,null,null,null,null,null,null,{"$f":"IF(P87=\"\",\"\",P87)","v":0},null,null,null,null,null,null,null,null,null,{"$f":"IF(Z87=\"\",\"\",Z87)","v":""},0,"","","","","",null,null,null,"合計額",null,null,null,{"$f":"AN87","v":0},null,null,null,null,{"$f":"AS87","v":0}]
[]
[]
[]
[null,null,null,null,null,null,null,null,null,null,null,null,null,null,null,null,null,null,null,null,null,null,null,null,null,null,null,null,null,null,null,null,null,null,null,null,null,null,null,null,null,null,null,null,null,null,null,null,null,null,null,null,{"$f":"ﾊﾞｰｼﾞｮﾝ","v":"Ver.3.1.3"}]

{"sheet":"細1-1","index":4,"n_rows":274,"n_cols":53,"rows_kept":274,"cut":false,"hidden":false,"merged":[[42,19,45,20],[42,21,45,36],[42,37,45,39],[30,21,33,36],[30,37,33,39],[1,19,4,32],[2,1,5,11],[8,41,11,54],[2,12,5,13],[3,49,5,51],[8,1,11,5],[8,6,11,11],[8,12,11,15],[8,16,11,35],[3,52,5,54],[8,37,11,40],[3,40,5,44],[3,45,5,48],[38,19,41,20],[38,21,41,36],[34,19,37,20],[34,21,37,36],[34,37,37,39],[34,40,37,42],[187,40,189,44],[187,45,189,48],[95,45,97,48],[42,40,45,42],[42,43,45,47],[42,48,45,54],[38,40,41,42],[89,45,90,45],[66,48,69,54],[54,48,57,54],[62,48,65,54],[78,43,81,47],[78,48,81,54],[82,37,85,47],[82,48,85,54],[95,52,97,54],[38,37,41,39],[106,40,109,42],[46,37,49,39],[46,40,49,42],[54,37,57,39],[54,40,57,42],[62,40,65,42],[70,40,73,42],[34,43,37,47],[34,48,37,54],[38,43,41,47],[38,48,41,54],[30,19,33,20],[30,40,33,42],[30,43,33,47],[22,43,25,47],[22,48,25,54],[26,17,29,18],[26,19,29,20],[26,21,29,36],[26,37,29,39],[26,40,29,42],[26,43,29,47],[26,48,29,54],[30,48,33,54],[14,43,17,47],[14,48,17,54],[18,37,21,39],[18,40,21,42],[18,43,21,47],[18,48,21,54],[14,40,17,42],[14,37,17,39],[22,37,25,39],[22,40,25,42],[58,40,61,42],[50,48,53,54],[58,43,61,47],[58,48,61,54],[46,43,49,47],[46,48,49,54],[50,40,53,42],[50,37,53,39],[78,37,81,39],[74,37,77,39],[70,43,73,47],[74,43,77,47],[74,48,77,54],[70,48,73,54],[74,40,77,42],[100,6,103,11],[100,12,103,15],[100,16,103,35],[100,37,103,40],[78,40,81,42],[100,41,103,54],[83,1,84,4],[85,1,90,4],[83,5,84,10],[83,11,84,16],[85,5,90,10],[85,11,90,16],[95,49,97,51],[87,48,90,54],[95,40,97,44],[89,46,90,47],[87,46,88,47],[74,21,77,36],[106,37,109,39],[106,1,109,5],[106,6,109,15],[106,17,109,20],[106,21,109,36],[54,21,57,36],[94,1,97,11],[94,12,97,13],[83,31,84,35],[85,17,90,25],[85,26,90,30],[85,31,90,35],[93,19,96,32],[70,17,73,18],[70,19,73,20],[70,21,73,36],[70,37,73,39],[74,17,77,18],[87,37,90,42],[78,19,81,20],[78,21,81,36],[74,19,77,20],[100,1,103,5],[181,45,182,45],[181,46,182,47],[166,37,169,39],[134,48,137,54],[14,21,17,36],[18,19,21,20],[18,21,21,36],[22,17,25,18],[22,19,25,20],[22,21,25,36],[18,17,21,18],[14,17,17,20],[83,17,84,25],[30,17,33,18],[83,26,84,30],[46,17,49,18],[46,19,49,20],[46,21,49,36],[54,17,57,18],[54,19,57,20],[50,17,53,18],[50,19,53,20],[50,21,53,36],[78,17,81,18],[198,1,201,5],[198,6,201,15],[186,1,189,11],[186,12,189,13],[192,1,195,5],[106,43,109,47],[106,48,109,54],[206,48,209,54],[114,21,117,36],[118,21,121,36],[118,37,121,39],[122,37,125,39],[114,37,117,39],[122,21,125,36],[122,40,125,42],[206,21,209,36],[206,37,209,39],[206,40,209,42],[130,40,133,42],[166,21,169,36],[198,37,201,39],[130,21,133,36],[206,43,209,47],[118,6,121,15],[210,21,213,36],[210,37,213,39],[210,40,213,42],[210,43,213,47],[198,43,201,47],[202,21,205,36],[202,37,205,39],[202,40,205,42],[202,43,205,47],[122,1,125,3],[122,4,125,5],[122,6,125,15],[122,17,125,18],[118,1,121,5],[118,17,121,18],[122,19,125,20],[206,1,209,5],[206,6,209,15],[206,17,209,18],[206,19,209,20],[166,19,169,20],[202,1,205,5],[202,6,205,15],[202,17,205,18],[202,19,205,20],[192,6,195,11],[192,12,195,15],[150,17,153,18],[150,19,153,20],[126,1,129,5],[126,6,129,15],[126,17,129,18],[126,19,129,20],[150,21,153,36],[198,40,201,42],[154,17,157,18],[154,19,157,20],[154,21,157,36],[158,17,161,18],[166,17,169,18],[198,17,201,20],[198,21,201,36],[170,17,173,18],[170,19,173,20],[170,21,173,36],[150,37,153,39],[150,40,153,42],[158,19,161,20],[158,21,161,36],[158,37,161,39],[158,40,161,42],[154,37,157,39],[154,40,157,42],[162,19,165,20],[174,37,177,47],[150,43,153,47],[158,43,161,47],[14,1,17,5],[18,1,21,5],[22,1,25,5],[14,6,17,15],[18,6,21,15],[22,6,25,15],[34,1,37,5],[26,6,29,15],[30,6,33,15],[34,6,37,15],[26,1,29,5],[30,1,33,3],[30,4,33,5],[42,17,45,18],[34,17,37,18],[38,17,41,18],[110,1,113,5],[110,6,113,15],[110,17,113,18],[118,19,121,20],[50,43,53,47],[66,43,69,47],[62,17,65,18],[62,19,65,20],[54,43,57,47],[58,17,61,18],[58,19,61,20],[58,21,61,36],[58,37,61,39],[62,43,65,47],[62,21,65,36],[62,37,65,39],[66,17,69,18],[66,19,69,20],[66,21,69,36],[66,37,69,39],[66,40,69,42],[110,21,113,36],[110,37,113,39],[110,40,113,42],[110,43,113,47],[110,48,113,54],[110,19,113,20],[114,40,117,42],[114,43,117,47],[114,1,117,5],[114,6,117,15],[114,17,117,18],[114,19,117,20],[130,17,133,18],[130,19,133,20],[126,21,129,36],[126,37,129,39],[126,40,129,42],[126,43,129,47],[130,43,133,47],[126,48,129,54],[130,48,133,54],[130,37,133,39],[142,17,145,18],[142,19,145,20],[142,21,145,36],[142,37,145,39],[134,40,137,42],[134,43,137,47],[134,21,137,36],[134,37,137,39],[146,17,149,18],[146,19,149,20],[146,21,149,36],[146,37,149,39],[146,40,149,42],[146,43,149,47],[142,40,145,42],[142,43,145,47],[138,17,141,18],[138,19,141,20],[138,21,141,36],[138,37,141,39],[138,40,141,42],[138,43,141,47],[134,17,137,18],[134,19,137,20],[210,1,213,5],[210,6,213,15],[210,17,213,18],[210,19,213,20],[162,21,165,36],[162,37,165,39],[162,40,165,42],[162,43,165,47],[162,48,165,54],[192,41,195,54],[179,48,182,54],[185,19,188,32],[166,40,169,42],[166,43,169,47],[166,48,169,54],[170,37,173,39],[170,40,173,42],[170,43,173,47],[174,48,177,54],[192,16,195,35],[192,37,195,40],[187,49,189,51],[187,52,189,54],[162,17,165,18],[214,1,217,3],[214,4,217,5],[214,6,217,15],[214,17,217,18],[214,19,217,20],[214,21,217,36],[214,37,217,39],[214,40,217,42],[214,43,217,47],[218,1,221,5],[218,6,221,15],[218,17,221,18],[218,19,221,20],[218,21,221,36],[218,37,221,39],[218,40,221,42],[218,43,221,47],[218,48,221,54],[222,17,225,18],[222,19,225,20],[222,21,225,36],[222,37,225,39],[222,40,225,42],[222,43,225,47],[222,48,225,54],[226,48,229,54],[230,17,233,18],[230,19,233,20],[230,21,233,36],[230,37,233,39],[230,40,233,42],[230,43,233,47],[230,48,233,54],[226,17,229,18],[238,17,241,18],[238,19,241,20],[238,21,241,36],[234,48,237,54],[226,19,229,20],[234,17,237,18],[234,19,237,20],[234,21,237,36],[234,37,237,39],[226,40,229,42],[238,37,241,39],[238,40,241,42],[238,43,241,47],[226,43,229,47],[226,21,229,36],[226,37,229,39],[234,40,237,42],[234,43,237,47],[238,48,241,54],[246,17,249,18],[246,19,249,20],[246,21,249,36],[246,37,249,39],[246,40,249,42],[250,48,253,54],[246,43,249,47],[246,48,249,54],[242,17,245,18],[242,19,245,20],[242,21,245,36],[242,37,245,39],[242,40,245,42],[242,43,245,47],[242,48,245,54],[262,17,265,18],[262,19,265,20],[262,21,265,36],[262,37,265,39],[250,40,253,42],[250,43,253,47],[258,17,261,18],[258,19,261,20],[258,21,261,36],[258,37,261,39],[258,40,261,42],[254,40,257,42],[254,43,257,47],[254,17,257,18],[254,19,257,20],[254,21,257,36],[254,37,257,39],[250,17,253,18],[250,19,253,20],[250,21,253,36],[250,37,253,39],[271,48,274,54],[262,40,265,42],[262,43,265,47],[262,48,265,54],[266,37,269,47],[266,48,269,54],[258,43,261,47],[258,48,261,54],[254,48,257,54],[271,37,274,42],[271,43,272,45],[273,43,274,44],[273,45,274,45],[273,46,274,47],[271,46,272,47],[210,48,213,54],[214,48,217,54],[114,48,117,54],[122,43,125,47],[122,48,125,54],[118,48,121,54],[118,40,121,42],[118,43,121,47],[87,43,88,45],[89,43,90,44],[138,48,141,54],[198,48,201,54],[202,48,205,54],[154,43,157,47],[154,48,157,54],[150,48,153,54],[142,48,145,54],[146,48,149,54],[170,48,173,54],[158,48,161,54],[179,37,182,42],[179,43,180,45],[179,46,180,47],[181,43,182,44]]}
[]
[null,null,null,null,null,null,null,null,null,null,null,null,null,null,null,null,null,null,null,"請求書明細書 (正)"]
[null,"株 式 会 社 種 村 建 設",null,null,null,null,null,null,null,null,null,null,"御中"]
[null,null,null,null,null,null,null,null,null,null,null,null,null,null,null,null,null,null,null,null,null,null,null,null,null,null,null,null,null,null,null,null,null,null,null,null,null,null,null,null,"請求年月日",null,null,null,null,{"$f":"IF(年=\"\",\"\",年)","v":""},null,null,null,{"$f":"IF(月=\"\",\"\",月)","v":""},null,null,{"$f":"IF(日=\"\",\"\",日)","v":""}]
[]
[]
[]
[]
[null,"工事番号",null,null,null,null,null,null,null,null,null,null,"工事名",null,null,null,null,null,null,null,null,null,null,null,null,null,null,null,null,null,null,null,null,null,null,null,null,"業者名",null,null,null,{"$f":"IF(社名=\"\",\"\",社名)","v":""}]
[]
[]
[]
[]
[]
[null,"注文番号",null,null,null,null,null,null,null,null,null,null,null,null,null,null,null,"月　日",null,null,null,"品　名・内　訳",null,null,null,null,null,null,null,null,null,null,null,null,null,null,null,"数 量",null,null,"単位",null,null,"単価",null,null,null,null,{"$f":"表紙①!$P$35","v":"金額(税抜)"}]
[]
[]
[]
[null,"契約金額",null,null,null,null,null,null,null,null,null,null,null,null,null,null,null,null,null,null,null,null,null,null,null,null,null,null,null,null,null,null,null,null,null,null,null,null,null,null,null,null,null,null,null,null,null,null,{"$f":"IF(V19=\"\",\"\",ROUND(AL19*AR19,0))","v":""}]
[]
[]
[]
[null,"増減額",null,null,null,null,null,null,null,null,null,null,null,null,null,null,null,null,null,null,null,null,null,null,null,null,null,null,null,null,null,null,null,null,null,null,null,null,null,null,null,null,null,null,null,null,null,null,{"$f":"IF(V23=\"\",\"\",ROUND(AL23*AR23,0))","v":""}]
[]
[]
[]
[null,"前回までの\n請求額",null,null,null,null,null,null,null,null,null,null,null,null,null,null,null,null,null,null,null,null,null,null,null,null,null,null,null,null,null,null,null,null,null,null,null,null,null,null,null,null,null,null,null,null,null,null,{"$f":"IF(V27=\"\",\"\",ROUND(AL27*AR27,0))","v":""}]
[]
[]
[]
[null,"今回\n請求額",null,null,null,null,null,null,null,null,null,null,null,null,null,null,null,null,null,null,null,null,null,null,null,null,null,null,null,null,null,null,null,null,null,null,null,null,null,null,null,null,null,null,null,null,null,null,{"$f":"IF(V31=\"\",\"\",ROUND(AL31*AR31,0))","v":""}]
[]
[]
[]
[null,"差引残高",null,null,null,null,{"$f":"IF(G19=\"\",\"\",G19+G23-G27-G31)","v":""},null,null,null,null,null,null,null,null,null,null,null,null,null,null,null,null,null,null,null,null,null,null,null,null,null,null,null,null,null,null,null,null,null,null,null,null,null,null,null,null,null,{"$f":"IF(V35=\"\",\"\",ROUND(AL35*AR35,0))","v":""}]
[]
[]
[]
[null,null,null,null,null,null,null,null,null,null,null,null,null,null,null,null,null,null,null,null,null,null,null,null,null,null,null,null,null,null,null,null,null,null,null,null,null,null,null,null,null,null,null,null,null,null,null,null,{"$f":"IF(V39=\"\",\"\",ROUND(AL39*AR39,0))","v":""}]
[]
[]
[]
[null,null,null,null,null,null,null,null,null,null,null,null,null,null,null,null,null,null,null,null,null,null,null,null,null,null,null,null,null,null,null,null,null,null,null,null,null,null,null,null,null,null,null,null,null,null,null,null,{"$f":"IF(V43=\"\",\"\",ROUND(AL43*AR43,0))","v":""}]
[]
[]
[]
[null,null,null,null,null,null,null,null,null,null,null,null,null,null,null,null,null,null,null,null,null,null,null,null,null,null,null,null,null,null,null,null,null,null,null,null,null,null,null,null,null,null,null,null,null,null,null,null,{"$f":"IF(V47=\"\",\"\",ROUND(AL47*AR47,0))","v":""}]
[]
[]
[]
[null,null,null,null,null,null,null,null,null,null,null,null,null,null,null,null,null,null,null,null,null,null,null,null,null,null,null,null,null,null,null,null,null,null,null,null,null,null,null,null,null,null,null,null,null,null,null,null,{"$f":"IF(V51=\"\",\"\",ROUND(AL51*AR51,0))","v":""}]
[]
[]
[]
[null,null,null,null,null,null,null,null,null,null,null,null,null,null,null,null,null,null,null,null,null,null,null,null,null,null,null,null,null,null,null,null,null,null,null,null,null,null,null,null,null,null,null,null,null,null,null,null,{"$f":"IF(V55=\"\",\"\",ROUND(AL55*AR55,0))","v":""}]
[]
[]
[]
[null,null,null,null,null,null,null,null,null,null,null,null,null,null,null,null,null,null,null,null,null,null,null,null,null,null,null,null,null,null,null,null,null,null,null,null,null,null,null,null,null,null,null,null,null,null,null,null,{"$f":"IF(V59=\"\",\"\",ROUND(AL59*AR59,0))","v":""}]
[]
[]
[]
[null,null,null,null,null,null,null,null,null,null,null,null,null,null,null,null,null,null,null,null,null,null,null,null,null,null,null,null,null,null,null,null,null,null,null,null,null,null,null,null,null,null,null,null,null,null,null,null,{"$f":"IF(V63=\"\",\"\",ROUND(AL63*AR63,0))","v":""}]
[]
[]
[]
[null,null,null,null,null,null,null,null,null,null,null,null,null,null,null,null,null,null,null,null,null,null,null,null,null,null,null,null,null,null,null,null,null,null,null,null,null,null,null,null,null,null,null,null,null,null,null,null,{"$f":"IF(V67=\"\",\"\",ROUND(AL67*AR67,0))","v":""}]
[]
[]
[]
[null,null,null,null,null,null,null,null,null,null,null,null,null,null,null,null,null,null,null,null,null,null,null,null,null,null,null,null,null,null,null,null,null,null,null,null,null,null,null,null,null,null,null,null,null,null,null,null,{"$f":"IF(V71=\"\",\"\",ROUND(AL71*AR71,0))","v":""}]
[]
[]
[]
[null,null,null,null,null,null,null,null,null,null,null,null,null,null,null,null,null,null,null,null,null,null,null,null,null,null,null,null,null,null,null,null,null,null,null,null,null,null,null,null,null,null,null,null,null,null,null,null,{"$f":"IF(V75=\"\",\"\",ROUND(AL75*AR75,0))","v":""}]
[]
[]
[]
[null,null,null,null,null,null,null,null,null,null,null,null,null,null,null,null,null,null,null,null,null,null,null,null,null,null,null,null,null,null,null,null,null,null,null,null,null,null,null,null,null,null,null,null,null,null,null,null,{"$f":"IF(V79=\"\",\"\",ROUND(AL79*AR79,0))","v":""}]
[]
[]
[]
[null,null,null,null,null,null,null,null,null,null,null,null,null,null,null,null,null,null,null,null,null,null,null,null,null,null,null,null,null,null,null,null,null,null,null,null,null,"金額(税抜)",null,null,null,null,null,null,null,null,null,null,{"$f":"IF(AW19=\"\",\"\",SUM(AW19:AW79))","v":""}]
[null,"社長",null,null,null,"専務",null,null,null,null,null,"常務",null,null,null,null,null,"部長･工場長",null,null,null,null,null,null,null,null,"担当者",null,null,null,null,"受付"]
[]
[]
[]
[null,null,null,null,null,null,null,null,null,null,null,null,null,null,null,null,null,null,null,null,null,null,null,null,null,null,null,null,null,null,null,null,null,null,null,null,null,"消費税",null,null,null,null,null,"税率",null,null,"税調",null,{"$f":"IF(AW83=\"\",\"\",IF(AR90=\"\",\"\",IF(AR90=8.1,ROUND(AW83*8/100,0)+AU90,ROUND(AW83*AR90/100,0)+AU90)))","v":""}]
[]
[null,null,null,null,null,null,null,null,null,null,null,null,null,null,null,null,null,null,null,null,null,null,null,null,null,null,null,null,null,null,null,null,null,null,null,null,null,null,null,null,null,null,null,null,null,{"$f":"IF(AR90=\"\",\"\",IF(AR90=8.1,\"旧\",IF(AR90=8,\"軽\",IF(AR90=0,\"非\",\"\"))))","v":""}]
[]
[]
[]
[null,null,null,null,null,null,null,null,null,null,null,null,null,null,null,null,null,null,null,"請求明細書 (現場控)"]
[null,"株 式 会 社 種 村 建 設",null,null,null,null,null,null,null,null,null,null,"御中"]
[null,null,null,null,null,null,null,null,null,null,null,null,null,null,null,null,null,null,null,null,null,null,null,null,null,null,null,null,null,null,null,null,null,null,null,null,null,null,null,null,"請求年月日",null,null,null,null,{"$f":"IF(AT4=\"\",\"\",AT4)","v":""},null,null,null,{"$f":"IF(AX4=\"\",\"\",AX4)","v":""},null,null,{"$f":"IF(BA4=\"\",\"\",BA4)","v":""}]
[]
[]
[]
[]
[null,"工事番号",null,null,null,null,{"$f":"IF(G9=\"\",\"\",G9)","v":""},null,null,null,null,null,"工事名",null,null,null,{"$f":"IF(Q9=\"\",\"\",Q9)","v":""},null,null,null,null,null,null,null,null,null,null,null,null,null,null,null,null,null,null,null,null,"業者名",null,null,null,{"$f":"IF(AP9=\"\",\"\",AP9)","v":""}]
[]
[]
[]
[]
[]
[null,"注文番号",null,null,null,null,{"$f":"IF(G15=\"\",\"\",G15)","v":""},null,null,null,null,null,null,null,null,null,null,"月　日",null,null,null,"品　名・内　訳",null,null,null,null,null,null,null,null,null,null,null,null,null,null,null,"数 量",null,null,"単位",null,null,"単価",null,null,null,null,{"$f":"表紙①!$P$35","v":"金額(税抜)"}]
[]
[]
[]
[null,"契約金額",null,null,null,null,{"$f":"IF(G19=\"\",\"\",G19)","v":""},null,null,null,null,null,null,null,null,null,null,{"$f":"IF(R19=\"\",\"\",R19)","v":""},null,{"$f":"IF(T19=\"\",\"\",T19)","v":""},null,{"$f":"IF(V19=\"\",\"\",V19)","v":""},null,{"$f":"IF(X19=\"\",\"\",X19)","v":""},null,{"$f":"IF(Z19=\"\",\"\",Z19)","v":""},null,{"$f":"IF(AB19=\"\",\"\",AB19)","v":""},null,{"$f":"IF(AD19=\"\",\"\",AD19)","v":""},null,{"$f":"IF(AF19=\"\",\"\",AF19)","v":""},null,{"$f":"IF(AH19=\"\",\"\",AH19)","v":""},null,{"$f":"IF(AJ19=\"\",\"\",AJ19)","v":""},null,{"$f":"IF(AL19=\"\",\"\",AL19)","v":""},null,null,{"$f":"IF(AO19=\"\",\"\",AO19)","v":""},null,null,{"$f":"IF(AR19=\"\",\"\",AR19)","v":""},null,null,null,null,{"$f":"IF(AW19=\"\",\"\",AW19)","v":""}]
[]
[]
[]
[null,"増減額",null,null,null,null,{"$f":"IF(G23=\"\",\"\",G23)","v":""},null,null,null,null,null,null,null,null,null,null,{"$f":"IF(R23=\"\",\"\",R23)","v":""},null,{"$f":"IF(T23=\"\",\"\",T23)","v":""},null,{"$f":"IF(V23=\"\",\"\",V23)","v":""},null,{"$f":"IF(X23=\"\",\"\",X23)","v":""},null,{"$f":"IF(Z23=\"\",\"\",Z23)","v":""},null,{"$f":"IF(AB23=\"\",\"\",AB23)","v":""},null,{"$f":"IF(AD23=\"\",\"\",AD23)","v":""},null,{"$f":"IF(AF23=\"\",\"\",AF23)","v":""},null,{"$f":"IF(AH23=\"\",\"\",AH23)","v":""},null,{"$f":"IF(AJ23=\"\",\"\",AJ23)","v":""},null,{"$f":"IF(AL23=\"\",\"\",AL23)","v":""},null,null,{"$f":"IF(AO23=\"\",\"\",AO23)","v":""},null,null,{"$f":"IF(AR23=\"\",\"\",AR23)","v":""},null,null,null,null,{"$f":"IF(AW23=\"\",\"\",AW23)","v":""}]
[]
[]
[]
[null,"前回までの\n請求額",null,null,null,null,{"$f":"IF(G27=\"\",\"\",G27)","v":""},null,null,null,null,null,null,null,null,null,null,{"$f":"IF(R27=\"\",\"\",R27)","v":""},null,{"$f":"IF(T27=\"\",\"\",T27)","v":""},null,{"$f":"IF(V27=\"\",\"\",V27)","v":""},null,{"$f":"IF(X27=\"\",\"\",X27)","v":""},null,{"$f":"IF(Z27=\"\",\"\",Z27)","v":""},null,{"$f":"IF(AB27=\"\",\"\",AB27)","v":""},null,{"$f":"IF(AD27=\"\",\"\",AD27)","v":""},null,{"$f":"IF(AF27=\"\",\"\",AF27)","v":""},null,{"$f":"IF(AH27=\"\",\"\",AH27)","v":""},null,{"$f":"IF(AJ27=\"\",\"\",AJ27)","v":""},null,{"$f":"IF(AL27=\"\",\"\",AL27)","v":""},null,null,{"$f":"IF(AO27=\"\",\"\",AO27)","v":""},null,null,{"$f":"IF(AR27=\"\",\"\",AR27)","v":""},null,null,null,null,{"$f":"IF(AW27=\"\",\"\",AW27)","v":""}]
[]
[]
[]
[null,"今回\n請求額",null,null,{"$f":"IF(E31=\"\",\"\",E31)","v":""},null,{"$f":"IF(G31=\"\",\"\",G31)","v":""},null,null,null,null,null,null,null,null,null,null,{"$f":"IF(R31=\"\",\"\",R31)","v":""},null,{"$f":"IF(T31=\"\",\"\",T31)","v":""},null,{"$f":"IF(V31=\"\",\"\",V31)","v":""},null,{"$f":"IF(X31=\"\",\"\",X31)","v":""},null,{"$f":"IF(Z31=\"\",\"\",Z31)","v":""},null,{"$f":"IF(AB31=\"\",\"\",AB31)","v":""},null,{"$f":"IF(AD31=\"\",\"\",AD31)","v":""},null,{"$f":"IF(AF31=\"\",\"\",AF31)","v":""},null,{"$f":"IF(AH31=\"\",\"\",AH31)","v":""},null,{"$f":"IF(AJ31=\"\",\"\",AJ31)","v":""},null,{"$f":"IF(AL31=\"\",\"\",AL31)","v":""},null,null,{"$f":"IF(AO31=\"\",\"\",AO31)","v":""},null,null,{"$f":"IF(AR31=\"\",\"\",AR31)","v":""},null,null,null,null,{"$f":"IF(AW31=\"\",\"\",AW31)","v":""}]
[]
[]
[]
[null,"差引残高",null,null,null,null,{"$f":"IF(G111=\"\",\"\",G111+G115-G119-G123)","v":""},null,null,null,null,null,null,null,null,null,null,{"$f":"IF(R35=\"\",\"\",R35)","v":""},null,{"$f":"IF(T35=\"\",\"\",T35)","v":""},null,{"$f":"IF(V35=\"\",\"\",V35)","v":""},null,{"$f":"IF(X35=\"\",\"\",X35)","v":""},null,{"$f":"IF(Z35=\"\",\"\",Z35)","v":""},null,{"$f":"IF(AB35=\"\",\"\",AB35)","v":""},null,{"$f":"IF(AD35=\"\",\"\",AD35)","v":""},null,{"$f":"IF(AF35=\"\",\"\",AF35)","v":""},null,{"$f":"IF(AH35=\"\",\"\",AH35)","v":""},null,{"$f":"IF(AJ35=\"\",\"\",AJ35)","v":""},null,{"$f":"IF(AL35=\"\",\"\",AL35)","v":""},null,null,{"$f":"IF(AO35=\"\",\"\",AO35)","v":""},null,null,{"$f":"IF(AR35=\"\",\"\",AR35)","v":""},null,null,null,null,{"$f":"IF(AW35=\"\",\"\",AW35)","v":""}]
[]
[]
[]
[null,null,null,null,null,null,null,null,null,null,null,null,null,null,null,null,null,{"$f":"IF(R39=\"\",\"\",R39)","v":""},null,{"$f":"IF(T39=\"\",\"\",T39)","v":""},null,{"$f":"IF(V39=\"\",\"\",V39)","v":""},null,{"$f":"IF(X39=\"\",\"\",X39)","v":""},null,{"$f":"IF(Z39=\"\",\"\",Z39)","v":""},null,{"$f":"IF(AB39=\"\",\"\",AB39)","v":""},null,{"$f":"IF(AD39=\"\",\"\",AD39)","v":""},null,{"$f":"IF(AF39=\"\",\"\",AF39)","v":""},null,{"$f":"IF(AH39=\"\",\"\",AH39)","v":""},null,{"$f":"IF(AJ39=\"\",\"\",AJ39)","v":""},null,{"$f":"IF(AL39=\"\",\"\",AL39)","v":""},null,null,{"$f":"IF(AO39=\"\",\"\",AO39)","v":""},null,null,{"$f":"IF(AR39=\"\",\"\",AR39)","v":""},null,null,null,null,{"$f":"IF(AW39=\"\",\"\",AW39)","v":""}]
[]
[]
[]
[null,null,null,null,null,null,null,null,null,null,null,null,null,null,null,null,null,{"$f":"IF(R43=\"\",\"\",R43)","v":""},null,{"$f":"IF(T43=\"\",\"\",T43)","v":""},null,{"$f":"IF(V43=\"\",\"\",V43)","v":""},null,{"$f":"IF(X43=\"\",\"\",X43)","v":""},null,{"$f":"IF(Z43=\"\",\"\",Z43)","v":""},null,{"$f":"IF(AB43=\"\",\"\",AB43)","v":""},null,{"$f":"IF(AD43=\"\",\"\",AD43)","v":""},null,{"$f":"IF(AF43=\"\",\"\",AF43)","v":""},null,{"$f":"IF(AH43=\"\",\"\",AH43)","v":""},null,{"$f":"IF(AJ43=\"\",\"\",AJ43)","v":""},null,{"$f":"IF(AL43=\"\",\"\",AL43)","v":""},null,null,{"$f":"IF(AO43=\"\",\"\",AO43)","v":""},null,null,{"$f":"IF(AR43=\"\",\"\",AR43)","v":""},null,null,null,null,{"$f":"IF(AW43=\"\",\"\",AW43)","v":""}]
[]
[]
[]
[null,null,null,null,null,null,null,null,null,null,null,null,null,null,null,null,null,{"$f":"IF(R47=\"\",\"\",R47)","v":""},null,{"$f":"IF(T47=\"\",\"\",T47)","v":""},null,{"$f":"IF(V47=\"\",\"\",V47)","v":""},null,{"$f":"IF(X47=\"\",\"\",X47)","v":""},null,{"$f":"IF(Z47=\"\",\"\",Z47)","v":""},null,{"$f":"IF(AB47=\"\",\"\",AB47)","v":""},null,{"$f":"IF(AD47=\"\",\"\",AD47)","v":""},null,{"$f":"IF(AF47=\"\",\"\",AF47)","v":""},null,{"$f":"IF(AH47=\"\",\"\",AH47)","v":""},null,{"$f":"IF(AJ47=\"\",\"\",AJ47)","v":""},null,{"$f":"IF(AL47=\"\",\"\",AL47)","v":""},null,null,{"$f":"IF(AO47=\"\",\"\",AO47)","v":""},null,null,{"$f":"IF(AR47=\"\",\"\",AR47)","v":""},null,null,null,null,{"$f":"IF(AW47=\"\",\"\",AW47)","v":""}]
[]
[]
[]
[null,null,null,null,null,null,null,null,null,null,null,null,null,null,null,null,null,{"$f":"IF(R51=\"\",\"\",R51)","v":""},null,{"$f":"IF(T51=\"\",\"\",T51)","v":""},null,{"$f":"IF(V51=\"\",\"\",V51)","v":""},null,{"$f":"IF(X51=\"\",\"\",X51)","v":""},null,{"$f":"IF(Z51=\"\",\"\",Z51)","v":""},null,{"$f":"IF(AB51=\"\",\"\",AB51)","v":""},null,{"$f":"IF(AD51=\"\",\"\",AD51)","v":""},null,{"$f":"IF(AF51=\"\",\"\",AF51)","v":""},null,{"$f":"IF(AH51=\"\",\"\",AH51)","v":""},null,{"$f":"IF(AJ51=\"\",\"\",AJ51)","v":""},null,{"$f":"IF(AL51=\"\",\"\",AL51)","v":""},null,null,{"$f":"IF(AO51=\"\",\"\",AO51)","v":""},null,null,{"$f":"IF(AR51=\"\",\"\",AR51)","v":""},null,null,null,null,{"$f":"IF(AW51=\"\",\"\",AW51)","v":""}]
[]
[]
[]
[null,null,null,null,null,null,null,null,null,null,null,null,null,null,null,null,null,{"$f":"IF(R55=\"\",\"\",R55)","v":""},null,{"$f":"IF(T55=\"\",\"\",T55)","v":""},null,{"$f":"IF(V55=\"\",\"\",V55)","v":""},null,{"$f":"IF(X55=\"\",\"\",X55)","v":""},null,{"$f":"IF(Z55=\"\",\"\",Z55)","v":""},null,{"$f":"IF(AB55=\"\",\"\",AB55)","v":""},null,{"$f":"IF(AD55=\"\",\"\",AD55)","v":""},null,{"$f":"IF(AF55=\"\",\"\",AF55)","v":""},null,{"$f":"IF(AH55=\"\",\"\",AH55)","v":""},null,{"$f":"IF(AJ55=\"\",\"\",AJ55)","v":""},null,{"$f":"IF(AL55=\"\",\"\",AL55)","v":""},null,null,{"$f":"IF(AO55=\"\",\"\",AO55)","v":""},null,null,{"$f":"IF(AR55=\"\",\"\",AR55)","v":""},null,null,null,null,{"$f":"IF(AW55=\"\",\"\",AW55)","v":""}]
[]
[]
[]
[null,null,null,null,null,null,null,null,null,null,null,null,null,null,null,null,null,{"$f":"IF(R59=\"\",\"\",R59)","v":""},null,{"$f":"IF(T59=\"\",\"\",T59)","v":""},null,{"$f":"IF(V59=\"\",\"\",V59)","v":""},null,{"$f":"IF(X59=\"\",\"\",X59)","v":""},null,{"$f":"IF(Z59=\"\",\"\",Z59)","v":""},null,{"$f":"IF(AB59=\"\",\"\",AB59)","v":""},null,{"$f":"IF(AD59=\"\",\"\",AD59)","v":""},null,{"$f":"IF(AF59=\"\",\"\",AF59)","v":""},null,{"$f":"IF(AH59=\"\",\"\",AH59)","v":""},null,{"$f":"IF(AJ59=\"\",\"\",AJ59)","v":""},null,{"$f":"IF(AL59=\"\",\"\",AL59)","v":""},null,null,{"$f":"IF(AO59=\"\",\"\",AO59)","v":""},null,null,{"$f":"IF(AR59=\"\",\"\",AR59)","v":""},null,null,null,null,{"$f":"IF(AW59=\"\",\"\",AW59)","v":""}]
[]
[]
[]
[null,null,null,null,null,null,null,null,null,null,null,null,null,null,null,null,null,{"$f":"IF(R63=\"\",\"\",R63)","v":""},null,{"$f":"IF(T63=\"\",\"\",T63)","v":""},null,{"$f":"IF(V63=\"\",\"\",V63)","v":""},null,{"$f":"IF(X63=\"\",\"\",X63)","v":""},null,{"$f":"IF(Z63=\"\",\"\",Z63)","v":""},null,{"$f":"IF(AB63=\"\",\"\",AB63)","v":""},null,{"$f":"IF(AD63=\"\",\"\",AD63)","v":""},null,{"$f":"IF(AF63=\"\",\"\",AF63)","v":""},null,{"$f":"IF(AH63=\"\",\"\",AH63)","v":""},null,{"$f":"IF(AJ63=\"\",\"\",AJ63)","v":""},null,{"$f":"IF(AL63=\"\",\"\",AL63)","v":""},null,null,{"$f":"IF(AO63=\"\",\"\",AO63)","v":""},null,null,{"$f":"IF(AR63=\"\",\"\",AR63)","v":""},null,null,null,null,{"$f":"IF(AW63=\"\",\"\",AW63)","v":""}]
[]
[]
[]
[null,null,null,null,null,null,null,null,null,null,null,null,null,null,null,null,null,{"$f":"IF(R67=\"\",\"\",R67)","v":""},null,{"$f":"IF(T67=\"\",\"\",T67)","v":""},null,{"$f":"IF(V67=\"\",\"\",V67)","v":""},null,{"$f":"IF(X67=\"\",\"\",X67)","v":""},null,{"$f":"IF(Z67=\"\",\"\",Z67)","v":""},null,{"$f":"IF(AB67=\"\",\"\",AB67)","v":""},null,{"$f":"IF(AD67=\"\",\"\",AD67)","v":""},null,{"$f":"IF(AF67=\"\",\"\",AF67)","v":""},null,{"$f":"IF(AH67=\"\",\"\",AH67)","v":""},null,{"$f":"IF(AJ67=\"\",\"\",AJ67)","v":""},null,{"$f":"IF(AL67=\"\",\"\",AL67)","v":""},null,null,{"$f":"IF(AO67=\"\",\"\",AO67)","v":""},null,null,{"$f":"IF(AR67=\"\",\"\",AR67)","v":""},null,null,null,null,{"$f":"IF(AW67=\"\",\"\",AW67)","v":""}]
[]
[]
[]
[null,null,null,null,null,null,null,null,null,null,null,null,null,null,null,null,null,{"$f":"IF(R71=\"\",\"\",R71)","v":""},null,{"$f":"IF(T71=\"\",\"\",T71)","v":""},null,{"$f":"IF(V71=\"\",\"\",V71)","v":""},null,{"$f":"IF(X71=\"\",\"\",X71)","v":""},null,{"$f":"IF(Z71=\"\",\"\",Z71)","v":""},null,{"$f":"IF(AB71=\"\",\"\",AB71)","v":""},null,{"$f":"IF(AD71=\"\",\"\",AD71)","v":""},null,{"$f":"IF(AF71=\"\",\"\",AF71)","v":""},null,{"$f":"IF(AH71=\"\",\"\",AH71)","v":""},null,{"$f":"IF(AJ71=\"\",\"\",AJ71)","v":""},null,{"$f":"IF(AL71=\"\",\"\",AL71)","v":""},null,null,{"$f":"IF(AO71=\"\",\"\",AO71)","v":""},null,null,{"$f":"IF(AR71=\"\",\"\",AR71)","v":""},null,null,null,null,{"$f":"IF(AW71=\"\",\"\",AW71)","v":""}]
[]
[]
[]
[null,null,null,null,null,null,null,null,null,null,null,null,null,null,null,null,null,{"$f":"IF(R75=\"\",\"\",R75)","v":""},null,{"$f":"IF(T75=\"\",\"\",T75)","v":""},null,{"$f":"IF(V75=\"\",\"\",V75)","v":""},null,{"$f":"IF(X75=\"\",\"\",X75)","v":""},null,{"$f":"IF(Z75=\"\",\"\",Z75)","v":""},null,{"$f":"IF(AB75=\"\",\"\",AB75)","v":""},null,{"$f":"IF(AD75=\"\",\"\",AD75)","v":""},null,{"$f":"IF(AF75=\"\",\"\",AF75)","v":""},null,{"$f":"IF(AH75=\"\",\"\",AH75)","v":""},null,{"$f":"IF(AJ75=\"\",\"\",AJ75)","v":""},null,{"$f":"IF(AL75=\"\",\"\",AL75)","v":""},null,null,{"$f":"IF(AO75=\"\",\"\",AO75)","v":""},null,null,{"$f":"IF(AR75=\"\",\"\",AR75)","v":""},null,null,null,null,{"$f":"IF(AW75=\"\",\"\",AW75)","v":""}]
[]
[]
[]
[null,null,null,null,null,null,null,null,null,null,null,null,null,null,null,null,null,{"$f":"IF(R79=\"\",\"\",R79)","v":""},null,{"$f":"IF(T79=\"\",\"\",T79)","v":""},null,{"$f":"IF(V79=\"\",\"\",V79)","v":""},null,{"$f":"IF(X79=\"\",\"\",X79)","v":""},null,{"$f":"IF(Z79=\"\",\"\",Z79)","v":""},null,{"$f":"IF(AB79=\"\",\"\",AB79)","v":""},null,{"$f":"IF(AD79=\"\",\"\",AD79)","v":""},null,{"$f":"IF(AF79=\"\",\"\",AF79)","v":""},null,{"$f":"IF(AH79=\"\",\"\",AH79)","v":""},null,{"$f":"IF(AJ79=\"\",\"\",AJ79)","v":""},null,{"$f":"IF(AL79=\"\",\"\",AL79)","v":""},null,null,{"$f":"IF(AO79=\"\",\"\",AO79)","v":""},null,null,{"$f":"IF(AR79=\"\",\"\",AR79)","v":""},null,null,null,null,{"$f":"IF(AW79=\"\",\"\",AW79)","v":""}]
[]
[]
[]
[null,null,null,null,null,null,null,null,null,null,null,null,null,null,null,null,null,null,null,null,null,null,null,null,null,null,null,null,null,null,null,null,null,null,null,null,null,{"$f":"AL83","v":"金額(税抜)"},null,null,null,null,null,null,null,null,null,null,{"$f":"AW83","v":""}]
[]
[]
[]
[]
[null,null,null,null,null,null,null,null,null,null,null,null,null,null,null,null,null,null,null,null,null,null,null,null,null,null,null,null,null,null,null,null,null,null,null,null,null,{"$f":"AL88","v":"消費税"},null,null,null,null,null,"税率",null,null,"税調",null,{"$f":"AW88","v":""}]
[]
[null,null,null,null,null,null,null,null,null,null,null,null,null,null,null,null,null,null,null,null,null,null,null,null,null,null,null,null,null,null,null,null,null,null,null,null,null,null,null,null,null,null,null,{"$f":"AR90","v":0},null,{"$f":"AT90","v":""}]
[]
[]
[]
[null,null,null,null,null,null,null,null,null,null,null,null,null,null,null,null,null,null,null,"請求明細書 (貴社控)"]
[null,"株 式 会 社 種 村 建 設",null,null,null,null,null,null,null,null,null,null,"御中"]
[null,null,null,null,null,null,null,null,null,null,null,null,null,null,null,null,null,null,null,null,null,null,null,null,null,null,null,null,null,null,null,null,null,null,null,null,null,null,null,null,"請求年月日",null,null,null,null,{"$f":"IF(AT4=\"\",\"\",AT4)","v":""},null,null,null,{"$f":"IF(AX96=\"\",\"\",AX96)","v":""},null,null,{"$f":"IF(BA96=\"\",\"\",BA96)","v":""}]
[]
[]
[]
[]
[null,"工事番号",null,null,null,null,{"$f":"IF(G101=\"\",\"\",G101)","v":""},null,null,null,null,null,"工事名",null,null,null,{"$f":"IF(Q101=\"\",\"\",Q101)","v":""},null,null,null,null,null,null,null,null,null,null,null,null,null,null,null,null,null,null,null,null,"業者名",null,null,null,{"$f":"IF(AP101=\"\",\"\",AP101)","v":""}]
[]
[]
[]
[]
[]
[null,"注文番号",null,null,null,null,{"$f":"IF(G107=\"\",\"\",G107)","v":""},null,null,null,null,null,null,null,null,null,null,"月　日",null,null,null,"品　名・内　訳",null,null,null,null,null,null,null,null,null,null,null,null,null,null,null,"数 量",null,null,"単位",null,null,"単価",null,null,null,null,{"$f":"表紙①!$P$35","v":"金額(税抜)"}]
[]
[]
[]
[null,"契約金額",null,null,null,null,{"$f":"IF(G111=\"\",\"\",G111)","v":""},null,null,null,null,null,null,null,null,null,null,{"$f":"IF(R111=\"\",\"\",R111)","v":""},null,{"$f":"IF(T111=\"\",\"\",T111)","v":""},null,{"$f":"IF(V111=\"\",\"\",V111)","v":""},null,{"$f":"IF(X111=\"\",\"\",X111)","v":""},null,{"$f":"IF(Z111=\"\",\"\",Z111)","v":""},null,{"$f":"IF(AB111=\"\",\"\",AB111)","v":""},null,{"$f":"IF(AD111=\"\",\"\",AD111)","v":""},null,{"$f":"IF(AF111=\"\",\"\",AF111)","v":""},null,{"$f":"IF(AH111=\"\",\"\",AH111)","v":""},null,{"$f":"IF(AJ111=\"\",\"\",AJ111)","v":""},null,{"$f":"IF(AL111=\"\",\"\",AL111)","v":""},null,null,{"$f":"IF(AO111=\"\",\"\",AO111)","v":""},null,null,{"$f":"IF(AR111=\"\",\"\",AR111)","v":""},null,null,null,null,{"$f":"IF(AW111=\"\",\"\",AW111)","v":""}]
[]
[]
[]
[null,"増減額",null,null,null,null,{"$f":"IF(G115=\"\",\"\",G115)","v":""},null,null,null,null,null,null,null,null,null,null,{"$f":"IF(R115=\"\",\"\",R115)","v":""},null,{"$f":"IF(T115=\"\",\"\",T115)","v":""},null,{"$f":"IF(V115=\"\",\"\",V115)","v":""},null,{"$f":"IF(X115=\"\",\"\",X115)","v":""},null,{"$f":"IF(Z115=\"\",\"\",Z115)","v":""},null,{"$f":"IF(AB115=\"\",\"\",AB115)","v":""},null,{"$f":"IF(AD115=\"\",\"\",AD115)","v":""},null,{"$f":"IF(AF115=\"\",\"\",AF115)","v":""},null,{"$f":"IF(AH115=\"\",\"\",AH115)","v":""},null,{"$f":"IF(AJ115=\"\",\"\",AJ115)","v":""},null,{"$f":"IF(AL115=\"\",\"\",AL115)","v":""},null,null,{"$f":"IF(AO115=\"\",\"\",AO115)","v":""},null,null,{"$f":"IF(AR115=\"\",\"\",AR115)","v":""},null,null,null,null,{"$f":"IF(AW115=\"\",\"\",AW115)","v":""}]
[]
[]
[]
[null,"前回までの\n請求額",null,null,null,null,{"$f":"IF(G119=\"\",\"\",G119)","v":""},null,null,null,null,null,null,null,null,null,null,{"$f":"IF(R119=\"\",\"\",R119)","v":""},null,{"$f":"IF(T119=\"\",\"\",T119)","v":""},null,{"$f":"IF(V119=\"\",\"\",V119)","v":""},null,{"$f":"IF(X119=\"\",\"\",X119)","v":""},null,{"$f":"IF(Z119=\"\",\"\",Z119)","v":""},null,{"$f":"IF(AB119=\"\",\"\",AB119)","v":""},null,{"$f":"IF(AD119=\"\",\"\",AD119)","v":""},null,{"$f":"IF(AF119=\"\",\"\",AF119)","v":""},null,{"$f":"IF(AH119=\"\",\"\",AH119)","v":""},null,{"$f":"IF(AJ119=\"\",\"\",AJ119)","v":""},null,{"$f":"IF(AL119=\"\",\"\",AL119)","v":""},null,null,{"$f":"IF(AO119=\"\",\"\",AO119)","v":""},null,null,{"$f":"IF(AR119=\"\",\"\",AR119)","v":""},null,null,null,null,{"$f":"IF(AW119=\"\",\"\",AW119)","v":""}]
[]
[]
[]
[null,"今回\n請求額",null,null,{"$f":"IF(E31=\"\",\"\",E31)","v":""},null,{"$f":"IF(G123=\"\",\"\",G123)","v":""},null,null,null,null,null,null,null,null,null,null,{"$f":"IF(R123=\"\",\"\",R123)","v":""},null,{"$f":"IF(T123=\"\",\"\",T123)","v":""},null,{"$f":"IF(V123=\"\",\"\",V123)","v":""},null,{"$f":"IF(X123=\"\",\"\",X123)","v":""},null,{"$f":"IF(Z123=\"\",\"\",Z123)","v":""},null,{"$f":"IF(AB123=\"\",\"\",AB123)","v":""},null,{"$f":"IF(AD123=\"\",\"\",AD123)","v":""},null,{"$f":"IF(AF123=\"\",\"\",AF123)","v":""},null,{"$f":"IF(AH123=\"\",\"\",AH123)","v":""},null,{"$f":"IF(AJ123=\"\",\"\",AJ123)","v":""},null,{"$f":"IF(AL123=\"\",\"\",AL123)","v":""},null,null,{"$f":"IF(AO123=\"\",\"\",AO123)","v":""},null,null,{"$f":"IF(AR123=\"\",\"\",AR123)","v":""},null,null,null,null,{"$f":"IF(AW123=\"\",\"\",AW123)","v":""}]
[]
[]
[]
[null,"差引残高",null,null,null,null,{"$f":"IF(G203=\"\",\"\",G203+G207-G211-G215)","v":""},null,null,null,null,null,null,null,null,null,null,{"$f":"IF(R127=\"\",\"\",R127)","v":""},null,{"$f":"IF(T127=\"\",\"\",T127)","v":""},null,{"$f":"IF(V127=\"\",\"\",V127)","v":""},null,{"$f":"IF(X127=\"\",\"\",X127)","v":""},null,{"$f":"IF(Z127=\"\",\"\",Z127)","v":""},null,{"$f":"IF(AB127=\"\",\"\",AB127)","v":""},null,{"$f":"IF(AD127=\"\",\"\",AD127)","v":""},null,{"$f":"IF(AF127=\"\",\"\",AF127)","v":""},null,{"$f":"IF(AH127=\"\",\"\",AH127)","v":""},null,{"$f":"IF(AJ127=\"\",\"\",AJ127)","v":""},null,{"$f":"IF(AL127=\"\",\"\",AL127)","v":""},null,null,{"$f":"IF(AO127=\"\",\"\",AO127)","v":""},null,null,{"$f":"IF(AR127=\"\",\"\",AR127)","v":""},null,null,null,null,{"$f":"IF(AW127=\"\",\"\",AW127)","v":""}]
[]
[]
[]
[null,null,null,null,null,null,null,null,null,null,null,null,null,null,null,null,null,{"$f":"IF(R131=\"\",\"\",R131)","v":""},null,{"$f":"IF(T131=\"\",\"\",T131)","v":""},null,{"$f":"IF(V131=\"\",\"\",V131)","v":""},null,{"$f":"IF(X131=\"\",\"\",X131)","v":""},null,{"$f":"IF(Z131=\"\",\"\",Z131)","v":""},null,{"$f":"IF(AB131=\"\",\"\",AB131)","v":""},null,{"$f":"IF(AD131=\"\",\"\",AD131)","v":""},null,{"$f":"IF(AF131=\"\",\"\",AF131)","v":""},null,{"$f":"IF(AH131=\"\",\"\",AH131)","v":""},null,{"$f":"IF(AJ131=\"\",\"\",AJ131)","v":""},null,{"$f":"IF(AL131=\"\",\"\",AL131)","v":""},null,null,{"$f":"IF(AO131=\"\",\"\",AO131)","v":""},null,null,{"$f":"IF(AR131=\"\",\"\",AR131)","v":""},null,null,null,null,{"$f":"IF(AW131=\"\",\"\",AW131)","v":""}]
[]
[]
[]
[null,null,null,null,null,null,null,null,null,null,null,null,null,null,null,null,null,{"$f":"IF(R135=\"\",\"\",R135)","v":""},null,{"$f":"IF(T135=\"\",\"\",T135)","v":""},null,{"$f":"IF(V135=\"\",\"\",V135)","v":""},null,{"$f":"IF(X135=\"\",\"\",X135)","v":""},null,{"$f":"IF(Z135=\"\",\"\",Z135)","v":""},null,{"$f":"IF(AB135=\"\",\"\",AB135)","v":""},null,{"$f":"IF(AD135=\"\",\"\",AD135)","v":""},null,{"$f":"IF(AF135=\"\",\"\",AF135)","v":""},null,{"$f":"IF(AH135=\"\",\"\",AH135)","v":""},null,{"$f":"IF(AJ135=\"\",\"\",AJ135)","v":""},null,{"$f":"IF(AL135=\"\",\"\",AL135)","v":""},null,null,{"$f":"IF(AO135=\"\",\"\",AO135)","v":""},null,null,{"$f":"IF(AR135=\"\",\"\",AR135)","v":""},null,null,null,null,{"$f":"IF(AW135=\"\",\"\",AW135)","v":""}]
[]
[]
[]
[null,null,null,null,null,null,null,null,null,null,null,null,null,null,null,null,null,{"$f":"IF(R139=\"\",\"\",R139)","v":""},null,{"$f":"IF(T139=\"\",\"\",T139)","v":""},null,{"$f":"IF(V139=\"\",\"\",V139)","v":""},null,{"$f":"IF(X139=\"\",\"\",X139)","v":""},null,{"$f":"IF(Z139=\"\",\"\",Z139)","v":""},null,{"$f":"IF(AB139=\"\",\"\",AB139)","v":""},null,{"$f":"IF(AD139=\"\",\"\",AD139)","v":""},null,{"$f":"IF(AF139=\"\",\"\",AF139)","v":""},null,{"$f":"IF(AH139=\"\",\"\",AH139)","v":""},null,{"$f":"IF(AJ139=\"\",\"\",AJ139)","v":""},null,{"$f":"IF(AL139=\"\",\"\",AL139)","v":""},null,null,{"$f":"IF(AO139=\"\",\"\",AO139)","v":""},null,null,{"$f":"IF(AR139=\"\",\"\",AR139)","v":""},null,null,null,null,{"$f":"IF(AW139=\"\",\"\",AW139)","v":""}]
[]
[]
[]
[null,null,null,null,null,null,null,null,null,null,null,null,null,null,null,null,null,{"$f":"IF(R143=\"\",\"\",R143)","v":""},null,{"$f":"IF(T143=\"\",\"\",T143)","v":""},null,{"$f":"IF(V143=\"\",\"\",V143)","v":""},null,{"$f":"IF(X143=\"\",\"\",X143)","v":""},null,{"$f":"IF(Z143=\"\",\"\",Z143)","v":""},null,{"$f":"IF(AB143=\"\",\"\",AB143)","v":""},null,{"$f":"IF(AD143=\"\",\"\",AD143)","v":""},null,{"$f":"IF(AF143=\"\",\"\",AF143)","v":""},null,{"$f":"IF(AH143=\"\",\"\",AH143)","v":""},null,{"$f":"IF(AJ143=\"\",\"\",AJ143)","v":""},null,{"$f":"IF(AL143=\"\",\"\",AL143)","v":""},null,null,{"$f":"IF(AO143=\"\",\"\",AO143)","v":""},null,null,{"$f":"IF(AR143=\"\",\"\",AR143)","v":""},null,null,null,null,{"$f":"IF(AW143=\"\",\"\",AW143)","v":""}]
[]
[]
[]
[null,null,null,null,null,null,null,null,null,null,null,null,null,null,null,null,null,{"$f":"IF(R147=\"\",\"\",R147)","v":""},null,{"$f":"IF(T147=\"\",\"\",T147)","v":""},null,{"$f":"IF(V147=\"\",\"\",V147)","v":""},null,{"$f":"IF(X147=\"\",\"\",X147)","v":""},null,{"$f":"IF(Z147=\"\",\"\",Z147)","v":""},null,{"$f":"IF(AB147=\"\",\"\",AB147)","v":""},null,{"$f":"IF(AD147=\"\",\"\",AD147)","v":""},null,{"$f":"IF(AF147=\"\",\"\",AF147)","v":""},null,{"$f":"IF(AH147=\"\",\"\",AH147)","v":""},null,{"$f":"IF(AJ147=\"\",\"\",AJ147)","v":""},null,{"$f":"IF(AL147=\"\",\"\",AL147)","v":""},null,null,{"$f":"IF(AO147=\"\",\"\",AO147)","v":""},null,null,{"$f":"IF(AR147=\"\",\"\",AR147)","v":""},null,null,null,null,{"$f":"IF(AW147=\"\",\"\",AW147)","v":""}]
[]
[]
[]
[null,null,null,null,null,null,null,null,null,null,null,null,null,null,null,null,null,{"$f":"IF(R151=\"\",\"\",R151)","v":""},null,{"$f":"IF(T151=\"\",\"\",T151)","v":""},null,{"$f":"IF(V151=\"\",\"\",V151)","v":""},null,{"$f":"IF(X151=\"\",\"\",X151)","v":""},null,{"$f":"IF(Z151=\"\",\"\",Z151)","v":""},null,{"$f":"IF(AB151=\"\",\"\",AB151)","v":""},null,{"$f":"IF(AD151=\"\",\"\",AD151)","v":""},null,{"$f":"IF(AF151=\"\",\"\",AF151)","v":""},null,{"$f":"IF(AH151=\"\",\"\",AH151)","v":""},null,{"$f":"IF(AJ151=\"\",\"\",AJ151)","v":""},null,{"$f":"IF(AL151=\"\",\"\",AL151)","v":""},null,null,{"$f":"IF(AO151=\"\",\"\",AO151)","v":""},null,null,{"$f":"IF(AR151=\"\",\"\",AR151)","v":""},null,null,null,null,{"$f":"IF(AW151=\"\",\"\",AW151)","v":""}]
[]
[]
[]
[null,null,null,null,null,null,null,null,null,null,null,null,null,null,null,null,null,{"$f":"IF(R155=\"\",\"\",R155)","v":""},null,{"$f":"IF(T155=\"\",\"\",T155)","v":""},null,{"$f":"IF(V155=\"\",\"\",V155)","v":""},null,{"$f":"IF(X155=\"\",\"\",X155)","v":""},null,{"$f":"IF(Z155=\"\",\"\",Z155)","v":""},null,{"$f":"IF(AB155=\"\",\"\",AB155)","v":""},null,{"$f":"IF(AD155=\"\",\"\",AD155)","v":""},null,{"$f":"IF(AF155=\"\",\"\",AF155)","v":""},null,{"$f":"IF(AH155=\"\",\"\",AH155)","v":""},null,{"$f":"IF(AJ155=\"\",\"\",AJ155)","v":""},null,{"$f":"IF(AL155=\"\",\"\",AL155)","v":""},null,null,{"$f":"IF(AO155=\"\",\"\",AO155)","v":""},null,null,{"$f":"IF(AR155=\"\",\"\",AR155)","v":""},null,null,null,null,{"$f":"IF(AW155=\"\",\"\",AW155)","v":""}]
[]
[]
[]
[null,null,null,null,null,null,null,null,null,null,null,null,null,null,null,null,null,{"$f":"IF(R159=\"\",\"\",R159)","v":""},null,{"$f":"IF(T159=\"\",\"\",T159)","v":""},null,{"$f":"IF(V159=\"\",\"\",V159)","v":""},null,{"$f":"IF(X159=\"\",\"\",X159)","v":""},null,{"$f":"IF(Z159=\"\",\"\",Z159)","v":""},null,{"$f":"IF(AB159=\"\",\"\",AB159)","v":""},null,{"$f":"IF(AD159=\"\",\"\",AD159)","v":""},null,{"$f":"IF(AF159=\"\",\"\",AF159)","v":""},null,{"$f":"IF(AH159=\"\",\"\",AH159)","v":""},null,{"$f":"IF(AJ159=\"\",\"\",AJ159)","v":""},null,{"$f":"IF(AL159=\"\",\"\",AL159)","v":""},null,null,{"$f":"IF(AO159=\"\",\"\",AO159)","v":""},null,null,{"$f":"IF(AR159=\"\",\"\",AR159)","v":""},null,null,null,null,{"$f":"IF(AW159=\"\",\"\",AW159)","v":""}]
[]
[]
[]
[null,null,null,null,null,null,null,null,null,null,null,null,null,null,null,null,null,{"$f":"IF(R163=\"\",\"\",R163)","v":""},null,{"$f":"IF(T163=\"\",\"\",T163)","v":""},null,{"$f":"IF(V163=\"\",\"\",V163)","v":""},null,{"$f":"IF(X163=\"\",\"\",X163)","v":""},null,{"$f":"IF(Z163=\"\",\"\",Z163)","v":""},null,{"$f":"IF(AB163=\"\",\"\",AB163)","v":""},null,{"$f":"IF(AD163=\"\",\"\",AD163)","v":""},null,{"$f":"IF(AF163=\"\",\"\",AF163)","v":""},null,{"$f":"IF(AH163=\"\",\"\",AH163)","v":""},null,{"$f":"IF(AJ163=\"\",\"\",AJ163)","v":""},null,{"$f":"IF(AL163=\"\",\"\",AL163)","v":""},null,null,{"$f":"IF(AO163=\"\",\"\",AO163)","v":""},null,null,{"$f":"IF(AR163=\"\",\"\",AR163)","v":""},null,null,null,null,{"$f":"IF(AW163=\"\",\"\",AW163)","v":""}]
[]
[]
[]
[null,null,null,null,null,null,null,null,null,null,null,null,null,null,null,null,null,{"$f":"IF(R167=\"\",\"\",R167)","v":""},null,{"$f":"IF(T167=\"\",\"\",T167)","v":""},null,{"$f":"IF(V167=\"\",\"\",V167)","v":""},null,{"$f":"IF(X167=\"\",\"\",X167)","v":""},null,{"$f":"IF(Z167=\"\",\"\",Z167)","v":""},null,{"$f":"IF(AB167=\"\",\"\",AB167)","v":""},null,{"$f":"IF(AD167=\"\",\"\",AD167)","v":""},null,{"$f":"IF(AF167=\"\",\"\",AF167)","v":""},null,{"$f":"IF(AH167=\"\",\"\",AH167)","v":""},null,{"$f":"IF(AJ167=\"\",\"\",AJ167)","v":""},null,{"$f":"IF(AL167=\"\",\"\",AL167)","v":""},null,null,{"$f":"IF(AO167=\"\",\"\",AO167)","v":""},null,null,{"$f":"IF(AR167=\"\",\"\",AR167)","v":""},null,null,null,null,{"$f":"IF(AW167=\"\",\"\",AW167)","v":""}]
[]
[]
[]
[null,null,null,null,null,null,null,null,null,null,null,null,null,null,null,null,null,{"$f":"IF(R171=\"\",\"\",R171)","v":""},null,{"$f":"IF(T171=\"\",\"\",T171)","v":""},null,{"$f":"IF(V171=\"\",\"\",V171)","v":""},null,{"$f":"IF(X171=\"\",\"\",X171)","v":""},null,{"$f":"IF(Z171=\"\",\"\",Z171)","v":""},null,{"$f":"IF(AB171=\"\",\"\",AB171)","v":""},null,{"$f":"IF(AD171=\"\",\"\",AD171)","v":""},null,{"$f":"IF(AF171=\"\",\"\",AF171)","v":""},null,{"$f":"IF(AH171=\"\",\"\",AH171)","v":""},null,{"$f":"IF(AJ171=\"\",\"\",AJ171)","v":""},null,{"$f":"IF(AL171=\"\",\"\",AL171)","v":""},null,null,{"$f":"IF(AO171=\"\",\"\",AO171)","v":""},null,null,{"$f":"IF(AR171=\"\",\"\",AR171)","v":""},null,null,null,null,{"$f":"IF(AW171=\"\",\"\",AW171)","v":""}]
[]
[]
[]
[null,null,null,null,null,null,null,null,null,null,null,null,null,null,null,null,null,null,null,null,null,null,null,null,null,null,null,null,null,null,null,null,null,null,null,null,null,{"$f":"AL175","v":"金額(税抜)"},null,null,null,null,null,null,null,null,null,null,{"$f":"AW83","v":""}]
[]
[]
[]
[]
[null,null,null,null,null,null,null,null,null,null,null,null,null,null,null,null,null,null,null,null,null,null,null,null,null,null,null,null,null,null,null,null,null,null,null,null,null,{"$f":"AL180","v":"消費税"},null,null,null,null,null,"税率",null,null,"税調",null,{"$f":"AW88","v":""}]
[]
[null,null,null,null,null,null,null,null,null,null,null,null,null,null,null,null,null,null,null,null,null,null,null,null,null,null,null,null,null,null,null,null,null,null,null,null,null,null,null,null,null,null,null,{"$f":"AR90","v":0},null,{"$f":"AT90","v":""}]

{"sheet":"細1-2","index":5,"n_rows":274,"n_cols":53,"rows_kept":274,"cut":false,"hidden":false,"merged":[[179,37,182,42],[179,43,180,45],[179,46,180,47],[181,43,182,44],[181,45,182,45],[181,46,182,47],[271,37,274,42],[271,43,272,45],[273,43,274,44],[273,45,274,45],[273,46,274,47],[271,46,272,47],[187,40,189,44],[187,45,189,48],[179,48,182,54],[198,48,201,54],[214,48,217,54],[222,40,225,42],[222,43,225,47],[254,37,257,39],[246,40,249,42],[246,43,249,47],[246,48,249,54],[254,48,257,54],[3,49,5,51],[3,52,5,54],[8,37,11,40],[8,41,11,54],[1,19,4,32],[2,1,5,11],[2,12,5,13],[8,1,11,5],[8,6,11,11],[8,12,11,15],[8,16,11,35],[3,40,5,44],[3,45,5,48],[14,43,17,47],[14,48,17,54],[14,1,17,5],[14,6,17,15],[14,17,17,20],[14,21,17,36],[18,1,21,5],[18,6,21,15],[18,17,21,18],[14,37,17,39],[14,40,17,42],[18,21,21,36],[18,37,21,39],[18,40,21,42],[18,43,21,47],[26,1,29,5],[26,6,29,15],[26,17,29,18],[26,19,29,20],[18,48,21,54],[22,1,25,5],[22,6,25,15],[22,17,25,18],[22,19,25,20],[22,21,25,36],[26,21,29,36],[26,37,29,39],[26,40,29,42],[26,43,29,47],[22,37,25,39],[22,40,25,42],[22,43,25,47],[18,19,21,20],[34,48,37,54],[26,48,29,54],[30,1,33,3],[30,4,33,5],[30,6,33,15],[30,17,33,18],[30,19,33,20],[22,48,25,54],[38,17,41,18],[38,19,41,20],[38,21,41,36],[38,37,41,39],[30,48,33,54],[34,1,37,5],[34,6,37,15],[34,17,37,18],[34,19,37,20],[34,21,37,36],[38,40,41,42],[38,43,41,47],[38,48,41,54],[30,21,33,36],[30,37,33,39],[30,40,33,42],[30,43,33,47],[34,37,37,39],[34,40,37,42],[34,43,37,47],[46,40,49,42],[46,43,49,47],[46,21,49,36],[46,37,49,39],[54,40,57,42],[54,43,57,47],[42,17,45,18],[42,19,45,20],[42,21,45,36],[42,37,45,39],[42,40,45,42],[42,43,45,47],[42,48,45,54],[46,48,49,54],[50,17,53,18],[50,19,53,20],[50,21,53,36],[50,37,53,39],[50,40,53,42],[50,43,53,47],[50,48,53,54],[46,17,49,18],[46,19,49,20],[58,17,61,18],[58,19,61,20],[58,21,61,36],[58,37,61,39],[58,40,61,42],[58,43,61,47],[58,48,61,54],[54,17,57,18],[54,19,57,20],[54,21,57,36],[54,37,57,39],[54,48,57,54],[62,40,65,42],[62,43,65,47],[62,21,65,36],[62,37,65,39],[70,40,73,42],[70,43,73,47],[70,48,73,54],[62,48,65,54],[66,17,69,18],[66,19,69,20],[66,21,69,36],[66,37,69,39],[66,40,69,42],[66,43,69,47],[66,48,69,54],[62,17,65,18],[62,19,65,20],[74,17,77,18],[74,19,77,20],[74,21,77,36],[74,37,77,39],[74,40,77,42],[74,43,77,47],[74,48,77,54],[70,17,73,18],[70,19,73,20],[70,21,73,36],[70,37,73,39],[78,48,81,54],[82,37,85,47],[82,48,85,54],[78,37,81,39],[78,40,81,42],[85,11,90,16],[85,17,90,25],[78,43,81,47],[83,26,84,30],[83,31,84,35],[78,17,81,18],[78,19,81,20],[78,21,81,36],[85,26,90,30],[85,31,90,35],[83,1,84,4],[83,5,84,10],[83,11,84,16],[83,17,84,25],[85,1,90,4],[85,5,90,10],[87,48,90,54],[95,49,97,51],[95,52,97,54],[95,40,97,44],[95,45,97,48],[87,37,90,42],[87,43,88,45],[89,43,90,44],[89,45,90,45],[89,46,90,47],[87,46,88,47],[100,1,103,5],[100,6,103,11],[100,12,103,15],[100,16,103,35],[100,37,103,40],[100,41,103,54],[93,19,96,32],[94,1,97,11],[94,12,97,13],[106,37,109,39],[106,40,109,42],[106,43,109,47],[106,48,109,54],[106,1,109,5],[106,6,109,15],[106,17,109,20],[106,21,109,36],[110,21,113,36],[110,37,113,39],[110,40,113,42],[110,43,113,47],[110,1,113,5],[110,6,113,15],[110,17,113,18],[110,19,113,20],[110,48,113,54],[114,1,117,5],[114,6,117,15],[114,17,117,18],[114,19,117,20],[114,21,117,36],[114,37,117,39],[114,40,117,42],[114,43,117,47],[114,48,117,54],[118,21,121,36],[118,37,121,39],[118,40,121,42],[118,43,121,47],[118,1,121,5],[118,6,121,15],[118,17,121,18],[118,19,121,20],[118,48,121,54],[122,48,125,54],[126,1,129,5],[126,6,129,15],[126,17,129,18],[126,19,129,20],[126,21,129,36],[126,37,129,39],[126,40,129,42],[126,43,129,47],[126,48,129,54],[122,1,125,3],[122,4,125,5],[122,6,125,15],[122,17,125,18],[122,19,125,20],[122,21,125,36],[122,37,125,39],[122,40,125,42],[122,43,125,47],[130,40,133,42],[130,43,133,47],[130,21,133,36],[130,37,133,39],[138,40,141,42],[138,43,141,47],[138,48,141,54],[130,48,133,54],[134,17,137,18],[134,19,137,20],[134,21,137,36],[134,37,137,39],[134,40,137,42],[134,43,137,47],[134,48,137,54],[130,17,133,18],[130,19,133,20],[142,17,145,18],[142,19,145,20],[142,21,145,36],[142,37,145,39],[142,40,145,42],[142,43,145,47],[142,48,145,54],[138,17,141,18],[138,19,141,20],[138,21,141,36],[138,37,141,39],[154,48,157,54],[146,48,149,54],[150,17,153,18],[150,19,153,20],[150,21,153,36],[150,37,153,39],[150,40,153,42],[150,43,153,47],[150,48,153,54],[146,17,149,18],[146,19,149,20],[154,17,157,18],[154,19,157,20],[154,21,157,36],[154,37,157,39],[146,40,149,42],[146,43,149,47],[146,21,149,36],[146,37,149,39],[154,40,157,42],[154,43,157,47],[174,48,177,54],[170,17,173,18],[170,19,173,20],[158,17,161,18],[158,19,161,20],[158,21,161,36],[158,37,161,39],[158,40,161,42],[158,43,161,47],[158,48,161,54],[170,21,173,36],[170,37,173,39],[170,43,173,47],[185,19,188,32],[186,1,189,11],[186,12,189,13],[192,37,195,40],[192,41,195,54],[162,40,165,42],[162,43,165,47],[162,21,165,36],[162,37,165,39],[162,48,165,54],[166,17,169,18],[166,19,169,20],[166,21,169,36],[166,37,169,39],[166,40,169,42],[166,43,169,47],[166,48,169,54],[162,17,165,18],[162,19,165,20],[187,49,189,51],[187,52,189,54],[170,40,173,42],[170,48,173,54],[174,37,177,47],[202,21,205,36],[202,37,205,39],[202,40,205,42],[202,43,205,47],[202,1,205,5],[202,6,205,15],[202,17,205,18],[202,19,205,20],[202,48,205,54],[198,1,201,5],[198,6,201,15],[198,17,201,20],[198,21,201,36],[198,37,201,39],[198,40,201,42],[198,43,201,47],[192,1,195,5],[192,6,195,11],[192,12,195,15],[192,16,195,35],[206,1,209,5],[206,6,209,15],[206,17,209,18],[206,19,209,20],[206,21,209,36],[206,37,209,39],[206,40,209,42],[206,43,209,47],[206,48,209,54],[210,21,213,36],[210,37,213,39],[210,40,213,42],[210,43,213,47],[210,1,213,5],[210,6,213,15],[210,17,213,18],[210,19,213,20],[210,48,213,54],[218,1,221,5],[218,6,221,15],[218,17,221,18],[218,19,221,20],[218,21,221,36],[218,37,221,39],[218,40,221,42],[218,43,221,47],[218,48,221,54],[214,1,217,3],[214,4,217,5],[214,6,217,15],[214,17,217,18],[214,19,217,20],[214,21,217,36],[214,37,217,39],[214,40,217,42],[214,43,217,47],[222,21,225,36],[222,37,225,39],[230,40,233,42],[230,43,233,47],[230,48,233,54],[222,48,225,54],[226,17,229,18],[226,19,229,20],[226,21,229,36],[226,37,229,39],[226,40,229,42],[226,43,229,47],[226,48,229,54],[222,17,225,18],[222,19,225,20],[234,17,237,18],[234,19,237,20],[234,21,237,36],[234,37,237,39],[234,40,237,42],[234,43,237,47],[234,48,237,54],[230,17,233,18],[230,19,233,20],[230,21,233,36],[230,37,233,39],[242,17,245,18],[242,19,245,20],[242,21,245,36],[242,37,245,39],[242,40,245,42],[242,43,245,47],[242,48,245,54],[238,17,241,18],[238,19,241,20],[238,40,241,42],[238,43,241,47],[238,21,241,36],[238,37,241,39],[238,48,241,54],[250,17,253,18],[250,19,253,20],[250,21,253,36],[250,37,253,39],[250,40,253,42],[250,43,253,47],[250,48,253,54],[246,17,249,18],[246,19,249,20],[246,21,249,36],[246,37,249,39],[258,17,261,18],[258,19,261,20],[258,21,261,36],[258,37,261,39],[258,40,261,42],[258,43,261,47],[258,48,261,54],[254,17,257,18],[254,19,257,20],[254,40,257,42],[254,43,257,47],[254,21,257,36],[271,48,274,54],[262,40,265,42],[262,43,265,47],[262,48,265,54],[266,37,269,47],[266,48,269,54],[262,17,265,18],[262,19,265,20],[262,21,265,36],[262,37,265,39]]}
[]
[null,null,null,null,null,null,null,null,null,null,null,null,null,null,null,null,null,null,null,"請求書明細書 (正)"]
[null,"株 式 会 社 種 村 建 設",null,null,null,null,null,null,null,null,null,null,"御中"]
[null,null,null,null,null,null,null,null,null,null,null,null,null,null,null,null,null,null,null,null,null,null,null,null,null,null,null,null,null,null,null,null,null,null,null,null,null,null,null,null,"請求年月日",null,null,null,null,{"$f":"IF(年=\"\",\"\",年)","v":""},null,null,null,{"$f":"IF(月=\"\",\"\",月)","v":""},null,null,{"$f":"IF(日=\"\",\"\",日)","v":""}]
[]
[]
[]
[]
[null,"工事番号",null,null,null,null,null,null,null,null,null,null,"工事名",null,null,null,null,null,null,null,null,null,null,null,null,null,null,null,null,null,null,null,null,null,null,null,null,"業者名",null,null,null,{"$f":"IF(社名=\"\",\"\",社名)","v":""}]
[]
[]
[]
[]
[]
[null,"注文番号",null,null,null,null,null,null,null,null,null,null,null,null,null,null,null,"月　日",null,null,null,"品　名・内　訳",null,null,null,null,null,null,null,null,null,null,null,null,null,null,null,"数 量",null,null,"単位",null,null,"単価",null,null,null,null,{"$f":"表紙①!P35","v":"金額(税抜)"}]
[]
[]
[]
[null,"契約金額",null,null,null,null,null,null,null,null,null,null,null,null,null,null,null,null,null,null,null,null,null,null,null,null,null,null,null,null,null,null,null,null,null,null,null,null,null,null,null,null,null,null,null,null,null,null,{"$f":"IF(V19=\"\",\"\",ROUND(AL19*AR19,0))","v":""}]
[]
[]
[]
[null,"増減額",null,null,null,null,null,null,null,null,null,null,null,null,null,null,null,null,null,null,null,null,null,null,null,null,null,null,null,null,null,null,null,null,null,null,null,null,null,null,null,null,null,null,null,null,null,null,{"$f":"IF(V23=\"\",\"\",ROUND(AL23*AR23,0))","v":""}]
[]
[]
[]
[null,"前回までの\n請求額",null,null,null,null,null,null,null,null,null,null,null,null,null,null,null,null,null,null,null,null,null,null,null,null,null,null,null,null,null,null,null,null,null,null,null,null,null,null,null,null,null,null,null,null,null,null,{"$f":"IF(V27=\"\",\"\",ROUND(AL27*AR27,0))","v":""}]
[]
[]
[]
[null,"今回\n請求額",null,null,null,null,null,null,null,null,null,null,null,null,null,null,null,null,null,null,null,null,null,null,null,null,null,null,null,null,null,null,null,null,null,null,null,null,null,null,null,null,null,null,null,null,null,null,{"$f":"IF(V31=\"\",\"\",ROUND(AL31*AR31,0))","v":""}]
[]
[]
[]
[null,"差引残高",null,null,null,null,{"$f":"IF(G19=\"\",\"\",G19+G23-G27-G31)","v":""},null,null,null,null,null,null,null,null,null,null,null,null,null,null,null,null,null,null,null,null,null,null,null,null,null,null,null,null,null,null,null,null,null,null,null,null,null,null,null,null,null,{"$f":"IF(V35=\"\",\"\",ROUND(AL35*AR35,0))","v":""}]
[]
[]
[]
[null,null,null,null,null,null,null,null,null,null,null,null,null,null,null,null,null,null,null,null,null,null,null,null,null,null,null,null,null,null,null,null,null,null,null,null,null,null,null,null,null,null,null,null,null,null,null,null,{"$f":"IF(V39=\"\",\"\",ROUND(AL39*AR39,0))","v":""}]
[]
[]
[]
[null,null,null,null,null,null,null,null,null,null,null,null,null,null,null,null,null,null,null,null,null,null,null,null,null,null,null,null,null,null,null,null,null,null,null,null,null,null,null,null,null,null,null,null,null,null,null,null,{"$f":"IF(V43=\"\",\"\",ROUND(AL43*AR43,0))","v":""}]
[]
[]
[]
[null,null,null,null,null,null,null,null,null,null,null,null,null,null,null,null,null,null,null,null,null,null,null,null,null,null,null,null,null,null,null,null,null,null,null,null,null,null,null,null,null,null,null,null,null,null,null,null,{"$f":"IF(V47=\"\",\"\",ROUND(AL47*AR47,0))","v":""}]
[]
[]
[]
[null,null,null,null,null,null,null,null,null,null,null,null,null,null,null,null,null,null,null,null,null,null,null,null,null,null,null,null,null,null,null,null,null,null,null,null,null,null,null,null,null,null,null,null,null,null,null,null,{"$f":"IF(V51=\"\",\"\",ROUND(AL51*AR51,0))","v":""}]
[]
[]
[]
[null,null,null,null,null,null,null,null,null,null,null,null,null,null,null,null,null,null,null,null,null,null,null,null,null,null,null,null,null,null,null,null,null,null,null,null,null,null,null,null,null,null,null,null,null,null,null,null,{"$f":"IF(V55=\"\",\"\",ROUND(AL55*AR55,0))","v":""}]
[]
[]
[]
[null,null,null,null,null,null,null,null,null,null,null,null,null,null,null,null,null,null,null,null,null,null,null,null,null,null,null,null,null,null,null,null,null,null,null,null,null,null,null,null,null,null,null,null,null,null,null,null,{"$f":"IF(V59=\"\",\"\",ROUND(AL59*AR59,0))","v":""}]
[]
[]
[]
[null,null,null,null,null,null,null,null,null,null,null,null,null,null,null,null,null,null,null,null,null,null,null,null,null,null,null,null,null,null,null,null,null,null,null,null,null,null,null,null,null,null,null,null,null,null,null,null,{"$f":"IF(V63=\"\",\"\",ROUND(AL63*AR63,0))","v":""}]
[]
[]
[]
[null,null,null,null,null,null,null,null,null,null,null,null,null,null,null,null,null,null,null,null,null,null,null,null,null,null,null,null,null,null,null,null,null,null,null,null,null,null,null,null,null,null,null,null,null,null,null,null,{"$f":"IF(V67=\"\",\"\",ROUND(AL67*AR67,0))","v":""}]
[]
[]
[]
[null,null,null,null,null,null,null,null,null,null,null,null,null,null,null,null,null,null,null,null,null,null,null,null,null,null,null,null,null,null,null,null,null,null,null,null,null,null,null,null,null,null,null,null,null,null,null,null,{"$f":"IF(V71=\"\",\"\",ROUND(AL71*AR71,0))","v":""}]
[]
[]
[]
[null,null,null,null,null,null,null,null,null,null,null,null,null,null,null,null,null,null,null,null,null,null,null,null,null,null,null,null,null,null,null,null,null,null,null,null,null,null,null,null,null,null,null,null,null,null,null,null,{"$f":"IF(V75=\"\",\"\",ROUND(AL75*AR75,0))","v":""}]
[]
[]
[]
[null,null,null,null,null,null,null,null,null,null,null,null,null,null,null,null,null,null,null,null,null,null,null,null,null,null,null,null,null,null,null,null,null,null,null,null,null,null,null,null,null,null,null,null,null,null,null,null,{"$f":"IF(V79=\"\",\"\",ROUND(AL79*AR79,0))","v":""}]
[]
[]
[]
[null,null,null,null,null,null,null,null,null,null,null,null,null,null,null,null,null,null,null,null,null,null,null,null,null,null,null,null,null,null,null,null,null,null,null,null,null,"金額(税抜)",null,null,null,null,null,null,null,null,null,null,{"$f":"IF(AW19=\"\",\"\",SUM(AW19:AW79))","v":""}]
[null,"社長",null,null,null,"専務",null,null,null,null,null,"常務",null,null,null,null,null,"部長･工場長",null,null,null,null,null,null,null,null,"担当者",null,null,null,null,"受付"]
[]
[]
[]
[null,null,null,null,null,null,null,null,null,null,null,null,null,null,null,null,null,null,null,null,null,null,null,null,null,null,null,null,null,null,null,null,null,null,null,null,null,"消費税",null,null,null,null,null,"税率",null,null,"税調",null,{"$f":"IF(AW83=\"\",\"\",IF(AR90=\"\",\"\",IF(AR90=8.1,ROUND(AW83*8/100,0)+AU90,ROUND(AW83*AR90/100,0)+AU90)))","v":""}]
[]
[null,null,null,null,null,null,null,null,null,null,null,null,null,null,null,null,null,null,null,null,null,null,null,null,null,null,null,null,null,null,null,null,null,null,null,null,null,null,null,null,null,null,null,null,null,{"$f":"IF(AR90=\"\",\"\",IF(AR90=8.1,\"旧\",IF(AR90=8,\"軽\",IF(AR90=0,\"非\",\"\"))))","v":""}]
[]
[]
[]
[null,null,null,null,null,null,null,null,null,null,null,null,null,null,null,null,null,null,null,"請求明細書 (現場控)"]
[null,"株 式 会 社 種 村 建 設",null,null,null,null,null,null,null,null,null,null,"御中"]
[null,null,null,null,null,null,null,null,null,null,null,null,null,null,null,null,null,null,null,null,null,null,null,null,null,null,null,null,null,null,null,null,null,null,null,null,null,null,null,null,"請求年月日",null,null,null,null,{"$f":"IF(AT4=\"\",\"\",AT4)","v":""},null,null,null,{"$f":"IF(AX4=\"\",\"\",AX4)","v":""},null,null,{"$f":"IF(BA4=\"\",\"\",BA4)","v":""}]
[]
[]
[]
[]
[null,"工事番号",null,null,null,null,{"$f":"IF(G9=\"\",\"\",G9)","v":""},null,null,null,null,null,"工事名",null,null,null,{"$f":"IF(Q9=\"\",\"\",Q9)","v":""},null,null,null,null,null,null,null,null,null,null,null,null,null,null,null,null,null,null,null,null,"業者名",null,null,null,{"$f":"IF(AP9=\"\",\"\",AP9)","v":""}]
[]
[]
[]
[]
[]
[null,"注文番号",null,null,null,null,{"$f":"IF(G15=\"\",\"\",G15)","v":""},null,null,null,null,null,null,null,null,null,null,"月　日",null,null,null,"品　名・内　訳",null,null,null,null,null,null,null,null,null,null,null,null,null,null,null,"数 量",null,null,"単位",null,null,"単価",null,null,null,null,{"$f":"表紙①!P127","v":"金額(税抜)"}]
[]
[]
[]
[null,"契約金額",null,null,null,null,{"$f":"IF(G19=\"\",\"\",G19)","v":""},null,null,null,null,null,null,null,null,null,null,{"$f":"IF(R19=\"\",\"\",R19)","v":""},null,{"$f":"IF(T19=\"\",\"\",T19)","v":""},null,{"$f":"IF(V19=\"\",\"\",V19)","v":""},null,{"$f":"IF(X19=\"\",\"\",X19)","v":""},null,{"$f":"IF(Z19=\"\",\"\",Z19)","v":""},null,{"$f":"IF(AB19=\"\",\"\",AB19)","v":""},null,{"$f":"IF(AD19=\"\",\"\",AD19)","v":""},null,{"$f":"IF(AF19=\"\",\"\",AF19)","v":""},null,{"$f":"IF(AH19=\"\",\"\",AH19)","v":""},null,{"$f":"IF(AJ19=\"\",\"\",AJ19)","v":""},null,{"$f":"IF(AL19=\"\",\"\",AL19)","v":""},null,null,{"$f":"IF(AO19=\"\",\"\",AO19)","v":""},null,null,{"$f":"IF(AR19=\"\",\"\",AR19)","v":""},null,null,null,null,{"$f":"IF(AW19=\"\",\"\",AW19)","v":""}]
[]
[]
[]
[null,"増減額",null,null,null,null,{"$f":"IF(G23=\"\",\"\",G23)","v":""},null,null,null,null,null,null,null,null,null,null,{"$f":"IF(R23=\"\",\"\",R23)","v":""},null,{"$f":"IF(T23=\"\",\"\",T23)","v":""},null,{"$f":"IF(V23=\"\",\"\",V23)","v":""},null,{"$f":"IF(X23=\"\",\"\",X23)","v":""},null,{"$f":"IF(Z23=\"\",\"\",Z23)","v":""},null,{"$f":"IF(AB23=\"\",\"\",AB23)","v":""},null,{"$f":"IF(AD23=\"\",\"\",AD23)","v":""},null,{"$f":"IF(AF23=\"\",\"\",AF23)","v":""},null,{"$f":"IF(AH23=\"\",\"\",AH23)","v":""},null,{"$f":"IF(AJ23=\"\",\"\",AJ23)","v":""},null,{"$f":"IF(AL23=\"\",\"\",AL23)","v":""},null,null,{"$f":"IF(AO23=\"\",\"\",AO23)","v":""},null,null,{"$f":"IF(AR23=\"\",\"\",AR23)","v":""},null,null,null,null,{"$f":"IF(AW23=\"\",\"\",AW23)","v":""}]
[]
[]
[]
[null,"前回までの\n請求額",null,null,null,null,{"$f":"IF(G27=\"\",\"\",G27)","v":""},null,null,null,null,null,null,null,null,null,null,{"$f":"IF(R27=\"\",\"\",R27)","v":""},null,{"$f":"IF(T27=\"\",\"\",T27)","v":""},null,{"$f":"IF(V27=\"\",\"\",V27)","v":""},null,{"$f":"IF(X27=\"\",\"\",X27)","v":""},null,{"$f":"IF(Z27=\"\",\"\",Z27)","v":""},null,{"$f":"IF(AB27=\"\",\"\",AB27)","v":""},null,{"$f":"IF(AD27=\"\",\"\",AD27)","v":""},null,{"$f":"IF(AF27=\"\",\"\",AF27)","v":""},null,{"$f":"IF(AH27=\"\",\"\",AH27)","v":""},null,{"$f":"IF(AJ27=\"\",\"\",AJ27)","v":""},null,{"$f":"IF(AL27=\"\",\"\",AL27)","v":""},null,null,{"$f":"IF(AO27=\"\",\"\",AO27)","v":""},null,null,{"$f":"IF(AR27=\"\",\"\",AR27)","v":""},null,null,null,null,{"$f":"IF(AW27=\"\",\"\",AW27)","v":""}]
[]
[]
[]
[null,"今回\n請求額",null,null,{"$f":"IF(E31=\"\",\"\",E31)","v":""},null,{"$f":"IF(G31=\"\",\"\",G31)","v":""},null,null,null,null,null,null,null,null,null,null,{"$f":"IF(R31=\"\",\"\",R31)","v":""},null,{"$f":"IF(T31=\"\",\"\",T31)","v":""},null,{"$f":"IF(V31=\"\",\"\",V31)","v":""},null,{"$f":"IF(X31=\"\",\"\",X31)","v":""},null,{"$f":"IF(Z31=\"\",\"\",Z31)","v":""},null,{"$f":"IF(AB31=\"\",\"\",AB31)","v":""},null,{"$f":"IF(AD31=\"\",\"\",AD31)","v":""},null,{"$f":"IF(AF31=\"\",\"\",AF31)","v":""},null,{"$f":"IF(AH31=\"\",\"\",AH31)","v":""},null,{"$f":"IF(AJ31=\"\",\"\",AJ31)","v":""},null,{"$f":"IF(AL31=\"\",\"\",AL31)","v":""},null,null,{"$f":"IF(AO31=\"\",\"\",AO31)","v":""},null,null,{"$f":"IF(AR31=\"\",\"\",AR31)","v":""},null,null,null,null,{"$f":"IF(AW31=\"\",\"\",AW31)","v":""}]
[]
[]
[]
[null,"差引残高",null,null,null,null,{"$f":"IF(G111=\"\",\"\",G111+G115-G119-G123)","v":""},null,null,null,null,null,null,null,null,null,null,{"$f":"IF(R35=\"\",\"\",R35)","v":""},null,{"$f":"IF(T35=\"\",\"\",T35)","v":""},null,{"$f":"IF(V35=\"\",\"\",V35)","v":""},null,{"$f":"IF(X35=\"\",\"\",X35)","v":""},null,{"$f":"IF(Z35=\"\",\"\",Z35)","v":""},null,{"$f":"IF(AB35=\"\",\"\",AB35)","v":""},null,{"$f":"IF(AD35=\"\",\"\",AD35)","v":""},null,{"$f":"IF(AF35=\"\",\"\",AF35)","v":""},null,{"$f":"IF(AH35=\"\",\"\",AH35)","v":""},null,{"$f":"IF(AJ35=\"\",\"\",AJ35)","v":""},null,{"$f":"IF(AL35=\"\",\"\",AL35)","v":""},null,null,{"$f":"IF(AO35=\"\",\"\",AO35)","v":""},null,null,{"$f":"IF(AR35=\"\",\"\",AR35)","v":""},null,null,null,null,{"$f":"IF(AW35=\"\",\"\",AW35)","v":""}]
[]
[]
[]
[null,null,null,null,null,null,null,null,null,null,null,null,null,null,null,null,null,{"$f":"IF(R39=\"\",\"\",R39)","v":""},null,{"$f":"IF(T39=\"\",\"\",T39)","v":""},null,{"$f":"IF(V39=\"\",\"\",V39)","v":""},null,{"$f":"IF(X39=\"\",\"\",X39)","v":""},null,{"$f":"IF(Z39=\"\",\"\",Z39)","v":""},null,{"$f":"IF(AB39=\"\",\"\",AB39)","v":""},null,{"$f":"IF(AD39=\"\",\"\",AD39)","v":""},null,{"$f":"IF(AF39=\"\",\"\",AF39)","v":""},null,{"$f":"IF(AH39=\"\",\"\",AH39)","v":""},null,{"$f":"IF(AJ39=\"\",\"\",AJ39)","v":""},null,{"$f":"IF(AL39=\"\",\"\",AL39)","v":""},null,null,{"$f":"IF(AO39=\"\",\"\",AO39)","v":""},null,null,{"$f":"IF(AR39=\"\",\"\",AR39)","v":""},null,null,null,null,{"$f":"IF(AW39=\"\",\"\",AW39)","v":""}]
[]
[]
[]
[null,null,null,null,null,null,null,null,null,null,null,null,null,null,null,null,null,{"$f":"IF(R43=\"\",\"\",R43)","v":""},null,{"$f":"IF(T43=\"\",\"\",T43)","v":""},null,{"$f":"IF(V43=\"\",\"\",V43)","v":""},null,{"$f":"IF(X43=\"\",\"\",X43)","v":""},null,{"$f":"IF(Z43=\"\",\"\",Z43)","v":""},null,{"$f":"IF(AB43=\"\",\"\",AB43)","v":""},null,{"$f":"IF(AD43=\"\",\"\",AD43)","v":""},null,{"$f":"IF(AF43=\"\",\"\",AF43)","v":""},null,{"$f":"IF(AH43=\"\",\"\",AH43)","v":""},null,{"$f":"IF(AJ43=\"\",\"\",AJ43)","v":""},null,{"$f":"IF(AL43=\"\",\"\",AL43)","v":""},null,null,{"$f":"IF(AO43=\"\",\"\",AO43)","v":""},null,null,{"$f":"IF(AR43=\"\",\"\",AR43)","v":""},null,null,null,null,{"$f":"IF(AW43=\"\",\"\",AW43)","v":""}]
[]
[]
[]
[null,null,null,null,null,null,null,null,null,null,null,null,null,null,null,null,null,{"$f":"IF(R47=\"\",\"\",R47)","v":""},null,{"$f":"IF(T47=\"\",\"\",T47)","v":""},null,{"$f":"IF(V47=\"\",\"\",V47)","v":""},null,{"$f":"IF(X47=\"\",\"\",X47)","v":""},null,{"$f":"IF(Z47=\"\",\"\",Z47)","v":""},null,{"$f":"IF(AB47=\"\",\"\",AB47)","v":""},null,{"$f":"IF(AD47=\"\",\"\",AD47)","v":""},null,{"$f":"IF(AF47=\"\",\"\",AF47)","v":""},null,{"$f":"IF(AH47=\"\",\"\",AH47)","v":""},null,{"$f":"IF(AJ47=\"\",\"\",AJ47)","v":""},null,{"$f":"IF(AL47=\"\",\"\",AL47)","v":""},null,null,{"$f":"IF(AO47=\"\",\"\",AO47)","v":""},null,null,{"$f":"IF(AR47=\"\",\"\",AR47)","v":""},null,null,null,null,{"$f":"IF(AW47=\"\",\"\",AW47)","v":""}]
[]
[]
[]
[null,null,null,null,null,null,null,null,null,null,null,null,null,null,null,null,null,{"$f":"IF(R51=\"\",\"\",R51)","v":""},null,{"$f":"IF(T51=\"\",\"\",T51)","v":""},null,{"$f":"IF(V51=\"\",\"\",V51)","v":""},null,{"$f":"IF(X51=\"\",\"\",X51)","v":""},null,{"$f":"IF(Z51=\"\",\"\",Z51)","v":""},null,{"$f":"IF(AB51=\"\",\"\",AB51)","v":""},null,{"$f":"IF(AD51=\"\",\"\",AD51)","v":""},null,{"$f":"IF(AF51=\"\",\"\",AF51)","v":""},null,{"$f":"IF(AH51=\"\",\"\",AH51)","v":""},null,{"$f":"IF(AJ51=\"\",\"\",AJ51)","v":""},null,{"$f":"IF(AL51=\"\",\"\",AL51)","v":""},null,null,{"$f":"IF(AO51=\"\",\"\",AO51)","v":""},null,null,{"$f":"IF(AR51=\"\",\"\",AR51)","v":""},null,null,null,null,{"$f":"IF(AW51=\"\",\"\",AW51)","v":""}]
[]
[]
[]
[null,null,null,null,null,null,null,null,null,null,null,null,null,null,null,null,null,{"$f":"IF(R55=\"\",\"\",R55)","v":""},null,{"$f":"IF(T55=\"\",\"\",T55)","v":""},null,{"$f":"IF(V55=\"\",\"\",V55)","v":""},null,{"$f":"IF(X55=\"\",\"\",X55)","v":""},null,{"$f":"IF(Z55=\"\",\"\",Z55)","v":""},null,{"$f":"IF(AB55=\"\",\"\",AB55)","v":""},null,{"$f":"IF(AD55=\"\",\"\",AD55)","v":""},null,{"$f":"IF(AF55=\"\",\"\",AF55)","v":""},null,{"$f":"IF(AH55=\"\",\"\",AH55)","v":""},null,{"$f":"IF(AJ55=\"\",\"\",AJ55)","v":""},null,{"$f":"IF(AL55=\"\",\"\",AL55)","v":""},null,null,{"$f":"IF(AO55=\"\",\"\",AO55)","v":""},null,null,{"$f":"IF(AR55=\"\",\"\",AR55)","v":""},null,null,null,null,{"$f":"IF(AW55=\"\",\"\",AW55)","v":""}]
[]
[]
[]
[null,null,null,null,null,null,null,null,null,null,null,null,null,null,null,null,null,{"$f":"IF(R59=\"\",\"\",R59)","v":""},null,{"$f":"IF(T59=\"\",\"\",T59)","v":""},null,{"$f":"IF(V59=\"\",\"\",V59)","v":""},null,{"$f":"IF(X59=\"\",\"\",X59)","v":""},null,{"$f":"IF(Z59=\"\",\"\",Z59)","v":""},null,{"$f":"IF(AB59=\"\",\"\",AB59)","v":""},null,{"$f":"IF(AD59=\"\",\"\",AD59)","v":""},null,{"$f":"IF(AF59=\"\",\"\",AF59)","v":""},null,{"$f":"IF(AH59=\"\",\"\",AH59)","v":""},null,{"$f":"IF(AJ59=\"\",\"\",AJ59)","v":""},null,{"$f":"IF(AL59=\"\",\"\",AL59)","v":""},null,null,{"$f":"IF(AO59=\"\",\"\",AO59)","v":""},null,null,{"$f":"IF(AR59=\"\",\"\",AR59)","v":""},null,null,null,null,{"$f":"IF(AW59=\"\",\"\",AW59)","v":""}]
[]
[]
[]
[null,null,null,null,null,null,null,null,null,null,null,null,null,null,null,null,null,{"$f":"IF(R63=\"\",\"\",R63)","v":""},null,{"$f":"IF(T63=\"\",\"\",T63)","v":""},null,{"$f":"IF(V63=\"\",\"\",V63)","v":""},null,{"$f":"IF(X63=\"\",\"\",X63)","v":""},null,{"$f":"IF(Z63=\"\",\"\",Z63)","v":""},null,{"$f":"IF(AB63=\"\",\"\",AB63)","v":""},null,{"$f":"IF(AD63=\"\",\"\",AD63)","v":""},null,{"$f":"IF(AF63=\"\",\"\",AF63)","v":""},null,{"$f":"IF(AH63=\"\",\"\",AH63)","v":""},null,{"$f":"IF(AJ63=\"\",\"\",AJ63)","v":""},null,{"$f":"IF(AL63=\"\",\"\",AL63)","v":""},null,null,{"$f":"IF(AO63=\"\",\"\",AO63)","v":""},null,null,{"$f":"IF(AR63=\"\",\"\",AR63)","v":""},null,null,null,null,{"$f":"IF(AW63=\"\",\"\",AW63)","v":""}]
[]
[]
[]
[null,null,null,null,null,null,null,null,null,null,null,null,null,null,null,null,null,{"$f":"IF(R67=\"\",\"\",R67)","v":""},null,{"$f":"IF(T67=\"\",\"\",T67)","v":""},null,{"$f":"IF(V67=\"\",\"\",V67)","v":""},null,{"$f":"IF(X67=\"\",\"\",X67)","v":""},null,{"$f":"IF(Z67=\"\",\"\",Z67)","v":""},null,{"$f":"IF(AB67=\"\",\"\",AB67)","v":""},null,{"$f":"IF(AD67=\"\",\"\",AD67)","v":""},null,{"$f":"IF(AF67=\"\",\"\",AF67)","v":""},null,{"$f":"IF(AH67=\"\",\"\",AH67)","v":""},null,{"$f":"IF(AJ67=\"\",\"\",AJ67)","v":""},null,{"$f":"IF(AL67=\"\",\"\",AL67)","v":""},null,null,{"$f":"IF(AO67=\"\",\"\",AO67)","v":""},null,null,{"$f":"IF(AR67=\"\",\"\",AR67)","v":""},null,null,null,null,{"$f":"IF(AW67=\"\",\"\",AW67)","v":""}]
[]
[]
[]
[null,null,null,null,null,null,null,null,null,null,null,null,null,null,null,null,null,{"$f":"IF(R71=\"\",\"\",R71)","v":""},null,{"$f":"IF(T71=\"\",\"\",T71)","v":""},null,{"$f":"IF(V71=\"\",\"\",V71)","v":""},null,{"$f":"IF(X71=\"\",\"\",X71)","v":""},null,{"$f":"IF(Z71=\"\",\"\",Z71)","v":""},null,{"$f":"IF(AB71=\"\",\"\",AB71)","v":""},null,{"$f":"IF(AD71=\"\",\"\",AD71)","v":""},null,{"$f":"IF(AF71=\"\",\"\",AF71)","v":""},null,{"$f":"IF(AH71=\"\",\"\",AH71)","v":""},null,{"$f":"IF(AJ71=\"\",\"\",AJ71)","v":""},null,{"$f":"IF(AL71=\"\",\"\",AL71)","v":""},null,null,{"$f":"IF(AO71=\"\",\"\",AO71)","v":""},null,null,{"$f":"IF(AR71=\"\",\"\",AR71)","v":""},null,null,null,null,{"$f":"IF(AW71=\"\",\"\",AW71)","v":""}]
[]
[]
[]
[null,null,null,null,null,null,null,null,null,null,null,null,null,null,null,null,null,{"$f":"IF(R75=\"\",\"\",R75)","v":""},null,{"$f":"IF(T75=\"\",\"\",T75)","v":""},null,{"$f":"IF(V75=\"\",\"\",V75)","v":""},null,{"$f":"IF(X75=\"\",\"\",X75)","v":""},null,{"$f":"IF(Z75=\"\",\"\",Z75)","v":""},null,{"$f":"IF(AB75=\"\",\"\",AB75)","v":""},null,{"$f":"IF(AD75=\"\",\"\",AD75)","v":""},null,{"$f":"IF(AF75=\"\",\"\",AF75)","v":""},null,{"$f":"IF(AH75=\"\",\"\",AH75)","v":""},null,{"$f":"IF(AJ75=\"\",\"\",AJ75)","v":""},null,{"$f":"IF(AL75=\"\",\"\",AL75)","v":""},null,null,{"$f":"IF(AO75=\"\",\"\",AO75)","v":""},null,null,{"$f":"IF(AR75=\"\",\"\",AR75)","v":""},null,null,null,null,{"$f":"IF(AW75=\"\",\"\",AW75)","v":""}]
[]
[]
[]
[null,null,null,null,null,null,null,null,null,null,null,null,null,null,null,null,null,{"$f":"IF(R79=\"\",\"\",R79)","v":""},null,{"$f":"IF(T79=\"\",\"\",T79)","v":""},null,{"$f":"IF(V79=\"\",\"\",V79)","v":""},null,{"$f":"IF(X79=\"\",\"\",X79)","v":""},null,{"$f":"IF(Z79=\"\",\"\",Z79)","v":""},null,{"$f":"IF(AB79=\"\",\"\",AB79)","v":""},null,{"$f":"IF(AD79=\"\",\"\",AD79)","v":""},null,{"$f":"IF(AF79=\"\",\"\",AF79)","v":""},null,{"$f":"IF(AH79=\"\",\"\",AH79)","v":""},null,{"$f":"IF(AJ79=\"\",\"\",AJ79)","v":""},null,{"$f":"IF(AL79=\"\",\"\",AL79)","v":""},null,null,{"$f":"IF(AO79=\"\",\"\",AO79)","v":""},null,null,{"$f":"IF(AR79=\"\",\"\",AR79)","v":""},null,null,null,null,{"$f":"IF(AW79=\"\",\"\",AW79)","v":""}]
[]
[]
[]
[null,null,null,null,null,null,null,null,null,null,null,null,null,null,null,null,null,null,null,null,null,null,null,null,null,null,null,null,null,null,null,null,null,null,null,null,null,{"$f":"AL83","v":"金額(税抜)"},null,null,null,null,null,null,null,null,null,null,{"$f":"AW83","v":""}]
[]
[]
[]
[]
[null,null,null,null,null,null,null,null,null,null,null,null,null,null,null,null,null,null,null,null,null,null,null,null,null,null,null,null,null,null,null,null,null,null,null,null,null,{"$f":"AL88","v":"消費税"},null,null,null,null,null,"税率",null,null,"税調",null,{"$f":"AW88","v":""}]
[]
[null,null,null,null,null,null,null,null,null,null,null,null,null,null,null,null,null,null,null,null,null,null,null,null,null,null,null,null,null,null,null,null,null,null,null,null,null,null,null,null,null,null,null,{"$f":"AR90","v":0},null,{"$f":"AT90","v":""}]
[]
[]
[]
[null,null,null,null,null,null,null,null,null,null,null,null,null,null,null,null,null,null,null,"請求明細書 (貴社控)"]
[null,"株 式 会 社 種 村 建 設",null,null,null,null,null,null,null,null,null,null,"御中"]
[null,null,null,null,null,null,null,null,null,null,null,null,null,null,null,null,null,null,null,null,null,null,null,null,null,null,null,null,null,null,null,null,null,null,null,null,null,null,null,null,"請求年月日",null,null,null,null,{"$f":"IF(AT4=\"\",\"\",AT4)","v":""},null,null,null,{"$f":"IF(AX96=\"\",\"\",AX96)","v":""},null,null,{"$f":"IF(BA96=\"\",\"\",BA96)","v":""}]
[]
[]
[]
[]
[null,"工事番号",null,null,null,null,{"$f":"IF(G101=\"\",\"\",G101)","v":""},null,null,null,null,null,"工事名",null,null,null,{"$f":"IF(Q101=\"\",\"\",Q101)","v":""},null,null,null,null,null,null,null,null,null,null,null,null,null,null,null,null,null,null,null,null,"業者名",null,null,null,{"$f":"IF(AP101=\"\",\"\",AP101)","v":""}]
[]
[]
[]
[]
[]
[null,"注文番号",null,null,null,null,{"$f":"IF(G107=\"\",\"\",G107)","v":""},null,null,null,null,null,null,null,null,null,null,"月　日",null,null,null,"品　名・内　訳",null,null,null,null,null,null,null,null,null,null,null,null,null,null,null,"数 量",null,null,"単位",null,null,"単価",null,null,null,null,{"$f":"表紙①!P219","v":0}]
[]
[]
[]
[null,"契約金額",null,null,null,null,{"$f":"IF(G111=\"\",\"\",G111)","v":""},null,null,null,null,null,null,null,null,null,null,{"$f":"IF(R111=\"\",\"\",R111)","v":""},null,{"$f":"IF(T111=\"\",\"\",T111)","v":""},null,{"$f":"IF(V111=\"\",\"\",V111)","v":""},null,{"$f":"IF(X111=\"\",\"\",X111)","v":""},null,{"$f":"IF(Z111=\"\",\"\",Z111)","v":""},null,{"$f":"IF(AB111=\"\",\"\",AB111)","v":""},null,{"$f":"IF(AD111=\"\",\"\",AD111)","v":""},null,{"$f":"IF(AF111=\"\",\"\",AF111)","v":""},null,{"$f":"IF(AH111=\"\",\"\",AH111)","v":""},null,{"$f":"IF(AJ111=\"\",\"\",AJ111)","v":""},null,{"$f":"IF(AL111=\"\",\"\",AL111)","v":""},null,null,{"$f":"IF(AO111=\"\",\"\",AO111)","v":""},null,null,{"$f":"IF(AR111=\"\",\"\",AR111)","v":""},null,null,null,null,{"$f":"IF(AW111=\"\",\"\",AW111)","v":""}]
[]
[]
[]
[null,"増減額",null,null,null,null,{"$f":"IF(G115=\"\",\"\",G115)","v":""},null,null,null,null,null,null,null,null,null,null,{"$f":"IF(R115=\"\",\"\",R115)","v":""},null,{"$f":"IF(T115=\"\",\"\",T115)","v":""},null,{"$f":"IF(V115=\"\",\"\",V115)","v":""},null,{"$f":"IF(X115=\"\",\"\",X115)","v":""},null,{"$f":"IF(Z115=\"\",\"\",Z115)","v":""},null,{"$f":"IF(AB115=\"\",\"\",AB115)","v":""},null,{"$f":"IF(AD115=\"\",\"\",AD115)","v":""},null,{"$f":"IF(AF115=\"\",\"\",AF115)","v":""},null,{"$f":"IF(AH115=\"\",\"\",AH115)","v":""},null,{"$f":"IF(AJ115=\"\",\"\",AJ115)","v":""},null,{"$f":"IF(AL115=\"\",\"\",AL115)","v":""},null,null,{"$f":"IF(AO115=\"\",\"\",AO115)","v":""},null,null,{"$f":"IF(AR115=\"\",\"\",AR115)","v":""},null,null,null,null,{"$f":"IF(AW115=\"\",\"\",AW115)","v":""}]
[]
[]
[]
[null,"前回までの\n請求額",null,null,null,null,{"$f":"IF(G119=\"\",\"\",G119)","v":""},null,null,null,null,null,null,null,null,null,null,{"$f":"IF(R119=\"\",\"\",R119)","v":""},null,{"$f":"IF(T119=\"\",\"\",T119)","v":""},null,{"$f":"IF(V119=\"\",\"\",V119)","v":""},null,{"$f":"IF(X119=\"\",\"\",X119)","v":""},null,{"$f":"IF(Z119=\"\",\"\",Z119)","v":""},null,{"$f":"IF(AB119=\"\",\"\",AB119)","v":""},null,{"$f":"IF(AD119=\"\",\"\",AD119)","v":""},null,{"$f":"IF(AF119=\"\",\"\",AF119)","v":""},null,{"$f":"IF(AH119=\"\",\"\",AH119)","v":""},null,{"$f":"IF(AJ119=\"\",\"\",AJ119)","v":""},null,{"$f":"IF(AL119=\"\",\"\",AL119)","v":""},null,null,{"$f":"IF(AO119=\"\",\"\",AO119)","v":""},null,null,{"$f":"IF(AR119=\"\",\"\",AR119)","v":""},null,null,null,null,{"$f":"IF(AW119=\"\",\"\",AW119)","v":""}]
[]
[]
[]
[null,"今回\n請求額",null,null,{"$f":"IF(E31=\"\",\"\",E31)","v":""},null,{"$f":"IF(G123=\"\",\"\",G123)","v":""},null,null,null,null,null,null,null,null,null,null,{"$f":"IF(R123=\"\",\"\",R123)","v":""},null,{"$f":"IF(T123=\"\",\"\",T123)","v":""},null,{"$f":"IF(V123=\"\",\"\",V123)","v":""},null,{"$f":"IF(X123=\"\",\"\",X123)","v":""},null,{"$f":"IF(Z123=\"\",\"\",Z123)","v":""},null,{"$f":"IF(AB123=\"\",\"\",AB123)","v":""},null,{"$f":"IF(AD123=\"\",\"\",AD123)","v":""},null,{"$f":"IF(AF123=\"\",\"\",AF123)","v":""},null,{"$f":"IF(AH123=\"\",\"\",AH123)","v":""},null,{"$f":"IF(AJ123=\"\",\"\",AJ123)","v":""},null,{"$f":"IF(AL123=\"\",\"\",AL123)","v":""},null,null,{"$f":"IF(AO123=\"\",\"\",AO123)","v":""},null,null,{"$f":"IF(AR123=\"\",\"\",AR123)","v":""},null,null,null,null,{"$f":"IF(AW123=\"\",\"\",AW123)","v":""}]
[]
[]
[]
[null,"差引残高",null,null,null,null,{"$f":"IF(G203=\"\",\"\",G203+G207-G211-G215)","v":""},null,null,null,null,null,null,null,null,null,null,{"$f":"IF(R127=\"\",\"\",R127)","v":""},null,{"$f":"IF(T127=\"\",\"\",T127)","v":""},null,{"$f":"IF(V127=\"\",\"\",V127)","v":""},null,{"$f":"IF(X127=\"\",\"\",X127)","v":""},null,{"$f":"IF(Z127=\"\",\"\",Z127)","v":""},null,{"$f":"IF(AB127=\"\",\"\",AB127)","v":""},null,{"$f":"IF(AD127=\"\",\"\",AD127)","v":""},null,{"$f":"IF(AF127=\"\",\"\",AF127)","v":""},null,{"$f":"IF(AH127=\"\",\"\",AH127)","v":""},null,{"$f":"IF(AJ127=\"\",\"\",AJ127)","v":""},null,{"$f":"IF(AL127=\"\",\"\",AL127)","v":""},null,null,{"$f":"IF(AO127=\"\",\"\",AO127)","v":""},null,null,{"$f":"IF(AR127=\"\",\"\",AR127)","v":""},null,null,null,null,{"$f":"IF(AW127=\"\",\"\",AW127)","v":""}]
[]
[]
[]
[null,null,null,null,null,null,null,null,null,null,null,null,null,null,null,null,null,{"$f":"IF(R131=\"\",\"\",R131)","v":""},null,{"$f":"IF(T131=\"\",\"\",T131)","v":""},null,{"$f":"IF(V131=\"\",\"\",V131)","v":""},null,{"$f":"IF(X131=\"\",\"\",X131)","v":""},null,{"$f":"IF(Z131=\"\",\"\",Z131)","v":""},null,{"$f":"IF(AB131=\"\",\"\",AB131)","v":""},null,{"$f":"IF(AD131=\"\",\"\",AD131)","v":""},null,{"$f":"IF(AF131=\"\",\"\",AF131)","v":""},null,{"$f":"IF(AH131=\"\",\"\",AH131)","v":""},null,{"$f":"IF(AJ131=\"\",\"\",AJ131)","v":""},null,{"$f":"IF(AL131=\"\",\"\",AL131)","v":""},null,null,{"$f":"IF(AO131=\"\",\"\",AO131)","v":""},null,null,{"$f":"IF(AR131=\"\",\"\",AR131)","v":""},null,null,null,null,{"$f":"IF(AW131=\"\",\"\",AW131)","v":""}]
[]
[]
[]
[null,null,null,null,null,null,null,null,null,null,null,null,null,null,null,null,null,{"$f":"IF(R135=\"\",\"\",R135)","v":""},null,{"$f":"IF(T135=\"\",\"\",T135)","v":""},null,{"$f":"IF(V135=\"\",\"\",V135)","v":""},null,{"$f":"IF(X135=\"\",\"\",X135)","v":""},null,{"$f":"IF(Z135=\"\",\"\",Z135)","v":""},null,{"$f":"IF(AB135=\"\",\"\",AB135)","v":""},null,{"$f":"IF(AD135=\"\",\"\",AD135)","v":""},null,{"$f":"IF(AF135=\"\",\"\",AF135)","v":""},null,{"$f":"IF(AH135=\"\",\"\",AH135)","v":""},null,{"$f":"IF(AJ135=\"\",\"\",AJ135)","v":""},null,{"$f":"IF(AL135=\"\",\"\",AL135)","v":""},null,null,{"$f":"IF(AO135=\"\",\"\",AO135)","v":""},null,null,{"$f":"IF(AR135=\"\",\"\",AR135)","v":""},null,null,null,null,{"$f":"IF(AW135=\"\",\"\",AW135)","v":""}]
[]
[]
[]
[null,null,null,null,null,null,null,null,null,null,null,null,null,null,null,null,null,{"$f":"IF(R139=\"\",\"\",R139)","v":""},null,{"$f":"IF(T139=\"\",\"\",T139)","v":""},null,{"$f":"IF(V139=\"\",\"\",V139)","v":""},null,{"$f":"IF(X139=\"\",\"\",X139)","v":""},null,{"$f":"IF(Z139=\"\",\"\",Z139)","v":""},null,{"$f":"IF(AB139=\"\",\"\",AB139)","v":""},null,{"$f":"IF(AD139=\"\",\"\",AD139)","v":""},null,{"$f":"IF(AF139=\"\",\"\",AF139)","v":""},null,{"$f":"IF(AH139=\"\",\"\",AH139)","v":""},null,{"$f":"IF(AJ139=\"\",\"\",AJ139)","v":""},null,{"$f":"IF(AL139=\"\",\"\",AL139)","v":""},null,null,{"$f":"IF(AO139=\"\",\"\",AO139)","v":""},null,null,{"$f":"IF(AR139=\"\",\"\",AR139)","v":""},null,null,null,null,{"$f":"IF(AW139=\"\",\"\",AW139)","v":""}]
[]
[]
[]
[null,null,null,null,null,null,null,null,null,null,null,null,null,null,null,null,null,{"$f":"IF(R143=\"\",\"\",R143)","v":""},null,{"$f":"IF(T143=\"\",\"\",T143)","v":""},null,{"$f":"IF(V143=\"\",\"\",V143)","v":""},null,{"$f":"IF(X143=\"\",\"\",X143)","v":""},null,{"$f":"IF(Z143=\"\",\"\",Z143)","v":""},null,{"$f":"IF(AB143=\"\",\"\",AB143)","v":""},null,{"$f":"IF(AD143=\"\",\"\",AD143)","v":""},null,{"$f":"IF(AF143=\"\",\"\",AF143)","v":""},null,{"$f":"IF(AH143=\"\",\"\",AH143)","v":""},null,{"$f":"IF(AJ143=\"\",\"\",AJ143)","v":""},null,{"$f":"IF(AL143=\"\",\"\",AL143)","v":""},null,null,{"$f":"IF(AO143=\"\",\"\",AO143)","v":""},null,null,{"$f":"IF(AR143=\"\",\"\",AR143)","v":""},null,null,null,null,{"$f":"IF(AW143=\"\",\"\",AW143)","v":""}]
[]
[]
[]
[null,null,null,null,null,null,null,null,null,null,null,null,null,null,null,null,null,{"$f":"IF(R147=\"\",\"\",R147)","v":""},null,{"$f":"IF(T147=\"\",\"\",T147)","v":""},null,{"$f":"IF(V147=\"\",\"\",V147)","v":""},null,{"$f":"IF(X147=\"\",\"\",X147)","v":""},null,{"$f":"IF(Z147=\"\",\"\",Z147)","v":""},null,{"$f":"IF(AB147=\"\",\"\",AB147)","v":""},null,{"$f":"IF(AD147=\"\",\"\",AD147)","v":""},null,{"$f":"IF(AF147=\"\",\"\",AF147)","v":""},null,{"$f":"IF(AH147=\"\",\"\",AH147)","v":""},null,{"$f":"IF(AJ147=\"\",\"\",AJ147)","v":""},null,{"$f":"IF(AL147=\"\",\"\",AL147)","v":""},null,null,{"$f":"IF(AO147=\"\",\"\",AO147)","v":""},null,null,{"$f":"IF(AR147=\"\",\"\",AR147)","v":""},null,null,null,null,{"$f":"IF(AW147=\"\",\"\",AW147)","v":""}]
[]
[]
[]
[null,null,null,null,null,null,null,null,null,null,null,null,null,null,null,null,null,{"$f":"IF(R151=\"\",\"\",R151)","v":""},null,{"$f":"IF(T151=\"\",\"\",T151)","v":""},null,{"$f":"IF(V151=\"\",\"\",V151)","v":""},null,{"$f":"IF(X151=\"\",\"\",X151)","v":""},null,{"$f":"IF(Z151=\"\",\"\",Z151)","v":""},null,{"$f":"IF(AB151=\"\",\"\",AB151)","v":""},null,{"$f":"IF(AD151=\"\",\"\",AD151)","v":""},null,{"$f":"IF(AF151=\"\",\"\",AF151)","v":""},null,{"$f":"IF(AH151=\"\",\"\",AH151)","v":""},null,{"$f":"IF(AJ151=\"\",\"\",AJ151)","v":""},null,{"$f":"IF(AL151=\"\",\"\",AL151)","v":""},null,null,{"$f":"IF(AO151=\"\",\"\",AO151)","v":""},null,null,{"$f":"IF(AR151=\"\",\"\",AR151)","v":""},null,null,null,null,{"$f":"IF(AW151=\"\",\"\",AW151)","v":""}]
[]
[]
[]
[null,null,null,null,null,null,null,null,null,null,null,null,null,null,null,null,null,{"$f":"IF(R155=\"\",\"\",R155)","v":""},null,{"$f":"IF(T155=\"\",\"\",T155)","v":""},null,{"$f":"IF(V155=\"\",\"\",V155)","v":""},null,{"$f":"IF(X155=\"\",\"\",X155)","v":""},null,{"$f":"IF(Z155=\"\",\"\",Z155)","v":""},null,{"$f":"IF(AB155=\"\",\"\",AB155)","v":""},null,{"$f":"IF(AD155=\"\",\"\",AD155)","v":""},null,{"$f":"IF(AF155=\"\",\"\",AF155)","v":""},null,{"$f":"IF(AH155=\"\",\"\",AH155)","v":""},null,{"$f":"IF(AJ155=\"\",\"\",AJ155)","v":""},null,{"$f":"IF(AL155=\"\",\"\",AL155)","v":""},null,null,{"$f":"IF(AO155=\"\",\"\",AO155)","v":""},null,null,{"$f":"IF(AR155=\"\",\"\",AR155)","v":""},null,null,null,null,{"$f":"IF(AW155=\"\",\"\",AW155)","v":""}]
[]
[]
[]
[null,null,null,null,null,null,null,null,null,null,null,null,null,null,null,null,null,{"$f":"IF(R159=\"\",\"\",R159)","v":""},null,{"$f":"IF(T159=\"\",\"\",T159)","v":""},null,{"$f":"IF(V159=\"\",\"\",V159)","v":""},null,{"$f":"IF(X159=\"\",\"\",X159)","v":""},null,{"$f":"IF(Z159=\"\",\"\",Z159)","v":""},null,{"$f":"IF(AB159=\"\",\"\",AB159)","v":""},null,{"$f":"IF(AD159=\"\",\"\",AD159)","v":""},null,{"$f":"IF(AF159=\"\",\"\",AF159)","v":""},null,{"$f":"IF(AH159=\"\",\"\",AH159)","v":""},null,{"$f":"IF(AJ159=\"\",\"\",AJ159)","v":""},null,{"$f":"IF(AL159=\"\",\"\",AL159)","v":""},null,null,{"$f":"IF(AO159=\"\",\"\",AO159)","v":""},null,null,{"$f":"IF(AR159=\"\",\"\",AR159)","v":""},null,null,null,null,{"$f":"IF(AW159=\"\",\"\",AW159)","v":""}]
[]
[]
[]
[null,null,null,null,null,null,null,null,null,null,null,null,null,null,null,null,null,{"$f":"IF(R163=\"\",\"\",R163)","v":""},null,{"$f":"IF(T163=\"\",\"\",T163)","v":""},null,{"$f":"IF(V163=\"\",\"\",V163)","v":""},null,{"$f":"IF(X163=\"\",\"\",X163)","v":""},null,{"$f":"IF(Z163=\"\",\"\",Z163)","v":""},null,{"$f":"IF(AB163=\"\",\"\",AB163)","v":""},null,{"$f":"IF(AD163=\"\",\"\",AD163)","v":""},null,{"$f":"IF(AF163=\"\",\"\",AF163)","v":""},null,{"$f":"IF(AH163=\"\",\"\",AH163)","v":""},null,{"$f":"IF(AJ163=\"\",\"\",AJ163)","v":""},null,{"$f":"IF(AL163=\"\",\"\",AL163)","v":""},null,null,{"$f":"IF(AO163=\"\",\"\",AO163)","v":""},null,null,{"$f":"IF(AR163=\"\",\"\",AR163)","v":""},null,null,null,null,{"$f":"IF(AW163=\"\",\"\",AW163)","v":""}]
[]
[]
[]
[null,null,null,null,null,null,null,null,null,null,null,null,null,null,null,null,null,{"$f":"IF(R167=\"\",\"\",R167)","v":""},null,{"$f":"IF(T167=\"\",\"\",T167)","v":""},null,{"$f":"IF(V167=\"\",\"\",V167)","v":""},null,{"$f":"IF(X167=\"\",\"\",X167)","v":""},null,{"$f":"IF(Z167=\"\",\"\",Z167)","v":""},null,{"$f":"IF(AB167=\"\",\"\",AB167)","v":""},null,{"$f":"IF(AD167=\"\",\"\",AD167)","v":""},null,{"$f":"IF(AF167=\"\",\"\",AF167)","v":""},null,{"$f":"IF(AH167=\"\",\"\",AH167)","v":""},null,{"$f":"IF(AJ167=\"\",\"\",AJ167)","v":""},null,{"$f":"IF(AL167=\"\",\"\",AL167)","v":""},null,null,{"$f":"IF(AO167=\"\",\"\",AO167)","v":""},null,null,{"$f":"IF(AR167=\"\",\"\",AR167)","v":""},null,null,null,null,{"$f":"IF(AW167=\"\",\"\",AW167)","v":""}]
[]
[]
[]
[null,null,null,null,null,null,null,null,null,null,null,null,null,null,null,null,null,{"$f":"IF(R171=\"\",\"\",R171)","v":""},null,{"$f":"IF(T171=\"\",\"\",T171)","v":""},null,{"$f":"IF(V171=\"\",\"\",V171)","v":""},null,{"$f":"IF(X171=\"\",\"\",X171)","v":""},null,{"$f":"IF(Z171=\"\",\"\",Z171)","v":""},null,{"$f":"IF(AB171=\"\",\"\",AB171)","v":""},null,{"$f":"IF(AD171=\"\",\"\",AD171)","v":""},null,{"$f":"IF(AF171=\"\",\"\",AF171)","v":""},null,{"$f":"IF(AH171=\"\",\"\",AH171)","v":""},null,{"$f":"IF(AJ171=\"\",\"\",AJ171)","v":""},null,{"$f":"IF(AL171=\"\",\"\",AL171)","v":""},null,null,{"$f":"IF(AO171=\"\",\"\",AO171)","v":""},null,null,{"$f":"IF(AR171=\"\",\"\",AR171)","v":""},null,null,null,null,{"$f":"IF(AW171=\"\",\"\",AW171)","v":""}]
[]
[]
[]
[null,null,null,null,null,null,null,null,null,null,null,null,null,null,null,null,null,null,null,null,null,null,null,null,null,null,null,null,null,null,null,null,null,null,null,null,null,{"$f":"AL175","v":"金額(税抜)"},null,null,null,null,null,null,null,null,null,null,{"$f":"AW83","v":""}]
[]
[]
[]
[]
[null,null,null,null,null,null,null,null,null,null,null,null,null,null,null,null,null,null,null,null,null,null,null,null,null,null,null,null,null,null,null,null,null,null,null,null,null,{"$f":"AL180","v":"消費税"},null,null,null,null,null,"税率",null,null,"税調",null,{"$f":"AW88","v":""}]
[]
[null,null,null,null,null,null,null,null,null,null,null,null,null,null,null,null,null,null,null,null,null,null,null,null,null,null,null,null,null,null,null,null,null,null,null,null,null,null,null,null,null,null,null,{"$f":"AR90","v":0},null,{"$f":"AT90","v":""}]

{"sheet":"細1-3","index":6,"n_rows":274,"n_cols":53,"rows_kept":274,"cut":false,"hidden":false,"merged":[[179,37,182,42],[179,43,180,45],[179,46,180,47],[181,43,182,44],[181,45,182,45],[181,46,182,47],[271,37,274,42],[271,43,272,45],[273,43,274,44],[273,45,274,45],[273,46,274,47],[271,46,272,47],[187,40,189,44],[187,45,189,48],[179,48,182,54],[198,48,201,54],[214,48,217,54],[222,40,225,42],[222,43,225,47],[254,37,257,39],[246,40,249,42],[246,43,249,47],[246,48,249,54],[254,48,257,54],[3,49,5,51],[3,52,5,54],[8,37,11,40],[8,41,11,54],[1,19,4,32],[2,1,5,11],[2,12,5,13],[8,1,11,5],[8,6,11,11],[8,12,11,15],[8,16,11,35],[3,40,5,44],[3,45,5,48],[14,43,17,47],[14,48,17,54],[14,1,17,5],[14,6,17,15],[14,17,17,20],[14,21,17,36],[18,1,21,5],[18,6,21,15],[18,17,21,18],[14,37,17,39],[14,40,17,42],[18,21,21,36],[18,37,21,39],[18,40,21,42],[18,43,21,47],[26,1,29,5],[26,6,29,15],[26,17,29,18],[26,19,29,20],[18,48,21,54],[22,1,25,5],[22,6,25,15],[22,17,25,18],[22,19,25,20],[22,21,25,36],[26,21,29,36],[26,37,29,39],[26,40,29,42],[26,43,29,47],[22,37,25,39],[22,40,25,42],[22,43,25,47],[18,19,21,20],[34,48,37,54],[26,48,29,54],[30,1,33,3],[30,4,33,5],[30,6,33,15],[30,17,33,18],[30,19,33,20],[22,48,25,54],[38,17,41,18],[38,19,41,20],[38,21,41,36],[38,37,41,39],[30,48,33,54],[34,1,37,5],[34,6,37,15],[34,17,37,18],[34,19,37,20],[34,21,37,36],[38,40,41,42],[38,43,41,47],[38,48,41,54],[30,21,33,36],[30,37,33,39],[30,40,33,42],[30,43,33,47],[34,37,37,39],[34,40,37,42],[34,43,37,47],[46,40,49,42],[46,43,49,47],[46,21,49,36],[46,37,49,39],[54,40,57,42],[54,43,57,47],[42,17,45,18],[42,19,45,20],[42,21,45,36],[42,37,45,39],[42,40,45,42],[42,43,45,47],[42,48,45,54],[46,48,49,54],[50,17,53,18],[50,19,53,20],[50,21,53,36],[50,37,53,39],[50,40,53,42],[50,43,53,47],[50,48,53,54],[46,17,49,18],[46,19,49,20],[58,17,61,18],[58,19,61,20],[58,21,61,36],[58,37,61,39],[58,40,61,42],[58,43,61,47],[58,48,61,54],[54,17,57,18],[54,19,57,20],[54,21,57,36],[54,37,57,39],[54,48,57,54],[62,40,65,42],[62,43,65,47],[62,21,65,36],[62,37,65,39],[70,40,73,42],[70,43,73,47],[70,48,73,54],[62,48,65,54],[66,17,69,18],[66,19,69,20],[66,21,69,36],[66,37,69,39],[66,40,69,42],[66,43,69,47],[66,48,69,54],[62,17,65,18],[62,19,65,20],[74,17,77,18],[74,19,77,20],[74,21,77,36],[74,37,77,39],[74,40,77,42],[74,43,77,47],[74,48,77,54],[70,17,73,18],[70,19,73,20],[70,21,73,36],[70,37,73,39],[78,48,81,54],[82,37,85,47],[82,48,85,54],[78,37,81,39],[78,40,81,42],[85,11,90,16],[85,17,90,25],[78,43,81,47],[83,26,84,30],[83,31,84,35],[78,17,81,18],[78,19,81,20],[78,21,81,36],[85,26,90,30],[85,31,90,35],[83,1,84,4],[83,5,84,10],[83,11,84,16],[83,17,84,25],[85,1,90,4],[85,5,90,10],[87,48,90,54],[95,49,97,51],[95,52,97,54],[95,40,97,44],[95,45,97,48],[87,37,90,42],[87,43,88,45],[89,43,90,44],[89,45,90,45],[89,46,90,47],[87,46,88,47],[100,1,103,5],[100,6,103,11],[100,12,103,15],[100,16,103,35],[100,37,103,40],[100,41,103,54],[93,19,96,32],[94,1,97,11],[94,12,97,13],[106,37,109,39],[106,40,109,42],[106,43,109,47],[106,48,109,54],[106,1,109,5],[106,6,109,15],[106,17,109,20],[106,21,109,36],[110,21,113,36],[110,37,113,39],[110,40,113,42],[110,43,113,47],[110,1,113,5],[110,6,113,15],[110,17,113,18],[110,19,113,20],[110,48,113,54],[114,1,117,5],[114,6,117,15],[114,17,117,18],[114,19,117,20],[114,21,117,36],[114,37,117,39],[114,40,117,42],[114,43,117,47],[114,48,117,54],[118,21,121,36],[118,37,121,39],[118,40,121,42],[118,43,121,47],[118,1,121,5],[118,6,121,15],[118,17,121,18],[118,19,121,20],[118,48,121,54],[122,48,125,54],[126,1,129,5],[126,6,129,15],[126,17,129,18],[126,19,129,20],[126,21,129,36],[126,37,129,39],[126,40,129,42],[126,43,129,47],[126,48,129,54],[122,1,125,3],[122,4,125,5],[122,6,125,15],[122,17,125,18],[122,19,125,20],[122,21,125,36],[122,37,125,39],[122,40,125,42],[122,43,125,47],[130,40,133,42],[130,43,133,47],[130,21,133,36],[130,37,133,39],[138,40,141,42],[138,43,141,47],[138,48,141,54],[130,48,133,54],[134,17,137,18],[134,19,137,20],[134,21,137,36],[134,37,137,39],[134,40,137,42],[134,43,137,47],[134,48,137,54],[130,17,133,18],[130,19,133,20],[142,17,145,18],[142,19,145,20],[142,21,145,36],[142,37,145,39],[142,40,145,42],[142,43,145,47],[142,48,145,54],[138,17,141,18],[138,19,141,20],[138,21,141,36],[138,37,141,39],[154,48,157,54],[146,48,149,54],[150,17,153,18],[150,19,153,20],[150,21,153,36],[150,37,153,39],[150,40,153,42],[150,43,153,47],[150,48,153,54],[146,17,149,18],[146,19,149,20],[154,17,157,18],[154,19,157,20],[154,21,157,36],[154,37,157,39],[146,40,149,42],[146,43,149,47],[146,21,149,36],[146,37,149,39],[154,40,157,42],[154,43,157,47],[174,48,177,54],[170,17,173,18],[170,19,173,20],[158,17,161,18],[158,19,161,20],[158,21,161,36],[158,37,161,39],[158,40,161,42],[158,43,161,47],[158,48,161,54],[170,21,173,36],[170,37,173,39],[170,43,173,47],[185,19,188,32],[186,1,189,11],[186,12,189,13],[192,37,195,40],[192,41,195,54],[162,40,165,42],[162,43,165,47],[162,21,165,36],[162,37,165,39],[162,48,165,54],[166,17,169,18],[166,19,169,20],[166,21,169,36],[166,37,169,39],[166,40,169,42],[166,43,169,47],[166,48,169,54],[162,17,165,18],[162,19,165,20],[187,49,189,51],[187,52,189,54],[170,40,173,42],[170,48,173,54],[174,37,177,47],[202,21,205,36],[202,37,205,39],[202,40,205,42],[202,43,205,47],[202,1,205,5],[202,6,205,15],[202,17,205,18],[202,19,205,20],[202,48,205,54],[198,1,201,5],[198,6,201,15],[198,17,201,20],[198,21,201,36],[198,37,201,39],[198,40,201,42],[198,43,201,47],[192,1,195,5],[192,6,195,11],[192,12,195,15],[192,16,195,35],[206,1,209,5],[206,6,209,15],[206,17,209,18],[206,19,209,20],[206,21,209,36],[206,37,209,39],[206,40,209,42],[206,43,209,47],[206,48,209,54],[210,21,213,36],[210,37,213,39],[210,40,213,42],[210,43,213,47],[210,1,213,5],[210,6,213,15],[210,17,213,18],[210,19,213,20],[210,48,213,54],[218,1,221,5],[218,6,221,15],[218,17,221,18],[218,19,221,20],[218,21,221,36],[218,37,221,39],[218,40,221,42],[218,43,221,47],[218,48,221,54],[214,1,217,3],[214,4,217,5],[214,6,217,15],[214,17,217,18],[214,19,217,20],[214,21,217,36],[214,37,217,39],[214,40,217,42],[214,43,217,47],[222,21,225,36],[222,37,225,39],[230,40,233,42],[230,43,233,47],[230,48,233,54],[222,48,225,54],[226,17,229,18],[226,19,229,20],[226,21,229,36],[226,37,229,39],[226,40,229,42],[226,43,229,47],[226,48,229,54],[222,17,225,18],[222,19,225,20],[234,17,237,18],[234,19,237,20],[234,21,237,36],[234,37,237,39],[234,40,237,42],[234,43,237,47],[234,48,237,54],[230,17,233,18],[230,19,233,20],[230,21,233,36],[230,37,233,39],[242,17,245,18],[242,19,245,20],[242,21,245,36],[242,37,245,39],[242,40,245,42],[242,43,245,47],[242,48,245,54],[238,17,241,18],[238,19,241,20],[238,40,241,42],[238,43,241,47],[238,21,241,36],[238,37,241,39],[238,48,241,54],[250,17,253,18],[250,19,253,20],[250,21,253,36],[250,37,253,39],[250,40,253,42],[250,43,253,47],[250,48,253,54],[246,17,249,18],[246,19,249,20],[246,21,249,36],[246,37,249,39],[258,17,261,18],[258,19,261,20],[258,21,261,36],[258,37,261,39],[258,40,261,42],[258,43,261,47],[258,48,261,54],[254,17,257,18],[254,19,257,20],[254,40,257,42],[254,43,257,47],[254,21,257,36],[271,48,274,54],[262,40,265,42],[262,43,265,47],[262,48,265,54],[266,37,269,47],[266,48,269,54],[262,17,265,18],[262,19,265,20],[262,21,265,36],[262,37,265,39]]}
[]
[null,null,null,null,null,null,null,null,null,null,null,null,null,null,null,null,null,null,null,"請求書明細書 (正)"]
[null,"株 式 会 社 種 村 建 設",null,null,null,null,null,null,null,null,null,null,"御中"]
[null,null,null,null,null,null,null,null,null,null,null,null,null,null,null,null,null,null,null,null,null,null,null,null,null,null,null,null,null,null,null,null,null,null,null,null,null,null,null,null,"請求年月日",null,null,null,null,{"$f":"IF(年=\"\",\"\",年)","v":""},null,null,null,{"$f":"IF(月=\"\",\"\",月)","v":""},null,null,{"$f":"IF(日=\"\",\"\",日)","v":""}]
[]
[]
[]
[]
[null,"工事番号",null,null,null,null,null,null,null,null,null,null,"工事名",null,null,null,null,null,null,null,null,null,null,null,null,null,null,null,null,null,null,null,null,null,null,null,null,"業者名",null,null,null,{"$f":"IF(社名=\"\",\"\",社名)","v":""}]
[]
[]
[]
[]
[]
[null,"注文番号",null,null,null,null,null,null,null,null,null,null,null,null,null,null,null,"月　日",null,null,null,"品　名・内　訳",null,null,null,null,null,null,null,null,null,null,null,null,null,null,null,"数 量",null,null,"単位",null,null,"単価",null,null,null,null,{"$f":"表紙①!P35","v":"金額(税抜)"}]
[]
[]
[]
[null,"契約金額",null,null,null,null,null,null,null,null,null,null,null,null,null,null,null,null,null,null,null,null,null,null,null,null,null,null,null,null,null,null,null,null,null,null,null,null,null,null,null,null,null,null,null,null,null,null,{"$f":"IF(V19=\"\",\"\",ROUND(AL19*AR19,0))","v":""}]
[]
[]
[]
[null,"増減額",null,null,null,null,null,null,null,null,null,null,null,null,null,null,null,null,null,null,null,null,null,null,null,null,null,null,null,null,null,null,null,null,null,null,null,null,null,null,null,null,null,null,null,null,null,null,{"$f":"IF(V23=\"\",\"\",ROUND(AL23*AR23,0))","v":""}]
[]
[]
[]
[null,"前回までの\n請求額",null,null,null,null,null,null,null,null,null,null,null,null,null,null,null,null,null,null,null,null,null,null,null,null,null,null,null,null,null,null,null,null,null,null,null,null,null,null,null,null,null,null,null,null,null,null,{"$f":"IF(V27=\"\",\"\",ROUND(AL27*AR27,0))","v":""}]
[]
[]
[]
[null,"今回\n請求額",null,null,null,null,null,null,null,null,null,null,null,null,null,null,null,null,null,null,null,null,null,null,null,null,null,null,null,null,null,null,null,null,null,null,null,null,null,null,null,null,null,null,null,null,null,null,{"$f":"IF(V31=\"\",\"\",ROUND(AL31*AR31,0))","v":""}]
[]
[]
[]
[null,"差引残高",null,null,null,null,{"$f":"IF(G19=\"\",\"\",G19+G23-G27-G31)","v":""},null,null,null,null,null,null,null,null,null,null,null,null,null,null,null,null,null,null,null,null,null,null,null,null,null,null,null,null,null,null,null,null,null,null,null,null,null,null,null,null,null,{"$f":"IF(V35=\"\",\"\",ROUND(AL35*AR35,0))","v":""}]
[]
[]
[]
[null,null,null,null,null,null,null,null,null,null,null,null,null,null,null,null,null,null,null,null,null,null,null,null,null,null,null,null,null,null,null,null,null,null,null,null,null,null,null,null,null,null,null,null,null,null,null,null,{"$f":"IF(V39=\"\",\"\",ROUND(AL39*AR39,0))","v":""}]
[]
[]
[]
[null,null,null,null,null,null,null,null,null,null,null,null,null,null,null,null,null,null,null,null,null,null,null,null,null,null,null,null,null,null,null,null,null,null,null,null,null,null,null,null,null,null,null,null,null,null,null,null,{"$f":"IF(V43=\"\",\"\",ROUND(AL43*AR43,0))","v":""}]
[]
[]
[]
[null,null,null,null,null,null,null,null,null,null,null,null,null,null,null,null,null,null,null,null,null,null,null,null,null,null,null,null,null,null,null,null,null,null,null,null,null,null,null,null,null,null,null,null,null,null,null,null,{"$f":"IF(V47=\"\",\"\",ROUND(AL47*AR47,0))","v":""}]
[]
[]
[]
[null,null,null,null,null,null,null,null,null,null,null,null,null,null,null,null,null,null,null,null,null,null,null,null,null,null,null,null,null,null,null,null,null,null,null,null,null,null,null,null,null,null,null,null,null,null,null,null,{"$f":"IF(V51=\"\",\"\",ROUND(AL51*AR51,0))","v":""}]
[]
[]
[]
[null,null,null,null,null,null,null,null,null,null,null,null,null,null,null,null,null,null,null,null,null,null,null,null,null,null,null,null,null,null,null,null,null,null,null,null,null,null,null,null,null,null,null,null,null,null,null,null,{"$f":"IF(V55=\"\",\"\",ROUND(AL55*AR55,0))","v":""}]
[]
[]
[]
[null,null,null,null,null,null,null,null,null,null,null,null,null,null,null,null,null,null,null,null,null,null,null,null,null,null,null,null,null,null,null,null,null,null,null,null,null,null,null,null,null,null,null,null,null,null,null,null,{"$f":"IF(V59=\"\",\"\",ROUND(AL59*AR59,0))","v":""}]
[]
[]
[]
[null,null,null,null,null,null,null,null,null,null,null,null,null,null,null,null,null,null,null,null,null,null,null,null,null,null,null,null,null,null,null,null,null,null,null,null,null,null,null,null,null,null,null,null,null,null,null,null,{"$f":"IF(V63=\"\",\"\",ROUND(AL63*AR63,0))","v":""}]
[]
[]
[]
[null,null,null,null,null,null,null,null,null,null,null,null,null,null,null,null,null,null,null,null,null,null,null,null,null,null,null,null,null,null,null,null,null,null,null,null,null,null,null,null,null,null,null,null,null,null,null,null,{"$f":"IF(V67=\"\",\"\",ROUND(AL67*AR67,0))","v":""}]
[]
[]
[]
[null,null,null,null,null,null,null,null,null,null,null,null,null,null,null,null,null,null,null,null,null,null,null,null,null,null,null,null,null,null,null,null,null,null,null,null,null,null,null,null,null,null,null,null,null,null,null,null,{"$f":"IF(V71=\"\",\"\",ROUND(AL71*AR71,0))","v":""}]
[]
[]
[]
[null,null,null,null,null,null,null,null,null,null,null,null,null,null,null,null,null,null,null,null,null,null,null,null,null,null,null,null,null,null,null,null,null,null,null,null,null,null,null,null,null,null,null,null,null,null,null,null,{"$f":"IF(V75=\"\",\"\",ROUND(AL75*AR75,0))","v":""}]
[]
[]
[]
[null,null,null,null,null,null,null,null,null,null,null,null,null,null,null,null,null,null,null,null,null,null,null,null,null,null,null,null,null,null,null,null,null,null,null,null,null,null,null,null,null,null,null,null,null,null,null,null,{"$f":"IF(V79=\"\",\"\",ROUND(AL79*AR79,0))","v":""}]
[]
[]
[]
[null,null,null,null,null,null,null,null,null,null,null,null,null,null,null,null,null,null,null,null,null,null,null,null,null,null,null,null,null,null,null,null,null,null,null,null,null,"金額(税抜)",null,null,null,null,null,null,null,null,null,null,{"$f":"IF(AW19=\"\",\"\",SUM(AW19:AW79))","v":""}]
[null,"社長",null,null,null,"専務",null,null,null,null,null,"常務",null,null,null,null,null,"部長･工場長",null,null,null,null,null,null,null,null,"担当者",null,null,null,null,"受付"]
[]
[]
[]
[null,null,null,null,null,null,null,null,null,null,null,null,null,null,null,null,null,null,null,null,null,null,null,null,null,null,null,null,null,null,null,null,null,null,null,null,null,"消費税",null,null,null,null,null,"税率",null,null,"税調",null,{"$f":"IF(AW83=\"\",\"\",IF(AR90=\"\",\"\",IF(AR90=8.1,ROUND(AW83*8/100,0)+AU90,ROUND(AW83*AR90/100,0)+AU90)))","v":""}]
[]
[null,null,null,null,null,null,null,null,null,null,null,null,null,null,null,null,null,null,null,null,null,null,null,null,null,null,null,null,null,null,null,null,null,null,null,null,null,null,null,null,null,null,null,null,null,{"$f":"IF(AR90=\"\",\"\",IF(AR90=8.1,\"旧\",IF(AR90=8,\"軽\",IF(AR90=0,\"非\",\"\"))))","v":""}]
[]
[]
[]
[null,null,null,null,null,null,null,null,null,null,null,null,null,null,null,null,null,null,null,"請求明細書 (現場控)"]
[null,"株 式 会 社 種 村 建 設",null,null,null,null,null,null,null,null,null,null,"御中"]
[null,null,null,null,null,null,null,null,null,null,null,null,null,null,null,null,null,null,null,null,null,null,null,null,null,null,null,null,null,null,null,null,null,null,null,null,null,null,null,null,"請求年月日",null,null,null,null,{"$f":"IF(AT4=\"\",\"\",AT4)","v":""},null,null,null,{"$f":"IF(AX4=\"\",\"\",AX4)","v":""},null,null,{"$f":"IF(BA4=\"\",\"\",BA4)","v":""}]
[]
[]
[]
[]
[null,"工事番号",null,null,null,null,{"$f":"IF(G9=\"\",\"\",G9)","v":""},null,null,null,null,null,"工事名",null,null,null,{"$f":"IF(Q9=\"\",\"\",Q9)","v":""},null,null,null,null,null,null,null,null,null,null,null,null,null,null,null,null,null,null,null,null,"業者名",null,null,null,{"$f":"IF(AP9=\"\",\"\",AP9)","v":""}]
[]
[]
[]
[]
[]
[null,"注文番号",null,null,null,null,{"$f":"IF(G15=\"\",\"\",G15)","v":""},null,null,null,null,null,null,null,null,null,null,"月　日",null,null,null,"品　名・内　訳",null,null,null,null,null,null,null,null,null,null,null,null,null,null,null,"数 量",null,null,"単位",null,null,"単価",null,null,null,null,{"$f":"表紙①!P127","v":"金額(税抜)"}]
[]
[]
[]
[null,"契約金額",null,null,null,null,{"$f":"IF(G19=\"\",\"\",G19)","v":""},null,null,null,null,null,null,null,null,null,null,{"$f":"IF(R19=\"\",\"\",R19)","v":""},null,{"$f":"IF(T19=\"\",\"\",T19)","v":""},null,{"$f":"IF(V19=\"\",\"\",V19)","v":""},null,{"$f":"IF(X19=\"\",\"\",X19)","v":""},null,{"$f":"IF(Z19=\"\",\"\",Z19)","v":""},null,{"$f":"IF(AB19=\"\",\"\",AB19)","v":""},null,{"$f":"IF(AD19=\"\",\"\",AD19)","v":""},null,{"$f":"IF(AF19=\"\",\"\",AF19)","v":""},null,{"$f":"IF(AH19=\"\",\"\",AH19)","v":""},null,{"$f":"IF(AJ19=\"\",\"\",AJ19)","v":""},null,{"$f":"IF(AL19=\"\",\"\",AL19)","v":""},null,null,{"$f":"IF(AO19=\"\",\"\",AO19)","v":""},null,null,{"$f":"IF(AR19=\"\",\"\",AR19)","v":""},null,null,null,null,{"$f":"IF(AW19=\"\",\"\",AW19)","v":""}]
[]
[]
[]
[null,"増減額",null,null,null,null,{"$f":"IF(G23=\"\",\"\",G23)","v":""},null,null,null,null,null,null,null,null,null,null,{"$f":"IF(R23=\"\",\"\",R23)","v":""},null,{"$f":"IF(T23=\"\",\"\",T23)","v":""},null,{"$f":"IF(V23=\"\",\"\",V23)","v":""},null,{"$f":"IF(X23=\"\",\"\",X23)","v":""},null,{"$f":"IF(Z23=\"\",\"\",Z23)","v":""},null,{"$f":"IF(AB23=\"\",\"\",AB23)","v":""},null,{"$f":"IF(AD23=\"\",\"\",AD23)","v":""},null,{"$f":"IF(AF23=\"\",\"\",AF23)","v":""},null,{"$f":"IF(AH23=\"\",\"\",AH23)","v":""},null,{"$f":"IF(AJ23=\"\",\"\",AJ23)","v":""},null,{"$f":"IF(AL23=\"\",\"\",AL23)","v":""},null,null,{"$f":"IF(AO23=\"\",\"\",AO23)","v":""},null,null,{"$f":"IF(AR23=\"\",\"\",AR23)","v":""},null,null,null,null,{"$f":"IF(AW23=\"\",\"\",AW23)","v":""}]
[]
[]
[]
[null,"前回までの\n請求額",null,null,null,null,{"$f":"IF(G27=\"\",\"\",G27)","v":""},null,null,null,null,null,null,null,null,null,null,{"$f":"IF(R27=\"\",\"\",R27)","v":""},null,{"$f":"IF(T27=\"\",\"\",T27)","v":""},null,{"$f":"IF(V27=\"\",\"\",V27)","v":""},null,{"$f":"IF(X27=\"\",\"\",X27)","v":""},null,{"$f":"IF(Z27=\"\",\"\",Z27)","v":""},null,{"$f":"IF(AB27=\"\",\"\",AB27)","v":""},null,{"$f":"IF(AD27=\"\",\"\",AD27)","v":""},null,{"$f":"IF(AF27=\"\",\"\",AF27)","v":""},null,{"$f":"IF(AH27=\"\",\"\",AH27)","v":""},null,{"$f":"IF(AJ27=\"\",\"\",AJ27)","v":""},null,{"$f":"IF(AL27=\"\",\"\",AL27)","v":""},null,null,{"$f":"IF(AO27=\"\",\"\",AO27)","v":""},null,null,{"$f":"IF(AR27=\"\",\"\",AR27)","v":""},null,null,null,null,{"$f":"IF(AW27=\"\",\"\",AW27)","v":""}]
[]
[]
[]
[null,"今回\n請求額",null,null,{"$f":"IF(E31=\"\",\"\",E31)","v":""},null,{"$f":"IF(G31=\"\",\"\",G31)","v":""},null,null,null,null,null,null,null,null,null,null,{"$f":"IF(R31=\"\",\"\",R31)","v":""},null,{"$f":"IF(T31=\"\",\"\",T31)","v":""},null,{"$f":"IF(V31=\"\",\"\",V31)","v":""},null,{"$f":"IF(X31=\"\",\"\",X31)","v":""},null,{"$f":"IF(Z31=\"\",\"\",Z31)","v":""},null,{"$f":"IF(AB31=\"\",\"\",AB31)","v":""},null,{"$f":"IF(AD31=\"\",\"\",AD31)","v":""},null,{"$f":"IF(AF31=\"\",\"\",AF31)","v":""},null,{"$f":"IF(AH31=\"\",\"\",AH31)","v":""},null,{"$f":"IF(AJ31=\"\",\"\",AJ31)","v":""},null,{"$f":"IF(AL31=\"\",\"\",AL31)","v":""},null,null,{"$f":"IF(AO31=\"\",\"\",AO31)","v":""},null,null,{"$f":"IF(AR31=\"\",\"\",AR31)","v":""},null,null,null,null,{"$f":"IF(AW31=\"\",\"\",AW31)","v":""}]
[]
[]
[]
[null,"差引残高",null,null,null,null,{"$f":"IF(G111=\"\",\"\",G111+G115-G119-G123)","v":""},null,null,null,null,null,null,null,null,null,null,{"$f":"IF(R35=\"\",\"\",R35)","v":""},null,{"$f":"IF(T35=\"\",\"\",T35)","v":""},null,{"$f":"IF(V35=\"\",\"\",V35)","v":""},null,{"$f":"IF(X35=\"\",\"\",X35)","v":""},null,{"$f":"IF(Z35=\"\",\"\",Z35)","v":""},null,{"$f":"IF(AB35=\"\",\"\",AB35)","v":""},null,{"$f":"IF(AD35=\"\",\"\",AD35)","v":""},null,{"$f":"IF(AF35=\"\",\"\",AF35)","v":""},null,{"$f":"IF(AH35=\"\",\"\",AH35)","v":""},null,{"$f":"IF(AJ35=\"\",\"\",AJ35)","v":""},null,{"$f":"IF(AL35=\"\",\"\",AL35)","v":""},null,null,{"$f":"IF(AO35=\"\",\"\",AO35)","v":""},null,null,{"$f":"IF(AR35=\"\",\"\",AR35)","v":""},null,null,null,null,{"$f":"IF(AW35=\"\",\"\",AW35)","v":""}]
[]
[]
[]
[null,null,null,null,null,null,null,null,null,null,null,null,null,null,null,null,null,{"$f":"IF(R39=\"\",\"\",R39)","v":""},null,{"$f":"IF(T39=\"\",\"\",T39)","v":""},null,{"$f":"IF(V39=\"\",\"\",V39)","v":""},null,{"$f":"IF(X39=\"\",\"\",X39)","v":""},null,{"$f":"IF(Z39=\"\",\"\",Z39)","v":""},null,{"$f":"IF(AB39=\"\",\"\",AB39)","v":""},null,{"$f":"IF(AD39=\"\",\"\",AD39)","v":""},null,{"$f":"IF(AF39=\"\",\"\",AF39)","v":""},null,{"$f":"IF(AH39=\"\",\"\",AH39)","v":""},null,{"$f":"IF(AJ39=\"\",\"\",AJ39)","v":""},null,{"$f":"IF(AL39=\"\",\"\",AL39)","v":""},null,null,{"$f":"IF(AO39=\"\",\"\",AO39)","v":""},null,null,{"$f":"IF(AR39=\"\",\"\",AR39)","v":""},null,null,null,null,{"$f":"IF(AW39=\"\",\"\",AW39)","v":""}]
[]
[]
[]
[null,null,null,null,null,null,null,null,null,null,null,null,null,null,null,null,null,{"$f":"IF(R43=\"\",\"\",R43)","v":""},null,{"$f":"IF(T43=\"\",\"\",T43)","v":""},null,{"$f":"IF(V43=\"\",\"\",V43)","v":""},null,{"$f":"IF(X43=\"\",\"\",X43)","v":""},null,{"$f":"IF(Z43=\"\",\"\",Z43)","v":""},null,{"$f":"IF(AB43=\"\",\"\",AB43)","v":""},null,{"$f":"IF(AD43=\"\",\"\",AD43)","v":""},null,{"$f":"IF(AF43=\"\",\"\",AF43)","v":""},null,{"$f":"IF(AH43=\"\",\"\",AH43)","v":""},null,{"$f":"IF(AJ43=\"\",\"\",AJ43)","v":""},null,{"$f":"IF(AL43=\"\",\"\",AL43)","v":""},null,null,{"$f":"IF(AO43=\"\",\"\",AO43)","v":""},null,null,{"$f":"IF(AR43=\"\",\"\",AR43)","v":""},null,null,null,null,{"$f":"IF(AW43=\"\",\"\",AW43)","v":""}]
[]
[]
[]
[null,null,null,null,null,null,null,null,null,null,null,null,null,null,null,null,null,{"$f":"IF(R47=\"\",\"\",R47)","v":""},null,{"$f":"IF(T47=\"\",\"\",T47)","v":""},null,{"$f":"IF(V47=\"\",\"\",V47)","v":""},null,{"$f":"IF(X47=\"\",\"\",X47)","v":""},null,{"$f":"IF(Z47=\"\",\"\",Z47)","v":""},null,{"$f":"IF(AB47=\"\",\"\",AB47)","v":""},null,{"$f":"IF(AD47=\"\",\"\",AD47)","v":""},null,{"$f":"IF(AF47=\"\",\"\",AF47)","v":""},null,{"$f":"IF(AH47=\"\",\"\",AH47)","v":""},null,{"$f":"IF(AJ47=\"\",\"\",AJ47)","v":""},null,{"$f":"IF(AL47=\"\",\"\",AL47)","v":""},null,null,{"$f":"IF(AO47=\"\",\"\",AO47)","v":""},null,null,{"$f":"IF(AR47=\"\",\"\",AR47)","v":""},null,null,null,null,{"$f":"IF(AW47=\"\",\"\",AW47)","v":""}]
[]
[]
[]
[null,null,null,null,null,null,null,null,null,null,null,null,null,null,null,null,null,{"$f":"IF(R51=\"\",\"\",R51)","v":""},null,{"$f":"IF(T51=\"\",\"\",T51)","v":""},null,{"$f":"IF(V51=\"\",\"\",V51)","v":""},null,{"$f":"IF(X51=\"\",\"\",X51)","v":""},null,{"$f":"IF(Z51=\"\",\"\",Z51)","v":""},null,{"$f":"IF(AB51=\"\",\"\",AB51)","v":""},null,{"$f":"IF(AD51=\"\",\"\",AD51)","v":""},null,{"$f":"IF(AF51=\"\",\"\",AF51)","v":""},null,{"$f":"IF(AH51=\"\",\"\",AH51)","v":""},null,{"$f":"IF(AJ51=\"\",\"\",AJ51)","v":""},null,{"$f":"IF(AL51=\"\",\"\",AL51)","v":""},null,null,{"$f":"IF(AO51=\"\",\"\",AO51)","v":""},null,null,{"$f":"IF(AR51=\"\",\"\",AR51)","v":""},null,null,null,null,{"$f":"IF(AW51=\"\",\"\",AW51)","v":""}]
[]
[]
[]
[null,null,null,null,null,null,null,null,null,null,null,null,null,null,null,null,null,{"$f":"IF(R55=\"\",\"\",R55)","v":""},null,{"$f":"IF(T55=\"\",\"\",T55)","v":""},null,{"$f":"IF(V55=\"\",\"\",V55)","v":""},null,{"$f":"IF(X55=\"\",\"\",X55)","v":""},null,{"$f":"IF(Z55=\"\",\"\",Z55)","v":""},null,{"$f":"IF(AB55=\"\",\"\",AB55)","v":""},null,{"$f":"IF(AD55=\"\",\"\",AD55)","v":""},null,{"$f":"IF(AF55=\"\",\"\",AF55)","v":""},null,{"$f":"IF(AH55=\"\",\"\",AH55)","v":""},null,{"$f":"IF(AJ55=\"\",\"\",AJ55)","v":""},null,{"$f":"IF(AL55=\"\",\"\",AL55)","v":""},null,null,{"$f":"IF(AO55=\"\",\"\",AO55)","v":""},null,null,{"$f":"IF(AR55=\"\",\"\",AR55)","v":""},null,null,null,null,{"$f":"IF(AW55=\"\",\"\",AW55)","v":""}]
[]
[]
[]
[null,null,null,null,null,null,null,null,null,null,null,null,null,null,null,null,null,{"$f":"IF(R59=\"\",\"\",R59)","v":""},null,{"$f":"IF(T59=\"\",\"\",T59)","v":""},null,{"$f":"IF(V59=\"\",\"\",V59)","v":""},null,{"$f":"IF(X59=\"\",\"\",X59)","v":""},null,{"$f":"IF(Z59=\"\",\"\",Z59)","v":""},null,{"$f":"IF(AB59=\"\",\"\",AB59)","v":""},null,{"$f":"IF(AD59=\"\",\"\",AD59)","v":""},null,{"$f":"IF(AF59=\"\",\"\",AF59)","v":""},null,{"$f":"IF(AH59=\"\",\"\",AH59)","v":""},null,{"$f":"IF(AJ59=\"\",\"\",AJ59)","v":""},null,{"$f":"IF(AL59=\"\",\"\",AL59)","v":""},null,null,{"$f":"IF(AO59=\"\",\"\",AO59)","v":""},null,null,{"$f":"IF(AR59=\"\",\"\",AR59)","v":""},null,null,null,null,{"$f":"IF(AW59=\"\",\"\",AW59)","v":""}]
[]
[]
[]
[null,null,null,null,null,null,null,null,null,null,null,null,null,null,null,null,null,{"$f":"IF(R63=\"\",\"\",R63)","v":""},null,{"$f":"IF(T63=\"\",\"\",T63)","v":""},null,{"$f":"IF(V63=\"\",\"\",V63)","v":""},null,{"$f":"IF(X63=\"\",\"\",X63)","v":""},null,{"$f":"IF(Z63=\"\",\"\",Z63)","v":""},null,{"$f":"IF(AB63=\"\",\"\",AB63)","v":""},null,{"$f":"IF(AD63=\"\",\"\",AD63)","v":""},null,{"$f":"IF(AF63=\"\",\"\",AF63)","v":""},null,{"$f":"IF(AH63=\"\",\"\",AH63)","v":""},null,{"$f":"IF(AJ63=\"\",\"\",AJ63)","v":""},null,{"$f":"IF(AL63=\"\",\"\",AL63)","v":""},null,null,{"$f":"IF(AO63=\"\",\"\",AO63)","v":""},null,null,{"$f":"IF(AR63=\"\",\"\",AR63)","v":""},null,null,null,null,{"$f":"IF(AW63=\"\",\"\",AW63)","v":""}]
[]
[]
[]
[null,null,null,null,null,null,null,null,null,null,null,null,null,null,null,null,null,{"$f":"IF(R67=\"\",\"\",R67)","v":""},null,{"$f":"IF(T67=\"\",\"\",T67)","v":""},null,{"$f":"IF(V67=\"\",\"\",V67)","v":""},null,{"$f":"IF(X67=\"\",\"\",X67)","v":""},null,{"$f":"IF(Z67=\"\",\"\",Z67)","v":""},null,{"$f":"IF(AB67=\"\",\"\",AB67)","v":""},null,{"$f":"IF(AD67=\"\",\"\",AD67)","v":""},null,{"$f":"IF(AF67=\"\",\"\",AF67)","v":""},null,{"$f":"IF(AH67=\"\",\"\",AH67)","v":""},null,{"$f":"IF(AJ67=\"\",\"\",AJ67)","v":""},null,{"$f":"IF(AL67=\"\",\"\",AL67)","v":""},null,null,{"$f":"IF(AO67=\"\",\"\",AO67)","v":""},null,null,{"$f":"IF(AR67=\"\",\"\",AR67)","v":""},null,null,null,null,{"$f":"IF(AW67=\"\",\"\",AW67)","v":""}]
[]
[]
[]
[null,null,null,null,null,null,null,null,null,null,null,null,null,null,null,null,null,{"$f":"IF(R71=\"\",\"\",R71)","v":""},null,{"$f":"IF(T71=\"\",\"\",T71)","v":""},null,{"$f":"IF(V71=\"\",\"\",V71)","v":""},null,{"$f":"IF(X71=\"\",\"\",X71)","v":""},null,{"$f":"IF(Z71=\"\",\"\",Z71)","v":""},null,{"$f":"IF(AB71=\"\",\"\",AB71)","v":""},null,{"$f":"IF(AD71=\"\",\"\",AD71)","v":""},null,{"$f":"IF(AF71=\"\",\"\",AF71)","v":""},null,{"$f":"IF(AH71=\"\",\"\",AH71)","v":""},null,{"$f":"IF(AJ71=\"\",\"\",AJ71)","v":""},null,{"$f":"IF(AL71=\"\",\"\",AL71)","v":""},null,null,{"$f":"IF(AO71=\"\",\"\",AO71)","v":""},null,null,{"$f":"IF(AR71=\"\",\"\",AR71)","v":""},null,null,null,null,{"$f":"IF(AW71=\"\",\"\",AW71)","v":""}]
[]
[]
[]
[null,null,null,null,null,null,null,null,null,null,null,null,null,null,null,null,null,{"$f":"IF(R75=\"\",\"\",R75)","v":""},null,{"$f":"IF(T75=\"\",\"\",T75)","v":""},null,{"$f":"IF(V75=\"\",\"\",V75)","v":""},null,{"$f":"IF(X75=\"\",\"\",X75)","v":""},null,{"$f":"IF(Z75=\"\",\"\",Z75)","v":""},null,{"$f":"IF(AB75=\"\",\"\",AB75)","v":""},null,{"$f":"IF(AD75=\"\",\"\",AD75)","v":""},null,{"$f":"IF(AF75=\"\",\"\",AF75)","v":""},null,{"$f":"IF(AH75=\"\",\"\",AH75)","v":""},null,{"$f":"IF(AJ75=\"\",\"\",AJ75)","v":""},null,{"$f":"IF(AL75=\"\",\"\",AL75)","v":""},null,null,{"$f":"IF(AO75=\"\",\"\",AO75)","v":""},null,null,{"$f":"IF(AR75=\"\",\"\",AR75)","v":""},null,null,null,null,{"$f":"IF(AW75=\"\",\"\",AW75)","v":""}]
[]
[]
[]
[null,null,null,null,null,null,null,null,null,null,null,null,null,null,null,null,null,{"$f":"IF(R79=\"\",\"\",R79)","v":""},null,{"$f":"IF(T79=\"\",\"\",T79)","v":""},null,{"$f":"IF(V79=\"\",\"\",V79)","v":""},null,{"$f":"IF(X79=\"\",\"\",X79)","v":""},null,{"$f":"IF(Z79=\"\",\"\",Z79)","v":""},null,{"$f":"IF(AB79=\"\",\"\",AB79)","v":""},null,{"$f":"IF(AD79=\"\",\"\",AD79)","v":""},null,{"$f":"IF(AF79=\"\",\"\",AF79)","v":""},null,{"$f":"IF(AH79=\"\",\"\",AH79)","v":""},null,{"$f":"IF(AJ79=\"\",\"\",AJ79)","v":""},null,{"$f":"IF(AL79=\"\",\"\",AL79)","v":""},null,null,{"$f":"IF(AO79=\"\",\"\",AO79)","v":""},null,null,{"$f":"IF(AR79=\"\",\"\",AR79)","v":""},null,null,null,null,{"$f":"IF(AW79=\"\",\"\",AW79)","v":""}]
[]
[]
[]
[null,null,null,null,null,null,null,null,null,null,null,null,null,null,null,null,null,null,null,null,null,null,null,null,null,null,null,null,null,null,null,null,null,null,null,null,null,{"$f":"AL83","v":"金額(税抜)"},null,null,null,null,null,null,null,null,null,null,{"$f":"AW83","v":""}]
[]
[]
[]
[]
[null,null,null,null,null,null,null,null,null,null,null,null,null,null,null,null,null,null,null,null,null,null,null,null,null,null,null,null,null,null,null,null,null,null,null,null,null,{"$f":"AL88","v":"消費税"},null,null,null,null,null,"税率",null,null,"税調",null,{"$f":"AW88","v":""}]
[]
[null,null,null,null,null,null,null,null,null,null,null,null,null,null,null,null,null,null,null,null,null,null,null,null,null,null,null,null,null,null,null,null,null,null,null,null,null,null,null,null,null,null,null,{"$f":"AR90","v":0},null,{"$f":"AT90","v":""}]
[]
[]
[]
[null,null,null,null,null,null,null,null,null,null,null,null,null,null,null,null,null,null,null,"請求明細書 (貴社控)"]
[null,"株 式 会 社 種 村 建 設",null,null,null,null,null,null,null,null,null,null,"御中"]
[null,null,null,null,null,null,null,null,null,null,null,null,null,null,null,null,null,null,null,null,null,null,null,null,null,null,null,null,null,null,null,null,null,null,null,null,null,null,null,null,"請求年月日",null,null,null,null,{"$f":"IF(AT4=\"\",\"\",AT4)","v":""},null,null,null,{"$f":"IF(AX96=\"\",\"\",AX96)","v":""},null,null,{"$f":"IF(BA96=\"\",\"\",BA96)","v":""}]
[]
[]
[]
[]
[null,"工事番号",null,null,null,null,{"$f":"IF(G101=\"\",\"\",G101)","v":""},null,null,null,null,null,"工事名",null,null,null,{"$f":"IF(Q101=\"\",\"\",Q101)","v":""},null,null,null,null,null,null,null,null,null,null,null,null,null,null,null,null,null,null,null,null,"業者名",null,null,null,{"$f":"IF(AP101=\"\",\"\",AP101)","v":""}]
[]
[]
[]
[]
[]
[null,"注文番号",null,null,null,null,{"$f":"IF(G107=\"\",\"\",G107)","v":""},null,null,null,null,null,null,null,null,null,null,"月　日",null,null,null,"品　名・内　訳",null,null,null,null,null,null,null,null,null,null,null,null,null,null,null,"数 量",null,null,"単位",null,null,"単価",null,null,null,null,{"$f":"表紙①!P219","v":0}]
[]
[]
[]
[null,"契約金額",null,null,null,null,{"$f":"IF(G111=\"\",\"\",G111)","v":""},null,null,null,null,null,null,null,null,null,null,{"$f":"IF(R111=\"\",\"\",R111)","v":""},null,{"$f":"IF(T111=\"\",\"\",T111)","v":""},null,{"$f":"IF(V111=\"\",\"\",V111)","v":""},null,{"$f":"IF(X111=\"\",\"\",X111)","v":""},null,{"$f":"IF(Z111=\"\",\"\",Z111)","v":""},null,{"$f":"IF(AB111=\"\",\"\",AB111)","v":""},null,{"$f":"IF(AD111=\"\",\"\",AD111)","v":""},null,{"$f":"IF(AF111=\"\",\"\",AF111)","v":""},null,{"$f":"IF(AH111=\"\",\"\",AH111)","v":""},null,{"$f":"IF(AJ111=\"\",\"\",AJ111)","v":""},null,{"$f":"IF(AL111=\"\",\"\",AL111)","v":""},null,null,{"$f":"IF(AO111=\"\",\"\",AO111)","v":""},null,null,{"$f":"IF(AR111=\"\",\"\",AR111)","v":""},null,null,null,null,{"$f":"IF(AW111=\"\",\"\",AW111)","v":""}]
[]
[]
[]
[null,"増減額",null,null,null,null,{"$f":"IF(G115=\"\",\"\",G115)","v":""},null,null,null,null,null,null,null,null,null,null,{"$f":"IF(R115=\"\",\"\",R115)","v":""},null,{"$f":"IF(T115=\"\",\"\",T115)","v":""},null,{"$f":"IF(V115=\"\",\"\",V115)","v":""},null,{"$f":"IF(X115=\"\",\"\",X115)","v":""},null,{"$f":"IF(Z115=\"\",\"\",Z115)","v":""},null,{"$f":"IF(AB115=\"\",\"\",AB115)","v":""},null,{"$f":"IF(AD115=\"\",\"\",AD115)","v":""},null,{"$f":"IF(AF115=\"\",\"\",AF115)","v":""},null,{"$f":"IF(AH115=\"\",\"\",AH115)","v":""},null,{"$f":"IF(AJ115=\"\",\"\",AJ115)","v":""},null,{"$f":"IF(AL115=\"\",\"\",AL115)","v":""},null,null,{"$f":"IF(AO115=\"\",\"\",AO115)","v":""},null,null,{"$f":"IF(AR115=\"\",\"\",AR115)","v":""},null,null,null,null,{"$f":"IF(AW115=\"\",\"\",AW115)","v":""}]
[]
[]
[]
[null,"前回までの\n請求額",null,null,null,null,{"$f":"IF(G119=\"\",\"\",G119)","v":""},null,null,null,null,null,null,null,null,null,null,{"$f":"IF(R119=\"\",\"\",R119)","v":""},null,{"$f":"IF(T119=\"\",\"\",T119)","v":""},null,{"$f":"IF(V119=\"\",\"\",V119)","v":""},null,{"$f":"IF(X119=\"\",\"\",X119)","v":""},null,{"$f":"IF(Z119=\"\",\"\",Z119)","v":""},null,{"$f":"IF(AB119=\"\",\"\",AB119)","v":""},null,{"$f":"IF(AD119=\"\",\"\",AD119)","v":""},null,{"$f":"IF(AF119=\"\",\"\",AF119)","v":""},null,{"$f":"IF(AH119=\"\",\"\",AH119)","v":""},null,{"$f":"IF(AJ119=\"\",\"\",AJ119)","v":""},null,{"$f":"IF(AL119=\"\",\"\",AL119)","v":""},null,null,{"$f":"IF(AO119=\"\",\"\",AO119)","v":""},null,null,{"$f":"IF(AR119=\"\",\"\",AR119)","v":""},null,null,null,null,{"$f":"IF(AW119=\"\",\"\",AW119)","v":""}]
[]
[]
[]
[null,"今回\n請求額",null,null,{"$f":"IF(E31=\"\",\"\",E31)","v":""},null,{"$f":"IF(G123=\"\",\"\",G123)","v":""},null,null,null,null,null,null,null,null,null,null,{"$f":"IF(R123=\"\",\"\",R123)","v":""},null,{"$f":"IF(T123=\"\",\"\",T123)","v":""},null,{"$f":"IF(V123=\"\",\"\",V123)","v":""},null,{"$f":"IF(X123=\"\",\"\",X123)","v":""},null,{"$f":"IF(Z123=\"\",\"\",Z123)","v":""},null,{"$f":"IF(AB123=\"\",\"\",AB123)","v":""},null,{"$f":"IF(AD123=\"\",\"\",AD123)","v":""},null,{"$f":"IF(AF123=\"\",\"\",AF123)","v":""},null,{"$f":"IF(AH123=\"\",\"\",AH123)","v":""},null,{"$f":"IF(AJ123=\"\",\"\",AJ123)","v":""},null,{"$f":"IF(AL123=\"\",\"\",AL123)","v":""},null,null,{"$f":"IF(AO123=\"\",\"\",AO123)","v":""},null,null,{"$f":"IF(AR123=\"\",\"\",AR123)","v":""},null,null,null,null,{"$f":"IF(AW123=\"\",\"\",AW123)","v":""}]
[]
[]
[]
[null,"差引残高",null,null,null,null,{"$f":"IF(G203=\"\",\"\",G203+G207-G211-G215)","v":""},null,null,null,null,null,null,null,null,null,null,{"$f":"IF(R127=\"\",\"\",R127)","v":""},null,{"$f":"IF(T127=\"\",\"\",T127)","v":""},null,{"$f":"IF(V127=\"\",\"\",V127)","v":""},null,{"$f":"IF(X127=\"\",\"\",X127)","v":""},null,{"$f":"IF(Z127=\"\",\"\",Z127)","v":""},null,{"$f":"IF(AB127=\"\",\"\",AB127)","v":""},null,{"$f":"IF(AD127=\"\",\"\",AD127)","v":""},null,{"$f":"IF(AF127=\"\",\"\",AF127)","v":""},null,{"$f":"IF(AH127=\"\",\"\",AH127)","v":""},null,{"$f":"IF(AJ127=\"\",\"\",AJ127)","v":""},null,{"$f":"IF(AL127=\"\",\"\",AL127)","v":""},null,null,{"$f":"IF(AO127=\"\",\"\",AO127)","v":""},null,null,{"$f":"IF(AR127=\"\",\"\",AR127)","v":""},null,null,null,null,{"$f":"IF(AW127=\"\",\"\",AW127)","v":""}]
[]
[]
[]
[null,null,null,null,null,null,null,null,null,null,null,null,null,null,null,null,null,{"$f":"IF(R131=\"\",\"\",R131)","v":""},null,{"$f":"IF(T131=\"\",\"\",T131)","v":""},null,{"$f":"IF(V131=\"\",\"\",V131)","v":""},null,{"$f":"IF(X131=\"\",\"\",X131)","v":""},null,{"$f":"IF(Z131=\"\",\"\",Z131)","v":""},null,{"$f":"IF(AB131=\"\",\"\",AB131)","v":""},null,{"$f":"IF(AD131=\"\",\"\",AD131)","v":""},null,{"$f":"IF(AF131=\"\",\"\",AF131)","v":""},null,{"$f":"IF(AH131=\"\",\"\",AH131)","v":""},null,{"$f":"IF(AJ131=\"\",\"\",AJ131)","v":""},null,{"$f":"IF(AL131=\"\",\"\",AL131)","v":""},null,null,{"$f":"IF(AO131=\"\",\"\",AO131)","v":""},null,null,{"$f":"IF(AR131=\"\",\"\",AR131)","v":""},null,null,null,null,{"$f":"IF(AW131=\"\",\"\",AW131)","v":""}]
[]
[]
[]
[null,null,null,null,null,null,null,null,null,null,null,null,null,null,null,null,null,{"$f":"IF(R135=\"\",\"\",R135)","v":""},null,{"$f":"IF(T135=\"\",\"\",T135)","v":""},null,{"$f":"IF(V135=\"\",\"\",V135)","v":""},null,{"$f":"IF(X135=\"\",\"\",X135)","v":""},null,{"$f":"IF(Z135=\"\",\"\",Z135)","v":""},null,{"$f":"IF(AB135=\"\",\"\",AB135)","v":""},null,{"$f":"IF(AD135=\"\",\"\",AD135)","v":""},null,{"$f":"IF(AF135=\"\",\"\",AF135)","v":""},null,{"$f":"IF(AH135=\"\",\"\",AH135)","v":""},null,{"$f":"IF(AJ135=\"\",\"\",AJ135)","v":""},null,{"$f":"IF(AL135=\"\",\"\",AL135)","v":""},null,null,{"$f":"IF(AO135=\"\",\"\",AO135)","v":""},null,null,{"$f":"IF(AR135=\"\",\"\",AR135)","v":""},null,null,null,null,{"$f":"IF(AW135=\"\",\"\",AW135)","v":""}]
[]
[]
[]
[null,null,null,null,null,null,null,null,null,null,null,null,null,null,null,null,null,{"$f":"IF(R139=\"\",\"\",R139)","v":""},null,{"$f":"IF(T139=\"\",\"\",T139)","v":""},null,{"$f":"IF(V139=\"\",\"\",V139)","v":""},null,{"$f":"IF(X139=\"\",\"\",X139)","v":""},null,{"$f":"IF(Z139=\"\",\"\",Z139)","v":""},null,{"$f":"IF(AB139=\"\",\"\",AB139)","v":""},null,{"$f":"IF(AD139=\"\",\"\",AD139)","v":""},null,{"$f":"IF(AF139=\"\",\"\",AF139)","v":""},null,{"$f":"IF(AH139=\"\",\"\",AH139)","v":""},null,{"$f":"IF(AJ139=\"\",\"\",AJ139)","v":""},null,{"$f":"IF(AL139=\"\",\"\",AL139)","v":""},null,null,{"$f":"IF(AO139=\"\",\"\",AO139)","v":""},null,null,{"$f":"IF(AR139=\"\",\"\",AR139)","v":""},null,null,null,null,{"$f":"IF(AW139=\"\",\"\",AW139)","v":""}]
[]
[]
[]
[null,null,null,null,null,null,null,null,null,null,null,null,null,null,null,null,null,{"$f":"IF(R143=\"\",\"\",R143)","v":""},null,{"$f":"IF(T143=\"\",\"\",T143)","v":""},null,{"$f":"IF(V143=\"\",\"\",V143)","v":""},null,{"$f":"IF(X143=\"\",\"\",X143)","v":""},null,{"$f":"IF(Z143=\"\",\"\",Z143)","v":""},null,{"$f":"IF(AB143=\"\",\"\",AB143)","v":""},null,{"$f":"IF(AD143=\"\",\"\",AD143)","v":""},null,{"$f":"IF(AF143=\"\",\"\",AF143)","v":""},null,{"$f":"IF(AH143=\"\",\"\",AH143)","v":""},null,{"$f":"IF(AJ143=\"\",\"\",AJ143)","v":""},null,{"$f":"IF(AL143=\"\",\"\",AL143)","v":""},null,null,{"$f":"IF(AO143=\"\",\"\",AO143)","v":""},null,null,{"$f":"IF(AR143=\"\",\"\",AR143)","v":""},null,null,null,null,{"$f":"IF(AW143=\"\",\"\",AW143)","v":""}]
[]
[]
[]
[null,null,null,null,null,null,null,null,null,null,null,null,null,null,null,null,null,{"$f":"IF(R147=\"\",\"\",R147)","v":""},null,{"$f":"IF(T147=\"\",\"\",T147)","v":""},null,{"$f":"IF(V147=\"\",\"\",V147)","v":""},null,{"$f":"IF(X147=\"\",\"\",X147)","v":""},null,{"$f":"IF(Z147=\"\",\"\",Z147)","v":""},null,{"$f":"IF(AB147=\"\",\"\",AB147)","v":""},null,{"$f":"IF(AD147=\"\",\"\",AD147)","v":""},null,{"$f":"IF(AF147=\"\",\"\",AF147)","v":""},null,{"$f":"IF(AH147=\"\",\"\",AH147)","v":""},null,{"$f":"IF(AJ147=\"\",\"\",AJ147)","v":""},null,{"$f":"IF(AL147=\"\",\"\",AL147)","v":""},null,null,{"$f":"IF(AO147=\"\",\"\",AO147)","v":""},null,null,{"$f":"IF(AR147=\"\",\"\",AR147)","v":""},null,null,null,null,{"$f":"IF(AW147=\"\",\"\",AW147)","v":""}]
[]
[]
[]
[null,null,null,null,null,null,null,null,null,null,null,null,null,null,null,null,null,{"$f":"IF(R151=\"\",\"\",R151)","v":""},null,{"$f":"IF(T151=\"\",\"\",T151)","v":""},null,{"$f":"IF(V151=\"\",\"\",V151)","v":""},null,{"$f":"IF(X151=\"\",\"\",X151)","v":""},null,{"$f":"IF(Z151=\"\",\"\",Z151)","v":""},null,{"$f":"IF(AB151=\"\",\"\",AB151)","v":""},null,{"$f":"IF(AD151=\"\",\"\",AD151)","v":""},null,{"$f":"IF(AF151=\"\",\"\",AF151)","v":""},null,{"$f":"IF(AH151=\"\",\"\",AH151)","v":""},null,{"$f":"IF(AJ151=\"\",\"\",AJ151)","v":""},null,{"$f":"IF(AL151=\"\",\"\",AL151)","v":""},null,null,{"$f":"IF(AO151=\"\",\"\",AO151)","v":""},null,null,{"$f":"IF(AR151=\"\",\"\",AR151)","v":""},null,null,null,null,{"$f":"IF(AW151=\"\",\"\",AW151)","v":""}]
[]
[]
[]
[null,null,null,null,null,null,null,null,null,null,null,null,null,null,null,null,null,{"$f":"IF(R155=\"\",\"\",R155)","v":""},null,{"$f":"IF(T155=\"\",\"\",T155)","v":""},null,{"$f":"IF(V155=\"\",\"\",V155)","v":""},null,{"$f":"IF(X155=\"\",\"\",X155)","v":""},null,{"$f":"IF(Z155=\"\",\"\",Z155)","v":""},null,{"$f":"IF(AB155=\"\",\"\",AB155)","v":""},null,{"$f":"IF(AD155=\"\",\"\",AD155)","v":""},null,{"$f":"IF(AF155=\"\",\"\",AF155)","v":""},null,{"$f":"IF(AH155=\"\",\"\",AH155)","v":""},null,{"$f":"IF(AJ155=\"\",\"\",AJ155)","v":""},null,{"$f":"IF(AL155=\"\",\"\",AL155)","v":""},null,null,{"$f":"IF(AO155=\"\",\"\",AO155)","v":""},null,null,{"$f":"IF(AR155=\"\",\"\",AR155)","v":""},null,null,null,null,{"$f":"IF(AW155=\"\",\"\",AW155)","v":""}]
[]
[]
[]
[null,null,null,null,null,null,null,null,null,null,null,null,null,null,null,null,null,{"$f":"IF(R159=\"\",\"\",R159)","v":""},null,{"$f":"IF(T159=\"\",\"\",T159)","v":""},null,{"$f":"IF(V159=\"\",\"\",V159)","v":""},null,{"$f":"IF(X159=\"\",\"\",X159)","v":""},null,{"$f":"IF(Z159=\"\",\"\",Z159)","v":""},null,{"$f":"IF(AB159=\"\",\"\",AB159)","v":""},null,{"$f":"IF(AD159=\"\",\"\",AD159)","v":""},null,{"$f":"IF(AF159=\"\",\"\",AF159)","v":""},null,{"$f":"IF(AH159=\"\",\"\",AH159)","v":""},null,{"$f":"IF(AJ159=\"\",\"\",AJ159)","v":""},null,{"$f":"IF(AL159=\"\",\"\",AL159)","v":""},null,null,{"$f":"IF(AO159=\"\",\"\",AO159)","v":""},null,null,{"$f":"IF(AR159=\"\",\"\",AR159)","v":""},null,null,null,null,{"$f":"IF(AW159=\"\",\"\",AW159)","v":""}]
[]
[]
[]
[null,null,null,null,null,null,null,null,null,null,null,null,null,null,null,null,null,{"$f":"IF(R163=\"\",\"\",R163)","v":""},null,{"$f":"IF(T163=\"\",\"\",T163)","v":""},null,{"$f":"IF(V163=\"\",\"\",V163)","v":""},null,{"$f":"IF(X163=\"\",\"\",X163)","v":""},null,{"$f":"IF(Z163=\"\",\"\",Z163)","v":""},null,{"$f":"IF(AB163=\"\",\"\",AB163)","v":""},null,{"$f":"IF(AD163=\"\",\"\",AD163)","v":""},null,{"$f":"IF(AF163=\"\",\"\",AF163)","v":""},null,{"$f":"IF(AH163=\"\",\"\",AH163)","v":""},null,{"$f":"IF(AJ163=\"\",\"\",AJ163)","v":""},null,{"$f":"IF(AL163=\"\",\"\",AL163)","v":""},null,null,{"$f":"IF(AO163=\"\",\"\",AO163)","v":""},null,null,{"$f":"IF(AR163=\"\",\"\",AR163)","v":""},null,null,null,null,{"$f":"IF(AW163=\"\",\"\",AW163)","v":""}]
[]
[]
[]
[null,null,null,null,null,null,null,null,null,null,null,null,null,null,null,null,null,{"$f":"IF(R167=\"\",\"\",R167)","v":""},null,{"$f":"IF(T167=\"\",\"\",T167)","v":""},null,{"$f":"IF(V167=\"\",\"\",V167)","v":""},null,{"$f":"IF(X167=\"\",\"\",X167)","v":""},null,{"$f":"IF(Z167=\"\",\"\",Z167)","v":""},null,{"$f":"IF(AB167=\"\",\"\",AB167)","v":""},null,{"$f":"IF(AD167=\"\",\"\",AD167)","v":""},null,{"$f":"IF(AF167=\"\",\"\",AF167)","v":""},null,{"$f":"IF(AH167=\"\",\"\",AH167)","v":""},null,{"$f":"IF(AJ167=\"\",\"\",AJ167)","v":""},null,{"$f":"IF(AL167=\"\",\"\",AL167)","v":""},null,null,{"$f":"IF(AO167=\"\",\"\",AO167)","v":""},null,null,{"$f":"IF(AR167=\"\",\"\",AR167)","v":""},null,null,null,null,{"$f":"IF(AW167=\"\",\"\",AW167)","v":""}]
[]
[]
[]
[null,null,null,null,null,null,null,null,null,null,null,null,null,null,null,null,null,{"$f":"IF(R171=\"\",\"\",R171)","v":""},null,{"$f":"IF(T171=\"\",\"\",T171)","v":""},null,{"$f":"IF(V171=\"\",\"\",V171)","v":""},null,{"$f":"IF(X171=\"\",\"\",X171)","v":""},null,{"$f":"IF(Z171=\"\",\"\",Z171)","v":""},null,{"$f":"IF(AB171=\"\",\"\",AB171)","v":""},null,{"$f":"IF(AD171=\"\",\"\",AD171)","v":""},null,{"$f":"IF(AF171=\"\",\"\",AF171)","v":""},null,{"$f":"IF(AH171=\"\",\"\",AH171)","v":""},null,{"$f":"IF(AJ171=\"\",\"\",AJ171)","v":""},null,{"$f":"IF(AL171=\"\",\"\",AL171)","v":""},null,null,{"$f":"IF(AO171=\"\",\"\",AO171)","v":""},null,null,{"$f":"IF(AR171=\"\",\"\",AR171)","v":""},null,null,null,null,{"$f":"IF(AW171=\"\",\"\",AW171)","v":""}]
[]
[]
[]
[null,null,null,null,null,null,null,null,null,null,null,null,null,null,null,null,null,null,null,null,null,null,null,null,null,null,null,null,null,null,null,null,null,null,null,null,null,{"$f":"AL175","v":"金額(税抜)"},null,null,null,null,null,null,null,null,null,null,{"$f":"AW83","v":""}]
[]
[]
[]
[]
[null,null,null,null,null,null,null,null,null,null,null,null,null,null,null,null,null,null,null,null,null,null,null,null,null,null,null,null,null,null,null,null,null,null,null,null,null,{"$f":"AL180","v":"消費税"},null,null,null,null,null,"税率",null,null,"税調",null,{"$f":"AW88","v":""}]
[]
[null,null,null,null,null,null,null,null,null,null,null,null,null,null,null,null,null,null,null,null,null,null,null,null,null,null,null,null,null,null,null,null,null,null,null,null,null,null,null,null,null,null,null,{"$f":"AR90","v":0},null,{"$f":"AT90","v":""}]

{"sheet":"細1-4","index":7,"n_rows":274,"n_cols":53,"rows_kept":274,"cut":false,"hidden":false,"merged":[[179,37,182,42],[179,43,180,45],[179,46,180,47],[181,43,182,44],[181,45,182,45],[181,46,182,47],[271,37,274,42],[271,43,272,45],[273,43,274,44],[273,45,274,45],[273,46,274,47],[271,46,272,47],[187,40,189,44],[187,45,189,48],[179,48,182,54],[198,48,201,54],[214,48,217,54],[222,40,225,42],[222,43,225,47],[254,37,257,39],[246,40,249,42],[246,43,249,47],[246,48,249,54],[254,48,257,54],[3,49,5,51],[3,52,5,54],[8,37,11,40],[8,41,11,54],[1,19,4,32],[2,1,5,11],[2,12,5,13],[8,1,11,5],[8,6,11,11],[8,12,11,15],[8,16,11,35],[3,40,5,44],[3,45,5,48],[14,43,17,47],[14,48,17,54],[14,1,17,5],[14,6,17,15],[14,17,17,20],[14,21,17,36],[18,1,21,5],[18,6,21,15],[18,17,21,18],[14,37,17,39],[14,40,17,42],[18,21,21,36],[18,37,21,39],[18,40,21,42],[18,43,21,47],[26,1,29,5],[26,6,29,15],[26,17,29,18],[26,19,29,20],[18,48,21,54],[22,1,25,5],[22,6,25,15],[22,17,25,18],[22,19,25,20],[22,21,25,36],[26,21,29,36],[26,37,29,39],[26,40,29,42],[26,43,29,47],[22,37,25,39],[22,40,25,42],[22,43,25,47],[18,19,21,20],[34,48,37,54],[26,48,29,54],[30,1,33,3],[30,4,33,5],[30,6,33,15],[30,17,33,18],[30,19,33,20],[22,48,25,54],[38,17,41,18],[38,19,41,20],[38,21,41,36],[38,37,41,39],[30,48,33,54],[34,1,37,5],[34,6,37,15],[34,17,37,18],[34,19,37,20],[34,21,37,36],[38,40,41,42],[38,43,41,47],[38,48,41,54],[30,21,33,36],[30,37,33,39],[30,40,33,42],[30,43,33,47],[34,37,37,39],[34,40,37,42],[34,43,37,47],[46,40,49,42],[46,43,49,47],[46,21,49,36],[46,37,49,39],[54,40,57,42],[54,43,57,47],[42,17,45,18],[42,19,45,20],[42,21,45,36],[42,37,45,39],[42,40,45,42],[42,43,45,47],[42,48,45,54],[46,48,49,54],[50,17,53,18],[50,19,53,20],[50,21,53,36],[50,37,53,39],[50,40,53,42],[50,43,53,47],[50,48,53,54],[46,17,49,18],[46,19,49,20],[58,17,61,18],[58,19,61,20],[58,21,61,36],[58,37,61,39],[58,40,61,42],[58,43,61,47],[58,48,61,54],[54,17,57,18],[54,19,57,20],[54,21,57,36],[54,37,57,39],[54,48,57,54],[62,40,65,42],[62,43,65,47],[62,21,65,36],[62,37,65,39],[70,40,73,42],[70,43,73,47],[70,48,73,54],[62,48,65,54],[66,17,69,18],[66,19,69,20],[66,21,69,36],[66,37,69,39],[66,40,69,42],[66,43,69,47],[66,48,69,54],[62,17,65,18],[62,19,65,20],[74,17,77,18],[74,19,77,20],[74,21,77,36],[74,37,77,39],[74,40,77,42],[74,43,77,47],[74,48,77,54],[70,17,73,18],[70,19,73,20],[70,21,73,36],[70,37,73,39],[78,48,81,54],[82,37,85,47],[82,48,85,54],[78,37,81,39],[78,40,81,42],[85,11,90,16],[85,17,90,25],[78,43,81,47],[83,26,84,30],[83,31,84,35],[78,17,81,18],[78,19,81,20],[78,21,81,36],[85,26,90,30],[85,31,90,35],[83,1,84,4],[83,5,84,10],[83,11,84,16],[83,17,84,25],[85,1,90,4],[85,5,90,10],[87,48,90,54],[95,49,97,51],[95,52,97,54],[95,40,97,44],[95,45,97,48],[87,37,90,42],[87,43,88,45],[89,43,90,44],[89,45,90,45],[89,46,90,47],[87,46,88,47],[100,1,103,5],[100,6,103,11],[100,12,103,15],[100,16,103,35],[100,37,103,40],[100,41,103,54],[93,19,96,32],[94,1,97,11],[94,12,97,13],[106,37,109,39],[106,40,109,42],[106,43,109,47],[106,48,109,54],[106,1,109,5],[106,6,109,15],[106,17,109,20],[106,21,109,36],[110,21,113,36],[110,37,113,39],[110,40,113,42],[110,43,113,47],[110,1,113,5],[110,6,113,15],[110,17,113,18],[110,19,113,20],[110,48,113,54],[114,1,117,5],[114,6,117,15],[114,17,117,18],[114,19,117,20],[114,21,117,36],[114,37,117,39],[114,40,117,42],[114,43,117,47],[114,48,117,54],[118,21,121,36],[118,37,121,39],[118,40,121,42],[118,43,121,47],[118,1,121,5],[118,6,121,15],[118,17,121,18],[118,19,121,20],[118,48,121,54],[122,48,125,54],[126,1,129,5],[126,6,129,15],[126,17,129,18],[126,19,129,20],[126,21,129,36],[126,37,129,39],[126,40,129,42],[126,43,129,47],[126,48,129,54],[122,1,125,3],[122,4,125,5],[122,6,125,15],[122,17,125,18],[122,19,125,20],[122,21,125,36],[122,37,125,39],[122,40,125,42],[122,43,125,47],[130,40,133,42],[130,43,133,47],[130,21,133,36],[130,37,133,39],[138,40,141,42],[138,43,141,47],[138,48,141,54],[130,48,133,54],[134,17,137,18],[134,19,137,20],[134,21,137,36],[134,37,137,39],[134,40,137,42],[134,43,137,47],[134,48,137,54],[130,17,133,18],[130,19,133,20],[142,17,145,18],[142,19,145,20],[142,21,145,36],[142,37,145,39],[142,40,145,42],[142,43,145,47],[142,48,145,54],[138,17,141,18],[138,19,141,20],[138,21,141,36],[138,37,141,39],[154,48,157,54],[146,48,149,54],[150,17,153,18],[150,19,153,20],[150,21,153,36],[150,37,153,39],[150,40,153,42],[150,43,153,47],[150,48,153,54],[146,17,149,18],[146,19,149,20],[154,17,157,18],[154,19,157,20],[154,21,157,36],[154,37,157,39],[146,40,149,42],[146,43,149,47],[146,21,149,36],[146,37,149,39],[154,40,157,42],[154,43,157,47],[174,48,177,54],[170,17,173,18],[170,19,173,20],[158,17,161,18],[158,19,161,20],[158,21,161,36],[158,37,161,39],[158,40,161,42],[158,43,161,47],[158,48,161,54],[170,21,173,36],[170,37,173,39],[170,43,173,47],[185,19,188,32],[186,1,189,11],[186,12,189,13],[192,37,195,40],[192,41,195,54],[162,40,165,42],[162,43,165,47],[162,21,165,36],[162,37,165,39],[162,48,165,54],[166,17,169,18],[166,19,169,20],[166,21,169,36],[166,37,169,39],[166,40,169,42],[166,43,169,47],[166,48,169,54],[162,17,165,18],[162,19,165,20],[187,49,189,51],[187,52,189,54],[170,40,173,42],[170,48,173,54],[174,37,177,47],[202,21,205,36],[202,37,205,39],[202,40,205,42],[202,43,205,47],[202,1,205,5],[202,6,205,15],[202,17,205,18],[202,19,205,20],[202,48,205,54],[198,1,201,5],[198,6,201,15],[198,17,201,20],[198,21,201,36],[198,37,201,39],[198,40,201,42],[198,43,201,47],[192,1,195,5],[192,6,195,11],[192,12,195,15],[192,16,195,35],[206,1,209,5],[206,6,209,15],[206,17,209,18],[206,19,209,20],[206,21,209,36],[206,37,209,39],[206,40,209,42],[206,43,209,47],[206,48,209,54],[210,21,213,36],[210,37,213,39],[210,40,213,42],[210,43,213,47],[210,1,213,5],[210,6,213,15],[210,17,213,18],[210,19,213,20],[210,48,213,54],[218,1,221,5],[218,6,221,15],[218,17,221,18],[218,19,221,20],[218,21,221,36],[218,37,221,39],[218,40,221,42],[218,43,221,47],[218,48,221,54],[214,1,217,3],[214,4,217,5],[214,6,217,15],[214,17,217,18],[214,19,217,20],[214,21,217,36],[214,37,217,39],[214,40,217,42],[214,43,217,47],[222,21,225,36],[222,37,225,39],[230,40,233,42],[230,43,233,47],[230,48,233,54],[222,48,225,54],[226,17,229,18],[226,19,229,20],[226,21,229,36],[226,37,229,39],[226,40,229,42],[226,43,229,47],[226,48,229,54],[222,17,225,18],[222,19,225,20],[234,17,237,18],[234,19,237,20],[234,21,237,36],[234,37,237,39],[234,40,237,42],[234,43,237,47],[234,48,237,54],[230,17,233,18],[230,19,233,20],[230,21,233,36],[230,37,233,39],[242,17,245,18],[242,19,245,20],[242,21,245,36],[242,37,245,39],[242,40,245,42],[242,43,245,47],[242,48,245,54],[238,17,241,18],[238,19,241,20],[238,40,241,42],[238,43,241,47],[238,21,241,36],[238,37,241,39],[238,48,241,54],[250,17,253,18],[250,19,253,20],[250,21,253,36],[250,37,253,39],[250,40,253,42],[250,43,253,47],[250,48,253,54],[246,17,249,18],[246,19,249,20],[246,21,249,36],[246,37,249,39],[258,17,261,18],[258,19,261,20],[258,21,261,36],[258,37,261,39],[258,40,261,42],[258,43,261,47],[258,48,261,54],[254,17,257,18],[254,19,257,20],[254,40,257,42],[254,43,257,47],[254,21,257,36],[271,48,274,54],[262,40,265,42],[262,43,265,47],[262,48,265,54],[266,37,269,47],[266,48,269,54],[262,17,265,18],[262,19,265,20],[262,21,265,36],[262,37,265,39]]}
[]
[null,null,null,null,null,null,null,null,null,null,null,null,null,null,null,null,null,null,null,"請求書明細書 (正)"]
[null,"株 式 会 社 種 村 建 設",null,null,null,null,null,null,null,null,null,null,"御中"]
[null,null,null,null,null,null,null,null,null,null,null,null,null,null,null,null,null,null,null,null,null,null,null,null,null,null,null,null,null,null,null,null,null,null,null,null,null,null,null,null,"請求年月日",null,null,null,null,{"$f":"IF(年=\"\",\"\",年)","v":""},null,null,null,{"$f":"IF(月=\"\",\"\",月)","v":""},null,null,{"$f":"IF(日=\"\",\"\",日)","v":""}]
[]
[]
[]
[]
[null,"工事番号",null,null,null,null,null,null,null,null,null,null,"工事名",null,null,null,null,null,null,null,null,null,null,null,null,null,null,null,null,null,null,null,null,null,null,null,null,"業者名",null,null,null,{"$f":"IF(社名=\"\",\"\",社名)","v":""}]
[]
[]
[]
[]
[]
[null,"注文番号",null,null,null,null,null,null,null,null,null,null,null,null,null,null,null,"月　日",null,null,null,"品　名・内　訳",null,null,null,null,null,null,null,null,null,null,null,null,null,null,null,"数 量",null,null,"単位",null,null,"単価",null,null,null,null,{"$f":"表紙①!P35","v":"金額(税抜)"}]
[]
[]
[]
[null,"契約金額",null,null,null,null,null,null,null,null,null,null,null,null,null,null,null,null,null,null,null,null,null,null,null,null,null,null,null,null,null,null,null,null,null,null,null,null,null,null,null,null,null,null,null,null,null,null,{"$f":"IF(V19=\"\",\"\",ROUND(AL19*AR19,0))","v":""}]
[]
[]
[]
[null,"増減額",null,null,null,null,null,null,null,null,null,null,null,null,null,null,null,null,null,null,null,null,null,null,null,null,null,null,null,null,null,null,null,null,null,null,null,null,null,null,null,null,null,null,null,null,null,null,{"$f":"IF(V23=\"\",\"\",ROUND(AL23*AR23,0))","v":""}]
[]
[]
[]
[null,"前回までの\n請求額",null,null,null,null,null,null,null,null,null,null,null,null,null,null,null,null,null,null,null,null,null,null,null,null,null,null,null,null,null,null,null,null,null,null,null,null,null,null,null,null,null,null,null,null,null,null,{"$f":"IF(V27=\"\",\"\",ROUND(AL27*AR27,0))","v":""}]
[]
[]
[]
[null,"今回\n請求額",null,null,null,null,null,null,null,null,null,null,null,null,null,null,null,null,null,null,null,null,null,null,null,null,null,null,null,null,null,null,null,null,null,null,null,null,null,null,null,null,null,null,null,null,null,null,{"$f":"IF(V31=\"\",\"\",ROUND(AL31*AR31,0))","v":""}]
[]
[]
[]
[null,"差引残高",null,null,null,null,{"$f":"IF(G19=\"\",\"\",G19+G23-G27-G31)","v":""},null,null,null,null,null,null,null,null,null,null,null,null,null,null,null,null,null,null,null,null,null,null,null,null,null,null,null,null,null,null,null,null,null,null,null,null,null,null,null,null,null,{"$f":"IF(V35=\"\",\"\",ROUND(AL35*AR35,0))","v":""}]
[]
[]
[]
[null,null,null,null,null,null,null,null,null,null,null,null,null,null,null,null,null,null,null,null,null,null,null,null,null,null,null,null,null,null,null,null,null,null,null,null,null,null,null,null,null,null,null,null,null,null,null,null,{"$f":"IF(V39=\"\",\"\",ROUND(AL39*AR39,0))","v":""}]
[]
[]
[]
[null,null,null,null,null,null,null,null,null,null,null,null,null,null,null,null,null,null,null,null,null,null,null,null,null,null,null,null,null,null,null,null,null,null,null,null,null,null,null,null,null,null,null,null,null,null,null,null,{"$f":"IF(V43=\"\",\"\",ROUND(AL43*AR43,0))","v":""}]
[]
[]
[]
[null,null,null,null,null,null,null,null,null,null,null,null,null,null,null,null,null,null,null,null,null,null,null,null,null,null,null,null,null,null,null,null,null,null,null,null,null,null,null,null,null,null,null,null,null,null,null,null,{"$f":"IF(V47=\"\",\"\",ROUND(AL47*AR47,0))","v":""}]
[]
[]
[]
[null,null,null,null,null,null,null,null,null,null,null,null,null,null,null,null,null,null,null,null,null,null,null,null,null,null,null,null,null,null,null,null,null,null,null,null,null,null,null,null,null,null,null,null,null,null,null,null,{"$f":"IF(V51=\"\",\"\",ROUND(AL51*AR51,0))","v":""}]
[]
[]
[]
[null,null,null,null,null,null,null,null,null,null,null,null,null,null,null,null,null,null,null,null,null,null,null,null,null,null,null,null,null,null,null,null,null,null,null,null,null,null,null,null,null,null,null,null,null,null,null,null,{"$f":"IF(V55=\"\",\"\",ROUND(AL55*AR55,0))","v":""}]
[]
[]
[]
[null,null,null,null,null,null,null,null,null,null,null,null,null,null,null,null,null,null,null,null,null,null,null,null,null,null,null,null,null,null,null,null,null,null,null,null,null,null,null,null,null,null,null,null,null,null,null,null,{"$f":"IF(V59=\"\",\"\",ROUND(AL59*AR59,0))","v":""}]
[]
[]
[]
[null,null,null,null,null,null,null,null,null,null,null,null,null,null,null,null,null,null,null,null,null,null,null,null,null,null,null,null,null,null,null,null,null,null,null,null,null,null,null,null,null,null,null,null,null,null,null,null,{"$f":"IF(V63=\"\",\"\",ROUND(AL63*AR63,0))","v":""}]
[]
[]
[]
[null,null,null,null,null,null,null,null,null,null,null,null,null,null,null,null,null,null,null,null,null,null,null,null,null,null,null,null,null,null,null,null,null,null,null,null,null,null,null,null,null,null,null,null,null,null,null,null,{"$f":"IF(V67=\"\",\"\",ROUND(AL67*AR67,0))","v":""}]
[]
[]
[]
[null,null,null,null,null,null,null,null,null,null,null,null,null,null,null,null,null,null,null,null,null,null,null,null,null,null,null,null,null,null,null,null,null,null,null,null,null,null,null,null,null,null,null,null,null,null,null,null,{"$f":"IF(V71=\"\",\"\",ROUND(AL71*AR71,0))","v":""}]
[]
[]
[]
[null,null,null,null,null,null,null,null,null,null,null,null,null,null,null,null,null,null,null,null,null,null,null,null,null,null,null,null,null,null,null,null,null,null,null,null,null,null,null,null,null,null,null,null,null,null,null,null,{"$f":"IF(V75=\"\",\"\",ROUND(AL75*AR75,0))","v":""}]
[]
[]
[]
[null,null,null,null,null,null,null,null,null,null,null,null,null,null,null,null,null,null,null,null,null,null,null,null,null,null,null,null,null,null,null,null,null,null,null,null,null,null,null,null,null,null,null,null,null,null,null,null,{"$f":"IF(V79=\"\",\"\",ROUND(AL79*AR79,0))","v":""}]
[]
[]
[]
[null,null,null,null,null,null,null,null,null,null,null,null,null,null,null,null,null,null,null,null,null,null,null,null,null,null,null,null,null,null,null,null,null,null,null,null,null,"金額(税抜)",null,null,null,null,null,null,null,null,null,null,{"$f":"IF(AW19=\"\",\"\",SUM(AW19:AW79))","v":""}]
[null,"社長",null,null,null,"専務",null,null,null,null,null,"常務",null,null,null,null,null,"部長･工場長",null,null,null,null,null,null,null,null,"担当者",null,null,null,null,"受付"]
[]
[]
[]
[null,null,null,null,null,null,null,null,null,null,null,null,null,null,null,null,null,null,null,null,null,null,null,null,null,null,null,null,null,null,null,null,null,null,null,null,null,"消費税",null,null,null,null,null,"税率",null,null,"税調",null,{"$f":"IF(AW83=\"\",\"\",IF(AR90=\"\",\"\",IF(AR90=8.1,ROUND(AW83*8/100,0)+AU90,ROUND(AW83*AR90/100,0)+AU90)))","v":""}]
[]
[null,null,null,null,null,null,null,null,null,null,null,null,null,null,null,null,null,null,null,null,null,null,null,null,null,null,null,null,null,null,null,null,null,null,null,null,null,null,null,null,null,null,null,null,null,{"$f":"IF(AR90=\"\",\"\",IF(AR90=8.1,\"旧\",IF(AR90=8,\"軽\",IF(AR90=0,\"非\",\"\"))))","v":""}]
[]
[]
[]
[null,null,null,null,null,null,null,null,null,null,null,null,null,null,null,null,null,null,null,"請求明細書 (現場控)"]
[null,"株 式 会 社 種 村 建 設",null,null,null,null,null,null,null,null,null,null,"御中"]
[null,null,null,null,null,null,null,null,null,null,null,null,null,null,null,null,null,null,null,null,null,null,null,null,null,null,null,null,null,null,null,null,null,null,null,null,null,null,null,null,"請求年月日",null,null,null,null,{"$f":"IF(AT4=\"\",\"\",AT4)","v":""},null,null,null,{"$f":"IF(AX4=\"\",\"\",AX4)","v":""},null,null,{"$f":"IF(BA4=\"\",\"\",BA4)","v":""}]
[]
[]
[]
[]
[null,"工事番号",null,null,null,null,{"$f":"IF(G9=\"\",\"\",G9)","v":""},null,null,null,null,null,"工事名",null,null,null,{"$f":"IF(Q9=\"\",\"\",Q9)","v":""},null,null,null,null,null,null,null,null,null,null,null,null,null,null,null,null,null,null,null,null,"業者名",null,null,null,{"$f":"IF(AP9=\"\",\"\",AP9)","v":""}]
[]
[]
[]
[]
[]
[null,"注文番号",null,null,null,null,{"$f":"IF(G15=\"\",\"\",G15)","v":""},null,null,null,null,null,null,null,null,null,null,"月　日",null,null,null,"品　名・内　訳",null,null,null,null,null,null,null,null,null,null,null,null,null,null,null,"数 量",null,null,"単位",null,null,"単価",null,null,null,null,{"$f":"表紙①!P127","v":"金額(税抜)"}]
[]
[]
[]
[null,"契約金額",null,null,null,null,{"$f":"IF(G19=\"\",\"\",G19)","v":""},null,null,null,null,null,null,null,null,null,null,{"$f":"IF(R19=\"\",\"\",R19)","v":""},null,{"$f":"IF(T19=\"\",\"\",T19)","v":""},null,{"$f":"IF(V19=\"\",\"\",V19)","v":""},null,{"$f":"IF(X19=\"\",\"\",X19)","v":""},null,{"$f":"IF(Z19=\"\",\"\",Z19)","v":""},null,{"$f":"IF(AB19=\"\",\"\",AB19)","v":""},null,{"$f":"IF(AD19=\"\",\"\",AD19)","v":""},null,{"$f":"IF(AF19=\"\",\"\",AF19)","v":""},null,{"$f":"IF(AH19=\"\",\"\",AH19)","v":""},null,{"$f":"IF(AJ19=\"\",\"\",AJ19)","v":""},null,{"$f":"IF(AL19=\"\",\"\",AL19)","v":""},null,null,{"$f":"IF(AO19=\"\",\"\",AO19)","v":""},null,null,{"$f":"IF(AR19=\"\",\"\",AR19)","v":""},null,null,null,null,{"$f":"IF(AW19=\"\",\"\",AW19)","v":""}]
[]
[]
[]
[null,"増減額",null,null,null,null,{"$f":"IF(G23=\"\",\"\",G23)","v":""},null,null,null,null,null,null,null,null,null,null,{"$f":"IF(R23=\"\",\"\",R23)","v":""},null,{"$f":"IF(T23=\"\",\"\",T23)","v":""},null,{"$f":"IF(V23=\"\",\"\",V23)","v":""},null,{"$f":"IF(X23=\"\",\"\",X23)","v":""},null,{"$f":"IF(Z23=\"\",\"\",Z23)","v":""},null,{"$f":"IF(AB23=\"\",\"\",AB23)","v":""},null,{"$f":"IF(AD23=\"\",\"\",AD23)","v":""},null,{"$f":"IF(AF23=\"\",\"\",AF23)","v":""},null,{"$f":"IF(AH23=\"\",\"\",AH23)","v":""},null,{"$f":"IF(AJ23=\"\",\"\",AJ23)","v":""},null,{"$f":"IF(AL23=\"\",\"\",AL23)","v":""},null,null,{"$f":"IF(AO23=\"\",\"\",AO23)","v":""},null,null,{"$f":"IF(AR23=\"\",\"\",AR23)","v":""},null,null,null,null,{"$f":"IF(AW23=\"\",\"\",AW23)","v":""}]
[]
[]
[]
[null,"前回までの\n請求額",null,null,null,null,{"$f":"IF(G27=\"\",\"\",G27)","v":""},null,null,null,null,null,null,null,null,null,null,{"$f":"IF(R27=\"\",\"\",R27)","v":""},null,{"$f":"IF(T27=\"\",\"\",T27)","v":""},null,{"$f":"IF(V27=\"\",\"\",V27)","v":""},null,{"$f":"IF(X27=\"\",\"\",X27)","v":""},null,{"$f":"IF(Z27=\"\",\"\",Z27)","v":""},null,{"$f":"IF(AB27=\"\",\"\",AB27)","v":""},null,{"$f":"IF(AD27=\"\",\"\",AD27)","v":""},null,{"$f":"IF(AF27=\"\",\"\",AF27)","v":""},null,{"$f":"IF(AH27=\"\",\"\",AH27)","v":""},null,{"$f":"IF(AJ27=\"\",\"\",AJ27)","v":""},null,{"$f":"IF(AL27=\"\",\"\",AL27)","v":""},null,null,{"$f":"IF(AO27=\"\",\"\",AO27)","v":""},null,null,{"$f":"IF(AR27=\"\",\"\",AR27)","v":""},null,null,null,null,{"$f":"IF(AW27=\"\",\"\",AW27)","v":""}]
[]
[]
[]
[null,"今回\n請求額",null,null,{"$f":"IF(E31=\"\",\"\",E31)","v":""},null,{"$f":"IF(G31=\"\",\"\",G31)","v":""},null,null,null,null,null,null,null,null,null,null,{"$f":"IF(R31=\"\",\"\",R31)","v":""},null,{"$f":"IF(T31=\"\",\"\",T31)","v":""},null,{"$f":"IF(V31=\"\",\"\",V31)","v":""},null,{"$f":"IF(X31=\"\",\"\",X31)","v":""},null,{"$f":"IF(Z31=\"\",\"\",Z31)","v":""},null,{"$f":"IF(AB31=\"\",\"\",AB31)","v":""},null,{"$f":"IF(AD31=\"\",\"\",AD31)","v":""},null,{"$f":"IF(AF31=\"\",\"\",AF31)","v":""},null,{"$f":"IF(AH31=\"\",\"\",AH31)","v":""},null,{"$f":"IF(AJ31=\"\",\"\",AJ31)","v":""},null,{"$f":"IF(AL31=\"\",\"\",AL31)","v":""},null,null,{"$f":"IF(AO31=\"\",\"\",AO31)","v":""},null,null,{"$f":"IF(AR31=\"\",\"\",AR31)","v":""},null,null,null,null,{"$f":"IF(AW31=\"\",\"\",AW31)","v":""}]
[]
[]
[]
[null,"差引残高",null,null,null,null,{"$f":"IF(G111=\"\",\"\",G111+G115-G119-G123)","v":""},null,null,null,null,null,null,null,null,null,null,{"$f":"IF(R35=\"\",\"\",R35)","v":""},null,{"$f":"IF(T35=\"\",\"\",T35)","v":""},null,{"$f":"IF(V35=\"\",\"\",V35)","v":""},null,{"$f":"IF(X35=\"\",\"\",X35)","v":""},null,{"$f":"IF(Z35=\"\",\"\",Z35)","v":""},null,{"$f":"IF(AB35=\"\",\"\",AB35)","v":""},null,{"$f":"IF(AD35=\"\",\"\",AD35)","v":""},null,{"$f":"IF(AF35=\"\",\"\",AF35)","v":""},null,{"$f":"IF(AH35=\"\",\"\",AH35)","v":""},null,{"$f":"IF(AJ35=\"\",\"\",AJ35)","v":""},null,{"$f":"IF(AL35=\"\",\"\",AL35)","v":""},null,null,{"$f":"IF(AO35=\"\",\"\",AO35)","v":""},null,null,{"$f":"IF(AR35=\"\",\"\",AR35)","v":""},null,null,null,null,{"$f":"IF(AW35=\"\",\"\",AW35)","v":""}]
[]
[]
[]
[null,null,null,null,null,null,null,null,null,null,null,null,null,null,null,null,null,{"$f":"IF(R39=\"\",\"\",R39)","v":""},null,{"$f":"IF(T39=\"\",\"\",T39)","v":""},null,{"$f":"IF(V39=\"\",\"\",V39)","v":""},null,{"$f":"IF(X39=\"\",\"\",X39)","v":""},null,{"$f":"IF(Z39=\"\",\"\",Z39)","v":""},null,{"$f":"IF(AB39=\"\",\"\",AB39)","v":""},null,{"$f":"IF(AD39=\"\",\"\",AD39)","v":""},null,{"$f":"IF(AF39=\"\",\"\",AF39)","v":""},null,{"$f":"IF(AH39=\"\",\"\",AH39)","v":""},null,{"$f":"IF(AJ39=\"\",\"\",AJ39)","v":""},null,{"$f":"IF(AL39=\"\",\"\",AL39)","v":""},null,null,{"$f":"IF(AO39=\"\",\"\",AO39)","v":""},null,null,{"$f":"IF(AR39=\"\",\"\",AR39)","v":""},null,null,null,null,{"$f":"IF(AW39=\"\",\"\",AW39)","v":""}]
[]
[]
[]
[null,null,null,null,null,null,null,null,null,null,null,null,null,null,null,null,null,{"$f":"IF(R43=\"\",\"\",R43)","v":""},null,{"$f":"IF(T43=\"\",\"\",T43)","v":""},null,{"$f":"IF(V43=\"\",\"\",V43)","v":""},null,{"$f":"IF(X43=\"\",\"\",X43)","v":""},null,{"$f":"IF(Z43=\"\",\"\",Z43)","v":""},null,{"$f":"IF(AB43=\"\",\"\",AB43)","v":""},null,{"$f":"IF(AD43=\"\",\"\",AD43)","v":""},null,{"$f":"IF(AF43=\"\",\"\",AF43)","v":""},null,{"$f":"IF(AH43=\"\",\"\",AH43)","v":""},null,{"$f":"IF(AJ43=\"\",\"\",AJ43)","v":""},null,{"$f":"IF(AL43=\"\",\"\",AL43)","v":""},null,null,{"$f":"IF(AO43=\"\",\"\",AO43)","v":""},null,null,{"$f":"IF(AR43=\"\",\"\",AR43)","v":""},null,null,null,null,{"$f":"IF(AW43=\"\",\"\",AW43)","v":""}]
[]
[]
[]
[null,null,null,null,null,null,null,null,null,null,null,null,null,null,null,null,null,{"$f":"IF(R47=\"\",\"\",R47)","v":""},null,{"$f":"IF(T47=\"\",\"\",T47)","v":""},null,{"$f":"IF(V47=\"\",\"\",V47)","v":""},null,{"$f":"IF(X47=\"\",\"\",X47)","v":""},null,{"$f":"IF(Z47=\"\",\"\",Z47)","v":""},null,{"$f":"IF(AB47=\"\",\"\",AB47)","v":""},null,{"$f":"IF(AD47=\"\",\"\",AD47)","v":""},null,{"$f":"IF(AF47=\"\",\"\",AF47)","v":""},null,{"$f":"IF(AH47=\"\",\"\",AH47)","v":""},null,{"$f":"IF(AJ47=\"\",\"\",AJ47)","v":""},null,{"$f":"IF(AL47=\"\",\"\",AL47)","v":""},null,null,{"$f":"IF(AO47=\"\",\"\",AO47)","v":""},null,null,{"$f":"IF(AR47=\"\",\"\",AR47)","v":""},null,null,null,null,{"$f":"IF(AW47=\"\",\"\",AW47)","v":""}]
[]
[]
[]
[null,null,null,null,null,null,null,null,null,null,null,null,null,null,null,null,null,{"$f":"IF(R51=\"\",\"\",R51)","v":""},null,{"$f":"IF(T51=\"\",\"\",T51)","v":""},null,{"$f":"IF(V51=\"\",\"\",V51)","v":""},null,{"$f":"IF(X51=\"\",\"\",X51)","v":""},null,{"$f":"IF(Z51=\"\",\"\",Z51)","v":""},null,{"$f":"IF(AB51=\"\",\"\",AB51)","v":""},null,{"$f":"IF(AD51=\"\",\"\",AD51)","v":""},null,{"$f":"IF(AF51=\"\",\"\",AF51)","v":""},null,{"$f":"IF(AH51=\"\",\"\",AH51)","v":""},null,{"$f":"IF(AJ51=\"\",\"\",AJ51)","v":""},null,{"$f":"IF(AL51=\"\",\"\",AL51)","v":""},null,null,{"$f":"IF(AO51=\"\",\"\",AO51)","v":""},null,null,{"$f":"IF(AR51=\"\",\"\",AR51)","v":""},null,null,null,null,{"$f":"IF(AW51=\"\",\"\",AW51)","v":""}]
[]
[]
[]
[null,null,null,null,null,null,null,null,null,null,null,null,null,null,null,null,null,{"$f":"IF(R55=\"\",\"\",R55)","v":""},null,{"$f":"IF(T55=\"\",\"\",T55)","v":""},null,{"$f":"IF(V55=\"\",\"\",V55)","v":""},null,{"$f":"IF(X55=\"\",\"\",X55)","v":""},null,{"$f":"IF(Z55=\"\",\"\",Z55)","v":""},null,{"$f":"IF(AB55=\"\",\"\",AB55)","v":""},null,{"$f":"IF(AD55=\"\",\"\",AD55)","v":""},null,{"$f":"IF(AF55=\"\",\"\",AF55)","v":""},null,{"$f":"IF(AH55=\"\",\"\",AH55)","v":""},null,{"$f":"IF(AJ55=\"\",\"\",AJ55)","v":""},null,{"$f":"IF(AL55=\"\",\"\",AL55)","v":""},null,null,{"$f":"IF(AO55=\"\",\"\",AO55)","v":""},null,null,{"$f":"IF(AR55=\"\",\"\",AR55)","v":""},null,null,null,null,{"$f":"IF(AW55=\"\",\"\",AW55)","v":""}]
[]
[]
[]
[null,null,null,null,null,null,null,null,null,null,null,null,null,null,null,null,null,{"$f":"IF(R59=\"\",\"\",R59)","v":""},null,{"$f":"IF(T59=\"\",\"\",T59)","v":""},null,{"$f":"IF(V59=\"\",\"\",V59)","v":""},null,{"$f":"IF(X59=\"\",\"\",X59)","v":""},null,{"$f":"IF(Z59=\"\",\"\",Z59)","v":""},null,{"$f":"IF(AB59=\"\",\"\",AB59)","v":""},null,{"$f":"IF(AD59=\"\",\"\",AD59)","v":""},null,{"$f":"IF(AF59=\"\",\"\",AF59)","v":""},null,{"$f":"IF(AH59=\"\",\"\",AH59)","v":""},null,{"$f":"IF(AJ59=\"\",\"\",AJ59)","v":""},null,{"$f":"IF(AL59=\"\",\"\",AL59)","v":""},null,null,{"$f":"IF(AO59=\"\",\"\",AO59)","v":""},null,null,{"$f":"IF(AR59=\"\",\"\",AR59)","v":""},null,null,null,null,{"$f":"IF(AW59=\"\",\"\",AW59)","v":""}]
[]
[]
[]
[null,null,null,null,null,null,null,null,null,null,null,null,null,null,null,null,null,{"$f":"IF(R63=\"\",\"\",R63)","v":""},null,{"$f":"IF(T63=\"\",\"\",T63)","v":""},null,{"$f":"IF(V63=\"\",\"\",V63)","v":""},null,{"$f":"IF(X63=\"\",\"\",X63)","v":""},null,{"$f":"IF(Z63=\"\",\"\",Z63)","v":""},null,{"$f":"IF(AB63=\"\",\"\",AB63)","v":""},null,{"$f":"IF(AD63=\"\",\"\",AD63)","v":""},null,{"$f":"IF(AF63=\"\",\"\",AF63)","v":""},null,{"$f":"IF(AH63=\"\",\"\",AH63)","v":""},null,{"$f":"IF(AJ63=\"\",\"\",AJ63)","v":""},null,{"$f":"IF(AL63=\"\",\"\",AL63)","v":""},null,null,{"$f":"IF(AO63=\"\",\"\",AO63)","v":""},null,null,{"$f":"IF(AR63=\"\",\"\",AR63)","v":""},null,null,null,null,{"$f":"IF(AW63=\"\",\"\",AW63)","v":""}]
[]
[]
[]
[null,null,null,null,null,null,null,null,null,null,null,null,null,null,null,null,null,{"$f":"IF(R67=\"\",\"\",R67)","v":""},null,{"$f":"IF(T67=\"\",\"\",T67)","v":""},null,{"$f":"IF(V67=\"\",\"\",V67)","v":""},null,{"$f":"IF(X67=\"\",\"\",X67)","v":""},null,{"$f":"IF(Z67=\"\",\"\",Z67)","v":""},null,{"$f":"IF(AB67=\"\",\"\",AB67)","v":""},null,{"$f":"IF(AD67=\"\",\"\",AD67)","v":""},null,{"$f":"IF(AF67=\"\",\"\",AF67)","v":""},null,{"$f":"IF(AH67=\"\",\"\",AH67)","v":""},null,{"$f":"IF(AJ67=\"\",\"\",AJ67)","v":""},null,{"$f":"IF(AL67=\"\",\"\",AL67)","v":""},null,null,{"$f":"IF(AO67=\"\",\"\",AO67)","v":""},null,null,{"$f":"IF(AR67=\"\",\"\",AR67)","v":""},null,null,null,null,{"$f":"IF(AW67=\"\",\"\",AW67)","v":""}]
[]
[]
[]
[null,null,null,null,null,null,null,null,null,null,null,null,null,null,null,null,null,{"$f":"IF(R71=\"\",\"\",R71)","v":""},null,{"$f":"IF(T71=\"\",\"\",T71)","v":""},null,{"$f":"IF(V71=\"\",\"\",V71)","v":""},null,{"$f":"IF(X71=\"\",\"\",X71)","v":""},null,{"$f":"IF(Z71=\"\",\"\",Z71)","v":""},null,{"$f":"IF(AB71=\"\",\"\",AB71)","v":""},null,{"$f":"IF(AD71=\"\",\"\",AD71)","v":""},null,{"$f":"IF(AF71=\"\",\"\",AF71)","v":""},null,{"$f":"IF(AH71=\"\",\"\",AH71)","v":""},null,{"$f":"IF(AJ71=\"\",\"\",AJ71)","v":""},null,{"$f":"IF(AL71=\"\",\"\",AL71)","v":""},null,null,{"$f":"IF(AO71=\"\",\"\",AO71)","v":""},null,null,{"$f":"IF(AR71=\"\",\"\",AR71)","v":""},null,null,null,null,{"$f":"IF(AW71=\"\",\"\",AW71)","v":""}]
[]
[]
[]
[null,null,null,null,null,null,null,null,null,null,null,null,null,null,null,null,null,{"$f":"IF(R75=\"\",\"\",R75)","v":""},null,{"$f":"IF(T75=\"\",\"\",T75)","v":""},null,{"$f":"IF(V75=\"\",\"\",V75)","v":""},null,{"$f":"IF(X75=\"\",\"\",X75)","v":""},null,{"$f":"IF(Z75=\"\",\"\",Z75)","v":""},null,{"$f":"IF(AB75=\"\",\"\",AB75)","v":""},null,{"$f":"IF(AD75=\"\",\"\",AD75)","v":""},null,{"$f":"IF(AF75=\"\",\"\",AF75)","v":""},null,{"$f":"IF(AH75=\"\",\"\",AH75)","v":""},null,{"$f":"IF(AJ75=\"\",\"\",AJ75)","v":""},null,{"$f":"IF(AL75=\"\",\"\",AL75)","v":""},null,null,{"$f":"IF(AO75=\"\",\"\",AO75)","v":""},null,null,{"$f":"IF(AR75=\"\",\"\",AR75)","v":""},null,null,null,null,{"$f":"IF(AW75=\"\",\"\",AW75)","v":""}]
[]
[]
[]
[null,null,null,null,null,null,null,null,null,null,null,null,null,null,null,null,null,{"$f":"IF(R79=\"\",\"\",R79)","v":""},null,{"$f":"IF(T79=\"\",\"\",T79)","v":""},null,{"$f":"IF(V79=\"\",\"\",V79)","v":""},null,{"$f":"IF(X79=\"\",\"\",X79)","v":""},null,{"$f":"IF(Z79=\"\",\"\",Z79)","v":""},null,{"$f":"IF(AB79=\"\",\"\",AB79)","v":""},null,{"$f":"IF(AD79=\"\",\"\",AD79)","v":""},null,{"$f":"IF(AF79=\"\",\"\",AF79)","v":""},null,{"$f":"IF(AH79=\"\",\"\",AH79)","v":""},null,{"$f":"IF(AJ79=\"\",\"\",AJ79)","v":""},null,{"$f":"IF(AL79=\"\",\"\",AL79)","v":""},null,null,{"$f":"IF(AO79=\"\",\"\",AO79)","v":""},null,null,{"$f":"IF(AR79=\"\",\"\",AR79)","v":""},null,null,null,null,{"$f":"IF(AW79=\"\",\"\",AW79)","v":""}]
[]
[]
[]
[null,null,null,null,null,null,null,null,null,null,null,null,null,null,null,null,null,null,null,null,null,null,null,null,null,null,null,null,null,null,null,null,null,null,null,null,null,{"$f":"AL83","v":"金額(税抜)"},null,null,null,null,null,null,null,null,null,null,{"$f":"AW83","v":""}]
[]
[]
[]
[]
[null,null,null,null,null,null,null,null,null,null,null,null,null,null,null,null,null,null,null,null,null,null,null,null,null,null,null,null,null,null,null,null,null,null,null,null,null,{"$f":"AL88","v":"消費税"},null,null,null,null,null,"税率",null,null,"税調",null,{"$f":"AW88","v":""}]
[]
[null,null,null,null,null,null,null,null,null,null,null,null,null,null,null,null,null,null,null,null,null,null,null,null,null,null,null,null,null,null,null,null,null,null,null,null,null,null,null,null,null,null,null,{"$f":"AR90","v":0},null,{"$f":"AT90","v":""}]
[]
[]
[]
[null,null,null,null,null,null,null,null,null,null,null,null,null,null,null,null,null,null,null,"請求明細書 (貴社控)"]
[null,"株 式 会 社 種 村 建 設",null,null,null,null,null,null,null,null,null,null,"御中"]
[null,null,null,null,null,null,null,null,null,null,null,null,null,null,null,null,null,null,null,null,null,null,null,null,null,null,null,null,null,null,null,null,null,null,null,null,null,null,null,null,"請求年月日",null,null,null,null,{"$f":"年","v":0},null,null,null,{"$f":"IF(AX96=\"\",\"\",AX96)","v":""},null,null,{"$f":"IF(BA96=\"\",\"\",BA96)","v":""}]
[]
[]
[]
[]
[null,"工事番号",null,null,null,null,{"$f":"IF(G101=\"\",\"\",G101)","v":""},null,null,null,null,null,"工事名",null,null,null,{"$f":"IF(Q101=\"\",\"\",Q101)","v":""},null,null,null,null,null,null,null,null,null,null,null,null,null,null,null,null,null,null,null,null,"業者名",null,null,null,{"$f":"IF(AP101=\"\",\"\",AP101)","v":""}]
[]
[]
[]
[]
[]
[null,"注文番号",null,null,null,null,{"$f":"IF(G107=\"\",\"\",G107)","v":""},null,null,null,null,null,null,null,null,null,null,"月　日",null,null,null,"品　名・内　訳",null,null,null,null,null,null,null,null,null,null,null,null,null,null,null,"数 量",null,null,"単位",null,null,"単価",null,null,null,null,{"$f":"表紙①!P219","v":0}]
[]
[]
[]
[null,"契約金額",null,null,null,null,{"$f":"IF(G111=\"\",\"\",G111)","v":""},null,null,null,null,null,null,null,null,null,null,{"$f":"IF(R111=\"\",\"\",R111)","v":""},null,{"$f":"IF(T111=\"\",\"\",T111)","v":""},null,{"$f":"IF(V111=\"\",\"\",V111)","v":""},null,{"$f":"IF(X111=\"\",\"\",X111)","v":""},null,{"$f":"IF(Z111=\"\",\"\",Z111)","v":""},null,{"$f":"IF(AB111=\"\",\"\",AB111)","v":""},null,{"$f":"IF(AD111=\"\",\"\",AD111)","v":""},null,{"$f":"IF(AF111=\"\",\"\",AF111)","v":""},null,{"$f":"IF(AH111=\"\",\"\",AH111)","v":""},null,{"$f":"IF(AJ111=\"\",\"\",AJ111)","v":""},null,{"$f":"IF(AL111=\"\",\"\",AL111)","v":""},null,null,{"$f":"IF(AO111=\"\",\"\",AO111)","v":""},null,null,{"$f":"IF(AR111=\"\",\"\",AR111)","v":""},null,null,null,null,{"$f":"IF(AW111=\"\",\"\",AW111)","v":""}]
[]
[]
[]
[null,"増減額",null,null,null,null,{"$f":"IF(G115=\"\",\"\",G115)","v":""},null,null,null,null,null,null,null,null,null,null,{"$f":"IF(R115=\"\",\"\",R115)","v":""},null,{"$f":"IF(T115=\"\",\"\",T115)","v":""},null,{"$f":"IF(V115=\"\",\"\",V115)","v":""},null,{"$f":"IF(X115=\"\",\"\",X115)","v":""},null,{"$f":"IF(Z115=\"\",\"\",Z115)","v":""},null,{"$f":"IF(AB115=\"\",\"\",AB115)","v":""},null,{"$f":"IF(AD115=\"\",\"\",AD115)","v":""},null,{"$f":"IF(AF115=\"\",\"\",AF115)","v":""},null,{"$f":"IF(AH115=\"\",\"\",AH115)","v":""},null,{"$f":"IF(AJ115=\"\",\"\",AJ115)","v":""},null,{"$f":"IF(AL115=\"\",\"\",AL115)","v":""},null,null,{"$f":"IF(AO115=\"\",\"\",AO115)","v":""},null,null,{"$f":"IF(AR115=\"\",\"\",AR115)","v":""},null,null,null,null,{"$f":"IF(AW115=\"\",\"\",AW115)","v":""}]
[]
[]
[]
[null,"前回までの\n請求額",null,null,null,null,{"$f":"IF(G119=\"\",\"\",G119)","v":""},null,null,null,null,null,null,null,null,null,null,{"$f":"IF(R119=\"\",\"\",R119)","v":""},null,{"$f":"IF(T119=\"\",\"\",T119)","v":""},null,{"$f":"IF(V119=\"\",\"\",V119)","v":""},null,{"$f":"IF(X119=\"\",\"\",X119)","v":""},null,{"$f":"IF(Z119=\"\",\"\",Z119)","v":""},null,{"$f":"IF(AB119=\"\",\"\",AB119)","v":""},null,{"$f":"IF(AD119=\"\",\"\",AD119)","v":""},null,{"$f":"IF(AF119=\"\",\"\",AF119)","v":""},null,{"$f":"IF(AH119=\"\",\"\",AH119)","v":""},null,{"$f":"IF(AJ119=\"\",\"\",AJ119)","v":""},null,{"$f":"IF(AL119=\"\",\"\",AL119)","v":""},null,null,{"$f":"IF(AO119=\"\",\"\",AO119)","v":""},null,null,{"$f":"IF(AR119=\"\",\"\",AR119)","v":""},null,null,null,null,{"$f":"IF(AW119=\"\",\"\",AW119)","v":""}]
[]
[]
[]
[null,"今回\n請求額",null,null,{"$f":"IF(E31=\"\",\"\",E31)","v":""},null,{"$f":"IF(G123=\"\",\"\",G123)","v":""},null,null,null,null,null,null,null,null,null,null,{"$f":"IF(R123=\"\",\"\",R123)","v":""},null,{"$f":"IF(T123=\"\",\"\",T123)","v":""},null,{"$f":"IF(V123=\"\",\"\",V123)","v":""},null,{"$f":"IF(X123=\"\",\"\",X123)","v":""},null,{"$f":"IF(Z123=\"\",\"\",Z123)","v":""},null,{"$f":"IF(AB123=\"\",\"\",AB123)","v":""},null,{"$f":"IF(AD123=\"\",\"\",AD123)","v":""},null,{"$f":"IF(AF123=\"\",\"\",AF123)","v":""},null,{"$f":"IF(AH123=\"\",\"\",AH123)","v":""},null,{"$f":"IF(AJ123=\"\",\"\",AJ123)","v":""},null,{"$f":"IF(AL123=\"\",\"\",AL123)","v":""},null,null,{"$f":"IF(AO123=\"\",\"\",AO123)","v":""},null,null,{"$f":"IF(AR123=\"\",\"\",AR123)","v":""},null,null,null,null,{"$f":"IF(AW123=\"\",\"\",AW123)","v":""}]
[]
[]
[]
[null,"差引残高",null,null,null,null,{"$f":"IF(G203=\"\",\"\",G203+G207-G211-G215)","v":""},null,null,null,null,null,null,null,null,null,null,{"$f":"IF(R127=\"\",\"\",R127)","v":""},null,{"$f":"IF(T127=\"\",\"\",T127)","v":""},null,{"$f":"IF(V127=\"\",\"\",V127)","v":""},null,{"$f":"IF(X127=\"\",\"\",X127)","v":""},null,{"$f":"IF(Z127=\"\",\"\",Z127)","v":""},null,{"$f":"IF(AB127=\"\",\"\",AB127)","v":""},null,{"$f":"IF(AD127=\"\",\"\",AD127)","v":""},null,{"$f":"IF(AF127=\"\",\"\",AF127)","v":""},null,{"$f":"IF(AH127=\"\",\"\",AH127)","v":""},null,{"$f":"IF(AJ127=\"\",\"\",AJ127)","v":""},null,{"$f":"IF(AL127=\"\",\"\",AL127)","v":""},null,null,{"$f":"IF(AO127=\"\",\"\",AO127)","v":""},null,null,{"$f":"IF(AR127=\"\",\"\",AR127)","v":""},null,null,null,null,{"$f":"IF(AW127=\"\",\"\",AW127)","v":""}]
[]
[]
[]
[null,null,null,null,null,null,null,null,null,null,null,null,null,null,null,null,null,{"$f":"IF(R131=\"\",\"\",R131)","v":""},null,{"$f":"IF(T131=\"\",\"\",T131)","v":""},null,{"$f":"IF(V131=\"\",\"\",V131)","v":""},null,{"$f":"IF(X131=\"\",\"\",X131)","v":""},null,{"$f":"IF(Z131=\"\",\"\",Z131)","v":""},null,{"$f":"IF(AB131=\"\",\"\",AB131)","v":""},null,{"$f":"IF(AD131=\"\",\"\",AD131)","v":""},null,{"$f":"IF(AF131=\"\",\"\",AF131)","v":""},null,{"$f":"IF(AH131=\"\",\"\",AH131)","v":""},null,{"$f":"IF(AJ131=\"\",\"\",AJ131)","v":""},null,{"$f":"IF(AL131=\"\",\"\",AL131)","v":""},null,null,{"$f":"IF(AO131=\"\",\"\",AO131)","v":""},null,null,{"$f":"IF(AR131=\"\",\"\",AR131)","v":""},null,null,null,null,{"$f":"IF(AW131=\"\",\"\",AW131)","v":""}]
[]
[]
[]
[null,null,null,null,null,null,null,null,null,null,null,null,null,null,null,null,null,{"$f":"IF(R135=\"\",\"\",R135)","v":""},null,{"$f":"IF(T135=\"\",\"\",T135)","v":""},null,{"$f":"IF(V135=\"\",\"\",V135)","v":""},null,{"$f":"IF(X135=\"\",\"\",X135)","v":""},null,{"$f":"IF(Z135=\"\",\"\",Z135)","v":""},null,{"$f":"IF(AB135=\"\",\"\",AB135)","v":""},null,{"$f":"IF(AD135=\"\",\"\",AD135)","v":""},null,{"$f":"IF(AF135=\"\",\"\",AF135)","v":""},null,{"$f":"IF(AH135=\"\",\"\",AH135)","v":""},null,{"$f":"IF(AJ135=\"\",\"\",AJ135)","v":""},null,{"$f":"IF(AL135=\"\",\"\",AL135)","v":""},null,null,{"$f":"IF(AO135=\"\",\"\",AO135)","v":""},null,null,{"$f":"IF(AR135=\"\",\"\",AR135)","v":""},null,null,null,null,{"$f":"IF(AW135=\"\",\"\",AW135)","v":""}]
[]
[]
[]
[null,null,null,null,null,null,null,null,null,null,null,null,null,null,null,null,null,{"$f":"IF(R139=\"\",\"\",R139)","v":""},null,{"$f":"IF(T139=\"\",\"\",T139)","v":""},null,{"$f":"IF(V139=\"\",\"\",V139)","v":""},null,{"$f":"IF(X139=\"\",\"\",X139)","v":""},null,{"$f":"IF(Z139=\"\",\"\",Z139)","v":""},null,{"$f":"IF(AB139=\"\",\"\",AB139)","v":""},null,{"$f":"IF(AD139=\"\",\"\",AD139)","v":""},null,{"$f":"IF(AF139=\"\",\"\",AF139)","v":""},null,{"$f":"IF(AH139=\"\",\"\",AH139)","v":""},null,{"$f":"IF(AJ139=\"\",\"\",AJ139)","v":""},null,{"$f":"IF(AL139=\"\",\"\",AL139)","v":""},null,null,{"$f":"IF(AO139=\"\",\"\",AO139)","v":""},null,null,{"$f":"IF(AR139=\"\",\"\",AR139)","v":""},null,null,null,null,{"$f":"IF(AW139=\"\",\"\",AW139)","v":""}]
[]
[]
[]
[null,null,null,null,null,null,null,null,null,null,null,null,null,null,null,null,null,{"$f":"IF(R143=\"\",\"\",R143)","v":""},null,{"$f":"IF(T143=\"\",\"\",T143)","v":""},null,{"$f":"IF(V143=\"\",\"\",V143)","v":""},null,{"$f":"IF(X143=\"\",\"\",X143)","v":""},null,{"$f":"IF(Z143=\"\",\"\",Z143)","v":""},null,{"$f":"IF(AB143=\"\",\"\",AB143)","v":""},null,{"$f":"IF(AD143=\"\",\"\",AD143)","v":""},null,{"$f":"IF(AF143=\"\",\"\",AF143)","v":""},null,{"$f":"IF(AH143=\"\",\"\",AH143)","v":""},null,{"$f":"IF(AJ143=\"\",\"\",AJ143)","v":""},null,{"$f":"IF(AL143=\"\",\"\",AL143)","v":""},null,null,{"$f":"IF(AO143=\"\",\"\",AO143)","v":""},null,null,{"$f":"IF(AR143=\"\",\"\",AR143)","v":""},null,null,null,null,{"$f":"IF(AW143=\"\",\"\",AW143)","v":""}]
[]
[]
[]
[null,null,null,null,null,null,null,null,null,null,null,null,null,null,null,null,null,{"$f":"IF(R147=\"\",\"\",R147)","v":""},null,{"$f":"IF(T147=\"\",\"\",T147)","v":""},null,{"$f":"IF(V147=\"\",\"\",V147)","v":""},null,{"$f":"IF(X147=\"\",\"\",X147)","v":""},null,{"$f":"IF(Z147=\"\",\"\",Z147)","v":""},null,{"$f":"IF(AB147=\"\",\"\",AB147)","v":""},null,{"$f":"IF(AD147=\"\",\"\",AD147)","v":""},null,{"$f":"IF(AF147=\"\",\"\",AF147)","v":""},null,{"$f":"IF(AH147=\"\",\"\",AH147)","v":""},null,{"$f":"IF(AJ147=\"\",\"\",AJ147)","v":""},null,{"$f":"IF(AL147=\"\",\"\",AL147)","v":""},null,null,{"$f":"IF(AO147=\"\",\"\",AO147)","v":""},null,null,{"$f":"IF(AR147=\"\",\"\",AR147)","v":""},null,null,null,null,{"$f":"IF(AW147=\"\",\"\",AW147)","v":""}]
[]
[]
[]
[null,null,null,null,null,null,null,null,null,null,null,null,null,null,null,null,null,{"$f":"IF(R151=\"\",\"\",R151)","v":""},null,{"$f":"IF(T151=\"\",\"\",T151)","v":""},null,{"$f":"IF(V151=\"\",\"\",V151)","v":""},null,{"$f":"IF(X151=\"\",\"\",X151)","v":""},null,{"$f":"IF(Z151=\"\",\"\",Z151)","v":""},null,{"$f":"IF(AB151=\"\",\"\",AB151)","v":""},null,{"$f":"IF(AD151=\"\",\"\",AD151)","v":""},null,{"$f":"IF(AF151=\"\",\"\",AF151)","v":""},null,{"$f":"IF(AH151=\"\",\"\",AH151)","v":""},null,{"$f":"IF(AJ151=\"\",\"\",AJ151)","v":""},null,{"$f":"IF(AL151=\"\",\"\",AL151)","v":""},null,null,{"$f":"IF(AO151=\"\",\"\",AO151)","v":""},null,null,{"$f":"IF(AR151=\"\",\"\",AR151)","v":""},null,null,null,null,{"$f":"IF(AW151=\"\",\"\",AW151)","v":""}]
[]
[]
[]
[null,null,null,null,null,null,null,null,null,null,null,null,null,null,null,null,null,{"$f":"IF(R155=\"\",\"\",R155)","v":""},null,{"$f":"IF(T155=\"\",\"\",T155)","v":""},null,{"$f":"IF(V155=\"\",\"\",V155)","v":""},null,{"$f":"IF(X155=\"\",\"\",X155)","v":""},null,{"$f":"IF(Z155=\"\",\"\",Z155)","v":""},null,{"$f":"IF(AB155=\"\",\"\",AB155)","v":""},null,{"$f":"IF(AD155=\"\",\"\",AD155)","v":""},null,{"$f":"IF(AF155=\"\",\"\",AF155)","v":""},null,{"$f":"IF(AH155=\"\",\"\",AH155)","v":""},null,{"$f":"IF(AJ155=\"\",\"\",AJ155)","v":""},null,{"$f":"IF(AL155=\"\",\"\",AL155)","v":""},null,null,{"$f":"IF(AO155=\"\",\"\",AO155)","v":""},null,null,{"$f":"IF(AR155=\"\",\"\",AR155)","v":""},null,null,null,null,{"$f":"IF(AW155=\"\",\"\",AW155)","v":""}]
[]
[]
[]
[null,null,null,null,null,null,null,null,null,null,null,null,null,null,null,null,null,{"$f":"IF(R159=\"\",\"\",R159)","v":""},null,{"$f":"IF(T159=\"\",\"\",T159)","v":""},null,{"$f":"IF(V159=\"\",\"\",V159)","v":""},null,{"$f":"IF(X159=\"\",\"\",X159)","v":""},null,{"$f":"IF(Z159=\"\",\"\",Z159)","v":""},null,{"$f":"IF(AB159=\"\",\"\",AB159)","v":""},null,{"$f":"IF(AD159=\"\",\"\",AD159)","v":""},null,{"$f":"IF(AF159=\"\",\"\",AF159)","v":""},null,{"$f":"IF(AH159=\"\",\"\",AH159)","v":""},null,{"$f":"IF(AJ159=\"\",\"\",AJ159)","v":""},null,{"$f":"IF(AL159=\"\",\"\",AL159)","v":""},null,null,{"$f":"IF(AO159=\"\",\"\",AO159)","v":""},null,null,{"$f":"IF(AR159=\"\",\"\",AR159)","v":""},null,null,null,null,{"$f":"IF(AW159=\"\",\"\",AW159)","v":""}]
[]
[]
[]
[null,null,null,null,null,null,null,null,null,null,null,null,null,null,null,null,null,{"$f":"IF(R163=\"\",\"\",R163)","v":""},null,{"$f":"IF(T163=\"\",\"\",T163)","v":""},null,{"$f":"IF(V163=\"\",\"\",V163)","v":""},null,{"$f":"IF(X163=\"\",\"\",X163)","v":""},null,{"$f":"IF(Z163=\"\",\"\",Z163)","v":""},null,{"$f":"IF(AB163=\"\",\"\",AB163)","v":""},null,{"$f":"IF(AD163=\"\",\"\",AD163)","v":""},null,{"$f":"IF(AF163=\"\",\"\",AF163)","v":""},null,{"$f":"IF(AH163=\"\",\"\",AH163)","v":""},null,{"$f":"IF(AJ163=\"\",\"\",AJ163)","v":""},null,{"$f":"IF(AL163=\"\",\"\",AL163)","v":""},null,null,{"$f":"IF(AO163=\"\",\"\",AO163)","v":""},null,null,{"$f":"IF(AR163=\"\",\"\",AR163)","v":""},null,null,null,null,{"$f":"IF(AW163=\"\",\"\",AW163)","v":""}]
[]
[]
[]
[null,null,null,null,null,null,null,null,null,null,null,null,null,null,null,null,null,{"$f":"IF(R167=\"\",\"\",R167)","v":""},null,{"$f":"IF(T167=\"\",\"\",T167)","v":""},null,{"$f":"IF(V167=\"\",\"\",V167)","v":""},null,{"$f":"IF(X167=\"\",\"\",X167)","v":""},null,{"$f":"IF(Z167=\"\",\"\",Z167)","v":""},null,{"$f":"IF(AB167=\"\",\"\",AB167)","v":""},null,{"$f":"IF(AD167=\"\",\"\",AD167)","v":""},null,{"$f":"IF(AF167=\"\",\"\",AF167)","v":""},null,{"$f":"IF(AH167=\"\",\"\",AH167)","v":""},null,{"$f":"IF(AJ167=\"\",\"\",AJ167)","v":""},null,{"$f":"IF(AL167=\"\",\"\",AL167)","v":""},null,null,{"$f":"IF(AO167=\"\",\"\",AO167)","v":""},null,null,{"$f":"IF(AR167=\"\",\"\",AR167)","v":""},null,null,null,null,{"$f":"IF(AW167=\"\",\"\",AW167)","v":""}]
[]
[]
[]
[null,null,null,null,null,null,null,null,null,null,null,null,null,null,null,null,null,{"$f":"IF(R171=\"\",\"\",R171)","v":""},null,{"$f":"IF(T171=\"\",\"\",T171)","v":""},null,{"$f":"IF(V171=\"\",\"\",V171)","v":""},null,{"$f":"IF(X171=\"\",\"\",X171)","v":""},null,{"$f":"IF(Z171=\"\",\"\",Z171)","v":""},null,{"$f":"IF(AB171=\"\",\"\",AB171)","v":""},null,{"$f":"IF(AD171=\"\",\"\",AD171)","v":""},null,{"$f":"IF(AF171=\"\",\"\",AF171)","v":""},null,{"$f":"IF(AH171=\"\",\"\",AH171)","v":""},null,{"$f":"IF(AJ171=\"\",\"\",AJ171)","v":""},null,{"$f":"IF(AL171=\"\",\"\",AL171)","v":""},null,null,{"$f":"IF(AO171=\"\",\"\",AO171)","v":""},null,null,{"$f":"IF(AR171=\"\",\"\",AR171)","v":""},null,null,null,null,{"$f":"IF(AW171=\"\",\"\",AW171)","v":""}]
[]
[]
[]
[null,null,null,null,null,null,null,null,null,null,null,null,null,null,null,null,null,null,null,null,null,null,null,null,null,null,null,null,null,null,null,null,null,null,null,null,null,{"$f":"AL175","v":"金額(税抜)"},null,null,null,null,null,null,null,null,null,null,{"$f":"AW83","v":""}]
[]
[]
[]
[]
[null,null,null,null,null,null,null,null,null,null,null,null,null,null,null,null,null,null,null,null,null,null,null,null,null,null,null,null,null,null,null,null,null,null,null,null,null,{"$f":"AL180","v":"消費税"},null,null,null,null,null,"税率",null,null,"税調",null,{"$f":"AW88","v":""}]
[]
[null,null,null,null,null,null,null,null,null,null,null,null,null,null,null,null,null,null,null,null,null,null,null,null,null,null,null,null,null,null,null,null,null,null,null,null,null,null,null,null,null,null,null,{"$f":"AR90","v":0},null,{"$f":"AT90","v":""}]

{"sheet":"細1-5","index":8,"n_rows":274,"n_cols":53,"rows_kept":274,"cut":false,"hidden":false,"merged":[[179,37,182,42],[179,43,180,45],[179,46,180,47],[181,43,182,44],[181,45,182,45],[181,46,182,47],[271,37,274,42],[271,43,272,45],[273,43,274,44],[273,45,274,45],[273,46,274,47],[271,46,272,47],[187,40,189,44],[187,45,189,48],[179,48,182,54],[198,48,201,54],[214,48,217,54],[222,40,225,42],[222,43,225,47],[254,37,257,39],[246,40,249,42],[246,43,249,47],[246,48,249,54],[254,48,257,54],[3,49,5,51],[3,52,5,54],[8,37,11,40],[8,41,11,54],[1,19,4,32],[2,1,5,11],[2,12,5,13],[8,1,11,5],[8,6,11,11],[8,12,11,15],[8,16,11,35],[3,40,5,44],[3,45,5,48],[14,43,17,47],[14,48,17,54],[14,1,17,5],[14,6,17,15],[14,17,17,20],[14,21,17,36],[18,1,21,5],[18,6,21,15],[18,17,21,18],[14,37,17,39],[14,40,17,42],[18,21,21,36],[18,37,21,39],[18,40,21,42],[18,43,21,47],[26,1,29,5],[26,6,29,15],[26,17,29,18],[26,19,29,20],[18,48,21,54],[22,1,25,5],[22,6,25,15],[22,17,25,18],[22,19,25,20],[22,21,25,36],[26,21,29,36],[26,37,29,39],[26,40,29,42],[26,43,29,47],[22,37,25,39],[22,40,25,42],[22,43,25,47],[18,19,21,20],[34,48,37,54],[26,48,29,54],[30,1,33,3],[30,4,33,5],[30,6,33,15],[30,17,33,18],[30,19,33,20],[22,48,25,54],[38,17,41,18],[38,19,41,20],[38,21,41,36],[38,37,41,39],[30,48,33,54],[34,1,37,5],[34,6,37,15],[34,17,37,18],[34,19,37,20],[34,21,37,36],[38,40,41,42],[38,43,41,47],[38,48,41,54],[30,21,33,36],[30,37,33,39],[30,40,33,42],[30,43,33,47],[34,37,37,39],[34,40,37,42],[34,43,37,47],[46,40,49,42],[46,43,49,47],[46,21,49,36],[46,37,49,39],[54,40,57,42],[54,43,57,47],[42,17,45,18],[42,19,45,20],[42,21,45,36],[42,37,45,39],[42,40,45,42],[42,43,45,47],[42,48,45,54],[46,48,49,54],[50,17,53,18],[50,19,53,20],[50,21,53,36],[50,37,53,39],[50,40,53,42],[50,43,53,47],[50,48,53,54],[46,17,49,18],[46,19,49,20],[58,17,61,18],[58,19,61,20],[58,21,61,36],[58,37,61,39],[58,40,61,42],[58,43,61,47],[58,48,61,54],[54,17,57,18],[54,19,57,20],[54,21,57,36],[54,37,57,39],[54,48,57,54],[62,40,65,42],[62,43,65,47],[62,21,65,36],[62,37,65,39],[70,40,73,42],[70,43,73,47],[70,48,73,54],[62,48,65,54],[66,17,69,18],[66,19,69,20],[66,21,69,36],[66,37,69,39],[66,40,69,42],[66,43,69,47],[66,48,69,54],[62,17,65,18],[62,19,65,20],[74,17,77,18],[74,19,77,20],[74,21,77,36],[74,37,77,39],[74,40,77,42],[74,43,77,47],[74,48,77,54],[70,17,73,18],[70,19,73,20],[70,21,73,36],[70,37,73,39],[78,48,81,54],[82,37,85,47],[82,48,85,54],[78,37,81,39],[78,40,81,42],[85,11,90,16],[85,17,90,25],[78,43,81,47],[83,26,84,30],[83,31,84,35],[78,17,81,18],[78,19,81,20],[78,21,81,36],[85,26,90,30],[85,31,90,35],[83,1,84,4],[83,5,84,10],[83,11,84,16],[83,17,84,25],[85,1,90,4],[85,5,90,10],[87,48,90,54],[95,49,97,51],[95,52,97,54],[95,40,97,44],[95,45,97,48],[87,37,90,42],[87,43,88,45],[89,43,90,44],[89,45,90,45],[89,46,90,47],[87,46,88,47],[100,1,103,5],[100,6,103,11],[100,12,103,15],[100,16,103,35],[100,37,103,40],[100,41,103,54],[93,19,96,32],[94,1,97,11],[94,12,97,13],[106,37,109,39],[106,40,109,42],[106,43,109,47],[106,48,109,54],[106,1,109,5],[106,6,109,15],[106,17,109,20],[106,21,109,36],[110,21,113,36],[110,37,113,39],[110,40,113,42],[110,43,113,47],[110,1,113,5],[110,6,113,15],[110,17,113,18],[110,19,113,20],[110,48,113,54],[114,1,117,5],[114,6,117,15],[114,17,117,18],[114,19,117,20],[114,21,117,36],[114,37,117,39],[114,40,117,42],[114,43,117,47],[114,48,117,54],[118,21,121,36],[118,37,121,39],[118,40,121,42],[118,43,121,47],[118,1,121,5],[118,6,121,15],[118,17,121,18],[118,19,121,20],[118,48,121,54],[122,48,125,54],[126,1,129,5],[126,6,129,15],[126,17,129,18],[126,19,129,20],[126,21,129,36],[126,37,129,39],[126,40,129,42],[126,43,129,47],[126,48,129,54],[122,1,125,3],[122,4,125,5],[122,6,125,15],[122,17,125,18],[122,19,125,20],[122,21,125,36],[122,37,125,39],[122,40,125,42],[122,43,125,47],[130,40,133,42],[130,43,133,47],[130,21,133,36],[130,37,133,39],[138,40,141,42],[138,43,141,47],[138,48,141,54],[130,48,133,54],[134,17,137,18],[134,19,137,20],[134,21,137,36],[134,37,137,39],[134,40,137,42],[134,43,137,47],[134,48,137,54],[130,17,133,18],[130,19,133,20],[142,17,145,18],[142,19,145,20],[142,21,145,36],[142,37,145,39],[142,40,145,42],[142,43,145,47],[142,48,145,54],[138,17,141,18],[138,19,141,20],[138,21,141,36],[138,37,141,39],[154,48,157,54],[146,48,149,54],[150,17,153,18],[150,19,153,20],[150,21,153,36],[150,37,153,39],[150,40,153,42],[150,43,153,47],[150,48,153,54],[146,17,149,18],[146,19,149,20],[154,17,157,18],[154,19,157,20],[154,21,157,36],[154,37,157,39],[146,40,149,42],[146,43,149,47],[146,21,149,36],[146,37,149,39],[154,40,157,42],[154,43,157,47],[174,48,177,54],[170,17,173,18],[170,19,173,20],[158,17,161,18],[158,19,161,20],[158,21,161,36],[158,37,161,39],[158,40,161,42],[158,43,161,47],[158,48,161,54],[170,21,173,36],[170,37,173,39],[170,43,173,47],[185,19,188,32],[186,1,189,11],[186,12,189,13],[192,37,195,40],[192,41,195,54],[162,40,165,42],[162,43,165,47],[162,21,165,36],[162,37,165,39],[162,48,165,54],[166,17,169,18],[166,19,169,20],[166,21,169,36],[166,37,169,39],[166,40,169,42],[166,43,169,47],[166,48,169,54],[162,17,165,18],[162,19,165,20],[187,49,189,51],[187,52,189,54],[170,40,173,42],[170,48,173,54],[174,37,177,47],[202,21,205,36],[202,37,205,39],[202,40,205,42],[202,43,205,47],[202,1,205,5],[202,6,205,15],[202,17,205,18],[202,19,205,20],[202,48,205,54],[198,1,201,5],[198,6,201,15],[198,17,201,20],[198,21,201,36],[198,37,201,39],[198,40,201,42],[198,43,201,47],[192,1,195,5],[192,6,195,11],[192,12,195,15],[192,16,195,35],[206,1,209,5],[206,6,209,15],[206,17,209,18],[206,19,209,20],[206,21,209,36],[206,37,209,39],[206,40,209,42],[206,43,209,47],[206,48,209,54],[210,21,213,36],[210,37,213,39],[210,40,213,42],[210,43,213,47],[210,1,213,5],[210,6,213,15],[210,17,213,18],[210,19,213,20],[210,48,213,54],[218,1,221,5],[218,6,221,15],[218,17,221,18],[218,19,221,20],[218,21,221,36],[218,37,221,39],[218,40,221,42],[218,43,221,47],[218,48,221,54],[214,1,217,3],[214,4,217,5],[214,6,217,15],[214,17,217,18],[214,19,217,20],[214,21,217,36],[214,37,217,39],[214,40,217,42],[214,43,217,47],[222,21,225,36],[222,37,225,39],[230,40,233,42],[230,43,233,47],[230,48,233,54],[222,48,225,54],[226,17,229,18],[226,19,229,20],[226,21,229,36],[226,37,229,39],[226,40,229,42],[226,43,229,47],[226,48,229,54],[222,17,225,18],[222,19,225,20],[234,17,237,18],[234,19,237,20],[234,21,237,36],[234,37,237,39],[234,40,237,42],[234,43,237,47],[234,48,237,54],[230,17,233,18],[230,19,233,20],[230,21,233,36],[230,37,233,39],[242,17,245,18],[242,19,245,20],[242,21,245,36],[242,37,245,39],[242,40,245,42],[242,43,245,47],[242,48,245,54],[238,17,241,18],[238,19,241,20],[238,40,241,42],[238,43,241,47],[238,21,241,36],[238,37,241,39],[238,48,241,54],[250,17,253,18],[250,19,253,20],[250,21,253,36],[250,37,253,39],[250,40,253,42],[250,43,253,47],[250,48,253,54],[246,17,249,18],[246,19,249,20],[246,21,249,36],[246,37,249,39],[258,17,261,18],[258,19,261,20],[258,21,261,36],[258,37,261,39],[258,40,261,42],[258,43,261,47],[258,48,261,54],[254,17,257,18],[254,19,257,20],[254,40,257,42],[254,43,257,47],[254,21,257,36],[271,48,274,54],[262,40,265,42],[262,43,265,47],[262,48,265,54],[266,37,269,47],[266,48,269,54],[262,17,265,18],[262,19,265,20],[262,21,265,36],[262,37,265,39]]}
[]
[null,null,null,null,null,null,null,null,null,null,null,null,null,null,null,null,null,null,null,"請求書明細書 (正)"]
[null,"株 式 会 社 種 村 建 設",null,null,null,null,null,null,null,null,null,null,"御中"]
[null,null,null,null,null,null,null,null,null,null,null,null,null,null,null,null,null,null,null,null,null,null,null,null,null,null,null,null,null,null,null,null,null,null,null,null,null,null,null,null,"請求年月日",null,null,null,null,{"$f":"IF(年=\"\",\"\",年)","v":""},null,null,null,{"$f":"IF(月=\"\",\"\",月)","v":""},null,null,{"$f":"IF(日=\"\",\"\",日)","v":""}]
[]
[]
[]
[]
[null,"工事番号",null,null,null,null,null,null,null,null,null,null,"工事名",null,null,null,null,null,null,null,null,null,null,null,null,null,null,null,null,null,null,null,null,null,null,null,null,"業者名",null,null,null,{"$f":"IF(社名=\"\",\"\",社名)","v":""}]
[]
[]
[]
[]
[]
[null,"注文番号",null,null,null,null,null,null,null,null,null,null,null,null,null,null,null,"月　日",null,null,null,"品　名・内　訳",null,null,null,null,null,null,null,null,null,null,null,null,null,null,null,"数 量",null,null,"単位",null,null,"単価",null,null,null,null,{"$f":"表紙①!P35","v":"金額(税抜)"}]
[]
[]
[]
[null,"契約金額",null,null,null,null,null,null,null,null,null,null,null,null,null,null,null,null,null,null,null,null,null,null,null,null,null,null,null,null,null,null,null,null,null,null,null,null,null,null,null,null,null,null,null,null,null,null,{"$f":"IF(V19=\"\",\"\",ROUND(AL19*AR19,0))","v":""}]
[]
[]
[]
[null,"増減額",null,null,null,null,null,null,null,null,null,null,null,null,null,null,null,null,null,null,null,null,null,null,null,null,null,null,null,null,null,null,null,null,null,null,null,null,null,null,null,null,null,null,null,null,null,null,{"$f":"IF(V23=\"\",\"\",ROUND(AL23*AR23,0))","v":""}]
[]
[]
[]
[null,"前回までの\n請求額",null,null,null,null,null,null,null,null,null,null,null,null,null,null,null,null,null,null,null,null,null,null,null,null,null,null,null,null,null,null,null,null,null,null,null,null,null,null,null,null,null,null,null,null,null,null,{"$f":"IF(V27=\"\",\"\",ROUND(AL27*AR27,0))","v":""}]
[]
[]
[]
[null,"今回\n請求額",null,null,null,null,null,null,null,null,null,null,null,null,null,null,null,null,null,null,null,null,null,null,null,null,null,null,null,null,null,null,null,null,null,null,null,null,null,null,null,null,null,null,null,null,null,null,{"$f":"IF(V31=\"\",\"\",ROUND(AL31*AR31,0))","v":""}]
[]
[]
[]
[null,"差引残高",null,null,null,null,{"$f":"IF(G19=\"\",\"\",G19+G23-G27-G31)","v":""},null,null,null,null,null,null,null,null,null,null,null,null,null,null,null,null,null,null,null,null,null,null,null,null,null,null,null,null,null,null,null,null,null,null,null,null,null,null,null,null,null,{"$f":"IF(V35=\"\",\"\",ROUND(AL35*AR35,0))","v":""}]
[]
[]
[]
[null,null,null,null,null,null,null,null,null,null,null,null,null,null,null,null,null,null,null,null,null,null,null,null,null,null,null,null,null,null,null,null,null,null,null,null,null,null,null,null,null,null,null,null,null,null,null,null,{"$f":"IF(V39=\"\",\"\",ROUND(AL39*AR39,0))","v":""}]
[]
[]
[]
[null,null,null,null,null,null,null,null,null,null,null,null,null,null,null,null,null,null,null,null,null,null,null,null,null,null,null,null,null,null,null,null,null,null,null,null,null,null,null,null,null,null,null,null,null,null,null,null,{"$f":"IF(V43=\"\",\"\",ROUND(AL43*AR43,0))","v":""}]
[]
[]
[]
[null,null,null,null,null,null,null,null,null,null,null,null,null,null,null,null,null,null,null,null,null,null,null,null,null,null,null,null,null,null,null,null,null,null,null,null,null,null,null,null,null,null,null,null,null,null,null,null,{"$f":"IF(V47=\"\",\"\",ROUND(AL47*AR47,0))","v":""}]
[]
[]
[]
[null,null,null,null,null,null,null,null,null,null,null,null,null,null,null,null,null,null,null,null,null,null,null,null,null,null,null,null,null,null,null,null,null,null,null,null,null,null,null,null,null,null,null,null,null,null,null,null,{"$f":"IF(V51=\"\",\"\",ROUND(AL51*AR51,0))","v":""}]
[]
[]
[]
[null,null,null,null,null,null,null,null,null,null,null,null,null,null,null,null,null,null,null,null,null,null,null,null,null,null,null,null,null,null,null,null,null,null,null,null,null,null,null,null,null,null,null,null,null,null,null,null,{"$f":"IF(V55=\"\",\"\",ROUND(AL55*AR55,0))","v":""}]
[]
[]
[]
[null,null,null,null,null,null,null,null,null,null,null,null,null,null,null,null,null,null,null,null,null,null,null,null,null,null,null,null,null,null,null,null,null,null,null,null,null,null,null,null,null,null,null,null,null,null,null,null,{"$f":"IF(V59=\"\",\"\",ROUND(AL59*AR59,0))","v":""}]
[]
[]
[]
[null,null,null,null,null,null,null,null,null,null,null,null,null,null,null,null,null,null,null,null,null,null,null,null,null,null,null,null,null,null,null,null,null,null,null,null,null,null,null,null,null,null,null,null,null,null,null,null,{"$f":"IF(V63=\"\",\"\",ROUND(AL63*AR63,0))","v":""}]
[]
[]
[]
[null,null,null,null,null,null,null,null,null,null,null,null,null,null,null,null,null,null,null,null,null,null,null,null,null,null,null,null,null,null,null,null,null,null,null,null,null,null,null,null,null,null,null,null,null,null,null,null,{"$f":"IF(V67=\"\",\"\",ROUND(AL67*AR67,0))","v":""}]
[]
[]
[]
[null,null,null,null,null,null,null,null,null,null,null,null,null,null,null,null,null,null,null,null,null,null,null,null,null,null,null,null,null,null,null,null,null,null,null,null,null,null,null,null,null,null,null,null,null,null,null,null,{"$f":"IF(V71=\"\",\"\",ROUND(AL71*AR71,0))","v":""}]
[]
[]
[]
[null,null,null,null,null,null,null,null,null,null,null,null,null,null,null,null,null,null,null,null,null,null,null,null,null,null,null,null,null,null,null,null,null,null,null,null,null,null,null,null,null,null,null,null,null,null,null,null,{"$f":"IF(V75=\"\",\"\",ROUND(AL75*AR75,0))","v":""}]
[]
[]
[]
[null,null,null,null,null,null,null,null,null,null,null,null,null,null,null,null,null,null,null,null,null,null,null,null,null,null,null,null,null,null,null,null,null,null,null,null,null,null,null,null,null,null,null,null,null,null,null,null,{"$f":"IF(V79=\"\",\"\",ROUND(AL79*AR79,0))","v":""}]
[]
[]
[]
[null,null,null,null,null,null,null,null,null,null,null,null,null,null,null,null,null,null,null,null,null,null,null,null,null,null,null,null,null,null,null,null,null,null,null,null,null,"金額(税抜)",null,null,null,null,null,null,null,null,null,null,{"$f":"IF(AW19=\"\",\"\",SUM(AW19:AW79))","v":""}]
[null,"社長",null,null,null,"専務",null,null,null,null,null,"常務",null,null,null,null,null,"部長･工場長",null,null,null,null,null,null,null,null,"担当者",null,null,null,null,"受付"]
[]
[]
[]
[null,null,null,null,null,null,null,null,null,null,null,null,null,null,null,null,null,null,null,null,null,null,null,null,null,null,null,null,null,null,null,null,null,null,null,null,null,"消費税",null,null,null,null,null,"税率",null,null,"税調",null,{"$f":"IF(AW83=\"\",\"\",IF(AR90=\"\",\"\",IF(AR90=8.1,ROUND(AW83*8/100,0)+AU90,ROUND(AW83*AR90/100,0)+AU90)))","v":""}]
[]
[null,null,null,null,null,null,null,null,null,null,null,null,null,null,null,null,null,null,null,null,null,null,null,null,null,null,null,null,null,null,null,null,null,null,null,null,null,null,null,null,null,null,null,null,null,{"$f":"IF(AR90=\"\",\"\",IF(AR90=8.1,\"旧\",IF(AR90=8,\"軽\",IF(AR90=0,\"非\",\"\"))))","v":""}]
[]
[]
[]
[null,null,null,null,null,null,null,null,null,null,null,null,null,null,null,null,null,null,null,"請求明細書 (現場控)"]
[null,"株 式 会 社 種 村 建 設",null,null,null,null,null,null,null,null,null,null,"御中"]
[null,null,null,null,null,null,null,null,null,null,null,null,null,null,null,null,null,null,null,null,null,null,null,null,null,null,null,null,null,null,null,null,null,null,null,null,null,null,null,null,"請求年月日",null,null,null,null,{"$f":"IF(AT4=\"\",\"\",AT4)","v":""},null,null,null,{"$f":"IF(AX4=\"\",\"\",AX4)","v":""},null,null,{"$f":"IF(BA4=\"\",\"\",BA4)","v":""}]
[]
[]
[]
[]
[null,"工事番号",null,null,null,null,{"$f":"IF(G9=\"\",\"\",G9)","v":""},null,null,null,null,null,"工事名",null,null,null,{"$f":"IF(Q9=\"\",\"\",Q9)","v":""},null,null,null,null,null,null,null,null,null,null,null,null,null,null,null,null,null,null,null,null,"業者名",null,null,null,{"$f":"IF(AP9=\"\",\"\",AP9)","v":""}]
[]
[]
[]
[]
[]
[null,"注文番号",null,null,null,null,{"$f":"IF(G15=\"\",\"\",G15)","v":""},null,null,null,null,null,null,null,null,null,null,"月　日",null,null,null,"品　名・内　訳",null,null,null,null,null,null,null,null,null,null,null,null,null,null,null,"数 量",null,null,"単位",null,null,"単価",null,null,null,null,{"$f":"表紙①!P127","v":"金額(税抜)"}]
[]
[]
[]
[null,"契約金額",null,null,null,null,{"$f":"IF(G19=\"\",\"\",G19)","v":""},null,null,null,null,null,null,null,null,null,null,{"$f":"IF(R19=\"\",\"\",R19)","v":""},null,{"$f":"IF(T19=\"\",\"\",T19)","v":""},null,{"$f":"IF(V19=\"\",\"\",V19)","v":""},null,{"$f":"IF(X19=\"\",\"\",X19)","v":""},null,{"$f":"IF(Z19=\"\",\"\",Z19)","v":""},null,{"$f":"IF(AB19=\"\",\"\",AB19)","v":""},null,{"$f":"IF(AD19=\"\",\"\",AD19)","v":""},null,{"$f":"IF(AF19=\"\",\"\",AF19)","v":""},null,{"$f":"IF(AH19=\"\",\"\",AH19)","v":""},null,{"$f":"IF(AJ19=\"\",\"\",AJ19)","v":""},null,{"$f":"IF(AL19=\"\",\"\",AL19)","v":""},null,null,{"$f":"IF(AO19=\"\",\"\",AO19)","v":""},null,null,{"$f":"IF(AR19=\"\",\"\",AR19)","v":""},null,null,null,null,{"$f":"IF(AW19=\"\",\"\",AW19)","v":""}]
[]
[]
[]
[null,"増減額",null,null,null,null,{"$f":"IF(G23=\"\",\"\",G23)","v":""},null,null,null,null,null,null,null,null,null,null,{"$f":"IF(R23=\"\",\"\",R23)","v":""},null,{"$f":"IF(T23=\"\",\"\",T23)","v":""},null,{"$f":"IF(V23=\"\",\"\",V23)","v":""},null,{"$f":"IF(X23=\"\",\"\",X23)","v":""},null,{"$f":"IF(Z23=\"\",\"\",Z23)","v":""},null,{"$f":"IF(AB23=\"\",\"\",AB23)","v":""},null,{"$f":"IF(AD23=\"\",\"\",AD23)","v":""},null,{"$f":"IF(AF23=\"\",\"\",AF23)","v":""},null,{"$f":"IF(AH23=\"\",\"\",AH23)","v":""},null,{"$f":"IF(AJ23=\"\",\"\",AJ23)","v":""},null,{"$f":"IF(AL23=\"\",\"\",AL23)","v":""},null,null,{"$f":"IF(AO23=\"\",\"\",AO23)","v":""},null,null,{"$f":"IF(AR23=\"\",\"\",AR23)","v":""},null,null,null,null,{"$f":"IF(AW23=\"\",\"\",AW23)","v":""}]
[]
[]
[]
[null,"前回までの\n請求額",null,null,null,null,{"$f":"IF(G27=\"\",\"\",G27)","v":""},null,null,null,null,null,null,null,null,null,null,{"$f":"IF(R27=\"\",\"\",R27)","v":""},null,{"$f":"IF(T27=\"\",\"\",T27)","v":""},null,{"$f":"IF(V27=\"\",\"\",V27)","v":""},null,{"$f":"IF(X27=\"\",\"\",X27)","v":""},null,{"$f":"IF(Z27=\"\",\"\",Z27)","v":""},null,{"$f":"IF(AB27=\"\",\"\",AB27)","v":""},null,{"$f":"IF(AD27=\"\",\"\",AD27)","v":""},null,{"$f":"IF(AF27=\"\",\"\",AF27)","v":""},null,{"$f":"IF(AH27=\"\",\"\",AH27)","v":""},null,{"$f":"IF(AJ27=\"\",\"\",AJ27)","v":""},null,{"$f":"IF(AL27=\"\",\"\",AL27)","v":""},null,null,{"$f":"IF(AO27=\"\",\"\",AO27)","v":""},null,null,{"$f":"IF(AR27=\"\",\"\",AR27)","v":""},null,null,null,null,{"$f":"IF(AW27=\"\",\"\",AW27)","v":""}]
[]
[]
[]
[null,"今回\n請求額",null,null,{"$f":"IF(E31=\"\",\"\",E31)","v":""},null,{"$f":"IF(G31=\"\",\"\",G31)","v":""},null,null,null,null,null,null,null,null,null,null,{"$f":"IF(R31=\"\",\"\",R31)","v":""},null,{"$f":"IF(T31=\"\",\"\",T31)","v":""},null,{"$f":"IF(V31=\"\",\"\",V31)","v":""},null,{"$f":"IF(X31=\"\",\"\",X31)","v":""},null,{"$f":"IF(Z31=\"\",\"\",Z31)","v":""},null,{"$f":"IF(AB31=\"\",\"\",AB31)","v":""},null,{"$f":"IF(AD31=\"\",\"\",AD31)","v":""},null,{"$f":"IF(AF31=\"\",\"\",AF31)","v":""},null,{"$f":"IF(AH31=\"\",\"\",AH31)","v":""},null,{"$f":"IF(AJ31=\"\",\"\",AJ31)","v":""},null,{"$f":"IF(AL31=\"\",\"\",AL31)","v":""},null,null,{"$f":"IF(AO31=\"\",\"\",AO31)","v":""},null,null,{"$f":"IF(AR31=\"\",\"\",AR31)","v":""},null,null,null,null,{"$f":"IF(AW31=\"\",\"\",AW31)","v":""}]
[]
[]
[]
[null,"差引残高",null,null,null,null,{"$f":"IF(G111=\"\",\"\",G111+G115-G119-G123)","v":""},null,null,null,null,null,null,null,null,null,null,{"$f":"IF(R35=\"\",\"\",R35)","v":""},null,{"$f":"IF(T35=\"\",\"\",T35)","v":""},null,{"$f":"IF(V35=\"\",\"\",V35)","v":""},null,{"$f":"IF(X35=\"\",\"\",X35)","v":""},null,{"$f":"IF(Z35=\"\",\"\",Z35)","v":""},null,{"$f":"IF(AB35=\"\",\"\",AB35)","v":""},null,{"$f":"IF(AD35=\"\",\"\",AD35)","v":""},null,{"$f":"IF(AF35=\"\",\"\",AF35)","v":""},null,{"$f":"IF(AH35=\"\",\"\",AH35)","v":""},null,{"$f":"IF(AJ35=\"\",\"\",AJ35)","v":""},null,{"$f":"IF(AL35=\"\",\"\",AL35)","v":""},null,null,{"$f":"IF(AO35=\"\",\"\",AO35)","v":""},null,null,{"$f":"IF(AR35=\"\",\"\",AR35)","v":""},null,null,null,null,{"$f":"IF(AW35=\"\",\"\",AW35)","v":""}]
[]
[]
[]
[null,null,null,null,null,null,null,null,null,null,null,null,null,null,null,null,null,{"$f":"IF(R39=\"\",\"\",R39)","v":""},null,{"$f":"IF(T39=\"\",\"\",T39)","v":""},null,{"$f":"IF(V39=\"\",\"\",V39)","v":""},null,{"$f":"IF(X39=\"\",\"\",X39)","v":""},null,{"$f":"IF(Z39=\"\",\"\",Z39)","v":""},null,{"$f":"IF(AB39=\"\",\"\",AB39)","v":""},null,{"$f":"IF(AD39=\"\",\"\",AD39)","v":""},null,{"$f":"IF(AF39=\"\",\"\",AF39)","v":""},null,{"$f":"IF(AH39=\"\",\"\",AH39)","v":""},null,{"$f":"IF(AJ39=\"\",\"\",AJ39)","v":""},null,{"$f":"IF(AL39=\"\",\"\",AL39)","v":""},null,null,{"$f":"IF(AO39=\"\",\"\",AO39)","v":""},null,null,{"$f":"IF(AR39=\"\",\"\",AR39)","v":""},null,null,null,null,{"$f":"IF(AW39=\"\",\"\",AW39)","v":""}]
[]
[]
[]
[null,null,null,null,null,null,null,null,null,null,null,null,null,null,null,null,null,{"$f":"IF(R43=\"\",\"\",R43)","v":""},null,{"$f":"IF(T43=\"\",\"\",T43)","v":""},null,{"$f":"IF(V43=\"\",\"\",V43)","v":""},null,{"$f":"IF(X43=\"\",\"\",X43)","v":""},null,{"$f":"IF(Z43=\"\",\"\",Z43)","v":""},null,{"$f":"IF(AB43=\"\",\"\",AB43)","v":""},null,{"$f":"IF(AD43=\"\",\"\",AD43)","v":""},null,{"$f":"IF(AF43=\"\",\"\",AF43)","v":""},null,{"$f":"IF(AH43=\"\",\"\",AH43)","v":""},null,{"$f":"IF(AJ43=\"\",\"\",AJ43)","v":""},null,{"$f":"IF(AL43=\"\",\"\",AL43)","v":""},null,null,{"$f":"IF(AO43=\"\",\"\",AO43)","v":""},null,null,{"$f":"IF(AR43=\"\",\"\",AR43)","v":""},null,null,null,null,{"$f":"IF(AW43=\"\",\"\",AW43)","v":""}]
[]
[]
[]
[null,null,null,null,null,null,null,null,null,null,null,null,null,null,null,null,null,{"$f":"IF(R47=\"\",\"\",R47)","v":""},null,{"$f":"IF(T47=\"\",\"\",T47)","v":""},null,{"$f":"IF(V47=\"\",\"\",V47)","v":""},null,{"$f":"IF(X47=\"\",\"\",X47)","v":""},null,{"$f":"IF(Z47=\"\",\"\",Z47)","v":""},null,{"$f":"IF(AB47=\"\",\"\",AB47)","v":""},null,{"$f":"IF(AD47=\"\",\"\",AD47)","v":""},null,{"$f":"IF(AF47=\"\",\"\",AF47)","v":""},null,{"$f":"IF(AH47=\"\",\"\",AH47)","v":""},null,{"$f":"IF(AJ47=\"\",\"\",AJ47)","v":""},null,{"$f":"IF(AL47=\"\",\"\",AL47)","v":""},null,null,{"$f":"IF(AO47=\"\",\"\",AO47)","v":""},null,null,{"$f":"IF(AR47=\"\",\"\",AR47)","v":""},null,null,null,null,{"$f":"IF(AW47=\"\",\"\",AW47)","v":""}]
[]
[]
[]
[null,null,null,null,null,null,null,null,null,null,null,null,null,null,null,null,null,{"$f":"IF(R51=\"\",\"\",R51)","v":""},null,{"$f":"IF(T51=\"\",\"\",T51)","v":""},null,{"$f":"IF(V51=\"\",\"\",V51)","v":""},null,{"$f":"IF(X51=\"\",\"\",X51)","v":""},null,{"$f":"IF(Z51=\"\",\"\",Z51)","v":""},null,{"$f":"IF(AB51=\"\",\"\",AB51)","v":""},null,{"$f":"IF(AD51=\"\",\"\",AD51)","v":""},null,{"$f":"IF(AF51=\"\",\"\",AF51)","v":""},null,{"$f":"IF(AH51=\"\",\"\",AH51)","v":""},null,{"$f":"IF(AJ51=\"\",\"\",AJ51)","v":""},null,{"$f":"IF(AL51=\"\",\"\",AL51)","v":""},null,null,{"$f":"IF(AO51=\"\",\"\",AO51)","v":""},null,null,{"$f":"IF(AR51=\"\",\"\",AR51)","v":""},null,null,null,null,{"$f":"IF(AW51=\"\",\"\",AW51)","v":""}]
[]
[]
[]
[null,null,null,null,null,null,null,null,null,null,null,null,null,null,null,null,null,{"$f":"IF(R55=\"\",\"\",R55)","v":""},null,{"$f":"IF(T55=\"\",\"\",T55)","v":""},null,{"$f":"IF(V55=\"\",\"\",V55)","v":""},null,{"$f":"IF(X55=\"\",\"\",X55)","v":""},null,{"$f":"IF(Z55=\"\",\"\",Z55)","v":""},null,{"$f":"IF(AB55=\"\",\"\",AB55)","v":""},null,{"$f":"IF(AD55=\"\",\"\",AD55)","v":""},null,{"$f":"IF(AF55=\"\",\"\",AF55)","v":""},null,{"$f":"IF(AH55=\"\",\"\",AH55)","v":""},null,{"$f":"IF(AJ55=\"\",\"\",AJ55)","v":""},null,{"$f":"IF(AL55=\"\",\"\",AL55)","v":""},null,null,{"$f":"IF(AO55=\"\",\"\",AO55)","v":""},null,null,{"$f":"IF(AR55=\"\",\"\",AR55)","v":""},null,null,null,null,{"$f":"IF(AW55=\"\",\"\",AW55)","v":""}]
[]
[]
[]
[null,null,null,null,null,null,null,null,null,null,null,null,null,null,null,null,null,{"$f":"IF(R59=\"\",\"\",R59)","v":""},null,{"$f":"IF(T59=\"\",\"\",T59)","v":""},null,{"$f":"IF(V59=\"\",\"\",V59)","v":""},null,{"$f":"IF(X59=\"\",\"\",X59)","v":""},null,{"$f":"IF(Z59=\"\",\"\",Z59)","v":""},null,{"$f":"IF(AB59=\"\",\"\",AB59)","v":""},null,{"$f":"IF(AD59=\"\",\"\",AD59)","v":""},null,{"$f":"IF(AF59=\"\",\"\",AF59)","v":""},null,{"$f":"IF(AH59=\"\",\"\",AH59)","v":""},null,{"$f":"IF(AJ59=\"\",\"\",AJ59)","v":""},null,{"$f":"IF(AL59=\"\",\"\",AL59)","v":""},null,null,{"$f":"IF(AO59=\"\",\"\",AO59)","v":""},null,null,{"$f":"IF(AR59=\"\",\"\",AR59)","v":""},null,null,null,null,{"$f":"IF(AW59=\"\",\"\",AW59)","v":""}]
[]
[]
[]
[null,null,null,null,null,null,null,null,null,null,null,null,null,null,null,null,null,{"$f":"IF(R63=\"\",\"\",R63)","v":""},null,{"$f":"IF(T63=\"\",\"\",T63)","v":""},null,{"$f":"IF(V63=\"\",\"\",V63)","v":""},null,{"$f":"IF(X63=\"\",\"\",X63)","v":""},null,{"$f":"IF(Z63=\"\",\"\",Z63)","v":""},null,{"$f":"IF(AB63=\"\",\"\",AB63)","v":""},null,{"$f":"IF(AD63=\"\",\"\",AD63)","v":""},null,{"$f":"IF(AF63=\"\",\"\",AF63)","v":""},null,{"$f":"IF(AH63=\"\",\"\",AH63)","v":""},null,{"$f":"IF(AJ63=\"\",\"\",AJ63)","v":""},null,{"$f":"IF(AL63=\"\",\"\",AL63)","v":""},null,null,{"$f":"IF(AO63=\"\",\"\",AO63)","v":""},null,null,{"$f":"IF(AR63=\"\",\"\",AR63)","v":""},null,null,null,null,{"$f":"IF(AW63=\"\",\"\",AW63)","v":""}]
[]
[]
[]
[null,null,null,null,null,null,null,null,null,null,null,null,null,null,null,null,null,{"$f":"IF(R67=\"\",\"\",R67)","v":""},null,{"$f":"IF(T67=\"\",\"\",T67)","v":""},null,{"$f":"IF(V67=\"\",\"\",V67)","v":""},null,{"$f":"IF(X67=\"\",\"\",X67)","v":""},null,{"$f":"IF(Z67=\"\",\"\",Z67)","v":""},null,{"$f":"IF(AB67=\"\",\"\",AB67)","v":""},null,{"$f":"IF(AD67=\"\",\"\",AD67)","v":""},null,{"$f":"IF(AF67=\"\",\"\",AF67)","v":""},null,{"$f":"IF(AH67=\"\",\"\",AH67)","v":""},null,{"$f":"IF(AJ67=\"\",\"\",AJ67)","v":""},null,{"$f":"IF(AL67=\"\",\"\",AL67)","v":""},null,null,{"$f":"IF(AO67=\"\",\"\",AO67)","v":""},null,null,{"$f":"IF(AR67=\"\",\"\",AR67)","v":""},null,null,null,null,{"$f":"IF(AW67=\"\",\"\",AW67)","v":""}]
[]
[]
[]
[null,null,null,null,null,null,null,null,null,null,null,null,null,null,null,null,null,{"$f":"IF(R71=\"\",\"\",R71)","v":""},null,{"$f":"IF(T71=\"\",\"\",T71)","v":""},null,{"$f":"IF(V71=\"\",\"\",V71)","v":""},null,{"$f":"IF(X71=\"\",\"\",X71)","v":""},null,{"$f":"IF(Z71=\"\",\"\",Z71)","v":""},null,{"$f":"IF(AB71=\"\",\"\",AB71)","v":""},null,{"$f":"IF(AD71=\"\",\"\",AD71)","v":""},null,{"$f":"IF(AF71=\"\",\"\",AF71)","v":""},null,{"$f":"IF(AH71=\"\",\"\",AH71)","v":""},null,{"$f":"IF(AJ71=\"\",\"\",AJ71)","v":""},null,{"$f":"IF(AL71=\"\",\"\",AL71)","v":""},null,null,{"$f":"IF(AO71=\"\",\"\",AO71)","v":""},null,null,{"$f":"IF(AR71=\"\",\"\",AR71)","v":""},null,null,null,null,{"$f":"IF(AW71=\"\",\"\",AW71)","v":""}]
[]
[]
[]
[null,null,null,null,null,null,null,null,null,null,null,null,null,null,null,null,null,{"$f":"IF(R75=\"\",\"\",R75)","v":""},null,{"$f":"IF(T75=\"\",\"\",T75)","v":""},null,{"$f":"IF(V75=\"\",\"\",V75)","v":""},null,{"$f":"IF(X75=\"\",\"\",X75)","v":""},null,{"$f":"IF(Z75=\"\",\"\",Z75)","v":""},null,{"$f":"IF(AB75=\"\",\"\",AB75)","v":""},null,{"$f":"IF(AD75=\"\",\"\",AD75)","v":""},null,{"$f":"IF(AF75=\"\",\"\",AF75)","v":""},null,{"$f":"IF(AH75=\"\",\"\",AH75)","v":""},null,{"$f":"IF(AJ75=\"\",\"\",AJ75)","v":""},null,{"$f":"IF(AL75=\"\",\"\",AL75)","v":""},null,null,{"$f":"IF(AO75=\"\",\"\",AO75)","v":""},null,null,{"$f":"IF(AR75=\"\",\"\",AR75)","v":""},null,null,null,null,{"$f":"IF(AW75=\"\",\"\",AW75)","v":""}]
[]
[]
[]
[null,null,null,null,null,null,null,null,null,null,null,null,null,null,null,null,null,{"$f":"IF(R79=\"\",\"\",R79)","v":""},null,{"$f":"IF(T79=\"\",\"\",T79)","v":""},null,{"$f":"IF(V79=\"\",\"\",V79)","v":""},null,{"$f":"IF(X79=\"\",\"\",X79)","v":""},null,{"$f":"IF(Z79=\"\",\"\",Z79)","v":""},null,{"$f":"IF(AB79=\"\",\"\",AB79)","v":""},null,{"$f":"IF(AD79=\"\",\"\",AD79)","v":""},null,{"$f":"IF(AF79=\"\",\"\",AF79)","v":""},null,{"$f":"IF(AH79=\"\",\"\",AH79)","v":""},null,{"$f":"IF(AJ79=\"\",\"\",AJ79)","v":""},null,{"$f":"IF(AL79=\"\",\"\",AL79)","v":""},null,null,{"$f":"IF(AO79=\"\",\"\",AO79)","v":""},null,null,{"$f":"IF(AR79=\"\",\"\",AR79)","v":""},null,null,null,null,{"$f":"IF(AW79=\"\",\"\",AW79)","v":""}]
[]
[]
[]
[null,null,null,null,null,null,null,null,null,null,null,null,null,null,null,null,null,null,null,null,null,null,null,null,null,null,null,null,null,null,null,null,null,null,null,null,null,{"$f":"AL83","v":"金額(税抜)"},null,null,null,null,null,null,null,null,null,null,{"$f":"AW83","v":""}]
[]
[]
[]
[]
[null,null,null,null,null,null,null,null,null,null,null,null,null,null,null,null,null,null,null,null,null,null,null,null,null,null,null,null,null,null,null,null,null,null,null,null,null,{"$f":"AL88","v":"消費税"},null,null,null,null,null,"税率",null,null,"税調",null,{"$f":"AW88","v":""}]
[]
[null,null,null,null,null,null,null,null,null,null,null,null,null,null,null,null,null,null,null,null,null,null,null,null,null,null,null,null,null,null,null,null,null,null,null,null,null,null,null,null,null,null,null,{"$f":"AR90","v":0},null,{"$f":"AT90","v":""}]
[]
[]
[]
[null,null,null,null,null,null,null,null,null,null,null,null,null,null,null,null,null,null,null,"請求明細書 (貴社控)"]
[null,"株 式 会 社 種 村 建 設",null,null,null,null,null,null,null,null,null,null,"御中"]
[null,null,null,null,null,null,null,null,null,null,null,null,null,null,null,null,null,null,null,null,null,null,null,null,null,null,null,null,null,null,null,null,null,null,null,null,null,null,null,null,"請求年月日",null,null,null,null,{"$f":"IF(AT4=\"\",\"\",AT4)","v":""},null,null,null,{"$f":"IF(AX96=\"\",\"\",AX96)","v":""},null,null,{"$f":"IF(BA96=\"\",\"\",BA96)","v":""}]
[]
[]
[]
[]
[null,"工事番号",null,null,null,null,{"$f":"IF(G101=\"\",\"\",G101)","v":""},null,null,null,null,null,"工事名",null,null,null,{"$f":"IF(Q101=\"\",\"\",Q101)","v":""},null,null,null,null,null,null,null,null,null,null,null,null,null,null,null,null,null,null,null,null,"業者名",null,null,null,{"$f":"IF(AP101=\"\",\"\",AP101)","v":""}]
[]
[]
[]
[]
[]
[null,"注文番号",null,null,null,null,{"$f":"IF(G107=\"\",\"\",G107)","v":""},null,null,null,null,null,null,null,null,null,null,"月　日",null,null,null,"品　名・内　訳",null,null,null,null,null,null,null,null,null,null,null,null,null,null,null,"数 量",null,null,"単位",null,null,"単価",null,null,null,null,{"$f":"表紙①!P219","v":0}]
[]
[]
[]
[null,"契約金額",null,null,null,null,{"$f":"IF(G111=\"\",\"\",G111)","v":""},null,null,null,null,null,null,null,null,null,null,{"$f":"IF(R111=\"\",\"\",R111)","v":""},null,{"$f":"IF(T111=\"\",\"\",T111)","v":""},null,{"$f":"IF(V111=\"\",\"\",V111)","v":""},null,{"$f":"IF(X111=\"\",\"\",X111)","v":""},null,{"$f":"IF(Z111=\"\",\"\",Z111)","v":""},null,{"$f":"IF(AB111=\"\",\"\",AB111)","v":""},null,{"$f":"IF(AD111=\"\",\"\",AD111)","v":""},null,{"$f":"IF(AF111=\"\",\"\",AF111)","v":""},null,{"$f":"IF(AH111=\"\",\"\",AH111)","v":""},null,{"$f":"IF(AJ111=\"\",\"\",AJ111)","v":""},null,{"$f":"IF(AL111=\"\",\"\",AL111)","v":""},null,null,{"$f":"IF(AO111=\"\",\"\",AO111)","v":""},null,null,{"$f":"IF(AR111=\"\",\"\",AR111)","v":""},null,null,null,null,{"$f":"IF(AW111=\"\",\"\",AW111)","v":""}]
[]
[]
[]
[null,"増減額",null,null,null,null,{"$f":"IF(G115=\"\",\"\",G115)","v":""},null,null,null,null,null,null,null,null,null,null,{"$f":"IF(R115=\"\",\"\",R115)","v":""},null,{"$f":"IF(T115=\"\",\"\",T115)","v":""},null,{"$f":"IF(V115=\"\",\"\",V115)","v":""},null,{"$f":"IF(X115=\"\",\"\",X115)","v":""},null,{"$f":"IF(Z115=\"\",\"\",Z115)","v":""},null,{"$f":"IF(AB115=\"\",\"\",AB115)","v":""},null,{"$f":"IF(AD115=\"\",\"\",AD115)","v":""},null,{"$f":"IF(AF115=\"\",\"\",AF115)","v":""},null,{"$f":"IF(AH115=\"\",\"\",AH115)","v":""},null,{"$f":"IF(AJ115=\"\",\"\",AJ115)","v":""},null,{"$f":"IF(AL115=\"\",\"\",AL115)","v":""},null,null,{"$f":"IF(AO115=\"\",\"\",AO115)","v":""},null,null,{"$f":"IF(AR115=\"\",\"\",AR115)","v":""},null,null,null,null,{"$f":"IF(AW115=\"\",\"\",AW115)","v":""}]
[]
[]
[]
[null,"前回までの\n請求額",null,null,null,null,{"$f":"IF(G119=\"\",\"\",G119)","v":""},null,null,null,null,null,null,null,null,null,null,{"$f":"IF(R119=\"\",\"\",R119)","v":""},null,{"$f":"IF(T119=\"\",\"\",T119)","v":""},null,{"$f":"IF(V119=\"\",\"\",V119)","v":""},null,{"$f":"IF(X119=\"\",\"\",X119)","v":""},null,{"$f":"IF(Z119=\"\",\"\",Z119)","v":""},null,{"$f":"IF(AB119=\"\",\"\",AB119)","v":""},null,{"$f":"IF(AD119=\"\",\"\",AD119)","v":""},null,{"$f":"IF(AF119=\"\",\"\",AF119)","v":""},null,{"$f":"IF(AH119=\"\",\"\",AH119)","v":""},null,{"$f":"IF(AJ119=\"\",\"\",AJ119)","v":""},null,{"$f":"IF(AL119=\"\",\"\",AL119)","v":""},null,null,{"$f":"IF(AO119=\"\",\"\",AO119)","v":""},null,null,{"$f":"IF(AR119=\"\",\"\",AR119)","v":""},null,null,null,null,{"$f":"IF(AW119=\"\",\"\",AW119)","v":""}]
[]
[]
[]
[null,"今回\n請求額",null,null,{"$f":"IF(E31=\"\",\"\",E31)","v":""},null,{"$f":"IF(G123=\"\",\"\",G123)","v":""},null,null,null,null,null,null,null,null,null,null,{"$f":"IF(R123=\"\",\"\",R123)","v":""},null,{"$f":"IF(T123=\"\",\"\",T123)","v":""},null,{"$f":"IF(V123=\"\",\"\",V123)","v":""},null,{"$f":"IF(X123=\"\",\"\",X123)","v":""},null,{"$f":"IF(Z123=\"\",\"\",Z123)","v":""},null,{"$f":"IF(AB123=\"\",\"\",AB123)","v":""},null,{"$f":"IF(AD123=\"\",\"\",AD123)","v":""},null,{"$f":"IF(AF123=\"\",\"\",AF123)","v":""},null,{"$f":"IF(AH123=\"\",\"\",AH123)","v":""},null,{"$f":"IF(AJ123=\"\",\"\",AJ123)","v":""},null,{"$f":"IF(AL123=\"\",\"\",AL123)","v":""},null,null,{"$f":"IF(AO123=\"\",\"\",AO123)","v":""},null,null,{"$f":"IF(AR123=\"\",\"\",AR123)","v":""},null,null,null,null,{"$f":"IF(AW123=\"\",\"\",AW123)","v":""}]
[]
[]
[]
[null,"差引残高",null,null,null,null,{"$f":"IF(G203=\"\",\"\",G203+G207-G211-G215)","v":""},null,null,null,null,null,null,null,null,null,null,{"$f":"IF(R127=\"\",\"\",R127)","v":""},null,{"$f":"IF(T127=\"\",\"\",T127)","v":""},null,{"$f":"IF(V127=\"\",\"\",V127)","v":""},null,{"$f":"IF(X127=\"\",\"\",X127)","v":""},null,{"$f":"IF(Z127=\"\",\"\",Z127)","v":""},null,{"$f":"IF(AB127=\"\",\"\",AB127)","v":""},null,{"$f":"IF(AD127=\"\",\"\",AD127)","v":""},null,{"$f":"IF(AF127=\"\",\"\",AF127)","v":""},null,{"$f":"IF(AH127=\"\",\"\",AH127)","v":""},null,{"$f":"IF(AJ127=\"\",\"\",AJ127)","v":""},null,{"$f":"IF(AL127=\"\",\"\",AL127)","v":""},null,null,{"$f":"IF(AO127=\"\",\"\",AO127)","v":""},null,null,{"$f":"IF(AR127=\"\",\"\",AR127)","v":""},null,null,null,null,{"$f":"IF(AW127=\"\",\"\",AW127)","v":""}]
[]
[]
[]
[null,null,null,null,null,null,null,null,null,null,null,null,null,null,null,null,null,{"$f":"IF(R131=\"\",\"\",R131)","v":""},null,{"$f":"IF(T131=\"\",\"\",T131)","v":""},null,{"$f":"IF(V131=\"\",\"\",V131)","v":""},null,{"$f":"IF(X131=\"\",\"\",X131)","v":""},null,{"$f":"IF(Z131=\"\",\"\",Z131)","v":""},null,{"$f":"IF(AB131=\"\",\"\",AB131)","v":""},null,{"$f":"IF(AD131=\"\",\"\",AD131)","v":""},null,{"$f":"IF(AF131=\"\",\"\",AF131)","v":""},null,{"$f":"IF(AH131=\"\",\"\",AH131)","v":""},null,{"$f":"IF(AJ131=\"\",\"\",AJ131)","v":""},null,{"$f":"IF(AL131=\"\",\"\",AL131)","v":""},null,null,{"$f":"IF(AO131=\"\",\"\",AO131)","v":""},null,null,{"$f":"IF(AR131=\"\",\"\",AR131)","v":""},null,null,null,null,{"$f":"IF(AW131=\"\",\"\",AW131)","v":""}]
[]
[]
[]
[null,null,null,null,null,null,null,null,null,null,null,null,null,null,null,null,null,{"$f":"IF(R135=\"\",\"\",R135)","v":""},null,{"$f":"IF(T135=\"\",\"\",T135)","v":""},null,{"$f":"IF(V135=\"\",\"\",V135)","v":""},null,{"$f":"IF(X135=\"\",\"\",X135)","v":""},null,{"$f":"IF(Z135=\"\",\"\",Z135)","v":""},null,{"$f":"IF(AB135=\"\",\"\",AB135)","v":""},null,{"$f":"IF(AD135=\"\",\"\",AD135)","v":""},null,{"$f":"IF(AF135=\"\",\"\",AF135)","v":""},null,{"$f":"IF(AH135=\"\",\"\",AH135)","v":""},null,{"$f":"IF(AJ135=\"\",\"\",AJ135)","v":""},null,{"$f":"IF(AL135=\"\",\"\",AL135)","v":""},null,null,{"$f":"IF(AO135=\"\",\"\",AO135)","v":""},null,null,{"$f":"IF(AR135=\"\",\"\",AR135)","v":""},null,null,null,null,{"$f":"IF(AW135=\"\",\"\",AW135)","v":""}]
[]
[]
[]
[null,null,null,null,null,null,null,null,null,null,null,null,null,null,null,null,null,{"$f":"IF(R139=\"\",\"\",R139)","v":""},null,{"$f":"IF(T139=\"\",\"\",T139)","v":""},null,{"$f":"IF(V139=\"\",\"\",V139)","v":""},null,{"$f":"IF(X139=\"\",\"\",X139)","v":""},null,{"$f":"IF(Z139=\"\",\"\",Z139)","v":""},null,{"$f":"IF(AB139=\"\",\"\",AB139)","v":""},null,{"$f":"IF(AD139=\"\",\"\",AD139)","v":""},null,{"$f":"IF(AF139=\"\",\"\",AF139)","v":""},null,{"$f":"IF(AH139=\"\",\"\",AH139)","v":""},null,{"$f":"IF(AJ139=\"\",\"\",AJ139)","v":""},null,{"$f":"IF(AL139=\"\",\"\",AL139)","v":""},null,null,{"$f":"IF(AO139=\"\",\"\",AO139)","v":""},null,null,{"$f":"IF(AR139=\"\",\"\",AR139)","v":""},null,null,null,null,{"$f":"IF(AW139=\"\",\"\",AW139)","v":""}]
[]
[]
[]
[null,null,null,null,null,null,null,null,null,null,null,null,null,null,null,null,null,{"$f":"IF(R143=\"\",\"\",R143)","v":""},null,{"$f":"IF(T143=\"\",\"\",T143)","v":""},null,{"$f":"IF(V143=\"\",\"\",V143)","v":""},null,{"$f":"IF(X143=\"\",\"\",X143)","v":""},null,{"$f":"IF(Z143=\"\",\"\",Z143)","v":""},null,{"$f":"IF(AB143=\"\",\"\",AB143)","v":""},null,{"$f":"IF(AD143=\"\",\"\",AD143)","v":""},null,{"$f":"IF(AF143=\"\",\"\",AF143)","v":""},null,{"$f":"IF(AH143=\"\",\"\",AH143)","v":""},null,{"$f":"IF(AJ143=\"\",\"\",AJ143)","v":""},null,{"$f":"IF(AL143=\"\",\"\",AL143)","v":""},null,null,{"$f":"IF(AO143=\"\",\"\",AO143)","v":""},null,null,{"$f":"IF(AR143=\"\",\"\",AR143)","v":""},null,null,null,null,{"$f":"IF(AW143=\"\",\"\",AW143)","v":""}]
[]
[]
[]
[null,null,null,null,null,null,null,null,null,null,null,null,null,null,null,null,null,{"$f":"IF(R147=\"\",\"\",R147)","v":""},null,{"$f":"IF(T147=\"\",\"\",T147)","v":""},null,{"$f":"IF(V147=\"\",\"\",V147)","v":""},null,{"$f":"IF(X147=\"\",\"\",X147)","v":""},null,{"$f":"IF(Z147=\"\",\"\",Z147)","v":""},null,{"$f":"IF(AB147=\"\",\"\",AB147)","v":""},null,{"$f":"IF(AD147=\"\",\"\",AD147)","v":""},null,{"$f":"IF(AF147=\"\",\"\",AF147)","v":""},null,{"$f":"IF(AH147=\"\",\"\",AH147)","v":""},null,{"$f":"IF(AJ147=\"\",\"\",AJ147)","v":""},null,{"$f":"IF(AL147=\"\",\"\",AL147)","v":""},null,null,{"$f":"IF(AO147=\"\",\"\",AO147)","v":""},null,null,{"$f":"IF(AR147=\"\",\"\",AR147)","v":""},null,null,null,null,{"$f":"IF(AW147=\"\",\"\",AW147)","v":""}]
[]
[]
[]
[null,null,null,null,null,null,null,null,null,null,null,null,null,null,null,null,null,{"$f":"IF(R151=\"\",\"\",R151)","v":""},null,{"$f":"IF(T151=\"\",\"\",T151)","v":""},null,{"$f":"IF(V151=\"\",\"\",V151)","v":""},null,{"$f":"IF(X151=\"\",\"\",X151)","v":""},null,{"$f":"IF(Z151=\"\",\"\",Z151)","v":""},null,{"$f":"IF(AB151=\"\",\"\",AB151)","v":""},null,{"$f":"IF(AD151=\"\",\"\",AD151)","v":""},null,{"$f":"IF(AF151=\"\",\"\",AF151)","v":""},null,{"$f":"IF(AH151=\"\",\"\",AH151)","v":""},null,{"$f":"IF(AJ151=\"\",\"\",AJ151)","v":""},null,{"$f":"IF(AL151=\"\",\"\",AL151)","v":""},null,null,{"$f":"IF(AO151=\"\",\"\",AO151)","v":""},null,null,{"$f":"IF(AR151=\"\",\"\",AR151)","v":""},null,null,null,null,{"$f":"IF(AW151=\"\",\"\",AW151)","v":""}]
[]
[]
[]
[null,null,null,null,null,null,null,null,null,null,null,null,null,null,null,null,null,{"$f":"IF(R155=\"\",\"\",R155)","v":""},null,{"$f":"IF(T155=\"\",\"\",T155)","v":""},null,{"$f":"IF(V155=\"\",\"\",V155)","v":""},null,{"$f":"IF(X155=\"\",\"\",X155)","v":""},null,{"$f":"IF(Z155=\"\",\"\",Z155)","v":""},null,{"$f":"IF(AB155=\"\",\"\",AB155)","v":""},null,{"$f":"IF(AD155=\"\",\"\",AD155)","v":""},null,{"$f":"IF(AF155=\"\",\"\",AF155)","v":""},null,{"$f":"IF(AH155=\"\",\"\",AH155)","v":""},null,{"$f":"IF(AJ155=\"\",\"\",AJ155)","v":""},null,{"$f":"IF(AL155=\"\",\"\",AL155)","v":""},null,null,{"$f":"IF(AO155=\"\",\"\",AO155)","v":""},null,null,{"$f":"IF(AR155=\"\",\"\",AR155)","v":""},null,null,null,null,{"$f":"IF(AW155=\"\",\"\",AW155)","v":""}]
[]
[]
[]
[null,null,null,null,null,null,null,null,null,null,null,null,null,null,null,null,null,{"$f":"IF(R159=\"\",\"\",R159)","v":""},null,{"$f":"IF(T159=\"\",\"\",T159)","v":""},null,{"$f":"IF(V159=\"\",\"\",V159)","v":""},null,{"$f":"IF(X159=\"\",\"\",X159)","v":""},null,{"$f":"IF(Z159=\"\",\"\",Z159)","v":""},null,{"$f":"IF(AB159=\"\",\"\",AB159)","v":""},null,{"$f":"IF(AD159=\"\",\"\",AD159)","v":""},null,{"$f":"IF(AF159=\"\",\"\",AF159)","v":""},null,{"$f":"IF(AH159=\"\",\"\",AH159)","v":""},null,{"$f":"IF(AJ159=\"\",\"\",AJ159)","v":""},null,{"$f":"IF(AL159=\"\",\"\",AL159)","v":""},null,null,{"$f":"IF(AO159=\"\",\"\",AO159)","v":""},null,null,{"$f":"IF(AR159=\"\",\"\",AR159)","v":""},null,null,null,null,{"$f":"IF(AW159=\"\",\"\",AW159)","v":""}]
[]
[]
[]
[null,null,null,null,null,null,null,null,null,null,null,null,null,null,null,null,null,{"$f":"IF(R163=\"\",\"\",R163)","v":""},null,{"$f":"IF(T163=\"\",\"\",T163)","v":""},null,{"$f":"IF(V163=\"\",\"\",V163)","v":""},null,{"$f":"IF(X163=\"\",\"\",X163)","v":""},null,{"$f":"IF(Z163=\"\",\"\",Z163)","v":""},null,{"$f":"IF(AB163=\"\",\"\",AB163)","v":""},null,{"$f":"IF(AD163=\"\",\"\",AD163)","v":""},null,{"$f":"IF(AF163=\"\",\"\",AF163)","v":""},null,{"$f":"IF(AH163=\"\",\"\",AH163)","v":""},null,{"$f":"IF(AJ163=\"\",\"\",AJ163)","v":""},null,{"$f":"IF(AL163=\"\",\"\",AL163)","v":""},null,null,{"$f":"IF(AO163=\"\",\"\",AO163)","v":""},null,null,{"$f":"IF(AR163=\"\",\"\",AR163)","v":""},null,null,null,null,{"$f":"IF(AW163=\"\",\"\",AW163)","v":""}]
[]
[]
[]
[null,null,null,null,null,null,null,null,null,null,null,null,null,null,null,null,null,{"$f":"IF(R167=\"\",\"\",R167)","v":""},null,{"$f":"IF(T167=\"\",\"\",T167)","v":""},null,{"$f":"IF(V167=\"\",\"\",V167)","v":""},null,{"$f":"IF(X167=\"\",\"\",X167)","v":""},null,{"$f":"IF(Z167=\"\",\"\",Z167)","v":""},null,{"$f":"IF(AB167=\"\",\"\",AB167)","v":""},null,{"$f":"IF(AD167=\"\",\"\",AD167)","v":""},null,{"$f":"IF(AF167=\"\",\"\",AF167)","v":""},null,{"$f":"IF(AH167=\"\",\"\",AH167)","v":""},null,{"$f":"IF(AJ167=\"\",\"\",AJ167)","v":""},null,{"$f":"IF(AL167=\"\",\"\",AL167)","v":""},null,null,{"$f":"IF(AO167=\"\",\"\",AO167)","v":""},null,null,{"$f":"IF(AR167=\"\",\"\",AR167)","v":""},null,null,null,null,{"$f":"IF(AW167=\"\",\"\",AW167)","v":""}]
[]
[]
[]
[null,null,null,null,null,null,null,null,null,null,null,null,null,null,null,null,null,{"$f":"IF(R171=\"\",\"\",R171)","v":""},null,{"$f":"IF(T171=\"\",\"\",T171)","v":""},null,{"$f":"IF(V171=\"\",\"\",V171)","v":""},null,{"$f":"IF(X171=\"\",\"\",X171)","v":""},null,{"$f":"IF(Z171=\"\",\"\",Z171)","v":""},null,{"$f":"IF(AB171=\"\",\"\",AB171)","v":""},null,{"$f":"IF(AD171=\"\",\"\",AD171)","v":""},null,{"$f":"IF(AF171=\"\",\"\",AF171)","v":""},null,{"$f":"IF(AH171=\"\",\"\",AH171)","v":""},null,{"$f":"IF(AJ171=\"\",\"\",AJ171)","v":""},null,{"$f":"IF(AL171=\"\",\"\",AL171)","v":""},null,null,{"$f":"IF(AO171=\"\",\"\",AO171)","v":""},null,null,{"$f":"IF(AR171=\"\",\"\",AR171)","v":""},null,null,null,null,{"$f":"IF(AW171=\"\",\"\",AW171)","v":""}]
[]
[]
[]
[null,null,null,null,null,null,null,null,null,null,null,null,null,null,null,null,null,null,null,null,null,null,null,null,null,null,null,null,null,null,null,null,null,null,null,null,null,{"$f":"AL175","v":"金額(税抜)"},null,null,null,null,null,null,null,null,null,null,{"$f":"AW83","v":""}]
[]
[]
[]
[]
[null,null,null,null,null,null,null,null,null,null,null,null,null,null,null,null,null,null,null,null,null,null,null,null,null,null,null,null,null,null,null,null,null,null,null,null,null,{"$f":"AL180","v":"消費税"},null,null,null,null,null,"税率",null,null,"税調",null,{"$f":"AW88","v":""}]
[]
[null,null,null,null,null,null,null,null,null,null,null,null,null,null,null,null,null,null,null,null,null,null,null,null,null,null,null,null,null,null,null,null,null,null,null,null,null,null,null,null,null,null,null,{"$f":"AR90","v":0},null,{"$f":"AT90","v":""}]

{"sheet":"細1-6","index":9,"n_rows":274,"n_cols":53,"rows_kept":274,"cut":false,"hidden":false,"merged":[[266,37,269,47],[266,48,269,54],[258,48,261,54],[262,17,265,18],[262,19,265,20],[262,21,265,36],[262,37,265,39],[258,43,261,47],[271,48,274,54],[262,40,265,42],[262,43,265,47],[262,48,265,54],[258,17,261,18],[258,19,261,20],[258,21,261,36],[258,37,261,39],[258,40,261,42],[271,37,274,42],[271,43,272,45],[273,43,274,44],[273,45,274,45],[273,46,274,47],[271,46,272,47],[250,48,253,54],[254,17,257,18],[254,19,257,20],[254,21,257,36],[254,37,257,39],[254,40,257,42],[254,43,257,47],[254,48,257,54],[250,17,253,18],[250,19,253,20],[250,21,253,36],[250,37,253,39],[250,40,253,42],[250,43,253,47],[242,48,245,54],[246,17,249,18],[246,19,249,20],[246,21,249,36],[246,37,249,39],[246,40,249,42],[246,43,249,47],[246,48,249,54],[242,17,245,18],[242,19,245,20],[242,21,245,36],[242,37,245,39],[242,40,245,42],[242,43,245,47],[234,48,237,54],[238,17,241,18],[238,19,241,20],[238,21,241,36],[238,37,241,39],[238,40,241,42],[238,43,241,47],[238,48,241,54],[234,17,237,18],[234,19,237,20],[234,21,237,36],[234,37,237,39],[234,40,237,42],[234,43,237,47],[222,17,225,18],[222,19,225,20],[222,21,225,36],[222,37,225,39],[222,40,225,42],[222,43,225,47],[222,48,225,54],[226,48,229,54],[230,17,233,18],[230,19,233,20],[230,21,233,36],[230,37,233,39],[230,40,233,42],[230,43,233,47],[230,48,233,54],[226,17,229,18],[226,19,229,20],[226,21,229,36],[226,37,229,39],[226,40,229,42],[226,43,229,47],[218,1,221,5],[218,6,221,15],[218,17,221,18],[218,19,221,20],[218,21,221,36],[218,37,221,39],[218,40,221,42],[218,43,221,47],[218,48,221,54],[210,40,213,42],[210,43,213,47],[210,48,213,54],[214,1,217,3],[214,4,217,5],[214,6,217,15],[214,17,217,18],[214,19,217,20],[214,21,217,36],[214,37,217,39],[210,1,213,5],[210,6,213,15],[210,17,213,18],[210,19,213,20],[210,21,213,36],[210,37,213,39],[214,40,217,42],[214,43,217,47],[214,48,217,54],[206,1,209,5],[206,6,209,15],[206,17,209,18],[206,19,209,20],[206,21,209,36],[206,37,209,39],[206,40,209,42],[206,43,209,47],[206,48,209,54],[198,43,201,47],[198,48,201,54],[202,1,205,5],[202,6,205,15],[202,17,205,18],[202,19,205,20],[202,21,205,36],[202,37,205,39],[202,40,205,42],[202,43,205,47],[198,1,201,5],[198,6,201,15],[198,17,201,20],[198,21,201,36],[198,37,201,39],[198,40,201,42],[202,48,205,54],[187,52,189,54],[192,1,195,5],[192,6,195,11],[192,12,195,15],[192,16,195,35],[192,37,195,40],[192,41,195,54],[185,19,188,32],[186,1,189,11],[186,12,189,13],[187,49,189,51],[187,40,189,44],[187,45,189,48],[174,37,177,47],[174,48,177,54],[179,48,182,54],[170,17,173,18],[170,19,173,20],[170,21,173,36],[170,37,173,39],[170,40,173,42],[170,43,173,47],[170,48,173,54],[179,37,182,42],[179,43,180,45],[179,46,180,47],[181,43,182,44],[181,45,182,45],[181,46,182,47],[166,17,169,18],[166,19,169,20],[162,43,165,47],[162,48,165,54],[158,17,161,18],[158,19,161,20],[158,21,161,36],[158,37,161,39],[158,40,161,42],[162,17,165,18],[162,19,165,20],[162,21,165,36],[162,37,165,39],[162,40,165,42],[166,48,169,54],[158,43,161,47],[166,21,169,36],[166,37,169,39],[166,40,169,42],[166,43,169,47],[158,48,161,54],[154,48,157,54],[150,17,153,18],[150,19,153,20],[146,43,149,47],[146,48,149,54],[142,17,145,18],[142,19,145,20],[142,21,145,36],[142,37,145,39],[142,40,145,42],[154,17,157,18],[154,19,157,20],[154,21,157,36],[154,37,157,39],[154,40,157,42],[154,43,157,47],[146,17,149,18],[146,19,149,20],[146,21,149,36],[146,37,149,39],[146,40,149,42],[150,48,153,54],[142,43,145,47],[150,21,153,36],[150,37,153,39],[150,40,153,42],[150,43,153,47],[142,48,145,54],[130,48,133,54],[134,48,137,54],[130,17,133,18],[130,19,133,20],[130,21,133,36],[130,37,133,39],[130,40,133,42],[130,43,133,47],[138,48,141,54],[134,17,137,18],[134,19,137,20],[134,21,137,36],[134,37,137,39],[134,40,137,42],[134,43,137,47],[138,17,141,18],[138,19,141,20],[138,21,141,36],[138,37,141,39],[138,40,141,42],[138,43,141,47],[126,1,129,5],[126,6,129,15],[126,17,129,18],[126,19,129,20],[126,21,129,36],[126,37,129,39],[126,40,129,42],[126,43,129,47],[126,48,129,54],[118,40,121,42],[118,43,121,47],[118,48,121,54],[122,1,125,3],[122,4,125,5],[122,6,125,15],[122,17,125,18],[122,19,125,20],[122,21,125,36],[122,37,125,39],[118,1,121,5],[118,6,121,15],[118,17,121,18],[118,19,121,20],[118,21,121,36],[118,37,121,39],[122,40,125,42],[122,43,125,47],[122,48,125,54],[114,1,117,5],[114,6,117,15],[114,17,117,18],[114,19,117,20],[114,21,117,36],[114,37,117,39],[114,40,117,42],[114,43,117,47],[114,48,117,54],[106,43,109,47],[106,48,109,54],[110,1,113,5],[110,6,113,15],[110,17,113,18],[110,19,113,20],[110,21,113,36],[110,37,113,39],[110,40,113,42],[110,43,113,47],[106,1,109,5],[106,6,109,15],[106,17,109,20],[106,21,109,36],[106,37,109,39],[106,40,109,42],[110,48,113,54],[89,46,90,47],[87,46,88,47],[95,49,97,51],[95,52,97,54],[100,1,103,5],[100,6,103,11],[100,12,103,15],[100,16,103,35],[100,37,103,40],[100,41,103,54],[93,19,96,32],[94,1,97,11],[94,12,97,13],[95,40,97,44],[95,45,97,48],[83,1,84,4],[83,5,84,10],[83,11,84,16],[83,17,84,25],[85,1,90,4],[85,5,90,10],[85,11,90,16],[85,17,90,25],[89,45,90,45],[78,43,81,47],[83,26,84,30],[83,31,84,35],[78,17,81,18],[78,19,81,20],[78,21,81,36],[85,26,90,30],[85,31,90,35],[74,48,77,54],[87,48,90,54],[78,48,81,54],[82,37,85,47],[82,48,85,54],[78,37,81,39],[78,40,81,42],[74,17,77,18],[74,19,77,20],[74,21,77,36],[74,37,77,39],[74,40,77,42],[74,43,77,47],[87,37,90,42],[87,43,88,45],[89,43,90,44],[66,48,69,54],[70,17,73,18],[70,19,73,20],[70,21,73,36],[70,37,73,39],[70,40,73,42],[70,43,73,47],[70,48,73,54],[66,17,69,18],[66,19,69,20],[66,21,69,36],[66,37,69,39],[66,40,69,42],[66,43,69,47],[58,48,61,54],[62,17,65,18],[62,19,65,20],[62,21,65,36],[62,37,65,39],[62,40,65,42],[62,43,65,47],[62,48,65,54],[58,17,61,18],[58,19,61,20],[58,21,61,36],[58,37,61,39],[58,40,61,42],[58,43,61,47],[50,48,53,54],[54,17,57,18],[54,19,57,20],[54,21,57,36],[54,37,57,39],[54,40,57,42],[54,43,57,47],[54,48,57,54],[50,17,53,18],[50,19,53,20],[50,21,53,36],[50,37,53,39],[50,40,53,42],[50,43,53,47],[38,17,41,18],[38,19,41,20],[38,21,41,36],[38,37,41,39],[38,40,41,42],[38,43,41,47],[38,48,41,54],[42,48,45,54],[46,17,49,18],[46,19,49,20],[46,21,49,36],[46,37,49,39],[46,40,49,42],[46,43,49,47],[46,48,49,54],[42,17,45,18],[42,19,45,20],[42,21,45,36],[42,37,45,39],[42,40,45,42],[42,43,45,47],[34,1,37,5],[34,6,37,15],[34,17,37,18],[34,19,37,20],[34,21,37,36],[34,37,37,39],[34,40,37,42],[34,43,37,47],[34,48,37,54],[26,40,29,42],[26,43,29,47],[26,48,29,54],[30,1,33,3],[30,4,33,5],[30,6,33,15],[30,17,33,18],[30,19,33,20],[30,21,33,36],[30,37,33,39],[26,1,29,5],[26,6,29,15],[26,17,29,18],[26,19,29,20],[26,21,29,36],[26,37,29,39],[30,40,33,42],[30,43,33,47],[30,48,33,54],[22,1,25,5],[22,6,25,15],[22,17,25,18],[22,19,25,20],[22,21,25,36],[22,37,25,39],[22,40,25,42],[22,43,25,47],[22,48,25,54],[14,43,17,47],[14,48,17,54],[18,1,21,5],[18,6,21,15],[18,17,21,18],[18,19,21,20],[18,21,21,36],[18,37,21,39],[18,40,21,42],[18,43,21,47],[14,1,17,5],[14,6,17,15],[14,17,17,20],[14,21,17,36],[14,37,17,39],[14,40,17,42],[18,48,21,54],[3,52,5,54],[8,37,11,40],[8,41,11,54],[1,19,4,32],[2,1,5,11],[2,12,5,13],[8,1,11,5],[8,6,11,11],[8,12,11,15],[8,16,11,35],[3,49,5,51],[3,40,5,44],[3,45,5,48]]}
[]
[null,null,null,null,null,null,null,null,null,null,null,null,null,null,null,null,null,null,null,"請求書明細書 (正)"]
[null,"株 式 会 社 種 村 建 設",null,null,null,null,null,null,null,null,null,null,"御中"]
[null,null,null,null,null,null,null,null,null,null,null,null,null,null,null,null,null,null,null,null,null,null,null,null,null,null,null,null,null,null,null,null,null,null,null,null,null,null,null,null,"請求年月日",null,null,null,null,{"$f":"IF(年=\"\",\"\",年)","v":""},null,null,null,{"$f":"IF(月=\"\",\"\",月)","v":""},null,null,{"$f":"IF(日=\"\",\"\",日)","v":""}]
[]
[]
[]
[]
[null,"工事番号",null,null,null,null,null,null,null,null,null,null,"工事名",null,null,null,null,null,null,null,null,null,null,null,null,null,null,null,null,null,null,null,null,null,null,null,null,"業者名",null,null,null,{"$f":"IF(社名=\"\",\"\",社名)","v":""}]
[]
[]
[]
[]
[]
[null,"注文番号",null,null,null,null,null,null,null,null,null,null,null,null,null,null,null,"月　日",null,null,null,"品　名・内　訳",null,null,null,null,null,null,null,null,null,null,null,null,null,null,null,"数 量",null,null,"単位",null,null,"単価",null,null,null,null,{"$f":"表紙①!P35","v":"金額(税抜)"}]
[]
[]
[]
[null,"契約金額",null,null,null,null,null,null,null,null,null,null,null,null,null,null,null,null,null,null,null,null,null,null,null,null,null,null,null,null,null,null,null,null,null,null,null,null,null,null,null,null,null,null,null,null,null,null,{"$f":"IF(V19=\"\",\"\",ROUND(AL19*AR19,0))","v":""}]
[]
[]
[]
[null,"増減額",null,null,null,null,null,null,null,null,null,null,null,null,null,null,null,null,null,null,null,null,null,null,null,null,null,null,null,null,null,null,null,null,null,null,null,null,null,null,null,null,null,null,null,null,null,null,{"$f":"IF(V23=\"\",\"\",ROUND(AL23*AR23,0))","v":""}]
[]
[]
[]
[null,"前回までの\n請求額",null,null,null,null,null,null,null,null,null,null,null,null,null,null,null,null,null,null,null,null,null,null,null,null,null,null,null,null,null,null,null,null,null,null,null,null,null,null,null,null,null,null,null,null,null,null,{"$f":"IF(V27=\"\",\"\",ROUND(AL27*AR27,0))","v":""}]
[]
[]
[]
[null,"今回\n請求額",null,null,null,null,null,null,null,null,null,null,null,null,null,null,null,null,null,null,null,null,null,null,null,null,null,null,null,null,null,null,null,null,null,null,null,null,null,null,null,null,null,null,null,null,null,null,{"$f":"IF(V31=\"\",\"\",ROUND(AL31*AR31,0))","v":""}]
[]
[]
[]
[null,"差引残高",null,null,null,null,{"$f":"IF(G19=\"\",\"\",G19+G23-G27-G31)","v":""},null,null,null,null,null,null,null,null,null,null,null,null,null,null,null,null,null,null,null,null,null,null,null,null,null,null,null,null,null,null,null,null,null,null,null,null,null,null,null,null,null,{"$f":"IF(V35=\"\",\"\",ROUND(AL35*AR35,0))","v":""}]
[]
[]
[]
[null,null,null,null,null,null,null,null,null,null,null,null,null,null,null,null,null,null,null,null,null,null,null,null,null,null,null,null,null,null,null,null,null,null,null,null,null,null,null,null,null,null,null,null,null,null,null,null,{"$f":"IF(V39=\"\",\"\",ROUND(AL39*AR39,0))","v":""}]
[]
[]
[]
[null,null,null,null,null,null,null,null,null,null,null,null,null,null,null,null,null,null,null,null,null,null,null,null,null,null,null,null,null,null,null,null,null,null,null,null,null,null,null,null,null,null,null,null,null,null,null,null,{"$f":"IF(V43=\"\",\"\",ROUND(AL43*AR43,0))","v":""}]
[]
[]
[]
[null,null,null,null,null,null,null,null,null,null,null,null,null,null,null,null,null,null,null,null,null,null,null,null,null,null,null,null,null,null,null,null,null,null,null,null,null,null,null,null,null,null,null,null,null,null,null,null,{"$f":"IF(V47=\"\",\"\",ROUND(AL47*AR47,0))","v":""}]
[]
[]
[]
[null,null,null,null,null,null,null,null,null,null,null,null,null,null,null,null,null,null,null,null,null,null,null,null,null,null,null,null,null,null,null,null,null,null,null,null,null,null,null,null,null,null,null,null,null,null,null,null,{"$f":"IF(V51=\"\",\"\",ROUND(AL51*AR51,0))","v":""}]
[]
[]
[]
[null,null,null,null,null,null,null,null,null,null,null,null,null,null,null,null,null,null,null,null,null,null,null,null,null,null,null,null,null,null,null,null,null,null,null,null,null,null,null,null,null,null,null,null,null,null,null,null,{"$f":"IF(V55=\"\",\"\",ROUND(AL55*AR55,0))","v":""}]
[]
[]
[]
[null,null,null,null,null,null,null,null,null,null,null,null,null,null,null,null,null,null,null,null,null,null,null,null,null,null,null,null,null,null,null,null,null,null,null,null,null,null,null,null,null,null,null,null,null,null,null,null,{"$f":"IF(V59=\"\",\"\",ROUND(AL59*AR59,0))","v":""}]
[]
[]
[]
[null,null,null,null,null,null,null,null,null,null,null,null,null,null,null,null,null,null,null,null,null,null,null,null,null,null,null,null,null,null,null,null,null,null,null,null,null,null,null,null,null,null,null,null,null,null,null,null,{"$f":"IF(V63=\"\",\"\",ROUND(AL63*AR63,0))","v":""}]
[]
[]
[]
[null,null,null,null,null,null,null,null,null,null,null,null,null,null,null,null,null,null,null,null,null,null,null,null,null,null,null,null,null,null,null,null,null,null,null,null,null,null,null,null,null,null,null,null,null,null,null,null,{"$f":"IF(V67=\"\",\"\",ROUND(AL67*AR67,0))","v":""}]
[]
[]
[]
[null,null,null,null,null,null,null,null,null,null,null,null,null,null,null,null,null,null,null,null,null,null,null,null,null,null,null,null,null,null,null,null,null,null,null,null,null,null,null,null,null,null,null,null,null,null,null,null,{"$f":"IF(V71=\"\",\"\",ROUND(AL71*AR71,0))","v":""}]
[]
[]
[]
[null,null,null,null,null,null,null,null,null,null,null,null,null,null,null,null,null,null,null,null,null,null,null,null,null,null,null,null,null,null,null,null,null,null,null,null,null,null,null,null,null,null,null,null,null,null,null,null,{"$f":"IF(V75=\"\",\"\",ROUND(AL75*AR75,0))","v":""}]
[]
[]
[]
[null,null,null,null,null,null,null,null,null,null,null,null,null,null,null,null,null,null,null,null,null,null,null,null,null,null,null,null,null,null,null,null,null,null,null,null,null,null,null,null,null,null,null,null,null,null,null,null,{"$f":"IF(V79=\"\",\"\",ROUND(AL79*AR79,0))","v":""}]
[]
[]
[]
[null,null,null,null,null,null,null,null,null,null,null,null,null,null,null,null,null,null,null,null,null,null,null,null,null,null,null,null,null,null,null,null,null,null,null,null,null,"金額(税抜)",null,null,null,null,null,null,null,null,null,null,{"$f":"IF(AW19=\"\",\"\",SUM(AW19:AW79))","v":""}]
[null,"社長",null,null,null,"専務",null,null,null,null,null,"常務",null,null,null,null,null,"部長･工場長",null,null,null,null,null,null,null,null,"担当者",null,null,null,null,"受付"]
[]
[]
[]
[null,null,null,null,null,null,null,null,null,null,null,null,null,null,null,null,null,null,null,null,null,null,null,null,null,null,null,null,null,null,null,null,null,null,null,null,null,"消費税",null,null,null,null,null,"税率",null,null,"税調",null,{"$f":"IF(AW83=\"\",\"\",IF(AR90=\"\",\"\",IF(AR90=8.1,ROUND(AW83*8/100,0)+AU90,ROUND(AW83*AR90/100,0)+AU90)))","v":""}]
[]
[null,null,null,null,null,null,null,null,null,null,null,null,null,null,null,null,null,null,null,null,null,null,null,null,null,null,null,null,null,null,null,null,null,null,null,null,null,null,null,null,null,null,null,null,null,{"$f":"IF(AR90=\"\",\"\",IF(AR90=8.1,\"旧\",IF(AR90=8,\"軽\",IF(AR90=0,\"非\",\"\"))))","v":""}]
[]
[]
[]
[null,null,null,null,null,null,null,null,null,null,null,null,null,null,null,null,null,null,null,"請求明細書 (現場控)"]
[null,"株 式 会 社 種 村 建 設",null,null,null,null,null,null,null,null,null,null,"御中"]
[null,null,null,null,null,null,null,null,null,null,null,null,null,null,null,null,null,null,null,null,null,null,null,null,null,null,null,null,null,null,null,null,null,null,null,null,null,null,null,null,"請求年月日",null,null,null,null,{"$f":"IF(AT4=\"\",\"\",AT4)","v":""},null,null,null,{"$f":"IF(AX4=\"\",\"\",AX4)","v":""},null,null,{"$f":"IF(BA4=\"\",\"\",BA4)","v":""}]
[]
[]
[]
[]
[null,"工事番号",null,null,null,null,{"$f":"IF(G9=\"\",\"\",G9)","v":""},null,null,null,null,null,"工事名",null,null,null,{"$f":"IF(Q9=\"\",\"\",Q9)","v":""},null,null,null,null,null,null,null,null,null,null,null,null,null,null,null,null,null,null,null,null,"業者名",null,null,null,{"$f":"IF(AP9=\"\",\"\",AP9)","v":""}]
[]
[]
[]
[]
[]
[null,"注文番号",null,null,null,null,{"$f":"IF(G15=\"\",\"\",G15)","v":""},null,null,null,null,null,null,null,null,null,null,"月　日",null,null,null,"品　名・内　訳",null,null,null,null,null,null,null,null,null,null,null,null,null,null,null,"数 量",null,null,"単位",null,null,"単価",null,null,null,null,{"$f":"表紙①!P127","v":"金額(税抜)"}]
[]
[]
[]
[null,"契約金額",null,null,null,null,{"$f":"IF(G19=\"\",\"\",G19)","v":""},null,null,null,null,null,null,null,null,null,null,{"$f":"IF(R19=\"\",\"\",R19)","v":""},null,{"$f":"IF(T19=\"\",\"\",T19)","v":""},null,{"$f":"IF(V19=\"\",\"\",V19)","v":""},null,{"$f":"IF(X19=\"\",\"\",X19)","v":""},null,{"$f":"IF(Z19=\"\",\"\",Z19)","v":""},null,{"$f":"IF(AB19=\"\",\"\",AB19)","v":""},null,{"$f":"IF(AD19=\"\",\"\",AD19)","v":""},null,{"$f":"IF(AF19=\"\",\"\",AF19)","v":""},null,{"$f":"IF(AH19=\"\",\"\",AH19)","v":""},null,{"$f":"IF(AJ19=\"\",\"\",AJ19)","v":""},null,{"$f":"IF(AL19=\"\",\"\",AL19)","v":""},null,null,{"$f":"IF(AO19=\"\",\"\",AO19)","v":""},null,null,{"$f":"IF(AR19=\"\",\"\",AR19)","v":""},null,null,null,null,{"$f":"IF(AW19=\"\",\"\",AW19)","v":""}]
[]
[]
[]
[null,"増減額",null,null,null,null,{"$f":"IF(G23=\"\",\"\",G23)","v":""},null,null,null,null,null,null,null,null,null,null,{"$f":"IF(R23=\"\",\"\",R23)","v":""},null,{"$f":"IF(T23=\"\",\"\",T23)","v":""},null,{"$f":"IF(V23=\"\",\"\",V23)","v":""},null,{"$f":"IF(X23=\"\",\"\",X23)","v":""},null,{"$f":"IF(Z23=\"\",\"\",Z23)","v":""},null,{"$f":"IF(AB23=\"\",\"\",AB23)","v":""},null,{"$f":"IF(AD23=\"\",\"\",AD23)","v":""},null,{"$f":"IF(AF23=\"\",\"\",AF23)","v":""},null,{"$f":"IF(AH23=\"\",\"\",AH23)","v":""},null,{"$f":"IF(AJ23=\"\",\"\",AJ23)","v":""},null,{"$f":"IF(AL23=\"\",\"\",AL23)","v":""},null,null,{"$f":"IF(AO23=\"\",\"\",AO23)","v":""},null,null,{"$f":"IF(AR23=\"\",\"\",AR23)","v":""},null,null,null,null,{"$f":"IF(AW23=\"\",\"\",AW23)","v":""}]
[]
[]
[]
[null,"前回までの\n請求額",null,null,null,null,{"$f":"IF(G27=\"\",\"\",G27)","v":""},null,null,null,null,null,null,null,null,null,null,{"$f":"IF(R27=\"\",\"\",R27)","v":""},null,{"$f":"IF(T27=\"\",\"\",T27)","v":""},null,{"$f":"IF(V27=\"\",\"\",V27)","v":""},null,{"$f":"IF(X27=\"\",\"\",X27)","v":""},null,{"$f":"IF(Z27=\"\",\"\",Z27)","v":""},null,{"$f":"IF(AB27=\"\",\"\",AB27)","v":""},null,{"$f":"IF(AD27=\"\",\"\",AD27)","v":""},null,{"$f":"IF(AF27=\"\",\"\",AF27)","v":""},null,{"$f":"IF(AH27=\"\",\"\",AH27)","v":""},null,{"$f":"IF(AJ27=\"\",\"\",AJ27)","v":""},null,{"$f":"IF(AL27=\"\",\"\",AL27)","v":""},null,null,{"$f":"IF(AO27=\"\",\"\",AO27)","v":""},null,null,{"$f":"IF(AR27=\"\",\"\",AR27)","v":""},null,null,null,null,{"$f":"IF(AW27=\"\",\"\",AW27)","v":""}]
[]
[]
[]
[null,"今回\n請求額",null,null,{"$f":"IF(E31=\"\",\"\",E31)","v":""},null,{"$f":"IF(G31=\"\",\"\",G31)","v":""},null,null,null,null,null,null,null,null,null,null,{"$f":"IF(R31=\"\",\"\",R31)","v":""},null,{"$f":"IF(T31=\"\",\"\",T31)","v":""},null,{"$f":"IF(V31=\"\",\"\",V31)","v":""},null,{"$f":"IF(X31=\"\",\"\",X31)","v":""},null,{"$f":"IF(Z31=\"\",\"\",Z31)","v":""},null,{"$f":"IF(AB31=\"\",\"\",AB31)","v":""},null,{"$f":"IF(AD31=\"\",\"\",AD31)","v":""},null,{"$f":"IF(AF31=\"\",\"\",AF31)","v":""},null,{"$f":"IF(AH31=\"\",\"\",AH31)","v":""},null,{"$f":"IF(AJ31=\"\",\"\",AJ31)","v":""},null,{"$f":"IF(AL31=\"\",\"\",AL31)","v":""},null,null,{"$f":"IF(AO31=\"\",\"\",AO31)","v":""},null,null,{"$f":"IF(AR31=\"\",\"\",AR31)","v":""},null,null,null,null,{"$f":"IF(AW31=\"\",\"\",AW31)","v":""}]
[]
[]
[]
[null,"差引残高",null,null,null,null,{"$f":"IF(G111=\"\",\"\",G111+G115-G119-G123)","v":""},null,null,null,null,null,null,null,null,null,null,{"$f":"IF(R35=\"\",\"\",R35)","v":""},null,{"$f":"IF(T35=\"\",\"\",T35)","v":""},null,{"$f":"IF(V35=\"\",\"\",V35)","v":""},null,{"$f":"IF(X35=\"\",\"\",X35)","v":""},null,{"$f":"IF(Z35=\"\",\"\",Z35)","v":""},null,{"$f":"IF(AB35=\"\",\"\",AB35)","v":""},null,{"$f":"IF(AD35=\"\",\"\",AD35)","v":""},null,{"$f":"IF(AF35=\"\",\"\",AF35)","v":""},null,{"$f":"IF(AH35=\"\",\"\",AH35)","v":""},null,{"$f":"IF(AJ35=\"\",\"\",AJ35)","v":""},null,{"$f":"IF(AL35=\"\",\"\",AL35)","v":""},null,null,{"$f":"IF(AO35=\"\",\"\",AO35)","v":""},null,null,{"$f":"IF(AR35=\"\",\"\",AR35)","v":""},null,null,null,null,{"$f":"IF(AW35=\"\",\"\",AW35)","v":""}]
[]
[]
[]
[null,null,null,null,null,null,null,null,null,null,null,null,null,null,null,null,null,{"$f":"IF(R39=\"\",\"\",R39)","v":""},null,{"$f":"IF(T39=\"\",\"\",T39)","v":""},null,{"$f":"IF(V39=\"\",\"\",V39)","v":""},null,{"$f":"IF(X39=\"\",\"\",X39)","v":""},null,{"$f":"IF(Z39=\"\",\"\",Z39)","v":""},null,{"$f":"IF(AB39=\"\",\"\",AB39)","v":""},null,{"$f":"IF(AD39=\"\",\"\",AD39)","v":""},null,{"$f":"IF(AF39=\"\",\"\",AF39)","v":""},null,{"$f":"IF(AH39=\"\",\"\",AH39)","v":""},null,{"$f":"IF(AJ39=\"\",\"\",AJ39)","v":""},null,{"$f":"IF(AL39=\"\",\"\",AL39)","v":""},null,null,{"$f":"IF(AO39=\"\",\"\",AO39)","v":""},null,null,{"$f":"IF(AR39=\"\",\"\",AR39)","v":""},null,null,null,null,{"$f":"IF(AW39=\"\",\"\",AW39)","v":""}]
[]
[]
[]
[null,null,null,null,null,null,null,null,null,null,null,null,null,null,null,null,null,{"$f":"IF(R43=\"\",\"\",R43)","v":""},null,{"$f":"IF(T43=\"\",\"\",T43)","v":""},null,{"$f":"IF(V43=\"\",\"\",V43)","v":""},null,{"$f":"IF(X43=\"\",\"\",X43)","v":""},null,{"$f":"IF(Z43=\"\",\"\",Z43)","v":""},null,{"$f":"IF(AB43=\"\",\"\",AB43)","v":""},null,{"$f":"IF(AD43=\"\",\"\",AD43)","v":""},null,{"$f":"IF(AF43=\"\",\"\",AF43)","v":""},null,{"$f":"IF(AH43=\"\",\"\",AH43)","v":""},null,{"$f":"IF(AJ43=\"\",\"\",AJ43)","v":""},null,{"$f":"IF(AL43=\"\",\"\",AL43)","v":""},null,null,{"$f":"IF(AO43=\"\",\"\",AO43)","v":""},null,null,{"$f":"IF(AR43=\"\",\"\",AR43)","v":""},null,null,null,null,{"$f":"IF(AW43=\"\",\"\",AW43)","v":""}]
[]
[]
[]
[null,null,null,null,null,null,null,null,null,null,null,null,null,null,null,null,null,{"$f":"IF(R47=\"\",\"\",R47)","v":""},null,{"$f":"IF(T47=\"\",\"\",T47)","v":""},null,{"$f":"IF(V47=\"\",\"\",V47)","v":""},null,{"$f":"IF(X47=\"\",\"\",X47)","v":""},null,{"$f":"IF(Z47=\"\",\"\",Z47)","v":""},null,{"$f":"IF(AB47=\"\",\"\",AB47)","v":""},null,{"$f":"IF(AD47=\"\",\"\",AD47)","v":""},null,{"$f":"IF(AF47=\"\",\"\",AF47)","v":""},null,{"$f":"IF(AH47=\"\",\"\",AH47)","v":""},null,{"$f":"IF(AJ47=\"\",\"\",AJ47)","v":""},null,{"$f":"IF(AL47=\"\",\"\",AL47)","v":""},null,null,{"$f":"IF(AO47=\"\",\"\",AO47)","v":""},null,null,{"$f":"IF(AR47=\"\",\"\",AR47)","v":""},null,null,null,null,{"$f":"IF(AW47=\"\",\"\",AW47)","v":""}]
[]
[]
[]
[null,null,null,null,null,null,null,null,null,null,null,null,null,null,null,null,null,{"$f":"IF(R51=\"\",\"\",R51)","v":""},null,{"$f":"IF(T51=\"\",\"\",T51)","v":""},null,{"$f":"IF(V51=\"\",\"\",V51)","v":""},null,{"$f":"IF(X51=\"\",\"\",X51)","v":""},null,{"$f":"IF(Z51=\"\",\"\",Z51)","v":""},null,{"$f":"IF(AB51=\"\",\"\",AB51)","v":""},null,{"$f":"IF(AD51=\"\",\"\",AD51)","v":""},null,{"$f":"IF(AF51=\"\",\"\",AF51)","v":""},null,{"$f":"IF(AH51=\"\",\"\",AH51)","v":""},null,{"$f":"IF(AJ51=\"\",\"\",AJ51)","v":""},null,{"$f":"IF(AL51=\"\",\"\",AL51)","v":""},null,null,{"$f":"IF(AO51=\"\",\"\",AO51)","v":""},null,null,{"$f":"IF(AR51=\"\",\"\",AR51)","v":""},null,null,null,null,{"$f":"IF(AW51=\"\",\"\",AW51)","v":""}]
[]
[]
[]
[null,null,null,null,null,null,null,null,null,null,null,null,null,null,null,null,null,{"$f":"IF(R55=\"\",\"\",R55)","v":""},null,{"$f":"IF(T55=\"\",\"\",T55)","v":""},null,{"$f":"IF(V55=\"\",\"\",V55)","v":""},null,{"$f":"IF(X55=\"\",\"\",X55)","v":""},null,{"$f":"IF(Z55=\"\",\"\",Z55)","v":""},null,{"$f":"IF(AB55=\"\",\"\",AB55)","v":""},null,{"$f":"IF(AD55=\"\",\"\",AD55)","v":""},null,{"$f":"IF(AF55=\"\",\"\",AF55)","v":""},null,{"$f":"IF(AH55=\"\",\"\",AH55)","v":""},null,{"$f":"IF(AJ55=\"\",\"\",AJ55)","v":""},null,{"$f":"IF(AL55=\"\",\"\",AL55)","v":""},null,null,{"$f":"IF(AO55=\"\",\"\",AO55)","v":""},null,null,{"$f":"IF(AR55=\"\",\"\",AR55)","v":""},null,null,null,null,{"$f":"IF(AW55=\"\",\"\",AW55)","v":""}]
[]
[]
[]
[null,null,null,null,null,null,null,null,null,null,null,null,null,null,null,null,null,{"$f":"IF(R59=\"\",\"\",R59)","v":""},null,{"$f":"IF(T59=\"\",\"\",T59)","v":""},null,{"$f":"IF(V59=\"\",\"\",V59)","v":""},null,{"$f":"IF(X59=\"\",\"\",X59)","v":""},null,{"$f":"IF(Z59=\"\",\"\",Z59)","v":""},null,{"$f":"IF(AB59=\"\",\"\",AB59)","v":""},null,{"$f":"IF(AD59=\"\",\"\",AD59)","v":""},null,{"$f":"IF(AF59=\"\",\"\",AF59)","v":""},null,{"$f":"IF(AH59=\"\",\"\",AH59)","v":""},null,{"$f":"IF(AJ59=\"\",\"\",AJ59)","v":""},null,{"$f":"IF(AL59=\"\",\"\",AL59)","v":""},null,null,{"$f":"IF(AO59=\"\",\"\",AO59)","v":""},null,null,{"$f":"IF(AR59=\"\",\"\",AR59)","v":""},null,null,null,null,{"$f":"IF(AW59=\"\",\"\",AW59)","v":""}]
[]
[]
[]
[null,null,null,null,null,null,null,null,null,null,null,null,null,null,null,null,null,{"$f":"IF(R63=\"\",\"\",R63)","v":""},null,{"$f":"IF(T63=\"\",\"\",T63)","v":""},null,{"$f":"IF(V63=\"\",\"\",V63)","v":""},null,{"$f":"IF(X63=\"\",\"\",X63)","v":""},null,{"$f":"IF(Z63=\"\",\"\",Z63)","v":""},null,{"$f":"IF(AB63=\"\",\"\",AB63)","v":""},null,{"$f":"IF(AD63=\"\",\"\",AD63)","v":""},null,{"$f":"IF(AF63=\"\",\"\",AF63)","v":""},null,{"$f":"IF(AH63=\"\",\"\",AH63)","v":""},null,{"$f":"IF(AJ63=\"\",\"\",AJ63)","v":""},null,{"$f":"IF(AL63=\"\",\"\",AL63)","v":""},null,null,{"$f":"IF(AO63=\"\",\"\",AO63)","v":""},null,null,{"$f":"IF(AR63=\"\",\"\",AR63)","v":""},null,null,null,null,{"$f":"IF(AW63=\"\",\"\",AW63)","v":""}]
[]
[]
[]
[null,null,null,null,null,null,null,null,null,null,null,null,null,null,null,null,null,{"$f":"IF(R67=\"\",\"\",R67)","v":""},null,{"$f":"IF(T67=\"\",\"\",T67)","v":""},null,{"$f":"IF(V67=\"\",\"\",V67)","v":""},null,{"$f":"IF(X67=\"\",\"\",X67)","v":""},null,{"$f":"IF(Z67=\"\",\"\",Z67)","v":""},null,{"$f":"IF(AB67=\"\",\"\",AB67)","v":""},null,{"$f":"IF(AD67=\"\",\"\",AD67)","v":""},null,{"$f":"IF(AF67=\"\",\"\",AF67)","v":""},null,{"$f":"IF(AH67=\"\",\"\",AH67)","v":""},null,{"$f":"IF(AJ67=\"\",\"\",AJ67)","v":""},null,{"$f":"IF(AL67=\"\",\"\",AL67)","v":""},null,null,{"$f":"IF(AO67=\"\",\"\",AO67)","v":""},null,null,{"$f":"IF(AR67=\"\",\"\",AR67)","v":""},null,null,null,null,{"$f":"IF(AW67=\"\",\"\",AW67)","v":""}]
[]
[]
[]
[null,null,null,null,null,null,null,null,null,null,null,null,null,null,null,null,null,{"$f":"IF(R71=\"\",\"\",R71)","v":""},null,{"$f":"IF(T71=\"\",\"\",T71)","v":""},null,{"$f":"IF(V71=\"\",\"\",V71)","v":""},null,{"$f":"IF(X71=\"\",\"\",X71)","v":""},null,{"$f":"IF(Z71=\"\",\"\",Z71)","v":""},null,{"$f":"IF(AB71=\"\",\"\",AB71)","v":""},null,{"$f":"IF(AD71=\"\",\"\",AD71)","v":""},null,{"$f":"IF(AF71=\"\",\"\",AF71)","v":""},null,{"$f":"IF(AH71=\"\",\"\",AH71)","v":""},null,{"$f":"IF(AJ71=\"\",\"\",AJ71)","v":""},null,{"$f":"IF(AL71=\"\",\"\",AL71)","v":""},null,null,{"$f":"IF(AO71=\"\",\"\",AO71)","v":""},null,null,{"$f":"IF(AR71=\"\",\"\",AR71)","v":""},null,null,null,null,{"$f":"IF(AW71=\"\",\"\",AW71)","v":""}]
[]
[]
[]
[null,null,null,null,null,null,null,null,null,null,null,null,null,null,null,null,null,{"$f":"IF(R75=\"\",\"\",R75)","v":""},null,{"$f":"IF(T75=\"\",\"\",T75)","v":""},null,{"$f":"IF(V75=\"\",\"\",V75)","v":""},null,{"$f":"IF(X75=\"\",\"\",X75)","v":""},null,{"$f":"IF(Z75=\"\",\"\",Z75)","v":""},null,{"$f":"IF(AB75=\"\",\"\",AB75)","v":""},null,{"$f":"IF(AD75=\"\",\"\",AD75)","v":""},null,{"$f":"IF(AF75=\"\",\"\",AF75)","v":""},null,{"$f":"IF(AH75=\"\",\"\",AH75)","v":""},null,{"$f":"IF(AJ75=\"\",\"\",AJ75)","v":""},null,{"$f":"IF(AL75=\"\",\"\",AL75)","v":""},null,null,{"$f":"IF(AO75=\"\",\"\",AO75)","v":""},null,null,{"$f":"IF(AR75=\"\",\"\",AR75)","v":""},null,null,null,null,{"$f":"IF(AW75=\"\",\"\",AW75)","v":""}]
[]
[]
[]
[null,null,null,null,null,null,null,null,null,null,null,null,null,null,null,null,null,{"$f":"IF(R79=\"\",\"\",R79)","v":""},null,{"$f":"IF(T79=\"\",\"\",T79)","v":""},null,{"$f":"IF(V79=\"\",\"\",V79)","v":""},null,{"$f":"IF(X79=\"\",\"\",X79)","v":""},null,{"$f":"IF(Z79=\"\",\"\",Z79)","v":""},null,{"$f":"IF(AB79=\"\",\"\",AB79)","v":""},null,{"$f":"IF(AD79=\"\",\"\",AD79)","v":""},null,{"$f":"IF(AF79=\"\",\"\",AF79)","v":""},null,{"$f":"IF(AH79=\"\",\"\",AH79)","v":""},null,{"$f":"IF(AJ79=\"\",\"\",AJ79)","v":""},null,{"$f":"IF(AL79=\"\",\"\",AL79)","v":""},null,null,{"$f":"IF(AO79=\"\",\"\",AO79)","v":""},null,null,{"$f":"IF(AR79=\"\",\"\",AR79)","v":""},null,null,null,null,{"$f":"IF(AW79=\"\",\"\",AW79)","v":""}]
[]
[]
[]
[null,null,null,null,null,null,null,null,null,null,null,null,null,null,null,null,null,null,null,null,null,null,null,null,null,null,null,null,null,null,null,null,null,null,null,null,null,{"$f":"AL83","v":"金額(税抜)"},null,null,null,null,null,null,null,null,null,null,{"$f":"AW83","v":""}]
[]
[]
[]
[]
[null,null,null,null,null,null,null,null,null,null,null,null,null,null,null,null,null,null,null,null,null,null,null,null,null,null,null,null,null,null,null,null,null,null,null,null,null,{"$f":"AL88","v":"消費税"},null,null,null,null,null,"税率",null,null,"税調",null,{"$f":"AW88","v":""}]
[]
[null,null,null,null,null,null,null,null,null,null,null,null,null,null,null,null,null,null,null,null,null,null,null,null,null,null,null,null,null,null,null,null,null,null,null,null,null,null,null,null,null,null,null,{"$f":"AR90","v":0},null,{"$f":"AT90","v":""}]
[]
[]
[]
[null,null,null,null,null,null,null,null,null,null,null,null,null,null,null,null,null,null,null,"請求明細書 (貴社控)"]
[null,"株 式 会 社 種 村 建 設",null,null,null,null,null,null,null,null,null,null,"御中"]
[null,null,null,null,null,null,null,null,null,null,null,null,null,null,null,null,null,null,null,null,null,null,null,null,null,null,null,null,null,null,null,null,null,null,null,null,null,null,null,null,"請求年月日",null,null,null,null,{"$f":"IF(AT96=\"\",\"\",AT96)","v":""},null,null,null,{"$f":"IF(AX96=\"\",\"\",AX96)","v":""},null,null,{"$f":"IF(BA96=\"\",\"\",BA96)","v":""}]
[]
[]
[]
[]
[null,"工事番号",null,null,null,null,{"$f":"IF(G101=\"\",\"\",G101)","v":""},null,null,null,null,null,"工事名",null,null,null,{"$f":"IF(Q101=\"\",\"\",Q101)","v":""},null,null,null,null,null,null,null,null,null,null,null,null,null,null,null,null,null,null,null,null,"業者名",null,null,null,{"$f":"IF(AP101=\"\",\"\",AP101)","v":""}]
[]
[]
[]
[]
[]
[null,"注文番号",null,null,null,null,{"$f":"IF(G107=\"\",\"\",G107)","v":""},null,null,null,null,null,null,null,null,null,null,"月　日",null,null,null,"品　名・内　訳",null,null,null,null,null,null,null,null,null,null,null,null,null,null,null,"数 量",null,null,"単位",null,null,"単価",null,null,null,null,{"$f":"表紙①!P219","v":0}]
[]
[]
[]
[null,"契約金額",null,null,null,null,{"$f":"IF(G111=\"\",\"\",G111)","v":""},null,null,null,null,null,null,null,null,null,null,{"$f":"IF(R111=\"\",\"\",R111)","v":""},null,{"$f":"IF(T111=\"\",\"\",T111)","v":""},null,{"$f":"IF(V111=\"\",\"\",V111)","v":""},null,{"$f":"IF(X111=\"\",\"\",X111)","v":""},null,{"$f":"IF(Z111=\"\",\"\",Z111)","v":""},null,{"$f":"IF(AB111=\"\",\"\",AB111)","v":""},null,{"$f":"IF(AD111=\"\",\"\",AD111)","v":""},null,{"$f":"IF(AF111=\"\",\"\",AF111)","v":""},null,{"$f":"IF(AH111=\"\",\"\",AH111)","v":""},null,{"$f":"IF(AJ111=\"\",\"\",AJ111)","v":""},null,{"$f":"IF(AL111=\"\",\"\",AL111)","v":""},null,null,{"$f":"IF(AO111=\"\",\"\",AO111)","v":""},null,null,{"$f":"IF(AR111=\"\",\"\",AR111)","v":""},null,null,null,null,{"$f":"IF(AW111=\"\",\"\",AW111)","v":""}]
[]
[]
[]
[null,"増減額",null,null,null,null,{"$f":"IF(G115=\"\",\"\",G115)","v":""},null,null,null,null,null,null,null,null,null,null,{"$f":"IF(R115=\"\",\"\",R115)","v":""},null,{"$f":"IF(T115=\"\",\"\",T115)","v":""},null,{"$f":"IF(V115=\"\",\"\",V115)","v":""},null,{"$f":"IF(X115=\"\",\"\",X115)","v":""},null,{"$f":"IF(Z115=\"\",\"\",Z115)","v":""},null,{"$f":"IF(AB115=\"\",\"\",AB115)","v":""},null,{"$f":"IF(AD115=\"\",\"\",AD115)","v":""},null,{"$f":"IF(AF115=\"\",\"\",AF115)","v":""},null,{"$f":"IF(AH115=\"\",\"\",AH115)","v":""},null,{"$f":"IF(AJ115=\"\",\"\",AJ115)","v":""},null,{"$f":"IF(AL115=\"\",\"\",AL115)","v":""},null,null,{"$f":"IF(AO115=\"\",\"\",AO115)","v":""},null,null,{"$f":"IF(AR115=\"\",\"\",AR115)","v":""},null,null,null,null,{"$f":"IF(AW115=\"\",\"\",AW115)","v":""}]
[]
[]
[]
[null,"前回までの\n請求額",null,null,null,null,{"$f":"IF(G119=\"\",\"\",G119)","v":""},null,null,null,null,null,null,null,null,null,null,{"$f":"IF(R119=\"\",\"\",R119)","v":""},null,{"$f":"IF(T119=\"\",\"\",T119)","v":""},null,{"$f":"IF(V119=\"\",\"\",V119)","v":""},null,{"$f":"IF(X119=\"\",\"\",X119)","v":""},null,{"$f":"IF(Z119=\"\",\"\",Z119)","v":""},null,{"$f":"IF(AB119=\"\",\"\",AB119)","v":""},null,{"$f":"IF(AD119=\"\",\"\",AD119)","v":""},null,{"$f":"IF(AF119=\"\",\"\",AF119)","v":""},null,{"$f":"IF(AH119=\"\",\"\",AH119)","v":""},null,{"$f":"IF(AJ119=\"\",\"\",AJ119)","v":""},null,{"$f":"IF(AL119=\"\",\"\",AL119)","v":""},null,null,{"$f":"IF(AO119=\"\",\"\",AO119)","v":""},null,null,{"$f":"IF(AR119=\"\",\"\",AR119)","v":""},null,null,null,null,{"$f":"IF(AW119=\"\",\"\",AW119)","v":""}]
[]
[]
[]
[null,"今回\n請求額",null,null,{"$f":"IF(E31=\"\",\"\",E31)","v":""},null,{"$f":"IF(G123=\"\",\"\",G123)","v":""},null,null,null,null,null,null,null,null,null,null,{"$f":"IF(R123=\"\",\"\",R123)","v":""},null,{"$f":"IF(T123=\"\",\"\",T123)","v":""},null,{"$f":"IF(V123=\"\",\"\",V123)","v":""},null,{"$f":"IF(X123=\"\",\"\",X123)","v":""},null,{"$f":"IF(Z123=\"\",\"\",Z123)","v":""},null,{"$f":"IF(AB123=\"\",\"\",AB123)","v":""},null,{"$f":"IF(AD123=\"\",\"\",AD123)","v":""},null,{"$f":"IF(AF123=\"\",\"\",AF123)","v":""},null,{"$f":"IF(AH123=\"\",\"\",AH123)","v":""},null,{"$f":"IF(AJ123=\"\",\"\",AJ123)","v":""},null,{"$f":"IF(AL123=\"\",\"\",AL123)","v":""},null,null,{"$f":"IF(AO123=\"\",\"\",AO123)","v":""},null,null,{"$f":"IF(AR123=\"\",\"\",AR123)","v":""},null,null,null,null,{"$f":"IF(AW123=\"\",\"\",AW123)","v":""}]
[]
[]
[]
[null,"差引残高",null,null,null,null,{"$f":"IF(G203=\"\",\"\",G203+G207-G211-G215)","v":""},null,null,null,null,null,null,null,null,null,null,{"$f":"IF(R127=\"\",\"\",R127)","v":""},null,{"$f":"IF(T127=\"\",\"\",T127)","v":""},null,{"$f":"IF(V127=\"\",\"\",V127)","v":""},null,{"$f":"IF(X127=\"\",\"\",X127)","v":""},null,{"$f":"IF(Z127=\"\",\"\",Z127)","v":""},null,{"$f":"IF(AB127=\"\",\"\",AB127)","v":""},null,{"$f":"IF(AD127=\"\",\"\",AD127)","v":""},null,{"$f":"IF(AF127=\"\",\"\",AF127)","v":""},null,{"$f":"IF(AH127=\"\",\"\",AH127)","v":""},null,{"$f":"IF(AJ127=\"\",\"\",AJ127)","v":""},null,{"$f":"IF(AL127=\"\",\"\",AL127)","v":""},null,null,{"$f":"IF(AO127=\"\",\"\",AO127)","v":""},null,null,{"$f":"IF(AR127=\"\",\"\",AR127)","v":""},null,null,null,null,{"$f":"IF(AW127=\"\",\"\",AW127)","v":""}]
[]
[]
[]
[null,null,null,null,null,null,null,null,null,null,null,null,null,null,null,null,null,{"$f":"IF(R131=\"\",\"\",R131)","v":""},null,{"$f":"IF(T131=\"\",\"\",T131)","v":""},null,{"$f":"IF(V131=\"\",\"\",V131)","v":""},null,{"$f":"IF(X131=\"\",\"\",X131)","v":""},null,{"$f":"IF(Z131=\"\",\"\",Z131)","v":""},null,{"$f":"IF(AB131=\"\",\"\",AB131)","v":""},null,{"$f":"IF(AD131=\"\",\"\",AD131)","v":""},null,{"$f":"IF(AF131=\"\",\"\",AF131)","v":""},null,{"$f":"IF(AH131=\"\",\"\",AH131)","v":""},null,{"$f":"IF(AJ131=\"\",\"\",AJ131)","v":""},null,{"$f":"IF(AL131=\"\",\"\",AL131)","v":""},null,null,{"$f":"IF(AO131=\"\",\"\",AO131)","v":""},null,null,{"$f":"IF(AR131=\"\",\"\",AR131)","v":""},null,null,null,null,{"$f":"IF(AW131=\"\",\"\",AW131)","v":""}]
[]
[]
[]
[null,null,null,null,null,null,null,null,null,null,null,null,null,null,null,null,null,{"$f":"IF(R135=\"\",\"\",R135)","v":""},null,{"$f":"IF(T135=\"\",\"\",T135)","v":""},null,{"$f":"IF(V135=\"\",\"\",V135)","v":""},null,{"$f":"IF(X135=\"\",\"\",X135)","v":""},null,{"$f":"IF(Z135=\"\",\"\",Z135)","v":""},null,{"$f":"IF(AB135=\"\",\"\",AB135)","v":""},null,{"$f":"IF(AD135=\"\",\"\",AD135)","v":""},null,{"$f":"IF(AF135=\"\",\"\",AF135)","v":""},null,{"$f":"IF(AH135=\"\",\"\",AH135)","v":""},null,{"$f":"IF(AJ135=\"\",\"\",AJ135)","v":""},null,{"$f":"IF(AL135=\"\",\"\",AL135)","v":""},null,null,{"$f":"IF(AO135=\"\",\"\",AO135)","v":""},null,null,{"$f":"IF(AR135=\"\",\"\",AR135)","v":""},null,null,null,null,{"$f":"IF(AW135=\"\",\"\",AW135)","v":""}]
[]
[]
[]
[null,null,null,null,null,null,null,null,null,null,null,null,null,null,null,null,null,{"$f":"IF(R139=\"\",\"\",R139)","v":""},null,{"$f":"IF(T139=\"\",\"\",T139)","v":""},null,{"$f":"IF(V139=\"\",\"\",V139)","v":""},null,{"$f":"IF(X139=\"\",\"\",X139)","v":""},null,{"$f":"IF(Z139=\"\",\"\",Z139)","v":""},null,{"$f":"IF(AB139=\"\",\"\",AB139)","v":""},null,{"$f":"IF(AD139=\"\",\"\",AD139)","v":""},null,{"$f":"IF(AF139=\"\",\"\",AF139)","v":""},null,{"$f":"IF(AH139=\"\",\"\",AH139)","v":""},null,{"$f":"IF(AJ139=\"\",\"\",AJ139)","v":""},null,{"$f":"IF(AL139=\"\",\"\",AL139)","v":""},null,null,{"$f":"IF(AO139=\"\",\"\",AO139)","v":""},null,null,{"$f":"IF(AR139=\"\",\"\",AR139)","v":""},null,null,null,null,{"$f":"IF(AW139=\"\",\"\",AW139)","v":""}]
[]
[]
[]
[null,null,null,null,null,null,null,null,null,null,null,null,null,null,null,null,null,{"$f":"IF(R143=\"\",\"\",R143)","v":""},null,{"$f":"IF(T143=\"\",\"\",T143)","v":""},null,{"$f":"IF(V143=\"\",\"\",V143)","v":""},null,{"$f":"IF(X143=\"\",\"\",X143)","v":""},null,{"$f":"IF(Z143=\"\",\"\",Z143)","v":""},null,{"$f":"IF(AB143=\"\",\"\",AB143)","v":""},null,{"$f":"IF(AD143=\"\",\"\",AD143)","v":""},null,{"$f":"IF(AF143=\"\",\"\",AF143)","v":""},null,{"$f":"IF(AH143=\"\",\"\",AH143)","v":""},null,{"$f":"IF(AJ143=\"\",\"\",AJ143)","v":""},null,{"$f":"IF(AL143=\"\",\"\",AL143)","v":""},null,null,{"$f":"IF(AO143=\"\",\"\",AO143)","v":""},null,null,{"$f":"IF(AR143=\"\",\"\",AR143)","v":""},null,null,null,null,{"$f":"IF(AW143=\"\",\"\",AW143)","v":""}]
[]
[]
[]
[null,null,null,null,null,null,null,null,null,null,null,null,null,null,null,null,null,{"$f":"IF(R147=\"\",\"\",R147)","v":""},null,{"$f":"IF(T147=\"\",\"\",T147)","v":""},null,{"$f":"IF(V147=\"\",\"\",V147)","v":""},null,{"$f":"IF(X147=\"\",\"\",X147)","v":""},null,{"$f":"IF(Z147=\"\",\"\",Z147)","v":""},null,{"$f":"IF(AB147=\"\",\"\",AB147)","v":""},null,{"$f":"IF(AD147=\"\",\"\",AD147)","v":""},null,{"$f":"IF(AF147=\"\",\"\",AF147)","v":""},null,{"$f":"IF(AH147=\"\",\"\",AH147)","v":""},null,{"$f":"IF(AJ147=\"\",\"\",AJ147)","v":""},null,{"$f":"IF(AL147=\"\",\"\",AL147)","v":""},null,null,{"$f":"IF(AO147=\"\",\"\",AO147)","v":""},null,null,{"$f":"IF(AR147=\"\",\"\",AR147)","v":""},null,null,null,null,{"$f":"IF(AW147=\"\",\"\",AW147)","v":""}]
[]
[]
[]
[null,null,null,null,null,null,null,null,null,null,null,null,null,null,null,null,null,{"$f":"IF(R151=\"\",\"\",R151)","v":""},null,{"$f":"IF(T151=\"\",\"\",T151)","v":""},null,{"$f":"IF(V151=\"\",\"\",V151)","v":""},null,{"$f":"IF(X151=\"\",\"\",X151)","v":""},null,{"$f":"IF(Z151=\"\",\"\",Z151)","v":""},null,{"$f":"IF(AB151=\"\",\"\",AB151)","v":""},null,{"$f":"IF(AD151=\"\",\"\",AD151)","v":""},null,{"$f":"IF(AF151=\"\",\"\",AF151)","v":""},null,{"$f":"IF(AH151=\"\",\"\",AH151)","v":""},null,{"$f":"IF(AJ151=\"\",\"\",AJ151)","v":""},null,{"$f":"IF(AL151=\"\",\"\",AL151)","v":""},null,null,{"$f":"IF(AO151=\"\",\"\",AO151)","v":""},null,null,{"$f":"IF(AR151=\"\",\"\",AR151)","v":""},null,null,null,null,{"$f":"IF(AW151=\"\",\"\",AW151)","v":""}]
[]
[]
[]
[null,null,null,null,null,null,null,null,null,null,null,null,null,null,null,null,null,{"$f":"IF(R155=\"\",\"\",R155)","v":""},null,{"$f":"IF(T155=\"\",\"\",T155)","v":""},null,{"$f":"IF(V155=\"\",\"\",V155)","v":""},null,{"$f":"IF(X155=\"\",\"\",X155)","v":""},null,{"$f":"IF(Z155=\"\",\"\",Z155)","v":""},null,{"$f":"IF(AB155=\"\",\"\",AB155)","v":""},null,{"$f":"IF(AD155=\"\",\"\",AD155)","v":""},null,{"$f":"IF(AF155=\"\",\"\",AF155)","v":""},null,{"$f":"IF(AH155=\"\",\"\",AH155)","v":""},null,{"$f":"IF(AJ155=\"\",\"\",AJ155)","v":""},null,{"$f":"IF(AL155=\"\",\"\",AL155)","v":""},null,null,{"$f":"IF(AO155=\"\",\"\",AO155)","v":""},null,null,{"$f":"IF(AR155=\"\",\"\",AR155)","v":""},null,null,null,null,{"$f":"IF(AW155=\"\",\"\",AW155)","v":""}]
[]
[]
[]
[null,null,null,null,null,null,null,null,null,null,null,null,null,null,null,null,null,{"$f":"IF(R159=\"\",\"\",R159)","v":""},null,{"$f":"IF(T159=\"\",\"\",T159)","v":""},null,{"$f":"IF(V159=\"\",\"\",V159)","v":""},null,{"$f":"IF(X159=\"\",\"\",X159)","v":""},null,{"$f":"IF(Z159=\"\",\"\",Z159)","v":""},null,{"$f":"IF(AB159=\"\",\"\",AB159)","v":""},null,{"$f":"IF(AD159=\"\",\"\",AD159)","v":""},null,{"$f":"IF(AF159=\"\",\"\",AF159)","v":""},null,{"$f":"IF(AH159=\"\",\"\",AH159)","v":""},null,{"$f":"IF(AJ159=\"\",\"\",AJ159)","v":""},null,{"$f":"IF(AL159=\"\",\"\",AL159)","v":""},null,null,{"$f":"IF(AO159=\"\",\"\",AO159)","v":""},null,null,{"$f":"IF(AR159=\"\",\"\",AR159)","v":""},null,null,null,null,{"$f":"IF(AW159=\"\",\"\",AW159)","v":""}]
[]
[]
[]
[null,null,null,null,null,null,null,null,null,null,null,null,null,null,null,null,null,{"$f":"IF(R163=\"\",\"\",R163)","v":""},null,{"$f":"IF(T163=\"\",\"\",T163)","v":""},null,{"$f":"IF(V163=\"\",\"\",V163)","v":""},null,{"$f":"IF(X163=\"\",\"\",X163)","v":""},null,{"$f":"IF(Z163=\"\",\"\",Z163)","v":""},null,{"$f":"IF(AB163=\"\",\"\",AB163)","v":""},null,{"$f":"IF(AD163=\"\",\"\",AD163)","v":""},null,{"$f":"IF(AF163=\"\",\"\",AF163)","v":""},null,{"$f":"IF(AH163=\"\",\"\",AH163)","v":""},null,{"$f":"IF(AJ163=\"\",\"\",AJ163)","v":""},null,{"$f":"IF(AL163=\"\",\"\",AL163)","v":""},null,null,{"$f":"IF(AO163=\"\",\"\",AO163)","v":""},null,null,{"$f":"IF(AR163=\"\",\"\",AR163)","v":""},null,null,null,null,{"$f":"IF(AW163=\"\",\"\",AW163)","v":""}]
[]
[]
[]
[null,null,null,null,null,null,null,null,null,null,null,null,null,null,null,null,null,{"$f":"IF(R167=\"\",\"\",R167)","v":""},null,{"$f":"IF(T167=\"\",\"\",T167)","v":""},null,{"$f":"IF(V167=\"\",\"\",V167)","v":""},null,{"$f":"IF(X167=\"\",\"\",X167)","v":""},null,{"$f":"IF(Z167=\"\",\"\",Z167)","v":""},null,{"$f":"IF(AB167=\"\",\"\",AB167)","v":""},null,{"$f":"IF(AD167=\"\",\"\",AD167)","v":""},null,{"$f":"IF(AF167=\"\",\"\",AF167)","v":""},null,{"$f":"IF(AH167=\"\",\"\",AH167)","v":""},null,{"$f":"IF(AJ167=\"\",\"\",AJ167)","v":""},null,{"$f":"IF(AL167=\"\",\"\",AL167)","v":""},null,null,{"$f":"IF(AO167=\"\",\"\",AO167)","v":""},null,null,{"$f":"IF(AR167=\"\",\"\",AR167)","v":""},null,null,null,null,{"$f":"IF(AW167=\"\",\"\",AW167)","v":""}]
[]
[]
[]
[null,null,null,null,null,null,null,null,null,null,null,null,null,null,null,null,null,{"$f":"IF(R171=\"\",\"\",R171)","v":""},null,{"$f":"IF(T171=\"\",\"\",T171)","v":""},null,{"$f":"IF(V171=\"\",\"\",V171)","v":""},null,{"$f":"IF(X171=\"\",\"\",X171)","v":""},null,{"$f":"IF(Z171=\"\",\"\",Z171)","v":""},null,{"$f":"IF(AB171=\"\",\"\",AB171)","v":""},null,{"$f":"IF(AD171=\"\",\"\",AD171)","v":""},null,{"$f":"IF(AF171=\"\",\"\",AF171)","v":""},null,{"$f":"IF(AH171=\"\",\"\",AH171)","v":""},null,{"$f":"IF(AJ171=\"\",\"\",AJ171)","v":""},null,{"$f":"IF(AL171=\"\",\"\",AL171)","v":""},null,null,{"$f":"IF(AO171=\"\",\"\",AO171)","v":""},null,null,{"$f":"IF(AR171=\"\",\"\",AR171)","v":""},null,null,null,null,{"$f":"IF(AW171=\"\",\"\",AW171)","v":""}]
[]
[]
[]
[null,null,null,null,null,null,null,null,null,null,null,null,null,null,null,null,null,null,null,null,null,null,null,null,null,null,null,null,null,null,null,null,null,null,null,null,null,{"$f":"AL175","v":"金額(税抜)"},null,null,null,null,null,null,null,null,null,null,{"$f":"AW83","v":""}]
[]
[]
[]
[]
[null,null,null,null,null,null,null,null,null,null,null,null,null,null,null,null,null,null,null,null,null,null,null,null,null,null,null,null,null,null,null,null,null,null,null,null,null,{"$f":"AL180","v":"消費税"},null,null,null,null,null,"税率",null,null,"税調",null,{"$f":"AW88","v":""}]
[]
[null,null,null,null,null,null,null,null,null,null,null,null,null,null,null,null,null,null,null,null,null,null,null,null,null,null,null,null,null,null,null,null,null,null,null,null,null,null,null,null,null,null,null,{"$f":"AR90","v":0},null,{"$f":"AT90","v":""}]

{"sheet":"細1-7","index":10,"n_rows":274,"n_cols":53,"rows_kept":274,"cut":false,"hidden":false,"merged":[[179,37,182,42],[179,43,180,45],[179,46,180,47],[181,43,182,44],[181,45,182,45],[181,46,182,47],[271,37,274,42],[271,43,272,45],[273,43,274,44],[273,45,274,45],[273,46,274,47],[271,46,272,47],[187,40,189,44],[187,45,189,48],[179,48,182,54],[198,48,201,54],[214,48,217,54],[222,40,225,42],[222,43,225,47],[254,37,257,39],[246,40,249,42],[246,43,249,47],[246,48,249,54],[254,48,257,54],[3,49,5,51],[3,52,5,54],[8,37,11,40],[8,41,11,54],[1,19,4,32],[2,1,5,11],[2,12,5,13],[8,1,11,5],[8,6,11,11],[8,12,11,15],[8,16,11,35],[3,40,5,44],[3,45,5,48],[14,43,17,47],[14,48,17,54],[14,1,17,5],[14,6,17,15],[14,17,17,20],[14,21,17,36],[18,1,21,5],[18,6,21,15],[18,17,21,18],[14,37,17,39],[14,40,17,42],[18,21,21,36],[18,37,21,39],[18,40,21,42],[18,43,21,47],[26,1,29,5],[26,6,29,15],[26,17,29,18],[26,19,29,20],[18,48,21,54],[22,1,25,5],[22,6,25,15],[22,17,25,18],[22,19,25,20],[22,21,25,36],[26,21,29,36],[26,37,29,39],[26,40,29,42],[26,43,29,47],[22,37,25,39],[22,40,25,42],[22,43,25,47],[18,19,21,20],[34,48,37,54],[26,48,29,54],[30,1,33,3],[30,4,33,5],[30,6,33,15],[30,17,33,18],[30,19,33,20],[22,48,25,54],[38,17,41,18],[38,19,41,20],[38,21,41,36],[38,37,41,39],[30,48,33,54],[34,1,37,5],[34,6,37,15],[34,17,37,18],[34,19,37,20],[34,21,37,36],[38,40,41,42],[38,43,41,47],[38,48,41,54],[30,21,33,36],[30,37,33,39],[30,40,33,42],[30,43,33,47],[34,37,37,39],[34,40,37,42],[34,43,37,47],[46,40,49,42],[46,43,49,47],[46,21,49,36],[46,37,49,39],[54,40,57,42],[54,43,57,47],[42,17,45,18],[42,19,45,20],[42,21,45,36],[42,37,45,39],[42,40,45,42],[42,43,45,47],[42,48,45,54],[46,48,49,54],[50,17,53,18],[50,19,53,20],[50,21,53,36],[50,37,53,39],[50,40,53,42],[50,43,53,47],[50,48,53,54],[46,17,49,18],[46,19,49,20],[58,17,61,18],[58,19,61,20],[58,21,61,36],[58,37,61,39],[58,40,61,42],[58,43,61,47],[58,48,61,54],[54,17,57,18],[54,19,57,20],[54,21,57,36],[54,37,57,39],[54,48,57,54],[62,40,65,42],[62,43,65,47],[62,21,65,36],[62,37,65,39],[70,40,73,42],[70,43,73,47],[70,48,73,54],[62,48,65,54],[66,17,69,18],[66,19,69,20],[66,21,69,36],[66,37,69,39],[66,40,69,42],[66,43,69,47],[66,48,69,54],[62,17,65,18],[62,19,65,20],[74,17,77,18],[74,19,77,20],[74,21,77,36],[74,37,77,39],[74,40,77,42],[74,43,77,47],[74,48,77,54],[70,17,73,18],[70,19,73,20],[70,21,73,36],[70,37,73,39],[78,48,81,54],[82,37,85,47],[82,48,85,54],[78,37,81,39],[78,40,81,42],[85,11,90,16],[85,17,90,25],[78,43,81,47],[83,26,84,30],[83,31,84,35],[78,17,81,18],[78,19,81,20],[78,21,81,36],[85,26,90,30],[85,31,90,35],[83,1,84,4],[83,5,84,10],[83,11,84,16],[83,17,84,25],[85,1,90,4],[85,5,90,10],[87,48,90,54],[95,49,97,51],[95,52,97,54],[95,40,97,44],[95,45,97,48],[87,37,90,42],[87,43,88,45],[89,43,90,44],[89,45,90,45],[89,46,90,47],[87,46,88,47],[100,1,103,5],[100,6,103,11],[100,12,103,15],[100,16,103,35],[100,37,103,40],[100,41,103,54],[93,19,96,32],[94,1,97,11],[94,12,97,13],[106,37,109,39],[106,40,109,42],[106,43,109,47],[106,48,109,54],[106,1,109,5],[106,6,109,15],[106,17,109,20],[106,21,109,36],[110,21,113,36],[110,37,113,39],[110,40,113,42],[110,43,113,47],[110,1,113,5],[110,6,113,15],[110,17,113,18],[110,19,113,20],[110,48,113,54],[114,1,117,5],[114,6,117,15],[114,17,117,18],[114,19,117,20],[114,21,117,36],[114,37,117,39],[114,40,117,42],[114,43,117,47],[114,48,117,54],[118,21,121,36],[118,37,121,39],[118,40,121,42],[118,43,121,47],[118,1,121,5],[118,6,121,15],[118,17,121,18],[118,19,121,20],[118,48,121,54],[122,48,125,54],[126,1,129,5],[126,6,129,15],[126,17,129,18],[126,19,129,20],[126,21,129,36],[126,37,129,39],[126,40,129,42],[126,43,129,47],[126,48,129,54],[122,1,125,3],[122,4,125,5],[122,6,125,15],[122,17,125,18],[122,19,125,20],[122,21,125,36],[122,37,125,39],[122,40,125,42],[122,43,125,47],[130,40,133,42],[130,43,133,47],[130,21,133,36],[130,37,133,39],[138,40,141,42],[138,43,141,47],[138,48,141,54],[130,48,133,54],[134,17,137,18],[134,19,137,20],[134,21,137,36],[134,37,137,39],[134,40,137,42],[134,43,137,47],[134,48,137,54],[130,17,133,18],[130,19,133,20],[142,17,145,18],[142,19,145,20],[142,21,145,36],[142,37,145,39],[142,40,145,42],[142,43,145,47],[142,48,145,54],[138,17,141,18],[138,19,141,20],[138,21,141,36],[138,37,141,39],[154,48,157,54],[146,48,149,54],[150,17,153,18],[150,19,153,20],[150,21,153,36],[150,37,153,39],[150,40,153,42],[150,43,153,47],[150,48,153,54],[146,17,149,18],[146,19,149,20],[154,17,157,18],[154,19,157,20],[154,21,157,36],[154,37,157,39],[146,40,149,42],[146,43,149,47],[146,21,149,36],[146,37,149,39],[154,40,157,42],[154,43,157,47],[174,48,177,54],[170,17,173,18],[170,19,173,20],[158,17,161,18],[158,19,161,20],[158,21,161,36],[158,37,161,39],[158,40,161,42],[158,43,161,47],[158,48,161,54],[170,21,173,36],[170,37,173,39],[170,43,173,47],[185,19,188,32],[186,1,189,11],[186,12,189,13],[192,37,195,40],[192,41,195,54],[162,40,165,42],[162,43,165,47],[162,21,165,36],[162,37,165,39],[162,48,165,54],[166,17,169,18],[166,19,169,20],[166,21,169,36],[166,37,169,39],[166,40,169,42],[166,43,169,47],[166,48,169,54],[162,17,165,18],[162,19,165,20],[187,49,189,51],[187,52,189,54],[170,40,173,42],[170,48,173,54],[174,37,177,47],[202,21,205,36],[202,37,205,39],[202,40,205,42],[202,43,205,47],[202,1,205,5],[202,6,205,15],[202,17,205,18],[202,19,205,20],[202,48,205,54],[198,1,201,5],[198,6,201,15],[198,17,201,20],[198,21,201,36],[198,37,201,39],[198,40,201,42],[198,43,201,47],[192,1,195,5],[192,6,195,11],[192,12,195,15],[192,16,195,35],[206,1,209,5],[206,6,209,15],[206,17,209,18],[206,19,209,20],[206,21,209,36],[206,37,209,39],[206,40,209,42],[206,43,209,47],[206,48,209,54],[210,21,213,36],[210,37,213,39],[210,40,213,42],[210,43,213,47],[210,1,213,5],[210,6,213,15],[210,17,213,18],[210,19,213,20],[210,48,213,54],[218,1,221,5],[218,6,221,15],[218,17,221,18],[218,19,221,20],[218,21,221,36],[218,37,221,39],[218,40,221,42],[218,43,221,47],[218,48,221,54],[214,1,217,3],[214,4,217,5],[214,6,217,15],[214,17,217,18],[214,19,217,20],[214,21,217,36],[214,37,217,39],[214,40,217,42],[214,43,217,47],[222,21,225,36],[222,37,225,39],[230,40,233,42],[230,43,233,47],[230,48,233,54],[222,48,225,54],[226,17,229,18],[226,19,229,20],[226,21,229,36],[226,37,229,39],[226,40,229,42],[226,43,229,47],[226,48,229,54],[222,17,225,18],[222,19,225,20],[234,17,237,18],[234,19,237,20],[234,21,237,36],[234,37,237,39],[234,40,237,42],[234,43,237,47],[234,48,237,54],[230,17,233,18],[230,19,233,20],[230,21,233,36],[230,37,233,39],[242,17,245,18],[242,19,245,20],[242,21,245,36],[242,37,245,39],[242,40,245,42],[242,43,245,47],[242,48,245,54],[238,17,241,18],[238,19,241,20],[238,40,241,42],[238,43,241,47],[238,21,241,36],[238,37,241,39],[238,48,241,54],[250,17,253,18],[250,19,253,20],[250,21,253,36],[250,37,253,39],[250,40,253,42],[250,43,253,47],[250,48,253,54],[246,17,249,18],[246,19,249,20],[246,21,249,36],[246,37,249,39],[258,17,261,18],[258,19,261,20],[258,21,261,36],[258,37,261,39],[258,40,261,42],[258,43,261,47],[258,48,261,54],[254,17,257,18],[254,19,257,20],[254,40,257,42],[254,43,257,47],[254,21,257,36],[271,48,274,54],[262,40,265,42],[262,43,265,47],[262,48,265,54],[266,37,269,47],[266,48,269,54],[262,17,265,18],[262,19,265,20],[262,21,265,36],[262,37,265,39]]}
[]
[null,null,null,null,null,null,null,null,null,null,null,null,null,null,null,null,null,null,null,"請求書明細書 (正)"]
[null,"株 式 会 社 種 村 建 設",null,null,null,null,null,null,null,null,null,null,"御中"]
[null,null,null,null,null,null,null,null,null,null,null,null,null,null,null,null,null,null,null,null,null,null,null,null,null,null,null,null,null,null,null,null,null,null,null,null,null,null,null,null,"請求年月日",null,null,null,null,{"$f":"IF(年=\"\",\"\",年)","v":""},null,null,null,{"$f":"IF(月=\"\",\"\",月)","v":""},null,null,{"$f":"IF(日=\"\",\"\",日)","v":""}]
[]
[]
[]
[]
[null,"工事番号",null,null,null,null,null,null,null,null,null,null,"工事名",null,null,null,null,null,null,null,null,null,null,null,null,null,null,null,null,null,null,null,null,null,null,null,null,"業者名",null,null,null,{"$f":"IF(社名=\"\",\"\",社名)","v":""}]
[]
[]
[]
[]
[]
[null,"注文番号",null,null,null,null,null,null,null,null,null,null,null,null,null,null,null,"月　日",null,null,null,"品　名・内　訳",null,null,null,null,null,null,null,null,null,null,null,null,null,null,null,"数 量",null,null,"単位",null,null,"単価",null,null,null,null,{"$f":"表紙①!P35","v":"金額(税抜)"}]
[]
[]
[]
[null,"契約金額",null,null,null,null,null,null,null,null,null,null,null,null,null,null,null,null,null,null,null,null,null,null,null,null,null,null,null,null,null,null,null,null,null,null,null,null,null,null,null,null,null,null,null,null,null,null,{"$f":"IF(V19=\"\",\"\",ROUND(AL19*AR19,0))","v":""}]
[]
[]
[]
[null,"増減額",null,null,null,null,null,null,null,null,null,null,null,null,null,null,null,null,null,null,null,null,null,null,null,null,null,null,null,null,null,null,null,null,null,null,null,null,null,null,null,null,null,null,null,null,null,null,{"$f":"IF(V23=\"\",\"\",ROUND(AL23*AR23,0))","v":""}]
[]
[]
[]
[null,"前回までの\n請求額",null,null,null,null,null,null,null,null,null,null,null,null,null,null,null,null,null,null,null,null,null,null,null,null,null,null,null,null,null,null,null,null,null,null,null,null,null,null,null,null,null,null,null,null,null,null,{"$f":"IF(V27=\"\",\"\",ROUND(AL27*AR27,0))","v":""}]
[]
[]
[]
[null,"今回\n請求額",null,null,null,null,null,null,null,null,null,null,null,null,null,null,null,null,null,null,null,null,null,null,null,null,null,null,null,null,null,null,null,null,null,null,null,null,null,null,null,null,null,null,null,null,null,null,{"$f":"IF(V31=\"\",\"\",ROUND(AL31*AR31,0))","v":""}]
[]
[]
[]
[null,"差引残高",null,null,null,null,{"$f":"IF(G19=\"\",\"\",G19+G23-G27-G31)","v":""},null,null,null,null,null,null,null,null,null,null,null,null,null,null,null,null,null,null,null,null,null,null,null,null,null,null,null,null,null,null,null,null,null,null,null,null,null,null,null,null,null,{"$f":"IF(V35=\"\",\"\",ROUND(AL35*AR35,0))","v":""}]
[]
[]
[]
[null,null,null,null,null,null,null,null,null,null,null,null,null,null,null,null,null,null,null,null,null,null,null,null,null,null,null,null,null,null,null,null,null,null,null,null,null,null,null,null,null,null,null,null,null,null,null,null,{"$f":"IF(V39=\"\",\"\",ROUND(AL39*AR39,0))","v":""}]
[]
[]
[]
[null,null,null,null,null,null,null,null,null,null,null,null,null,null,null,null,null,null,null,null,null,null,null,null,null,null,null,null,null,null,null,null,null,null,null,null,null,null,null,null,null,null,null,null,null,null,null,null,{"$f":"IF(V43=\"\",\"\",ROUND(AL43*AR43,0))","v":""}]
[]
[]
[]
[null,null,null,null,null,null,null,null,null,null,null,null,null,null,null,null,null,null,null,null,null,null,null,null,null,null,null,null,null,null,null,null,null,null,null,null,null,null,null,null,null,null,null,null,null,null,null,null,{"$f":"IF(V47=\"\",\"\",ROUND(AL47*AR47,0))","v":""}]
[]
[]
[]
[null,null,null,null,null,null,null,null,null,null,null,null,null,null,null,null,null,null,null,null,null,null,null,null,null,null,null,null,null,null,null,null,null,null,null,null,null,null,null,null,null,null,null,null,null,null,null,null,{"$f":"IF(V51=\"\",\"\",ROUND(AL51*AR51,0))","v":""}]
[]
[]
[]
[null,null,null,null,null,null,null,null,null,null,null,null,null,null,null,null,null,null,null,null,null,null,null,null,null,null,null,null,null,null,null,null,null,null,null,null,null,null,null,null,null,null,null,null,null,null,null,null,{"$f":"IF(V55=\"\",\"\",ROUND(AL55*AR55,0))","v":""}]
[]
[]
[]
[null,null,null,null,null,null,null,null,null,null,null,null,null,null,null,null,null,null,null,null,null,null,null,null,null,null,null,null,null,null,null,null,null,null,null,null,null,null,null,null,null,null,null,null,null,null,null,null,{"$f":"IF(V59=\"\",\"\",ROUND(AL59*AR59,0))","v":""}]
[]
[]
[]
[null,null,null,null,null,null,null,null,null,null,null,null,null,null,null,null,null,null,null,null,null,null,null,null,null,null,null,null,null,null,null,null,null,null,null,null,null,null,null,null,null,null,null,null,null,null,null,null,{"$f":"IF(V63=\"\",\"\",ROUND(AL63*AR63,0))","v":""}]
[]
[]
[]
[null,null,null,null,null,null,null,null,null,null,null,null,null,null,null,null,null,null,null,null,null,null,null,null,null,null,null,null,null,null,null,null,null,null,null,null,null,null,null,null,null,null,null,null,null,null,null,null,{"$f":"IF(V67=\"\",\"\",ROUND(AL67*AR67,0))","v":""}]
[]
[]
[]
[null,null,null,null,null,null,null,null,null,null,null,null,null,null,null,null,null,null,null,null,null,null,null,null,null,null,null,null,null,null,null,null,null,null,null,null,null,null,null,null,null,null,null,null,null,null,null,null,{"$f":"IF(V71=\"\",\"\",ROUND(AL71*AR71,0))","v":""}]
[]
[]
[]
[null,null,null,null,null,null,null,null,null,null,null,null,null,null,null,null,null,null,null,null,null,null,null,null,null,null,null,null,null,null,null,null,null,null,null,null,null,null,null,null,null,null,null,null,null,null,null,null,{"$f":"IF(V75=\"\",\"\",ROUND(AL75*AR75,0))","v":""}]
[]
[]
[]
[null,null,null,null,null,null,null,null,null,null,null,null,null,null,null,null,null,null,null,null,null,null,null,null,null,null,null,null,null,null,null,null,null,null,null,null,null,null,null,null,null,null,null,null,null,null,null,null,{"$f":"IF(V79=\"\",\"\",ROUND(AL79*AR79,0))","v":""}]
[]
[]
[]
[null,null,null,null,null,null,null,null,null,null,null,null,null,null,null,null,null,null,null,null,null,null,null,null,null,null,null,null,null,null,null,null,null,null,null,null,null,"金額(税抜)",null,null,null,null,null,null,null,null,null,null,{"$f":"IF(AW19=\"\",\"\",SUM(AW19:AW79))","v":""}]
[null,"社長",null,null,null,"専務",null,null,null,null,null,"常務",null,null,null,null,null,"部長･工場長",null,null,null,null,null,null,null,null,"担当者",null,null,null,null,"受付"]
[]
[]
[]
[null,null,null,null,null,null,null,null,null,null,null,null,null,null,null,null,null,null,null,null,null,null,null,null,null,null,null,null,null,null,null,null,null,null,null,null,null,"消費税",null,null,null,null,null,"税率",null,null,"税調",null,{"$f":"IF(AW83=\"\",\"\",IF(AR90=\"\",\"\",IF(AR90=8.1,ROUND(AW83*8/100,0)+AU90,ROUND(AW83*AR90/100,0)+AU90)))","v":""}]
[]
[null,null,null,null,null,null,null,null,null,null,null,null,null,null,null,null,null,null,null,null,null,null,null,null,null,null,null,null,null,null,null,null,null,null,null,null,null,null,null,null,null,null,null,null,null,{"$f":"IF(AR90=\"\",\"\",IF(AR90=8.1,\"旧\",IF(AR90=8,\"軽\",IF(AR90=0,\"非\",\"\"))))","v":""}]
[]
[]
[]
[null,null,null,null,null,null,null,null,null,null,null,null,null,null,null,null,null,null,null,"請求明細書 (現場控)"]
[null,"株 式 会 社 種 村 建 設",null,null,null,null,null,null,null,null,null,null,"御中"]
[null,null,null,null,null,null,null,null,null,null,null,null,null,null,null,null,null,null,null,null,null,null,null,null,null,null,null,null,null,null,null,null,null,null,null,null,null,null,null,null,"請求年月日",null,null,null,null,{"$f":"IF(AT4=\"\",\"\",AT4)","v":""},null,null,null,{"$f":"IF(AX4=\"\",\"\",AX4)","v":""},null,null,{"$f":"IF(BA4=\"\",\"\",BA4)","v":""}]
[]
[]
[]
[]
[null,"工事番号",null,null,null,null,{"$f":"IF(G9=\"\",\"\",G9)","v":""},null,null,null,null,null,"工事名",null,null,null,{"$f":"IF(Q9=\"\",\"\",Q9)","v":""},null,null,null,null,null,null,null,null,null,null,null,null,null,null,null,null,null,null,null,null,"業者名",null,null,null,{"$f":"IF(AP9=\"\",\"\",AP9)","v":""}]
[]
[]
[]
[]
[]
[null,"注文番号",null,null,null,null,{"$f":"IF(G15=\"\",\"\",G15)","v":""},null,null,null,null,null,null,null,null,null,null,"月　日",null,null,null,"品　名・内　訳",null,null,null,null,null,null,null,null,null,null,null,null,null,null,null,"数 量",null,null,"単位",null,null,"単価",null,null,null,null,{"$f":"表紙①!P127","v":"金額(税抜)"}]
[]
[]
[]
[null,"契約金額",null,null,null,null,{"$f":"IF(G19=\"\",\"\",G19)","v":""},null,null,null,null,null,null,null,null,null,null,{"$f":"IF(R19=\"\",\"\",R19)","v":""},null,{"$f":"IF(T19=\"\",\"\",T19)","v":""},null,{"$f":"IF(V19=\"\",\"\",V19)","v":""},null,{"$f":"IF(X19=\"\",\"\",X19)","v":""},null,{"$f":"IF(Z19=\"\",\"\",Z19)","v":""},null,{"$f":"IF(AB19=\"\",\"\",AB19)","v":""},null,{"$f":"IF(AD19=\"\",\"\",AD19)","v":""},null,{"$f":"IF(AF19=\"\",\"\",AF19)","v":""},null,{"$f":"IF(AH19=\"\",\"\",AH19)","v":""},null,{"$f":"IF(AJ19=\"\",\"\",AJ19)","v":""},null,{"$f":"IF(AL19=\"\",\"\",AL19)","v":""},null,null,{"$f":"IF(AO19=\"\",\"\",AO19)","v":""},null,null,{"$f":"IF(AR19=\"\",\"\",AR19)","v":""},null,null,null,null,{"$f":"IF(AW19=\"\",\"\",AW19)","v":""}]
[]
[]
[]
[null,"増減額",null,null,null,null,{"$f":"IF(G23=\"\",\"\",G23)","v":""},null,null,null,null,null,null,null,null,null,null,{"$f":"IF(R23=\"\",\"\",R23)","v":""},null,{"$f":"IF(T23=\"\",\"\",T23)","v":""},null,{"$f":"IF(V23=\"\",\"\",V23)","v":""},null,{"$f":"IF(X23=\"\",\"\",X23)","v":""},null,{"$f":"IF(Z23=\"\",\"\",Z23)","v":""},null,{"$f":"IF(AB23=\"\",\"\",AB23)","v":""},null,{"$f":"IF(AD23=\"\",\"\",AD23)","v":""},null,{"$f":"IF(AF23=\"\",\"\",AF23)","v":""},null,{"$f":"IF(AH23=\"\",\"\",AH23)","v":""},null,{"$f":"IF(AJ23=\"\",\"\",AJ23)","v":""},null,{"$f":"IF(AL23=\"\",\"\",AL23)","v":""},null,null,{"$f":"IF(AO23=\"\",\"\",AO23)","v":""},null,null,{"$f":"IF(AR23=\"\",\"\",AR23)","v":""},null,null,null,null,{"$f":"IF(AW23=\"\",\"\",AW23)","v":""}]
[]
[]
[]
[null,"前回までの\n請求額",null,null,null,null,{"$f":"IF(G27=\"\",\"\",G27)","v":""},null,null,null,null,null,null,null,null,null,null,{"$f":"IF(R27=\"\",\"\",R27)","v":""},null,{"$f":"IF(T27=\"\",\"\",T27)","v":""},null,{"$f":"IF(V27=\"\",\"\",V27)","v":""},null,{"$f":"IF(X27=\"\",\"\",X27)","v":""},null,{"$f":"IF(Z27=\"\",\"\",Z27)","v":""},null,{"$f":"IF(AB27=\"\",\"\",AB27)","v":""},null,{"$f":"IF(AD27=\"\",\"\",AD27)","v":""},null,{"$f":"IF(AF27=\"\",\"\",AF27)","v":""},null,{"$f":"IF(AH27=\"\",\"\",AH27)","v":""},null,{"$f":"IF(AJ27=\"\",\"\",AJ27)","v":""},null,{"$f":"IF(AL27=\"\",\"\",AL27)","v":""},null,null,{"$f":"IF(AO27=\"\",\"\",AO27)","v":""},null,null,{"$f":"IF(AR27=\"\",\"\",AR27)","v":""},null,null,null,null,{"$f":"IF(AW27=\"\",\"\",AW27)","v":""}]
[]
[]
[]
[null,"今回\n請求額",null,null,{"$f":"IF(E31=\"\",\"\",E31)","v":""},null,{"$f":"IF(G31=\"\",\"\",G31)","v":""},null,null,null,null,null,null,null,null,null,null,{"$f":"IF(R31=\"\",\"\",R31)","v":""},null,{"$f":"IF(T31=\"\",\"\",T31)","v":""},null,{"$f":"IF(V31=\"\",\"\",V31)","v":""},null,{"$f":"IF(X31=\"\",\"\",X31)","v":""},null,{"$f":"IF(Z31=\"\",\"\",Z31)","v":""},null,{"$f":"IF(AB31=\"\",\"\",AB31)","v":""},null,{"$f":"IF(AD31=\"\",\"\",AD31)","v":""},null,{"$f":"IF(AF31=\"\",\"\",AF31)","v":""},null,{"$f":"IF(AH31=\"\",\"\",AH31)","v":""},null,{"$f":"IF(AJ31=\"\",\"\",AJ31)","v":""},null,{"$f":"IF(AL31=\"\",\"\",AL31)","v":""},null,null,{"$f":"IF(AO31=\"\",\"\",AO31)","v":""},null,null,{"$f":"IF(AR31=\"\",\"\",AR31)","v":""},null,null,null,null,{"$f":"IF(AW31=\"\",\"\",AW31)","v":""}]
[]
[]
[]
[null,"差引残高",null,null,null,null,{"$f":"IF(G111=\"\",\"\",G111+G115-G119-G123)","v":""},null,null,null,null,null,null,null,null,null,null,{"$f":"IF(R35=\"\",\"\",R35)","v":""},null,{"$f":"IF(T35=\"\",\"\",T35)","v":""},null,{"$f":"IF(V35=\"\",\"\",V35)","v":""},null,{"$f":"IF(X35=\"\",\"\",X35)","v":""},null,{"$f":"IF(Z35=\"\",\"\",Z35)","v":""},null,{"$f":"IF(AB35=\"\",\"\",AB35)","v":""},null,{"$f":"IF(AD35=\"\",\"\",AD35)","v":""},null,{"$f":"IF(AF35=\"\",\"\",AF35)","v":""},null,{"$f":"IF(AH35=\"\",\"\",AH35)","v":""},null,{"$f":"IF(AJ35=\"\",\"\",AJ35)","v":""},null,{"$f":"IF(AL35=\"\",\"\",AL35)","v":""},null,null,{"$f":"IF(AO35=\"\",\"\",AO35)","v":""},null,null,{"$f":"IF(AR35=\"\",\"\",AR35)","v":""},null,null,null,null,{"$f":"IF(AW35=\"\",\"\",AW35)","v":""}]
[]
[]
[]
[null,null,null,null,null,null,null,null,null,null,null,null,null,null,null,null,null,{"$f":"IF(R39=\"\",\"\",R39)","v":""},null,{"$f":"IF(T39=\"\",\"\",T39)","v":""},null,{"$f":"IF(V39=\"\",\"\",V39)","v":""},null,{"$f":"IF(X39=\"\",\"\",X39)","v":""},null,{"$f":"IF(Z39=\"\",\"\",Z39)","v":""},null,{"$f":"IF(AB39=\"\",\"\",AB39)","v":""},null,{"$f":"IF(AD39=\"\",\"\",AD39)","v":""},null,{"$f":"IF(AF39=\"\",\"\",AF39)","v":""},null,{"$f":"IF(AH39=\"\",\"\",AH39)","v":""},null,{"$f":"IF(AJ39=\"\",\"\",AJ39)","v":""},null,{"$f":"IF(AL39=\"\",\"\",AL39)","v":""},null,null,{"$f":"IF(AO39=\"\",\"\",AO39)","v":""},null,null,{"$f":"IF(AR39=\"\",\"\",AR39)","v":""},null,null,null,null,{"$f":"IF(AW39=\"\",\"\",AW39)","v":""}]
[]
[]
[]
[null,null,null,null,null,null,null,null,null,null,null,null,null,null,null,null,null,{"$f":"IF(R43=\"\",\"\",R43)","v":""},null,{"$f":"IF(T43=\"\",\"\",T43)","v":""},null,{"$f":"IF(V43=\"\",\"\",V43)","v":""},null,{"$f":"IF(X43=\"\",\"\",X43)","v":""},null,{"$f":"IF(Z43=\"\",\"\",Z43)","v":""},null,{"$f":"IF(AB43=\"\",\"\",AB43)","v":""},null,{"$f":"IF(AD43=\"\",\"\",AD43)","v":""},null,{"$f":"IF(AF43=\"\",\"\",AF43)","v":""},null,{"$f":"IF(AH43=\"\",\"\",AH43)","v":""},null,{"$f":"IF(AJ43=\"\",\"\",AJ43)","v":""},null,{"$f":"IF(AL43=\"\",\"\",AL43)","v":""},null,null,{"$f":"IF(AO43=\"\",\"\",AO43)","v":""},null,null,{"$f":"IF(AR43=\"\",\"\",AR43)","v":""},null,null,null,null,{"$f":"IF(AW43=\"\",\"\",AW43)","v":""}]
[]
[]
[]
[null,null,null,null,null,null,null,null,null,null,null,null,null,null,null,null,null,{"$f":"IF(R47=\"\",\"\",R47)","v":""},null,{"$f":"IF(T47=\"\",\"\",T47)","v":""},null,{"$f":"IF(V47=\"\",\"\",V47)","v":""},null,{"$f":"IF(X47=\"\",\"\",X47)","v":""},null,{"$f":"IF(Z47=\"\",\"\",Z47)","v":""},null,{"$f":"IF(AB47=\"\",\"\",AB47)","v":""},null,{"$f":"IF(AD47=\"\",\"\",AD47)","v":""},null,{"$f":"IF(AF47=\"\",\"\",AF47)","v":""},null,{"$f":"IF(AH47=\"\",\"\",AH47)","v":""},null,{"$f":"IF(AJ47=\"\",\"\",AJ47)","v":""},null,{"$f":"IF(AL47=\"\",\"\",AL47)","v":""},null,null,{"$f":"IF(AO47=\"\",\"\",AO47)","v":""},null,null,{"$f":"IF(AR47=\"\",\"\",AR47)","v":""},null,null,null,null,{"$f":"IF(AW47=\"\",\"\",AW47)","v":""}]
[]
[]
[]
[null,null,null,null,null,null,null,null,null,null,null,null,null,null,null,null,null,{"$f":"IF(R51=\"\",\"\",R51)","v":""},null,{"$f":"IF(T51=\"\",\"\",T51)","v":""},null,{"$f":"IF(V51=\"\",\"\",V51)","v":""},null,{"$f":"IF(X51=\"\",\"\",X51)","v":""},null,{"$f":"IF(Z51=\"\",\"\",Z51)","v":""},null,{"$f":"IF(AB51=\"\",\"\",AB51)","v":""},null,{"$f":"IF(AD51=\"\",\"\",AD51)","v":""},null,{"$f":"IF(AF51=\"\",\"\",AF51)","v":""},null,{"$f":"IF(AH51=\"\",\"\",AH51)","v":""},null,{"$f":"IF(AJ51=\"\",\"\",AJ51)","v":""},null,{"$f":"IF(AL51=\"\",\"\",AL51)","v":""},null,null,{"$f":"IF(AO51=\"\",\"\",AO51)","v":""},null,null,{"$f":"IF(AR51=\"\",\"\",AR51)","v":""},null,null,null,null,{"$f":"IF(AW51=\"\",\"\",AW51)","v":""}]
[]
[]
[]
[null,null,null,null,null,null,null,null,null,null,null,null,null,null,null,null,null,{"$f":"IF(R55=\"\",\"\",R55)","v":""},null,{"$f":"IF(T55=\"\",\"\",T55)","v":""},null,{"$f":"IF(V55=\"\",\"\",V55)","v":""},null,{"$f":"IF(X55=\"\",\"\",X55)","v":""},null,{"$f":"IF(Z55=\"\",\"\",Z55)","v":""},null,{"$f":"IF(AB55=\"\",\"\",AB55)","v":""},null,{"$f":"IF(AD55=\"\",\"\",AD55)","v":""},null,{"$f":"IF(AF55=\"\",\"\",AF55)","v":""},null,{"$f":"IF(AH55=\"\",\"\",AH55)","v":""},null,{"$f":"IF(AJ55=\"\",\"\",AJ55)","v":""},null,{"$f":"IF(AL55=\"\",\"\",AL55)","v":""},null,null,{"$f":"IF(AO55=\"\",\"\",AO55)","v":""},null,null,{"$f":"IF(AR55=\"\",\"\",AR55)","v":""},null,null,null,null,{"$f":"IF(AW55=\"\",\"\",AW55)","v":""}]
[]
[]
[]
[null,null,null,null,null,null,null,null,null,null,null,null,null,null,null,null,null,{"$f":"IF(R59=\"\",\"\",R59)","v":""},null,{"$f":"IF(T59=\"\",\"\",T59)","v":""},null,{"$f":"IF(V59=\"\",\"\",V59)","v":""},null,{"$f":"IF(X59=\"\",\"\",X59)","v":""},null,{"$f":"IF(Z59=\"\",\"\",Z59)","v":""},null,{"$f":"IF(AB59=\"\",\"\",AB59)","v":""},null,{"$f":"IF(AD59=\"\",\"\",AD59)","v":""},null,{"$f":"IF(AF59=\"\",\"\",AF59)","v":""},null,{"$f":"IF(AH59=\"\",\"\",AH59)","v":""},null,{"$f":"IF(AJ59=\"\",\"\",AJ59)","v":""},null,{"$f":"IF(AL59=\"\",\"\",AL59)","v":""},null,null,{"$f":"IF(AO59=\"\",\"\",AO59)","v":""},null,null,{"$f":"IF(AR59=\"\",\"\",AR59)","v":""},null,null,null,null,{"$f":"IF(AW59=\"\",\"\",AW59)","v":""}]
[]
[]
[]
[null,null,null,null,null,null,null,null,null,null,null,null,null,null,null,null,null,{"$f":"IF(R63=\"\",\"\",R63)","v":""},null,{"$f":"IF(T63=\"\",\"\",T63)","v":""},null,{"$f":"IF(V63=\"\",\"\",V63)","v":""},null,{"$f":"IF(X63=\"\",\"\",X63)","v":""},null,{"$f":"IF(Z63=\"\",\"\",Z63)","v":""},null,{"$f":"IF(AB63=\"\",\"\",AB63)","v":""},null,{"$f":"IF(AD63=\"\",\"\",AD63)","v":""},null,{"$f":"IF(AF63=\"\",\"\",AF63)","v":""},null,{"$f":"IF(AH63=\"\",\"\",AH63)","v":""},null,{"$f":"IF(AJ63=\"\",\"\",AJ63)","v":""},null,{"$f":"IF(AL63=\"\",\"\",AL63)","v":""},null,null,{"$f":"IF(AO63=\"\",\"\",AO63)","v":""},null,null,{"$f":"IF(AR63=\"\",\"\",AR63)","v":""},null,null,null,null,{"$f":"IF(AW63=\"\",\"\",AW63)","v":""}]
[]
[]
[]
[null,null,null,null,null,null,null,null,null,null,null,null,null,null,null,null,null,{"$f":"IF(R67=\"\",\"\",R67)","v":""},null,{"$f":"IF(T67=\"\",\"\",T67)","v":""},null,{"$f":"IF(V67=\"\",\"\",V67)","v":""},null,{"$f":"IF(X67=\"\",\"\",X67)","v":""},null,{"$f":"IF(Z67=\"\",\"\",Z67)","v":""},null,{"$f":"IF(AB67=\"\",\"\",AB67)","v":""},null,{"$f":"IF(AD67=\"\",\"\",AD67)","v":""},null,{"$f":"IF(AF67=\"\",\"\",AF67)","v":""},null,{"$f":"IF(AH67=\"\",\"\",AH67)","v":""},null,{"$f":"IF(AJ67=\"\",\"\",AJ67)","v":""},null,{"$f":"IF(AL67=\"\",\"\",AL67)","v":""},null,null,{"$f":"IF(AO67=\"\",\"\",AO67)","v":""},null,null,{"$f":"IF(AR67=\"\",\"\",AR67)","v":""},null,null,null,null,{"$f":"IF(AW67=\"\",\"\",AW67)","v":""}]
[]
[]
[]
[null,null,null,null,null,null,null,null,null,null,null,null,null,null,null,null,null,{"$f":"IF(R71=\"\",\"\",R71)","v":""},null,{"$f":"IF(T71=\"\",\"\",T71)","v":""},null,{"$f":"IF(V71=\"\",\"\",V71)","v":""},null,{"$f":"IF(X71=\"\",\"\",X71)","v":""},null,{"$f":"IF(Z71=\"\",\"\",Z71)","v":""},null,{"$f":"IF(AB71=\"\",\"\",AB71)","v":""},null,{"$f":"IF(AD71=\"\",\"\",AD71)","v":""},null,{"$f":"IF(AF71=\"\",\"\",AF71)","v":""},null,{"$f":"IF(AH71=\"\",\"\",AH71)","v":""},null,{"$f":"IF(AJ71=\"\",\"\",AJ71)","v":""},null,{"$f":"IF(AL71=\"\",\"\",AL71)","v":""},null,null,{"$f":"IF(AO71=\"\",\"\",AO71)","v":""},null,null,{"$f":"IF(AR71=\"\",\"\",AR71)","v":""},null,null,null,null,{"$f":"IF(AW71=\"\",\"\",AW71)","v":""}]
[]
[]
[]
[null,null,null,null,null,null,null,null,null,null,null,null,null,null,null,null,null,{"$f":"IF(R75=\"\",\"\",R75)","v":""},null,{"$f":"IF(T75=\"\",\"\",T75)","v":""},null,{"$f":"IF(V75=\"\",\"\",V75)","v":""},null,{"$f":"IF(X75=\"\",\"\",X75)","v":""},null,{"$f":"IF(Z75=\"\",\"\",Z75)","v":""},null,{"$f":"IF(AB75=\"\",\"\",AB75)","v":""},null,{"$f":"IF(AD75=\"\",\"\",AD75)","v":""},null,{"$f":"IF(AF75=\"\",\"\",AF75)","v":""},null,{"$f":"IF(AH75=\"\",\"\",AH75)","v":""},null,{"$f":"IF(AJ75=\"\",\"\",AJ75)","v":""},null,{"$f":"IF(AL75=\"\",\"\",AL75)","v":""},null,null,{"$f":"IF(AO75=\"\",\"\",AO75)","v":""},null,null,{"$f":"IF(AR75=\"\",\"\",AR75)","v":""},null,null,null,null,{"$f":"IF(AW75=\"\",\"\",AW75)","v":""}]
[]
[]
[]
[null,null,null,null,null,null,null,null,null,null,null,null,null,null,null,null,null,{"$f":"IF(R79=\"\",\"\",R79)","v":""},null,{"$f":"IF(T79=\"\",\"\",T79)","v":""},null,{"$f":"IF(V79=\"\",\"\",V79)","v":""},null,{"$f":"IF(X79=\"\",\"\",X79)","v":""},null,{"$f":"IF(Z79=\"\",\"\",Z79)","v":""},null,{"$f":"IF(AB79=\"\",\"\",AB79)","v":""},null,{"$f":"IF(AD79=\"\",\"\",AD79)","v":""},null,{"$f":"IF(AF79=\"\",\"\",AF79)","v":""},null,{"$f":"IF(AH79=\"\",\"\",AH79)","v":""},null,{"$f":"IF(AJ79=\"\",\"\",AJ79)","v":""},null,{"$f":"IF(AL79=\"\",\"\",AL79)","v":""},null,null,{"$f":"IF(AO79=\"\",\"\",AO79)","v":""},null,null,{"$f":"IF(AR79=\"\",\"\",AR79)","v":""},null,null,null,null,{"$f":"IF(AW79=\"\",\"\",AW79)","v":""}]
[]
[]
[]
[null,null,null,null,null,null,null,null,null,null,null,null,null,null,null,null,null,null,null,null,null,null,null,null,null,null,null,null,null,null,null,null,null,null,null,null,null,{"$f":"AL83","v":"金額(税抜)"},null,null,null,null,null,null,null,null,null,null,{"$f":"AW83","v":""}]
[]
[]
[]
[]
[null,null,null,null,null,null,null,null,null,null,null,null,null,null,null,null,null,null,null,null,null,null,null,null,null,null,null,null,null,null,null,null,null,null,null,null,null,{"$f":"AL88","v":"消費税"},null,null,null,null,null,"税率",null,null,"税調",null,{"$f":"AW88","v":""}]
[]
[null,null,null,null,null,null,null,null,null,null,null,null,null,null,null,null,null,null,null,null,null,null,null,null,null,null,null,null,null,null,null,null,null,null,null,null,null,null,null,null,null,null,null,{"$f":"AR90","v":0},null,{"$f":"AT90","v":""}]
[]
[]
[]
[null,null,null,null,null,null,null,null,null,null,null,null,null,null,null,null,null,null,null,"請求明細書 (貴社控)"]
[null,"株 式 会 社 種 村 建 設",null,null,null,null,null,null,null,null,null,null,"御中"]
[null,null,null,null,null,null,null,null,null,null,null,null,null,null,null,null,null,null,null,null,null,null,null,null,null,null,null,null,null,null,null,null,null,null,null,null,null,null,null,null,"請求年月日",null,null,null,null,{"$f":"IF(AT96=\"\",\"\",AT96)","v":""},null,null,null,{"$f":"IF(AX96=\"\",\"\",AX96)","v":""},null,null,{"$f":"IF(BA96=\"\",\"\",BA96)","v":""}]
[]
[]
[]
[]
[null,"工事番号",null,null,null,null,{"$f":"IF(G101=\"\",\"\",G101)","v":""},null,null,null,null,null,"工事名",null,null,null,{"$f":"IF(Q101=\"\",\"\",Q101)","v":""},null,null,null,null,null,null,null,null,null,null,null,null,null,null,null,null,null,null,null,null,"業者名",null,null,null,{"$f":"IF(AP101=\"\",\"\",AP101)","v":""}]
[]
[]
[]
[]
[]
[null,"注文番号",null,null,null,null,{"$f":"IF(G107=\"\",\"\",G107)","v":""},null,null,null,null,null,null,null,null,null,null,"月　日",null,null,null,"品　名・内　訳",null,null,null,null,null,null,null,null,null,null,null,null,null,null,null,"数 量",null,null,"単位",null,null,"単価",null,null,null,null,{"$f":"表紙①!P219","v":0}]
[]
[]
[]
[null,"契約金額",null,null,null,null,{"$f":"IF(G111=\"\",\"\",G111)","v":""},null,null,null,null,null,null,null,null,null,null,{"$f":"IF(R111=\"\",\"\",R111)","v":""},null,{"$f":"IF(T111=\"\",\"\",T111)","v":""},null,{"$f":"IF(V111=\"\",\"\",V111)","v":""},null,{"$f":"IF(X111=\"\",\"\",X111)","v":""},null,{"$f":"IF(Z111=\"\",\"\",Z111)","v":""},null,{"$f":"IF(AB111=\"\",\"\",AB111)","v":""},null,{"$f":"IF(AD111=\"\",\"\",AD111)","v":""},null,{"$f":"IF(AF111=\"\",\"\",AF111)","v":""},null,{"$f":"IF(AH111=\"\",\"\",AH111)","v":""},null,{"$f":"IF(AJ111=\"\",\"\",AJ111)","v":""},null,{"$f":"IF(AL111=\"\",\"\",AL111)","v":""},null,null,{"$f":"IF(AO111=\"\",\"\",AO111)","v":""},null,null,{"$f":"IF(AR111=\"\",\"\",AR111)","v":""},null,null,null,null,{"$f":"IF(AW111=\"\",\"\",AW111)","v":""}]
[]
[]
[]
[null,"増減額",null,null,null,null,{"$f":"IF(G115=\"\",\"\",G115)","v":""},null,null,null,null,null,null,null,null,null,null,{"$f":"IF(R115=\"\",\"\",R115)","v":""},null,{"$f":"IF(T115=\"\",\"\",T115)","v":""},null,{"$f":"IF(V115=\"\",\"\",V115)","v":""},null,{"$f":"IF(X115=\"\",\"\",X115)","v":""},null,{"$f":"IF(Z115=\"\",\"\",Z115)","v":""},null,{"$f":"IF(AB115=\"\",\"\",AB115)","v":""},null,{"$f":"IF(AD115=\"\",\"\",AD115)","v":""},null,{"$f":"IF(AF115=\"\",\"\",AF115)","v":""},null,{"$f":"IF(AH115=\"\",\"\",AH115)","v":""},null,{"$f":"IF(AJ115=\"\",\"\",AJ115)","v":""},null,{"$f":"IF(AL115=\"\",\"\",AL115)","v":""},null,null,{"$f":"IF(AO115=\"\",\"\",AO115)","v":""},null,null,{"$f":"IF(AR115=\"\",\"\",AR115)","v":""},null,null,null,null,{"$f":"IF(AW115=\"\",\"\",AW115)","v":""}]
[]
[]
[]
[null,"前回までの\n請求額",null,null,null,null,{"$f":"IF(G119=\"\",\"\",G119)","v":""},null,null,null,null,null,null,null,null,null,null,{"$f":"IF(R119=\"\",\"\",R119)","v":""},null,{"$f":"IF(T119=\"\",\"\",T119)","v":""},null,{"$f":"IF(V119=\"\",\"\",V119)","v":""},null,{"$f":"IF(X119=\"\",\"\",X119)","v":""},null,{"$f":"IF(Z119=\"\",\"\",Z119)","v":""},null,{"$f":"IF(AB119=\"\",\"\",AB119)","v":""},null,{"$f":"IF(AD119=\"\",\"\",AD119)","v":""},null,{"$f":"IF(AF119=\"\",\"\",AF119)","v":""},null,{"$f":"IF(AH119=\"\",\"\",AH119)","v":""},null,{"$f":"IF(AJ119=\"\",\"\",AJ119)","v":""},null,{"$f":"IF(AL119=\"\",\"\",AL119)","v":""},null,null,{"$f":"IF(AO119=\"\",\"\",AO119)","v":""},null,null,{"$f":"IF(AR119=\"\",\"\",AR119)","v":""},null,null,null,null,{"$f":"IF(AW119=\"\",\"\",AW119)","v":""}]
[]
[]
[]
[null,"今回\n請求額",null,null,{"$f":"IF(E31=\"\",\"\",E31)","v":""},null,{"$f":"IF(G123=\"\",\"\",G123)","v":""},null,null,null,null,null,null,null,null,null,null,{"$f":"IF(R123=\"\",\"\",R123)","v":""},null,{"$f":"IF(T123=\"\",\"\",T123)","v":""},null,{"$f":"IF(V123=\"\",\"\",V123)","v":""},null,{"$f":"IF(X123=\"\",\"\",X123)","v":""},null,{"$f":"IF(Z123=\"\",\"\",Z123)","v":""},null,{"$f":"IF(AB123=\"\",\"\",AB123)","v":""},null,{"$f":"IF(AD123=\"\",\"\",AD123)","v":""},null,{"$f":"IF(AF123=\"\",\"\",AF123)","v":""},null,{"$f":"IF(AH123=\"\",\"\",AH123)","v":""},null,{"$f":"IF(AJ123=\"\",\"\",AJ123)","v":""},null,{"$f":"IF(AL123=\"\",\"\",AL123)","v":""},null,null,{"$f":"IF(AO123=\"\",\"\",AO123)","v":""},null,null,{"$f":"IF(AR123=\"\",\"\",AR123)","v":""},null,null,null,null,{"$f":"IF(AW123=\"\",\"\",AW123)","v":""}]
[]
[]
[]
[null,"差引残高",null,null,null,null,{"$f":"IF(G203=\"\",\"\",G203+G207-G211-G215)","v":""},null,null,null,null,null,null,null,null,null,null,{"$f":"IF(R127=\"\",\"\",R127)","v":""},null,{"$f":"IF(T127=\"\",\"\",T127)","v":""},null,{"$f":"IF(V127=\"\",\"\",V127)","v":""},null,{"$f":"IF(X127=\"\",\"\",X127)","v":""},null,{"$f":"IF(Z127=\"\",\"\",Z127)","v":""},null,{"$f":"IF(AB127=\"\",\"\",AB127)","v":""},null,{"$f":"IF(AD127=\"\",\"\",AD127)","v":""},null,{"$f":"IF(AF127=\"\",\"\",AF127)","v":""},null,{"$f":"IF(AH127=\"\",\"\",AH127)","v":""},null,{"$f":"IF(AJ127=\"\",\"\",AJ127)","v":""},null,{"$f":"IF(AL127=\"\",\"\",AL127)","v":""},null,null,{"$f":"IF(AO127=\"\",\"\",AO127)","v":""},null,null,{"$f":"IF(AR127=\"\",\"\",AR127)","v":""},null,null,null,null,{"$f":"IF(AW127=\"\",\"\",AW127)","v":""}]
[]
[]
[]
[null,null,null,null,null,null,null,null,null,null,null,null,null,null,null,null,null,{"$f":"IF(R131=\"\",\"\",R131)","v":""},null,{"$f":"IF(T131=\"\",\"\",T131)","v":""},null,{"$f":"IF(V131=\"\",\"\",V131)","v":""},null,{"$f":"IF(X131=\"\",\"\",X131)","v":""},null,{"$f":"IF(Z131=\"\",\"\",Z131)","v":""},null,{"$f":"IF(AB131=\"\",\"\",AB131)","v":""},null,{"$f":"IF(AD131=\"\",\"\",AD131)","v":""},null,{"$f":"IF(AF131=\"\",\"\",AF131)","v":""},null,{"$f":"IF(AH131=\"\",\"\",AH131)","v":""},null,{"$f":"IF(AJ131=\"\",\"\",AJ131)","v":""},null,{"$f":"IF(AL131=\"\",\"\",AL131)","v":""},null,null,{"$f":"IF(AO131=\"\",\"\",AO131)","v":""},null,null,{"$f":"IF(AR131=\"\",\"\",AR131)","v":""},null,null,null,null,{"$f":"IF(AW131=\"\",\"\",AW131)","v":""}]
[]
[]
[]
[null,null,null,null,null,null,null,null,null,null,null,null,null,null,null,null,null,{"$f":"IF(R135=\"\",\"\",R135)","v":""},null,{"$f":"IF(T135=\"\",\"\",T135)","v":""},null,{"$f":"IF(V135=\"\",\"\",V135)","v":""},null,{"$f":"IF(X135=\"\",\"\",X135)","v":""},null,{"$f":"IF(Z135=\"\",\"\",Z135)","v":""},null,{"$f":"IF(AB135=\"\",\"\",AB135)","v":""},null,{"$f":"IF(AD135=\"\",\"\",AD135)","v":""},null,{"$f":"IF(AF135=\"\",\"\",AF135)","v":""},null,{"$f":"IF(AH135=\"\",\"\",AH135)","v":""},null,{"$f":"IF(AJ135=\"\",\"\",AJ135)","v":""},null,{"$f":"IF(AL135=\"\",\"\",AL135)","v":""},null,null,{"$f":"IF(AO135=\"\",\"\",AO135)","v":""},null,null,{"$f":"IF(AR135=\"\",\"\",AR135)","v":""},null,null,null,null,{"$f":"IF(AW135=\"\",\"\",AW135)","v":""}]
[]
[]
[]
[null,null,null,null,null,null,null,null,null,null,null,null,null,null,null,null,null,{"$f":"IF(R139=\"\",\"\",R139)","v":""},null,{"$f":"IF(T139=\"\",\"\",T139)","v":""},null,{"$f":"IF(V139=\"\",\"\",V139)","v":""},null,{"$f":"IF(X139=\"\",\"\",X139)","v":""},null,{"$f":"IF(Z139=\"\",\"\",Z139)","v":""},null,{"$f":"IF(AB139=\"\",\"\",AB139)","v":""},null,{"$f":"IF(AD139=\"\",\"\",AD139)","v":""},null,{"$f":"IF(AF139=\"\",\"\",AF139)","v":""},null,{"$f":"IF(AH139=\"\",\"\",AH139)","v":""},null,{"$f":"IF(AJ139=\"\",\"\",AJ139)","v":""},null,{"$f":"IF(AL139=\"\",\"\",AL139)","v":""},null,null,{"$f":"IF(AO139=\"\",\"\",AO139)","v":""},null,null,{"$f":"IF(AR139=\"\",\"\",AR139)","v":""},null,null,null,null,{"$f":"IF(AW139=\"\",\"\",AW139)","v":""}]
[]
[]
[]
[null,null,null,null,null,null,null,null,null,null,null,null,null,null,null,null,null,{"$f":"IF(R143=\"\",\"\",R143)","v":""},null,{"$f":"IF(T143=\"\",\"\",T143)","v":""},null,{"$f":"IF(V143=\"\",\"\",V143)","v":""},null,{"$f":"IF(X143=\"\",\"\",X143)","v":""},null,{"$f":"IF(Z143=\"\",\"\",Z143)","v":""},null,{"$f":"IF(AB143=\"\",\"\",AB143)","v":""},null,{"$f":"IF(AD143=\"\",\"\",AD143)","v":""},null,{"$f":"IF(AF143=\"\",\"\",AF143)","v":""},null,{"$f":"IF(AH143=\"\",\"\",AH143)","v":""},null,{"$f":"IF(AJ143=\"\",\"\",AJ143)","v":""},null,{"$f":"IF(AL143=\"\",\"\",AL143)","v":""},null,null,{"$f":"IF(AO143=\"\",\"\",AO143)","v":""},null,null,{"$f":"IF(AR143=\"\",\"\",AR143)","v":""},null,null,null,null,{"$f":"IF(AW143=\"\",\"\",AW143)","v":""}]
[]
[]
[]
[null,null,null,null,null,null,null,null,null,null,null,null,null,null,null,null,null,{"$f":"IF(R147=\"\",\"\",R147)","v":""},null,{"$f":"IF(T147=\"\",\"\",T147)","v":""},null,{"$f":"IF(V147=\"\",\"\",V147)","v":""},null,{"$f":"IF(X147=\"\",\"\",X147)","v":""},null,{"$f":"IF(Z147=\"\",\"\",Z147)","v":""},null,{"$f":"IF(AB147=\"\",\"\",AB147)","v":""},null,{"$f":"IF(AD147=\"\",\"\",AD147)","v":""},null,{"$f":"IF(AF147=\"\",\"\",AF147)","v":""},null,{"$f":"IF(AH147=\"\",\"\",AH147)","v":""},null,{"$f":"IF(AJ147=\"\",\"\",AJ147)","v":""},null,{"$f":"IF(AL147=\"\",\"\",AL147)","v":""},null,null,{"$f":"IF(AO147=\"\",\"\",AO147)","v":""},null,null,{"$f":"IF(AR147=\"\",\"\",AR147)","v":""},null,null,null,null,{"$f":"IF(AW147=\"\",\"\",AW147)","v":""}]
[]
[]
[]
[null,null,null,null,null,null,null,null,null,null,null,null,null,null,null,null,null,{"$f":"IF(R151=\"\",\"\",R151)","v":""},null,{"$f":"IF(T151=\"\",\"\",T151)","v":""},null,{"$f":"IF(V151=\"\",\"\",V151)","v":""},null,{"$f":"IF(X151=\"\",\"\",X151)","v":""},null,{"$f":"IF(Z151=\"\",\"\",Z151)","v":""},null,{"$f":"IF(AB151=\"\",\"\",AB151)","v":""},null,{"$f":"IF(AD151=\"\",\"\",AD151)","v":""},null,{"$f":"IF(AF151=\"\",\"\",AF151)","v":""},null,{"$f":"IF(AH151=\"\",\"\",AH151)","v":""},null,{"$f":"IF(AJ151=\"\",\"\",AJ151)","v":""},null,{"$f":"IF(AL151=\"\",\"\",AL151)","v":""},null,null,{"$f":"IF(AO151=\"\",\"\",AO151)","v":""},null,null,{"$f":"IF(AR151=\"\",\"\",AR151)","v":""},null,null,null,null,{"$f":"IF(AW151=\"\",\"\",AW151)","v":""}]
[]
[]
[]
[null,null,null,null,null,null,null,null,null,null,null,null,null,null,null,null,null,{"$f":"IF(R155=\"\",\"\",R155)","v":""},null,{"$f":"IF(T155=\"\",\"\",T155)","v":""},null,{"$f":"IF(V155=\"\",\"\",V155)","v":""},null,{"$f":"IF(X155=\"\",\"\",X155)","v":""},null,{"$f":"IF(Z155=\"\",\"\",Z155)","v":""},null,{"$f":"IF(AB155=\"\",\"\",AB155)","v":""},null,{"$f":"IF(AD155=\"\",\"\",AD155)","v":""},null,{"$f":"IF(AF155=\"\",\"\",AF155)","v":""},null,{"$f":"IF(AH155=\"\",\"\",AH155)","v":""},null,{"$f":"IF(AJ155=\"\",\"\",AJ155)","v":""},null,{"$f":"IF(AL155=\"\",\"\",AL155)","v":""},null,null,{"$f":"IF(AO155=\"\",\"\",AO155)","v":""},null,null,{"$f":"IF(AR155=\"\",\"\",AR155)","v":""},null,null,null,null,{"$f":"IF(AW155=\"\",\"\",AW155)","v":""}]
[]
[]
[]
[null,null,null,null,null,null,null,null,null,null,null,null,null,null,null,null,null,{"$f":"IF(R159=\"\",\"\",R159)","v":""},null,{"$f":"IF(T159=\"\",\"\",T159)","v":""},null,{"$f":"IF(V159=\"\",\"\",V159)","v":""},null,{"$f":"IF(X159=\"\",\"\",X159)","v":""},null,{"$f":"IF(Z159=\"\",\"\",Z159)","v":""},null,{"$f":"IF(AB159=\"\",\"\",AB159)","v":""},null,{"$f":"IF(AD159=\"\",\"\",AD159)","v":""},null,{"$f":"IF(AF159=\"\",\"\",AF159)","v":""},null,{"$f":"IF(AH159=\"\",\"\",AH159)","v":""},null,{"$f":"IF(AJ159=\"\",\"\",AJ159)","v":""},null,{"$f":"IF(AL159=\"\",\"\",AL159)","v":""},null,null,{"$f":"IF(AO159=\"\",\"\",AO159)","v":""},null,null,{"$f":"IF(AR159=\"\",\"\",AR159)","v":""},null,null,null,null,{"$f":"IF(AW159=\"\",\"\",AW159)","v":""}]
[]
[]
[]
[null,null,null,null,null,null,null,null,null,null,null,null,null,null,null,null,null,{"$f":"IF(R163=\"\",\"\",R163)","v":""},null,{"$f":"IF(T163=\"\",\"\",T163)","v":""},null,{"$f":"IF(V163=\"\",\"\",V163)","v":""},null,{"$f":"IF(X163=\"\",\"\",X163)","v":""},null,{"$f":"IF(Z163=\"\",\"\",Z163)","v":""},null,{"$f":"IF(AB163=\"\",\"\",AB163)","v":""},null,{"$f":"IF(AD163=\"\",\"\",AD163)","v":""},null,{"$f":"IF(AF163=\"\",\"\",AF163)","v":""},null,{"$f":"IF(AH163=\"\",\"\",AH163)","v":""},null,{"$f":"IF(AJ163=\"\",\"\",AJ163)","v":""},null,{"$f":"IF(AL163=\"\",\"\",AL163)","v":""},null,null,{"$f":"IF(AO163=\"\",\"\",AO163)","v":""},null,null,{"$f":"IF(AR163=\"\",\"\",AR163)","v":""},null,null,null,null,{"$f":"IF(AW163=\"\",\"\",AW163)","v":""}]
[]
[]
[]
[null,null,null,null,null,null,null,null,null,null,null,null,null,null,null,null,null,{"$f":"IF(R167=\"\",\"\",R167)","v":""},null,{"$f":"IF(T167=\"\",\"\",T167)","v":""},null,{"$f":"IF(V167=\"\",\"\",V167)","v":""},null,{"$f":"IF(X167=\"\",\"\",X167)","v":""},null,{"$f":"IF(Z167=\"\",\"\",Z167)","v":""},null,{"$f":"IF(AB167=\"\",\"\",AB167)","v":""},null,{"$f":"IF(AD167=\"\",\"\",AD167)","v":""},null,{"$f":"IF(AF167=\"\",\"\",AF167)","v":""},null,{"$f":"IF(AH167=\"\",\"\",AH167)","v":""},null,{"$f":"IF(AJ167=\"\",\"\",AJ167)","v":""},null,{"$f":"IF(AL167=\"\",\"\",AL167)","v":""},null,null,{"$f":"IF(AO167=\"\",\"\",AO167)","v":""},null,null,{"$f":"IF(AR167=\"\",\"\",AR167)","v":""},null,null,null,null,{"$f":"IF(AW167=\"\",\"\",AW167)","v":""}]
[]
[]
[]
[null,null,null,null,null,null,null,null,null,null,null,null,null,null,null,null,null,{"$f":"IF(R171=\"\",\"\",R171)","v":""},null,{"$f":"IF(T171=\"\",\"\",T171)","v":""},null,{"$f":"IF(V171=\"\",\"\",V171)","v":""},null,{"$f":"IF(X171=\"\",\"\",X171)","v":""},null,{"$f":"IF(Z171=\"\",\"\",Z171)","v":""},null,{"$f":"IF(AB171=\"\",\"\",AB171)","v":""},null,{"$f":"IF(AD171=\"\",\"\",AD171)","v":""},null,{"$f":"IF(AF171=\"\",\"\",AF171)","v":""},null,{"$f":"IF(AH171=\"\",\"\",AH171)","v":""},null,{"$f":"IF(AJ171=\"\",\"\",AJ171)","v":""},null,{"$f":"IF(AL171=\"\",\"\",AL171)","v":""},null,null,{"$f":"IF(AO171=\"\",\"\",AO171)","v":""},null,null,{"$f":"IF(AR171=\"\",\"\",AR171)","v":""},null,null,null,null,{"$f":"IF(AW171=\"\",\"\",AW171)","v":""}]
[]
[]
[]
[null,null,null,null,null,null,null,null,null,null,null,null,null,null,null,null,null,null,null,null,null,null,null,null,null,null,null,null,null,null,null,null,null,null,null,null,null,{"$f":"AL175","v":"金額(税抜)"},null,null,null,null,null,null,null,null,null,null,{"$f":"AW83","v":""}]
[]
[]
[]
[]
[null,null,null,null,null,null,null,null,null,null,null,null,null,null,null,null,null,null,null,null,null,null,null,null,null,null,null,null,null,null,null,null,null,null,null,null,null,{"$f":"AL180","v":"消費税"},null,null,null,null,null,"税率",null,null,"税調",null,{"$f":"AW88","v":""}]
[]
[null,null,null,null,null,null,null,null,null,null,null,null,null,null,null,null,null,null,null,null,null,null,null,null,null,null,null,null,null,null,null,null,null,null,null,null,null,null,null,null,null,null,null,{"$f":"AR90","v":0},null,{"$f":"AT90","v":""}]

{"sheet":"細1-8","index":11,"n_rows":274,"n_cols":53,"rows_kept":274,"cut":false,"hidden":false,"merged":[[266,37,269,47],[266,48,269,54],[258,48,261,54],[262,17,265,18],[262,19,265,20],[262,21,265,36],[262,37,265,39],[258,43,261,47],[271,48,274,54],[262,40,265,42],[262,43,265,47],[262,48,265,54],[258,17,261,18],[258,19,261,20],[258,21,261,36],[258,37,261,39],[258,40,261,42],[271,37,274,42],[271,43,272,45],[273,43,274,44],[273,45,274,45],[273,46,274,47],[271,46,272,47],[250,48,253,54],[254,17,257,18],[254,19,257,20],[254,21,257,36],[254,37,257,39],[254,40,257,42],[254,43,257,47],[254,48,257,54],[250,17,253,18],[250,19,253,20],[250,21,253,36],[250,37,253,39],[250,40,253,42],[250,43,253,47],[242,48,245,54],[246,17,249,18],[246,19,249,20],[246,21,249,36],[246,37,249,39],[246,40,249,42],[246,43,249,47],[246,48,249,54],[242,17,245,18],[242,19,245,20],[242,21,245,36],[242,37,245,39],[242,40,245,42],[242,43,245,47],[234,48,237,54],[238,17,241,18],[238,19,241,20],[238,21,241,36],[238,37,241,39],[238,40,241,42],[238,43,241,47],[238,48,241,54],[234,17,237,18],[234,19,237,20],[234,21,237,36],[234,37,237,39],[234,40,237,42],[234,43,237,47],[222,17,225,18],[222,19,225,20],[222,21,225,36],[222,37,225,39],[222,40,225,42],[222,43,225,47],[222,48,225,54],[226,48,229,54],[230,17,233,18],[230,19,233,20],[230,21,233,36],[230,37,233,39],[230,40,233,42],[230,43,233,47],[230,48,233,54],[226,17,229,18],[226,19,229,20],[226,21,229,36],[226,37,229,39],[226,40,229,42],[226,43,229,47],[218,1,221,5],[218,6,221,15],[218,17,221,18],[218,19,221,20],[218,21,221,36],[218,37,221,39],[218,40,221,42],[218,43,221,47],[218,48,221,54],[210,40,213,42],[210,43,213,47],[210,48,213,54],[214,1,217,3],[214,4,217,5],[214,6,217,15],[214,17,217,18],[214,19,217,20],[214,21,217,36],[214,37,217,39],[210,1,213,5],[210,6,213,15],[210,17,213,18],[210,19,213,20],[210,21,213,36],[210,37,213,39],[214,40,217,42],[214,43,217,47],[214,48,217,54],[206,1,209,5],[206,6,209,15],[206,17,209,18],[206,19,209,20],[206,21,209,36],[206,37,209,39],[206,40,209,42],[206,43,209,47],[206,48,209,54],[198,43,201,47],[198,48,201,54],[202,1,205,5],[202,6,205,15],[202,17,205,18],[202,19,205,20],[202,21,205,36],[202,37,205,39],[202,40,205,42],[202,43,205,47],[198,1,201,5],[198,6,201,15],[198,17,201,20],[198,21,201,36],[198,37,201,39],[198,40,201,42],[202,48,205,54],[187,52,189,54],[192,1,195,5],[192,6,195,11],[192,12,195,15],[192,16,195,35],[192,37,195,40],[192,41,195,54],[185,19,188,32],[186,1,189,11],[186,12,189,13],[187,49,189,51],[187,40,189,44],[187,45,189,48],[174,37,177,47],[174,48,177,54],[179,48,182,54],[170,17,173,18],[170,19,173,20],[170,21,173,36],[170,37,173,39],[170,40,173,42],[170,43,173,47],[170,48,173,54],[179,37,182,42],[179,43,180,45],[179,46,180,47],[181,43,182,44],[181,45,182,45],[181,46,182,47],[166,17,169,18],[166,19,169,20],[162,43,165,47],[162,48,165,54],[158,17,161,18],[158,19,161,20],[158,21,161,36],[158,37,161,39],[158,40,161,42],[162,17,165,18],[162,19,165,20],[162,21,165,36],[162,37,165,39],[162,40,165,42],[166,48,169,54],[158,43,161,47],[166,21,169,36],[166,37,169,39],[166,40,169,42],[166,43,169,47],[158,48,161,54],[154,48,157,54],[150,17,153,18],[150,19,153,20],[146,43,149,47],[146,48,149,54],[142,17,145,18],[142,19,145,20],[142,21,145,36],[142,37,145,39],[142,40,145,42],[154,17,157,18],[154,19,157,20],[154,21,157,36],[154,37,157,39],[154,40,157,42],[154,43,157,47],[146,17,149,18],[146,19,149,20],[146,21,149,36],[146,37,149,39],[146,40,149,42],[150,48,153,54],[142,43,145,47],[150,21,153,36],[150,37,153,39],[150,40,153,42],[150,43,153,47],[142,48,145,54],[130,48,133,54],[134,48,137,54],[130,17,133,18],[130,19,133,20],[130,21,133,36],[130,37,133,39],[130,40,133,42],[130,43,133,47],[138,48,141,54],[134,17,137,18],[134,19,137,20],[134,21,137,36],[134,37,137,39],[134,40,137,42],[134,43,137,47],[138,17,141,18],[138,19,141,20],[138,21,141,36],[138,37,141,39],[138,40,141,42],[138,43,141,47],[126,1,129,5],[126,6,129,15],[126,17,129,18],[126,19,129,20],[126,21,129,36],[126,37,129,39],[126,40,129,42],[126,43,129,47],[126,48,129,54],[118,40,121,42],[118,43,121,47],[118,48,121,54],[122,1,125,3],[122,4,125,5],[122,6,125,15],[122,17,125,18],[122,19,125,20],[122,21,125,36],[122,37,125,39],[118,1,121,5],[118,6,121,15],[118,17,121,18],[118,19,121,20],[118,21,121,36],[118,37,121,39],[122,40,125,42],[122,43,125,47],[122,48,125,54],[114,1,117,5],[114,6,117,15],[114,17,117,18],[114,19,117,20],[114,21,117,36],[114,37,117,39],[114,40,117,42],[114,43,117,47],[114,48,117,54],[106,43,109,47],[106,48,109,54],[110,1,113,5],[110,6,113,15],[110,17,113,18],[110,19,113,20],[110,21,113,36],[110,37,113,39],[110,40,113,42],[110,43,113,47],[106,1,109,5],[106,6,109,15],[106,17,109,20],[106,21,109,36],[106,37,109,39],[106,40,109,42],[110,48,113,54],[89,46,90,47],[87,46,88,47],[95,49,97,51],[95,52,97,54],[100,1,103,5],[100,6,103,11],[100,12,103,15],[100,16,103,35],[100,37,103,40],[100,41,103,54],[93,19,96,32],[94,1,97,11],[94,12,97,13],[95,40,97,44],[95,45,97,48],[83,1,84,4],[83,5,84,10],[83,11,84,16],[83,17,84,25],[85,1,90,4],[85,5,90,10],[85,11,90,16],[85,17,90,25],[89,45,90,45],[78,43,81,47],[83,26,84,30],[83,31,84,35],[78,17,81,18],[78,19,81,20],[78,21,81,36],[85,26,90,30],[85,31,90,35],[74,48,77,54],[87,48,90,54],[78,48,81,54],[82,37,85,47],[82,48,85,54],[78,37,81,39],[78,40,81,42],[74,17,77,18],[74,19,77,20],[74,21,77,36],[74,37,77,39],[74,40,77,42],[74,43,77,47],[87,37,90,42],[87,43,88,45],[89,43,90,44],[66,48,69,54],[70,17,73,18],[70,19,73,20],[70,21,73,36],[70,37,73,39],[70,40,73,42],[70,43,73,47],[70,48,73,54],[66,17,69,18],[66,19,69,20],[66,21,69,36],[66,37,69,39],[66,40,69,42],[66,43,69,47],[58,48,61,54],[62,17,65,18],[62,19,65,20],[62,21,65,36],[62,37,65,39],[62,40,65,42],[62,43,65,47],[62,48,65,54],[58,17,61,18],[58,19,61,20],[58,21,61,36],[58,37,61,39],[58,40,61,42],[58,43,61,47],[50,48,53,54],[54,17,57,18],[54,19,57,20],[54,21,57,36],[54,37,57,39],[54,40,57,42],[54,43,57,47],[54,48,57,54],[50,17,53,18],[50,19,53,20],[50,21,53,36],[50,37,53,39],[50,40,53,42],[50,43,53,47],[38,17,41,18],[38,19,41,20],[38,21,41,36],[38,37,41,39],[38,40,41,42],[38,43,41,47],[38,48,41,54],[42,48,45,54],[46,17,49,18],[46,19,49,20],[46,21,49,36],[46,37,49,39],[46,40,49,42],[46,43,49,47],[46,48,49,54],[42,17,45,18],[42,19,45,20],[42,21,45,36],[42,37,45,39],[42,40,45,42],[42,43,45,47],[34,1,37,5],[34,6,37,15],[34,17,37,18],[34,19,37,20],[34,21,37,36],[34,37,37,39],[34,40,37,42],[34,43,37,47],[34,48,37,54],[26,40,29,42],[26,43,29,47],[26,48,29,54],[30,1,33,3],[30,4,33,5],[30,6,33,15],[30,17,33,18],[30,19,33,20],[30,21,33,36],[30,37,33,39],[26,1,29,5],[26,6,29,15],[26,17,29,18],[26,19,29,20],[26,21,29,36],[26,37,29,39],[30,40,33,42],[30,43,33,47],[30,48,33,54],[22,1,25,5],[22,6,25,15],[22,17,25,18],[22,19,25,20],[22,21,25,36],[22,37,25,39],[22,40,25,42],[22,43,25,47],[22,48,25,54],[14,43,17,47],[14,48,17,54],[18,1,21,5],[18,6,21,15],[18,17,21,18],[18,19,21,20],[18,21,21,36],[18,37,21,39],[18,40,21,42],[18,43,21,47],[14,1,17,5],[14,6,17,15],[14,17,17,20],[14,21,17,36],[14,37,17,39],[14,40,17,42],[18,48,21,54],[3,52,5,54],[8,37,11,40],[8,41,11,54],[1,19,4,32],[2,1,5,11],[2,12,5,13],[8,1,11,5],[8,6,11,11],[8,12,11,15],[8,16,11,35],[3,49,5,51],[3,40,5,44],[3,45,5,48]]}
[]
[null,null,null,null,null,null,null,null,null,null,null,null,null,null,null,null,null,null,null,"請求書明細書 (正)"]
[null,"株 式 会 社 種 村 建 設",null,null,null,null,null,null,null,null,null,null,"御中"]
[null,null,null,null,null,null,null,null,null,null,null,null,null,null,null,null,null,null,null,null,null,null,null,null,null,null,null,null,null,null,null,null,null,null,null,null,null,null,null,null,"請求年月日",null,null,null,null,{"$f":"IF(年=\"\",\"\",年)","v":""},null,null,null,{"$f":"IF(月=\"\",\"\",月)","v":""},null,null,{"$f":"IF(日=\"\",\"\",日)","v":""}]
[]
[]
[]
[]
[null,"工事番号",null,null,null,null,null,null,null,null,null,null,"工事名",null,null,null,null,null,null,null,null,null,null,null,null,null,null,null,null,null,null,null,null,null,null,null,null,"業者名",null,null,null,{"$f":"IF(社名=\"\",\"\",社名)","v":""}]
[]
[]
[]
[]
[]
[null,"注文番号",null,null,null,null,null,null,null,null,null,null,null,null,null,null,null,"月　日",null,null,null,"品　名・内　訳",null,null,null,null,null,null,null,null,null,null,null,null,null,null,null,"数 量",null,null,"単位",null,null,"単価",null,null,null,null,{"$f":"表紙①!P35","v":"金額(税抜)"}]
[]
[]
[]
[null,"契約金額",null,null,null,null,null,null,null,null,null,null,null,null,null,null,null,null,null,null,null,null,null,null,null,null,null,null,null,null,null,null,null,null,null,null,null,null,null,null,null,null,null,null,null,null,null,null,{"$f":"IF(V19=\"\",\"\",ROUND(AL19*AR19,0))","v":""}]
[]
[]
[]
[null,"増減額",null,null,null,null,null,null,null,null,null,null,null,null,null,null,null,null,null,null,null,null,null,null,null,null,null,null,null,null,null,null,null,null,null,null,null,null,null,null,null,null,null,null,null,null,null,null,{"$f":"IF(V23=\"\",\"\",ROUND(AL23*AR23,0))","v":""}]
[]
[]
[]
[null,"前回までの\n請求額",null,null,null,null,null,null,null,null,null,null,null,null,null,null,null,null,null,null,null,null,null,null,null,null,null,null,null,null,null,null,null,null,null,null,null,null,null,null,null,null,null,null,null,null,null,null,{"$f":"IF(V27=\"\",\"\",ROUND(AL27*AR27,0))","v":""}]
[]
[]
[]
[null,"今回\n請求額",null,null,null,null,null,null,null,null,null,null,null,null,null,null,null,null,null,null,null,null,null,null,null,null,null,null,null,null,null,null,null,null,null,null,null,null,null,null,null,null,null,null,null,null,null,null,{"$f":"IF(V31=\"\",\"\",ROUND(AL31*AR31,0))","v":""}]
[]
[]
[]
[null,"差引残高",null,null,null,null,{"$f":"IF(G19=\"\",\"\",G19+G23-G27-G31)","v":""},null,null,null,null,null,null,null,null,null,null,null,null,null,null,null,null,null,null,null,null,null,null,null,null,null,null,null,null,null,null,null,null,null,null,null,null,null,null,null,null,null,{"$f":"IF(V35=\"\",\"\",ROUND(AL35*AR35,0))","v":""}]
[]
[]
[]
[null,null,null,null,null,null,null,null,null,null,null,null,null,null,null,null,null,null,null,null,null,null,null,null,null,null,null,null,null,null,null,null,null,null,null,null,null,null,null,null,null,null,null,null,null,null,null,null,{"$f":"IF(V39=\"\",\"\",ROUND(AL39*AR39,0))","v":""}]
[]
[]
[]
[null,null,null,null,null,null,null,null,null,null,null,null,null,null,null,null,null,null,null,null,null,null,null,null,null,null,null,null,null,null,null,null,null,null,null,null,null,null,null,null,null,null,null,null,null,null,null,null,{"$f":"IF(V43=\"\",\"\",ROUND(AL43*AR43,0))","v":""}]
[]
[]
[]
[null,null,null,null,null,null,null,null,null,null,null,null,null,null,null,null,null,null,null,null,null,null,null,null,null,null,null,null,null,null,null,null,null,null,null,null,null,null,null,null,null,null,null,null,null,null,null,null,{"$f":"IF(V47=\"\",\"\",ROUND(AL47*AR47,0))","v":""}]
[]
[]
[]
[null,null,null,null,null,null,null,null,null,null,null,null,null,null,null,null,null,null,null,null,null,null,null,null,null,null,null,null,null,null,null,null,null,null,null,null,null,null,null,null,null,null,null,null,null,null,null,null,{"$f":"IF(V51=\"\",\"\",ROUND(AL51*AR51,0))","v":""}]
[]
[]
[]
[null,null,null,null,null,null,null,null,null,null,null,null,null,null,null,null,null,null,null,null,null,null,null,null,null,null,null,null,null,null,null,null,null,null,null,null,null,null,null,null,null,null,null,null,null,null,null,null,{"$f":"IF(V55=\"\",\"\",ROUND(AL55*AR55,0))","v":""}]
[]
[]
[]
[null,null,null,null,null,null,null,null,null,null,null,null,null,null,null,null,null,null,null,null,null,null,null,null,null,null,null,null,null,null,null,null,null,null,null,null,null,null,null,null,null,null,null,null,null,null,null,null,{"$f":"IF(V59=\"\",\"\",ROUND(AL59*AR59,0))","v":""}]
[]
[]
[]
[null,null,null,null,null,null,null,null,null,null,null,null,null,null,null,null,null,null,null,null,null,null,null,null,null,null,null,null,null,null,null,null,null,null,null,null,null,null,null,null,null,null,null,null,null,null,null,null,{"$f":"IF(V63=\"\",\"\",ROUND(AL63*AR63,0))","v":""}]
[]
[]
[]
[null,null,null,null,null,null,null,null,null,null,null,null,null,null,null,null,null,null,null,null,null,null,null,null,null,null,null,null,null,null,null,null,null,null,null,null,null,null,null,null,null,null,null,null,null,null,null,null,{"$f":"IF(V67=\"\",\"\",ROUND(AL67*AR67,0))","v":""}]
[]
[]
[]
[null,null,null,null,null,null,null,null,null,null,null,null,null,null,null,null,null,null,null,null,null,null,null,null,null,null,null,null,null,null,null,null,null,null,null,null,null,null,null,null,null,null,null,null,null,null,null,null,{"$f":"IF(V71=\"\",\"\",ROUND(AL71*AR71,0))","v":""}]
[]
[]
[]
[null,null,null,null,null,null,null,null,null,null,null,null,null,null,null,null,null,null,null,null,null,null,null,null,null,null,null,null,null,null,null,null,null,null,null,null,null,null,null,null,null,null,null,null,null,null,null,null,{"$f":"IF(V75=\"\",\"\",ROUND(AL75*AR75,0))","v":""}]
[]
[]
[]
[null,null,null,null,null,null,null,null,null,null,null,null,null,null,null,null,null,null,null,null,null,null,null,null,null,null,null,null,null,null,null,null,null,null,null,null,null,null,null,null,null,null,null,null,null,null,null,null,{"$f":"IF(V79=\"\",\"\",ROUND(AL79*AR79,0))","v":""}]
[]
[]
[]
[null,null,null,null,null,null,null,null,null,null,null,null,null,null,null,null,null,null,null,null,null,null,null,null,null,null,null,null,null,null,null,null,null,null,null,null,null,"金額(税抜)",null,null,null,null,null,null,null,null,null,null,{"$f":"IF(AW19=\"\",\"\",SUM(AW19:AW79))","v":""}]
[null,"社長",null,null,null,"専務",null,null,null,null,null,"常務",null,null,null,null,null,"部長･工場長",null,null,null,null,null,null,null,null,"担当者",null,null,null,null,"受付"]
[]
[]
[]
[null,null,null,null,null,null,null,null,null,null,null,null,null,null,null,null,null,null,null,null,null,null,null,null,null,null,null,null,null,null,null,null,null,null,null,null,null,"消費税",null,null,null,null,null,"税率",null,null,"税調",null,{"$f":"IF(AW83=\"\",\"\",IF(AR90=\"\",\"\",IF(AR90=8.1,ROUND(AW83*8/100,0)+AU90,ROUND(AW83*AR90/100,0)+AU90)))","v":""}]
[]
[null,null,null,null,null,null,null,null,null,null,null,null,null,null,null,null,null,null,null,null,null,null,null,null,null,null,null,null,null,null,null,null,null,null,null,null,null,null,null,null,null,null,null,null,null,{"$f":"IF(AR90=\"\",\"\",IF(AR90=8.1,\"旧\",IF(AR90=8,\"軽\",IF(AR90=0,\"非\",\"\"))))","v":""}]
[]
[]
[]
[null,null,null,null,null,null,null,null,null,null,null,null,null,null,null,null,null,null,null,"請求明細書 (現場控)"]
[null,"株 式 会 社 種 村 建 設",null,null,null,null,null,null,null,null,null,null,"御中"]
[null,null,null,null,null,null,null,null,null,null,null,null,null,null,null,null,null,null,null,null,null,null,null,null,null,null,null,null,null,null,null,null,null,null,null,null,null,null,null,null,"請求年月日",null,null,null,null,{"$f":"IF(AT4=\"\",\"\",AT4)","v":""},null,null,null,{"$f":"IF(AX4=\"\",\"\",AX4)","v":""},null,null,{"$f":"IF(BA4=\"\",\"\",BA4)","v":""}]
[]
[]
[]
[]
[null,"工事番号",null,null,null,null,{"$f":"IF(G9=\"\",\"\",G9)","v":""},null,null,null,null,null,"工事名",null,null,null,{"$f":"IF(Q9=\"\",\"\",Q9)","v":""},null,null,null,null,null,null,null,null,null,null,null,null,null,null,null,null,null,null,null,null,"業者名",null,null,null,{"$f":"IF(AP9=\"\",\"\",AP9)","v":""}]
[]
[]
[]
[]
[]
[null,"注文番号",null,null,null,null,{"$f":"IF(G15=\"\",\"\",G15)","v":""},null,null,null,null,null,null,null,null,null,null,"月　日",null,null,null,"品　名・内　訳",null,null,null,null,null,null,null,null,null,null,null,null,null,null,null,"数 量",null,null,"単位",null,null,"単価",null,null,null,null,{"$f":"表紙①!P127","v":"金額(税抜)"}]
[]
[]
[]
[null,"契約金額",null,null,null,null,{"$f":"IF(G19=\"\",\"\",G19)","v":""},null,null,null,null,null,null,null,null,null,null,{"$f":"IF(R19=\"\",\"\",R19)","v":""},null,{"$f":"IF(T19=\"\",\"\",T19)","v":""},null,{"$f":"IF(V19=\"\",\"\",V19)","v":""},null,{"$f":"IF(X19=\"\",\"\",X19)","v":""},null,{"$f":"IF(Z19=\"\",\"\",Z19)","v":""},null,{"$f":"IF(AB19=\"\",\"\",AB19)","v":""},null,{"$f":"IF(AD19=\"\",\"\",AD19)","v":""},null,{"$f":"IF(AF19=\"\",\"\",AF19)","v":""},null,{"$f":"IF(AH19=\"\",\"\",AH19)","v":""},null,{"$f":"IF(AJ19=\"\",\"\",AJ19)","v":""},null,{"$f":"IF(AL19=\"\",\"\",AL19)","v":""},null,null,{"$f":"IF(AO19=\"\",\"\",AO19)","v":""},null,null,{"$f":"IF(AR19=\"\",\"\",AR19)","v":""},null,null,null,null,{"$f":"IF(AW19=\"\",\"\",AW19)","v":""}]
[]
[]
[]
[null,"増減額",null,null,null,null,{"$f":"IF(G23=\"\",\"\",G23)","v":""},null,null,null,null,null,null,null,null,null,null,{"$f":"IF(R23=\"\",\"\",R23)","v":""},null,{"$f":"IF(T23=\"\",\"\",T23)","v":""},null,{"$f":"IF(V23=\"\",\"\",V23)","v":""},null,{"$f":"IF(X23=\"\",\"\",X23)","v":""},null,{"$f":"IF(Z23=\"\",\"\",Z23)","v":""},null,{"$f":"IF(AB23=\"\",\"\",AB23)","v":""},null,{"$f":"IF(AD23=\"\",\"\",AD23)","v":""},null,{"$f":"IF(AF23=\"\",\"\",AF23)","v":""},null,{"$f":"IF(AH23=\"\",\"\",AH23)","v":""},null,{"$f":"IF(AJ23=\"\",\"\",AJ23)","v":""},null,{"$f":"IF(AL23=\"\",\"\",AL23)","v":""},null,null,{"$f":"IF(AO23=\"\",\"\",AO23)","v":""},null,null,{"$f":"IF(AR23=\"\",\"\",AR23)","v":""},null,null,null,null,{"$f":"IF(AW23=\"\",\"\",AW23)","v":""}]
[]
[]
[]
[null,"前回までの\n請求額",null,null,null,null,{"$f":"IF(G27=\"\",\"\",G27)","v":""},null,null,null,null,null,null,null,null,null,null,{"$f":"IF(R27=\"\",\"\",R27)","v":""},null,{"$f":"IF(T27=\"\",\"\",T27)","v":""},null,{"$f":"IF(V27=\"\",\"\",V27)","v":""},null,{"$f":"IF(X27=\"\",\"\",X27)","v":""},null,{"$f":"IF(Z27=\"\",\"\",Z27)","v":""},null,{"$f":"IF(AB27=\"\",\"\",AB27)","v":""},null,{"$f":"IF(AD27=\"\",\"\",AD27)","v":""},null,{"$f":"IF(AF27=\"\",\"\",AF27)","v":""},null,{"$f":"IF(AH27=\"\",\"\",AH27)","v":""},null,{"$f":"IF(AJ27=\"\",\"\",AJ27)","v":""},null,{"$f":"IF(AL27=\"\",\"\",AL27)","v":""},null,null,{"$f":"IF(AO27=\"\",\"\",AO27)","v":""},null,null,{"$f":"IF(AR27=\"\",\"\",AR27)","v":""},null,null,null,null,{"$f":"IF(AW27=\"\",\"\",AW27)","v":""}]
[]
[]
[]
[null,"今回\n請求額",null,null,{"$f":"IF(E31=\"\",\"\",E31)","v":""},null,{"$f":"IF(G31=\"\",\"\",G31)","v":""},null,null,null,null,null,null,null,null,null,null,{"$f":"IF(R31=\"\",\"\",R31)","v":""},null,{"$f":"IF(T31=\"\",\"\",T31)","v":""},null,{"$f":"IF(V31=\"\",\"\",V31)","v":""},null,{"$f":"IF(X31=\"\",\"\",X31)","v":""},null,{"$f":"IF(Z31=\"\",\"\",Z31)","v":""},null,{"$f":"IF(AB31=\"\",\"\",AB31)","v":""},null,{"$f":"IF(AD31=\"\",\"\",AD31)","v":""},null,{"$f":"IF(AF31=\"\",\"\",AF31)","v":""},null,{"$f":"IF(AH31=\"\",\"\",AH31)","v":""},null,{"$f":"IF(AJ31=\"\",\"\",AJ31)","v":""},null,{"$f":"IF(AL31=\"\",\"\",AL31)","v":""},null,null,{"$f":"IF(AO31=\"\",\"\",AO31)","v":""},null,null,{"$f":"IF(AR31=\"\",\"\",AR31)","v":""},null,null,null,null,{"$f":"IF(AW31=\"\",\"\",AW31)","v":""}]
[]
[]
[]
[null,"差引残高",null,null,null,null,{"$f":"IF(G111=\"\",\"\",G111+G115-G119-G123)","v":""},null,null,null,null,null,null,null,null,null,null,{"$f":"IF(R35=\"\",\"\",R35)","v":""},null,{"$f":"IF(T35=\"\",\"\",T35)","v":""},null,{"$f":"IF(V35=\"\",\"\",V35)","v":""},null,{"$f":"IF(X35=\"\",\"\",X35)","v":""},null,{"$f":"IF(Z35=\"\",\"\",Z35)","v":""},null,{"$f":"IF(AB35=\"\",\"\",AB35)","v":""},null,{"$f":"IF(AD35=\"\",\"\",AD35)","v":""},null,{"$f":"IF(AF35=\"\",\"\",AF35)","v":""},null,{"$f":"IF(AH35=\"\",\"\",AH35)","v":""},null,{"$f":"IF(AJ35=\"\",\"\",AJ35)","v":""},null,{"$f":"IF(AL35=\"\",\"\",AL35)","v":""},null,null,{"$f":"IF(AO35=\"\",\"\",AO35)","v":""},null,null,{"$f":"IF(AR35=\"\",\"\",AR35)","v":""},null,null,null,null,{"$f":"IF(AW35=\"\",\"\",AW35)","v":""}]
[]
[]
[]
[null,null,null,null,null,null,null,null,null,null,null,null,null,null,null,null,null,{"$f":"IF(R39=\"\",\"\",R39)","v":""},null,{"$f":"IF(T39=\"\",\"\",T39)","v":""},null,{"$f":"IF(V39=\"\",\"\",V39)","v":""},null,{"$f":"IF(X39=\"\",\"\",X39)","v":""},null,{"$f":"IF(Z39=\"\",\"\",Z39)","v":""},null,{"$f":"IF(AB39=\"\",\"\",AB39)","v":""},null,{"$f":"IF(AD39=\"\",\"\",AD39)","v":""},null,{"$f":"IF(AF39=\"\",\"\",AF39)","v":""},null,{"$f":"IF(AH39=\"\",\"\",AH39)","v":""},null,{"$f":"IF(AJ39=\"\",\"\",AJ39)","v":""},null,{"$f":"IF(AL39=\"\",\"\",AL39)","v":""},null,null,{"$f":"IF(AO39=\"\",\"\",AO39)","v":""},null,null,{"$f":"IF(AR39=\"\",\"\",AR39)","v":""},null,null,null,null,{"$f":"IF(AW39=\"\",\"\",AW39)","v":""}]
[]
[]
[]
[null,null,null,null,null,null,null,null,null,null,null,null,null,null,null,null,null,{"$f":"IF(R43=\"\",\"\",R43)","v":""},null,{"$f":"IF(T43=\"\",\"\",T43)","v":""},null,{"$f":"IF(V43=\"\",\"\",V43)","v":""},null,{"$f":"IF(X43=\"\",\"\",X43)","v":""},null,{"$f":"IF(Z43=\"\",\"\",Z43)","v":""},null,{"$f":"IF(AB43=\"\",\"\",AB43)","v":""},null,{"$f":"IF(AD43=\"\",\"\",AD43)","v":""},null,{"$f":"IF(AF43=\"\",\"\",AF43)","v":""},null,{"$f":"IF(AH43=\"\",\"\",AH43)","v":""},null,{"$f":"IF(AJ43=\"\",\"\",AJ43)","v":""},null,{"$f":"IF(AL43=\"\",\"\",AL43)","v":""},null,null,{"$f":"IF(AO43=\"\",\"\",AO43)","v":""},null,null,{"$f":"IF(AR43=\"\",\"\",AR43)","v":""},null,null,null,null,{"$f":"IF(AW43=\"\",\"\",AW43)","v":""}]
[]
[]
[]
[null,null,null,null,null,null,null,null,null,null,null,null,null,null,null,null,null,{"$f":"IF(R47=\"\",\"\",R47)","v":""},null,{"$f":"IF(T47=\"\",\"\",T47)","v":""},null,{"$f":"IF(V47=\"\",\"\",V47)","v":""},null,{"$f":"IF(X47=\"\",\"\",X47)","v":""},null,{"$f":"IF(Z47=\"\",\"\",Z47)","v":""},null,{"$f":"IF(AB47=\"\",\"\",AB47)","v":""},null,{"$f":"IF(AD47=\"\",\"\",AD47)","v":""},null,{"$f":"IF(AF47=\"\",\"\",AF47)","v":""},null,{"$f":"IF(AH47=\"\",\"\",AH47)","v":""},null,{"$f":"IF(AJ47=\"\",\"\",AJ47)","v":""},null,{"$f":"IF(AL47=\"\",\"\",AL47)","v":""},null,null,{"$f":"IF(AO47=\"\",\"\",AO47)","v":""},null,null,{"$f":"IF(AR47=\"\",\"\",AR47)","v":""},null,null,null,null,{"$f":"IF(AW47=\"\",\"\",AW47)","v":""}]
[]
[]
[]
[null,null,null,null,null,null,null,null,null,null,null,null,null,null,null,null,null,{"$f":"IF(R51=\"\",\"\",R51)","v":""},null,{"$f":"IF(T51=\"\",\"\",T51)","v":""},null,{"$f":"IF(V51=\"\",\"\",V51)","v":""},null,{"$f":"IF(X51=\"\",\"\",X51)","v":""},null,{"$f":"IF(Z51=\"\",\"\",Z51)","v":""},null,{"$f":"IF(AB51=\"\",\"\",AB51)","v":""},null,{"$f":"IF(AD51=\"\",\"\",AD51)","v":""},null,{"$f":"IF(AF51=\"\",\"\",AF51)","v":""},null,{"$f":"IF(AH51=\"\",\"\",AH51)","v":""},null,{"$f":"IF(AJ51=\"\",\"\",AJ51)","v":""},null,{"$f":"IF(AL51=\"\",\"\",AL51)","v":""},null,null,{"$f":"IF(AO51=\"\",\"\",AO51)","v":""},null,null,{"$f":"IF(AR51=\"\",\"\",AR51)","v":""},null,null,null,null,{"$f":"IF(AW51=\"\",\"\",AW51)","v":""}]
[]
[]
[]
[null,null,null,null,null,null,null,null,null,null,null,null,null,null,null,null,null,{"$f":"IF(R55=\"\",\"\",R55)","v":""},null,{"$f":"IF(T55=\"\",\"\",T55)","v":""},null,{"$f":"IF(V55=\"\",\"\",V55)","v":""},null,{"$f":"IF(X55=\"\",\"\",X55)","v":""},null,{"$f":"IF(Z55=\"\",\"\",Z55)","v":""},null,{"$f":"IF(AB55=\"\",\"\",AB55)","v":""},null,{"$f":"IF(AD55=\"\",\"\",AD55)","v":""},null,{"$f":"IF(AF55=\"\",\"\",AF55)","v":""},null,{"$f":"IF(AH55=\"\",\"\",AH55)","v":""},null,{"$f":"IF(AJ55=\"\",\"\",AJ55)","v":""},null,{"$f":"IF(AL55=\"\",\"\",AL55)","v":""},null,null,{"$f":"IF(AO55=\"\",\"\",AO55)","v":""},null,null,{"$f":"IF(AR55=\"\",\"\",AR55)","v":""},null,null,null,null,{"$f":"IF(AW55=\"\",\"\",AW55)","v":""}]
[]
[]
[]
[null,null,null,null,null,null,null,null,null,null,null,null,null,null,null,null,null,{"$f":"IF(R59=\"\",\"\",R59)","v":""},null,{"$f":"IF(T59=\"\",\"\",T59)","v":""},null,{"$f":"IF(V59=\"\",\"\",V59)","v":""},null,{"$f":"IF(X59=\"\",\"\",X59)","v":""},null,{"$f":"IF(Z59=\"\",\"\",Z59)","v":""},null,{"$f":"IF(AB59=\"\",\"\",AB59)","v":""},null,{"$f":"IF(AD59=\"\",\"\",AD59)","v":""},null,{"$f":"IF(AF59=\"\",\"\",AF59)","v":""},null,{"$f":"IF(AH59=\"\",\"\",AH59)","v":""},null,{"$f":"IF(AJ59=\"\",\"\",AJ59)","v":""},null,{"$f":"IF(AL59=\"\",\"\",AL59)","v":""},null,null,{"$f":"IF(AO59=\"\",\"\",AO59)","v":""},null,null,{"$f":"IF(AR59=\"\",\"\",AR59)","v":""},null,null,null,null,{"$f":"IF(AW59=\"\",\"\",AW59)","v":""}]
[]
[]
[]
[null,null,null,null,null,null,null,null,null,null,null,null,null,null,null,null,null,{"$f":"IF(R63=\"\",\"\",R63)","v":""},null,{"$f":"IF(T63=\"\",\"\",T63)","v":""},null,{"$f":"IF(V63=\"\",\"\",V63)","v":""},null,{"$f":"IF(X63=\"\",\"\",X63)","v":""},null,{"$f":"IF(Z63=\"\",\"\",Z63)","v":""},null,{"$f":"IF(AB63=\"\",\"\",AB63)","v":""},null,{"$f":"IF(AD63=\"\",\"\",AD63)","v":""},null,{"$f":"IF(AF63=\"\",\"\",AF63)","v":""},null,{"$f":"IF(AH63=\"\",\"\",AH63)","v":""},null,{"$f":"IF(AJ63=\"\",\"\",AJ63)","v":""},null,{"$f":"IF(AL63=\"\",\"\",AL63)","v":""},null,null,{"$f":"IF(AO63=\"\",\"\",AO63)","v":""},null,null,{"$f":"IF(AR63=\"\",\"\",AR63)","v":""},null,null,null,null,{"$f":"IF(AW63=\"\",\"\",AW63)","v":""}]
[]
[]
[]
[null,null,null,null,null,null,null,null,null,null,null,null,null,null,null,null,null,{"$f":"IF(R67=\"\",\"\",R67)","v":""},null,{"$f":"IF(T67=\"\",\"\",T67)","v":""},null,{"$f":"IF(V67=\"\",\"\",V67)","v":""},null,{"$f":"IF(X67=\"\",\"\",X67)","v":""},null,{"$f":"IF(Z67=\"\",\"\",Z67)","v":""},null,{"$f":"IF(AB67=\"\",\"\",AB67)","v":""},null,{"$f":"IF(AD67=\"\",\"\",AD67)","v":""},null,{"$f":"IF(AF67=\"\",\"\",AF67)","v":""},null,{"$f":"IF(AH67=\"\",\"\",AH67)","v":""},null,{"$f":"IF(AJ67=\"\",\"\",AJ67)","v":""},null,{"$f":"IF(AL67=\"\",\"\",AL67)","v":""},null,null,{"$f":"IF(AO67=\"\",\"\",AO67)","v":""},null,null,{"$f":"IF(AR67=\"\",\"\",AR67)","v":""},null,null,null,null,{"$f":"IF(AW67=\"\",\"\",AW67)","v":""}]
[]
[]
[]
[null,null,null,null,null,null,null,null,null,null,null,null,null,null,null,null,null,{"$f":"IF(R71=\"\",\"\",R71)","v":""},null,{"$f":"IF(T71=\"\",\"\",T71)","v":""},null,{"$f":"IF(V71=\"\",\"\",V71)","v":""},null,{"$f":"IF(X71=\"\",\"\",X71)","v":""},null,{"$f":"IF(Z71=\"\",\"\",Z71)","v":""},null,{"$f":"IF(AB71=\"\",\"\",AB71)","v":""},null,{"$f":"IF(AD71=\"\",\"\",AD71)","v":""},null,{"$f":"IF(AF71=\"\",\"\",AF71)","v":""},null,{"$f":"IF(AH71=\"\",\"\",AH71)","v":""},null,{"$f":"IF(AJ71=\"\",\"\",AJ71)","v":""},null,{"$f":"IF(AL71=\"\",\"\",AL71)","v":""},null,null,{"$f":"IF(AO71=\"\",\"\",AO71)","v":""},null,null,{"$f":"IF(AR71=\"\",\"\",AR71)","v":""},null,null,null,null,{"$f":"IF(AW71=\"\",\"\",AW71)","v":""}]
[]
[]
[]
[null,null,null,null,null,null,null,null,null,null,null,null,null,null,null,null,null,{"$f":"IF(R75=\"\",\"\",R75)","v":""},null,{"$f":"IF(T75=\"\",\"\",T75)","v":""},null,{"$f":"IF(V75=\"\",\"\",V75)","v":""},null,{"$f":"IF(X75=\"\",\"\",X75)","v":""},null,{"$f":"IF(Z75=\"\",\"\",Z75)","v":""},null,{"$f":"IF(AB75=\"\",\"\",AB75)","v":""},null,{"$f":"IF(AD75=\"\",\"\",AD75)","v":""},null,{"$f":"IF(AF75=\"\",\"\",AF75)","v":""},null,{"$f":"IF(AH75=\"\",\"\",AH75)","v":""},null,{"$f":"IF(AJ75=\"\",\"\",AJ75)","v":""},null,{"$f":"IF(AL75=\"\",\"\",AL75)","v":""},null,null,{"$f":"IF(AO75=\"\",\"\",AO75)","v":""},null,null,{"$f":"IF(AR75=\"\",\"\",AR75)","v":""},null,null,null,null,{"$f":"IF(AW75=\"\",\"\",AW75)","v":""}]
[]
[]
[]
[null,null,null,null,null,null,null,null,null,null,null,null,null,null,null,null,null,{"$f":"IF(R79=\"\",\"\",R79)","v":""},null,{"$f":"IF(T79=\"\",\"\",T79)","v":""},null,{"$f":"IF(V79=\"\",\"\",V79)","v":""},null,{"$f":"IF(X79=\"\",\"\",X79)","v":""},null,{"$f":"IF(Z79=\"\",\"\",Z79)","v":""},null,{"$f":"IF(AB79=\"\",\"\",AB79)","v":""},null,{"$f":"IF(AD79=\"\",\"\",AD79)","v":""},null,{"$f":"IF(AF79=\"\",\"\",AF79)","v":""},null,{"$f":"IF(AH79=\"\",\"\",AH79)","v":""},null,{"$f":"IF(AJ79=\"\",\"\",AJ79)","v":""},null,{"$f":"IF(AL79=\"\",\"\",AL79)","v":""},null,null,{"$f":"IF(AO79=\"\",\"\",AO79)","v":""},null,null,{"$f":"IF(AR79=\"\",\"\",AR79)","v":""},null,null,null,null,{"$f":"IF(AW79=\"\",\"\",AW79)","v":""}]
[]
[]
[]
[null,null,null,null,null,null,null,null,null,null,null,null,null,null,null,null,null,null,null,null,null,null,null,null,null,null,null,null,null,null,null,null,null,null,null,null,null,{"$f":"AL83","v":"金額(税抜)"},null,null,null,null,null,null,null,null,null,null,{"$f":"AW83","v":""}]
[]
[]
[]
[]
[null,null,null,null,null,null,null,null,null,null,null,null,null,null,null,null,null,null,null,null,null,null,null,null,null,null,null,null,null,null,null,null,null,null,null,null,null,{"$f":"AL88","v":"消費税"},null,null,null,null,null,"税率",null,null,"税調",null,{"$f":"AW88","v":""}]
[]
[null,null,null,null,null,null,null,null,null,null,null,null,null,null,null,null,null,null,null,null,null,null,null,null,null,null,null,null,null,null,null,null,null,null,null,null,null,null,null,null,null,null,null,{"$f":"AR90","v":0},null,{"$f":"AT90","v":""}]
[]
[]
[]
[null,null,null,null,null,null,null,null,null,null,null,null,null,null,null,null,null,null,null,"請求明細書 (貴社控)"]
[null,"株 式 会 社 種 村 建 設",null,null,null,null,null,null,null,null,null,null,"御中"]
[null,null,null,null,null,null,null,null,null,null,null,null,null,null,null,null,null,null,null,null,null,null,null,null,null,null,null,null,null,null,null,null,null,null,null,null,null,null,null,null,"請求年月日",null,null,null,null,{"$f":"IF(AT4=\"\",\"\",AT4)","v":""},null,null,null,{"$f":"IF(AX96=\"\",\"\",AX96)","v":""},null,null,{"$f":"IF(BA96=\"\",\"\",BA96)","v":""}]
[]
[]
[]
[]
[null,"工事番号",null,null,null,null,{"$f":"IF(G101=\"\",\"\",G101)","v":""},null,null,null,null,null,"工事名",null,null,null,{"$f":"IF(Q101=\"\",\"\",Q101)","v":""},null,null,null,null,null,null,null,null,null,null,null,null,null,null,null,null,null,null,null,null,"業者名",null,null,null,{"$f":"IF(AP101=\"\",\"\",AP101)","v":""}]
[]
[]
[]
[]
[]
[null,"注文番号",null,null,null,null,{"$f":"IF(G107=\"\",\"\",G107)","v":""},null,null,null,null,null,null,null,null,null,null,"月　日",null,null,null,"品　名・内　訳",null,null,null,null,null,null,null,null,null,null,null,null,null,null,null,"数 量",null,null,"単位",null,null,"単価",null,null,null,null,{"$f":"表紙①!P219","v":0}]
[]
[]
[]
[null,"契約金額",null,null,null,null,{"$f":"IF(G111=\"\",\"\",G111)","v":""},null,null,null,null,null,null,null,null,null,null,{"$f":"IF(R111=\"\",\"\",R111)","v":""},null,{"$f":"IF(T111=\"\",\"\",T111)","v":""},null,{"$f":"IF(V111=\"\",\"\",V111)","v":""},null,{"$f":"IF(X111=\"\",\"\",X111)","v":""},null,{"$f":"IF(Z111=\"\",\"\",Z111)","v":""},null,{"$f":"IF(AB111=\"\",\"\",AB111)","v":""},null,{"$f":"IF(AD111=\"\",\"\",AD111)","v":""},null,{"$f":"IF(AF111=\"\",\"\",AF111)","v":""},null,{"$f":"IF(AH111=\"\",\"\",AH111)","v":""},null,{"$f":"IF(AJ111=\"\",\"\",AJ111)","v":""},null,{"$f":"IF(AL111=\"\",\"\",AL111)","v":""},null,null,{"$f":"IF(AO111=\"\",\"\",AO111)","v":""},null,null,{"$f":"IF(AR111=\"\",\"\",AR111)","v":""},null,null,null,null,{"$f":"IF(AW111=\"\",\"\",AW111)","v":""}]
[]
[]
[]
[null,"増減額",null,null,null,null,{"$f":"IF(G115=\"\",\"\",G115)","v":""},null,null,null,null,null,null,null,null,null,null,{"$f":"IF(R115=\"\",\"\",R115)","v":""},null,{"$f":"IF(T115=\"\",\"\",T115)","v":""},null,{"$f":"IF(V115=\"\",\"\",V115)","v":""},null,{"$f":"IF(X115=\"\",\"\",X115)","v":""},null,{"$f":"IF(Z115=\"\",\"\",Z115)","v":""},null,{"$f":"IF(AB115=\"\",\"\",AB115)","v":""},null,{"$f":"IF(AD115=\"\",\"\",AD115)","v":""},null,{"$f":"IF(AF115=\"\",\"\",AF115)","v":""},null,{"$f":"IF(AH115=\"\",\"\",AH115)","v":""},null,{"$f":"IF(AJ115=\"\",\"\",AJ115)","v":""},null,{"$f":"IF(AL115=\"\",\"\",AL115)","v":""},null,null,{"$f":"IF(AO115=\"\",\"\",AO115)","v":""},null,null,{"$f":"IF(AR115=\"\",\"\",AR115)","v":""},null,null,null,null,{"$f":"IF(AW115=\"\",\"\",AW115)","v":""}]
[]
[]
[]
[null,"前回までの\n請求額",null,null,null,null,{"$f":"IF(G119=\"\",\"\",G119)","v":""},null,null,null,null,null,null,null,null,null,null,{"$f":"IF(R119=\"\",\"\",R119)","v":""},null,{"$f":"IF(T119=\"\",\"\",T119)","v":""},null,{"$f":"IF(V119=\"\",\"\",V119)","v":""},null,{"$f":"IF(X119=\"\",\"\",X119)","v":""},null,{"$f":"IF(Z119=\"\",\"\",Z119)","v":""},null,{"$f":"IF(AB119=\"\",\"\",AB119)","v":""},null,{"$f":"IF(AD119=\"\",\"\",AD119)","v":""},null,{"$f":"IF(AF119=\"\",\"\",AF119)","v":""},null,{"$f":"IF(AH119=\"\",\"\",AH119)","v":""},null,{"$f":"IF(AJ119=\"\",\"\",AJ119)","v":""},null,{"$f":"IF(AL119=\"\",\"\",AL119)","v":""},null,null,{"$f":"IF(AO119=\"\",\"\",AO119)","v":""},null,null,{"$f":"IF(AR119=\"\",\"\",AR119)","v":""},null,null,null,null,{"$f":"IF(AW119=\"\",\"\",AW119)","v":""}]
[]
[]
[]
[null,"今回\n請求額",null,null,{"$f":"IF(E31=\"\",\"\",E31)","v":""},null,{"$f":"IF(G123=\"\",\"\",G123)","v":""},null,null,null,null,null,null,null,null,null,null,{"$f":"IF(R123=\"\",\"\",R123)","v":""},null,{"$f":"IF(T123=\"\",\"\",T123)","v":""},null,{"$f":"IF(V123=\"\",\"\",V123)","v":""},null,{"$f":"IF(X123=\"\",\"\",X123)","v":""},null,{"$f":"IF(Z123=\"\",\"\",Z123)","v":""},null,{"$f":"IF(AB123=\"\",\"\",AB123)","v":""},null,{"$f":"IF(AD123=\"\",\"\",AD123)","v":""},null,{"$f":"IF(AF123=\"\",\"\",AF123)","v":""},null,{"$f":"IF(AH123=\"\",\"\",AH123)","v":""},null,{"$f":"IF(AJ123=\"\",\"\",AJ123)","v":""},null,{"$f":"IF(AL123=\"\",\"\",AL123)","v":""},null,null,{"$f":"IF(AO123=\"\",\"\",AO123)","v":""},null,null,{"$f":"IF(AR123=\"\",\"\",AR123)","v":""},null,null,null,null,{"$f":"IF(AW123=\"\",\"\",AW123)","v":""}]
[]
[]
[]
[null,"差引残高",null,null,null,null,{"$f":"IF(G203=\"\",\"\",G203+G207-G211-G215)","v":""},null,null,null,null,null,null,null,null,null,null,{"$f":"IF(R127=\"\",\"\",R127)","v":""},null,{"$f":"IF(T127=\"\",\"\",T127)","v":""},null,{"$f":"IF(V127=\"\",\"\",V127)","v":""},null,{"$f":"IF(X127=\"\",\"\",X127)","v":""},null,{"$f":"IF(Z127=\"\",\"\",Z127)","v":""},null,{"$f":"IF(AB127=\"\",\"\",AB127)","v":""},null,{"$f":"IF(AD127=\"\",\"\",AD127)","v":""},null,{"$f":"IF(AF127=\"\",\"\",AF127)","v":""},null,{"$f":"IF(AH127=\"\",\"\",AH127)","v":""},null,{"$f":"IF(AJ127=\"\",\"\",AJ127)","v":""},null,{"$f":"IF(AL127=\"\",\"\",AL127)","v":""},null,null,{"$f":"IF(AO127=\"\",\"\",AO127)","v":""},null,null,{"$f":"IF(AR127=\"\",\"\",AR127)","v":""},null,null,null,null,{"$f":"IF(AW127=\"\",\"\",AW127)","v":""}]
[]
[]
[]
[null,null,null,null,null,null,null,null,null,null,null,null,null,null,null,null,null,{"$f":"IF(R131=\"\",\"\",R131)","v":""},null,{"$f":"IF(T131=\"\",\"\",T131)","v":""},null,{"$f":"IF(V131=\"\",\"\",V131)","v":""},null,{"$f":"IF(X131=\"\",\"\",X131)","v":""},null,{"$f":"IF(Z131=\"\",\"\",Z131)","v":""},null,{"$f":"IF(AB131=\"\",\"\",AB131)","v":""},null,{"$f":"IF(AD131=\"\",\"\",AD131)","v":""},null,{"$f":"IF(AF131=\"\",\"\",AF131)","v":""},null,{"$f":"IF(AH131=\"\",\"\",AH131)","v":""},null,{"$f":"IF(AJ131=\"\",\"\",AJ131)","v":""},null,{"$f":"IF(AL131=\"\",\"\",AL131)","v":""},null,null,{"$f":"IF(AO131=\"\",\"\",AO131)","v":""},null,null,{"$f":"IF(AR131=\"\",\"\",AR131)","v":""},null,null,null,null,{"$f":"IF(AW131=\"\",\"\",AW131)","v":""}]
[]
[]
[]
[null,null,null,null,null,null,null,null,null,null,null,null,null,null,null,null,null,{"$f":"IF(R135=\"\",\"\",R135)","v":""},null,{"$f":"IF(T135=\"\",\"\",T135)","v":""},null,{"$f":"IF(V135=\"\",\"\",V135)","v":""},null,{"$f":"IF(X135=\"\",\"\",X135)","v":""},null,{"$f":"IF(Z135=\"\",\"\",Z135)","v":""},null,{"$f":"IF(AB135=\"\",\"\",AB135)","v":""},null,{"$f":"IF(AD135=\"\",\"\",AD135)","v":""},null,{"$f":"IF(AF135=\"\",\"\",AF135)","v":""},null,{"$f":"IF(AH135=\"\",\"\",AH135)","v":""},null,{"$f":"IF(AJ135=\"\",\"\",AJ135)","v":""},null,{"$f":"IF(AL135=\"\",\"\",AL135)","v":""},null,null,{"$f":"IF(AO135=\"\",\"\",AO135)","v":""},null,null,{"$f":"IF(AR135=\"\",\"\",AR135)","v":""},null,null,null,null,{"$f":"IF(AW135=\"\",\"\",AW135)","v":""}]
[]
[]
[]
[null,null,null,null,null,null,null,null,null,null,null,null,null,null,null,null,null,{"$f":"IF(R139=\"\",\"\",R139)","v":""},null,{"$f":"IF(T139=\"\",\"\",T139)","v":""},null,{"$f":"IF(V139=\"\",\"\",V139)","v":""},null,{"$f":"IF(X139=\"\",\"\",X139)","v":""},null,{"$f":"IF(Z139=\"\",\"\",Z139)","v":""},null,{"$f":"IF(AB139=\"\",\"\",AB139)","v":""},null,{"$f":"IF(AD139=\"\",\"\",AD139)","v":""},null,{"$f":"IF(AF139=\"\",\"\",AF139)","v":""},null,{"$f":"IF(AH139=\"\",\"\",AH139)","v":""},null,{"$f":"IF(AJ139=\"\",\"\",AJ139)","v":""},null,{"$f":"IF(AL139=\"\",\"\",AL139)","v":""},null,null,{"$f":"IF(AO139=\"\",\"\",AO139)","v":""},null,null,{"$f":"IF(AR139=\"\",\"\",AR139)","v":""},null,null,null,null,{"$f":"IF(AW139=\"\",\"\",AW139)","v":""}]
[]
[]
[]
[null,null,null,null,null,null,null,null,null,null,null,null,null,null,null,null,null,{"$f":"IF(R143=\"\",\"\",R143)","v":""},null,{"$f":"IF(T143=\"\",\"\",T143)","v":""},null,{"$f":"IF(V143=\"\",\"\",V143)","v":""},null,{"$f":"IF(X143=\"\",\"\",X143)","v":""},null,{"$f":"IF(Z143=\"\",\"\",Z143)","v":""},null,{"$f":"IF(AB143=\"\",\"\",AB143)","v":""},null,{"$f":"IF(AD143=\"\",\"\",AD143)","v":""},null,{"$f":"IF(AF143=\"\",\"\",AF143)","v":""},null,{"$f":"IF(AH143=\"\",\"\",AH143)","v":""},null,{"$f":"IF(AJ143=\"\",\"\",AJ143)","v":""},null,{"$f":"IF(AL143=\"\",\"\",AL143)","v":""},null,null,{"$f":"IF(AO143=\"\",\"\",AO143)","v":""},null,null,{"$f":"IF(AR143=\"\",\"\",AR143)","v":""},null,null,null,null,{"$f":"IF(AW143=\"\",\"\",AW143)","v":""}]
[]
[]
[]
[null,null,null,null,null,null,null,null,null,null,null,null,null,null,null,null,null,{"$f":"IF(R147=\"\",\"\",R147)","v":""},null,{"$f":"IF(T147=\"\",\"\",T147)","v":""},null,{"$f":"IF(V147=\"\",\"\",V147)","v":""},null,{"$f":"IF(X147=\"\",\"\",X147)","v":""},null,{"$f":"IF(Z147=\"\",\"\",Z147)","v":""},null,{"$f":"IF(AB147=\"\",\"\",AB147)","v":""},null,{"$f":"IF(AD147=\"\",\"\",AD147)","v":""},null,{"$f":"IF(AF147=\"\",\"\",AF147)","v":""},null,{"$f":"IF(AH147=\"\",\"\",AH147)","v":""},null,{"$f":"IF(AJ147=\"\",\"\",AJ147)","v":""},null,{"$f":"IF(AL147=\"\",\"\",AL147)","v":""},null,null,{"$f":"IF(AO147=\"\",\"\",AO147)","v":""},null,null,{"$f":"IF(AR147=\"\",\"\",AR147)","v":""},null,null,null,null,{"$f":"IF(AW147=\"\",\"\",AW147)","v":""}]
[]
[]
[]
[null,null,null,null,null,null,null,null,null,null,null,null,null,null,null,null,null,{"$f":"IF(R151=\"\",\"\",R151)","v":""},null,{"$f":"IF(T151=\"\",\"\",T151)","v":""},null,{"$f":"IF(V151=\"\",\"\",V151)","v":""},null,{"$f":"IF(X151=\"\",\"\",X151)","v":""},null,{"$f":"IF(Z151=\"\",\"\",Z151)","v":""},null,{"$f":"IF(AB151=\"\",\"\",AB151)","v":""},null,{"$f":"IF(AD151=\"\",\"\",AD151)","v":""},null,{"$f":"IF(AF151=\"\",\"\",AF151)","v":""},null,{"$f":"IF(AH151=\"\",\"\",AH151)","v":""},null,{"$f":"IF(AJ151=\"\",\"\",AJ151)","v":""},null,{"$f":"IF(AL151=\"\",\"\",AL151)","v":""},null,null,{"$f":"IF(AO151=\"\",\"\",AO151)","v":""},null,null,{"$f":"IF(AR151=\"\",\"\",AR151)","v":""},null,null,null,null,{"$f":"IF(AW151=\"\",\"\",AW151)","v":""}]
[]
[]
[]
[null,null,null,null,null,null,null,null,null,null,null,null,null,null,null,null,null,{"$f":"IF(R155=\"\",\"\",R155)","v":""},null,{"$f":"IF(T155=\"\",\"\",T155)","v":""},null,{"$f":"IF(V155=\"\",\"\",V155)","v":""},null,{"$f":"IF(X155=\"\",\"\",X155)","v":""},null,{"$f":"IF(Z155=\"\",\"\",Z155)","v":""},null,{"$f":"IF(AB155=\"\",\"\",AB155)","v":""},null,{"$f":"IF(AD155=\"\",\"\",AD155)","v":""},null,{"$f":"IF(AF155=\"\",\"\",AF155)","v":""},null,{"$f":"IF(AH155=\"\",\"\",AH155)","v":""},null,{"$f":"IF(AJ155=\"\",\"\",AJ155)","v":""},null,{"$f":"IF(AL155=\"\",\"\",AL155)","v":""},null,null,{"$f":"IF(AO155=\"\",\"\",AO155)","v":""},null,null,{"$f":"IF(AR155=\"\",\"\",AR155)","v":""},null,null,null,null,{"$f":"IF(AW155=\"\",\"\",AW155)","v":""}]
[]
[]
[]
[null,null,null,null,null,null,null,null,null,null,null,null,null,null,null,null,null,{"$f":"IF(R159=\"\",\"\",R159)","v":""},null,{"$f":"IF(T159=\"\",\"\",T159)","v":""},null,{"$f":"IF(V159=\"\",\"\",V159)","v":""},null,{"$f":"IF(X159=\"\",\"\",X159)","v":""},null,{"$f":"IF(Z159=\"\",\"\",Z159)","v":""},null,{"$f":"IF(AB159=\"\",\"\",AB159)","v":""},null,{"$f":"IF(AD159=\"\",\"\",AD159)","v":""},null,{"$f":"IF(AF159=\"\",\"\",AF159)","v":""},null,{"$f":"IF(AH159=\"\",\"\",AH159)","v":""},null,{"$f":"IF(AJ159=\"\",\"\",AJ159)","v":""},null,{"$f":"IF(AL159=\"\",\"\",AL159)","v":""},null,null,{"$f":"IF(AO159=\"\",\"\",AO159)","v":""},null,null,{"$f":"IF(AR159=\"\",\"\",AR159)","v":""},null,null,null,null,{"$f":"IF(AW159=\"\",\"\",AW159)","v":""}]
[]
[]
[]
[null,null,null,null,null,null,null,null,null,null,null,null,null,null,null,null,null,{"$f":"IF(R163=\"\",\"\",R163)","v":""},null,{"$f":"IF(T163=\"\",\"\",T163)","v":""},null,{"$f":"IF(V163=\"\",\"\",V163)","v":""},null,{"$f":"IF(X163=\"\",\"\",X163)","v":""},null,{"$f":"IF(Z163=\"\",\"\",Z163)","v":""},null,{"$f":"IF(AB163=\"\",\"\",AB163)","v":""},null,{"$f":"IF(AD163=\"\",\"\",AD163)","v":""},null,{"$f":"IF(AF163=\"\",\"\",AF163)","v":""},null,{"$f":"IF(AH163=\"\",\"\",AH163)","v":""},null,{"$f":"IF(AJ163=\"\",\"\",AJ163)","v":""},null,{"$f":"IF(AL163=\"\",\"\",AL163)","v":""},null,null,{"$f":"IF(AO163=\"\",\"\",AO163)","v":""},null,null,{"$f":"IF(AR163=\"\",\"\",AR163)","v":""},null,null,null,null,{"$f":"IF(AW163=\"\",\"\",AW163)","v":""}]
[]
[]
[]
[null,null,null,null,null,null,null,null,null,null,null,null,null,null,null,null,null,{"$f":"IF(R167=\"\",\"\",R167)","v":""},null,{"$f":"IF(T167=\"\",\"\",T167)","v":""},null,{"$f":"IF(V167=\"\",\"\",V167)","v":""},null,{"$f":"IF(X167=\"\",\"\",X167)","v":""},null,{"$f":"IF(Z167=\"\",\"\",Z167)","v":""},null,{"$f":"IF(AB167=\"\",\"\",AB167)","v":""},null,{"$f":"IF(AD167=\"\",\"\",AD167)","v":""},null,{"$f":"IF(AF167=\"\",\"\",AF167)","v":""},null,{"$f":"IF(AH167=\"\",\"\",AH167)","v":""},null,{"$f":"IF(AJ167=\"\",\"\",AJ167)","v":""},null,{"$f":"IF(AL167=\"\",\"\",AL167)","v":""},null,null,{"$f":"IF(AO167=\"\",\"\",AO167)","v":""},null,null,{"$f":"IF(AR167=\"\",\"\",AR167)","v":""},null,null,null,null,{"$f":"IF(AW167=\"\",\"\",AW167)","v":""}]
[]
[]
[]
[null,null,null,null,null,null,null,null,null,null,null,null,null,null,null,null,null,{"$f":"IF(R171=\"\",\"\",R171)","v":""},null,{"$f":"IF(T171=\"\",\"\",T171)","v":""},null,{"$f":"IF(V171=\"\",\"\",V171)","v":""},null,{"$f":"IF(X171=\"\",\"\",X171)","v":""},null,{"$f":"IF(Z171=\"\",\"\",Z171)","v":""},null,{"$f":"IF(AB171=\"\",\"\",AB171)","v":""},null,{"$f":"IF(AD171=\"\",\"\",AD171)","v":""},null,{"$f":"IF(AF171=\"\",\"\",AF171)","v":""},null,{"$f":"IF(AH171=\"\",\"\",AH171)","v":""},null,{"$f":"IF(AJ171=\"\",\"\",AJ171)","v":""},null,{"$f":"IF(AL171=\"\",\"\",AL171)","v":""},null,null,{"$f":"IF(AO171=\"\",\"\",AO171)","v":""},null,null,{"$f":"IF(AR171=\"\",\"\",AR171)","v":""},null,null,null,null,{"$f":"IF(AW171=\"\",\"\",AW171)","v":""}]
[]
[]
[]
[null,null,null,null,null,null,null,null,null,null,null,null,null,null,null,null,null,null,null,null,null,null,null,null,null,null,null,null,null,null,null,null,null,null,null,null,null,{"$f":"AL175","v":"金額(税抜)"},null,null,null,null,null,null,null,null,null,null,{"$f":"AW83","v":""}]
[]
[]
[]
[]
[null,null,null,null,null,null,null,null,null,null,null,null,null,null,null,null,null,null,null,null,null,null,null,null,null,null,null,null,null,null,null,null,null,null,null,null,null,{"$f":"AL180","v":"消費税"},null,null,null,null,null,"税率",null,null,"税調",null,{"$f":"AW88","v":""}]
[]
[null,null,null,null,null,null,null,null,null,null,null,null,null,null,null,null,null,null,null,null,null,null,null,null,null,null,null,null,null,null,null,null,null,null,null,null,null,null,null,null,null,null,null,{"$f":"AR90","v":0},null,{"$f":"AT90","v":""}]

{"sheet":"細1-9","index":12,"n_rows":274,"n_cols":53,"rows_kept":274,"cut":false,"hidden":false,"merged":[[179,37,182,42],[179,43,180,45],[179,46,180,47],[181,43,182,44],[181,45,182,45],[181,46,182,47],[271,37,274,42],[271,43,272,45],[273,43,274,44],[273,45,274,45],[273,46,274,47],[271,46,272,47],[187,40,189,44],[187,45,189,48],[179,48,182,54],[198,48,201,54],[214,48,217,54],[222,40,225,42],[222,43,225,47],[254,37,257,39],[246,40,249,42],[246,43,249,47],[246,48,249,54],[254,48,257,54],[3,49,5,51],[3,52,5,54],[8,37,11,40],[8,41,11,54],[1,19,4,32],[2,1,5,11],[2,12,5,13],[8,1,11,5],[8,6,11,11],[8,12,11,15],[8,16,11,35],[3,40,5,44],[3,45,5,48],[14,43,17,47],[14,48,17,54],[14,1,17,5],[14,6,17,15],[14,17,17,20],[14,21,17,36],[18,1,21,5],[18,6,21,15],[18,17,21,18],[14,37,17,39],[14,40,17,42],[18,21,21,36],[18,37,21,39],[18,40,21,42],[18,43,21,47],[26,1,29,5],[26,6,29,15],[26,17,29,18],[26,19,29,20],[18,48,21,54],[22,1,25,5],[22,6,25,15],[22,17,25,18],[22,19,25,20],[22,21,25,36],[26,21,29,36],[26,37,29,39],[26,40,29,42],[26,43,29,47],[22,37,25,39],[22,40,25,42],[22,43,25,47],[18,19,21,20],[34,48,37,54],[26,48,29,54],[30,1,33,3],[30,4,33,5],[30,6,33,15],[30,17,33,18],[30,19,33,20],[22,48,25,54],[38,17,41,18],[38,19,41,20],[38,21,41,36],[38,37,41,39],[30,48,33,54],[34,1,37,5],[34,6,37,15],[34,17,37,18],[34,19,37,20],[34,21,37,36],[38,40,41,42],[38,43,41,47],[38,48,41,54],[30,21,33,36],[30,37,33,39],[30,40,33,42],[30,43,33,47],[34,37,37,39],[34,40,37,42],[34,43,37,47],[46,40,49,42],[46,43,49,47],[46,21,49,36],[46,37,49,39],[54,40,57,42],[54,43,57,47],[42,17,45,18],[42,19,45,20],[42,21,45,36],[42,37,45,39],[42,40,45,42],[42,43,45,47],[42,48,45,54],[46,48,49,54],[50,17,53,18],[50,19,53,20],[50,21,53,36],[50,37,53,39],[50,40,53,42],[50,43,53,47],[50,48,53,54],[46,17,49,18],[46,19,49,20],[58,17,61,18],[58,19,61,20],[58,21,61,36],[58,37,61,39],[58,40,61,42],[58,43,61,47],[58,48,61,54],[54,17,57,18],[54,19,57,20],[54,21,57,36],[54,37,57,39],[54,48,57,54],[62,40,65,42],[62,43,65,47],[62,21,65,36],[62,37,65,39],[70,40,73,42],[70,43,73,47],[70,48,73,54],[62,48,65,54],[66,17,69,18],[66,19,69,20],[66,21,69,36],[66,37,69,39],[66,40,69,42],[66,43,69,47],[66,48,69,54],[62,17,65,18],[62,19,65,20],[74,17,77,18],[74,19,77,20],[74,21,77,36],[74,37,77,39],[74,40,77,42],[74,43,77,47],[74,48,77,54],[70,17,73,18],[70,19,73,20],[70,21,73,36],[70,37,73,39],[78,48,81,54],[82,37,85,47],[82,48,85,54],[78,37,81,39],[78,40,81,42],[85,11,90,16],[85,17,90,25],[78,43,81,47],[83,26,84,30],[83,31,84,35],[78,17,81,18],[78,19,81,20],[78,21,81,36],[85,26,90,30],[85,31,90,35],[83,1,84,4],[83,5,84,10],[83,11,84,16],[83,17,84,25],[85,1,90,4],[85,5,90,10],[87,48,90,54],[95,49,97,51],[95,52,97,54],[95,40,97,44],[95,45,97,48],[87,37,90,42],[87,43,88,45],[89,43,90,44],[89,45,90,45],[89,46,90,47],[87,46,88,47],[100,1,103,5],[100,6,103,11],[100,12,103,15],[100,16,103,35],[100,37,103,40],[100,41,103,54],[93,19,96,32],[94,1,97,11],[94,12,97,13],[106,37,109,39],[106,40,109,42],[106,43,109,47],[106,48,109,54],[106,1,109,5],[106,6,109,15],[106,17,109,20],[106,21,109,36],[110,21,113,36],[110,37,113,39],[110,40,113,42],[110,43,113,47],[110,1,113,5],[110,6,113,15],[110,17,113,18],[110,19,113,20],[110,48,113,54],[114,1,117,5],[114,6,117,15],[114,17,117,18],[114,19,117,20],[114,21,117,36],[114,37,117,39],[114,40,117,42],[114,43,117,47],[114,48,117,54],[118,21,121,36],[118,37,121,39],[118,40,121,42],[118,43,121,47],[118,1,121,5],[118,6,121,15],[118,17,121,18],[118,19,121,20],[118,48,121,54],[122,48,125,54],[126,1,129,5],[126,6,129,15],[126,17,129,18],[126,19,129,20],[126,21,129,36],[126,37,129,39],[126,40,129,42],[126,43,129,47],[126,48,129,54],[122,1,125,3],[122,4,125,5],[122,6,125,15],[122,17,125,18],[122,19,125,20],[122,21,125,36],[122,37,125,39],[122,40,125,42],[122,43,125,47],[130,40,133,42],[130,43,133,47],[130,21,133,36],[130,37,133,39],[138,40,141,42],[138,43,141,47],[138,48,141,54],[130,48,133,54],[134,17,137,18],[134,19,137,20],[134,21,137,36],[134,37,137,39],[134,40,137,42],[134,43,137,47],[134,48,137,54],[130,17,133,18],[130,19,133,20],[142,17,145,18],[142,19,145,20],[142,21,145,36],[142,37,145,39],[142,40,145,42],[142,43,145,47],[142,48,145,54],[138,17,141,18],[138,19,141,20],[138,21,141,36],[138,37,141,39],[154,48,157,54],[146,48,149,54],[150,17,153,18],[150,19,153,20],[150,21,153,36],[150,37,153,39],[150,40,153,42],[150,43,153,47],[150,48,153,54],[146,17,149,18],[146,19,149,20],[154,17,157,18],[154,19,157,20],[154,21,157,36],[154,37,157,39],[146,40,149,42],[146,43,149,47],[146,21,149,36],[146,37,149,39],[154,40,157,42],[154,43,157,47],[174,48,177,54],[170,17,173,18],[170,19,173,20],[158,17,161,18],[158,19,161,20],[158,21,161,36],[158,37,161,39],[158,40,161,42],[158,43,161,47],[158,48,161,54],[170,21,173,36],[170,37,173,39],[170,43,173,47],[185,19,188,32],[186,1,189,11],[186,12,189,13],[192,37,195,40],[192,41,195,54],[162,40,165,42],[162,43,165,47],[162,21,165,36],[162,37,165,39],[162,48,165,54],[166,17,169,18],[166,19,169,20],[166,21,169,36],[166,37,169,39],[166,40,169,42],[166,43,169,47],[166,48,169,54],[162,17,165,18],[162,19,165,20],[187,49,189,51],[187,52,189,54],[170,40,173,42],[170,48,173,54],[174,37,177,47],[202,21,205,36],[202,37,205,39],[202,40,205,42],[202,43,205,47],[202,1,205,5],[202,6,205,15],[202,17,205,18],[202,19,205,20],[202,48,205,54],[198,1,201,5],[198,6,201,15],[198,17,201,20],[198,21,201,36],[198,37,201,39],[198,40,201,42],[198,43,201,47],[192,1,195,5],[192,6,195,11],[192,12,195,15],[192,16,195,35],[206,1,209,5],[206,6,209,15],[206,17,209,18],[206,19,209,20],[206,21,209,36],[206,37,209,39],[206,40,209,42],[206,43,209,47],[206,48,209,54],[210,21,213,36],[210,37,213,39],[210,40,213,42],[210,43,213,47],[210,1,213,5],[210,6,213,15],[210,17,213,18],[210,19,213,20],[210,48,213,54],[218,1,221,5],[218,6,221,15],[218,17,221,18],[218,19,221,20],[218,21,221,36],[218,37,221,39],[218,40,221,42],[218,43,221,47],[218,48,221,54],[214,1,217,3],[214,4,217,5],[214,6,217,15],[214,17,217,18],[214,19,217,20],[214,21,217,36],[214,37,217,39],[214,40,217,42],[214,43,217,47],[222,21,225,36],[222,37,225,39],[230,40,233,42],[230,43,233,47],[230,48,233,54],[222,48,225,54],[226,17,229,18],[226,19,229,20],[226,21,229,36],[226,37,229,39],[226,40,229,42],[226,43,229,47],[226,48,229,54],[222,17,225,18],[222,19,225,20],[234,17,237,18],[234,19,237,20],[234,21,237,36],[234,37,237,39],[234,40,237,42],[234,43,237,47],[234,48,237,54],[230,17,233,18],[230,19,233,20],[230,21,233,36],[230,37,233,39],[242,17,245,18],[242,19,245,20],[242,21,245,36],[242,37,245,39],[242,40,245,42],[242,43,245,47],[242,48,245,54],[238,17,241,18],[238,19,241,20],[238,40,241,42],[238,43,241,47],[238,21,241,36],[238,37,241,39],[238,48,241,54],[250,17,253,18],[250,19,253,20],[250,21,253,36],[250,37,253,39],[250,40,253,42],[250,43,253,47],[250,48,253,54],[246,17,249,18],[246,19,249,20],[246,21,249,36],[246,37,249,39],[258,17,261,18],[258,19,261,20],[258,21,261,36],[258,37,261,39],[258,40,261,42],[258,43,261,47],[258,48,261,54],[254,17,257,18],[254,19,257,20],[254,40,257,42],[254,43,257,47],[254,21,257,36],[271,48,274,54],[262,40,265,42],[262,43,265,47],[262,48,265,54],[266,37,269,47],[266,48,269,54],[262,17,265,18],[262,19,265,20],[262,21,265,36],[262,37,265,39]]}
[]
[null,null,null,null,null,null,null,null,null,null,null,null,null,null,null,null,null,null,null,"請求書明細書 (正)"]
[null,"株 式 会 社 種 村 建 設",null,null,null,null,null,null,null,null,null,null,"御中"]
[null,null,null,null,null,null,null,null,null,null,null,null,null,null,null,null,null,null,null,null,null,null,null,null,null,null,null,null,null,null,null,null,null,null,null,null,null,null,null,null,"請求年月日",null,null,null,null,{"$f":"IF(年=\"\",\"\",年)","v":""},null,null,null,{"$f":"IF(月=\"\",\"\",月)","v":""},null,null,{"$f":"IF(日=\"\",\"\",日)","v":""}]
[]
[]
[]
[]
[null,"工事番号",null,null,null,null,null,null,null,null,null,null,"工事名",null,null,null,null,null,null,null,null,null,null,null,null,null,null,null,null,null,null,null,null,null,null,null,null,"業者名",null,null,null,{"$f":"IF(社名=\"\",\"\",社名)","v":""}]
[]
[]
[]
[]
[]
[null,"注文番号",null,null,null,null,null,null,null,null,null,null,null,null,null,null,null,"月　日",null,null,null,"品　名・内　訳",null,null,null,null,null,null,null,null,null,null,null,null,null,null,null,"数 量",null,null,"単位",null,null,"単価",null,null,null,null,{"$f":"表紙①!P35","v":"金額(税抜)"}]
[]
[]
[]
[null,"契約金額",null,null,null,null,null,null,null,null,null,null,null,null,null,null,null,null,null,null,null,null,null,null,null,null,null,null,null,null,null,null,null,null,null,null,null,null,null,null,null,null,null,null,null,null,null,null,{"$f":"IF(V19=\"\",\"\",ROUND(AL19*AR19,0))","v":""}]
[]
[]
[]
[null,"増減額",null,null,null,null,null,null,null,null,null,null,null,null,null,null,null,null,null,null,null,null,null,null,null,null,null,null,null,null,null,null,null,null,null,null,null,null,null,null,null,null,null,null,null,null,null,null,{"$f":"IF(V23=\"\",\"\",ROUND(AL23*AR23,0))","v":""}]
[]
[]
[]
[null,"前回までの\n請求額",null,null,null,null,null,null,null,null,null,null,null,null,null,null,null,null,null,null,null,null,null,null,null,null,null,null,null,null,null,null,null,null,null,null,null,null,null,null,null,null,null,null,null,null,null,null,{"$f":"IF(V27=\"\",\"\",ROUND(AL27*AR27,0))","v":""}]
[]
[]
[]
[null,"今回\n請求額",null,null,null,null,null,null,null,null,null,null,null,null,null,null,null,null,null,null,null,null,null,null,null,null,null,null,null,null,null,null,null,null,null,null,null,null,null,null,null,null,null,null,null,null,null,null,{"$f":"IF(V31=\"\",\"\",ROUND(AL31*AR31,0))","v":""}]
[]
[]
[]
[null,"差引残高",null,null,null,null,{"$f":"IF(G19=\"\",\"\",G19+G23-G27-G31)","v":""},null,null,null,null,null,null,null,null,null,null,null,null,null,null,null,null,null,null,null,null,null,null,null,null,null,null,null,null,null,null,null,null,null,null,null,null,null,null,null,null,null,{"$f":"IF(V35=\"\",\"\",ROUND(AL35*AR35,0))","v":""}]
[]
[]
[]
[null,null,null,null,null,null,null,null,null,null,null,null,null,null,null,null,null,null,null,null,null,null,null,null,null,null,null,null,null,null,null,null,null,null,null,null,null,null,null,null,null,null,null,null,null,null,null,null,{"$f":"IF(V39=\"\",\"\",ROUND(AL39*AR39,0))","v":""}]
[]
[]
[]
[null,null,null,null,null,null,null,null,null,null,null,null,null,null,null,null,null,null,null,null,null,null,null,null,null,null,null,null,null,null,null,null,null,null,null,null,null,null,null,null,null,null,null,null,null,null,null,null,{"$f":"IF(V43=\"\",\"\",ROUND(AL43*AR43,0))","v":""}]
[]
[]
[]
[null,null,null,null,null,null,null,null,null,null,null,null,null,null,null,null,null,null,null,null,null,null,null,null,null,null,null,null,null,null,null,null,null,null,null,null,null,null,null,null,null,null,null,null,null,null,null,null,{"$f":"IF(V47=\"\",\"\",ROUND(AL47*AR47,0))","v":""}]
[]
[]
[]
[null,null,null,null,null,null,null,null,null,null,null,null,null,null,null,null,null,null,null,null,null,null,null,null,null,null,null,null,null,null,null,null,null,null,null,null,null,null,null,null,null,null,null,null,null,null,null,null,{"$f":"IF(V51=\"\",\"\",ROUND(AL51*AR51,0))","v":""}]
[]
[]
[]
[null,null,null,null,null,null,null,null,null,null,null,null,null,null,null,null,null,null,null,null,null,null,null,null,null,null,null,null,null,null,null,null,null,null,null,null,null,null,null,null,null,null,null,null,null,null,null,null,{"$f":"IF(V55=\"\",\"\",ROUND(AL55*AR55,0))","v":""}]
[]
[]
[]
[null,null,null,null,null,null,null,null,null,null,null,null,null,null,null,null,null,null,null,null,null,null,null,null,null,null,null,null,null,null,null,null,null,null,null,null,null,null,null,null,null,null,null,null,null,null,null,null,{"$f":"IF(V59=\"\",\"\",ROUND(AL59*AR59,0))","v":""}]
[]
[]
[]
[null,null,null,null,null,null,null,null,null,null,null,null,null,null,null,null,null,null,null,null,null,null,null,null,null,null,null,null,null,null,null,null,null,null,null,null,null,null,null,null,null,null,null,null,null,null,null,null,{"$f":"IF(V63=\"\",\"\",ROUND(AL63*AR63,0))","v":""}]
[]
[]
[]
[null,null,null,null,null,null,null,null,null,null,null,null,null,null,null,null,null,null,null,null,null,null,null,null,null,null,null,null,null,null,null,null,null,null,null,null,null,null,null,null,null,null,null,null,null,null,null,null,{"$f":"IF(V67=\"\",\"\",ROUND(AL67*AR67,0))","v":""}]
[]
[]
[]
[null,null,null,null,null,null,null,null,null,null,null,null,null,null,null,null,null,null,null,null,null,null,null,null,null,null,null,null,null,null,null,null,null,null,null,null,null,null,null,null,null,null,null,null,null,null,null,null,{"$f":"IF(V71=\"\",\"\",ROUND(AL71*AR71,0))","v":""}]
[]
[]
[]
[null,null,null,null,null,null,null,null,null,null,null,null,null,null,null,null,null,null,null,null,null,null,null,null,null,null,null,null,null,null,null,null,null,null,null,null,null,null,null,null,null,null,null,null,null,null,null,null,{"$f":"IF(V75=\"\",\"\",ROUND(AL75*AR75,0))","v":""}]
[]
[]
[]
[null,null,null,null,null,null,null,null,null,null,null,null,null,null,null,null,null,null,null,null,null,null,null,null,null,null,null,null,null,null,null,null,null,null,null,null,null,null,null,null,null,null,null,null,null,null,null,null,{"$f":"IF(V79=\"\",\"\",ROUND(AL79*AR79,0))","v":""}]
[]
[]
[]
[null,null,null,null,null,null,null,null,null,null,null,null,null,null,null,null,null,null,null,null,null,null,null,null,null,null,null,null,null,null,null,null,null,null,null,null,null,"金額(税抜)",null,null,null,null,null,null,null,null,null,null,{"$f":"IF(AW19=\"\",\"\",SUM(AW19:AW79))","v":""}]
[null,"社長",null,null,null,"専務",null,null,null,null,null,"常務",null,null,null,null,null,"部長･工場長",null,null,null,null,null,null,null,null,"担当者",null,null,null,null,"受付"]
[]
[]
[]
[null,null,null,null,null,null,null,null,null,null,null,null,null,null,null,null,null,null,null,null,null,null,null,null,null,null,null,null,null,null,null,null,null,null,null,null,null,"消費税",null,null,null,null,null,"税率",null,null,"税調",null,{"$f":"IF(AW83=\"\",\"\",IF(AR90=\"\",\"\",IF(AR90=8.1,ROUND(AW83*8/100,0)+AU90,ROUND(AW83*AR90/100,0)+AU90)))","v":""}]
[]
[null,null,null,null,null,null,null,null,null,null,null,null,null,null,null,null,null,null,null,null,null,null,null,null,null,null,null,null,null,null,null,null,null,null,null,null,null,null,null,null,null,null,null,null,null,{"$f":"IF(AR90=\"\",\"\",IF(AR90=8.1,\"旧\",IF(AR90=8,\"軽\",IF(AR90=0,\"非\",\"\"))))","v":""}]
[]
[]
[]
[null,null,null,null,null,null,null,null,null,null,null,null,null,null,null,null,null,null,null,"請求明細書 (現場控)"]
[null,"株 式 会 社 種 村 建 設",null,null,null,null,null,null,null,null,null,null,"御中"]
[null,null,null,null,null,null,null,null,null,null,null,null,null,null,null,null,null,null,null,null,null,null,null,null,null,null,null,null,null,null,null,null,null,null,null,null,null,null,null,null,"請求年月日",null,null,null,null,{"$f":"IF(AT4=\"\",\"\",AT4)","v":""},null,null,null,{"$f":"IF(AX4=\"\",\"\",AX4)","v":""},null,null,{"$f":"IF(BA4=\"\",\"\",BA4)","v":""}]
[]
[]
[]
[]
[null,"工事番号",null,null,null,null,{"$f":"IF(G9=\"\",\"\",G9)","v":""},null,null,null,null,null,"工事名",null,null,null,{"$f":"IF(Q9=\"\",\"\",Q9)","v":""},null,null,null,null,null,null,null,null,null,null,null,null,null,null,null,null,null,null,null,null,"業者名",null,null,null,{"$f":"IF(AP9=\"\",\"\",AP9)","v":""}]
[]
[]
[]
[]
[]
[null,"注文番号",null,null,null,null,{"$f":"IF(G15=\"\",\"\",G15)","v":""},null,null,null,null,null,null,null,null,null,null,"月　日",null,null,null,"品　名・内　訳",null,null,null,null,null,null,null,null,null,null,null,null,null,null,null,"数 量",null,null,"単位",null,null,"単価",null,null,null,null,{"$f":"表紙①!P127","v":"金額(税抜)"}]
[]
[]
[]
[null,"契約金額",null,null,null,null,{"$f":"IF(G19=\"\",\"\",G19)","v":""},null,null,null,null,null,null,null,null,null,null,{"$f":"IF(R19=\"\",\"\",R19)","v":""},null,{"$f":"IF(T19=\"\",\"\",T19)","v":""},null,null,null,{"$f":"IF(X19=\"\",\"\",X19)","v":""},null,{"$f":"IF(Z19=\"\",\"\",Z19)","v":""},null,{"$f":"IF(AB19=\"\",\"\",AB19)","v":""},null,{"$f":"IF(AD19=\"\",\"\",AD19)","v":""},null,{"$f":"IF(AF19=\"\",\"\",AF19)","v":""},null,{"$f":"IF(AH19=\"\",\"\",AH19)","v":""},null,{"$f":"IF(AJ19=\"\",\"\",AJ19)","v":""},null,{"$f":"IF(AL19=\"\",\"\",AL19)","v":""},null,null,{"$f":"IF(AO19=\"\",\"\",AO19)","v":""},null,null,{"$f":"IF(AR19=\"\",\"\",AR19)","v":""},null,null,null,null,{"$f":"IF(AW19=\"\",\"\",AW19)","v":""}]
[]
[]
[]
[null,"増減額",null,null,null,null,{"$f":"IF(G23=\"\",\"\",G23)","v":""},null,null,null,null,null,null,null,null,null,null,{"$f":"IF(R23=\"\",\"\",R23)","v":""},null,{"$f":"IF(T23=\"\",\"\",T23)","v":""},null,{"$f":"IF(V23=\"\",\"\",V23)","v":""},null,{"$f":"IF(X23=\"\",\"\",X23)","v":""},null,{"$f":"IF(Z23=\"\",\"\",Z23)","v":""},null,{"$f":"IF(AB23=\"\",\"\",AB23)","v":""},null,{"$f":"IF(AD23=\"\",\"\",AD23)","v":""},null,{"$f":"IF(AF23=\"\",\"\",AF23)","v":""},null,{"$f":"IF(AH23=\"\",\"\",AH23)","v":""},null,{"$f":"IF(AJ23=\"\",\"\",AJ23)","v":""},null,{"$f":"IF(AL23=\"\",\"\",AL23)","v":""},null,null,{"$f":"IF(AO23=\"\",\"\",AO23)","v":""},null,null,{"$f":"IF(AR23=\"\",\"\",AR23)","v":""},null,null,null,null,{"$f":"IF(AW23=\"\",\"\",AW23)","v":""}]
[]
[]
[]
[null,"前回までの\n請求額",null,null,null,null,{"$f":"IF(G27=\"\",\"\",G27)","v":""},null,null,null,null,null,null,null,null,null,null,{"$f":"IF(R27=\"\",\"\",R27)","v":""},null,{"$f":"IF(T27=\"\",\"\",T27)","v":""},null,{"$f":"IF(V27=\"\",\"\",V27)","v":""},null,{"$f":"IF(X27=\"\",\"\",X27)","v":""},null,{"$f":"IF(Z27=\"\",\"\",Z27)","v":""},null,{"$f":"IF(AB27=\"\",\"\",AB27)","v":""},null,{"$f":"IF(AD27=\"\",\"\",AD27)","v":""},null,{"$f":"IF(AF27=\"\",\"\",AF27)","v":""},null,{"$f":"IF(AH27=\"\",\"\",AH27)","v":""},null,{"$f":"IF(AJ27=\"\",\"\",AJ27)","v":""},null,{"$f":"IF(AL27=\"\",\"\",AL27)","v":""},null,null,{"$f":"IF(AO27=\"\",\"\",AO27)","v":""},null,null,{"$f":"IF(AR27=\"\",\"\",AR27)","v":""},null,null,null,null,{"$f":"IF(AW27=\"\",\"\",AW27)","v":""}]
[]
[]
[]
[null,"今回\n請求額",null,null,{"$f":"IF(E31=\"\",\"\",E31)","v":""},null,{"$f":"IF(G31=\"\",\"\",G31)","v":""},null,null,null,null,null,null,null,null,null,null,{"$f":"IF(R31=\"\",\"\",R31)","v":""},null,{"$f":"IF(T31=\"\",\"\",T31)","v":""},null,{"$f":"IF(V31=\"\",\"\",V31)","v":""},null,{"$f":"IF(X31=\"\",\"\",X31)","v":""},null,{"$f":"IF(Z31=\"\",\"\",Z31)","v":""},null,{"$f":"IF(AB31=\"\",\"\",AB31)","v":""},null,{"$f":"IF(AD31=\"\",\"\",AD31)","v":""},null,{"$f":"IF(AF31=\"\",\"\",AF31)","v":""},null,{"$f":"IF(AH31=\"\",\"\",AH31)","v":""},null,{"$f":"IF(AJ31=\"\",\"\",AJ31)","v":""},null,{"$f":"IF(AL31=\"\",\"\",AL31)","v":""},null,null,{"$f":"IF(AO31=\"\",\"\",AO31)","v":""},null,null,{"$f":"IF(AR31=\"\",\"\",AR31)","v":""},null,null,null,null,{"$f":"IF(AW31=\"\",\"\",AW31)","v":""}]
[]
[]
[]
[null,"差引残高",null,null,null,null,{"$f":"IF(G111=\"\",\"\",G111+G115-G119-G123)","v":""},null,null,null,null,null,null,null,null,null,null,{"$f":"IF(R35=\"\",\"\",R35)","v":""},null,{"$f":"IF(T35=\"\",\"\",T35)","v":""},null,{"$f":"IF(V35=\"\",\"\",V35)","v":""},null,{"$f":"IF(X35=\"\",\"\",X35)","v":""},null,{"$f":"IF(Z35=\"\",\"\",Z35)","v":""},null,{"$f":"IF(AB35=\"\",\"\",AB35)","v":""},null,{"$f":"IF(AD35=\"\",\"\",AD35)","v":""},null,{"$f":"IF(AF35=\"\",\"\",AF35)","v":""},null,{"$f":"IF(AH35=\"\",\"\",AH35)","v":""},null,{"$f":"IF(AJ35=\"\",\"\",AJ35)","v":""},null,{"$f":"IF(AL35=\"\",\"\",AL35)","v":""},null,null,{"$f":"IF(AO35=\"\",\"\",AO35)","v":""},null,null,{"$f":"IF(AR35=\"\",\"\",AR35)","v":""},null,null,null,null,{"$f":"IF(AW35=\"\",\"\",AW35)","v":""}]
[]
[]
[]
[null,null,null,null,null,null,null,null,null,null,null,null,null,null,null,null,null,{"$f":"IF(R39=\"\",\"\",R39)","v":""},null,{"$f":"IF(T39=\"\",\"\",T39)","v":""},null,{"$f":"IF(V39=\"\",\"\",V39)","v":""},null,{"$f":"IF(X39=\"\",\"\",X39)","v":""},null,{"$f":"IF(Z39=\"\",\"\",Z39)","v":""},null,{"$f":"IF(AB39=\"\",\"\",AB39)","v":""},null,{"$f":"IF(AD39=\"\",\"\",AD39)","v":""},null,{"$f":"IF(AF39=\"\",\"\",AF39)","v":""},null,{"$f":"IF(AH39=\"\",\"\",AH39)","v":""},null,{"$f":"IF(AJ39=\"\",\"\",AJ39)","v":""},null,{"$f":"IF(AL39=\"\",\"\",AL39)","v":""},null,null,{"$f":"IF(AO39=\"\",\"\",AO39)","v":""},null,null,{"$f":"IF(AR39=\"\",\"\",AR39)","v":""},null,null,null,null,{"$f":"IF(AW39=\"\",\"\",AW39)","v":""}]
[]
[]
[]
[null,null,null,null,null,null,null,null,null,null,null,null,null,null,null,null,null,{"$f":"IF(R43=\"\",\"\",R43)","v":""},null,{"$f":"IF(T43=\"\",\"\",T43)","v":""},null,{"$f":"IF(V43=\"\",\"\",V43)","v":""},null,{"$f":"IF(X43=\"\",\"\",X43)","v":""},null,{"$f":"IF(Z43=\"\",\"\",Z43)","v":""},null,{"$f":"IF(AB43=\"\",\"\",AB43)","v":""},null,{"$f":"IF(AD43=\"\",\"\",AD43)","v":""},null,{"$f":"IF(AF43=\"\",\"\",AF43)","v":""},null,{"$f":"IF(AH43=\"\",\"\",AH43)","v":""},null,{"$f":"IF(AJ43=\"\",\"\",AJ43)","v":""},null,{"$f":"IF(AL43=\"\",\"\",AL43)","v":""},null,null,{"$f":"IF(AO43=\"\",\"\",AO43)","v":""},null,null,{"$f":"IF(AR43=\"\",\"\",AR43)","v":""},null,null,null,null,{"$f":"IF(AW43=\"\",\"\",AW43)","v":""}]
[]
[]
[]
[null,null,null,null,null,null,null,null,null,null,null,null,null,null,null,null,null,{"$f":"IF(R47=\"\",\"\",R47)","v":""},null,{"$f":"IF(T47=\"\",\"\",T47)","v":""},null,{"$f":"IF(V47=\"\",\"\",V47)","v":""},null,{"$f":"IF(X47=\"\",\"\",X47)","v":""},null,{"$f":"IF(Z47=\"\",\"\",Z47)","v":""},null,{"$f":"IF(AB47=\"\",\"\",AB47)","v":""},null,{"$f":"IF(AD47=\"\",\"\",AD47)","v":""},null,{"$f":"IF(AF47=\"\",\"\",AF47)","v":""},null,{"$f":"IF(AH47=\"\",\"\",AH47)","v":""},null,{"$f":"IF(AJ47=\"\",\"\",AJ47)","v":""},null,{"$f":"IF(AL47=\"\",\"\",AL47)","v":""},null,null,{"$f":"IF(AO47=\"\",\"\",AO47)","v":""},null,null,{"$f":"IF(AR47=\"\",\"\",AR47)","v":""},null,null,null,null,{"$f":"IF(AW47=\"\",\"\",AW47)","v":""}]
[]
[]
[]
[null,null,null,null,null,null,null,null,null,null,null,null,null,null,null,null,null,{"$f":"IF(R51=\"\",\"\",R51)","v":""},null,{"$f":"IF(T51=\"\",\"\",T51)","v":""},null,{"$f":"IF(V51=\"\",\"\",V51)","v":""},null,{"$f":"IF(X51=\"\",\"\",X51)","v":""},null,{"$f":"IF(Z51=\"\",\"\",Z51)","v":""},null,{"$f":"IF(AB51=\"\",\"\",AB51)","v":""},null,{"$f":"IF(AD51=\"\",\"\",AD51)","v":""},null,{"$f":"IF(AF51=\"\",\"\",AF51)","v":""},null,{"$f":"IF(AH51=\"\",\"\",AH51)","v":""},null,{"$f":"IF(AJ51=\"\",\"\",AJ51)","v":""},null,{"$f":"IF(AL51=\"\",\"\",AL51)","v":""},null,null,{"$f":"IF(AO51=\"\",\"\",AO51)","v":""},null,null,{"$f":"IF(AR51=\"\",\"\",AR51)","v":""},null,null,null,null,{"$f":"IF(AW51=\"\",\"\",AW51)","v":""}]
[]
[]
[]
[null,null,null,null,null,null,null,null,null,null,null,null,null,null,null,null,null,{"$f":"IF(R55=\"\",\"\",R55)","v":""},null,{"$f":"IF(T55=\"\",\"\",T55)","v":""},null,{"$f":"IF(V55=\"\",\"\",V55)","v":""},null,{"$f":"IF(X55=\"\",\"\",X55)","v":""},null,{"$f":"IF(Z55=\"\",\"\",Z55)","v":""},null,{"$f":"IF(AB55=\"\",\"\",AB55)","v":""},null,{"$f":"IF(AD55=\"\",\"\",AD55)","v":""},null,{"$f":"IF(AF55=\"\",\"\",AF55)","v":""},null,{"$f":"IF(AH55=\"\",\"\",AH55)","v":""},null,{"$f":"IF(AJ55=\"\",\"\",AJ55)","v":""},null,{"$f":"IF(AL55=\"\",\"\",AL55)","v":""},null,null,{"$f":"IF(AO55=\"\",\"\",AO55)","v":""},null,null,{"$f":"IF(AR55=\"\",\"\",AR55)","v":""},null,null,null,null,{"$f":"IF(AW55=\"\",\"\",AW55)","v":""}]
[]
[]
[]
[null,null,null,null,null,null,null,null,null,null,null,null,null,null,null,null,null,{"$f":"IF(R59=\"\",\"\",R59)","v":""},null,{"$f":"IF(T59=\"\",\"\",T59)","v":""},null,{"$f":"IF(V59=\"\",\"\",V59)","v":""},null,{"$f":"IF(X59=\"\",\"\",X59)","v":""},null,{"$f":"IF(Z59=\"\",\"\",Z59)","v":""},null,{"$f":"IF(AB59=\"\",\"\",AB59)","v":""},null,{"$f":"IF(AD59=\"\",\"\",AD59)","v":""},null,{"$f":"IF(AF59=\"\",\"\",AF59)","v":""},null,{"$f":"IF(AH59=\"\",\"\",AH59)","v":""},null,{"$f":"IF(AJ59=\"\",\"\",AJ59)","v":""},null,{"$f":"IF(AL59=\"\",\"\",AL59)","v":""},null,null,{"$f":"IF(AO59=\"\",\"\",AO59)","v":""},null,null,{"$f":"IF(AR59=\"\",\"\",AR59)","v":""},null,null,null,null,{"$f":"IF(AW59=\"\",\"\",AW59)","v":""}]
[]
[]
[]
[null,null,null,null,null,null,null,null,null,null,null,null,null,null,null,null,null,{"$f":"IF(R63=\"\",\"\",R63)","v":""},null,{"$f":"IF(T63=\"\",\"\",T63)","v":""},null,{"$f":"IF(V63=\"\",\"\",V63)","v":""},null,{"$f":"IF(X63=\"\",\"\",X63)","v":""},null,{"$f":"IF(Z63=\"\",\"\",Z63)","v":""},null,{"$f":"IF(AB63=\"\",\"\",AB63)","v":""},null,{"$f":"IF(AD63=\"\",\"\",AD63)","v":""},null,{"$f":"IF(AF63=\"\",\"\",AF63)","v":""},null,{"$f":"IF(AH63=\"\",\"\",AH63)","v":""},null,{"$f":"IF(AJ63=\"\",\"\",AJ63)","v":""},null,{"$f":"IF(AL63=\"\",\"\",AL63)","v":""},null,null,{"$f":"IF(AO63=\"\",\"\",AO63)","v":""},null,null,{"$f":"IF(AR63=\"\",\"\",AR63)","v":""},null,null,null,null,{"$f":"IF(AW63=\"\",\"\",AW63)","v":""}]
[]
[]
[]
[null,null,null,null,null,null,null,null,null,null,null,null,null,null,null,null,null,{"$f":"IF(R67=\"\",\"\",R67)","v":""},null,{"$f":"IF(T67=\"\",\"\",T67)","v":""},null,{"$f":"IF(V67=\"\",\"\",V67)","v":""},null,{"$f":"IF(X67=\"\",\"\",X67)","v":""},null,{"$f":"IF(Z67=\"\",\"\",Z67)","v":""},null,{"$f":"IF(AB67=\"\",\"\",AB67)","v":""},null,{"$f":"IF(AD67=\"\",\"\",AD67)","v":""},null,{"$f":"IF(AF67=\"\",\"\",AF67)","v":""},null,{"$f":"IF(AH67=\"\",\"\",AH67)","v":""},null,{"$f":"IF(AJ67=\"\",\"\",AJ67)","v":""},null,{"$f":"IF(AL67=\"\",\"\",AL67)","v":""},null,null,{"$f":"IF(AO67=\"\",\"\",AO67)","v":""},null,null,{"$f":"IF(AR67=\"\",\"\",AR67)","v":""},null,null,null,null,{"$f":"IF(AW67=\"\",\"\",AW67)","v":""}]
[]
[]
[]
[null,null,null,null,null,null,null,null,null,null,null,null,null,null,null,null,null,{"$f":"IF(R71=\"\",\"\",R71)","v":""},null,{"$f":"IF(T71=\"\",\"\",T71)","v":""},null,{"$f":"IF(V71=\"\",\"\",V71)","v":""},null,{"$f":"IF(X71=\"\",\"\",X71)","v":""},null,{"$f":"IF(Z71=\"\",\"\",Z71)","v":""},null,{"$f":"IF(AB71=\"\",\"\",AB71)","v":""},null,{"$f":"IF(AD71=\"\",\"\",AD71)","v":""},null,{"$f":"IF(AF71=\"\",\"\",AF71)","v":""},null,{"$f":"IF(AH71=\"\",\"\",AH71)","v":""},null,{"$f":"IF(AJ71=\"\",\"\",AJ71)","v":""},null,{"$f":"IF(AL71=\"\",\"\",AL71)","v":""},null,null,{"$f":"IF(AO71=\"\",\"\",AO71)","v":""},null,null,{"$f":"IF(AR71=\"\",\"\",AR71)","v":""},null,null,null,null,{"$f":"IF(AW71=\"\",\"\",AW71)","v":""}]
[]
[]
[]
[null,null,null,null,null,null,null,null,null,null,null,null,null,null,null,null,null,{"$f":"IF(R75=\"\",\"\",R75)","v":""},null,{"$f":"IF(T75=\"\",\"\",T75)","v":""},null,{"$f":"IF(V75=\"\",\"\",V75)","v":""},null,{"$f":"IF(X75=\"\",\"\",X75)","v":""},null,{"$f":"IF(Z75=\"\",\"\",Z75)","v":""},null,{"$f":"IF(AB75=\"\",\"\",AB75)","v":""},null,{"$f":"IF(AD75=\"\",\"\",AD75)","v":""},null,{"$f":"IF(AF75=\"\",\"\",AF75)","v":""},null,{"$f":"IF(AH75=\"\",\"\",AH75)","v":""},null,{"$f":"IF(AJ75=\"\",\"\",AJ75)","v":""},null,{"$f":"IF(AL75=\"\",\"\",AL75)","v":""},null,null,{"$f":"IF(AO75=\"\",\"\",AO75)","v":""},null,null,{"$f":"IF(AR75=\"\",\"\",AR75)","v":""},null,null,null,null,{"$f":"IF(AW75=\"\",\"\",AW75)","v":""}]
[]
[]
[]
[null,null,null,null,null,null,null,null,null,null,null,null,null,null,null,null,null,{"$f":"IF(R79=\"\",\"\",R79)","v":""},null,{"$f":"IF(T79=\"\",\"\",T79)","v":""},null,{"$f":"IF(V79=\"\",\"\",V79)","v":""},null,{"$f":"IF(X79=\"\",\"\",X79)","v":""},null,{"$f":"IF(Z79=\"\",\"\",Z79)","v":""},null,{"$f":"IF(AB79=\"\",\"\",AB79)","v":""},null,{"$f":"IF(AD79=\"\",\"\",AD79)","v":""},null,{"$f":"IF(AF79=\"\",\"\",AF79)","v":""},null,{"$f":"IF(AH79=\"\",\"\",AH79)","v":""},null,{"$f":"IF(AJ79=\"\",\"\",AJ79)","v":""},null,{"$f":"IF(AL79=\"\",\"\",AL79)","v":""},null,null,{"$f":"IF(AO79=\"\",\"\",AO79)","v":""},null,null,{"$f":"IF(AR79=\"\",\"\",AR79)","v":""},null,null,null,null,{"$f":"IF(AW79=\"\",\"\",AW79)","v":""}]
[]
[]
[]
[null,null,null,null,null,null,null,null,null,null,null,null,null,null,null,null,null,null,null,null,null,null,null,null,null,null,null,null,null,null,null,null,null,null,null,null,null,{"$f":"AL83","v":"金額(税抜)"},null,null,null,null,null,null,null,null,null,null,{"$f":"AW83","v":""}]
[]
[]
[]
[]
[null,null,null,null,null,null,null,null,null,null,null,null,null,null,null,null,null,null,null,null,null,null,null,null,null,null,null,null,null,null,null,null,null,null,null,null,null,{"$f":"AL88","v":"消費税"},null,null,null,null,null,"税率",null,null,"税調",null,{"$f":"AW88","v":""}]
[]
[null,null,null,null,null,null,null,null,null,null,null,null,null,null,null,null,null,null,null,null,null,null,null,null,null,null,null,null,null,null,null,null,null,null,null,null,null,null,null,null,null,null,null,{"$f":"AR90","v":0},null,{"$f":"AT90","v":""}]
[]
[]
[]
[null,null,null,null,null,null,null,null,null,null,null,null,null,null,null,null,null,null,null,"請求明細書 (貴社控)"]
[null,"株 式 会 社 種 村 建 設",null,null,null,null,null,null,null,null,null,null,"御中"]
[null,null,null,null,null,null,null,null,null,null,null,null,null,null,null,null,null,null,null,null,null,null,null,null,null,null,null,null,null,null,null,null,null,null,null,null,null,null,null,null,"請求年月日",null,null,null,null,{"$f":"IF(AT4=\"\",\"\",AT4)","v":""},null,null,null,{"$f":"IF(AX96=\"\",\"\",AX96)","v":""},null,null,{"$f":"IF(BA96=\"\",\"\",BA96)","v":""}]
[]
[]
[]
[]
[null,"工事番号",null,null,null,null,{"$f":"IF(G101=\"\",\"\",G101)","v":""},null,null,null,null,null,"工事名",null,null,null,{"$f":"IF(Q101=\"\",\"\",Q101)","v":""},null,null,null,null,null,null,null,null,null,null,null,null,null,null,null,null,null,null,null,null,"業者名",null,null,null,{"$f":"IF(AP101=\"\",\"\",AP101)","v":""}]
[]
[]
[]
[]
[]
[null,"注文番号",null,null,null,null,{"$f":"IF(G107=\"\",\"\",G107)","v":""},null,null,null,null,null,null,null,null,null,null,"月　日",null,null,null,"品　名・内　訳",null,null,null,null,null,null,null,null,null,null,null,null,null,null,null,"数 量",null,null,"単位",null,null,"単価",null,null,null,null,{"$f":"表紙①!P219","v":0}]
[]
[]
[]
[null,"契約金額",null,null,null,null,{"$f":"IF(G111=\"\",\"\",G111)","v":""},null,null,null,null,null,null,null,null,null,null,{"$f":"IF(R111=\"\",\"\",R111)","v":""},null,{"$f":"IF(T111=\"\",\"\",T111)","v":""},null,{"$f":"IF(V111=\"\",\"\",V111)","v":""},null,{"$f":"IF(X111=\"\",\"\",X111)","v":""},null,{"$f":"IF(Z111=\"\",\"\",Z111)","v":""},null,{"$f":"IF(AB111=\"\",\"\",AB111)","v":""},null,{"$f":"IF(AD111=\"\",\"\",AD111)","v":""},null,{"$f":"IF(AF111=\"\",\"\",AF111)","v":""},null,{"$f":"IF(AH111=\"\",\"\",AH111)","v":""},null,{"$f":"IF(AJ111=\"\",\"\",AJ111)","v":""},null,{"$f":"IF(AL111=\"\",\"\",AL111)","v":""},null,null,{"$f":"IF(AO111=\"\",\"\",AO111)","v":""},null,null,{"$f":"IF(AR111=\"\",\"\",AR111)","v":""},null,null,null,null,{"$f":"IF(AW111=\"\",\"\",AW111)","v":""}]
[]
[]
[]
[null,"増減額",null,null,null,null,{"$f":"IF(G115=\"\",\"\",G115)","v":""},null,null,null,null,null,null,null,null,null,null,{"$f":"IF(R115=\"\",\"\",R115)","v":""},null,{"$f":"IF(T115=\"\",\"\",T115)","v":""},null,{"$f":"IF(V115=\"\",\"\",V115)","v":""},null,{"$f":"IF(X115=\"\",\"\",X115)","v":""},null,{"$f":"IF(Z115=\"\",\"\",Z115)","v":""},null,{"$f":"IF(AB115=\"\",\"\",AB115)","v":""},null,{"$f":"IF(AD115=\"\",\"\",AD115)","v":""},null,{"$f":"IF(AF115=\"\",\"\",AF115)","v":""},null,{"$f":"IF(AH115=\"\",\"\",AH115)","v":""},null,{"$f":"IF(AJ115=\"\",\"\",AJ115)","v":""},null,{"$f":"IF(AL115=\"\",\"\",AL115)","v":""},null,null,{"$f":"IF(AO115=\"\",\"\",AO115)","v":""},null,null,{"$f":"IF(AR115=\"\",\"\",AR115)","v":""},null,null,null,null,{"$f":"IF(AW115=\"\",\"\",AW115)","v":""}]
[]
[]
[]
[null,"前回までの\n請求額",null,null,null,null,{"$f":"IF(G119=\"\",\"\",G119)","v":""},null,null,null,null,null,null,null,null,null,null,{"$f":"IF(R119=\"\",\"\",R119)","v":""},null,{"$f":"IF(T119=\"\",\"\",T119)","v":""},null,{"$f":"IF(V119=\"\",\"\",V119)","v":""},null,{"$f":"IF(X119=\"\",\"\",X119)","v":""},null,{"$f":"IF(Z119=\"\",\"\",Z119)","v":""},null,{"$f":"IF(AB119=\"\",\"\",AB119)","v":""},null,{"$f":"IF(AD119=\"\",\"\",AD119)","v":""},null,{"$f":"IF(AF119=\"\",\"\",AF119)","v":""},null,{"$f":"IF(AH119=\"\",\"\",AH119)","v":""},null,{"$f":"IF(AJ119=\"\",\"\",AJ119)","v":""},null,{"$f":"IF(AL119=\"\",\"\",AL119)","v":""},null,null,{"$f":"IF(AO119=\"\",\"\",AO119)","v":""},null,null,{"$f":"IF(AR119=\"\",\"\",AR119)","v":""},null,null,null,null,{"$f":"IF(AW119=\"\",\"\",AW119)","v":""}]
[]
[]
[]
[null,"今回\n請求額",null,null,{"$f":"IF(E31=\"\",\"\",E31)","v":""},null,{"$f":"IF(G123=\"\",\"\",G123)","v":""},null,null,null,null,null,null,null,null,null,null,{"$f":"IF(R123=\"\",\"\",R123)","v":""},null,{"$f":"IF(T123=\"\",\"\",T123)","v":""},null,{"$f":"IF(V123=\"\",\"\",V123)","v":""},null,{"$f":"IF(X123=\"\",\"\",X123)","v":""},null,{"$f":"IF(Z123=\"\",\"\",Z123)","v":""},null,{"$f":"IF(AB123=\"\",\"\",AB123)","v":""},null,{"$f":"IF(AD123=\"\",\"\",AD123)","v":""},null,{"$f":"IF(AF123=\"\",\"\",AF123)","v":""},null,{"$f":"IF(AH123=\"\",\"\",AH123)","v":""},null,{"$f":"IF(AJ123=\"\",\"\",AJ123)","v":""},null,{"$f":"IF(AL123=\"\",\"\",AL123)","v":""},null,null,{"$f":"IF(AO123=\"\",\"\",AO123)","v":""},null,null,{"$f":"IF(AR123=\"\",\"\",AR123)","v":""},null,null,null,null,{"$f":"IF(AW123=\"\",\"\",AW123)","v":""}]
[]
[]
[]
[null,"差引残高",null,null,null,null,{"$f":"IF(G203=\"\",\"\",G203+G207-G211-G215)","v":""},null,null,null,null,null,null,null,null,null,null,{"$f":"IF(R127=\"\",\"\",R127)","v":""},null,{"$f":"IF(T127=\"\",\"\",T127)","v":""},null,{"$f":"IF(V127=\"\",\"\",V127)","v":""},null,{"$f":"IF(X127=\"\",\"\",X127)","v":""},null,{"$f":"IF(Z127=\"\",\"\",Z127)","v":""},null,{"$f":"IF(AB127=\"\",\"\",AB127)","v":""},null,{"$f":"IF(AD127=\"\",\"\",AD127)","v":""},null,{"$f":"IF(AF127=\"\",\"\",AF127)","v":""},null,{"$f":"IF(AH127=\"\",\"\",AH127)","v":""},null,{"$f":"IF(AJ127=\"\",\"\",AJ127)","v":""},null,{"$f":"IF(AL127=\"\",\"\",AL127)","v":""},null,null,{"$f":"IF(AO127=\"\",\"\",AO127)","v":""},null,null,{"$f":"IF(AR127=\"\",\"\",AR127)","v":""},null,null,null,null,{"$f":"IF(AW127=\"\",\"\",AW127)","v":""}]
[]
[]
[]
[null,null,null,null,null,null,null,null,null,null,null,null,null,null,null,null,null,{"$f":"IF(R131=\"\",\"\",R131)","v":""},null,{"$f":"IF(T131=\"\",\"\",T131)","v":""},null,{"$f":"IF(V131=\"\",\"\",V131)","v":""},null,{"$f":"IF(X131=\"\",\"\",X131)","v":""},null,{"$f":"IF(Z131=\"\",\"\",Z131)","v":""},null,{"$f":"IF(AB131=\"\",\"\",AB131)","v":""},null,{"$f":"IF(AD131=\"\",\"\",AD131)","v":""},null,{"$f":"IF(AF131=\"\",\"\",AF131)","v":""},null,{"$f":"IF(AH131=\"\",\"\",AH131)","v":""},null,{"$f":"IF(AJ131=\"\",\"\",AJ131)","v":""},null,{"$f":"IF(AL131=\"\",\"\",AL131)","v":""},null,null,{"$f":"IF(AO131=\"\",\"\",AO131)","v":""},null,null,{"$f":"IF(AR131=\"\",\"\",AR131)","v":""},null,null,null,null,{"$f":"IF(AW131=\"\",\"\",AW131)","v":""}]
[]
[]
[]
[null,null,null,null,null,null,null,null,null,null,null,null,null,null,null,null,null,{"$f":"IF(R135=\"\",\"\",R135)","v":""},null,{"$f":"IF(T135=\"\",\"\",T135)","v":""},null,{"$f":"IF(V135=\"\",\"\",V135)","v":""},null,{"$f":"IF(X135=\"\",\"\",X135)","v":""},null,{"$f":"IF(Z135=\"\",\"\",Z135)","v":""},null,{"$f":"IF(AB135=\"\",\"\",AB135)","v":""},null,{"$f":"IF(AD135=\"\",\"\",AD135)","v":""},null,{"$f":"IF(AF135=\"\",\"\",AF135)","v":""},null,{"$f":"IF(AH135=\"\",\"\",AH135)","v":""},null,{"$f":"IF(AJ135=\"\",\"\",AJ135)","v":""},null,{"$f":"IF(AL135=\"\",\"\",AL135)","v":""},null,null,{"$f":"IF(AO135=\"\",\"\",AO135)","v":""},null,null,{"$f":"IF(AR135=\"\",\"\",AR135)","v":""},null,null,null,null,{"$f":"IF(AW135=\"\",\"\",AW135)","v":""}]
[]
[]
[]
[null,null,null,null,null,null,null,null,null,null,null,null,null,null,null,null,null,{"$f":"IF(R139=\"\",\"\",R139)","v":""},null,{"$f":"IF(T139=\"\",\"\",T139)","v":""},null,{"$f":"IF(V139=\"\",\"\",V139)","v":""},null,{"$f":"IF(X139=\"\",\"\",X139)","v":""},null,{"$f":"IF(Z139=\"\",\"\",Z139)","v":""},null,{"$f":"IF(AB139=\"\",\"\",AB139)","v":""},null,{"$f":"IF(AD139=\"\",\"\",AD139)","v":""},null,{"$f":"IF(AF139=\"\",\"\",AF139)","v":""},null,{"$f":"IF(AH139=\"\",\"\",AH139)","v":""},null,{"$f":"IF(AJ139=\"\",\"\",AJ139)","v":""},null,{"$f":"IF(AL139=\"\",\"\",AL139)","v":""},null,null,{"$f":"IF(AO139=\"\",\"\",AO139)","v":""},null,null,{"$f":"IF(AR139=\"\",\"\",AR139)","v":""},null,null,null,null,{"$f":"IF(AW139=\"\",\"\",AW139)","v":""}]
[]
[]
[]
[null,null,null,null,null,null,null,null,null,null,null,null,null,null,null,null,null,{"$f":"IF(R143=\"\",\"\",R143)","v":""},null,{"$f":"IF(T143=\"\",\"\",T143)","v":""},null,{"$f":"IF(V143=\"\",\"\",V143)","v":""},null,{"$f":"IF(X143=\"\",\"\",X143)","v":""},null,{"$f":"IF(Z143=\"\",\"\",Z143)","v":""},null,{"$f":"IF(AB143=\"\",\"\",AB143)","v":""},null,{"$f":"IF(AD143=\"\",\"\",AD143)","v":""},null,{"$f":"IF(AF143=\"\",\"\",AF143)","v":""},null,{"$f":"IF(AH143=\"\",\"\",AH143)","v":""},null,{"$f":"IF(AJ143=\"\",\"\",AJ143)","v":""},null,{"$f":"IF(AL143=\"\",\"\",AL143)","v":""},null,null,{"$f":"IF(AO143=\"\",\"\",AO143)","v":""},null,null,{"$f":"IF(AR143=\"\",\"\",AR143)","v":""},null,null,null,null,{"$f":"IF(AW143=\"\",\"\",AW143)","v":""}]
[]
[]
[]
[null,null,null,null,null,null,null,null,null,null,null,null,null,null,null,null,null,{"$f":"IF(R147=\"\",\"\",R147)","v":""},null,{"$f":"IF(T147=\"\",\"\",T147)","v":""},null,{"$f":"IF(V147=\"\",\"\",V147)","v":""},null,{"$f":"IF(X147=\"\",\"\",X147)","v":""},null,{"$f":"IF(Z147=\"\",\"\",Z147)","v":""},null,{"$f":"IF(AB147=\"\",\"\",AB147)","v":""},null,{"$f":"IF(AD147=\"\",\"\",AD147)","v":""},null,{"$f":"IF(AF147=\"\",\"\",AF147)","v":""},null,{"$f":"IF(AH147=\"\",\"\",AH147)","v":""},null,{"$f":"IF(AJ147=\"\",\"\",AJ147)","v":""},null,{"$f":"IF(AL147=\"\",\"\",AL147)","v":""},null,null,{"$f":"IF(AO147=\"\",\"\",AO147)","v":""},null,null,{"$f":"IF(AR147=\"\",\"\",AR147)","v":""},null,null,null,null,{"$f":"IF(AW147=\"\",\"\",AW147)","v":""}]
[]
[]
[]
[null,null,null,null,null,null,null,null,null,null,null,null,null,null,null,null,null,{"$f":"IF(R151=\"\",\"\",R151)","v":""},null,{"$f":"IF(T151=\"\",\"\",T151)","v":""},null,{"$f":"IF(V151=\"\",\"\",V151)","v":""},null,{"$f":"IF(X151=\"\",\"\",X151)","v":""},null,{"$f":"IF(Z151=\"\",\"\",Z151)","v":""},null,{"$f":"IF(AB151=\"\",\"\",AB151)","v":""},null,{"$f":"IF(AD151=\"\",\"\",AD151)","v":""},null,{"$f":"IF(AF151=\"\",\"\",AF151)","v":""},null,{"$f":"IF(AH151=\"\",\"\",AH151)","v":""},null,{"$f":"IF(AJ151=\"\",\"\",AJ151)","v":""},null,{"$f":"IF(AL151=\"\",\"\",AL151)","v":""},null,null,{"$f":"IF(AO151=\"\",\"\",AO151)","v":""},null,null,{"$f":"IF(AR151=\"\",\"\",AR151)","v":""},null,null,null,null,{"$f":"IF(AW151=\"\",\"\",AW151)","v":""}]
[]
[]
[]
[null,null,null,null,null,null,null,null,null,null,null,null,null,null,null,null,null,{"$f":"IF(R155=\"\",\"\",R155)","v":""},null,{"$f":"IF(T155=\"\",\"\",T155)","v":""},null,{"$f":"IF(V155=\"\",\"\",V155)","v":""},null,{"$f":"IF(X155=\"\",\"\",X155)","v":""},null,{"$f":"IF(Z155=\"\",\"\",Z155)","v":""},null,{"$f":"IF(AB155=\"\",\"\",AB155)","v":""},null,{"$f":"IF(AD155=\"\",\"\",AD155)","v":""},null,{"$f":"IF(AF155=\"\",\"\",AF155)","v":""},null,{"$f":"IF(AH155=\"\",\"\",AH155)","v":""},null,{"$f":"IF(AJ155=\"\",\"\",AJ155)","v":""},null,{"$f":"IF(AL155=\"\",\"\",AL155)","v":""},null,null,{"$f":"IF(AO155=\"\",\"\",AO155)","v":""},null,null,{"$f":"IF(AR155=\"\",\"\",AR155)","v":""},null,null,null,null,{"$f":"IF(AW155=\"\",\"\",AW155)","v":""}]
[]
[]
[]
[null,null,null,null,null,null,null,null,null,null,null,null,null,null,null,null,null,{"$f":"IF(R159=\"\",\"\",R159)","v":""},null,{"$f":"IF(T159=\"\",\"\",T159)","v":""},null,{"$f":"IF(V159=\"\",\"\",V159)","v":""},null,{"$f":"IF(X159=\"\",\"\",X159)","v":""},null,{"$f":"IF(Z159=\"\",\"\",Z159)","v":""},null,{"$f":"IF(AB159=\"\",\"\",AB159)","v":""},null,{"$f":"IF(AD159=\"\",\"\",AD159)","v":""},null,{"$f":"IF(AF159=\"\",\"\",AF159)","v":""},null,{"$f":"IF(AH159=\"\",\"\",AH159)","v":""},null,{"$f":"IF(AJ159=\"\",\"\",AJ159)","v":""},null,{"$f":"IF(AL159=\"\",\"\",AL159)","v":""},null,null,{"$f":"IF(AO159=\"\",\"\",AO159)","v":""},null,null,{"$f":"IF(AR159=\"\",\"\",AR159)","v":""},null,null,null,null,{"$f":"IF(AW159=\"\",\"\",AW159)","v":""}]
[]
[]
[]
[null,null,null,null,null,null,null,null,null,null,null,null,null,null,null,null,null,{"$f":"IF(R163=\"\",\"\",R163)","v":""},null,{"$f":"IF(T163=\"\",\"\",T163)","v":""},null,{"$f":"IF(V163=\"\",\"\",V163)","v":""},null,{"$f":"IF(X163=\"\",\"\",X163)","v":""},null,{"$f":"IF(Z163=\"\",\"\",Z163)","v":""},null,{"$f":"IF(AB163=\"\",\"\",AB163)","v":""},null,{"$f":"IF(AD163=\"\",\"\",AD163)","v":""},null,{"$f":"IF(AF163=\"\",\"\",AF163)","v":""},null,{"$f":"IF(AH163=\"\",\"\",AH163)","v":""},null,{"$f":"IF(AJ163=\"\",\"\",AJ163)","v":""},null,{"$f":"IF(AL163=\"\",\"\",AL163)","v":""},null,null,{"$f":"IF(AO163=\"\",\"\",AO163)","v":""},null,null,{"$f":"IF(AR163=\"\",\"\",AR163)","v":""},null,null,null,null,{"$f":"IF(AW163=\"\",\"\",AW163)","v":""}]
[]
[]
[]
[null,null,null,null,null,null,null,null,null,null,null,null,null,null,null,null,null,{"$f":"IF(R167=\"\",\"\",R167)","v":""},null,{"$f":"IF(T167=\"\",\"\",T167)","v":""},null,{"$f":"IF(V167=\"\",\"\",V167)","v":""},null,{"$f":"IF(X167=\"\",\"\",X167)","v":""},null,{"$f":"IF(Z167=\"\",\"\",Z167)","v":""},null,{"$f":"IF(AB167=\"\",\"\",AB167)","v":""},null,{"$f":"IF(AD167=\"\",\"\",AD167)","v":""},null,{"$f":"IF(AF167=\"\",\"\",AF167)","v":""},null,{"$f":"IF(AH167=\"\",\"\",AH167)","v":""},null,{"$f":"IF(AJ167=\"\",\"\",AJ167)","v":""},null,{"$f":"IF(AL167=\"\",\"\",AL167)","v":""},null,null,{"$f":"IF(AO167=\"\",\"\",AO167)","v":""},null,null,{"$f":"IF(AR167=\"\",\"\",AR167)","v":""},null,null,null,null,{"$f":"IF(AW167=\"\",\"\",AW167)","v":""}]
[]
[]
[]
[null,null,null,null,null,null,null,null,null,null,null,null,null,null,null,null,null,{"$f":"IF(R171=\"\",\"\",R171)","v":""},null,{"$f":"IF(T171=\"\",\"\",T171)","v":""},null,{"$f":"IF(V171=\"\",\"\",V171)","v":""},null,{"$f":"IF(X171=\"\",\"\",X171)","v":""},null,{"$f":"IF(Z171=\"\",\"\",Z171)","v":""},null,{"$f":"IF(AB171=\"\",\"\",AB171)","v":""},null,{"$f":"IF(AD171=\"\",\"\",AD171)","v":""},null,{"$f":"IF(AF171=\"\",\"\",AF171)","v":""},null,{"$f":"IF(AH171=\"\",\"\",AH171)","v":""},null,{"$f":"IF(AJ171=\"\",\"\",AJ171)","v":""},null,{"$f":"IF(AL171=\"\",\"\",AL171)","v":""},null,null,{"$f":"IF(AO171=\"\",\"\",AO171)","v":""},null,null,{"$f":"IF(AR171=\"\",\"\",AR171)","v":""},null,null,null,null,{"$f":"IF(AW171=\"\",\"\",AW171)","v":""}]
[]
[]
[]
[null,null,null,null,null,null,null,null,null,null,null,null,null,null,null,null,null,null,null,null,null,null,null,null,null,null,null,null,null,null,null,null,null,null,null,null,null,{"$f":"AL175","v":"金額(税抜)"},null,null,null,null,null,null,null,null,null,null,{"$f":"AW83","v":""}]
[]
[]
[]
[]
[null,null,null,null,null,null,null,null,null,null,null,null,null,null,null,null,null,null,null,null,null,null,null,null,null,null,null,null,null,null,null,null,null,null,null,null,null,{"$f":"AL180","v":"消費税"},null,null,null,null,null,"税率",null,null,"税調",null,{"$f":"AW88","v":""}]
[]
[null,null,null,null,null,null,null,null,null,null,null,null,null,null,null,null,null,null,null,null,null,null,null,null,null,null,null,null,null,null,null,null,null,null,null,null,null,null,null,null,null,null,null,{"$f":"AR90","v":0},null,{"$f":"AT90","v":""}]

{"sheet":"細1-10","index":13,"n_rows":274,"n_cols":53,"rows_kept":274,"cut":false,"hidden":false,"merged":[[179,37,182,42],[179,43,180,45],[179,46,180,47],[181,43,182,44],[181,45,182,45],[181,46,182,47],[271,37,274,42],[271,43,272,45],[273,43,274,44],[273,45,274,45],[273,46,274,47],[271,46,272,47],[187,40,189,44],[187,45,189,48],[179,48,182,54],[198,48,201,54],[214,48,217,54],[222,40,225,42],[222,43,225,47],[254,37,257,39],[246,40,249,42],[246,43,249,47],[246,48,249,54],[254,48,257,54],[3,49,5,51],[3,52,5,54],[8,37,11,40],[8,41,11,54],[1,19,4,32],[2,1,5,11],[2,12,5,13],[8,1,11,5],[8,6,11,11],[8,12,11,15],[8,16,11,35],[3,40,5,44],[3,45,5,48],[14,43,17,47],[14,48,17,54],[14,1,17,5],[14,6,17,15],[14,17,17,20],[14,21,17,36],[18,1,21,5],[18,6,21,15],[18,17,21,18],[14,37,17,39],[14,40,17,42],[18,21,21,36],[18,37,21,39],[18,40,21,42],[18,43,21,47],[26,1,29,5],[26,6,29,15],[26,17,29,18],[26,19,29,20],[18,48,21,54],[22,1,25,5],[22,6,25,15],[22,17,25,18],[22,19,25,20],[22,21,25,36],[26,21,29,36],[26,37,29,39],[26,40,29,42],[26,43,29,47],[22,37,25,39],[22,40,25,42],[22,43,25,47],[18,19,21,20],[34,48,37,54],[26,48,29,54],[30,1,33,3],[30,4,33,5],[30,6,33,15],[30,17,33,18],[30,19,33,20],[22,48,25,54],[38,17,41,18],[38,19,41,20],[38,21,41,36],[38,37,41,39],[30,48,33,54],[34,1,37,5],[34,6,37,15],[34,17,37,18],[34,19,37,20],[34,21,37,36],[38,40,41,42],[38,43,41,47],[38,48,41,54],[30,21,33,36],[30,37,33,39],[30,40,33,42],[30,43,33,47],[34,37,37,39],[34,40,37,42],[34,43,37,47],[46,40,49,42],[46,43,49,47],[46,21,49,36],[46,37,49,39],[54,40,57,42],[54,43,57,47],[42,17,45,18],[42,19,45,20],[42,21,45,36],[42,37,45,39],[42,40,45,42],[42,43,45,47],[42,48,45,54],[46,48,49,54],[50,17,53,18],[50,19,53,20],[50,21,53,36],[50,37,53,39],[50,40,53,42],[50,43,53,47],[50,48,53,54],[46,17,49,18],[46,19,49,20],[58,17,61,18],[58,19,61,20],[58,21,61,36],[58,37,61,39],[58,40,61,42],[58,43,61,47],[58,48,61,54],[54,17,57,18],[54,19,57,20],[54,21,57,36],[54,37,57,39],[54,48,57,54],[62,40,65,42],[62,43,65,47],[62,21,65,36],[62,37,65,39],[70,40,73,42],[70,43,73,47],[70,48,73,54],[62,48,65,54],[66,17,69,18],[66,19,69,20],[66,21,69,36],[66,37,69,39],[66,40,69,42],[66,43,69,47],[66,48,69,54],[62,17,65,18],[62,19,65,20],[74,17,77,18],[74,19,77,20],[74,21,77,36],[74,37,77,39],[74,40,77,42],[74,43,77,47],[74,48,77,54],[70,17,73,18],[70,19,73,20],[70,21,73,36],[70,37,73,39],[78,48,81,54],[82,37,85,47],[82,48,85,54],[78,37,81,39],[78,40,81,42],[85,11,90,16],[85,17,90,25],[78,43,81,47],[83,26,84,30],[83,31,84,35],[78,17,81,18],[78,19,81,20],[78,21,81,36],[85,26,90,30],[85,31,90,35],[83,1,84,4],[83,5,84,10],[83,11,84,16],[83,17,84,25],[85,1,90,4],[85,5,90,10],[87,48,90,54],[95,49,97,51],[95,52,97,54],[95,40,97,44],[95,45,97,48],[87,37,90,42],[87,43,88,45],[89,43,90,44],[89,45,90,45],[89,46,90,47],[87,46,88,47],[100,1,103,5],[100,6,103,11],[100,12,103,15],[100,16,103,35],[100,37,103,40],[100,41,103,54],[93,19,96,32],[94,1,97,11],[94,12,97,13],[106,37,109,39],[106,40,109,42],[106,43,109,47],[106,48,109,54],[106,1,109,5],[106,6,109,15],[106,17,109,20],[106,21,109,36],[110,21,113,36],[110,37,113,39],[110,40,113,42],[110,43,113,47],[110,1,113,5],[110,6,113,15],[110,17,113,18],[110,19,113,20],[110,48,113,54],[114,1,117,5],[114,6,117,15],[114,17,117,18],[114,19,117,20],[114,21,117,36],[114,37,117,39],[114,40,117,42],[114,43,117,47],[114,48,117,54],[118,21,121,36],[118,37,121,39],[118,40,121,42],[118,43,121,47],[118,1,121,5],[118,6,121,15],[118,17,121,18],[118,19,121,20],[118,48,121,54],[122,48,125,54],[126,1,129,5],[126,6,129,15],[126,17,129,18],[126,19,129,20],[126,21,129,36],[126,37,129,39],[126,40,129,42],[126,43,129,47],[126,48,129,54],[122,1,125,3],[122,4,125,5],[122,6,125,15],[122,17,125,18],[122,19,125,20],[122,21,125,36],[122,37,125,39],[122,40,125,42],[122,43,125,47],[130,40,133,42],[130,43,133,47],[130,21,133,36],[130,37,133,39],[138,40,141,42],[138,43,141,47],[138,48,141,54],[130,48,133,54],[134,17,137,18],[134,19,137,20],[134,21,137,36],[134,37,137,39],[134,40,137,42],[134,43,137,47],[134,48,137,54],[130,17,133,18],[130,19,133,20],[142,17,145,18],[142,19,145,20],[142,21,145,36],[142,37,145,39],[142,40,145,42],[142,43,145,47],[142,48,145,54],[138,17,141,18],[138,19,141,20],[138,21,141,36],[138,37,141,39],[154,48,157,54],[146,48,149,54],[150,17,153,18],[150,19,153,20],[150,21,153,36],[150,37,153,39],[150,40,153,42],[150,43,153,47],[150,48,153,54],[146,17,149,18],[146,19,149,20],[154,17,157,18],[154,19,157,20],[154,21,157,36],[154,37,157,39],[146,40,149,42],[146,43,149,47],[146,21,149,36],[146,37,149,39],[154,40,157,42],[154,43,157,47],[174,48,177,54],[170,17,173,18],[170,19,173,20],[158,17,161,18],[158,19,161,20],[158,21,161,36],[158,37,161,39],[158,40,161,42],[158,43,161,47],[158,48,161,54],[170,21,173,36],[170,37,173,39],[170,43,173,47],[185,19,188,32],[186,1,189,11],[186,12,189,13],[192,37,195,40],[192,41,195,54],[162,40,165,42],[162,43,165,47],[162,21,165,36],[162,37,165,39],[162,48,165,54],[166,17,169,18],[166,19,169,20],[166,21,169,36],[166,37,169,39],[166,40,169,42],[166,43,169,47],[166,48,169,54],[162,17,165,18],[162,19,165,20],[187,49,189,51],[187,52,189,54],[170,40,173,42],[170,48,173,54],[174,37,177,47],[202,21,205,36],[202,37,205,39],[202,40,205,42],[202,43,205,47],[202,1,205,5],[202,6,205,15],[202,17,205,18],[202,19,205,20],[202,48,205,54],[198,1,201,5],[198,6,201,15],[198,17,201,20],[198,21,201,36],[198,37,201,39],[198,40,201,42],[198,43,201,47],[192,1,195,5],[192,6,195,11],[192,12,195,15],[192,16,195,35],[206,1,209,5],[206,6,209,15],[206,17,209,18],[206,19,209,20],[206,21,209,36],[206,37,209,39],[206,40,209,42],[206,43,209,47],[206,48,209,54],[210,21,213,36],[210,37,213,39],[210,40,213,42],[210,43,213,47],[210,1,213,5],[210,6,213,15],[210,17,213,18],[210,19,213,20],[210,48,213,54],[218,1,221,5],[218,6,221,15],[218,17,221,18],[218,19,221,20],[218,21,221,36],[218,37,221,39],[218,40,221,42],[218,43,221,47],[218,48,221,54],[214,1,217,3],[214,4,217,5],[214,6,217,15],[214,17,217,18],[214,19,217,20],[214,21,217,36],[214,37,217,39],[214,40,217,42],[214,43,217,47],[222,21,225,36],[222,37,225,39],[230,40,233,42],[230,43,233,47],[230,48,233,54],[222,48,225,54],[226,17,229,18],[226,19,229,20],[226,21,229,36],[226,37,229,39],[226,40,229,42],[226,43,229,47],[226,48,229,54],[222,17,225,18],[222,19,225,20],[234,17,237,18],[234,19,237,20],[234,21,237,36],[234,37,237,39],[234,40,237,42],[234,43,237,47],[234,48,237,54],[230,17,233,18],[230,19,233,20],[230,21,233,36],[230,37,233,39],[242,17,245,18],[242,19,245,20],[242,21,245,36],[242,37,245,39],[242,40,245,42],[242,43,245,47],[242,48,245,54],[238,17,241,18],[238,19,241,20],[238,40,241,42],[238,43,241,47],[238,21,241,36],[238,37,241,39],[238,48,241,54],[250,17,253,18],[250,19,253,20],[250,21,253,36],[250,37,253,39],[250,40,253,42],[250,43,253,47],[250,48,253,54],[246,17,249,18],[246,19,249,20],[246,21,249,36],[246,37,249,39],[258,17,261,18],[258,19,261,20],[258,21,261,36],[258,37,261,39],[258,40,261,42],[258,43,261,47],[258,48,261,54],[254,17,257,18],[254,19,257,20],[254,40,257,42],[254,43,257,47],[254,21,257,36],[271,48,274,54],[262,40,265,42],[262,43,265,47],[262,48,265,54],[266,37,269,47],[266,48,269,54],[262,17,265,18],[262,19,265,20],[262,21,265,36],[262,37,265,39]]}
[]
[null,null,null,null,null,null,null,null,null,null,null,null,null,null,null,null,null,null,null,"請求書明細書 (正)"]
[null,"株 式 会 社 種 村 建 設",null,null,null,null,null,null,null,null,null,null,"御中"]
[null,null,null,null,null,null,null,null,null,null,null,null,null,null,null,null,null,null,null,null,null,null,null,null,null,null,null,null,null,null,null,null,null,null,null,null,null,null,null,null,"請求年月日",null,null,null,null,{"$f":"IF(年=\"\",\"\",年)","v":""},null,null,null,{"$f":"IF(月=\"\",\"\",月)","v":""},null,null,{"$f":"IF(日=\"\",\"\",日)","v":""}]
[]
[]
[]
[]
[null,"工事番号",null,null,null,null,null,null,null,null,null,null,"工事名",null,null,null,null,null,null,null,null,null,null,null,null,null,null,null,null,null,null,null,null,null,null,null,null,"業者名",null,null,null,{"$f":"IF(社名=\"\",\"\",社名)","v":""}]
[]
[]
[]
[]
[]
[null,"注文番号",null,null,null,null,null,null,null,null,null,null,null,null,null,null,null,"月　日",null,null,null,"品　名・内　訳",null,null,null,null,null,null,null,null,null,null,null,null,null,null,null,"数 量",null,null,"単位",null,null,"単価",null,null,null,null,{"$f":"表紙①!P35","v":"金額(税抜)"}]
[]
[]
[]
[null,"契約金額",null,null,null,null,null,null,null,null,null,null,null,null,null,null,null,null,null,null,null,null,null,null,null,null,null,null,null,null,null,null,null,null,null,null,null,null,null,null,null,null,null,null,null,null,null,null,{"$f":"IF(V19=\"\",\"\",ROUND(AL19*AR19,0))","v":""}]
[]
[]
[]
[null,"増減額",null,null,null,null,null,null,null,null,null,null,null,null,null,null,null,null,null,null,null,null,null,null,null,null,null,null,null,null,null,null,null,null,null,null,null,null,null,null,null,null,null,null,null,null,null,null,{"$f":"IF(V23=\"\",\"\",ROUND(AL23*AR23,0))","v":""}]
[]
[]
[]
[null,"前回までの\n請求額",null,null,null,null,null,null,null,null,null,null,null,null,null,null,null,null,null,null,null,null,null,null,null,null,null,null,null,null,null,null,null,null,null,null,null,null,null,null,null,null,null,null,null,null,null,null,{"$f":"IF(V27=\"\",\"\",ROUND(AL27*AR27,0))","v":""}]
[]
[]
[]
[null,"今回\n請求額",null,null,null,null,null,null,null,null,null,null,null,null,null,null,null,null,null,null,null,null,null,null,null,null,null,null,null,null,null,null,null,null,null,null,null,null,null,null,null,null,null,null,null,null,null,null,{"$f":"IF(V31=\"\",\"\",ROUND(AL31*AR31,0))","v":""}]
[]
[]
[]
[null,"差引残高",null,null,null,null,{"$f":"IF(G19=\"\",\"\",G19+G23-G27-G31)","v":""},null,null,null,null,null,null,null,null,null,null,null,null,null,null,null,null,null,null,null,null,null,null,null,null,null,null,null,null,null,null,null,null,null,null,null,null,null,null,null,null,null,{"$f":"IF(V35=\"\",\"\",ROUND(AL35*AR35,0))","v":""}]
[]
[]
[]
[null,null,null,null,null,null,null,null,null,null,null,null,null,null,null,null,null,null,null,null,null,null,null,null,null,null,null,null,null,null,null,null,null,null,null,null,null,null,null,null,null,null,null,null,null,null,null,null,{"$f":"IF(V39=\"\",\"\",ROUND(AL39*AR39,0))","v":""}]
[]
[]
[]
[null,null,null,null,null,null,null,null,null,null,null,null,null,null,null,null,null,null,null,null,null,null,null,null,null,null,null,null,null,null,null,null,null,null,null,null,null,null,null,null,null,null,null,null,null,null,null,null,{"$f":"IF(V43=\"\",\"\",ROUND(AL43*AR43,0))","v":""}]
[]
[]
[]
[null,null,null,null,null,null,null,null,null,null,null,null,null,null,null,null,null,null,null,null,null,null,null,null,null,null,null,null,null,null,null,null,null,null,null,null,null,null,null,null,null,null,null,null,null,null,null,null,{"$f":"IF(V47=\"\",\"\",ROUND(AL47*AR47,0))","v":""}]
[]
[]
[]
[null,null,null,null,null,null,null,null,null,null,null,null,null,null,null,null,null,null,null,null,null,null,null,null,null,null,null,null,null,null,null,null,null,null,null,null,null,null,null,null,null,null,null,null,null,null,null,null,{"$f":"IF(V51=\"\",\"\",ROUND(AL51*AR51,0))","v":""}]
[]
[]
[]
[null,null,null,null,null,null,null,null,null,null,null,null,null,null,null,null,null,null,null,null,null,null,null,null,null,null,null,null,null,null,null,null,null,null,null,null,null,null,null,null,null,null,null,null,null,null,null,null,{"$f":"IF(V55=\"\",\"\",ROUND(AL55*AR55,0))","v":""}]
[]
[]
[]
[null,null,null,null,null,null,null,null,null,null,null,null,null,null,null,null,null,null,null,null,null,null,null,null,null,null,null,null,null,null,null,null,null,null,null,null,null,null,null,null,null,null,null,null,null,null,null,null,{"$f":"IF(V59=\"\",\"\",ROUND(AL59*AR59,0))","v":""}]
[]
[]
[]
[null,null,null,null,null,null,null,null,null,null,null,null,null,null,null,null,null,null,null,null,null,null,null,null,null,null,null,null,null,null,null,null,null,null,null,null,null,null,null,null,null,null,null,null,null,null,null,null,{"$f":"IF(V63=\"\",\"\",ROUND(AL63*AR63,0))","v":""}]
[]
[]
[]
[null,null,null,null,null,null,null,null,null,null,null,null,null,null,null,null,null,null,null,null,null,null,null,null,null,null,null,null,null,null,null,null,null,null,null,null,null,null,null,null,null,null,null,null,null,null,null,null,{"$f":"IF(V67=\"\",\"\",ROUND(AL67*AR67,0))","v":""}]
[]
[]
[]
[null,null,null,null,null,null,null,null,null,null,null,null,null,null,null,null,null,null,null,null,null,null,null,null,null,null,null,null,null,null,null,null,null,null,null,null,null,null,null,null,null,null,null,null,null,null,null,null,{"$f":"IF(V71=\"\",\"\",ROUND(AL71*AR71,0))","v":""}]
[]
[]
[]
[null,null,null,null,null,null,null,null,null,null,null,null,null,null,null,null,null,null,null,null,null,null,null,null,null,null,null,null,null,null,null,null,null,null,null,null,null,null,null,null,null,null,null,null,null,null,null,null,{"$f":"IF(V75=\"\",\"\",ROUND(AL75*AR75,0))","v":""}]
[]
[]
[]
[null,null,null,null,null,null,null,null,null,null,null,null,null,null,null,null,null,null,null,null,null,null,null,null,null,null,null,null,null,null,null,null,null,null,null,null,null,null,null,null,null,null,null,null,null,null,null,null,{"$f":"IF(V79=\"\",\"\",ROUND(AL79*AR79,0))","v":""}]
[]
[]
[]
[null,null,null,null,null,null,null,null,null,null,null,null,null,null,null,null,null,null,null,null,null,null,null,null,null,null,null,null,null,null,null,null,null,null,null,null,null,"金額(税抜)",null,null,null,null,null,null,null,null,null,null,{"$f":"IF(AW19=\"\",\"\",SUM(AW19:AW79))","v":""}]
[null,"社長",null,null,null,"専務",null,null,null,null,null,"常務",null,null,null,null,null,"部長･工場長",null,null,null,null,null,null,null,null,"担当者",null,null,null,null,"受付"]
[]
[]
[]
[null,null,null,null,null,null,null,null,null,null,null,null,null,null,null,null,null,null,null,null,null,null,null,null,null,null,null,null,null,null,null,null,null,null,null,null,null,"消費税",null,null,null,null,null,"税率",null,null,"税調",null,{"$f":"IF(AW83=\"\",\"\",IF(AR90=\"\",\"\",IF(AR90=8.1,ROUND(AW83*8/100,0)+AU90,ROUND(AW83*AR90/100,0)+AU90)))","v":""}]
[]
[null,null,null,null,null,null,null,null,null,null,null,null,null,null,null,null,null,null,null,null,null,null,null,null,null,null,null,null,null,null,null,null,null,null,null,null,null,null,null,null,null,null,null,null,null,{"$f":"IF(AR90=\"\",\"\",IF(AR90=8.1,\"旧\",IF(AR90=8,\"軽\",IF(AR90=0,\"非\",\"\"))))","v":""}]
[]
[]
[]
[null,null,null,null,null,null,null,null,null,null,null,null,null,null,null,null,null,null,null,"請求明細書 (現場控)"]
[null,"株 式 会 社 種 村 建 設",null,null,null,null,null,null,null,null,null,null,"御中"]
[null,null,null,null,null,null,null,null,null,null,null,null,null,null,null,null,null,null,null,null,null,null,null,null,null,null,null,null,null,null,null,null,null,null,null,null,null,null,null,null,"請求年月日",null,null,null,null,{"$f":"IF(AT4=\"\",\"\",AT4)","v":""},null,null,null,{"$f":"IF(AX4=\"\",\"\",AX4)","v":""},null,null,{"$f":"IF(BA4=\"\",\"\",BA4)","v":""}]
[]
[]
[]
[]
[null,"工事番号",null,null,null,null,{"$f":"IF(G9=\"\",\"\",G9)","v":""},null,null,null,null,null,"工事名",null,null,null,{"$f":"IF(Q9=\"\",\"\",Q9)","v":""},null,null,null,null,null,null,null,null,null,null,null,null,null,null,null,null,null,null,null,null,"業者名",null,null,null,{"$f":"IF(AP9=\"\",\"\",AP9)","v":""}]
[]
[]
[]
[]
[]
[null,"注文番号",null,null,null,null,{"$f":"IF(G15=\"\",\"\",G15)","v":""},null,null,null,null,null,null,null,null,null,null,"月　日",null,null,null,"品　名・内　訳",null,null,null,null,null,null,null,null,null,null,null,null,null,null,null,"数 量",null,null,"単位",null,null,"単価",null,null,null,null,{"$f":"表紙①!P127","v":"金額(税抜)"}]
[]
[]
[]
[null,"契約金額",null,null,null,null,{"$f":"IF(G19=\"\",\"\",G19)","v":""},null,null,null,null,null,null,null,null,null,null,{"$f":"IF(R19=\"\",\"\",R19)","v":""},null,{"$f":"IF(T19=\"\",\"\",T19)","v":""},null,{"$f":"IF(V19=\"\",\"\",V19)","v":""},null,{"$f":"IF(X19=\"\",\"\",X19)","v":""},null,{"$f":"IF(Z19=\"\",\"\",Z19)","v":""},null,{"$f":"IF(AB19=\"\",\"\",AB19)","v":""},null,{"$f":"IF(AD19=\"\",\"\",AD19)","v":""},null,{"$f":"IF(AF19=\"\",\"\",AF19)","v":""},null,{"$f":"IF(AH19=\"\",\"\",AH19)","v":""},null,{"$f":"IF(AJ19=\"\",\"\",AJ19)","v":""},null,{"$f":"IF(AL19=\"\",\"\",AL19)","v":""},null,null,{"$f":"IF(AO19=\"\",\"\",AO19)","v":""},null,null,{"$f":"IF(AR19=\"\",\"\",AR19)","v":""},null,null,null,null,{"$f":"IF(AW19=\"\",\"\",AW19)","v":""}]
[]
[]
[]
[null,"増減額",null,null,null,null,{"$f":"IF(G23=\"\",\"\",G23)","v":""},null,null,null,null,null,null,null,null,null,null,{"$f":"IF(R23=\"\",\"\",R23)","v":""},null,{"$f":"IF(T23=\"\",\"\",T23)","v":""},null,{"$f":"IF(V23=\"\",\"\",V23)","v":""},null,{"$f":"IF(X23=\"\",\"\",X23)","v":""},null,{"$f":"IF(Z23=\"\",\"\",Z23)","v":""},null,{"$f":"IF(AB23=\"\",\"\",AB23)","v":""},null,{"$f":"IF(AD23=\"\",\"\",AD23)","v":""},null,{"$f":"IF(AF23=\"\",\"\",AF23)","v":""},null,{"$f":"IF(AH23=\"\",\"\",AH23)","v":""},null,{"$f":"IF(AJ23=\"\",\"\",AJ23)","v":""},null,{"$f":"IF(AL23=\"\",\"\",AL23)","v":""},null,null,{"$f":"IF(AO23=\"\",\"\",AO23)","v":""},null,null,{"$f":"IF(AR23=\"\",\"\",AR23)","v":""},null,null,null,null,{"$f":"IF(AW23=\"\",\"\",AW23)","v":""}]
[]
[]
[]
[null,"前回までの\n請求額",null,null,null,null,{"$f":"IF(G27=\"\",\"\",G27)","v":""},null,null,null,null,null,null,null,null,null,null,{"$f":"IF(R27=\"\",\"\",R27)","v":""},null,{"$f":"IF(T27=\"\",\"\",T27)","v":""},null,{"$f":"IF(V27=\"\",\"\",V27)","v":""},null,{"$f":"IF(X27=\"\",\"\",X27)","v":""},null,{"$f":"IF(Z27=\"\",\"\",Z27)","v":""},null,{"$f":"IF(AB27=\"\",\"\",AB27)","v":""},null,{"$f":"IF(AD27=\"\",\"\",AD27)","v":""},null,{"$f":"IF(AF27=\"\",\"\",AF27)","v":""},null,{"$f":"IF(AH27=\"\",\"\",AH27)","v":""},null,{"$f":"IF(AJ27=\"\",\"\",AJ27)","v":""},null,{"$f":"IF(AL27=\"\",\"\",AL27)","v":""},null,null,{"$f":"IF(AO27=\"\",\"\",AO27)","v":""},null,null,{"$f":"IF(AR27=\"\",\"\",AR27)","v":""},null,null,null,null,{"$f":"IF(AW27=\"\",\"\",AW27)","v":""}]
[]
[]
[]
[null,"今回\n請求額",null,null,{"$f":"IF(E31=\"\",\"\",E31)","v":""},null,{"$f":"IF(G31=\"\",\"\",G31)","v":""},null,null,null,null,null,null,null,null,null,null,{"$f":"IF(R31=\"\",\"\",R31)","v":""},null,{"$f":"IF(T31=\"\",\"\",T31)","v":""},null,{"$f":"IF(V31=\"\",\"\",V31)","v":""},null,{"$f":"IF(X31=\"\",\"\",X31)","v":""},null,{"$f":"IF(Z31=\"\",\"\",Z31)","v":""},null,{"$f":"IF(AB31=\"\",\"\",AB31)","v":""},null,{"$f":"IF(AD31=\"\",\"\",AD31)","v":""},null,{"$f":"IF(AF31=\"\",\"\",AF31)","v":""},null,{"$f":"IF(AH31=\"\",\"\",AH31)","v":""},null,{"$f":"IF(AJ31=\"\",\"\",AJ31)","v":""},null,{"$f":"IF(AL31=\"\",\"\",AL31)","v":""},null,null,{"$f":"IF(AO31=\"\",\"\",AO31)","v":""},null,null,{"$f":"IF(AR31=\"\",\"\",AR31)","v":""},null,null,null,null,{"$f":"IF(AW31=\"\",\"\",AW31)","v":""}]
[]
[]
[]
[null,"差引残高",null,null,null,null,{"$f":"IF(G111=\"\",\"\",G111+G115-G119-G123)","v":""},null,null,null,null,null,null,null,null,null,null,{"$f":"IF(R35=\"\",\"\",R35)","v":""},null,{"$f":"IF(T35=\"\",\"\",T35)","v":""},null,{"$f":"IF(V35=\"\",\"\",V35)","v":""},null,{"$f":"IF(X35=\"\",\"\",X35)","v":""},null,{"$f":"IF(Z35=\"\",\"\",Z35)","v":""},null,{"$f":"IF(AB35=\"\",\"\",AB35)","v":""},null,{"$f":"IF(AD35=\"\",\"\",AD35)","v":""},null,{"$f":"IF(AF35=\"\",\"\",AF35)","v":""},null,{"$f":"IF(AH35=\"\",\"\",AH35)","v":""},null,{"$f":"IF(AJ35=\"\",\"\",AJ35)","v":""},null,{"$f":"IF(AL35=\"\",\"\",AL35)","v":""},null,null,{"$f":"IF(AO35=\"\",\"\",AO35)","v":""},null,null,{"$f":"IF(AR35=\"\",\"\",AR35)","v":""},null,null,null,null,{"$f":"IF(AW35=\"\",\"\",AW35)","v":""}]
[]
[]
[]
[null,null,null,null,null,null,null,null,null,null,null,null,null,null,null,null,null,{"$f":"IF(R39=\"\",\"\",R39)","v":""},null,{"$f":"IF(T39=\"\",\"\",T39)","v":""},null,{"$f":"IF(V39=\"\",\"\",V39)","v":""},null,{"$f":"IF(X39=\"\",\"\",X39)","v":""},null,{"$f":"IF(Z39=\"\",\"\",Z39)","v":""},null,{"$f":"IF(AB39=\"\",\"\",AB39)","v":""},null,{"$f":"IF(AD39=\"\",\"\",AD39)","v":""},null,{"$f":"IF(AF39=\"\",\"\",AF39)","v":""},null,{"$f":"IF(AH39=\"\",\"\",AH39)","v":""},null,{"$f":"IF(AJ39=\"\",\"\",AJ39)","v":""},null,{"$f":"IF(AL39=\"\",\"\",AL39)","v":""},null,null,{"$f":"IF(AO39=\"\",\"\",AO39)","v":""},null,null,{"$f":"IF(AR39=\"\",\"\",AR39)","v":""},null,null,null,null,{"$f":"IF(AW39=\"\",\"\",AW39)","v":""}]
[]
[]
[]
[null,null,null,null,null,null,null,null,null,null,null,null,null,null,null,null,null,{"$f":"IF(R43=\"\",\"\",R43)","v":""},null,{"$f":"IF(T43=\"\",\"\",T43)","v":""},null,{"$f":"IF(V43=\"\",\"\",V43)","v":""},null,{"$f":"IF(X43=\"\",\"\",X43)","v":""},null,{"$f":"IF(Z43=\"\",\"\",Z43)","v":""},null,{"$f":"IF(AB43=\"\",\"\",AB43)","v":""},null,{"$f":"IF(AD43=\"\",\"\",AD43)","v":""},null,{"$f":"IF(AF43=\"\",\"\",AF43)","v":""},null,{"$f":"IF(AH43=\"\",\"\",AH43)","v":""},null,{"$f":"IF(AJ43=\"\",\"\",AJ43)","v":""},null,{"$f":"IF(AL43=\"\",\"\",AL43)","v":""},null,null,{"$f":"IF(AO43=\"\",\"\",AO43)","v":""},null,null,{"$f":"IF(AR43=\"\",\"\",AR43)","v":""},null,null,null,null,{"$f":"IF(AW43=\"\",\"\",AW43)","v":""}]
[]
[]
[]
[null,null,null,null,null,null,null,null,null,null,null,null,null,null,null,null,null,{"$f":"IF(R47=\"\",\"\",R47)","v":""},null,{"$f":"IF(T47=\"\",\"\",T47)","v":""},null,{"$f":"IF(V47=\"\",\"\",V47)","v":""},null,{"$f":"IF(X47=\"\",\"\",X47)","v":""},null,{"$f":"IF(Z47=\"\",\"\",Z47)","v":""},null,{"$f":"IF(AB47=\"\",\"\",AB47)","v":""},null,{"$f":"IF(AD47=\"\",\"\",AD47)","v":""},null,{"$f":"IF(AF47=\"\",\"\",AF47)","v":""},null,{"$f":"IF(AH47=\"\",\"\",AH47)","v":""},null,{"$f":"IF(AJ47=\"\",\"\",AJ47)","v":""},null,{"$f":"IF(AL47=\"\",\"\",AL47)","v":""},null,null,{"$f":"IF(AO47=\"\",\"\",AO47)","v":""},null,null,{"$f":"IF(AR47=\"\",\"\",AR47)","v":""},null,null,null,null,{"$f":"IF(AW47=\"\",\"\",AW47)","v":""}]
[]
[]
[]
[null,null,null,null,null,null,null,null,null,null,null,null,null,null,null,null,null,{"$f":"IF(R51=\"\",\"\",R51)","v":""},null,{"$f":"IF(T51=\"\",\"\",T51)","v":""},null,{"$f":"IF(V51=\"\",\"\",V51)","v":""},null,{"$f":"IF(X51=\"\",\"\",X51)","v":""},null,{"$f":"IF(Z51=\"\",\"\",Z51)","v":""},null,{"$f":"IF(AB51=\"\",\"\",AB51)","v":""},null,{"$f":"IF(AD51=\"\",\"\",AD51)","v":""},null,{"$f":"IF(AF51=\"\",\"\",AF51)","v":""},null,{"$f":"IF(AH51=\"\",\"\",AH51)","v":""},null,{"$f":"IF(AJ51=\"\",\"\",AJ51)","v":""},null,{"$f":"IF(AL51=\"\",\"\",AL51)","v":""},null,null,{"$f":"IF(AO51=\"\",\"\",AO51)","v":""},null,null,{"$f":"IF(AR51=\"\",\"\",AR51)","v":""},null,null,null,null,{"$f":"IF(AW51=\"\",\"\",AW51)","v":""}]
[]
[]
[]
[null,null,null,null,null,null,null,null,null,null,null,null,null,null,null,null,null,{"$f":"IF(R55=\"\",\"\",R55)","v":""},null,{"$f":"IF(T55=\"\",\"\",T55)","v":""},null,{"$f":"IF(V55=\"\",\"\",V55)","v":""},null,{"$f":"IF(X55=\"\",\"\",X55)","v":""},null,{"$f":"IF(Z55=\"\",\"\",Z55)","v":""},null,{"$f":"IF(AB55=\"\",\"\",AB55)","v":""},null,{"$f":"IF(AD55=\"\",\"\",AD55)","v":""},null,{"$f":"IF(AF55=\"\",\"\",AF55)","v":""},null,{"$f":"IF(AH55=\"\",\"\",AH55)","v":""},null,{"$f":"IF(AJ55=\"\",\"\",AJ55)","v":""},null,{"$f":"IF(AL55=\"\",\"\",AL55)","v":""},null,null,{"$f":"IF(AO55=\"\",\"\",AO55)","v":""},null,null,{"$f":"IF(AR55=\"\",\"\",AR55)","v":""},null,null,null,null,{"$f":"IF(AW55=\"\",\"\",AW55)","v":""}]
[]
[]
[]
[null,null,null,null,null,null,null,null,null,null,null,null,null,null,null,null,null,{"$f":"IF(R59=\"\",\"\",R59)","v":""},null,{"$f":"IF(T59=\"\",\"\",T59)","v":""},null,{"$f":"IF(V59=\"\",\"\",V59)","v":""},null,{"$f":"IF(X59=\"\",\"\",X59)","v":""},null,{"$f":"IF(Z59=\"\",\"\",Z59)","v":""},null,{"$f":"IF(AB59=\"\",\"\",AB59)","v":""},null,{"$f":"IF(AD59=\"\",\"\",AD59)","v":""},null,{"$f":"IF(AF59=\"\",\"\",AF59)","v":""},null,{"$f":"IF(AH59=\"\",\"\",AH59)","v":""},null,{"$f":"IF(AJ59=\"\",\"\",AJ59)","v":""},null,{"$f":"IF(AL59=\"\",\"\",AL59)","v":""},null,null,{"$f":"IF(AO59=\"\",\"\",AO59)","v":""},null,null,{"$f":"IF(AR59=\"\",\"\",AR59)","v":""},null,null,null,null,{"$f":"IF(AW59=\"\",\"\",AW59)","v":""}]
[]
[]
[]
[null,null,null,null,null,null,null,null,null,null,null,null,null,null,null,null,null,{"$f":"IF(R63=\"\",\"\",R63)","v":""},null,{"$f":"IF(T63=\"\",\"\",T63)","v":""},null,{"$f":"IF(V63=\"\",\"\",V63)","v":""},null,{"$f":"IF(X63=\"\",\"\",X63)","v":""},null,{"$f":"IF(Z63=\"\",\"\",Z63)","v":""},null,{"$f":"IF(AB63=\"\",\"\",AB63)","v":""},null,{"$f":"IF(AD63=\"\",\"\",AD63)","v":""},null,{"$f":"IF(AF63=\"\",\"\",AF63)","v":""},null,{"$f":"IF(AH63=\"\",\"\",AH63)","v":""},null,{"$f":"IF(AJ63=\"\",\"\",AJ63)","v":""},null,{"$f":"IF(AL63=\"\",\"\",AL63)","v":""},null,null,{"$f":"IF(AO63=\"\",\"\",AO63)","v":""},null,null,{"$f":"IF(AR63=\"\",\"\",AR63)","v":""},null,null,null,null,{"$f":"IF(AW63=\"\",\"\",AW63)","v":""}]
[]
[]
[]
[null,null,null,null,null,null,null,null,null,null,null,null,null,null,null,null,null,{"$f":"IF(R67=\"\",\"\",R67)","v":""},null,{"$f":"IF(T67=\"\",\"\",T67)","v":""},null,{"$f":"IF(V67=\"\",\"\",V67)","v":""},null,{"$f":"IF(X67=\"\",\"\",X67)","v":""},null,{"$f":"IF(Z67=\"\",\"\",Z67)","v":""},null,{"$f":"IF(AB67=\"\",\"\",AB67)","v":""},null,{"$f":"IF(AD67=\"\",\"\",AD67)","v":""},null,{"$f":"IF(AF67=\"\",\"\",AF67)","v":""},null,{"$f":"IF(AH67=\"\",\"\",AH67)","v":""},null,{"$f":"IF(AJ67=\"\",\"\",AJ67)","v":""},null,{"$f":"IF(AL67=\"\",\"\",AL67)","v":""},null,null,{"$f":"IF(AO67=\"\",\"\",AO67)","v":""},null,null,{"$f":"IF(AR67=\"\",\"\",AR67)","v":""},null,null,null,null,{"$f":"IF(AW67=\"\",\"\",AW67)","v":""}]
[]
[]
[]
[null,null,null,null,null,null,null,null,null,null,null,null,null,null,null,null,null,{"$f":"IF(R71=\"\",\"\",R71)","v":""},null,{"$f":"IF(T71=\"\",\"\",T71)","v":""},null,{"$f":"IF(V71=\"\",\"\",V71)","v":""},null,{"$f":"IF(X71=\"\",\"\",X71)","v":""},null,{"$f":"IF(Z71=\"\",\"\",Z71)","v":""},null,{"$f":"IF(AB71=\"\",\"\",AB71)","v":""},null,{"$f":"IF(AD71=\"\",\"\",AD71)","v":""},null,{"$f":"IF(AF71=\"\",\"\",AF71)","v":""},null,{"$f":"IF(AH71=\"\",\"\",AH71)","v":""},null,{"$f":"IF(AJ71=\"\",\"\",AJ71)","v":""},null,{"$f":"IF(AL71=\"\",\"\",AL71)","v":""},null,null,{"$f":"IF(AO71=\"\",\"\",AO71)","v":""},null,null,{"$f":"IF(AR71=\"\",\"\",AR71)","v":""},null,null,null,null,{"$f":"IF(AW71=\"\",\"\",AW71)","v":""}]
[]
[]
[]
[null,null,null,null,null,null,null,null,null,null,null,null,null,null,null,null,null,{"$f":"IF(R75=\"\",\"\",R75)","v":""},null,{"$f":"IF(T75=\"\",\"\",T75)","v":""},null,{"$f":"IF(V75=\"\",\"\",V75)","v":""},null,{"$f":"IF(X75=\"\",\"\",X75)","v":""},null,{"$f":"IF(Z75=\"\",\"\",Z75)","v":""},null,{"$f":"IF(AB75=\"\",\"\",AB75)","v":""},null,{"$f":"IF(AD75=\"\",\"\",AD75)","v":""},null,{"$f":"IF(AF75=\"\",\"\",AF75)","v":""},null,{"$f":"IF(AH75=\"\",\"\",AH75)","v":""},null,{"$f":"IF(AJ75=\"\",\"\",AJ75)","v":""},null,{"$f":"IF(AL75=\"\",\"\",AL75)","v":""},null,null,{"$f":"IF(AO75=\"\",\"\",AO75)","v":""},null,null,{"$f":"IF(AR75=\"\",\"\",AR75)","v":""},null,null,null,null,{"$f":"IF(AW75=\"\",\"\",AW75)","v":""}]
[]
[]
[]
[null,null,null,null,null,null,null,null,null,null,null,null,null,null,null,null,null,{"$f":"IF(R79=\"\",\"\",R79)","v":""},null,{"$f":"IF(T79=\"\",\"\",T79)","v":""},null,{"$f":"IF(V79=\"\",\"\",V79)","v":""},null,{"$f":"IF(X79=\"\",\"\",X79)","v":""},null,{"$f":"IF(Z79=\"\",\"\",Z79)","v":""},null,{"$f":"IF(AB79=\"\",\"\",AB79)","v":""},null,{"$f":"IF(AD79=\"\",\"\",AD79)","v":""},null,{"$f":"IF(AF79=\"\",\"\",AF79)","v":""},null,{"$f":"IF(AH79=\"\",\"\",AH79)","v":""},null,{"$f":"IF(AJ79=\"\",\"\",AJ79)","v":""},null,{"$f":"IF(AL79=\"\",\"\",AL79)","v":""},null,null,{"$f":"IF(AO79=\"\",\"\",AO79)","v":""},null,null,{"$f":"IF(AR79=\"\",\"\",AR79)","v":""},null,null,null,null,{"$f":"IF(AW79=\"\",\"\",AW79)","v":""}]
[]
[]
[]
[null,null,null,null,null,null,null,null,null,null,null,null,null,null,null,null,null,null,null,null,null,null,null,null,null,null,null,null,null,null,null,null,null,null,null,null,null,{"$f":"AL83","v":"金額(税抜)"},null,null,null,null,null,null,null,null,null,null,{"$f":"AW83","v":""}]
[]
[]
[]
[]
[null,null,null,null,null,null,null,null,null,null,null,null,null,null,null,null,null,null,null,null,null,null,null,null,null,null,null,null,null,null,null,null,null,null,null,null,null,{"$f":"AL88","v":"消費税"},null,null,null,null,null,"税率",null,null,"税調",null,{"$f":"AW88","v":""}]
[]
[null,null,null,null,null,null,null,null,null,null,null,null,null,null,null,null,null,null,null,null,null,null,null,null,null,null,null,null,null,null,null,null,null,null,null,null,null,null,null,null,null,null,null,{"$f":"AR90","v":0},null,{"$f":"AT90","v":""}]
[]
[]
[]
[null,null,null,null,null,null,null,null,null,null,null,null,null,null,null,null,null,null,null,"請求明細書 (貴社控)"]
[null,"株 式 会 社 種 村 建 設",null,null,null,null,null,null,null,null,null,null,"御中"]
[null,null,null,null,null,null,null,null,null,null,null,null,null,null,null,null,null,null,null,null,null,null,null,null,null,null,null,null,null,null,null,null,null,null,null,null,null,null,null,null,"請求年月日",null,null,null,null,{"$f":"IF(AT4=\"\",\"\",AT4)","v":""},null,null,null,{"$f":"IF(AX96=\"\",\"\",AX96)","v":""},null,null,{"$f":"IF(BA96=\"\",\"\",BA96)","v":""}]
[]
[]
[]
[]
[null,"工事番号",null,null,null,null,{"$f":"IF(G101=\"\",\"\",G101)","v":""},null,null,null,null,null,"工事名",null,null,null,{"$f":"IF(Q101=\"\",\"\",Q101)","v":""},null,null,null,null,null,null,null,null,null,null,null,null,null,null,null,null,null,null,null,null,"業者名",null,null,null,{"$f":"IF(AP101=\"\",\"\",AP101)","v":""}]
[]
[]
[]
[]
[]
[null,"注文番号",null,null,null,null,{"$f":"IF(G107=\"\",\"\",G107)","v":""},null,null,null,null,null,null,null,null,null,null,"月　日",null,null,null,"品　名・内　訳",null,null,null,null,null,null,null,null,null,null,null,null,null,null,null,"数 量",null,null,"単位",null,null,"単価",null,null,null,null,{"$f":"表紙①!P219","v":0}]
[]
[]
[]
[null,"契約金額",null,null,null,null,{"$f":"IF(G111=\"\",\"\",G111)","v":""},null,null,null,null,null,null,null,null,null,null,{"$f":"IF(R111=\"\",\"\",R111)","v":""},null,{"$f":"IF(T111=\"\",\"\",T111)","v":""},null,{"$f":"IF(V111=\"\",\"\",V111)","v":""},null,{"$f":"IF(X111=\"\",\"\",X111)","v":""},null,{"$f":"IF(Z111=\"\",\"\",Z111)","v":""},null,{"$f":"IF(AB111=\"\",\"\",AB111)","v":""},null,{"$f":"IF(AD111=\"\",\"\",AD111)","v":""},null,{"$f":"IF(AF111=\"\",\"\",AF111)","v":""},null,{"$f":"IF(AH111=\"\",\"\",AH111)","v":""},null,{"$f":"IF(AJ111=\"\",\"\",AJ111)","v":""},null,{"$f":"IF(AL111=\"\",\"\",AL111)","v":""},null,null,{"$f":"IF(AO111=\"\",\"\",AO111)","v":""},null,null,{"$f":"IF(AR111=\"\",\"\",AR111)","v":""},null,null,null,null,{"$f":"IF(AW111=\"\",\"\",AW111)","v":""}]
[]
[]
[]
[null,"増減額",null,null,null,null,{"$f":"IF(G115=\"\",\"\",G115)","v":""},null,null,null,null,null,null,null,null,null,null,{"$f":"IF(R115=\"\",\"\",R115)","v":""},null,{"$f":"IF(T115=\"\",\"\",T115)","v":""},null,{"$f":"IF(V115=\"\",\"\",V115)","v":""},null,{"$f":"IF(X115=\"\",\"\",X115)","v":""},null,{"$f":"IF(Z115=\"\",\"\",Z115)","v":""},null,{"$f":"IF(AB115=\"\",\"\",AB115)","v":""},null,{"$f":"IF(AD115=\"\",\"\",AD115)","v":""},null,{"$f":"IF(AF115=\"\",\"\",AF115)","v":""},null,{"$f":"IF(AH115=\"\",\"\",AH115)","v":""},null,{"$f":"IF(AJ115=\"\",\"\",AJ115)","v":""},null,{"$f":"IF(AL115=\"\",\"\",AL115)","v":""},null,null,{"$f":"IF(AO115=\"\",\"\",AO115)","v":""},null,null,{"$f":"IF(AR115=\"\",\"\",AR115)","v":""},null,null,null,null,{"$f":"IF(AW115=\"\",\"\",AW115)","v":""}]
[]
[]
[]
[null,"前回までの\n請求額",null,null,null,null,{"$f":"IF(G119=\"\",\"\",G119)","v":""},null,null,null,null,null,null,null,null,null,null,{"$f":"IF(R119=\"\",\"\",R119)","v":""},null,{"$f":"IF(T119=\"\",\"\",T119)","v":""},null,{"$f":"IF(V119=\"\",\"\",V119)","v":""},null,{"$f":"IF(X119=\"\",\"\",X119)","v":""},null,{"$f":"IF(Z119=\"\",\"\",Z119)","v":""},null,{"$f":"IF(AB119=\"\",\"\",AB119)","v":""},null,{"$f":"IF(AD119=\"\",\"\",AD119)","v":""},null,{"$f":"IF(AF119=\"\",\"\",AF119)","v":""},null,{"$f":"IF(AH119=\"\",\"\",AH119)","v":""},null,{"$f":"IF(AJ119=\"\",\"\",AJ119)","v":""},null,{"$f":"IF(AL119=\"\",\"\",AL119)","v":""},null,null,{"$f":"IF(AO119=\"\",\"\",AO119)","v":""},null,null,{"$f":"IF(AR119=\"\",\"\",AR119)","v":""},null,null,null,null,{"$f":"IF(AW119=\"\",\"\",AW119)","v":""}]
[]
[]
[]
[null,"今回\n請求額",null,null,{"$f":"IF(E31=\"\",\"\",E31)","v":""},null,{"$f":"IF(G123=\"\",\"\",G123)","v":""},null,null,null,null,null,null,null,null,null,null,{"$f":"IF(R123=\"\",\"\",R123)","v":""},null,{"$f":"IF(T123=\"\",\"\",T123)","v":""},null,{"$f":"IF(V123=\"\",\"\",V123)","v":""},null,{"$f":"IF(X123=\"\",\"\",X123)","v":""},null,{"$f":"IF(Z123=\"\",\"\",Z123)","v":""},null,{"$f":"IF(AB123=\"\",\"\",AB123)","v":""},null,{"$f":"IF(AD123=\"\",\"\",AD123)","v":""},null,{"$f":"IF(AF123=\"\",\"\",AF123)","v":""},null,{"$f":"IF(AH123=\"\",\"\",AH123)","v":""},null,{"$f":"IF(AJ123=\"\",\"\",AJ123)","v":""},null,{"$f":"IF(AL123=\"\",\"\",AL123)","v":""},null,null,{"$f":"IF(AO123=\"\",\"\",AO123)","v":""},null,null,{"$f":"IF(AR123=\"\",\"\",AR123)","v":""},null,null,null,null,{"$f":"IF(AW123=\"\",\"\",AW123)","v":""}]
[]
[]
[]
[null,"差引残高",null,null,null,null,{"$f":"IF(G203=\"\",\"\",G203+G207-G211-G215)","v":""},null,null,null,null,null,null,null,null,null,null,{"$f":"IF(R127=\"\",\"\",R127)","v":""},null,{"$f":"IF(T127=\"\",\"\",T127)","v":""},null,{"$f":"IF(V127=\"\",\"\",V127)","v":""},null,{"$f":"IF(X127=\"\",\"\",X127)","v":""},null,{"$f":"IF(Z127=\"\",\"\",Z127)","v":""},null,{"$f":"IF(AB127=\"\",\"\",AB127)","v":""},null,{"$f":"IF(AD127=\"\",\"\",AD127)","v":""},null,{"$f":"IF(AF127=\"\",\"\",AF127)","v":""},null,{"$f":"IF(AH127=\"\",\"\",AH127)","v":""},null,{"$f":"IF(AJ127=\"\",\"\",AJ127)","v":""},null,{"$f":"IF(AL127=\"\",\"\",AL127)","v":""},null,null,{"$f":"IF(AO127=\"\",\"\",AO127)","v":""},null,null,{"$f":"IF(AR127=\"\",\"\",AR127)","v":""},null,null,null,null,{"$f":"IF(AW127=\"\",\"\",AW127)","v":""}]
[]
[]
[]
[null,null,null,null,null,null,null,null,null,null,null,null,null,null,null,null,null,{"$f":"IF(R131=\"\",\"\",R131)","v":""},null,{"$f":"IF(T131=\"\",\"\",T131)","v":""},null,{"$f":"IF(V131=\"\",\"\",V131)","v":""},null,{"$f":"IF(X131=\"\",\"\",X131)","v":""},null,{"$f":"IF(Z131=\"\",\"\",Z131)","v":""},null,{"$f":"IF(AB131=\"\",\"\",AB131)","v":""},null,{"$f":"IF(AD131=\"\",\"\",AD131)","v":""},null,{"$f":"IF(AF131=\"\",\"\",AF131)","v":""},null,{"$f":"IF(AH131=\"\",\"\",AH131)","v":""},null,{"$f":"IF(AJ131=\"\",\"\",AJ131)","v":""},null,{"$f":"IF(AL131=\"\",\"\",AL131)","v":""},null,null,{"$f":"IF(AO131=\"\",\"\",AO131)","v":""},null,null,{"$f":"IF(AR131=\"\",\"\",AR131)","v":""},null,null,null,null,{"$f":"IF(AW131=\"\",\"\",AW131)","v":""}]
[]
[]
[]
[null,null,null,null,null,null,null,null,null,null,null,null,null,null,null,null,null,{"$f":"IF(R135=\"\",\"\",R135)","v":""},null,{"$f":"IF(T135=\"\",\"\",T135)","v":""},null,{"$f":"IF(V135=\"\",\"\",V135)","v":""},null,{"$f":"IF(X135=\"\",\"\",X135)","v":""},null,{"$f":"IF(Z135=\"\",\"\",Z135)","v":""},null,{"$f":"IF(AB135=\"\",\"\",AB135)","v":""},null,{"$f":"IF(AD135=\"\",\"\",AD135)","v":""},null,{"$f":"IF(AF135=\"\",\"\",AF135)","v":""},null,{"$f":"IF(AH135=\"\",\"\",AH135)","v":""},null,{"$f":"IF(AJ135=\"\",\"\",AJ135)","v":""},null,{"$f":"IF(AL135=\"\",\"\",AL135)","v":""},null,null,{"$f":"IF(AO135=\"\",\"\",AO135)","v":""},null,null,{"$f":"IF(AR135=\"\",\"\",AR135)","v":""},null,null,null,null,{"$f":"IF(AW135=\"\",\"\",AW135)","v":""}]
[]
[]
[]
[null,null,null,null,null,null,null,null,null,null,null,null,null,null,null,null,null,{"$f":"IF(R139=\"\",\"\",R139)","v":""},null,{"$f":"IF(T139=\"\",\"\",T139)","v":""},null,{"$f":"IF(V139=\"\",\"\",V139)","v":""},null,{"$f":"IF(X139=\"\",\"\",X139)","v":""},null,{"$f":"IF(Z139=\"\",\"\",Z139)","v":""},null,{"$f":"IF(AB139=\"\",\"\",AB139)","v":""},null,{"$f":"IF(AD139=\"\",\"\",AD139)","v":""},null,{"$f":"IF(AF139=\"\",\"\",AF139)","v":""},null,{"$f":"IF(AH139=\"\",\"\",AH139)","v":""},null,{"$f":"IF(AJ139=\"\",\"\",AJ139)","v":""},null,{"$f":"IF(AL139=\"\",\"\",AL139)","v":""},null,null,{"$f":"IF(AO139=\"\",\"\",AO139)","v":""},null,null,{"$f":"IF(AR139=\"\",\"\",AR139)","v":""},null,null,null,null,{"$f":"IF(AW139=\"\",\"\",AW139)","v":""}]
[]
[]
[]
[null,null,null,null,null,null,null,null,null,null,null,null,null,null,null,null,null,{"$f":"IF(R143=\"\",\"\",R143)","v":""},null,{"$f":"IF(T143=\"\",\"\",T143)","v":""},null,{"$f":"IF(V143=\"\",\"\",V143)","v":""},null,{"$f":"IF(X143=\"\",\"\",X143)","v":""},null,{"$f":"IF(Z143=\"\",\"\",Z143)","v":""},null,{"$f":"IF(AB143=\"\",\"\",AB143)","v":""},null,{"$f":"IF(AD143=\"\",\"\",AD143)","v":""},null,{"$f":"IF(AF143=\"\",\"\",AF143)","v":""},null,{"$f":"IF(AH143=\"\",\"\",AH143)","v":""},null,{"$f":"IF(AJ143=\"\",\"\",AJ143)","v":""},null,{"$f":"IF(AL143=\"\",\"\",AL143)","v":""},null,null,{"$f":"IF(AO143=\"\",\"\",AO143)","v":""},null,null,{"$f":"IF(AR143=\"\",\"\",AR143)","v":""},null,null,null,null,{"$f":"IF(AW143=\"\",\"\",AW143)","v":""}]
[]
[]
[]
[null,null,null,null,null,null,null,null,null,null,null,null,null,null,null,null,null,{"$f":"IF(R147=\"\",\"\",R147)","v":""},null,{"$f":"IF(T147=\"\",\"\",T147)","v":""},null,{"$f":"IF(V147=\"\",\"\",V147)","v":""},null,{"$f":"IF(X147=\"\",\"\",X147)","v":""},null,{"$f":"IF(Z147=\"\",\"\",Z147)","v":""},null,{"$f":"IF(AB147=\"\",\"\",AB147)","v":""},null,{"$f":"IF(AD147=\"\",\"\",AD147)","v":""},null,{"$f":"IF(AF147=\"\",\"\",AF147)","v":""},null,{"$f":"IF(AH147=\"\",\"\",AH147)","v":""},null,{"$f":"IF(AJ147=\"\",\"\",AJ147)","v":""},null,{"$f":"IF(AL147=\"\",\"\",AL147)","v":""},null,null,{"$f":"IF(AO147=\"\",\"\",AO147)","v":""},null,null,{"$f":"IF(AR147=\"\",\"\",AR147)","v":""},null,null,null,null,{"$f":"IF(AW147=\"\",\"\",AW147)","v":""}]
[]
[]
[]
[null,null,null,null,null,null,null,null,null,null,null,null,null,null,null,null,null,{"$f":"IF(R151=\"\",\"\",R151)","v":""},null,{"$f":"IF(T151=\"\",\"\",T151)","v":""},null,{"$f":"IF(V151=\"\",\"\",V151)","v":""},null,{"$f":"IF(X151=\"\",\"\",X151)","v":""},null,{"$f":"IF(Z151=\"\",\"\",Z151)","v":""},null,{"$f":"IF(AB151=\"\",\"\",AB151)","v":""},null,{"$f":"IF(AD151=\"\",\"\",AD151)","v":""},null,{"$f":"IF(AF151=\"\",\"\",AF151)","v":""},null,{"$f":"IF(AH151=\"\",\"\",AH151)","v":""},null,{"$f":"IF(AJ151=\"\",\"\",AJ151)","v":""},null,{"$f":"IF(AL151=\"\",\"\",AL151)","v":""},null,null,{"$f":"IF(AO151=\"\",\"\",AO151)","v":""},null,null,{"$f":"IF(AR151=\"\",\"\",AR151)","v":""},null,null,null,null,{"$f":"IF(AW151=\"\",\"\",AW151)","v":""}]
[]
[]
[]
[null,null,null,null,null,null,null,null,null,null,null,null,null,null,null,null,null,{"$f":"IF(R155=\"\",\"\",R155)","v":""},null,{"$f":"IF(T155=\"\",\"\",T155)","v":""},null,{"$f":"IF(V155=\"\",\"\",V155)","v":""},null,{"$f":"IF(X155=\"\",\"\",X155)","v":""},null,{"$f":"IF(Z155=\"\",\"\",Z155)","v":""},null,{"$f":"IF(AB155=\"\",\"\",AB155)","v":""},null,{"$f":"IF(AD155=\"\",\"\",AD155)","v":""},null,{"$f":"IF(AF155=\"\",\"\",AF155)","v":""},null,{"$f":"IF(AH155=\"\",\"\",AH155)","v":""},null,{"$f":"IF(AJ155=\"\",\"\",AJ155)","v":""},null,{"$f":"IF(AL155=\"\",\"\",AL155)","v":""},null,null,{"$f":"IF(AO155=\"\",\"\",AO155)","v":""},null,null,{"$f":"IF(AR155=\"\",\"\",AR155)","v":""},null,null,null,null,{"$f":"IF(AW155=\"\",\"\",AW155)","v":""}]
[]
[]
[]
[null,null,null,null,null,null,null,null,null,null,null,null,null,null,null,null,null,{"$f":"IF(R159=\"\",\"\",R159)","v":""},null,{"$f":"IF(T159=\"\",\"\",T159)","v":""},null,{"$f":"IF(V159=\"\",\"\",V159)","v":""},null,{"$f":"IF(X159=\"\",\"\",X159)","v":""},null,{"$f":"IF(Z159=\"\",\"\",Z159)","v":""},null,{"$f":"IF(AB159=\"\",\"\",AB159)","v":""},null,{"$f":"IF(AD159=\"\",\"\",AD159)","v":""},null,{"$f":"IF(AF159=\"\",\"\",AF159)","v":""},null,{"$f":"IF(AH159=\"\",\"\",AH159)","v":""},null,{"$f":"IF(AJ159=\"\",\"\",AJ159)","v":""},null,{"$f":"IF(AL159=\"\",\"\",AL159)","v":""},null,null,{"$f":"IF(AO159=\"\",\"\",AO159)","v":""},null,null,{"$f":"IF(AR159=\"\",\"\",AR159)","v":""},null,null,null,null,{"$f":"IF(AW159=\"\",\"\",AW159)","v":""}]
[]
[]
[]
[null,null,null,null,null,null,null,null,null,null,null,null,null,null,null,null,null,{"$f":"IF(R163=\"\",\"\",R163)","v":""},null,{"$f":"IF(T163=\"\",\"\",T163)","v":""},null,{"$f":"IF(V163=\"\",\"\",V163)","v":""},null,{"$f":"IF(X163=\"\",\"\",X163)","v":""},null,{"$f":"IF(Z163=\"\",\"\",Z163)","v":""},null,{"$f":"IF(AB163=\"\",\"\",AB163)","v":""},null,{"$f":"IF(AD163=\"\",\"\",AD163)","v":""},null,{"$f":"IF(AF163=\"\",\"\",AF163)","v":""},null,{"$f":"IF(AH163=\"\",\"\",AH163)","v":""},null,{"$f":"IF(AJ163=\"\",\"\",AJ163)","v":""},null,{"$f":"IF(AL163=\"\",\"\",AL163)","v":""},null,null,{"$f":"IF(AO163=\"\",\"\",AO163)","v":""},null,null,{"$f":"IF(AR163=\"\",\"\",AR163)","v":""},null,null,null,null,{"$f":"IF(AW163=\"\",\"\",AW163)","v":""}]
[]
[]
[]
[null,null,null,null,null,null,null,null,null,null,null,null,null,null,null,null,null,{"$f":"IF(R167=\"\",\"\",R167)","v":""},null,{"$f":"IF(T167=\"\",\"\",T167)","v":""},null,{"$f":"IF(V167=\"\",\"\",V167)","v":""},null,{"$f":"IF(X167=\"\",\"\",X167)","v":""},null,{"$f":"IF(Z167=\"\",\"\",Z167)","v":""},null,{"$f":"IF(AB167=\"\",\"\",AB167)","v":""},null,{"$f":"IF(AD167=\"\",\"\",AD167)","v":""},null,{"$f":"IF(AF167=\"\",\"\",AF167)","v":""},null,{"$f":"IF(AH167=\"\",\"\",AH167)","v":""},null,{"$f":"IF(AJ167=\"\",\"\",AJ167)","v":""},null,{"$f":"IF(AL167=\"\",\"\",AL167)","v":""},null,null,{"$f":"IF(AO167=\"\",\"\",AO167)","v":""},null,null,{"$f":"IF(AR167=\"\",\"\",AR167)","v":""},null,null,null,null,{"$f":"IF(AW167=\"\",\"\",AW167)","v":""}]
[]
[]
[]
[null,null,null,null,null,null,null,null,null,null,null,null,null,null,null,null,null,{"$f":"IF(R171=\"\",\"\",R171)","v":""},null,{"$f":"IF(T171=\"\",\"\",T171)","v":""},null,{"$f":"IF(V171=\"\",\"\",V171)","v":""},null,{"$f":"IF(X171=\"\",\"\",X171)","v":""},null,{"$f":"IF(Z171=\"\",\"\",Z171)","v":""},null,{"$f":"IF(AB171=\"\",\"\",AB171)","v":""},null,{"$f":"IF(AD171=\"\",\"\",AD171)","v":""},null,{"$f":"IF(AF171=\"\",\"\",AF171)","v":""},null,{"$f":"IF(AH171=\"\",\"\",AH171)","v":""},null,{"$f":"IF(AJ171=\"\",\"\",AJ171)","v":""},null,{"$f":"IF(AL171=\"\",\"\",AL171)","v":""},null,null,{"$f":"IF(AO171=\"\",\"\",AO171)","v":""},null,null,{"$f":"IF(AR171=\"\",\"\",AR171)","v":""},null,null,null,null,{"$f":"IF(AW171=\"\",\"\",AW171)","v":""}]
[]
[]
[]
[null,null,null,null,null,null,null,null,null,null,null,null,null,null,null,null,null,null,null,null,null,null,null,null,null,null,null,null,null,null,null,null,null,null,null,null,null,{"$f":"AL175","v":"金額(税抜)"},null,null,null,null,null,null,null,null,null,null,{"$f":"AW83","v":""}]
[]
[]
[]
[]
[null,null,null,null,null,null,null,null,null,null,null,null,null,null,null,null,null,null,null,null,null,null,null,null,null,null,null,null,null,null,null,null,null,null,null,null,null,{"$f":"AL180","v":"消費税"},null,null,null,null,null,"税率",null,null,"税調",null,{"$f":"AW88","v":""}]
[]
[null,null,null,null,null,null,null,null,null,null,null,null,null,null,null,null,null,null,null,null,null,null,null,null,null,null,null,null,null,null,null,null,null,null,null,null,null,null,null,null,null,null,null,{"$f":"AR90","v":0},null,{"$f":"AT90","v":""}]

{"sheet":"細1-11","index":14,"n_rows":274,"n_cols":53,"rows_kept":274,"cut":false,"hidden":false,"merged":[[266,37,269,47],[266,48,269,54],[258,48,261,54],[262,17,265,18],[262,19,265,20],[262,21,265,36],[262,37,265,39],[258,43,261,47],[271,48,274,54],[262,40,265,42],[262,43,265,47],[262,48,265,54],[258,17,261,18],[258,19,261,20],[258,21,261,36],[258,37,261,39],[258,40,261,42],[271,37,274,42],[271,43,272,45],[273,43,274,44],[273,45,274,45],[273,46,274,47],[271,46,272,47],[250,48,253,54],[254,17,257,18],[254,19,257,20],[254,21,257,36],[254,37,257,39],[254,40,257,42],[254,43,257,47],[254,48,257,54],[250,17,253,18],[250,19,253,20],[250,21,253,36],[250,37,253,39],[250,40,253,42],[250,43,253,47],[242,48,245,54],[246,17,249,18],[246,19,249,20],[246,21,249,36],[246,37,249,39],[246,40,249,42],[246,43,249,47],[246,48,249,54],[242,17,245,18],[242,19,245,20],[242,21,245,36],[242,37,245,39],[242,40,245,42],[242,43,245,47],[234,48,237,54],[238,17,241,18],[238,19,241,20],[238,21,241,36],[238,37,241,39],[238,40,241,42],[238,43,241,47],[238,48,241,54],[234,17,237,18],[234,19,237,20],[234,21,237,36],[234,37,237,39],[234,40,237,42],[234,43,237,47],[222,17,225,18],[222,19,225,20],[222,21,225,36],[222,37,225,39],[222,40,225,42],[222,43,225,47],[222,48,225,54],[226,48,229,54],[230,17,233,18],[230,19,233,20],[230,21,233,36],[230,37,233,39],[230,40,233,42],[230,43,233,47],[230,48,233,54],[226,17,229,18],[226,19,229,20],[226,21,229,36],[226,37,229,39],[226,40,229,42],[226,43,229,47],[218,1,221,5],[218,6,221,15],[218,17,221,18],[218,19,221,20],[218,21,221,36],[218,37,221,39],[218,40,221,42],[218,43,221,47],[218,48,221,54],[210,40,213,42],[210,43,213,47],[210,48,213,54],[214,1,217,3],[214,4,217,5],[214,6,217,15],[214,17,217,18],[214,19,217,20],[214,21,217,36],[214,37,217,39],[210,1,213,5],[210,6,213,15],[210,17,213,18],[210,19,213,20],[210,21,213,36],[210,37,213,39],[214,40,217,42],[214,43,217,47],[214,48,217,54],[206,1,209,5],[206,6,209,15],[206,17,209,18],[206,19,209,20],[206,21,209,36],[206,37,209,39],[206,40,209,42],[206,43,209,47],[206,48,209,54],[198,43,201,47],[198,48,201,54],[202,1,205,5],[202,6,205,15],[202,17,205,18],[202,19,205,20],[202,21,205,36],[202,37,205,39],[202,40,205,42],[202,43,205,47],[198,1,201,5],[198,6,201,15],[198,17,201,20],[198,21,201,36],[198,37,201,39],[198,40,201,42],[202,48,205,54],[187,52,189,54],[192,1,195,5],[192,6,195,11],[192,12,195,15],[192,16,195,35],[192,37,195,40],[192,41,195,54],[185,19,188,32],[186,1,189,11],[186,12,189,13],[187,49,189,51],[187,40,189,44],[187,45,189,48],[174,37,177,47],[174,48,177,54],[179,48,182,54],[170,17,173,18],[170,19,173,20],[170,21,173,36],[170,37,173,39],[170,40,173,42],[170,43,173,47],[170,48,173,54],[179,37,182,42],[179,43,180,45],[179,46,180,47],[181,43,182,44],[181,45,182,45],[181,46,182,47],[166,17,169,18],[166,19,169,20],[162,43,165,47],[162,48,165,54],[158,17,161,18],[158,19,161,20],[158,21,161,36],[158,37,161,39],[158,40,161,42],[162,17,165,18],[162,19,165,20],[162,21,165,36],[162,37,165,39],[162,40,165,42],[166,48,169,54],[158,43,161,47],[166,21,169,36],[166,37,169,39],[166,40,169,42],[166,43,169,47],[158,48,161,54],[154,48,157,54],[150,17,153,18],[150,19,153,20],[146,43,149,47],[146,48,149,54],[142,17,145,18],[142,19,145,20],[142,21,145,36],[142,37,145,39],[142,40,145,42],[154,17,157,18],[154,19,157,20],[154,21,157,36],[154,37,157,39],[154,40,157,42],[154,43,157,47],[146,17,149,18],[146,19,149,20],[146,21,149,36],[146,37,149,39],[146,40,149,42],[150,48,153,54],[142,43,145,47],[150,21,153,36],[150,37,153,39],[150,40,153,42],[150,43,153,47],[142,48,145,54],[130,48,133,54],[134,48,137,54],[130,17,133,18],[130,19,133,20],[130,21,133,36],[130,37,133,39],[130,40,133,42],[130,43,133,47],[138,48,141,54],[134,17,137,18],[134,19,137,20],[134,21,137,36],[134,37,137,39],[134,40,137,42],[134,43,137,47],[138,17,141,18],[138,19,141,20],[138,21,141,36],[138,37,141,39],[138,40,141,42],[138,43,141,47],[126,1,129,5],[126,6,129,15],[126,17,129,18],[126,19,129,20],[126,21,129,36],[126,37,129,39],[126,40,129,42],[126,43,129,47],[126,48,129,54],[118,40,121,42],[118,43,121,47],[118,48,121,54],[122,1,125,3],[122,4,125,5],[122,6,125,15],[122,17,125,18],[122,19,125,20],[122,21,125,36],[122,37,125,39],[118,1,121,5],[118,6,121,15],[118,17,121,18],[118,19,121,20],[118,21,121,36],[118,37,121,39],[122,40,125,42],[122,43,125,47],[122,48,125,54],[114,1,117,5],[114,6,117,15],[114,17,117,18],[114,19,117,20],[114,21,117,36],[114,37,117,39],[114,40,117,42],[114,43,117,47],[114,48,117,54],[106,43,109,47],[106,48,109,54],[110,1,113,5],[110,6,113,15],[110,17,113,18],[110,19,113,20],[110,21,113,36],[110,37,113,39],[110,40,113,42],[110,43,113,47],[106,1,109,5],[106,6,109,15],[106,17,109,20],[106,21,109,36],[106,37,109,39],[106,40,109,42],[110,48,113,54],[89,46,90,47],[87,46,88,47],[95,49,97,51],[95,52,97,54],[100,1,103,5],[100,6,103,11],[100,12,103,15],[100,16,103,35],[100,37,103,40],[100,41,103,54],[93,19,96,32],[94,1,97,11],[94,12,97,13],[95,40,97,44],[95,45,97,48],[83,1,84,4],[83,5,84,10],[83,11,84,16],[83,17,84,25],[85,1,90,4],[85,5,90,10],[85,11,90,16],[85,17,90,25],[89,45,90,45],[78,43,81,47],[83,26,84,30],[83,31,84,35],[78,17,81,18],[78,19,81,20],[78,21,81,36],[85,26,90,30],[85,31,90,35],[74,48,77,54],[87,48,90,54],[78,48,81,54],[82,37,85,47],[82,48,85,54],[78,37,81,39],[78,40,81,42],[74,17,77,18],[74,19,77,20],[74,21,77,36],[74,37,77,39],[74,40,77,42],[74,43,77,47],[87,37,90,42],[87,43,88,45],[89,43,90,44],[66,48,69,54],[70,17,73,18],[70,19,73,20],[70,21,73,36],[70,37,73,39],[70,40,73,42],[70,43,73,47],[70,48,73,54],[66,17,69,18],[66,19,69,20],[66,21,69,36],[66,37,69,39],[66,40,69,42],[66,43,69,47],[58,48,61,54],[62,17,65,18],[62,19,65,20],[62,21,65,36],[62,37,65,39],[62,40,65,42],[62,43,65,47],[62,48,65,54],[58,17,61,18],[58,19,61,20],[58,21,61,36],[58,37,61,39],[58,40,61,42],[58,43,61,47],[50,48,53,54],[54,17,57,18],[54,19,57,20],[54,21,57,36],[54,37,57,39],[54,40,57,42],[54,43,57,47],[54,48,57,54],[50,17,53,18],[50,19,53,20],[50,21,53,36],[50,37,53,39],[50,40,53,42],[50,43,53,47],[38,17,41,18],[38,19,41,20],[38,21,41,36],[38,37,41,39],[38,40,41,42],[38,43,41,47],[38,48,41,54],[42,48,45,54],[46,17,49,18],[46,19,49,20],[46,21,49,36],[46,37,49,39],[46,40,49,42],[46,43,49,47],[46,48,49,54],[42,17,45,18],[42,19,45,20],[42,21,45,36],[42,37,45,39],[42,40,45,42],[42,43,45,47],[34,1,37,5],[34,6,37,15],[34,17,37,18],[34,19,37,20],[34,21,37,36],[34,37,37,39],[34,40,37,42],[34,43,37,47],[34,48,37,54],[26,40,29,42],[26,43,29,47],[26,48,29,54],[30,1,33,3],[30,4,33,5],[30,6,33,15],[30,17,33,18],[30,19,33,20],[30,21,33,36],[30,37,33,39],[26,1,29,5],[26,6,29,15],[26,17,29,18],[26,19,29,20],[26,21,29,36],[26,37,29,39],[30,40,33,42],[30,43,33,47],[30,48,33,54],[22,1,25,5],[22,6,25,15],[22,17,25,18],[22,19,25,20],[22,21,25,36],[22,37,25,39],[22,40,25,42],[22,43,25,47],[22,48,25,54],[14,43,17,47],[14,48,17,54],[18,1,21,5],[18,6,21,15],[18,17,21,18],[18,19,21,20],[18,21,21,36],[18,37,21,39],[18,40,21,42],[18,43,21,47],[14,1,17,5],[14,6,17,15],[14,17,17,20],[14,21,17,36],[14,37,17,39],[14,40,17,42],[18,48,21,54],[3,52,5,54],[8,37,11,40],[8,41,11,54],[1,19,4,32],[2,1,5,11],[2,12,5,13],[8,1,11,5],[8,6,11,11],[8,12,11,15],[8,16,11,35],[3,49,5,51],[3,40,5,44],[3,45,5,48]]}
[]
[null,null,null,null,null,null,null,null,null,null,null,null,null,null,null,null,null,null,null,"請求書明細書 (正)"]
[null,"株 式 会 社 種 村 建 設",null,null,null,null,null,null,null,null,null,null,"御中"]
[null,null,null,null,null,null,null,null,null,null,null,null,null,null,null,null,null,null,null,null,null,null,null,null,null,null,null,null,null,null,null,null,null,null,null,null,null,null,null,null,"請求年月日",null,null,null,null,{"$f":"IF(年=\"\",\"\",年)","v":""},null,null,null,{"$f":"IF(月=\"\",\"\",月)","v":""},null,null,{"$f":"IF(日=\"\",\"\",日)","v":""}]
[]
[]
[]
[]
[null,"工事番号",null,null,null,null,null,null,null,null,null,null,"工事名",null,null,null,null,null,null,null,null,null,null,null,null,null,null,null,null,null,null,null,null,null,null,null,null,"業者名",null,null,null,{"$f":"IF(社名=\"\",\"\",社名)","v":""}]
[]
[]
[]
[]
[]
[null,"注文番号",null,null,null,null,null,null,null,null,null,null,null,null,null,null,null,"月　日",null,null,null,"品　名・内　訳",null,null,null,null,null,null,null,null,null,null,null,null,null,null,null,"数 量",null,null,"単位",null,null,"単価",null,null,null,null,{"$f":"表紙①!P35","v":"金額(税抜)"}]
[]
[]
[]
[null,"契約金額",null,null,null,null,null,null,null,null,null,null,null,null,null,null,null,null,null,null,null,null,null,null,null,null,null,null,null,null,null,null,null,null,null,null,null,null,null,null,null,null,null,null,null,null,null,null,{"$f":"IF(V19=\"\",\"\",ROUND(AL19*AR19,0))","v":""}]
[]
[]
[]
[null,"増減額",null,null,null,null,null,null,null,null,null,null,null,null,null,null,null,null,null,null,null,null,null,null,null,null,null,null,null,null,null,null,null,null,null,null,null,null,null,null,null,null,null,null,null,null,null,null,{"$f":"IF(V23=\"\",\"\",ROUND(AL23*AR23,0))","v":""}]
[]
[]
[]
[null,"前回までの\n請求額",null,null,null,null,null,null,null,null,null,null,null,null,null,null,null,null,null,null,null,null,null,null,null,null,null,null,null,null,null,null,null,null,null,null,null,null,null,null,null,null,null,null,null,null,null,null,{"$f":"IF(V27=\"\",\"\",ROUND(AL27*AR27,0))","v":""}]
[]
[]
[]
[null,"今回\n請求額",null,null,null,null,null,null,null,null,null,null,null,null,null,null,null,null,null,null,null,null,null,null,null,null,null,null,null,null,null,null,null,null,null,null,null,null,null,null,null,null,null,null,null,null,null,null,{"$f":"IF(V31=\"\",\"\",ROUND(AL31*AR31,0))","v":""}]
[]
[]
[]
[null,"差引残高",null,null,null,null,{"$f":"IF(G19=\"\",\"\",G19+G23-G27-G31)","v":""},null,null,null,null,null,null,null,null,null,null,null,null,null,null,null,null,null,null,null,null,null,null,null,null,null,null,null,null,null,null,null,null,null,null,null,null,null,null,null,null,null,{"$f":"IF(V35=\"\",\"\",ROUND(AL35*AR35,0))","v":""}]
[]
[]
[]
[null,null,null,null,null,null,null,null,null,null,null,null,null,null,null,null,null,null,null,null,null,null,null,null,null,null,null,null,null,null,null,null,null,null,null,null,null,null,null,null,null,null,null,null,null,null,null,null,{"$f":"IF(V39=\"\",\"\",ROUND(AL39*AR39,0))","v":""}]
[]
[]
[]
[null,null,null,null,null,null,null,null,null,null,null,null,null,null,null,null,null,null,null,null,null,null,null,null,null,null,null,null,null,null,null,null,null,null,null,null,null,null,null,null,null,null,null,null,null,null,null,null,{"$f":"IF(V43=\"\",\"\",ROUND(AL43*AR43,0))","v":""}]
[]
[]
[]
[null,null,null,null,null,null,null,null,null,null,null,null,null,null,null,null,null,null,null,null,null,null,null,null,null,null,null,null,null,null,null,null,null,null,null,null,null,null,null,null,null,null,null,null,null,null,null,null,{"$f":"IF(V47=\"\",\"\",ROUND(AL47*AR47,0))","v":""}]
[]
[]
[]
[null,null,null,null,null,null,null,null,null,null,null,null,null,null,null,null,null,null,null,null,null,null,null,null,null,null,null,null,null,null,null,null,null,null,null,null,null,null,null,null,null,null,null,null,null,null,null,null,{"$f":"IF(V51=\"\",\"\",ROUND(AL51*AR51,0))","v":""}]
[]
[]
[]
[null,null,null,null,null,null,null,null,null,null,null,null,null,null,null,null,null,null,null,null,null,null,null,null,null,null,null,null,null,null,null,null,null,null,null,null,null,null,null,null,null,null,null,null,null,null,null,null,{"$f":"IF(V55=\"\",\"\",ROUND(AL55*AR55,0))","v":""}]
[]
[]
[]
[null,null,null,null,null,null,null,null,null,null,null,null,null,null,null,null,null,null,null,null,null,null,null,null,null,null,null,null,null,null,null,null,null,null,null,null,null,null,null,null,null,null,null,null,null,null,null,null,{"$f":"IF(V59=\"\",\"\",ROUND(AL59*AR59,0))","v":""}]
[]
[]
[]
[null,null,null,null,null,null,null,null,null,null,null,null,null,null,null,null,null,null,null,null,null,null,null,null,null,null,null,null,null,null,null,null,null,null,null,null,null,null,null,null,null,null,null,null,null,null,null,null,{"$f":"IF(V63=\"\",\"\",ROUND(AL63*AR63,0))","v":""}]
[]
[]
[]
[null,null,null,null,null,null,null,null,null,null,null,null,null,null,null,null,null,null,null,null,null,null,null,null,null,null,null,null,null,null,null,null,null,null,null,null,null,null,null,null,null,null,null,null,null,null,null,null,{"$f":"IF(V67=\"\",\"\",ROUND(AL67*AR67,0))","v":""}]
[]
[]
[]
[null,null,null,null,null,null,null,null,null,null,null,null,null,null,null,null,null,null,null,null,null,null,null,null,null,null,null,null,null,null,null,null,null,null,null,null,null,null,null,null,null,null,null,null,null,null,null,null,{"$f":"IF(V71=\"\",\"\",ROUND(AL71*AR71,0))","v":""}]
[]
[]
[]
[null,null,null,null,null,null,null,null,null,null,null,null,null,null,null,null,null,null,null,null,null,null,null,null,null,null,null,null,null,null,null,null,null,null,null,null,null,null,null,null,null,null,null,null,null,null,null,null,{"$f":"IF(V75=\"\",\"\",ROUND(AL75*AR75,0))","v":""}]
[]
[]
[]
[null,null,null,null,null,null,null,null,null,null,null,null,null,null,null,null,null,null,null,null,null,null,null,null,null,null,null,null,null,null,null,null,null,null,null,null,null,null,null,null,null,null,null,null,null,null,null,null,{"$f":"IF(V79=\"\",\"\",ROUND(AL79*AR79,0))","v":""}]
[]
[]
[]
[null,null,null,null,null,null,null,null,null,null,null,null,null,null,null,null,null,null,null,null,null,null,null,null,null,null,null,null,null,null,null,null,null,null,null,null,null,"金額(税抜)",null,null,null,null,null,null,null,null,null,null,{"$f":"IF(AW19=\"\",\"\",SUM(AW19:AW79))","v":""}]
[null,"社長",null,null,null,"専務",null,null,null,null,null,"常務",null,null,null,null,null,"部長･工場長",null,null,null,null,null,null,null,null,"担当者",null,null,null,null,"受付"]
[]
[]
[]
[null,null,null,null,null,null,null,null,null,null,null,null,null,null,null,null,null,null,null,null,null,null,null,null,null,null,null,null,null,null,null,null,null,null,null,null,null,"消費税",null,null,null,null,null,"税率",null,null,"税調",null,{"$f":"IF(AW83=\"\",\"\",IF(AR90=\"\",\"\",IF(AR90=8.1,ROUND(AW83*8/100,0)+AU90,ROUND(AW83*AR90/100,0)+AU90)))","v":""}]
[]
[null,null,null,null,null,null,null,null,null,null,null,null,null,null,null,null,null,null,null,null,null,null,null,null,null,null,null,null,null,null,null,null,null,null,null,null,null,null,null,null,null,null,null,null,null,{"$f":"IF(AR90=\"\",\"\",IF(AR90=8.1,\"旧\",IF(AR90=8,\"軽\",IF(AR90=0,\"非\",\"\"))))","v":""}]
[]
[]
[]
[null,null,null,null,null,null,null,null,null,null,null,null,null,null,null,null,null,null,null,"請求明細書 (現場控)"]
[null,"株 式 会 社 種 村 建 設",null,null,null,null,null,null,null,null,null,null,"御中"]
[null,null,null,null,null,null,null,null,null,null,null,null,null,null,null,null,null,null,null,null,null,null,null,null,null,null,null,null,null,null,null,null,null,null,null,null,null,null,null,null,"請求年月日",null,null,null,null,{"$f":"IF(AT4=\"\",\"\",AT4)","v":""},null,null,null,{"$f":"IF(AX4=\"\",\"\",AX4)","v":""},null,null,{"$f":"IF(BA4=\"\",\"\",BA4)","v":""}]
[]
[]
[]
[]
[null,"工事番号",null,null,null,null,{"$f":"IF(G9=\"\",\"\",G9)","v":""},null,null,null,null,null,"工事名",null,null,null,{"$f":"IF(Q9=\"\",\"\",Q9)","v":""},null,null,null,null,null,null,null,null,null,null,null,null,null,null,null,null,null,null,null,null,"業者名",null,null,null,{"$f":"IF(AP9=\"\",\"\",AP9)","v":""}]
[]
[]
[]
[]
[]
[null,"注文番号",null,null,null,null,{"$f":"IF(G15=\"\",\"\",G15)","v":""},null,null,null,null,null,null,null,null,null,null,"月　日",null,null,null,"品　名・内　訳",null,null,null,null,null,null,null,null,null,null,null,null,null,null,null,"数 量",null,null,"単位",null,null,"単価",null,null,null,null,{"$f":"表紙①!P127","v":"金額(税抜)"}]
[]
[]
[]
[null,"契約金額",null,null,null,null,{"$f":"IF(G19=\"\",\"\",G19)","v":""},null,null,null,null,null,null,null,null,null,null,{"$f":"IF(R19=\"\",\"\",R19)","v":""},null,{"$f":"IF(T19=\"\",\"\",T19)","v":""},null,{"$f":"IF(V19=\"\",\"\",V19)","v":""},null,{"$f":"IF(X19=\"\",\"\",X19)","v":""},null,{"$f":"IF(Z19=\"\",\"\",Z19)","v":""},null,{"$f":"IF(AB19=\"\",\"\",AB19)","v":""},null,{"$f":"IF(AD19=\"\",\"\",AD19)","v":""},null,{"$f":"IF(AF19=\"\",\"\",AF19)","v":""},null,{"$f":"IF(AH19=\"\",\"\",AH19)","v":""},null,{"$f":"IF(AJ19=\"\",\"\",AJ19)","v":""},null,{"$f":"IF(AL19=\"\",\"\",AL19)","v":""},null,null,{"$f":"IF(AO19=\"\",\"\",AO19)","v":""},null,null,{"$f":"IF(AR19=\"\",\"\",AR19)","v":""},null,null,null,null,{"$f":"IF(AW19=\"\",\"\",AW19)","v":""}]
[]
[]
[]
[null,"増減額",null,null,null,null,{"$f":"IF(G23=\"\",\"\",G23)","v":""},null,null,null,null,null,null,null,null,null,null,{"$f":"IF(R23=\"\",\"\",R23)","v":""},null,{"$f":"IF(T23=\"\",\"\",T23)","v":""},null,{"$f":"IF(V23=\"\",\"\",V23)","v":""},null,{"$f":"IF(X23=\"\",\"\",X23)","v":""},null,{"$f":"IF(Z23=\"\",\"\",Z23)","v":""},null,{"$f":"IF(AB23=\"\",\"\",AB23)","v":""},null,{"$f":"IF(AD23=\"\",\"\",AD23)","v":""},null,{"$f":"IF(AF23=\"\",\"\",AF23)","v":""},null,{"$f":"IF(AH23=\"\",\"\",AH23)","v":""},null,{"$f":"IF(AJ23=\"\",\"\",AJ23)","v":""},null,{"$f":"IF(AL23=\"\",\"\",AL23)","v":""},null,null,{"$f":"IF(AO23=\"\",\"\",AO23)","v":""},null,null,{"$f":"IF(AR23=\"\",\"\",AR23)","v":""},null,null,null,null,{"$f":"IF(AW23=\"\",\"\",AW23)","v":""}]
[]
[]
[]
[null,"前回までの\n請求額",null,null,null,null,{"$f":"IF(G27=\"\",\"\",G27)","v":""},null,null,null,null,null,null,null,null,null,null,{"$f":"IF(R27=\"\",\"\",R27)","v":""},null,{"$f":"IF(T27=\"\",\"\",T27)","v":""},null,{"$f":"IF(V27=\"\",\"\",V27)","v":""},null,{"$f":"IF(X27=\"\",\"\",X27)","v":""},null,{"$f":"IF(Z27=\"\",\"\",Z27)","v":""},null,{"$f":"IF(AB27=\"\",\"\",AB27)","v":""},null,{"$f":"IF(AD27=\"\",\"\",AD27)","v":""},null,{"$f":"IF(AF27=\"\",\"\",AF27)","v":""},null,{"$f":"IF(AH27=\"\",\"\",AH27)","v":""},null,{"$f":"IF(AJ27=\"\",\"\",AJ27)","v":""},null,{"$f":"IF(AL27=\"\",\"\",AL27)","v":""},null,null,{"$f":"IF(AO27=\"\",\"\",AO27)","v":""},null,null,{"$f":"IF(AR27=\"\",\"\",AR27)","v":""},null,null,null,null,{"$f":"IF(AW27=\"\",\"\",AW27)","v":""}]
[]
[]
[]
[null,"今回\n請求額",null,null,{"$f":"IF(E31=\"\",\"\",E31)","v":""},null,{"$f":"IF(G31=\"\",\"\",G31)","v":""},null,null,null,null,null,null,null,null,null,null,{"$f":"IF(R31=\"\",\"\",R31)","v":""},null,{"$f":"IF(T31=\"\",\"\",T31)","v":""},null,{"$f":"IF(V31=\"\",\"\",V31)","v":""},null,{"$f":"IF(X31=\"\",\"\",X31)","v":""},null,{"$f":"IF(Z31=\"\",\"\",Z31)","v":""},null,{"$f":"IF(AB31=\"\",\"\",AB31)","v":""},null,{"$f":"IF(AD31=\"\",\"\",AD31)","v":""},null,{"$f":"IF(AF31=\"\",\"\",AF31)","v":""},null,{"$f":"IF(AH31=\"\",\"\",AH31)","v":""},null,{"$f":"IF(AJ31=\"\",\"\",AJ31)","v":""},null,{"$f":"IF(AL31=\"\",\"\",AL31)","v":""},null,null,{"$f":"IF(AO31=\"\",\"\",AO31)","v":""},null,null,{"$f":"IF(AR31=\"\",\"\",AR31)","v":""},null,null,null,null,{"$f":"IF(AW31=\"\",\"\",AW31)","v":""}]
[]
[]
[]
[null,"差引残高",null,null,null,null,{"$f":"IF(G111=\"\",\"\",G111+G115-G119-G123)","v":""},null,null,null,null,null,null,null,null,null,null,{"$f":"IF(R35=\"\",\"\",R35)","v":""},null,{"$f":"IF(T35=\"\",\"\",T35)","v":""},null,{"$f":"IF(V35=\"\",\"\",V35)","v":""},null,{"$f":"IF(X35=\"\",\"\",X35)","v":""},null,{"$f":"IF(Z35=\"\",\"\",Z35)","v":""},null,{"$f":"IF(AB35=\"\",\"\",AB35)","v":""},null,{"$f":"IF(AD35=\"\",\"\",AD35)","v":""},null,{"$f":"IF(AF35=\"\",\"\",AF35)","v":""},null,{"$f":"IF(AH35=\"\",\"\",AH35)","v":""},null,{"$f":"IF(AJ35=\"\",\"\",AJ35)","v":""},null,{"$f":"IF(AL35=\"\",\"\",AL35)","v":""},null,null,{"$f":"IF(AO35=\"\",\"\",AO35)","v":""},null,null,{"$f":"IF(AR35=\"\",\"\",AR35)","v":""},null,null,null,null,{"$f":"IF(AW35=\"\",\"\",AW35)","v":""}]
[]
[]
[]
[null,null,null,null,null,null,null,null,null,null,null,null,null,null,null,null,null,{"$f":"IF(R39=\"\",\"\",R39)","v":""},null,{"$f":"IF(T39=\"\",\"\",T39)","v":""},null,{"$f":"IF(V39=\"\",\"\",V39)","v":""},null,{"$f":"IF(X39=\"\",\"\",X39)","v":""},null,{"$f":"IF(Z39=\"\",\"\",Z39)","v":""},null,{"$f":"IF(AB39=\"\",\"\",AB39)","v":""},null,{"$f":"IF(AD39=\"\",\"\",AD39)","v":""},null,{"$f":"IF(AF39=\"\",\"\",AF39)","v":""},null,{"$f":"IF(AH39=\"\",\"\",AH39)","v":""},null,{"$f":"IF(AJ39=\"\",\"\",AJ39)","v":""},null,{"$f":"IF(AL39=\"\",\"\",AL39)","v":""},null,null,{"$f":"IF(AO39=\"\",\"\",AO39)","v":""},null,null,{"$f":"IF(AR39=\"\",\"\",AR39)","v":""},null,null,null,null,{"$f":"IF(AW39=\"\",\"\",AW39)","v":""}]
[]
[]
[]
[null,null,null,null,null,null,null,null,null,null,null,null,null,null,null,null,null,{"$f":"IF(R43=\"\",\"\",R43)","v":""},null,{"$f":"IF(T43=\"\",\"\",T43)","v":""},null,{"$f":"IF(V43=\"\",\"\",V43)","v":""},null,{"$f":"IF(X43=\"\",\"\",X43)","v":""},null,{"$f":"IF(Z43=\"\",\"\",Z43)","v":""},null,{"$f":"IF(AB43=\"\",\"\",AB43)","v":""},null,{"$f":"IF(AD43=\"\",\"\",AD43)","v":""},null,{"$f":"IF(AF43=\"\",\"\",AF43)","v":""},null,{"$f":"IF(AH43=\"\",\"\",AH43)","v":""},null,{"$f":"IF(AJ43=\"\",\"\",AJ43)","v":""},null,{"$f":"IF(AL43=\"\",\"\",AL43)","v":""},null,null,{"$f":"IF(AO43=\"\",\"\",AO43)","v":""},null,null,{"$f":"IF(AR43=\"\",\"\",AR43)","v":""},null,null,null,null,{"$f":"IF(AW43=\"\",\"\",AW43)","v":""}]
[]
[]
[]
[null,null,null,null,null,null,null,null,null,null,null,null,null,null,null,null,null,{"$f":"IF(R47=\"\",\"\",R47)","v":""},null,{"$f":"IF(T47=\"\",\"\",T47)","v":""},null,{"$f":"IF(V47=\"\",\"\",V47)","v":""},null,{"$f":"IF(X47=\"\",\"\",X47)","v":""},null,{"$f":"IF(Z47=\"\",\"\",Z47)","v":""},null,{"$f":"IF(AB47=\"\",\"\",AB47)","v":""},null,{"$f":"IF(AD47=\"\",\"\",AD47)","v":""},null,{"$f":"IF(AF47=\"\",\"\",AF47)","v":""},null,{"$f":"IF(AH47=\"\",\"\",AH47)","v":""},null,{"$f":"IF(AJ47=\"\",\"\",AJ47)","v":""},null,{"$f":"IF(AL47=\"\",\"\",AL47)","v":""},null,null,{"$f":"IF(AO47=\"\",\"\",AO47)","v":""},null,null,{"$f":"IF(AR47=\"\",\"\",AR47)","v":""},null,null,null,null,{"$f":"IF(AW47=\"\",\"\",AW47)","v":""}]
[]
[]
[]
[null,null,null,null,null,null,null,null,null,null,null,null,null,null,null,null,null,{"$f":"IF(R51=\"\",\"\",R51)","v":""},null,{"$f":"IF(T51=\"\",\"\",T51)","v":""},null,{"$f":"IF(V51=\"\",\"\",V51)","v":""},null,{"$f":"IF(X51=\"\",\"\",X51)","v":""},null,{"$f":"IF(Z51=\"\",\"\",Z51)","v":""},null,{"$f":"IF(AB51=\"\",\"\",AB51)","v":""},null,{"$f":"IF(AD51=\"\",\"\",AD51)","v":""},null,{"$f":"IF(AF51=\"\",\"\",AF51)","v":""},null,{"$f":"IF(AH51=\"\",\"\",AH51)","v":""},null,{"$f":"IF(AJ51=\"\",\"\",AJ51)","v":""},null,{"$f":"IF(AL51=\"\",\"\",AL51)","v":""},null,null,{"$f":"IF(AO51=\"\",\"\",AO51)","v":""},null,null,{"$f":"IF(AR51=\"\",\"\",AR51)","v":""},null,null,null,null,{"$f":"IF(AW51=\"\",\"\",AW51)","v":""}]
[]
[]
[]
[null,null,null,null,null,null,null,null,null,null,null,null,null,null,null,null,null,{"$f":"IF(R55=\"\",\"\",R55)","v":""},null,{"$f":"IF(T55=\"\",\"\",T55)","v":""},null,{"$f":"IF(V55=\"\",\"\",V55)","v":""},null,{"$f":"IF(X55=\"\",\"\",X55)","v":""},null,{"$f":"IF(Z55=\"\",\"\",Z55)","v":""},null,{"$f":"IF(AB55=\"\",\"\",AB55)","v":""},null,{"$f":"IF(AD55=\"\",\"\",AD55)","v":""},null,{"$f":"IF(AF55=\"\",\"\",AF55)","v":""},null,{"$f":"IF(AH55=\"\",\"\",AH55)","v":""},null,{"$f":"IF(AJ55=\"\",\"\",AJ55)","v":""},null,{"$f":"IF(AL55=\"\",\"\",AL55)","v":""},null,null,{"$f":"IF(AO55=\"\",\"\",AO55)","v":""},null,null,{"$f":"IF(AR55=\"\",\"\",AR55)","v":""},null,null,null,null,{"$f":"IF(AW55=\"\",\"\",AW55)","v":""}]
[]
[]
[]
[null,null,null,null,null,null,null,null,null,null,null,null,null,null,null,null,null,{"$f":"IF(R59=\"\",\"\",R59)","v":""},null,{"$f":"IF(T59=\"\",\"\",T59)","v":""},null,{"$f":"IF(V59=\"\",\"\",V59)","v":""},null,{"$f":"IF(X59=\"\",\"\",X59)","v":""},null,{"$f":"IF(Z59=\"\",\"\",Z59)","v":""},null,{"$f":"IF(AB59=\"\",\"\",AB59)","v":""},null,{"$f":"IF(AD59=\"\",\"\",AD59)","v":""},null,{"$f":"IF(AF59=\"\",\"\",AF59)","v":""},null,{"$f":"IF(AH59=\"\",\"\",AH59)","v":""},null,{"$f":"IF(AJ59=\"\",\"\",AJ59)","v":""},null,{"$f":"IF(AL59=\"\",\"\",AL59)","v":""},null,null,{"$f":"IF(AO59=\"\",\"\",AO59)","v":""},null,null,{"$f":"IF(AR59=\"\",\"\",AR59)","v":""},null,null,null,null,{"$f":"IF(AW59=\"\",\"\",AW59)","v":""}]
[]
[]
[]
[null,null,null,null,null,null,null,null,null,null,null,null,null,null,null,null,null,{"$f":"IF(R63=\"\",\"\",R63)","v":""},null,{"$f":"IF(T63=\"\",\"\",T63)","v":""},null,{"$f":"IF(V63=\"\",\"\",V63)","v":""},null,{"$f":"IF(X63=\"\",\"\",X63)","v":""},null,{"$f":"IF(Z63=\"\",\"\",Z63)","v":""},null,{"$f":"IF(AB63=\"\",\"\",AB63)","v":""},null,{"$f":"IF(AD63=\"\",\"\",AD63)","v":""},null,{"$f":"IF(AF63=\"\",\"\",AF63)","v":""},null,{"$f":"IF(AH63=\"\",\"\",AH63)","v":""},null,{"$f":"IF(AJ63=\"\",\"\",AJ63)","v":""},null,{"$f":"IF(AL63=\"\",\"\",AL63)","v":""},null,null,{"$f":"IF(AO63=\"\",\"\",AO63)","v":""},null,null,{"$f":"IF(AR63=\"\",\"\",AR63)","v":""},null,null,null,null,{"$f":"IF(AW63=\"\",\"\",AW63)","v":""}]
[]
[]
[]
[null,null,null,null,null,null,null,null,null,null,null,null,null,null,null,null,null,{"$f":"IF(R67=\"\",\"\",R67)","v":""},null,{"$f":"IF(T67=\"\",\"\",T67)","v":""},null,{"$f":"IF(V67=\"\",\"\",V67)","v":""},null,{"$f":"IF(X67=\"\",\"\",X67)","v":""},null,{"$f":"IF(Z67=\"\",\"\",Z67)","v":""},null,{"$f":"IF(AB67=\"\",\"\",AB67)","v":""},null,{"$f":"IF(AD67=\"\",\"\",AD67)","v":""},null,{"$f":"IF(AF67=\"\",\"\",AF67)","v":""},null,{"$f":"IF(AH67=\"\",\"\",AH67)","v":""},null,{"$f":"IF(AJ67=\"\",\"\",AJ67)","v":""},null,{"$f":"IF(AL67=\"\",\"\",AL67)","v":""},null,null,{"$f":"IF(AO67=\"\",\"\",AO67)","v":""},null,null,{"$f":"IF(AR67=\"\",\"\",AR67)","v":""},null,null,null,null,{"$f":"IF(AW67=\"\",\"\",AW67)","v":""}]
[]
[]
[]
[null,null,null,null,null,null,null,null,null,null,null,null,null,null,null,null,null,{"$f":"IF(R71=\"\",\"\",R71)","v":""},null,{"$f":"IF(T71=\"\",\"\",T71)","v":""},null,{"$f":"IF(V71=\"\",\"\",V71)","v":""},null,{"$f":"IF(X71=\"\",\"\",X71)","v":""},null,{"$f":"IF(Z71=\"\",\"\",Z71)","v":""},null,{"$f":"IF(AB71=\"\",\"\",AB71)","v":""},null,{"$f":"IF(AD71=\"\",\"\",AD71)","v":""},null,{"$f":"IF(AF71=\"\",\"\",AF71)","v":""},null,{"$f":"IF(AH71=\"\",\"\",AH71)","v":""},null,{"$f":"IF(AJ71=\"\",\"\",AJ71)","v":""},null,{"$f":"IF(AL71=\"\",\"\",AL71)","v":""},null,null,{"$f":"IF(AO71=\"\",\"\",AO71)","v":""},null,null,{"$f":"IF(AR71=\"\",\"\",AR71)","v":""},null,null,null,null,{"$f":"IF(AW71=\"\",\"\",AW71)","v":""}]
[]
[]
[]
[null,null,null,null,null,null,null,null,null,null,null,null,null,null,null,null,null,{"$f":"IF(R75=\"\",\"\",R75)","v":""},null,{"$f":"IF(T75=\"\",\"\",T75)","v":""},null,{"$f":"IF(V75=\"\",\"\",V75)","v":""},null,{"$f":"IF(X75=\"\",\"\",X75)","v":""},null,{"$f":"IF(Z75=\"\",\"\",Z75)","v":""},null,{"$f":"IF(AB75=\"\",\"\",AB75)","v":""},null,{"$f":"IF(AD75=\"\",\"\",AD75)","v":""},null,{"$f":"IF(AF75=\"\",\"\",AF75)","v":""},null,{"$f":"IF(AH75=\"\",\"\",AH75)","v":""},null,{"$f":"IF(AJ75=\"\",\"\",AJ75)","v":""},null,{"$f":"IF(AL75=\"\",\"\",AL75)","v":""},null,null,{"$f":"IF(AO75=\"\",\"\",AO75)","v":""},null,null,{"$f":"IF(AR75=\"\",\"\",AR75)","v":""},null,null,null,null,{"$f":"IF(AW75=\"\",\"\",AW75)","v":""}]
[]
[]
[]
[null,null,null,null,null,null,null,null,null,null,null,null,null,null,null,null,null,{"$f":"IF(R79=\"\",\"\",R79)","v":""},null,{"$f":"IF(T79=\"\",\"\",T79)","v":""},null,{"$f":"IF(V79=\"\",\"\",V79)","v":""},null,{"$f":"IF(X79=\"\",\"\",X79)","v":""},null,{"$f":"IF(Z79=\"\",\"\",Z79)","v":""},null,{"$f":"IF(AB79=\"\",\"\",AB79)","v":""},null,{"$f":"IF(AD79=\"\",\"\",AD79)","v":""},null,{"$f":"IF(AF79=\"\",\"\",AF79)","v":""},null,{"$f":"IF(AH79=\"\",\"\",AH79)","v":""},null,{"$f":"IF(AJ79=\"\",\"\",AJ79)","v":""},null,{"$f":"IF(AL79=\"\",\"\",AL79)","v":""},null,null,{"$f":"IF(AO79=\"\",\"\",AO79)","v":""},null,null,{"$f":"IF(AR79=\"\",\"\",AR79)","v":""},null,null,null,null,{"$f":"IF(AW79=\"\",\"\",AW79)","v":""}]
[]
[]
[]
[null,null,null,null,null,null,null,null,null,null,null,null,null,null,null,null,null,null,null,null,null,null,null,null,null,null,null,null,null,null,null,null,null,null,null,null,null,{"$f":"AL83","v":"金額(税抜)"},null,null,null,null,null,null,null,null,null,null,{"$f":"AW83","v":""}]
[]
[]
[]
[]
[null,null,null,null,null,null,null,null,null,null,null,null,null,null,null,null,null,null,null,null,null,null,null,null,null,null,null,null,null,null,null,null,null,null,null,null,null,{"$f":"AL88","v":"消費税"},null,null,null,null,null,"税率",null,null,"税調",null,{"$f":"AW88","v":""}]
[]
[null,null,null,null,null,null,null,null,null,null,null,null,null,null,null,null,null,null,null,null,null,null,null,null,null,null,null,null,null,null,null,null,null,null,null,null,null,null,null,null,null,null,null,{"$f":"AR90","v":0},null,{"$f":"AT90","v":""}]
[]
[]
[]
[null,null,null,null,null,null,null,null,null,null,null,null,null,null,null,null,null,null,null,"請求明細書 (貴社控)"]
[null,"株 式 会 社 種 村 建 設",null,null,null,null,null,null,null,null,null,null,"御中"]
[null,null,null,null,null,null,null,null,null,null,null,null,null,null,null,null,null,null,null,null,null,null,null,null,null,null,null,null,null,null,null,null,null,null,null,null,null,null,null,null,"請求年月日",null,null,null,null,{"$f":"IF(AT4=\"\",\"\",AT4)","v":""},null,null,null,{"$f":"IF(AX96=\"\",\"\",AX96)","v":""},null,null,{"$f":"IF(BA96=\"\",\"\",BA96)","v":""}]
[]
[]
[]
[]
[null,"工事番号",null,null,null,null,{"$f":"IF(G101=\"\",\"\",G101)","v":""},null,null,null,null,null,"工事名",null,null,null,{"$f":"IF(Q101=\"\",\"\",Q101)","v":""},null,null,null,null,null,null,null,null,null,null,null,null,null,null,null,null,null,null,null,null,"業者名",null,null,null,{"$f":"IF(AP101=\"\",\"\",AP101)","v":""}]
[]
[]
[]
[]
[]
[null,"注文番号",null,null,null,null,{"$f":"IF(G107=\"\",\"\",G107)","v":""},null,null,null,null,null,null,null,null,null,null,"月　日",null,null,null,"品　名・内　訳",null,null,null,null,null,null,null,null,null,null,null,null,null,null,null,"数 量",null,null,"単位",null,null,"単価",null,null,null,null,{"$f":"表紙①!P219","v":0}]
[]
[]
[]
[null,"契約金額",null,null,null,null,{"$f":"IF(G111=\"\",\"\",G111)","v":""},null,null,null,null,null,null,null,null,null,null,{"$f":"IF(R111=\"\",\"\",R111)","v":""},null,{"$f":"IF(T111=\"\",\"\",T111)","v":""},null,{"$f":"IF(V111=\"\",\"\",V111)","v":""},null,{"$f":"IF(X111=\"\",\"\",X111)","v":""},null,{"$f":"IF(Z111=\"\",\"\",Z111)","v":""},null,{"$f":"IF(AB111=\"\",\"\",AB111)","v":""},null,{"$f":"IF(AD111=\"\",\"\",AD111)","v":""},null,{"$f":"IF(AF111=\"\",\"\",AF111)","v":""},null,{"$f":"IF(AH111=\"\",\"\",AH111)","v":""},null,{"$f":"IF(AJ111=\"\",\"\",AJ111)","v":""},null,{"$f":"IF(AL111=\"\",\"\",AL111)","v":""},null,null,{"$f":"IF(AO111=\"\",\"\",AO111)","v":""},null,null,{"$f":"IF(AR111=\"\",\"\",AR111)","v":""},null,null,null,null,{"$f":"IF(AW111=\"\",\"\",AW111)","v":""}]
[]
[]
[]
[null,"増減額",null,null,null,null,{"$f":"IF(G115=\"\",\"\",G115)","v":""},null,null,null,null,null,null,null,null,null,null,{"$f":"IF(R115=\"\",\"\",R115)","v":""},null,{"$f":"IF(T115=\"\",\"\",T115)","v":""},null,{"$f":"IF(V115=\"\",\"\",V115)","v":""},null,{"$f":"IF(X115=\"\",\"\",X115)","v":""},null,{"$f":"IF(Z115=\"\",\"\",Z115)","v":""},null,{"$f":"IF(AB115=\"\",\"\",AB115)","v":""},null,{"$f":"IF(AD115=\"\",\"\",AD115)","v":""},null,{"$f":"IF(AF115=\"\",\"\",AF115)","v":""},null,{"$f":"IF(AH115=\"\",\"\",AH115)","v":""},null,{"$f":"IF(AJ115=\"\",\"\",AJ115)","v":""},null,{"$f":"IF(AL115=\"\",\"\",AL115)","v":""},null,null,{"$f":"IF(AO115=\"\",\"\",AO115)","v":""},null,null,{"$f":"IF(AR115=\"\",\"\",AR115)","v":""},null,null,null,null,{"$f":"IF(AW115=\"\",\"\",AW115)","v":""}]
[]
[]
[]
[null,"前回までの\n請求額",null,null,null,null,{"$f":"IF(G119=\"\",\"\",G119)","v":""},null,null,null,null,null,null,null,null,null,null,{"$f":"IF(R119=\"\",\"\",R119)","v":""},null,{"$f":"IF(T119=\"\",\"\",T119)","v":""},null,{"$f":"IF(V119=\"\",\"\",V119)","v":""},null,{"$f":"IF(X119=\"\",\"\",X119)","v":""},null,{"$f":"IF(Z119=\"\",\"\",Z119)","v":""},null,{"$f":"IF(AB119=\"\",\"\",AB119)","v":""},null,{"$f":"IF(AD119=\"\",\"\",AD119)","v":""},null,{"$f":"IF(AF119=\"\",\"\",AF119)","v":""},null,{"$f":"IF(AH119=\"\",\"\",AH119)","v":""},null,{"$f":"IF(AJ119=\"\",\"\",AJ119)","v":""},null,{"$f":"IF(AL119=\"\",\"\",AL119)","v":""},null,null,{"$f":"IF(AO119=\"\",\"\",AO119)","v":""},null,null,{"$f":"IF(AR119=\"\",\"\",AR119)","v":""},null,null,null,null,{"$f":"IF(AW119=\"\",\"\",AW119)","v":""}]
[]
[]
[]
[null,"今回\n請求額",null,null,{"$f":"IF(E31=\"\",\"\",E31)","v":""},null,{"$f":"IF(G123=\"\",\"\",G123)","v":""},null,null,null,null,null,null,null,null,null,null,{"$f":"IF(R123=\"\",\"\",R123)","v":""},null,{"$f":"IF(T123=\"\",\"\",T123)","v":""},null,{"$f":"IF(V123=\"\",\"\",V123)","v":""},null,{"$f":"IF(X123=\"\",\"\",X123)","v":""},null,{"$f":"IF(Z123=\"\",\"\",Z123)","v":""},null,{"$f":"IF(AB123=\"\",\"\",AB123)","v":""},null,{"$f":"IF(AD123=\"\",\"\",AD123)","v":""},null,{"$f":"IF(AF123=\"\",\"\",AF123)","v":""},null,{"$f":"IF(AH123=\"\",\"\",AH123)","v":""},null,{"$f":"IF(AJ123=\"\",\"\",AJ123)","v":""},null,{"$f":"IF(AL123=\"\",\"\",AL123)","v":""},null,null,{"$f":"IF(AO123=\"\",\"\",AO123)","v":""},null,null,{"$f":"IF(AR123=\"\",\"\",AR123)","v":""},null,null,null,null,{"$f":"IF(AW123=\"\",\"\",AW123)","v":""}]
[]
[]
[]
[null,"差引残高",null,null,null,null,{"$f":"IF(G203=\"\",\"\",G203+G207-G211-G215)","v":""},null,null,null,null,null,null,null,null,null,null,{"$f":"IF(R127=\"\",\"\",R127)","v":""},null,{"$f":"IF(T127=\"\",\"\",T127)","v":""},null,{"$f":"IF(V127=\"\",\"\",V127)","v":""},null,{"$f":"IF(X127=\"\",\"\",X127)","v":""},null,{"$f":"IF(Z127=\"\",\"\",Z127)","v":""},null,{"$f":"IF(AB127=\"\",\"\",AB127)","v":""},null,{"$f":"IF(AD127=\"\",\"\",AD127)","v":""},null,{"$f":"IF(AF127=\"\",\"\",AF127)","v":""},null,{"$f":"IF(AH127=\"\",\"\",AH127)","v":""},null,{"$f":"IF(AJ127=\"\",\"\",AJ127)","v":""},null,{"$f":"IF(AL127=\"\",\"\",AL127)","v":""},null,null,{"$f":"IF(AO127=\"\",\"\",AO127)","v":""},null,null,{"$f":"IF(AR127=\"\",\"\",AR127)","v":""},null,null,null,null,{"$f":"IF(AW127=\"\",\"\",AW127)","v":""}]
[]
[]
[]
[null,null,null,null,null,null,null,null,null,null,null,null,null,null,null,null,null,{"$f":"IF(R131=\"\",\"\",R131)","v":""},null,{"$f":"IF(T131=\"\",\"\",T131)","v":""},null,{"$f":"IF(V131=\"\",\"\",V131)","v":""},null,{"$f":"IF(X131=\"\",\"\",X131)","v":""},null,{"$f":"IF(Z131=\"\",\"\",Z131)","v":""},null,{"$f":"IF(AB131=\"\",\"\",AB131)","v":""},null,{"$f":"IF(AD131=\"\",\"\",AD131)","v":""},null,{"$f":"IF(AF131=\"\",\"\",AF131)","v":""},null,{"$f":"IF(AH131=\"\",\"\",AH131)","v":""},null,{"$f":"IF(AJ131=\"\",\"\",AJ131)","v":""},null,{"$f":"IF(AL131=\"\",\"\",AL131)","v":""},null,null,{"$f":"IF(AO131=\"\",\"\",AO131)","v":""},null,null,{"$f":"IF(AR131=\"\",\"\",AR131)","v":""},null,null,null,null,{"$f":"IF(AW131=\"\",\"\",AW131)","v":""}]
[]
[]
[]
[null,null,null,null,null,null,null,null,null,null,null,null,null,null,null,null,null,{"$f":"IF(R135=\"\",\"\",R135)","v":""},null,{"$f":"IF(T135=\"\",\"\",T135)","v":""},null,{"$f":"IF(V135=\"\",\"\",V135)","v":""},null,{"$f":"IF(X135=\"\",\"\",X135)","v":""},null,{"$f":"IF(Z135=\"\",\"\",Z135)","v":""},null,{"$f":"IF(AB135=\"\",\"\",AB135)","v":""},null,{"$f":"IF(AD135=\"\",\"\",AD135)","v":""},null,{"$f":"IF(AF135=\"\",\"\",AF135)","v":""},null,{"$f":"IF(AH135=\"\",\"\",AH135)","v":""},null,{"$f":"IF(AJ135=\"\",\"\",AJ135)","v":""},null,{"$f":"IF(AL135=\"\",\"\",AL135)","v":""},null,null,{"$f":"IF(AO135=\"\",\"\",AO135)","v":""},null,null,{"$f":"IF(AR135=\"\",\"\",AR135)","v":""},null,null,null,null,{"$f":"IF(AW135=\"\",\"\",AW135)","v":""}]
[]
[]
[]
[null,null,null,null,null,null,null,null,null,null,null,null,null,null,null,null,null,{"$f":"IF(R139=\"\",\"\",R139)","v":""},null,{"$f":"IF(T139=\"\",\"\",T139)","v":""},null,{"$f":"IF(V139=\"\",\"\",V139)","v":""},null,{"$f":"IF(X139=\"\",\"\",X139)","v":""},null,{"$f":"IF(Z139=\"\",\"\",Z139)","v":""},null,{"$f":"IF(AB139=\"\",\"\",AB139)","v":""},null,{"$f":"IF(AD139=\"\",\"\",AD139)","v":""},null,{"$f":"IF(AF139=\"\",\"\",AF139)","v":""},null,{"$f":"IF(AH139=\"\",\"\",AH139)","v":""},null,{"$f":"IF(AJ139=\"\",\"\",AJ139)","v":""},null,{"$f":"IF(AL139=\"\",\"\",AL139)","v":""},null,null,{"$f":"IF(AO139=\"\",\"\",AO139)","v":""},null,null,{"$f":"IF(AR139=\"\",\"\",AR139)","v":""},null,null,null,null,{"$f":"IF(AW139=\"\",\"\",AW139)","v":""}]
[]
[]
[]
[null,null,null,null,null,null,null,null,null,null,null,null,null,null,null,null,null,{"$f":"IF(R143=\"\",\"\",R143)","v":""},null,{"$f":"IF(T143=\"\",\"\",T143)","v":""},null,{"$f":"IF(V143=\"\",\"\",V143)","v":""},null,{"$f":"IF(X143=\"\",\"\",X143)","v":""},null,{"$f":"IF(Z143=\"\",\"\",Z143)","v":""},null,{"$f":"IF(AB143=\"\",\"\",AB143)","v":""},null,{"$f":"IF(AD143=\"\",\"\",AD143)","v":""},null,{"$f":"IF(AF143=\"\",\"\",AF143)","v":""},null,{"$f":"IF(AH143=\"\",\"\",AH143)","v":""},null,{"$f":"IF(AJ143=\"\",\"\",AJ143)","v":""},null,{"$f":"IF(AL143=\"\",\"\",AL143)","v":""},null,null,{"$f":"IF(AO143=\"\",\"\",AO143)","v":""},null,null,{"$f":"IF(AR143=\"\",\"\",AR143)","v":""},null,null,null,null,{"$f":"IF(AW143=\"\",\"\",AW143)","v":""}]
[]
[]
[]
[null,null,null,null,null,null,null,null,null,null,null,null,null,null,null,null,null,{"$f":"IF(R147=\"\",\"\",R147)","v":""},null,{"$f":"IF(T147=\"\",\"\",T147)","v":""},null,{"$f":"IF(V147=\"\",\"\",V147)","v":""},null,{"$f":"IF(X147=\"\",\"\",X147)","v":""},null,{"$f":"IF(Z147=\"\",\"\",Z147)","v":""},null,{"$f":"IF(AB147=\"\",\"\",AB147)","v":""},null,{"$f":"IF(AD147=\"\",\"\",AD147)","v":""},null,{"$f":"IF(AF147=\"\",\"\",AF147)","v":""},null,{"$f":"IF(AH147=\"\",\"\",AH147)","v":""},null,{"$f":"IF(AJ147=\"\",\"\",AJ147)","v":""},null,{"$f":"IF(AL147=\"\",\"\",AL147)","v":""},null,null,{"$f":"IF(AO147=\"\",\"\",AO147)","v":""},null,null,{"$f":"IF(AR147=\"\",\"\",AR147)","v":""},null,null,null,null,{"$f":"IF(AW147=\"\",\"\",AW147)","v":""}]
[]
[]
[]
[null,null,null,null,null,null,null,null,null,null,null,null,null,null,null,null,null,{"$f":"IF(R151=\"\",\"\",R151)","v":""},null,{"$f":"IF(T151=\"\",\"\",T151)","v":""},null,{"$f":"IF(V151=\"\",\"\",V151)","v":""},null,{"$f":"IF(X151=\"\",\"\",X151)","v":""},null,{"$f":"IF(Z151=\"\",\"\",Z151)","v":""},null,{"$f":"IF(AB151=\"\",\"\",AB151)","v":""},null,{"$f":"IF(AD151=\"\",\"\",AD151)","v":""},null,{"$f":"IF(AF151=\"\",\"\",AF151)","v":""},null,{"$f":"IF(AH151=\"\",\"\",AH151)","v":""},null,{"$f":"IF(AJ151=\"\",\"\",AJ151)","v":""},null,{"$f":"IF(AL151=\"\",\"\",AL151)","v":""},null,null,{"$f":"IF(AO151=\"\",\"\",AO151)","v":""},null,null,{"$f":"IF(AR151=\"\",\"\",AR151)","v":""},null,null,null,null,{"$f":"IF(AW151=\"\",\"\",AW151)","v":""}]
[]
[]
[]
[null,null,null,null,null,null,null,null,null,null,null,null,null,null,null,null,null,{"$f":"IF(R155=\"\",\"\",R155)","v":""},null,{"$f":"IF(T155=\"\",\"\",T155)","v":""},null,{"$f":"IF(V155=\"\",\"\",V155)","v":""},null,{"$f":"IF(X155=\"\",\"\",X155)","v":""},null,{"$f":"IF(Z155=\"\",\"\",Z155)","v":""},null,{"$f":"IF(AB155=\"\",\"\",AB155)","v":""},null,{"$f":"IF(AD155=\"\",\"\",AD155)","v":""},null,{"$f":"IF(AF155=\"\",\"\",AF155)","v":""},null,{"$f":"IF(AH155=\"\",\"\",AH155)","v":""},null,{"$f":"IF(AJ155=\"\",\"\",AJ155)","v":""},null,{"$f":"IF(AL155=\"\",\"\",AL155)","v":""},null,null,{"$f":"IF(AO155=\"\",\"\",AO155)","v":""},null,null,{"$f":"IF(AR155=\"\",\"\",AR155)","v":""},null,null,null,null,{"$f":"IF(AW155=\"\",\"\",AW155)","v":""}]
[]
[]
[]
[null,null,null,null,null,null,null,null,null,null,null,null,null,null,null,null,null,{"$f":"IF(R159=\"\",\"\",R159)","v":""},null,{"$f":"IF(T159=\"\",\"\",T159)","v":""},null,{"$f":"IF(V159=\"\",\"\",V159)","v":""},null,{"$f":"IF(X159=\"\",\"\",X159)","v":""},null,{"$f":"IF(Z159=\"\",\"\",Z159)","v":""},null,{"$f":"IF(AB159=\"\",\"\",AB159)","v":""},null,{"$f":"IF(AD159=\"\",\"\",AD159)","v":""},null,{"$f":"IF(AF159=\"\",\"\",AF159)","v":""},null,{"$f":"IF(AH159=\"\",\"\",AH159)","v":""},null,{"$f":"IF(AJ159=\"\",\"\",AJ159)","v":""},null,{"$f":"IF(AL159=\"\",\"\",AL159)","v":""},null,null,{"$f":"IF(AO159=\"\",\"\",AO159)","v":""},null,null,{"$f":"IF(AR159=\"\",\"\",AR159)","v":""},null,null,null,null,{"$f":"IF(AW159=\"\",\"\",AW159)","v":""}]
[]
[]
[]
[null,null,null,null,null,null,null,null,null,null,null,null,null,null,null,null,null,{"$f":"IF(R163=\"\",\"\",R163)","v":""},null,{"$f":"IF(T163=\"\",\"\",T163)","v":""},null,{"$f":"IF(V163=\"\",\"\",V163)","v":""},null,{"$f":"IF(X163=\"\",\"\",X163)","v":""},null,{"$f":"IF(Z163=\"\",\"\",Z163)","v":""},null,{"$f":"IF(AB163=\"\",\"\",AB163)","v":""},null,{"$f":"IF(AD163=\"\",\"\",AD163)","v":""},null,{"$f":"IF(AF163=\"\",\"\",AF163)","v":""},null,{"$f":"IF(AH163=\"\",\"\",AH163)","v":""},null,{"$f":"IF(AJ163=\"\",\"\",AJ163)","v":""},null,{"$f":"IF(AL163=\"\",\"\",AL163)","v":""},null,null,{"$f":"IF(AO163=\"\",\"\",AO163)","v":""},null,null,{"$f":"IF(AR163=\"\",\"\",AR163)","v":""},null,null,null,null,{"$f":"IF(AW163=\"\",\"\",AW163)","v":""}]
[]
[]
[]
[null,null,null,null,null,null,null,null,null,null,null,null,null,null,null,null,null,{"$f":"IF(R167=\"\",\"\",R167)","v":""},null,{"$f":"IF(T167=\"\",\"\",T167)","v":""},null,{"$f":"IF(V167=\"\",\"\",V167)","v":""},null,{"$f":"IF(X167=\"\",\"\",X167)","v":""},null,{"$f":"IF(Z167=\"\",\"\",Z167)","v":""},null,{"$f":"IF(AB167=\"\",\"\",AB167)","v":""},null,{"$f":"IF(AD167=\"\",\"\",AD167)","v":""},null,{"$f":"IF(AF167=\"\",\"\",AF167)","v":""},null,{"$f":"IF(AH167=\"\",\"\",AH167)","v":""},null,{"$f":"IF(AJ167=\"\",\"\",AJ167)","v":""},null,{"$f":"IF(AL167=\"\",\"\",AL167)","v":""},null,null,{"$f":"IF(AO167=\"\",\"\",AO167)","v":""},null,null,{"$f":"IF(AR167=\"\",\"\",AR167)","v":""},null,null,null,null,{"$f":"IF(AW167=\"\",\"\",AW167)","v":""}]
[]
[]
[]
[null,null,null,null,null,null,null,null,null,null,null,null,null,null,null,null,null,{"$f":"IF(R171=\"\",\"\",R171)","v":""},null,{"$f":"IF(T171=\"\",\"\",T171)","v":""},null,{"$f":"IF(V171=\"\",\"\",V171)","v":""},null,{"$f":"IF(X171=\"\",\"\",X171)","v":""},null,{"$f":"IF(Z171=\"\",\"\",Z171)","v":""},null,{"$f":"IF(AB171=\"\",\"\",AB171)","v":""},null,{"$f":"IF(AD171=\"\",\"\",AD171)","v":""},null,{"$f":"IF(AF171=\"\",\"\",AF171)","v":""},null,{"$f":"IF(AH171=\"\",\"\",AH171)","v":""},null,{"$f":"IF(AJ171=\"\",\"\",AJ171)","v":""},null,{"$f":"IF(AL171=\"\",\"\",AL171)","v":""},null,null,{"$f":"IF(AO171=\"\",\"\",AO171)","v":""},null,null,{"$f":"IF(AR171=\"\",\"\",AR171)","v":""},null,null,null,null,{"$f":"IF(AW171=\"\",\"\",AW171)","v":""}]
[]
[]
[]
[null,null,null,null,null,null,null,null,null,null,null,null,null,null,null,null,null,null,null,null,null,null,null,null,null,null,null,null,null,null,null,null,null,null,null,null,null,{"$f":"AL175","v":"金額(税抜)"},null,null,null,null,null,null,null,null,null,null,{"$f":"AW83","v":""}]
[]
[]
[]
[]
[null,null,null,null,null,null,null,null,null,null,null,null,null,null,null,null,null,null,null,null,null,null,null,null,null,null,null,null,null,null,null,null,null,null,null,null,null,{"$f":"AL180","v":"消費税"},null,null,null,null,null,"税率",null,null,"税調",null,{"$f":"AW88","v":""}]
[]
[null,null,null,null,null,null,null,null,null,null,null,null,null,null,null,null,null,null,null,null,null,null,null,null,null,null,null,null,null,null,null,null,null,null,null,null,null,null,null,null,null,null,null,{"$f":"AR90","v":0},null,{"$f":"AT90","v":""}]

{"sheet":"細1-12","index":15,"n_rows":274,"n_cols":53,"rows_kept":274,"cut":false,"hidden":false,"merged":[[179,37,182,42],[179,43,180,45],[179,46,180,47],[181,43,182,44],[181,45,182,45],[181,46,182,47],[271,37,274,42],[271,43,272,45],[273,43,274,44],[273,45,274,45],[273,46,274,47],[271,46,272,47],[187,40,189,44],[187,45,189,48],[179,48,182,54],[198,48,201,54],[214,48,217,54],[222,40,225,42],[222,43,225,47],[254,37,257,39],[246,40,249,42],[246,43,249,47],[246,48,249,54],[254,48,257,54],[3,49,5,51],[3,52,5,54],[8,37,11,40],[8,41,11,54],[1,19,4,32],[2,1,5,11],[2,12,5,13],[8,1,11,5],[8,6,11,11],[8,12,11,15],[8,16,11,35],[3,40,5,44],[3,45,5,48],[14,43,17,47],[14,48,17,54],[14,1,17,5],[14,6,17,15],[14,17,17,20],[14,21,17,36],[18,1,21,5],[18,6,21,15],[18,17,21,18],[14,37,17,39],[14,40,17,42],[18,21,21,36],[18,37,21,39],[18,40,21,42],[18,43,21,47],[26,1,29,5],[26,6,29,15],[26,17,29,18],[26,19,29,20],[18,48,21,54],[22,1,25,5],[22,6,25,15],[22,17,25,18],[22,19,25,20],[22,21,25,36],[26,21,29,36],[26,37,29,39],[26,40,29,42],[26,43,29,47],[22,37,25,39],[22,40,25,42],[22,43,25,47],[18,19,21,20],[34,48,37,54],[26,48,29,54],[30,1,33,3],[30,4,33,5],[30,6,33,15],[30,17,33,18],[30,19,33,20],[22,48,25,54],[38,17,41,18],[38,19,41,20],[38,21,41,36],[38,37,41,39],[30,48,33,54],[34,1,37,5],[34,6,37,15],[34,17,37,18],[34,19,37,20],[34,21,37,36],[38,40,41,42],[38,43,41,47],[38,48,41,54],[30,21,33,36],[30,37,33,39],[30,40,33,42],[30,43,33,47],[34,37,37,39],[34,40,37,42],[34,43,37,47],[46,40,49,42],[46,43,49,47],[46,21,49,36],[46,37,49,39],[54,40,57,42],[54,43,57,47],[42,17,45,18],[42,19,45,20],[42,21,45,36],[42,37,45,39],[42,40,45,42],[42,43,45,47],[42,48,45,54],[46,48,49,54],[50,17,53,18],[50,19,53,20],[50,21,53,36],[50,37,53,39],[50,40,53,42],[50,43,53,47],[50,48,53,54],[46,17,49,18],[46,19,49,20],[58,17,61,18],[58,19,61,20],[58,21,61,36],[58,37,61,39],[58,40,61,42],[58,43,61,47],[58,48,61,54],[54,17,57,18],[54,19,57,20],[54,21,57,36],[54,37,57,39],[54,48,57,54],[62,40,65,42],[62,43,65,47],[62,21,65,36],[62,37,65,39],[70,40,73,42],[70,43,73,47],[70,48,73,54],[62,48,65,54],[66,17,69,18],[66,19,69,20],[66,21,69,36],[66,37,69,39],[66,40,69,42],[66,43,69,47],[66,48,69,54],[62,17,65,18],[62,19,65,20],[74,17,77,18],[74,19,77,20],[74,21,77,36],[74,37,77,39],[74,40,77,42],[74,43,77,47],[74,48,77,54],[70,17,73,18],[70,19,73,20],[70,21,73,36],[70,37,73,39],[78,48,81,54],[82,37,85,47],[82,48,85,54],[78,37,81,39],[78,40,81,42],[85,11,90,16],[85,17,90,25],[78,43,81,47],[83,26,84,30],[83,31,84,35],[78,17,81,18],[78,19,81,20],[78,21,81,36],[85,26,90,30],[85,31,90,35],[83,1,84,4],[83,5,84,10],[83,11,84,16],[83,17,84,25],[85,1,90,4],[85,5,90,10],[87,48,90,54],[95,49,97,51],[95,52,97,54],[95,40,97,44],[95,45,97,48],[87,37,90,42],[87,43,88,45],[89,43,90,44],[89,45,90,45],[89,46,90,47],[87,46,88,47],[100,1,103,5],[100,6,103,11],[100,12,103,15],[100,16,103,35],[100,37,103,40],[100,41,103,54],[93,19,96,32],[94,1,97,11],[94,12,97,13],[106,37,109,39],[106,40,109,42],[106,43,109,47],[106,48,109,54],[106,1,109,5],[106,6,109,15],[106,17,109,20],[106,21,109,36],[110,21,113,36],[110,37,113,39],[110,40,113,42],[110,43,113,47],[110,1,113,5],[110,6,113,15],[110,17,113,18],[110,19,113,20],[110,48,113,54],[114,1,117,5],[114,6,117,15],[114,17,117,18],[114,19,117,20],[114,21,117,36],[114,37,117,39],[114,40,117,42],[114,43,117,47],[114,48,117,54],[118,21,121,36],[118,37,121,39],[118,40,121,42],[118,43,121,47],[118,1,121,5],[118,6,121,15],[118,17,121,18],[118,19,121,20],[118,48,121,54],[122,48,125,54],[126,1,129,5],[126,6,129,15],[126,17,129,18],[126,19,129,20],[126,21,129,36],[126,37,129,39],[126,40,129,42],[126,43,129,47],[126,48,129,54],[122,1,125,3],[122,4,125,5],[122,6,125,15],[122,17,125,18],[122,19,125,20],[122,21,125,36],[122,37,125,39],[122,40,125,42],[122,43,125,47],[130,40,133,42],[130,43,133,47],[130,21,133,36],[130,37,133,39],[138,40,141,42],[138,43,141,47],[138,48,141,54],[130,48,133,54],[134,17,137,18],[134,19,137,20],[134,21,137,36],[134,37,137,39],[134,40,137,42],[134,43,137,47],[134,48,137,54],[130,17,133,18],[130,19,133,20],[142,17,145,18],[142,19,145,20],[142,21,145,36],[142,37,145,39],[142,40,145,42],[142,43,145,47],[142,48,145,54],[138,17,141,18],[138,19,141,20],[138,21,141,36],[138,37,141,39],[154,48,157,54],[146,48,149,54],[150,17,153,18],[150,19,153,20],[150,21,153,36],[150,37,153,39],[150,40,153,42],[150,43,153,47],[150,48,153,54],[146,17,149,18],[146,19,149,20],[154,17,157,18],[154,19,157,20],[154,21,157,36],[154,37,157,39],[146,40,149,42],[146,43,149,47],[146,21,149,36],[146,37,149,39],[154,40,157,42],[154,43,157,47],[174,48,177,54],[170,17,173,18],[170,19,173,20],[158,17,161,18],[158,19,161,20],[158,21,161,36],[158,37,161,39],[158,40,161,42],[158,43,161,47],[158,48,161,54],[170,21,173,36],[170,37,173,39],[170,43,173,47],[185,19,188,32],[186,1,189,11],[186,12,189,13],[192,37,195,40],[192,41,195,54],[162,40,165,42],[162,43,165,47],[162,21,165,36],[162,37,165,39],[162,48,165,54],[166,17,169,18],[166,19,169,20],[166,21,169,36],[166,37,169,39],[166,40,169,42],[166,43,169,47],[166,48,169,54],[162,17,165,18],[162,19,165,20],[187,49,189,51],[187,52,189,54],[170,40,173,42],[170,48,173,54],[174,37,177,47],[202,21,205,36],[202,37,205,39],[202,40,205,42],[202,43,205,47],[202,1,205,5],[202,6,205,15],[202,17,205,18],[202,19,205,20],[202,48,205,54],[198,1,201,5],[198,6,201,15],[198,17,201,20],[198,21,201,36],[198,37,201,39],[198,40,201,42],[198,43,201,47],[192,1,195,5],[192,6,195,11],[192,12,195,15],[192,16,195,35],[206,1,209,5],[206,6,209,15],[206,17,209,18],[206,19,209,20],[206,21,209,36],[206,37,209,39],[206,40,209,42],[206,43,209,47],[206,48,209,54],[210,21,213,36],[210,37,213,39],[210,40,213,42],[210,43,213,47],[210,1,213,5],[210,6,213,15],[210,17,213,18],[210,19,213,20],[210,48,213,54],[218,1,221,5],[218,6,221,15],[218,17,221,18],[218,19,221,20],[218,21,221,36],[218,37,221,39],[218,40,221,42],[218,43,221,47],[218,48,221,54],[214,1,217,3],[214,4,217,5],[214,6,217,15],[214,17,217,18],[214,19,217,20],[214,21,217,36],[214,37,217,39],[214,40,217,42],[214,43,217,47],[222,21,225,36],[222,37,225,39],[230,40,233,42],[230,43,233,47],[230,48,233,54],[222,48,225,54],[226,17,229,18],[226,19,229,20],[226,21,229,36],[226,37,229,39],[226,40,229,42],[226,43,229,47],[226,48,229,54],[222,17,225,18],[222,19,225,20],[234,17,237,18],[234,19,237,20],[234,21,237,36],[234,37,237,39],[234,40,237,42],[234,43,237,47],[234,48,237,54],[230,17,233,18],[230,19,233,20],[230,21,233,36],[230,37,233,39],[242,17,245,18],[242,19,245,20],[242,21,245,36],[242,37,245,39],[242,40,245,42],[242,43,245,47],[242,48,245,54],[238,17,241,18],[238,19,241,20],[238,40,241,42],[238,43,241,47],[238,21,241,36],[238,37,241,39],[238,48,241,54],[250,17,253,18],[250,19,253,20],[250,21,253,36],[250,37,253,39],[250,40,253,42],[250,43,253,47],[250,48,253,54],[246,17,249,18],[246,19,249,20],[246,21,249,36],[246,37,249,39],[258,17,261,18],[258,19,261,20],[258,21,261,36],[258,37,261,39],[258,40,261,42],[258,43,261,47],[258,48,261,54],[254,17,257,18],[254,19,257,20],[254,40,257,42],[254,43,257,47],[254,21,257,36],[271,48,274,54],[262,40,265,42],[262,43,265,47],[262,48,265,54],[266,37,269,47],[266,48,269,54],[262,17,265,18],[262,19,265,20],[262,21,265,36],[262,37,265,39]]}
[]
[null,null,null,null,null,null,null,null,null,null,null,null,null,null,null,null,null,null,null,"請求書明細書 (正)"]
[null,"株 式 会 社 種 村 建 設",null,null,null,null,null,null,null,null,null,null,"御中"]
[null,null,null,null,null,null,null,null,null,null,null,null,null,null,null,null,null,null,null,null,null,null,null,null,null,null,null,null,null,null,null,null,null,null,null,null,null,null,null,null,"請求年月日",null,null,null,null,{"$f":"IF(年=\"\",\"\",年)","v":""},null,null,null,{"$f":"IF(月=\"\",\"\",月)","v":""},null,null,{"$f":"IF(日=\"\",\"\",日)","v":""}]
[]
[]
[]
[]
[null,"工事番号",null,null,null,null,null,null,null,null,null,null,"工事名",null,null,null,null,null,null,null,null,null,null,null,null,null,null,null,null,null,null,null,null,null,null,null,null,"業者名",null,null,null,{"$f":"IF(社名=\"\",\"\",社名)","v":""}]
[]
[]
[]
[]
[]
[null,"注文番号",null,null,null,null,null,null,null,null,null,null,null,null,null,null,null,"月　日",null,null,null,"品　名・内　訳",null,null,null,null,null,null,null,null,null,null,null,null,null,null,null,"数 量",null,null,"単位",null,null,"単価",null,null,null,null,{"$f":"表紙①!P35","v":"金額(税抜)"}]
[]
[]
[]
[null,"契約金額",null,null,null,null,null,null,null,null,null,null,null,null,null,null,null,null,null,null,null,null,null,null,null,null,null,null,null,null,null,null,null,null,null,null,null,null,null,null,null,null,null,null,null,null,null,null,{"$f":"IF(V19=\"\",\"\",ROUND(AL19*AR19,0))","v":""}]
[]
[]
[]
[null,"増減額",null,null,null,null,null,null,null,null,null,null,null,null,null,null,null,null,null,null,null,null,null,null,null,null,null,null,null,null,null,null,null,null,null,null,null,null,null,null,null,null,null,null,null,null,null,null,{"$f":"IF(V23=\"\",\"\",ROUND(AL23*AR23,0))","v":""}]
[]
[]
[]
[null,"前回までの\n請求額",null,null,null,null,null,null,null,null,null,null,null,null,null,null,null,null,null,null,null,null,null,null,null,null,null,null,null,null,null,null,null,null,null,null,null,null,null,null,null,null,null,null,null,null,null,null,{"$f":"IF(V27=\"\",\"\",ROUND(AL27*AR27,0))","v":""}]
[]
[]
[]
[null,"今回\n請求額",null,null,null,null,null,null,null,null,null,null,null,null,null,null,null,null,null,null,null,null,null,null,null,null,null,null,null,null,null,null,null,null,null,null,null,null,null,null,null,null,null,null,null,null,null,null,{"$f":"IF(V31=\"\",\"\",ROUND(AL31*AR31,0))","v":""}]
[]
[]
[]
[null,"差引残高",null,null,null,null,{"$f":"IF(G19=\"\",\"\",G19+G23-G27-G31)","v":""},null,null,null,null,null,null,null,null,null,null,null,null,null,null,null,null,null,null,null,null,null,null,null,null,null,null,null,null,null,null,null,null,null,null,null,null,null,null,null,null,null,{"$f":"IF(V35=\"\",\"\",ROUND(AL35*AR35,0))","v":""}]
[]
[]
[]
[null,null,null,null,null,null,null,null,null,null,null,null,null,null,null,null,null,null,null,null,null,null,null,null,null,null,null,null,null,null,null,null,null,null,null,null,null,null,null,null,null,null,null,null,null,null,null,null,{"$f":"IF(V39=\"\",\"\",ROUND(AL39*AR39,0))","v":""}]
[]
[]
[]
[null,null,null,null,null,null,null,null,null,null,null,null,null,null,null,null,null,null,null,null,null,null,null,null,null,null,null,null,null,null,null,null,null,null,null,null,null,null,null,null,null,null,null,null,null,null,null,null,{"$f":"IF(V43=\"\",\"\",ROUND(AL43*AR43,0))","v":""}]
[]
[]
[]
[null,null,null,null,null,null,null,null,null,null,null,null,null,null,null,null,null,null,null,null,null,null,null,null,null,null,null,null,null,null,null,null,null,null,null,null,null,null,null,null,null,null,null,null,null,null,null,null,{"$f":"IF(V47=\"\",\"\",ROUND(AL47*AR47,0))","v":""}]
[]
[]
[]
[null,null,null,null,null,null,null,null,null,null,null,null,null,null,null,null,null,null,null,null,null,null,null,null,null,null,null,null,null,null,null,null,null,null,null,null,null,null,null,null,null,null,null,null,null,null,null,null,{"$f":"IF(V51=\"\",\"\",ROUND(AL51*AR51,0))","v":""}]
[]
[]
[]
[null,null,null,null,null,null,null,null,null,null,null,null,null,null,null,null,null,null,null,null,null,null,null,null,null,null,null,null,null,null,null,null,null,null,null,null,null,null,null,null,null,null,null,null,null,null,null,null,{"$f":"IF(V55=\"\",\"\",ROUND(AL55*AR55,0))","v":""}]
[]
[]
[]
[null,null,null,null,null,null,null,null,null,null,null,null,null,null,null,null,null,null,null,null,null,null,null,null,null,null,null,null,null,null,null,null,null,null,null,null,null,null,null,null,null,null,null,null,null,null,null,null,{"$f":"IF(V59=\"\",\"\",ROUND(AL59*AR59,0))","v":""}]
[]
[]
[]
[null,null,null,null,null,null,null,null,null,null,null,null,null,null,null,null,null,null,null,null,null,null,null,null,null,null,null,null,null,null,null,null,null,null,null,null,null,null,null,null,null,null,null,null,null,null,null,null,{"$f":"IF(V63=\"\",\"\",ROUND(AL63*AR63,0))","v":""}]
[]
[]
[]
[null,null,null,null,null,null,null,null,null,null,null,null,null,null,null,null,null,null,null,null,null,null,null,null,null,null,null,null,null,null,null,null,null,null,null,null,null,null,null,null,null,null,null,null,null,null,null,null,{"$f":"IF(V67=\"\",\"\",ROUND(AL67*AR67,0))","v":""}]
[]
[]
[]
[null,null,null,null,null,null,null,null,null,null,null,null,null,null,null,null,null,null,null,null,null,null,null,null,null,null,null,null,null,null,null,null,null,null,null,null,null,null,null,null,null,null,null,null,null,null,null,null,{"$f":"IF(V71=\"\",\"\",ROUND(AL71*AR71,0))","v":""}]
[]
[]
[]
[null,null,null,null,null,null,null,null,null,null,null,null,null,null,null,null,null,null,null,null,null,null,null,null,null,null,null,null,null,null,null,null,null,null,null,null,null,null,null,null,null,null,null,null,null,null,null,null,{"$f":"IF(V75=\"\",\"\",ROUND(AL75*AR75,0))","v":""}]
[]
[]
[]
[null,null,null,null,null,null,null,null,null,null,null,null,null,null,null,null,null,null,null,null,null,null,null,null,null,null,null,null,null,null,null,null,null,null,null,null,null,null,null,null,null,null,null,null,null,null,null,null,{"$f":"IF(V79=\"\",\"\",ROUND(AL79*AR79,0))","v":""}]
[]
[]
[]
[null,null,null,null,null,null,null,null,null,null,null,null,null,null,null,null,null,null,null,null,null,null,null,null,null,null,null,null,null,null,null,null,null,null,null,null,null,"金額(税抜)",null,null,null,null,null,null,null,null,null,null,{"$f":"IF(AW19=\"\",\"\",SUM(AW19:AW79))","v":""}]
[null,"社長",null,null,null,"専務",null,null,null,null,null,"常務",null,null,null,null,null,"部長･工場長",null,null,null,null,null,null,null,null,"担当者",null,null,null,null,"受付"]
[]
[]
[]
[null,null,null,null,null,null,null,null,null,null,null,null,null,null,null,null,null,null,null,null,null,null,null,null,null,null,null,null,null,null,null,null,null,null,null,null,null,"消費税",null,null,null,null,null,"税率",null,null,"税調",null,{"$f":"IF(AW83=\"\",\"\",IF(AR90=\"\",\"\",IF(AR90=8.1,ROUND(AW83*8/100,0)+AU90,ROUND(AW83*AR90/100,0)+AU90)))","v":""}]
[]
[null,null,null,null,null,null,null,null,null,null,null,null,null,null,null,null,null,null,null,null,null,null,null,null,null,null,null,null,null,null,null,null,null,null,null,null,null,null,null,null,null,null,null,null,null,{"$f":"IF(AR90=\"\",\"\",IF(AR90=8.1,\"旧\",IF(AR90=8,\"軽\",IF(AR90=0,\"非\",\"\"))))","v":""}]
[]
[]
[]
[null,null,null,null,null,null,null,null,null,null,null,null,null,null,null,null,null,null,null,"請求明細書 (現場控)"]
[null,"株 式 会 社 種 村 建 設",null,null,null,null,null,null,null,null,null,null,"御中"]
[null,null,null,null,null,null,null,null,null,null,null,null,null,null,null,null,null,null,null,null,null,null,null,null,null,null,null,null,null,null,null,null,null,null,null,null,null,null,null,null,"請求年月日",null,null,null,null,{"$f":"IF(AT4=\"\",\"\",AT4)","v":""},null,null,null,{"$f":"IF(AX4=\"\",\"\",AX4)","v":""},null,null,{"$f":"IF(BA4=\"\",\"\",BA4)","v":""}]
[]
[]
[]
[]
[null,"工事番号",null,null,null,null,{"$f":"IF(G9=\"\",\"\",G9)","v":""},null,null,null,null,null,"工事名",null,null,null,{"$f":"IF(Q9=\"\",\"\",Q9)","v":""},null,null,null,null,null,null,null,null,null,null,null,null,null,null,null,null,null,null,null,null,"業者名",null,null,null,{"$f":"IF(AP9=\"\",\"\",AP9)","v":""}]
[]
[]
[]
[]
[]
[null,"注文番号",null,null,null,null,{"$f":"IF(G15=\"\",\"\",G15)","v":""},null,null,null,null,null,null,null,null,null,null,"月　日",null,null,null,"品　名・内　訳",null,null,null,null,null,null,null,null,null,null,null,null,null,null,null,"数 量",null,null,"単位",null,null,"単価",null,null,null,null,{"$f":"表紙①!P127","v":"金額(税抜)"}]
[]
[]
[]
[null,"契約金額",null,null,null,null,{"$f":"IF(G19=\"\",\"\",G19)","v":""},null,null,null,null,null,null,null,null,null,null,{"$f":"IF(R19=\"\",\"\",R19)","v":""},null,{"$f":"IF(T19=\"\",\"\",T19)","v":""},null,{"$f":"IF(V19=\"\",\"\",V19)","v":""},null,{"$f":"IF(X19=\"\",\"\",X19)","v":""},null,{"$f":"IF(Z19=\"\",\"\",Z19)","v":""},null,{"$f":"IF(AB19=\"\",\"\",AB19)","v":""},null,{"$f":"IF(AD19=\"\",\"\",AD19)","v":""},null,{"$f":"IF(AF19=\"\",\"\",AF19)","v":""},null,{"$f":"IF(AH19=\"\",\"\",AH19)","v":""},null,{"$f":"IF(AJ19=\"\",\"\",AJ19)","v":""},null,{"$f":"IF(AL19=\"\",\"\",AL19)","v":""},null,null,{"$f":"IF(AO19=\"\",\"\",AO19)","v":""},null,null,{"$f":"IF(AR19=\"\",\"\",AR19)","v":""},null,null,null,null,{"$f":"IF(AW19=\"\",\"\",AW19)","v":""}]
[]
[]
[]
[null,"増減額",null,null,null,null,{"$f":"IF(G23=\"\",\"\",G23)","v":""},null,null,null,null,null,null,null,null,null,null,{"$f":"IF(R23=\"\",\"\",R23)","v":""},null,{"$f":"IF(T23=\"\",\"\",T23)","v":""},null,{"$f":"IF(V23=\"\",\"\",V23)","v":""},null,{"$f":"IF(X23=\"\",\"\",X23)","v":""},null,{"$f":"IF(Z23=\"\",\"\",Z23)","v":""},null,{"$f":"IF(AB23=\"\",\"\",AB23)","v":""},null,{"$f":"IF(AD23=\"\",\"\",AD23)","v":""},null,{"$f":"IF(AF23=\"\",\"\",AF23)","v":""},null,{"$f":"IF(AH23=\"\",\"\",AH23)","v":""},null,{"$f":"IF(AJ23=\"\",\"\",AJ23)","v":""},null,{"$f":"IF(AL23=\"\",\"\",AL23)","v":""},null,null,{"$f":"IF(AO23=\"\",\"\",AO23)","v":""},null,null,{"$f":"IF(AR23=\"\",\"\",AR23)","v":""},null,null,null,null,{"$f":"IF(AW23=\"\",\"\",AW23)","v":""}]
[]
[]
[]
[null,"前回までの\n請求額",null,null,null,null,{"$f":"IF(G27=\"\",\"\",G27)","v":""},null,null,null,null,null,null,null,null,null,null,{"$f":"IF(R27=\"\",\"\",R27)","v":""},null,{"$f":"IF(T27=\"\",\"\",T27)","v":""},null,{"$f":"IF(V27=\"\",\"\",V27)","v":""},null,{"$f":"IF(X27=\"\",\"\",X27)","v":""},null,{"$f":"IF(Z27=\"\",\"\",Z27)","v":""},null,{"$f":"IF(AB27=\"\",\"\",AB27)","v":""},null,{"$f":"IF(AD27=\"\",\"\",AD27)","v":""},null,{"$f":"IF(AF27=\"\",\"\",AF27)","v":""},null,{"$f":"IF(AH27=\"\",\"\",AH27)","v":""},null,{"$f":"IF(AJ27=\"\",\"\",AJ27)","v":""},null,{"$f":"IF(AL27=\"\",\"\",AL27)","v":""},null,null,{"$f":"IF(AO27=\"\",\"\",AO27)","v":""},null,null,{"$f":"IF(AR27=\"\",\"\",AR27)","v":""},null,null,null,null,{"$f":"IF(AW27=\"\",\"\",AW27)","v":""}]
[]
[]
[]
[null,"今回\n請求額",null,null,{"$f":"IF(E31=\"\",\"\",E31)","v":""},null,{"$f":"IF(G31=\"\",\"\",G31)","v":""},null,null,null,null,null,null,null,null,null,null,{"$f":"IF(R31=\"\",\"\",R31)","v":""},null,{"$f":"IF(T31=\"\",\"\",T31)","v":""},null,{"$f":"IF(V31=\"\",\"\",V31)","v":""},null,{"$f":"IF(X31=\"\",\"\",X31)","v":""},null,{"$f":"IF(Z31=\"\",\"\",Z31)","v":""},null,{"$f":"IF(AB31=\"\",\"\",AB31)","v":""},null,{"$f":"IF(AD31=\"\",\"\",AD31)","v":""},null,{"$f":"IF(AF31=\"\",\"\",AF31)","v":""},null,{"$f":"IF(AH31=\"\",\"\",AH31)","v":""},null,{"$f":"IF(AJ31=\"\",\"\",AJ31)","v":""},null,{"$f":"IF(AL31=\"\",\"\",AL31)","v":""},null,null,{"$f":"IF(AO31=\"\",\"\",AO31)","v":""},null,null,{"$f":"IF(AR31=\"\",\"\",AR31)","v":""},null,null,null,null,{"$f":"IF(AW31=\"\",\"\",AW31)","v":""}]
[]
[]
[]
[null,"差引残高",null,null,null,null,{"$f":"IF(G111=\"\",\"\",G111+G115-G119-G123)","v":""},null,null,null,null,null,null,null,null,null,null,{"$f":"IF(R35=\"\",\"\",R35)","v":""},null,{"$f":"IF(T35=\"\",\"\",T35)","v":""},null,{"$f":"IF(V35=\"\",\"\",V35)","v":""},null,{"$f":"IF(X35=\"\",\"\",X35)","v":""},null,{"$f":"IF(Z35=\"\",\"\",Z35)","v":""},null,{"$f":"IF(AB35=\"\",\"\",AB35)","v":""},null,{"$f":"IF(AD35=\"\",\"\",AD35)","v":""},null,{"$f":"IF(AF35=\"\",\"\",AF35)","v":""},null,{"$f":"IF(AH35=\"\",\"\",AH35)","v":""},null,{"$f":"IF(AJ35=\"\",\"\",AJ35)","v":""},null,{"$f":"IF(AL35=\"\",\"\",AL35)","v":""},null,null,{"$f":"IF(AO35=\"\",\"\",AO35)","v":""},null,null,{"$f":"IF(AR35=\"\",\"\",AR35)","v":""},null,null,null,null,{"$f":"IF(AW35=\"\",\"\",AW35)","v":""}]
[]
[]
[]
[null,null,null,null,null,null,null,null,null,null,null,null,null,null,null,null,null,{"$f":"IF(R39=\"\",\"\",R39)","v":""},null,{"$f":"IF(T39=\"\",\"\",T39)","v":""},null,{"$f":"IF(V39=\"\",\"\",V39)","v":""},null,{"$f":"IF(X39=\"\",\"\",X39)","v":""},null,{"$f":"IF(Z39=\"\",\"\",Z39)","v":""},null,{"$f":"IF(AB39=\"\",\"\",AB39)","v":""},null,{"$f":"IF(AD39=\"\",\"\",AD39)","v":""},null,{"$f":"IF(AF39=\"\",\"\",AF39)","v":""},null,{"$f":"IF(AH39=\"\",\"\",AH39)","v":""},null,{"$f":"IF(AJ39=\"\",\"\",AJ39)","v":""},null,{"$f":"IF(AL39=\"\",\"\",AL39)","v":""},null,null,{"$f":"IF(AO39=\"\",\"\",AO39)","v":""},null,null,{"$f":"IF(AR39=\"\",\"\",AR39)","v":""},null,null,null,null,{"$f":"IF(AW39=\"\",\"\",AW39)","v":""}]
[]
[]
[]
[null,null,null,null,null,null,null,null,null,null,null,null,null,null,null,null,null,{"$f":"IF(R43=\"\",\"\",R43)","v":""},null,{"$f":"IF(T43=\"\",\"\",T43)","v":""},null,{"$f":"IF(V43=\"\",\"\",V43)","v":""},null,{"$f":"IF(X43=\"\",\"\",X43)","v":""},null,{"$f":"IF(Z43=\"\",\"\",Z43)","v":""},null,{"$f":"IF(AB43=\"\",\"\",AB43)","v":""},null,{"$f":"IF(AD43=\"\",\"\",AD43)","v":""},null,{"$f":"IF(AF43=\"\",\"\",AF43)","v":""},null,{"$f":"IF(AH43=\"\",\"\",AH43)","v":""},null,{"$f":"IF(AJ43=\"\",\"\",AJ43)","v":""},null,{"$f":"IF(AL43=\"\",\"\",AL43)","v":""},null,null,{"$f":"IF(AO43=\"\",\"\",AO43)","v":""},null,null,{"$f":"IF(AR43=\"\",\"\",AR43)","v":""},null,null,null,null,{"$f":"IF(AW43=\"\",\"\",AW43)","v":""}]
[]
[]
[]
[null,null,null,null,null,null,null,null,null,null,null,null,null,null,null,null,null,{"$f":"IF(R47=\"\",\"\",R47)","v":""},null,{"$f":"IF(T47=\"\",\"\",T47)","v":""},null,{"$f":"IF(V47=\"\",\"\",V47)","v":""},null,{"$f":"IF(X47=\"\",\"\",X47)","v":""},null,{"$f":"IF(Z47=\"\",\"\",Z47)","v":""},null,{"$f":"IF(AB47=\"\",\"\",AB47)","v":""},null,{"$f":"IF(AD47=\"\",\"\",AD47)","v":""},null,{"$f":"IF(AF47=\"\",\"\",AF47)","v":""},null,{"$f":"IF(AH47=\"\",\"\",AH47)","v":""},null,{"$f":"IF(AJ47=\"\",\"\",AJ47)","v":""},null,{"$f":"IF(AL47=\"\",\"\",AL47)","v":""},null,null,{"$f":"IF(AO47=\"\",\"\",AO47)","v":""},null,null,{"$f":"IF(AR47=\"\",\"\",AR47)","v":""},null,null,null,null,{"$f":"IF(AW47=\"\",\"\",AW47)","v":""}]
[]
[]
[]
[null,null,null,null,null,null,null,null,null,null,null,null,null,null,null,null,null,{"$f":"IF(R51=\"\",\"\",R51)","v":""},null,{"$f":"IF(T51=\"\",\"\",T51)","v":""},null,{"$f":"IF(V51=\"\",\"\",V51)","v":""},null,{"$f":"IF(X51=\"\",\"\",X51)","v":""},null,{"$f":"IF(Z51=\"\",\"\",Z51)","v":""},null,{"$f":"IF(AB51=\"\",\"\",AB51)","v":""},null,{"$f":"IF(AD51=\"\",\"\",AD51)","v":""},null,{"$f":"IF(AF51=\"\",\"\",AF51)","v":""},null,{"$f":"IF(AH51=\"\",\"\",AH51)","v":""},null,{"$f":"IF(AJ51=\"\",\"\",AJ51)","v":""},null,{"$f":"IF(AL51=\"\",\"\",AL51)","v":""},null,null,{"$f":"IF(AO51=\"\",\"\",AO51)","v":""},null,null,{"$f":"IF(AR51=\"\",\"\",AR51)","v":""},null,null,null,null,{"$f":"IF(AW51=\"\",\"\",AW51)","v":""}]
[]
[]
[]
[null,null,null,null,null,null,null,null,null,null,null,null,null,null,null,null,null,{"$f":"IF(R55=\"\",\"\",R55)","v":""},null,{"$f":"IF(T55=\"\",\"\",T55)","v":""},null,{"$f":"IF(V55=\"\",\"\",V55)","v":""},null,{"$f":"IF(X55=\"\",\"\",X55)","v":""},null,{"$f":"IF(Z55=\"\",\"\",Z55)","v":""},null,{"$f":"IF(AB55=\"\",\"\",AB55)","v":""},null,{"$f":"IF(AD55=\"\",\"\",AD55)","v":""},null,{"$f":"IF(AF55=\"\",\"\",AF55)","v":""},null,{"$f":"IF(AH55=\"\",\"\",AH55)","v":""},null,{"$f":"IF(AJ55=\"\",\"\",AJ55)","v":""},null,{"$f":"IF(AL55=\"\",\"\",AL55)","v":""},null,null,{"$f":"IF(AO55=\"\",\"\",AO55)","v":""},null,null,{"$f":"IF(AR55=\"\",\"\",AR55)","v":""},null,null,null,null,{"$f":"IF(AW55=\"\",\"\",AW55)","v":""}]
[]
[]
[]
[null,null,null,null,null,null,null,null,null,null,null,null,null,null,null,null,null,{"$f":"IF(R59=\"\",\"\",R59)","v":""},null,{"$f":"IF(T59=\"\",\"\",T59)","v":""},null,{"$f":"IF(V59=\"\",\"\",V59)","v":""},null,{"$f":"IF(X59=\"\",\"\",X59)","v":""},null,{"$f":"IF(Z59=\"\",\"\",Z59)","v":""},null,{"$f":"IF(AB59=\"\",\"\",AB59)","v":""},null,{"$f":"IF(AD59=\"\",\"\",AD59)","v":""},null,{"$f":"IF(AF59=\"\",\"\",AF59)","v":""},null,{"$f":"IF(AH59=\"\",\"\",AH59)","v":""},null,{"$f":"IF(AJ59=\"\",\"\",AJ59)","v":""},null,{"$f":"IF(AL59=\"\",\"\",AL59)","v":""},null,null,{"$f":"IF(AO59=\"\",\"\",AO59)","v":""},null,null,{"$f":"IF(AR59=\"\",\"\",AR59)","v":""},null,null,null,null,{"$f":"IF(AW59=\"\",\"\",AW59)","v":""}]
[]
[]
[]
[null,null,null,null,null,null,null,null,null,null,null,null,null,null,null,null,null,{"$f":"IF(R63=\"\",\"\",R63)","v":""},null,{"$f":"IF(T63=\"\",\"\",T63)","v":""},null,{"$f":"IF(V63=\"\",\"\",V63)","v":""},null,{"$f":"IF(X63=\"\",\"\",X63)","v":""},null,{"$f":"IF(Z63=\"\",\"\",Z63)","v":""},null,{"$f":"IF(AB63=\"\",\"\",AB63)","v":""},null,{"$f":"IF(AD63=\"\",\"\",AD63)","v":""},null,{"$f":"IF(AF63=\"\",\"\",AF63)","v":""},null,{"$f":"IF(AH63=\"\",\"\",AH63)","v":""},null,{"$f":"IF(AJ63=\"\",\"\",AJ63)","v":""},null,{"$f":"IF(AL63=\"\",\"\",AL63)","v":""},null,null,{"$f":"IF(AO63=\"\",\"\",AO63)","v":""},null,null,{"$f":"IF(AR63=\"\",\"\",AR63)","v":""},null,null,null,null,{"$f":"IF(AW63=\"\",\"\",AW63)","v":""}]
[]
[]
[]
[null,null,null,null,null,null,null,null,null,null,null,null,null,null,null,null,null,{"$f":"IF(R67=\"\",\"\",R67)","v":""},null,{"$f":"IF(T67=\"\",\"\",T67)","v":""},null,{"$f":"IF(V67=\"\",\"\",V67)","v":""},null,{"$f":"IF(X67=\"\",\"\",X67)","v":""},null,{"$f":"IF(Z67=\"\",\"\",Z67)","v":""},null,{"$f":"IF(AB67=\"\",\"\",AB67)","v":""},null,{"$f":"IF(AD67=\"\",\"\",AD67)","v":""},null,{"$f":"IF(AF67=\"\",\"\",AF67)","v":""},null,{"$f":"IF(AH67=\"\",\"\",AH67)","v":""},null,{"$f":"IF(AJ67=\"\",\"\",AJ67)","v":""},null,{"$f":"IF(AL67=\"\",\"\",AL67)","v":""},null,null,{"$f":"IF(AO67=\"\",\"\",AO67)","v":""},null,null,{"$f":"IF(AR67=\"\",\"\",AR67)","v":""},null,null,null,null,{"$f":"IF(AW67=\"\",\"\",AW67)","v":""}]
[]
[]
[]
[null,null,null,null,null,null,null,null,null,null,null,null,null,null,null,null,null,{"$f":"IF(R71=\"\",\"\",R71)","v":""},null,{"$f":"IF(T71=\"\",\"\",T71)","v":""},null,{"$f":"IF(V71=\"\",\"\",V71)","v":""},null,{"$f":"IF(X71=\"\",\"\",X71)","v":""},null,{"$f":"IF(Z71=\"\",\"\",Z71)","v":""},null,{"$f":"IF(AB71=\"\",\"\",AB71)","v":""},null,{"$f":"IF(AD71=\"\",\"\",AD71)","v":""},null,{"$f":"IF(AF71=\"\",\"\",AF71)","v":""},null,{"$f":"IF(AH71=\"\",\"\",AH71)","v":""},null,{"$f":"IF(AJ71=\"\",\"\",AJ71)","v":""},null,{"$f":"IF(AL71=\"\",\"\",AL71)","v":""},null,null,{"$f":"IF(AO71=\"\",\"\",AO71)","v":""},null,null,{"$f":"IF(AR71=\"\",\"\",AR71)","v":""},null,null,null,null,{"$f":"IF(AW71=\"\",\"\",AW71)","v":""}]
[]
[]
[]
[null,null,null,null,null,null,null,null,null,null,null,null,null,null,null,null,null,{"$f":"IF(R75=\"\",\"\",R75)","v":""},null,{"$f":"IF(T75=\"\",\"\",T75)","v":""},null,{"$f":"IF(V75=\"\",\"\",V75)","v":""},null,{"$f":"IF(X75=\"\",\"\",X75)","v":""},null,{"$f":"IF(Z75=\"\",\"\",Z75)","v":""},null,{"$f":"IF(AB75=\"\",\"\",AB75)","v":""},null,{"$f":"IF(AD75=\"\",\"\",AD75)","v":""},null,{"$f":"IF(AF75=\"\",\"\",AF75)","v":""},null,{"$f":"IF(AH75=\"\",\"\",AH75)","v":""},null,{"$f":"IF(AJ75=\"\",\"\",AJ75)","v":""},null,{"$f":"IF(AL75=\"\",\"\",AL75)","v":""},null,null,{"$f":"IF(AO75=\"\",\"\",AO75)","v":""},null,null,{"$f":"IF(AR75=\"\",\"\",AR75)","v":""},null,null,null,null,{"$f":"IF(AW75=\"\",\"\",AW75)","v":""}]
[]
[]
[]
[null,null,null,null,null,null,null,null,null,null,null,null,null,null,null,null,null,{"$f":"IF(R79=\"\",\"\",R79)","v":""},null,{"$f":"IF(T79=\"\",\"\",T79)","v":""},null,{"$f":"IF(V79=\"\",\"\",V79)","v":""},null,{"$f":"IF(X79=\"\",\"\",X79)","v":""},null,{"$f":"IF(Z79=\"\",\"\",Z79)","v":""},null,{"$f":"IF(AB79=\"\",\"\",AB79)","v":""},null,{"$f":"IF(AD79=\"\",\"\",AD79)","v":""},null,{"$f":"IF(AF79=\"\",\"\",AF79)","v":""},null,{"$f":"IF(AH79=\"\",\"\",AH79)","v":""},null,{"$f":"IF(AJ79=\"\",\"\",AJ79)","v":""},null,{"$f":"IF(AL79=\"\",\"\",AL79)","v":""},null,null,{"$f":"IF(AO79=\"\",\"\",AO79)","v":""},null,null,{"$f":"IF(AR79=\"\",\"\",AR79)","v":""},null,null,null,null,{"$f":"IF(AW79=\"\",\"\",AW79)","v":""}]
[]
[]
[]
[null,null,null,null,null,null,null,null,null,null,null,null,null,null,null,null,null,null,null,null,null,null,null,null,null,null,null,null,null,null,null,null,null,null,null,null,null,{"$f":"AL83","v":"金額(税抜)"},null,null,null,null,null,null,null,null,null,null,{"$f":"AW83","v":""}]
[]
[]
[]
[]
[null,null,null,null,null,null,null,null,null,null,null,null,null,null,null,null,null,null,null,null,null,null,null,null,null,null,null,null,null,null,null,null,null,null,null,null,null,{"$f":"AL88","v":"消費税"},null,null,null,null,null,"税率",null,null,"税調",null,{"$f":"AW88","v":""}]
[]
[null,null,null,null,null,null,null,null,null,null,null,null,null,null,null,null,null,null,null,null,null,null,null,null,null,null,null,null,null,null,null,null,null,null,null,null,null,null,null,null,null,null,null,{"$f":"AR90","v":0},null,{"$f":"AT90","v":""}]
[]
[]
[]
[null,null,null,null,null,null,null,null,null,null,null,null,null,null,null,null,null,null,null,"請求明細書 (貴社控)"]
[null,"株 式 会 社 種 村 建 設",null,null,null,null,null,null,null,null,null,null,"御中"]
[null,null,null,null,null,null,null,null,null,null,null,null,null,null,null,null,null,null,null,null,null,null,null,null,null,null,null,null,null,null,null,null,null,null,null,null,null,null,null,null,"請求年月日",null,null,null,null,{"$f":"IF(AT4=\"\",\"\",AT4)","v":""},null,null,null,{"$f":"IF(AX96=\"\",\"\",AX96)","v":""},null,null,{"$f":"IF(BA96=\"\",\"\",BA96)","v":""}]
[]
[]
[]
[]
[null,"工事番号",null,null,null,null,{"$f":"IF(G101=\"\",\"\",G101)","v":""},null,null,null,null,null,"工事名",null,null,null,{"$f":"IF(Q101=\"\",\"\",Q101)","v":""},null,null,null,null,null,null,null,null,null,null,null,null,null,null,null,null,null,null,null,null,"業者名",null,null,null,{"$f":"IF(AP101=\"\",\"\",AP101)","v":""}]
[]
[]
[]
[]
[]
[null,"注文番号",null,null,null,null,{"$f":"IF(G107=\"\",\"\",G107)","v":""},null,null,null,null,null,null,null,null,null,null,"月　日",null,null,null,"品　名・内　訳",null,null,null,null,null,null,null,null,null,null,null,null,null,null,null,"数 量",null,null,"単位",null,null,"単価",null,null,null,null,{"$f":"表紙①!P219","v":0}]
[]
[]
[]
[null,"契約金額",null,null,null,null,{"$f":"IF(G111=\"\",\"\",G111)","v":""},null,null,null,null,null,null,null,null,null,null,{"$f":"IF(R111=\"\",\"\",R111)","v":""},null,{"$f":"IF(T111=\"\",\"\",T111)","v":""},null,{"$f":"IF(V111=\"\",\"\",V111)","v":""},null,{"$f":"IF(X111=\"\",\"\",X111)","v":""},null,{"$f":"IF(Z111=\"\",\"\",Z111)","v":""},null,{"$f":"IF(AB111=\"\",\"\",AB111)","v":""},null,{"$f":"IF(AD111=\"\",\"\",AD111)","v":""},null,{"$f":"IF(AF111=\"\",\"\",AF111)","v":""},null,{"$f":"IF(AH111=\"\",\"\",AH111)","v":""},null,{"$f":"IF(AJ111=\"\",\"\",AJ111)","v":""},null,{"$f":"IF(AL111=\"\",\"\",AL111)","v":""},null,null,{"$f":"IF(AO111=\"\",\"\",AO111)","v":""},null,null,{"$f":"IF(AR111=\"\",\"\",AR111)","v":""},null,null,null,null,{"$f":"IF(AW111=\"\",\"\",AW111)","v":""}]
[]
[]
[]
[null,"増減額",null,null,null,null,{"$f":"IF(G115=\"\",\"\",G115)","v":""},null,null,null,null,null,null,null,null,null,null,{"$f":"IF(R115=\"\",\"\",R115)","v":""},null,{"$f":"IF(T115=\"\",\"\",T115)","v":""},null,{"$f":"IF(V115=\"\",\"\",V115)","v":""},null,{"$f":"IF(X115=\"\",\"\",X115)","v":""},null,{"$f":"IF(Z115=\"\",\"\",Z115)","v":""},null,{"$f":"IF(AB115=\"\",\"\",AB115)","v":""},null,{"$f":"IF(AD115=\"\",\"\",AD115)","v":""},null,{"$f":"IF(AF115=\"\",\"\",AF115)","v":""},null,{"$f":"IF(AH115=\"\",\"\",AH115)","v":""},null,{"$f":"IF(AJ115=\"\",\"\",AJ115)","v":""},null,{"$f":"IF(AL115=\"\",\"\",AL115)","v":""},null,null,{"$f":"IF(AO115=\"\",\"\",AO115)","v":""},null,null,{"$f":"IF(AR115=\"\",\"\",AR115)","v":""},null,null,null,null,{"$f":"IF(AW115=\"\",\"\",AW115)","v":""}]
[]
[]
[]
[null,"前回までの\n請求額",null,null,null,null,{"$f":"IF(G119=\"\",\"\",G119)","v":""},null,null,null,null,null,null,null,null,null,null,{"$f":"IF(R119=\"\",\"\",R119)","v":""},null,{"$f":"IF(T119=\"\",\"\",T119)","v":""},null,{"$f":"IF(V119=\"\",\"\",V119)","v":""},null,{"$f":"IF(X119=\"\",\"\",X119)","v":""},null,{"$f":"IF(Z119=\"\",\"\",Z119)","v":""},null,{"$f":"IF(AB119=\"\",\"\",AB119)","v":""},null,{"$f":"IF(AD119=\"\",\"\",AD119)","v":""},null,{"$f":"IF(AF119=\"\",\"\",AF119)","v":""},null,{"$f":"IF(AH119=\"\",\"\",AH119)","v":""},null,{"$f":"IF(AJ119=\"\",\"\",AJ119)","v":""},null,{"$f":"IF(AL119=\"\",\"\",AL119)","v":""},null,null,{"$f":"IF(AO119=\"\",\"\",AO119)","v":""},null,null,{"$f":"IF(AR119=\"\",\"\",AR119)","v":""},null,null,null,null,{"$f":"IF(AW119=\"\",\"\",AW119)","v":""}]
[]
[]
[]
[null,"今回\n請求額",null,null,{"$f":"IF(E31=\"\",\"\",E31)","v":""},null,{"$f":"IF(G123=\"\",\"\",G123)","v":""},null,null,null,null,null,null,null,null,null,null,{"$f":"IF(R123=\"\",\"\",R123)","v":""},null,{"$f":"IF(T123=\"\",\"\",T123)","v":""},null,{"$f":"IF(V123=\"\",\"\",V123)","v":""},null,{"$f":"IF(X123=\"\",\"\",X123)","v":""},null,{"$f":"IF(Z123=\"\",\"\",Z123)","v":""},null,{"$f":"IF(AB123=\"\",\"\",AB123)","v":""},null,{"$f":"IF(AD123=\"\",\"\",AD123)","v":""},null,{"$f":"IF(AF123=\"\",\"\",AF123)","v":""},null,{"$f":"IF(AH123=\"\",\"\",AH123)","v":""},null,{"$f":"IF(AJ123=\"\",\"\",AJ123)","v":""},null,{"$f":"IF(AL123=\"\",\"\",AL123)","v":""},null,null,{"$f":"IF(AO123=\"\",\"\",AO123)","v":""},null,null,{"$f":"IF(AR123=\"\",\"\",AR123)","v":""},null,null,null,null,{"$f":"IF(AW123=\"\",\"\",AW123)","v":""}]
[]
[]
[]
[null,"差引残高",null,null,null,null,{"$f":"IF(G203=\"\",\"\",G203+G207-G211-G215)","v":""},null,null,null,null,null,null,null,null,null,null,{"$f":"IF(R127=\"\",\"\",R127)","v":""},null,{"$f":"IF(T127=\"\",\"\",T127)","v":""},null,{"$f":"IF(V127=\"\",\"\",V127)","v":""},null,{"$f":"IF(X127=\"\",\"\",X127)","v":""},null,{"$f":"IF(Z127=\"\",\"\",Z127)","v":""},null,{"$f":"IF(AB127=\"\",\"\",AB127)","v":""},null,{"$f":"IF(AD127=\"\",\"\",AD127)","v":""},null,{"$f":"IF(AF127=\"\",\"\",AF127)","v":""},null,{"$f":"IF(AH127=\"\",\"\",AH127)","v":""},null,{"$f":"IF(AJ127=\"\",\"\",AJ127)","v":""},null,{"$f":"IF(AL127=\"\",\"\",AL127)","v":""},null,null,{"$f":"IF(AO127=\"\",\"\",AO127)","v":""},null,null,{"$f":"IF(AR127=\"\",\"\",AR127)","v":""},null,null,null,null,{"$f":"IF(AW127=\"\",\"\",AW127)","v":""}]
[]
[]
[]
[null,null,null,null,null,null,null,null,null,null,null,null,null,null,null,null,null,{"$f":"IF(R131=\"\",\"\",R131)","v":""},null,{"$f":"IF(T131=\"\",\"\",T131)","v":""},null,{"$f":"IF(V131=\"\",\"\",V131)","v":""},null,{"$f":"IF(X131=\"\",\"\",X131)","v":""},null,{"$f":"IF(Z131=\"\",\"\",Z131)","v":""},null,{"$f":"IF(AB131=\"\",\"\",AB131)","v":""},null,{"$f":"IF(AD131=\"\",\"\",AD131)","v":""},null,{"$f":"IF(AF131=\"\",\"\",AF131)","v":""},null,{"$f":"IF(AH131=\"\",\"\",AH131)","v":""},null,{"$f":"IF(AJ131=\"\",\"\",AJ131)","v":""},null,{"$f":"IF(AL131=\"\",\"\",AL131)","v":""},null,null,{"$f":"IF(AO131=\"\",\"\",AO131)","v":""},null,null,{"$f":"IF(AR131=\"\",\"\",AR131)","v":""},null,null,null,null,{"$f":"IF(AW131=\"\",\"\",AW131)","v":""}]
[]
[]
[]
[null,null,null,null,null,null,null,null,null,null,null,null,null,null,null,null,null,{"$f":"IF(R135=\"\",\"\",R135)","v":""},null,{"$f":"IF(T135=\"\",\"\",T135)","v":""},null,{"$f":"IF(V135=\"\",\"\",V135)","v":""},null,{"$f":"IF(X135=\"\",\"\",X135)","v":""},null,{"$f":"IF(Z135=\"\",\"\",Z135)","v":""},null,{"$f":"IF(AB135=\"\",\"\",AB135)","v":""},null,{"$f":"IF(AD135=\"\",\"\",AD135)","v":""},null,{"$f":"IF(AF135=\"\",\"\",AF135)","v":""},null,{"$f":"IF(AH135=\"\",\"\",AH135)","v":""},null,{"$f":"IF(AJ135=\"\",\"\",AJ135)","v":""},null,{"$f":"IF(AL135=\"\",\"\",AL135)","v":""},null,null,{"$f":"IF(AO135=\"\",\"\",AO135)","v":""},null,null,{"$f":"IF(AR135=\"\",\"\",AR135)","v":""},null,null,null,null,{"$f":"IF(AW135=\"\",\"\",AW135)","v":""}]
[]
[]
[]
[null,null,null,null,null,null,null,null,null,null,null,null,null,null,null,null,null,{"$f":"IF(R139=\"\",\"\",R139)","v":""},null,{"$f":"IF(T139=\"\",\"\",T139)","v":""},null,{"$f":"IF(V139=\"\",\"\",V139)","v":""},null,{"$f":"IF(X139=\"\",\"\",X139)","v":""},null,{"$f":"IF(Z139=\"\",\"\",Z139)","v":""},null,{"$f":"IF(AB139=\"\",\"\",AB139)","v":""},null,{"$f":"IF(AD139=\"\",\"\",AD139)","v":""},null,{"$f":"IF(AF139=\"\",\"\",AF139)","v":""},null,{"$f":"IF(AH139=\"\",\"\",AH139)","v":""},null,{"$f":"IF(AJ139=\"\",\"\",AJ139)","v":""},null,{"$f":"IF(AL139=\"\",\"\",AL139)","v":""},null,null,{"$f":"IF(AO139=\"\",\"\",AO139)","v":""},null,null,{"$f":"IF(AR139=\"\",\"\",AR139)","v":""},null,null,null,null,{"$f":"IF(AW139=\"\",\"\",AW139)","v":""}]
[]
[]
[]
[null,null,null,null,null,null,null,null,null,null,null,null,null,null,null,null,null,{"$f":"IF(R143=\"\",\"\",R143)","v":""},null,{"$f":"IF(T143=\"\",\"\",T143)","v":""},null,{"$f":"IF(V143=\"\",\"\",V143)","v":""},null,{"$f":"IF(X143=\"\",\"\",X143)","v":""},null,{"$f":"IF(Z143=\"\",\"\",Z143)","v":""},null,{"$f":"IF(AB143=\"\",\"\",AB143)","v":""},null,{"$f":"IF(AD143=\"\",\"\",AD143)","v":""},null,{"$f":"IF(AF143=\"\",\"\",AF143)","v":""},null,{"$f":"IF(AH143=\"\",\"\",AH143)","v":""},null,{"$f":"IF(AJ143=\"\",\"\",AJ143)","v":""},null,{"$f":"IF(AL143=\"\",\"\",AL143)","v":""},null,null,{"$f":"IF(AO143=\"\",\"\",AO143)","v":""},null,null,{"$f":"IF(AR143=\"\",\"\",AR143)","v":""},null,null,null,null,{"$f":"IF(AW143=\"\",\"\",AW143)","v":""}]
[]
[]
[]
[null,null,null,null,null,null,null,null,null,null,null,null,null,null,null,null,null,{"$f":"IF(R147=\"\",\"\",R147)","v":""},null,{"$f":"IF(T147=\"\",\"\",T147)","v":""},null,{"$f":"IF(V147=\"\",\"\",V147)","v":""},null,{"$f":"IF(X147=\"\",\"\",X147)","v":""},null,{"$f":"IF(Z147=\"\",\"\",Z147)","v":""},null,{"$f":"IF(AB147=\"\",\"\",AB147)","v":""},null,{"$f":"IF(AD147=\"\",\"\",AD147)","v":""},null,{"$f":"IF(AF147=\"\",\"\",AF147)","v":""},null,{"$f":"IF(AH147=\"\",\"\",AH147)","v":""},null,{"$f":"IF(AJ147=\"\",\"\",AJ147)","v":""},null,{"$f":"IF(AL147=\"\",\"\",AL147)","v":""},null,null,{"$f":"IF(AO147=\"\",\"\",AO147)","v":""},null,null,{"$f":"IF(AR147=\"\",\"\",AR147)","v":""},null,null,null,null,{"$f":"IF(AW147=\"\",\"\",AW147)","v":""}]
[]
[]
[]
[null,null,null,null,null,null,null,null,null,null,null,null,null,null,null,null,null,{"$f":"IF(R151=\"\",\"\",R151)","v":""},null,{"$f":"IF(T151=\"\",\"\",T151)","v":""},null,{"$f":"IF(V151=\"\",\"\",V151)","v":""},null,{"$f":"IF(X151=\"\",\"\",X151)","v":""},null,{"$f":"IF(Z151=\"\",\"\",Z151)","v":""},null,{"$f":"IF(AB151=\"\",\"\",AB151)","v":""},null,{"$f":"IF(AD151=\"\",\"\",AD151)","v":""},null,{"$f":"IF(AF151=\"\",\"\",AF151)","v":""},null,{"$f":"IF(AH151=\"\",\"\",AH151)","v":""},null,{"$f":"IF(AJ151=\"\",\"\",AJ151)","v":""},null,{"$f":"IF(AL151=\"\",\"\",AL151)","v":""},null,null,{"$f":"IF(AO151=\"\",\"\",AO151)","v":""},null,null,{"$f":"IF(AR151=\"\",\"\",AR151)","v":""},null,null,null,null,{"$f":"IF(AW151=\"\",\"\",AW151)","v":""}]
[]
[]
[]
[null,null,null,null,null,null,null,null,null,null,null,null,null,null,null,null,null,{"$f":"IF(R155=\"\",\"\",R155)","v":""},null,{"$f":"IF(T155=\"\",\"\",T155)","v":""},null,{"$f":"IF(V155=\"\",\"\",V155)","v":""},null,{"$f":"IF(X155=\"\",\"\",X155)","v":""},null,{"$f":"IF(Z155=\"\",\"\",Z155)","v":""},null,{"$f":"IF(AB155=\"\",\"\",AB155)","v":""},null,{"$f":"IF(AD155=\"\",\"\",AD155)","v":""},null,{"$f":"IF(AF155=\"\",\"\",AF155)","v":""},null,{"$f":"IF(AH155=\"\",\"\",AH155)","v":""},null,{"$f":"IF(AJ155=\"\",\"\",AJ155)","v":""},null,{"$f":"IF(AL155=\"\",\"\",AL155)","v":""},null,null,{"$f":"IF(AO155=\"\",\"\",AO155)","v":""},null,null,{"$f":"IF(AR155=\"\",\"\",AR155)","v":""},null,null,null,null,{"$f":"IF(AW155=\"\",\"\",AW155)","v":""}]
[]
[]
[]
[null,null,null,null,null,null,null,null,null,null,null,null,null,null,null,null,null,{"$f":"IF(R159=\"\",\"\",R159)","v":""},null,{"$f":"IF(T159=\"\",\"\",T159)","v":""},null,{"$f":"IF(V159=\"\",\"\",V159)","v":""},null,{"$f":"IF(X159=\"\",\"\",X159)","v":""},null,{"$f":"IF(Z159=\"\",\"\",Z159)","v":""},null,{"$f":"IF(AB159=\"\",\"\",AB159)","v":""},null,{"$f":"IF(AD159=\"\",\"\",AD159)","v":""},null,{"$f":"IF(AF159=\"\",\"\",AF159)","v":""},null,{"$f":"IF(AH159=\"\",\"\",AH159)","v":""},null,{"$f":"IF(AJ159=\"\",\"\",AJ159)","v":""},null,{"$f":"IF(AL159=\"\",\"\",AL159)","v":""},null,null,{"$f":"IF(AO159=\"\",\"\",AO159)","v":""},null,null,{"$f":"IF(AR159=\"\",\"\",AR159)","v":""},null,null,null,null,{"$f":"IF(AW159=\"\",\"\",AW159)","v":""}]
[]
[]
[]
[null,null,null,null,null,null,null,null,null,null,null,null,null,null,null,null,null,{"$f":"IF(R163=\"\",\"\",R163)","v":""},null,{"$f":"IF(T163=\"\",\"\",T163)","v":""},null,{"$f":"IF(V163=\"\",\"\",V163)","v":""},null,{"$f":"IF(X163=\"\",\"\",X163)","v":""},null,{"$f":"IF(Z163=\"\",\"\",Z163)","v":""},null,{"$f":"IF(AB163=\"\",\"\",AB163)","v":""},null,{"$f":"IF(AD163=\"\",\"\",AD163)","v":""},null,{"$f":"IF(AF163=\"\",\"\",AF163)","v":""},null,{"$f":"IF(AH163=\"\",\"\",AH163)","v":""},null,{"$f":"IF(AJ163=\"\",\"\",AJ163)","v":""},null,{"$f":"IF(AL163=\"\",\"\",AL163)","v":""},null,null,{"$f":"IF(AO163=\"\",\"\",AO163)","v":""},null,null,{"$f":"IF(AR163=\"\",\"\",AR163)","v":""},null,null,null,null,{"$f":"IF(AW163=\"\",\"\",AW163)","v":""}]
[]
[]
[]
[null,null,null,null,null,null,null,null,null,null,null,null,null,null,null,null,null,{"$f":"IF(R167=\"\",\"\",R167)","v":""},null,{"$f":"IF(T167=\"\",\"\",T167)","v":""},null,{"$f":"IF(V167=\"\",\"\",V167)","v":""},null,{"$f":"IF(X167=\"\",\"\",X167)","v":""},null,{"$f":"IF(Z167=\"\",\"\",Z167)","v":""},null,{"$f":"IF(AB167=\"\",\"\",AB167)","v":""},null,{"$f":"IF(AD167=\"\",\"\",AD167)","v":""},null,{"$f":"IF(AF167=\"\",\"\",AF167)","v":""},null,{"$f":"IF(AH167=\"\",\"\",AH167)","v":""},null,{"$f":"IF(AJ167=\"\",\"\",AJ167)","v":""},null,{"$f":"IF(AL167=\"\",\"\",AL167)","v":""},null,null,{"$f":"IF(AO167=\"\",\"\",AO167)","v":""},null,null,{"$f":"IF(AR167=\"\",\"\",AR167)","v":""},null,null,null,null,{"$f":"IF(AW167=\"\",\"\",AW167)","v":""}]
[]
[]
[]
[null,null,null,null,null,null,null,null,null,null,null,null,null,null,null,null,null,{"$f":"IF(R171=\"\",\"\",R171)","v":""},null,{"$f":"IF(T171=\"\",\"\",T171)","v":""},null,{"$f":"IF(V171=\"\",\"\",V171)","v":""},null,{"$f":"IF(X171=\"\",\"\",X171)","v":""},null,{"$f":"IF(Z171=\"\",\"\",Z171)","v":""},null,{"$f":"IF(AB171=\"\",\"\",AB171)","v":""},null,{"$f":"IF(AD171=\"\",\"\",AD171)","v":""},null,{"$f":"IF(AF171=\"\",\"\",AF171)","v":""},null,{"$f":"IF(AH171=\"\",\"\",AH171)","v":""},null,{"$f":"IF(AJ171=\"\",\"\",AJ171)","v":""},null,{"$f":"IF(AL171=\"\",\"\",AL171)","v":""},null,null,{"$f":"IF(AO171=\"\",\"\",AO171)","v":""},null,null,{"$f":"IF(AR171=\"\",\"\",AR171)","v":""},null,null,null,null,{"$f":"IF(AW171=\"\",\"\",AW171)","v":""}]
[]
[]
[]
[null,null,null,null,null,null,null,null,null,null,null,null,null,null,null,null,null,null,null,null,null,null,null,null,null,null,null,null,null,null,null,null,null,null,null,null,null,{"$f":"AL175","v":"金額(税抜)"},null,null,null,null,null,null,null,null,null,null,{"$f":"AW83","v":""}]
[]
[]
[]
[]
[null,null,null,null,null,null,null,null,null,null,null,null,null,null,null,null,null,null,null,null,null,null,null,null,null,null,null,null,null,null,null,null,null,null,null,null,null,{"$f":"AL180","v":"消費税"},null,null,null,null,null,"税率",null,null,"税調",null,{"$f":"AW88","v":""}]
[]
[null,null,null,null,null,null,null,null,null,null,null,null,null,null,null,null,null,null,null,null,null,null,null,null,null,null,null,null,null,null,null,null,null,null,null,null,null,null,null,null,null,null,null,{"$f":"AR90","v":0},null,{"$f":"AT90","v":""}]

{"sheet":"細2-1","index":16,"n_rows":274,"n_cols":53,"rows_kept":274,"cut":false,"hidden":false,"merged":[[262,17,265,18],[262,19,265,20],[262,21,265,36],[262,37,265,39],[258,40,261,42],[271,48,274,54],[262,40,265,42],[262,43,265,47],[262,48,265,54],[266,37,269,47],[266,48,269,54],[271,37,274,42],[271,43,272,45],[273,43,274,44],[273,45,274,45],[273,46,274,47],[271,46,272,47],[250,40,253,42],[250,43,253,47],[250,48,253,54],[254,40,257,42],[254,43,257,47],[254,48,257,54],[258,43,261,47],[258,48,261,54],[250,17,253,18],[250,19,253,20],[250,21,253,36],[250,37,253,39],[258,17,261,18],[258,19,261,20],[258,21,261,36],[258,37,261,39],[254,17,257,18],[254,19,257,20],[254,21,257,36],[254,37,257,39],[242,48,245,54],[246,17,249,18],[246,19,249,20],[246,21,249,36],[246,37,249,39],[246,40,249,42],[246,43,249,47],[246,48,249,54],[242,17,245,18],[242,19,245,20],[242,21,245,36],[242,37,245,39],[242,40,245,42],[242,43,245,47],[234,48,237,54],[238,17,241,18],[238,19,241,20],[238,21,241,36],[238,37,241,39],[238,40,241,42],[238,43,241,47],[238,48,241,54],[234,17,237,18],[234,19,237,20],[234,21,237,36],[234,37,237,39],[234,40,237,42],[234,43,237,47],[222,17,225,18],[222,19,225,20],[222,21,225,36],[222,37,225,39],[222,40,225,42],[222,43,225,47],[222,48,225,54],[226,48,229,54],[230,17,233,18],[230,19,233,20],[230,21,233,36],[230,37,233,39],[230,40,233,42],[230,43,233,47],[230,48,233,54],[226,17,229,18],[226,19,229,20],[226,21,229,36],[226,37,229,39],[226,40,229,42],[226,43,229,47],[214,21,217,36],[214,37,217,39],[214,40,217,42],[214,43,217,47],[214,48,217,54],[218,1,221,5],[218,6,221,15],[218,17,221,18],[218,19,221,20],[218,21,221,36],[218,40,221,42],[218,43,221,47],[218,37,221,39],[218,48,221,54],[202,6,205,15],[202,17,205,18],[202,19,205,20],[214,1,217,3],[214,4,217,5],[214,6,217,15],[214,17,217,18],[214,19,217,20],[206,1,209,5],[206,6,209,15],[206,17,209,18],[202,1,205,5],[210,1,213,5],[210,6,213,15],[210,17,213,18],[210,48,213,54],[202,43,205,47],[206,40,209,42],[202,40,205,42],[206,48,209,54],[206,43,209,47],[179,48,182,54],[185,19,188,32],[187,49,189,51],[187,52,189,54],[198,21,201,36],[206,19,209,20],[206,21,209,36],[206,37,209,39],[202,21,205,36],[202,37,205,39],[210,21,213,36],[210,37,213,39],[210,40,213,42],[210,43,213,47],[210,19,213,20],[198,48,201,54],[179,37,182,42],[179,43,180,45],[170,40,173,42],[170,43,173,47],[170,48,173,54],[174,48,177,54],[192,1,195,5],[192,6,195,11],[192,12,195,15],[192,16,195,35],[192,37,195,40],[192,41,195,54],[170,21,173,36],[170,19,173,20],[174,37,177,47],[170,37,173,39],[187,40,189,44],[187,45,189,48],[179,46,180,47],[181,43,182,44],[181,45,182,45],[181,46,182,47],[162,37,165,39],[162,40,165,42],[162,43,165,47],[162,48,165,54],[158,19,161,20],[166,40,169,42],[166,43,169,47],[166,48,169,54],[158,37,161,39],[158,40,161,42],[166,21,169,36],[162,21,165,36],[166,37,169,39],[154,37,157,39],[154,40,157,42],[158,43,161,47],[158,48,161,54],[146,48,149,54],[142,17,145,18],[142,19,145,20],[150,37,153,39],[150,40,153,42],[150,43,153,47],[150,48,153,54],[146,17,149,18],[146,19,149,20],[146,21,149,36],[146,37,149,39],[146,40,149,42],[146,43,149,47],[142,21,145,36],[142,37,145,39],[142,40,145,42],[142,43,145,47],[158,21,161,36],[150,21,153,36],[154,17,157,18],[134,48,137,54],[138,17,141,18],[138,19,141,20],[138,21,141,36],[138,37,141,39],[138,40,141,42],[126,37,129,39],[126,40,129,42],[126,43,129,47],[134,17,137,18],[134,19,137,20],[134,21,137,36],[134,37,137,39],[134,40,137,42],[130,40,133,42],[130,21,133,36],[130,37,133,39],[130,48,133,54],[130,43,133,47],[130,17,133,18],[130,19,133,20],[134,43,137,47],[122,43,125,47],[122,48,125,54],[118,40,121,42],[118,43,121,47],[118,48,121,54],[122,40,125,42],[126,1,129,5],[126,6,129,15],[126,17,129,18],[126,19,129,20],[126,21,129,36],[122,17,125,18],[122,19,125,20],[122,21,125,36],[122,1,125,3],[122,4,125,5],[122,6,125,15],[126,48,129,54],[118,1,121,5],[118,6,121,15],[118,17,121,18],[118,19,121,20],[114,48,117,54],[93,19,96,32],[110,19,113,20],[110,21,113,36],[114,37,117,39],[114,21,117,36],[95,49,97,51],[100,16,103,35],[100,37,103,40],[100,41,103,54],[95,52,97,54],[110,48,113,54],[106,48,109,54],[95,40,97,44],[95,45,97,48],[106,6,109,15],[82,37,85,47],[106,43,109,47],[110,40,113,42],[110,43,113,47],[110,37,113,39],[110,17,113,18],[114,40,117,42],[114,43,117,47],[114,17,117,18],[106,37,109,39],[106,40,109,42],[87,48,90,54],[100,1,103,5],[100,6,103,11],[100,12,103,15],[94,1,97,11],[94,12,97,13],[83,26,84,30],[83,31,84,35],[83,1,84,4],[85,1,90,4],[83,5,84,10],[83,11,84,16],[85,5,90,10],[85,11,90,16],[87,37,90,42],[87,43,88,45],[89,43,90,44],[89,45,90,45],[89,46,90,47],[87,46,88,47],[78,43,81,47],[78,48,81,54],[74,17,77,18],[74,19,77,20],[74,21,77,36],[74,37,77,39],[74,40,77,42],[74,43,77,47],[82,48,85,54],[74,48,77,54],[83,17,84,25],[78,21,81,36],[78,37,81,39],[78,40,81,42],[62,43,65,47],[62,21,65,36],[62,37,65,39],[70,43,73,47],[70,48,73,54],[62,48,65,54],[66,48,69,54],[70,40,73,42],[66,17,69,18],[66,19,69,20],[66,21,69,36],[66,37,69,39],[66,40,69,42],[66,43,69,47],[70,21,73,36],[70,17,73,18],[62,40,65,42],[50,43,53,47],[50,48,53,54],[46,17,49,18],[46,19,49,20],[46,21,49,36],[54,43,57,47],[54,48,57,54],[58,17,61,18],[58,19,61,20],[58,21,61,36],[54,40,57,42],[58,37,61,39],[58,40,61,42],[58,43,61,47],[58,48,61,54],[54,17,57,18],[54,19,57,20],[54,21,57,36],[46,37,49,39],[46,40,49,42],[50,40,53,42],[198,1,201,5],[198,6,201,15],[198,17,201,20],[186,1,189,11],[186,12,189,13],[158,17,161,18],[166,17,169,18],[166,19,169,20],[170,17,173,18],[162,17,165,18],[162,19,165,20],[14,1,17,5],[18,1,21,5],[22,1,25,5],[14,6,17,15],[18,6,21,15],[22,6,25,15],[62,17,65,18],[62,19,65,20],[34,1,37,5],[26,6,29,15],[30,6,33,15],[22,17,25,18],[22,19,25,20],[38,17,41,18],[38,19,41,20],[150,17,153,18],[150,19,153,20],[50,17,53,18],[50,19,53,20],[50,21,53,36],[50,37,53,39],[78,17,81,18],[78,19,81,20],[26,1,29,5],[30,1,33,3],[30,4,33,5],[30,17,33,18],[26,17,29,18],[26,19,29,20],[26,21,29,36],[54,37,57,39],[70,19,73,20],[70,37,73,39],[114,1,117,5],[114,6,117,15],[114,19,117,20],[110,1,113,5],[110,6,113,15],[106,1,109,5],[22,21,25,36],[18,17,21,18],[14,17,17,20],[34,6,37,15],[30,19,33,20],[202,48,205,54],[198,43,201,47],[154,43,157,47],[154,48,157,54],[138,43,141,47],[138,48,141,54],[142,48,145,54],[85,17,90,25],[85,26,90,30],[85,31,90,35],[154,19,157,20],[154,21,157,36],[198,37,201,39],[118,37,121,39],[122,37,125,39],[118,21,121,36],[198,40,201,42],[106,17,109,20],[106,21,109,36],[38,21,41,36],[38,37,41,39],[34,21,37,36],[34,37,37,39],[34,40,37,42],[42,17,45,18],[42,19,45,20],[42,21,45,36],[42,37,45,39],[26,40,29,42],[46,43,49,47],[46,48,49,54],[38,43,41,47],[38,48,41,54],[30,40,33,42],[26,43,29,47],[26,48,29,54],[42,40,45,42],[42,43,45,47],[42,48,45,54],[38,40,41,42],[22,37,25,39],[30,48,33,54],[34,17,37,18],[34,19,37,20],[34,43,37,47],[34,48,37,54],[14,43,17,47],[14,48,17,54],[18,37,21,39],[18,40,21,42],[18,43,21,47],[18,48,21,54],[14,40,17,42],[14,37,17,39],[22,43,25,47],[22,48,25,54],[22,40,25,42],[30,37,33,39],[30,21,33,36],[14,21,17,36],[18,19,21,20],[18,21,21,36],[30,43,33,47],[26,37,29,39],[2,1,5,11],[8,41,11,54],[2,12,5,13],[3,49,5,51],[8,1,11,5],[8,6,11,11],[8,12,11,15],[3,52,5,54],[8,37,11,40],[1,19,4,32],[8,16,11,35],[3,40,5,44],[3,45,5,48]]}
[]
[null,null,null,null,null,null,null,null,null,null,null,null,null,null,null,null,null,null,null,"請求書明細書 (正)"]
[null,"株 式 会 社 種 村 建 設",null,null,null,null,null,null,null,null,null,null,"御中"]
[null,null,null,null,null,null,null,null,null,null,null,null,null,null,null,null,null,null,null,null,null,null,null,null,null,null,null,null,null,null,null,null,null,null,null,null,null,null,null,null,"請求年月日",null,null,null,null,{"$f":"IF(年=\"\",\"\",年)","v":""},null,null,null,{"$f":"IF(月=\"\",\"\",月)","v":""},null,null,{"$f":"IF(日=\"\",\"\",日)","v":""}]
[]
[]
[]
[]
[null,"工事番号",null,null,null,null,null,null,null,null,null,null,"工事名",null,null,null,null,null,null,null,null,null,null,null,null,null,null,null,null,null,null,null,null,null,null,null,null,"業者名",null,null,null,{"$f":"IF(社名=\"\",\"\",社名)","v":""}]
[]
[]
[]
[]
[]
[null,"注文番号",null,null,null,null,null,null,null,null,null,null,null,null,null,null,null,"月　日",null,null,null,"品　名・内　訳",null,null,null,null,null,null,null,null,null,null,null,null,null,null,null,"数 量",null,null,"単位",null,null,"単価",null,null,null,null,{"$f":"表紙①!P35","v":"金額(税抜)"}]
[]
[]
[]
[null,"契約金額",null,null,null,null,null,null,null,null,null,null,null,null,null,null,null,null,null,null,null,null,null,null,null,null,null,null,null,null,null,null,null,null,null,null,null,null,null,null,null,null,null,null,null,null,null,null,{"$f":"IF(V19=\"\",\"\",ROUND(AL19*AR19,0))","v":""}]
[]
[]
[]
[null,"増減額",null,null,null,null,null,null,null,null,null,null,null,null,null,null,null,null,null,null,null,null,null,null,null,null,null,null,null,null,null,null,null,null,null,null,null,null,null,null,null,null,null,null,null,null,null,null,{"$f":"IF(V23=\"\",\"\",ROUND(AL23*AR23,0))","v":""}]
[]
[]
[]
[null,"前回までの\n請求額",null,null,null,null,null,null,null,null,null,null,null,null,null,null,null,null,null,null,null,null,null,null,null,null,null,null,null,null,null,null,null,null,null,null,null,null,null,null,null,null,null,null,null,null,null,null,{"$f":"IF(V27=\"\",\"\",ROUND(AL27*AR27,0))","v":""}]
[]
[]
[]
[null,"今回\n請求額",null,null,null,null,null,null,null,null,null,null,null,null,null,null,null,null,null,null,null,null,null,null,null,null,null,null,null,null,null,null,null,null,null,null,null,null,null,null,null,null,null,null,null,null,null,null,{"$f":"IF(V31=\"\",\"\",ROUND(AL31*AR31,0))","v":""}]
[]
[]
[]
[null,"差引残高",null,null,null,null,{"$f":"IF(G19=\"\",\"\",G19+G23-G27-G31)","v":""},null,null,null,null,null,null,null,null,null,null,null,null,null,null,null,null,null,null,null,null,null,null,null,null,null,null,null,null,null,null,null,null,null,null,null,null,null,null,null,null,null,{"$f":"IF(V35=\"\",\"\",ROUND(AL35*AR35,0))","v":""}]
[]
[]
[]
[null,null,null,null,null,null,null,null,null,null,null,null,null,null,null,null,null,null,null,null,null,null,null,null,null,null,null,null,null,null,null,null,null,null,null,null,null,null,null,null,null,null,null,null,null,null,null,null,{"$f":"IF(V39=\"\",\"\",ROUND(AL39*AR39,0))","v":""}]
[]
[]
[]
[null,null,null,null,null,null,null,null,null,null,null,null,null,null,null,null,null,null,null,null,null,null,null,null,null,null,null,null,null,null,null,null,null,null,null,null,null,null,null,null,null,null,null,null,null,null,null,null,{"$f":"IF(V43=\"\",\"\",ROUND(AL43*AR43,0))","v":""}]
[]
[]
[]
[null,null,null,null,null,null,null,null,null,null,null,null,null,null,null,null,null,null,null,null,null,null,null,null,null,null,null,null,null,null,null,null,null,null,null,null,null,null,null,null,null,null,null,null,null,null,null,null,{"$f":"IF(V47=\"\",\"\",ROUND(AL47*AR47,0))","v":""}]
[]
[]
[]
[null,null,null,null,null,null,null,null,null,null,null,null,null,null,null,null,null,null,null,null,null,null,null,null,null,null,null,null,null,null,null,null,null,null,null,null,null,null,null,null,null,null,null,null,null,null,null,null,{"$f":"IF(V51=\"\",\"\",ROUND(AL51*AR51,0))","v":""}]
[]
[]
[]
[null,null,null,null,null,null,null,null,null,null,null,null,null,null,null,null,null,null,null,null,null,null,null,null,null,null,null,null,null,null,null,null,null,null,null,null,null,null,null,null,null,null,null,null,null,null,null,null,{"$f":"IF(V55=\"\",\"\",ROUND(AL55*AR55,0))","v":""}]
[]
[]
[]
[null,null,null,null,null,null,null,null,null,null,null,null,null,null,null,null,null,null,null,null,null,null,null,null,null,null,null,null,null,null,null,null,null,null,null,null,null,null,null,null,null,null,null,null,null,null,null,null,{"$f":"IF(V59=\"\",\"\",ROUND(AL59*AR59,0))","v":""}]
[]
[]
[]
[null,null,null,null,null,null,null,null,null,null,null,null,null,null,null,null,null,null,null,null,null,null,null,null,null,null,null,null,null,null,null,null,null,null,null,null,null,null,null,null,null,null,null,null,null,null,null,null,{"$f":"IF(V63=\"\",\"\",ROUND(AL63*AR63,0))","v":""}]
[]
[]
[]
[null,null,null,null,null,null,null,null,null,null,null,null,null,null,null,null,null,null,null,null,null,null,null,null,null,null,null,null,null,null,null,null,null,null,null,null,null,null,null,null,null,null,null,null,null,null,null,null,{"$f":"IF(V67=\"\",\"\",ROUND(AL67*AR67,0))","v":""}]
[]
[]
[]
[null,null,null,null,null,null,null,null,null,null,null,null,null,null,null,null,null,null,null,null,null,null,null,null,null,null,null,null,null,null,null,null,null,null,null,null,null,null,null,null,null,null,null,null,null,null,null,null,{"$f":"IF(V71=\"\",\"\",ROUND(AL71*AR71,0))","v":""}]
[]
[]
[]
[null,null,null,null,null,null,null,null,null,null,null,null,null,null,null,null,null,null,null,null,null,null,null,null,null,null,null,null,null,null,null,null,null,null,null,null,null,null,null,null,null,null,null,null,null,null,null,null,{"$f":"IF(V75=\"\",\"\",ROUND(AL75*AR75,0))","v":""}]
[]
[]
[]
[null,null,null,null,null,null,null,null,null,null,null,null,null,null,null,null,null,null,null,null,null,null,null,null,null,null,null,null,null,null,null,null,null,null,null,null,null,null,null,null,null,null,null,null,null,null,null,null,{"$f":"IF(V79=\"\",\"\",ROUND(AL79*AR79,0))","v":""}]
[]
[]
[]
[null,null,null,null,null,null,null,null,null,null,null,null,null,null,null,null,null,null,null,null,null,null,null,null,null,null,null,null,null,null,null,null,null,null,null,null,null,"金額(税抜)",null,null,null,null,null,null,null,null,null,null,{"$f":"IF(AW19=\"\",\"\",SUM(AW19:AW79))","v":""}]
[null,"社長",null,null,null,"専務",null,null,null,null,null,"常務",null,null,null,null,null,"部長･工場長",null,null,null,null,null,null,null,null,"担当者",null,null,null,null,"受付"]
[]
[]
[]
[null,null,null,null,null,null,null,null,null,null,null,null,null,null,null,null,null,null,null,null,null,null,null,null,null,null,null,null,null,null,null,null,null,null,null,null,null,"消費税",null,null,null,null,null,"税率",null,null,"税調",null,{"$f":"IF(AW83=\"\",\"\",IF(AR90=\"\",\"\",IF(AR90=8.1,ROUND(AW83*8/100,0)+AU90,ROUND(AW83*AR90/100,0)+AU90)))","v":""}]
[]
[null,null,null,null,null,null,null,null,null,null,null,null,null,null,null,null,null,null,null,null,null,null,null,null,null,null,null,null,null,null,null,null,null,null,null,null,null,null,null,null,null,null,null,null,null,{"$f":"IF(AR90=\"\",\"\",IF(AR90=8.1,\"旧\",IF(AR90=8,\"軽\",IF(AR90=0,\"非\",\"\"))))","v":""}]
[]
[]
[]
[null,null,null,null,null,null,null,null,null,null,null,null,null,null,null,null,null,null,null,"請求明細書 (現場控)"]
[null,"株 式 会 社 種 村 建 設",null,null,null,null,null,null,null,null,null,null,"御中"]
[null,null,null,null,null,null,null,null,null,null,null,null,null,null,null,null,null,null,null,null,null,null,null,null,null,null,null,null,null,null,null,null,null,null,null,null,null,null,null,null,"請求年月日",null,null,null,null,{"$f":"IF(AT4=\"\",\"\",AT4)","v":""},null,null,null,{"$f":"IF(AX4=\"\",\"\",AX4)","v":""},null,null,{"$f":"IF(BA4=\"\",\"\",BA4)","v":""}]
[]
[]
[]
[]
[null,"工事番号",null,null,null,null,{"$f":"IF(G9=\"\",\"\",G9)","v":""},null,null,null,null,null,"工事名",null,null,null,{"$f":"IF(Q9=\"\",\"\",Q9)","v":""},null,null,null,null,null,null,null,null,null,null,null,null,null,null,null,null,null,null,null,null,"業者名",null,null,null,{"$f":"IF(AP9=\"\",\"\",AP9)","v":""}]
[]
[]
[]
[]
[]
[null,"注文番号",null,null,null,null,{"$f":"IF(G15=\"\",\"\",G15)","v":""},null,null,null,null,null,null,null,null,null,null,"月　日",null,null,null,"品　名・内　訳",null,null,null,null,null,null,null,null,null,null,null,null,null,null,null,"数 量",null,null,"単位",null,null,"単価",null,null,null,null,{"$f":"AW15","v":"金額(税抜)"}]
[]
[]
[]
[null,"契約金額",null,null,null,null,{"$f":"IF(G19=\"\",\"\",G19)","v":""},null,null,null,null,null,null,null,null,null,null,{"$f":"IF(R19=\"\",\"\",R19)","v":""},null,{"$f":"IF(T19=\"\",\"\",T19)","v":""},null,{"$f":"IF(V19=\"\",\"\",V19)","v":""},null,{"$f":"IF(X19=\"\",\"\",X19)","v":""},null,{"$f":"IF(Z19=\"\",\"\",Z19)","v":""},null,{"$f":"IF(AB19=\"\",\"\",AB19)","v":""},null,{"$f":"IF(AD19=\"\",\"\",AD19)","v":""},null,{"$f":"IF(AF19=\"\",\"\",AF19)","v":""},null,{"$f":"IF(AH19=\"\",\"\",AH19)","v":""},null,{"$f":"IF(AJ19=\"\",\"\",AJ19)","v":""},null,{"$f":"IF(AL19=\"\",\"\",AL19)","v":""},null,null,{"$f":"IF(AO19=\"\",\"\",AO19)","v":""},null,null,{"$f":"IF(AR19=\"\",\"\",AR19)","v":""},null,null,null,null,{"$f":"IF(AW19=\"\",\"\",AW19)","v":""}]
[]
[]
[]
[null,"増減額",null,null,null,null,{"$f":"IF(G23=\"\",\"\",G23)","v":""},null,null,null,null,null,null,null,null,null,null,{"$f":"IF(R23=\"\",\"\",R23)","v":""},null,{"$f":"IF(T23=\"\",\"\",T23)","v":""},null,{"$f":"IF(V23=\"\",\"\",V23)","v":""},null,{"$f":"IF(X23=\"\",\"\",X23)","v":""},null,{"$f":"IF(Z23=\"\",\"\",Z23)","v":""},null,{"$f":"IF(AB23=\"\",\"\",AB23)","v":""},null,{"$f":"IF(AD23=\"\",\"\",AD23)","v":""},null,{"$f":"IF(AF23=\"\",\"\",AF23)","v":""},null,{"$f":"IF(AH23=\"\",\"\",AH23)","v":""},null,{"$f":"IF(AJ23=\"\",\"\",AJ23)","v":""},null,{"$f":"IF(AL23=\"\",\"\",AL23)","v":""},null,null,{"$f":"IF(AO23=\"\",\"\",AO23)","v":""},null,null,{"$f":"IF(AR23=\"\",\"\",AR23)","v":""},null,null,null,null,{"$f":"IF(AW23=\"\",\"\",AW23)","v":""}]
[]
[]
[]
[null,"前回までの\n請求額",null,null,null,null,{"$f":"IF(G27=\"\",\"\",G27)","v":""},null,null,null,null,null,null,null,null,null,null,{"$f":"IF(R27=\"\",\"\",R27)","v":""},null,{"$f":"IF(T27=\"\",\"\",T27)","v":""},null,{"$f":"IF(V27=\"\",\"\",V27)","v":""},null,{"$f":"IF(X27=\"\",\"\",X27)","v":""},null,{"$f":"IF(Z27=\"\",\"\",Z27)","v":""},null,{"$f":"IF(AB27=\"\",\"\",AB27)","v":""},null,{"$f":"IF(AD27=\"\",\"\",AD27)","v":""},null,{"$f":"IF(AF27=\"\",\"\",AF27)","v":""},null,{"$f":"IF(AH27=\"\",\"\",AH27)","v":""},null,{"$f":"IF(AJ27=\"\",\"\",AJ27)","v":""},null,{"$f":"IF(AL27=\"\",\"\",AL27)","v":""},null,null,{"$f":"IF(AO27=\"\",\"\",AO27)","v":""},null,null,{"$f":"IF(AR27=\"\",\"\",AR27)","v":""},null,null,null,null,{"$f":"IF(AW27=\"\",\"\",AW27)","v":""}]
[]
[]
[]
[null,"今回\n請求額",null,null,{"$f":"IF(E31=\"\",\"\",E31)","v":""},null,{"$f":"IF(G31=\"\",\"\",G31)","v":""},null,null,null,null,null,null,null,null,null,null,{"$f":"IF(R31=\"\",\"\",R31)","v":""},null,{"$f":"IF(T31=\"\",\"\",T31)","v":""},null,{"$f":"IF(V31=\"\",\"\",V31)","v":""},null,{"$f":"IF(X31=\"\",\"\",X31)","v":""},null,{"$f":"IF(Z31=\"\",\"\",Z31)","v":""},null,{"$f":"IF(AB31=\"\",\"\",AB31)","v":""},null,{"$f":"IF(AD31=\"\",\"\",AD31)","v":""},null,{"$f":"IF(AF31=\"\",\"\",AF31)","v":""},null,{"$f":"IF(AH31=\"\",\"\",AH31)","v":""},null,{"$f":"IF(AJ31=\"\",\"\",AJ31)","v":""},null,{"$f":"IF(AL31=\"\",\"\",AL31)","v":""},null,null,{"$f":"IF(AO31=\"\",\"\",AO31)","v":""},null,null,{"$f":"IF(AR31=\"\",\"\",AR31)","v":""},null,null,null,null,{"$f":"IF(AW31=\"\",\"\",AW31)","v":""}]
[]
[]
[]
[null,"差引残高",null,null,null,null,{"$f":"IF(G111=\"\",\"\",G111+G115-G119-G123)","v":""},null,null,null,null,null,null,null,null,null,null,{"$f":"IF(R35=\"\",\"\",R35)","v":""},null,{"$f":"IF(T35=\"\",\"\",T35)","v":""},null,{"$f":"IF(V35=\"\",\"\",V35)","v":""},null,{"$f":"IF(X35=\"\",\"\",X35)","v":""},null,{"$f":"IF(Z35=\"\",\"\",Z35)","v":""},null,{"$f":"IF(AB35=\"\",\"\",AB35)","v":""},null,{"$f":"IF(AD35=\"\",\"\",AD35)","v":""},null,{"$f":"IF(AF35=\"\",\"\",AF35)","v":""},null,{"$f":"IF(AH35=\"\",\"\",AH35)","v":""},null,{"$f":"IF(AJ35=\"\",\"\",AJ35)","v":""},null,{"$f":"IF(AL35=\"\",\"\",AL35)","v":""},null,null,{"$f":"IF(AO35=\"\",\"\",AO35)","v":""},null,null,{"$f":"IF(AR35=\"\",\"\",AR35)","v":""},null,null,null,null,{"$f":"IF(AW35=\"\",\"\",AW35)","v":""}]
[]
[]
[]
[null,null,null,null,null,null,null,null,null,null,null,null,null,null,null,null,null,{"$f":"IF(R39=\"\",\"\",R39)","v":""},null,{"$f":"IF(T39=\"\",\"\",T39)","v":""},null,{"$f":"IF(V39=\"\",\"\",V39)","v":""},null,{"$f":"IF(X39=\"\",\"\",X39)","v":""},null,{"$f":"IF(Z39=\"\",\"\",Z39)","v":""},null,{"$f":"IF(AB39=\"\",\"\",AB39)","v":""},null,{"$f":"IF(AD39=\"\",\"\",AD39)","v":""},null,{"$f":"IF(AF39=\"\",\"\",AF39)","v":""},null,{"$f":"IF(AH39=\"\",\"\",AH39)","v":""},null,{"$f":"IF(AJ39=\"\",\"\",AJ39)","v":""},null,{"$f":"IF(AL39=\"\",\"\",AL39)","v":""},null,null,{"$f":"IF(AO39=\"\",\"\",AO39)","v":""},null,null,{"$f":"IF(AR39=\"\",\"\",AR39)","v":""},null,null,null,null,{"$f":"IF(AW39=\"\",\"\",AW39)","v":""}]
[]
[]
[]
[null,null,null,null,null,null,null,null,null,null,null,null,null,null,null,null,null,{"$f":"IF(R43=\"\",\"\",R43)","v":""},null,{"$f":"IF(T43=\"\",\"\",T43)","v":""},null,{"$f":"IF(V43=\"\",\"\",V43)","v":""},null,{"$f":"IF(X43=\"\",\"\",X43)","v":""},null,{"$f":"IF(Z43=\"\",\"\",Z43)","v":""},null,{"$f":"IF(AB43=\"\",\"\",AB43)","v":""},null,{"$f":"IF(AD43=\"\",\"\",AD43)","v":""},null,{"$f":"IF(AF43=\"\",\"\",AF43)","v":""},null,{"$f":"IF(AH43=\"\",\"\",AH43)","v":""},null,{"$f":"IF(AJ43=\"\",\"\",AJ43)","v":""},null,{"$f":"IF(AL43=\"\",\"\",AL43)","v":""},null,null,{"$f":"IF(AO43=\"\",\"\",AO43)","v":""},null,null,{"$f":"IF(AR43=\"\",\"\",AR43)","v":""},null,null,null,null,{"$f":"IF(AW43=\"\",\"\",AW43)","v":""}]
[]
[]
[]
[null,null,null,null,null,null,null,null,null,null,null,null,null,null,null,null,null,{"$f":"IF(R47=\"\",\"\",R47)","v":""},null,{"$f":"IF(T47=\"\",\"\",T47)","v":""},null,{"$f":"IF(V47=\"\",\"\",V47)","v":""},null,{"$f":"IF(X47=\"\",\"\",X47)","v":""},null,{"$f":"IF(Z47=\"\",\"\",Z47)","v":""},null,{"$f":"IF(AB47=\"\",\"\",AB47)","v":""},null,{"$f":"IF(AD47=\"\",\"\",AD47)","v":""},null,{"$f":"IF(AF47=\"\",\"\",AF47)","v":""},null,{"$f":"IF(AH47=\"\",\"\",AH47)","v":""},null,{"$f":"IF(AJ47=\"\",\"\",AJ47)","v":""},null,{"$f":"IF(AL47=\"\",\"\",AL47)","v":""},null,null,{"$f":"IF(AO47=\"\",\"\",AO47)","v":""},null,null,{"$f":"IF(AR47=\"\",\"\",AR47)","v":""},null,null,null,null,{"$f":"IF(AW47=\"\",\"\",AW47)","v":""}]
[]
[]
[]
[null,null,null,null,null,null,null,null,null,null,null,null,null,null,null,null,null,{"$f":"IF(R51=\"\",\"\",R51)","v":""},null,{"$f":"IF(T51=\"\",\"\",T51)","v":""},null,{"$f":"IF(V51=\"\",\"\",V51)","v":""},null,{"$f":"IF(X51=\"\",\"\",X51)","v":""},null,{"$f":"IF(Z51=\"\",\"\",Z51)","v":""},null,{"$f":"IF(AB51=\"\",\"\",AB51)","v":""},null,{"$f":"IF(AD51=\"\",\"\",AD51)","v":""},null,{"$f":"IF(AF51=\"\",\"\",AF51)","v":""},null,{"$f":"IF(AH51=\"\",\"\",AH51)","v":""},null,{"$f":"IF(AJ51=\"\",\"\",AJ51)","v":""},null,{"$f":"IF(AL51=\"\",\"\",AL51)","v":""},null,null,{"$f":"IF(AO51=\"\",\"\",AO51)","v":""},null,null,{"$f":"IF(AR51=\"\",\"\",AR51)","v":""},null,null,null,null,{"$f":"IF(AW51=\"\",\"\",AW51)","v":""}]
[]
[]
[]
[null,null,null,null,null,null,null,null,null,null,null,null,null,null,null,null,null,{"$f":"IF(R55=\"\",\"\",R55)","v":""},null,{"$f":"IF(T55=\"\",\"\",T55)","v":""},null,{"$f":"IF(V55=\"\",\"\",V55)","v":""},null,{"$f":"IF(X55=\"\",\"\",X55)","v":""},null,{"$f":"IF(Z55=\"\",\"\",Z55)","v":""},null,{"$f":"IF(AB55=\"\",\"\",AB55)","v":""},null,{"$f":"IF(AD55=\"\",\"\",AD55)","v":""},null,{"$f":"IF(AF55=\"\",\"\",AF55)","v":""},null,{"$f":"IF(AH55=\"\",\"\",AH55)","v":""},null,{"$f":"IF(AJ55=\"\",\"\",AJ55)","v":""},null,{"$f":"IF(AL55=\"\",\"\",AL55)","v":""},null,null,{"$f":"IF(AO55=\"\",\"\",AO55)","v":""},null,null,{"$f":"IF(AR55=\"\",\"\",AR55)","v":""},null,null,null,null,{"$f":"IF(AW55=\"\",\"\",AW55)","v":""}]
[]
[]
[]
[null,null,null,null,null,null,null,null,null,null,null,null,null,null,null,null,null,{"$f":"IF(R59=\"\",\"\",R59)","v":""},null,{"$f":"IF(T59=\"\",\"\",T59)","v":""},null,{"$f":"IF(V59=\"\",\"\",V59)","v":""},null,{"$f":"IF(X59=\"\",\"\",X59)","v":""},null,{"$f":"IF(Z59=\"\",\"\",Z59)","v":""},null,{"$f":"IF(AB59=\"\",\"\",AB59)","v":""},null,{"$f":"IF(AD59=\"\",\"\",AD59)","v":""},null,{"$f":"IF(AF59=\"\",\"\",AF59)","v":""},null,{"$f":"IF(AH59=\"\",\"\",AH59)","v":""},null,{"$f":"IF(AJ59=\"\",\"\",AJ59)","v":""},null,{"$f":"IF(AL59=\"\",\"\",AL59)","v":""},null,null,{"$f":"IF(AO59=\"\",\"\",AO59)","v":""},null,null,{"$f":"IF(AR59=\"\",\"\",AR59)","v":""},null,null,null,null,{"$f":"IF(AW59=\"\",\"\",AW59)","v":""}]
[]
[]
[]
[null,null,null,null,null,null,null,null,null,null,null,null,null,null,null,null,null,{"$f":"IF(R63=\"\",\"\",R63)","v":""},null,{"$f":"IF(T63=\"\",\"\",T63)","v":""},null,{"$f":"IF(V63=\"\",\"\",V63)","v":""},null,{"$f":"IF(X63=\"\",\"\",X63)","v":""},null,{"$f":"IF(Z63=\"\",\"\",Z63)","v":""},null,{"$f":"IF(AB63=\"\",\"\",AB63)","v":""},null,{"$f":"IF(AD63=\"\",\"\",AD63)","v":""},null,{"$f":"IF(AF63=\"\",\"\",AF63)","v":""},null,{"$f":"IF(AH63=\"\",\"\",AH63)","v":""},null,{"$f":"IF(AJ63=\"\",\"\",AJ63)","v":""},null,{"$f":"IF(AL63=\"\",\"\",AL63)","v":""},null,null,{"$f":"IF(AO63=\"\",\"\",AO63)","v":""},null,null,{"$f":"IF(AR63=\"\",\"\",AR63)","v":""},null,null,null,null,{"$f":"IF(AW63=\"\",\"\",AW63)","v":""}]
[]
[]
[]
[null,null,null,null,null,null,null,null,null,null,null,null,null,null,null,null,null,{"$f":"IF(R67=\"\",\"\",R67)","v":""},null,{"$f":"IF(T67=\"\",\"\",T67)","v":""},null,{"$f":"IF(V67=\"\",\"\",V67)","v":""},null,{"$f":"IF(X67=\"\",\"\",X67)","v":""},null,{"$f":"IF(Z67=\"\",\"\",Z67)","v":""},null,{"$f":"IF(AB67=\"\",\"\",AB67)","v":""},null,{"$f":"IF(AD67=\"\",\"\",AD67)","v":""},null,{"$f":"IF(AF67=\"\",\"\",AF67)","v":""},null,{"$f":"IF(AH67=\"\",\"\",AH67)","v":""},null,{"$f":"IF(AJ67=\"\",\"\",AJ67)","v":""},null,{"$f":"IF(AL67=\"\",\"\",AL67)","v":""},null,null,{"$f":"IF(AO67=\"\",\"\",AO67)","v":""},null,null,{"$f":"IF(AR67=\"\",\"\",AR67)","v":""},null,null,null,null,{"$f":"IF(AW67=\"\",\"\",AW67)","v":""}]
[]
[]
[]
[null,null,null,null,null,null,null,null,null,null,null,null,null,null,null,null,null,{"$f":"IF(R71=\"\",\"\",R71)","v":""},null,{"$f":"IF(T71=\"\",\"\",T71)","v":""},null,{"$f":"IF(V71=\"\",\"\",V71)","v":""},null,{"$f":"IF(X71=\"\",\"\",X71)","v":""},null,{"$f":"IF(Z71=\"\",\"\",Z71)","v":""},null,{"$f":"IF(AB71=\"\",\"\",AB71)","v":""},null,{"$f":"IF(AD71=\"\",\"\",AD71)","v":""},null,{"$f":"IF(AF71=\"\",\"\",AF71)","v":""},null,{"$f":"IF(AH71=\"\",\"\",AH71)","v":""},null,{"$f":"IF(AJ71=\"\",\"\",AJ71)","v":""},null,{"$f":"IF(AL71=\"\",\"\",AL71)","v":""},null,null,{"$f":"IF(AO71=\"\",\"\",AO71)","v":""},null,null,{"$f":"IF(AR71=\"\",\"\",AR71)","v":""},null,null,null,null,{"$f":"IF(AW71=\"\",\"\",AW71)","v":""}]
[]
[]
[]
[null,null,null,null,null,null,null,null,null,null,null,null,null,null,null,null,null,{"$f":"IF(R75=\"\",\"\",R75)","v":""},null,{"$f":"IF(T75=\"\",\"\",T75)","v":""},null,{"$f":"IF(V75=\"\",\"\",V75)","v":""},null,{"$f":"IF(X75=\"\",\"\",X75)","v":""},null,{"$f":"IF(Z75=\"\",\"\",Z75)","v":""},null,{"$f":"IF(AB75=\"\",\"\",AB75)","v":""},null,{"$f":"IF(AD75=\"\",\"\",AD75)","v":""},null,{"$f":"IF(AF75=\"\",\"\",AF75)","v":""},null,{"$f":"IF(AH75=\"\",\"\",AH75)","v":""},null,{"$f":"IF(AJ75=\"\",\"\",AJ75)","v":""},null,{"$f":"IF(AL75=\"\",\"\",AL75)","v":""},null,null,{"$f":"IF(AO75=\"\",\"\",AO75)","v":""},null,null,{"$f":"IF(AR75=\"\",\"\",AR75)","v":""},null,null,null,null,{"$f":"IF(AW75=\"\",\"\",AW75)","v":""}]
[]
[]
[]
[null,null,null,null,null,null,null,null,null,null,null,null,null,null,null,null,null,{"$f":"IF(R79=\"\",\"\",R79)","v":""},null,{"$f":"IF(T79=\"\",\"\",T79)","v":""},null,{"$f":"IF(V79=\"\",\"\",V79)","v":""},null,{"$f":"IF(X79=\"\",\"\",X79)","v":""},null,{"$f":"IF(Z79=\"\",\"\",Z79)","v":""},null,{"$f":"IF(AB79=\"\",\"\",AB79)","v":""},null,{"$f":"IF(AD79=\"\",\"\",AD79)","v":""},null,{"$f":"IF(AF79=\"\",\"\",AF79)","v":""},null,{"$f":"IF(AH79=\"\",\"\",AH79)","v":""},null,{"$f":"IF(AJ79=\"\",\"\",AJ79)","v":""},null,{"$f":"IF(AL79=\"\",\"\",AL79)","v":""},null,null,{"$f":"IF(AO79=\"\",\"\",AO79)","v":""},null,null,{"$f":"IF(AR79=\"\",\"\",AR79)","v":""},null,null,null,null,{"$f":"IF(AW79=\"\",\"\",AW79)","v":""}]
[]
[]
[]
[null,null,null,null,null,null,null,null,null,null,null,null,null,null,null,null,null,null,null,null,null,null,null,null,null,null,null,null,null,null,null,null,null,null,null,null,null,{"$f":"AL83","v":"金額(税抜)"},null,null,null,null,null,null,null,null,null,null,{"$f":"AW83","v":""}]
[]
[]
[]
[]
[null,null,null,null,null,null,null,null,null,null,null,null,null,null,null,null,null,null,null,null,null,null,null,null,null,null,null,null,null,null,null,null,null,null,null,null,null,{"$f":"AL88","v":"消費税"},null,null,null,null,null,"税率",null,null,"税調",null,{"$f":"AW88","v":""}]
[]
[null,null,null,null,null,null,null,null,null,null,null,null,null,null,null,null,null,null,null,null,null,null,null,null,null,null,null,null,null,null,null,null,null,null,null,null,null,null,null,null,null,null,null,{"$f":"AR90","v":0},null,{"$f":"AT90","v":""}]
[]
[]
[]
[null,null,null,null,null,null,null,null,null,null,null,null,null,null,null,null,null,null,null,"請求明細書 (貴社控)"]
[null,"株 式 会 社 種 村 建 設",null,null,null,null,null,null,null,null,null,null,"御中"]
[null,null,null,null,null,null,null,null,null,null,null,null,null,null,null,null,null,null,null,null,null,null,null,null,null,null,null,null,null,null,null,null,null,null,null,null,null,null,null,null,"請求年月日",null,null,null,null,{"$f":"IF(AT4=\"\",\"\",AT4)","v":""},null,null,null,{"$f":"IF(AX96=\"\",\"\",AX96)","v":""},null,null,{"$f":"IF(BA96=\"\",\"\",BA96)","v":""}]
[]
[]
[]
[]
[null,"工事番号",null,null,null,null,{"$f":"IF(G101=\"\",\"\",G101)","v":""},null,null,null,null,null,"工事名",null,null,null,{"$f":"IF(Q101=\"\",\"\",Q101)","v":""},null,null,null,null,null,null,null,null,null,null,null,null,null,null,null,null,null,null,null,null,"業者名",null,null,null,{"$f":"IF(AP101=\"\",\"\",AP101)","v":""}]
[]
[]
[]
[]
[]
[null,"注文番号",null,null,null,null,{"$f":"IF(G107=\"\",\"\",G107)","v":""},null,null,null,null,null,null,null,null,null,null,"月　日",null,null,null,"品　名・内　訳",null,null,null,null,null,null,null,null,null,null,null,null,null,null,null,"数 量",null,null,"単位",null,null,"単価",null,null,null,null,{"$f":"AW15","v":"金額(税抜)"}]
[]
[]
[]
[null,"契約金額",null,null,null,null,{"$f":"IF(G111=\"\",\"\",G111)","v":""},null,null,null,null,null,null,null,null,null,null,{"$f":"IF(R111=\"\",\"\",R111)","v":""},null,{"$f":"IF(T111=\"\",\"\",T111)","v":""},null,{"$f":"IF(V111=\"\",\"\",V111)","v":""},null,{"$f":"IF(X111=\"\",\"\",X111)","v":""},null,{"$f":"IF(Z111=\"\",\"\",Z111)","v":""},null,{"$f":"IF(AB111=\"\",\"\",AB111)","v":""},null,{"$f":"IF(AD111=\"\",\"\",AD111)","v":""},null,{"$f":"IF(AF111=\"\",\"\",AF111)","v":""},null,{"$f":"IF(AH111=\"\",\"\",AH111)","v":""},null,{"$f":"IF(AJ111=\"\",\"\",AJ111)","v":""},null,{"$f":"IF(AL111=\"\",\"\",AL111)","v":""},null,null,{"$f":"IF(AO111=\"\",\"\",AO111)","v":""},null,null,{"$f":"IF(AR111=\"\",\"\",AR111)","v":""},null,null,null,null,{"$f":"IF(AW111=\"\",\"\",AW111)","v":""}]
[]
[]
[]
[null,"増減額",null,null,null,null,{"$f":"IF(G115=\"\",\"\",G115)","v":""},null,null,null,null,null,null,null,null,null,null,{"$f":"IF(R115=\"\",\"\",R115)","v":""},null,{"$f":"IF(T115=\"\",\"\",T115)","v":""},null,{"$f":"IF(V115=\"\",\"\",V115)","v":""},null,{"$f":"IF(X115=\"\",\"\",X115)","v":""},null,{"$f":"IF(Z115=\"\",\"\",Z115)","v":""},null,{"$f":"IF(AB115=\"\",\"\",AB115)","v":""},null,{"$f":"IF(AD115=\"\",\"\",AD115)","v":""},null,{"$f":"IF(AF115=\"\",\"\",AF115)","v":""},null,{"$f":"IF(AH115=\"\",\"\",AH115)","v":""},null,{"$f":"IF(AJ115=\"\",\"\",AJ115)","v":""},null,{"$f":"IF(AL115=\"\",\"\",AL115)","v":""},null,null,{"$f":"IF(AO115=\"\",\"\",AO115)","v":""},null,null,{"$f":"IF(AR115=\"\",\"\",AR115)","v":""},null,null,null,null,{"$f":"IF(AW115=\"\",\"\",AW115)","v":""}]
[]
[]
[]
[null,"前回までの\n請求額",null,null,null,null,{"$f":"IF(G119=\"\",\"\",G119)","v":""},null,null,null,null,null,null,null,null,null,null,{"$f":"IF(R119=\"\",\"\",R119)","v":""},null,{"$f":"IF(T119=\"\",\"\",T119)","v":""},null,{"$f":"IF(V119=\"\",\"\",V119)","v":""},null,{"$f":"IF(X119=\"\",\"\",X119)","v":""},null,{"$f":"IF(Z119=\"\",\"\",Z119)","v":""},null,{"$f":"IF(AB119=\"\",\"\",AB119)","v":""},null,{"$f":"IF(AD119=\"\",\"\",AD119)","v":""},null,{"$f":"IF(AF119=\"\",\"\",AF119)","v":""},null,{"$f":"IF(AH119=\"\",\"\",AH119)","v":""},null,{"$f":"IF(AJ119=\"\",\"\",AJ119)","v":""},null,{"$f":"IF(AL119=\"\",\"\",AL119)","v":""},null,null,{"$f":"IF(AO119=\"\",\"\",AO119)","v":""},null,null,{"$f":"IF(AR119=\"\",\"\",AR119)","v":""},null,null,null,null,{"$f":"IF(AW119=\"\",\"\",AW119)","v":""}]
[]
[]
[]
[null,"今回\n請求額",null,null,{"$f":"IF(E31=\"\",\"\",E31)","v":""},null,{"$f":"IF(G123=\"\",\"\",G123)","v":""},null,null,null,null,null,null,null,null,null,null,{"$f":"IF(R123=\"\",\"\",R123)","v":""},null,{"$f":"IF(T123=\"\",\"\",T123)","v":""},null,{"$f":"IF(V123=\"\",\"\",V123)","v":""},null,{"$f":"IF(X123=\"\",\"\",X123)","v":""},null,{"$f":"IF(Z123=\"\",\"\",Z123)","v":""},null,{"$f":"IF(AB123=\"\",\"\",AB123)","v":""},null,{"$f":"IF(AD123=\"\",\"\",AD123)","v":""},null,{"$f":"IF(AF123=\"\",\"\",AF123)","v":""},null,{"$f":"IF(AH123=\"\",\"\",AH123)","v":""},null,{"$f":"IF(AJ123=\"\",\"\",AJ123)","v":""},null,{"$f":"IF(AL123=\"\",\"\",AL123)","v":""},null,null,{"$f":"IF(AO123=\"\",\"\",AO123)","v":""},null,null,{"$f":"IF(AR123=\"\",\"\",AR123)","v":""},null,null,null,null,{"$f":"IF(AW123=\"\",\"\",AW123)","v":""}]
[]
[]
[]
[null,"差引残高",null,null,null,null,{"$f":"IF(G203=\"\",\"\",G203+G207-G211-G215)","v":""},null,null,null,null,null,null,null,null,null,null,{"$f":"IF(R127=\"\",\"\",R127)","v":""},null,{"$f":"IF(T127=\"\",\"\",T127)","v":""},null,{"$f":"IF(V127=\"\",\"\",V127)","v":""},null,{"$f":"IF(X127=\"\",\"\",X127)","v":""},null,{"$f":"IF(Z127=\"\",\"\",Z127)","v":""},null,{"$f":"IF(AB127=\"\",\"\",AB127)","v":""},null,{"$f":"IF(AD127=\"\",\"\",AD127)","v":""},null,{"$f":"IF(AF127=\"\",\"\",AF127)","v":""},null,{"$f":"IF(AH127=\"\",\"\",AH127)","v":""},null,{"$f":"IF(AJ127=\"\",\"\",AJ127)","v":""},null,{"$f":"IF(AL127=\"\",\"\",AL127)","v":""},null,null,{"$f":"IF(AO127=\"\",\"\",AO127)","v":""},null,null,{"$f":"IF(AR127=\"\",\"\",AR127)","v":""},null,null,null,null,{"$f":"IF(AW127=\"\",\"\",AW127)","v":""}]
[]
[]
[]
[null,null,null,null,null,null,null,null,null,null,null,null,null,null,null,null,null,{"$f":"IF(R131=\"\",\"\",R131)","v":""},null,{"$f":"IF(T131=\"\",\"\",T131)","v":""},null,{"$f":"IF(V131=\"\",\"\",V131)","v":""},null,{"$f":"IF(X131=\"\",\"\",X131)","v":""},null,{"$f":"IF(Z131=\"\",\"\",Z131)","v":""},null,{"$f":"IF(AB131=\"\",\"\",AB131)","v":""},null,{"$f":"IF(AD131=\"\",\"\",AD131)","v":""},null,{"$f":"IF(AF131=\"\",\"\",AF131)","v":""},null,{"$f":"IF(AH131=\"\",\"\",AH131)","v":""},null,{"$f":"IF(AJ131=\"\",\"\",AJ131)","v":""},null,{"$f":"IF(AL131=\"\",\"\",AL131)","v":""},null,null,{"$f":"IF(AO131=\"\",\"\",AO131)","v":""},null,null,{"$f":"IF(AR131=\"\",\"\",AR131)","v":""},null,null,null,null,{"$f":"IF(AW131=\"\",\"\",AW131)","v":""}]
[]
[]
[]
[null,null,null,null,null,null,null,null,null,null,null,null,null,null,null,null,null,{"$f":"IF(R135=\"\",\"\",R135)","v":""},null,{"$f":"IF(T135=\"\",\"\",T135)","v":""},null,{"$f":"IF(V135=\"\",\"\",V135)","v":""},null,{"$f":"IF(X135=\"\",\"\",X135)","v":""},null,{"$f":"IF(Z135=\"\",\"\",Z135)","v":""},null,{"$f":"IF(AB135=\"\",\"\",AB135)","v":""},null,{"$f":"IF(AD135=\"\",\"\",AD135)","v":""},null,{"$f":"IF(AF135=\"\",\"\",AF135)","v":""},null,{"$f":"IF(AH135=\"\",\"\",AH135)","v":""},null,{"$f":"IF(AJ135=\"\",\"\",AJ135)","v":""},null,{"$f":"IF(AL135=\"\",\"\",AL135)","v":""},null,null,{"$f":"IF(AO135=\"\",\"\",AO135)","v":""},null,null,{"$f":"IF(AR135=\"\",\"\",AR135)","v":""},null,null,null,null,{"$f":"IF(AW135=\"\",\"\",AW135)","v":""}]
[]
[]
[]
[null,null,null,null,null,null,null,null,null,null,null,null,null,null,null,null,null,{"$f":"IF(R139=\"\",\"\",R139)","v":""},null,{"$f":"IF(T139=\"\",\"\",T139)","v":""},null,{"$f":"IF(V139=\"\",\"\",V139)","v":""},null,{"$f":"IF(X139=\"\",\"\",X139)","v":""},null,{"$f":"IF(Z139=\"\",\"\",Z139)","v":""},null,{"$f":"IF(AB139=\"\",\"\",AB139)","v":""},null,{"$f":"IF(AD139=\"\",\"\",AD139)","v":""},null,{"$f":"IF(AF139=\"\",\"\",AF139)","v":""},null,{"$f":"IF(AH139=\"\",\"\",AH139)","v":""},null,{"$f":"IF(AJ139=\"\",\"\",AJ139)","v":""},null,{"$f":"IF(AL139=\"\",\"\",AL139)","v":""},null,null,{"$f":"IF(AO139=\"\",\"\",AO139)","v":""},null,null,{"$f":"IF(AR139=\"\",\"\",AR139)","v":""},null,null,null,null,{"$f":"IF(AW139=\"\",\"\",AW139)","v":""}]
[]
[]
[]
[null,null,null,null,null,null,null,null,null,null,null,null,null,null,null,null,null,{"$f":"IF(R143=\"\",\"\",R143)","v":""},null,{"$f":"IF(T143=\"\",\"\",T143)","v":""},null,{"$f":"IF(V143=\"\",\"\",V143)","v":""},null,{"$f":"IF(X143=\"\",\"\",X143)","v":""},null,{"$f":"IF(Z143=\"\",\"\",Z143)","v":""},null,{"$f":"IF(AB143=\"\",\"\",AB143)","v":""},null,{"$f":"IF(AD143=\"\",\"\",AD143)","v":""},null,{"$f":"IF(AF143=\"\",\"\",AF143)","v":""},null,{"$f":"IF(AH143=\"\",\"\",AH143)","v":""},null,{"$f":"IF(AJ143=\"\",\"\",AJ143)","v":""},null,{"$f":"IF(AL143=\"\",\"\",AL143)","v":""},null,null,{"$f":"IF(AO143=\"\",\"\",AO143)","v":""},null,null,{"$f":"IF(AR143=\"\",\"\",AR143)","v":""},null,null,null,null,{"$f":"IF(AW143=\"\",\"\",AW143)","v":""}]
[]
[]
[]
[null,null,null,null,null,null,null,null,null,null,null,null,null,null,null,null,null,{"$f":"IF(R147=\"\",\"\",R147)","v":""},null,{"$f":"IF(T147=\"\",\"\",T147)","v":""},null,{"$f":"IF(V147=\"\",\"\",V147)","v":""},null,{"$f":"IF(X147=\"\",\"\",X147)","v":""},null,{"$f":"IF(Z147=\"\",\"\",Z147)","v":""},null,{"$f":"IF(AB147=\"\",\"\",AB147)","v":""},null,{"$f":"IF(AD147=\"\",\"\",AD147)","v":""},null,{"$f":"IF(AF147=\"\",\"\",AF147)","v":""},null,{"$f":"IF(AH147=\"\",\"\",AH147)","v":""},null,{"$f":"IF(AJ147=\"\",\"\",AJ147)","v":""},null,{"$f":"IF(AL147=\"\",\"\",AL147)","v":""},null,null,{"$f":"IF(AO147=\"\",\"\",AO147)","v":""},null,null,{"$f":"IF(AR147=\"\",\"\",AR147)","v":""},null,null,null,null,{"$f":"IF(AW147=\"\",\"\",AW147)","v":""}]
[]
[]
[]
[null,null,null,null,null,null,null,null,null,null,null,null,null,null,null,null,null,{"$f":"IF(R151=\"\",\"\",R151)","v":""},null,{"$f":"IF(T151=\"\",\"\",T151)","v":""},null,{"$f":"IF(V151=\"\",\"\",V151)","v":""},null,{"$f":"IF(X151=\"\",\"\",X151)","v":""},null,{"$f":"IF(Z151=\"\",\"\",Z151)","v":""},null,{"$f":"IF(AB151=\"\",\"\",AB151)","v":""},null,{"$f":"IF(AD151=\"\",\"\",AD151)","v":""},null,{"$f":"IF(AF151=\"\",\"\",AF151)","v":""},null,{"$f":"IF(AH151=\"\",\"\",AH151)","v":""},null,{"$f":"IF(AJ151=\"\",\"\",AJ151)","v":""},null,{"$f":"IF(AL151=\"\",\"\",AL151)","v":""},null,null,{"$f":"IF(AO151=\"\",\"\",AO151)","v":""},null,null,{"$f":"IF(AR151=\"\",\"\",AR151)","v":""},null,null,null,null,{"$f":"IF(AW151=\"\",\"\",AW151)","v":""}]
[]
[]
[]
[null,null,null,null,null,null,null,null,null,null,null,null,null,null,null,null,null,{"$f":"IF(R155=\"\",\"\",R155)","v":""},null,{"$f":"IF(T155=\"\",\"\",T155)","v":""},null,{"$f":"IF(V155=\"\",\"\",V155)","v":""},null,{"$f":"IF(X155=\"\",\"\",X155)","v":""},null,{"$f":"IF(Z155=\"\",\"\",Z155)","v":""},null,{"$f":"IF(AB155=\"\",\"\",AB155)","v":""},null,{"$f":"IF(AD155=\"\",\"\",AD155)","v":""},null,{"$f":"IF(AF155=\"\",\"\",AF155)","v":""},null,{"$f":"IF(AH155=\"\",\"\",AH155)","v":""},null,{"$f":"IF(AJ155=\"\",\"\",AJ155)","v":""},null,{"$f":"IF(AL155=\"\",\"\",AL155)","v":""},null,null,{"$f":"IF(AO155=\"\",\"\",AO155)","v":""},null,null,{"$f":"IF(AR155=\"\",\"\",AR155)","v":""},null,null,null,null,{"$f":"IF(AW155=\"\",\"\",AW155)","v":""}]
[]
[]
[]
[null,null,null,null,null,null,null,null,null,null,null,null,null,null,null,null,null,{"$f":"IF(R159=\"\",\"\",R159)","v":""},null,{"$f":"IF(T159=\"\",\"\",T159)","v":""},null,{"$f":"IF(V159=\"\",\"\",V159)","v":""},null,{"$f":"IF(X159=\"\",\"\",X159)","v":""},null,{"$f":"IF(Z159=\"\",\"\",Z159)","v":""},null,{"$f":"IF(AB159=\"\",\"\",AB159)","v":""},null,{"$f":"IF(AD159=\"\",\"\",AD159)","v":""},null,{"$f":"IF(AF159=\"\",\"\",AF159)","v":""},null,{"$f":"IF(AH159=\"\",\"\",AH159)","v":""},null,{"$f":"IF(AJ159=\"\",\"\",AJ159)","v":""},null,{"$f":"IF(AL159=\"\",\"\",AL159)","v":""},null,null,{"$f":"IF(AO159=\"\",\"\",AO159)","v":""},null,null,{"$f":"IF(AR159=\"\",\"\",AR159)","v":""},null,null,null,null,{"$f":"IF(AW159=\"\",\"\",AW159)","v":""}]
[]
[]
[]
[null,null,null,null,null,null,null,null,null,null,null,null,null,null,null,null,null,{"$f":"IF(R163=\"\",\"\",R163)","v":""},null,{"$f":"IF(T163=\"\",\"\",T163)","v":""},null,{"$f":"IF(V163=\"\",\"\",V163)","v":""},null,{"$f":"IF(X163=\"\",\"\",X163)","v":""},null,{"$f":"IF(Z163=\"\",\"\",Z163)","v":""},null,{"$f":"IF(AB163=\"\",\"\",AB163)","v":""},null,{"$f":"IF(AD163=\"\",\"\",AD163)","v":""},null,{"$f":"IF(AF163=\"\",\"\",AF163)","v":""},null,{"$f":"IF(AH163=\"\",\"\",AH163)","v":""},null,{"$f":"IF(AJ163=\"\",\"\",AJ163)","v":""},null,{"$f":"IF(AL163=\"\",\"\",AL163)","v":""},null,null,{"$f":"IF(AO163=\"\",\"\",AO163)","v":""},null,null,{"$f":"IF(AR163=\"\",\"\",AR163)","v":""},null,null,null,null,{"$f":"IF(AW163=\"\",\"\",AW163)","v":""}]
[]
[]
[]
[null,null,null,null,null,null,null,null,null,null,null,null,null,null,null,null,null,{"$f":"IF(R167=\"\",\"\",R167)","v":""},null,{"$f":"IF(T167=\"\",\"\",T167)","v":""},null,{"$f":"IF(V167=\"\",\"\",V167)","v":""},null,{"$f":"IF(X167=\"\",\"\",X167)","v":""},null,{"$f":"IF(Z167=\"\",\"\",Z167)","v":""},null,{"$f":"IF(AB167=\"\",\"\",AB167)","v":""},null,{"$f":"IF(AD167=\"\",\"\",AD167)","v":""},null,{"$f":"IF(AF167=\"\",\"\",AF167)","v":""},null,{"$f":"IF(AH167=\"\",\"\",AH167)","v":""},null,{"$f":"IF(AJ167=\"\",\"\",AJ167)","v":""},null,{"$f":"IF(AL167=\"\",\"\",AL167)","v":""},null,null,{"$f":"IF(AO167=\"\",\"\",AO167)","v":""},null,null,{"$f":"IF(AR167=\"\",\"\",AR167)","v":""},null,null,null,null,{"$f":"IF(AW167=\"\",\"\",AW167)","v":""}]
[]
[]
[]
[null,null,null,null,null,null,null,null,null,null,null,null,null,null,null,null,null,{"$f":"IF(R171=\"\",\"\",R171)","v":""},null,{"$f":"IF(T171=\"\",\"\",T171)","v":""},null,{"$f":"IF(V171=\"\",\"\",V171)","v":""},null,{"$f":"IF(X171=\"\",\"\",X171)","v":""},null,{"$f":"IF(Z171=\"\",\"\",Z171)","v":""},null,{"$f":"IF(AB171=\"\",\"\",AB171)","v":""},null,{"$f":"IF(AD171=\"\",\"\",AD171)","v":""},null,{"$f":"IF(AF171=\"\",\"\",AF171)","v":""},null,{"$f":"IF(AH171=\"\",\"\",AH171)","v":""},null,{"$f":"IF(AJ171=\"\",\"\",AJ171)","v":""},null,{"$f":"IF(AL171=\"\",\"\",AL171)","v":""},null,null,{"$f":"IF(AO171=\"\",\"\",AO171)","v":""},null,null,{"$f":"IF(AR171=\"\",\"\",AR171)","v":""},null,null,null,null,{"$f":"IF(AW171=\"\",\"\",AW171)","v":""}]
[]
[]
[]
[null,null,null,null,null,null,null,null,null,null,null,null,null,null,null,null,null,null,null,null,null,null,null,null,null,null,null,null,null,null,null,null,null,null,null,null,null,{"$f":"AL175","v":"金額(税抜)"},null,null,null,null,null,null,null,null,null,null,{"$f":"AW83","v":""}]
[]
[]
[]
[]
[null,null,null,null,null,null,null,null,null,null,null,null,null,null,null,null,null,null,null,null,null,null,null,null,null,null,null,null,null,null,null,null,null,null,null,null,null,{"$f":"AL180","v":"消費税"},null,null,null,null,null,"税率",null,null,"税調",null,{"$f":"AW88","v":""}]
[]
[null,null,null,null,null,null,null,null,null,null,null,null,null,null,null,null,null,null,null,null,null,null,null,null,null,null,null,null,null,null,null,null,null,null,null,null,null,null,null,null,null,null,null,{"$f":"AR90","v":0},null,{"$f":"AT90","v":""}]

{"sheet":"細2-2","index":17,"n_rows":274,"n_cols":53,"rows_kept":274,"cut":false,"hidden":false,"merged":[[266,37,269,47],[266,48,269,54],[258,48,261,54],[262,17,265,18],[262,19,265,20],[262,21,265,36],[262,37,265,39],[258,43,261,47],[271,48,274,54],[262,40,265,42],[262,43,265,47],[262,48,265,54],[258,17,261,18],[258,19,261,20],[258,21,261,36],[258,37,261,39],[258,40,261,42],[271,37,274,42],[271,43,272,45],[273,43,274,44],[273,45,274,45],[273,46,274,47],[271,46,272,47],[250,48,253,54],[254,17,257,18],[254,19,257,20],[254,21,257,36],[254,37,257,39],[254,40,257,42],[254,43,257,47],[254,48,257,54],[250,17,253,18],[250,19,253,20],[250,21,253,36],[250,37,253,39],[250,40,253,42],[250,43,253,47],[242,48,245,54],[246,17,249,18],[246,19,249,20],[246,21,249,36],[246,37,249,39],[246,40,249,42],[246,43,249,47],[246,48,249,54],[242,17,245,18],[242,19,245,20],[242,21,245,36],[242,37,245,39],[242,40,245,42],[242,43,245,47],[234,48,237,54],[238,17,241,18],[238,19,241,20],[238,21,241,36],[238,37,241,39],[238,40,241,42],[238,43,241,47],[238,48,241,54],[234,17,237,18],[234,19,237,20],[234,21,237,36],[234,37,237,39],[234,40,237,42],[234,43,237,47],[222,17,225,18],[222,19,225,20],[222,21,225,36],[222,37,225,39],[222,40,225,42],[222,43,225,47],[222,48,225,54],[226,48,229,54],[230,17,233,18],[230,19,233,20],[230,21,233,36],[230,37,233,39],[230,40,233,42],[230,43,233,47],[230,48,233,54],[226,17,229,18],[226,19,229,20],[226,21,229,36],[226,37,229,39],[226,40,229,42],[226,43,229,47],[218,1,221,5],[218,6,221,15],[218,17,221,18],[218,19,221,20],[218,21,221,36],[218,37,221,39],[218,40,221,42],[218,43,221,47],[218,48,221,54],[210,40,213,42],[210,43,213,47],[210,48,213,54],[214,1,217,3],[214,4,217,5],[214,6,217,15],[214,17,217,18],[214,19,217,20],[214,21,217,36],[214,37,217,39],[210,1,213,5],[210,6,213,15],[210,17,213,18],[210,19,213,20],[210,21,213,36],[210,37,213,39],[214,40,217,42],[214,43,217,47],[214,48,217,54],[206,1,209,5],[206,6,209,15],[206,17,209,18],[206,19,209,20],[206,21,209,36],[206,37,209,39],[206,40,209,42],[206,43,209,47],[206,48,209,54],[198,43,201,47],[198,48,201,54],[202,1,205,5],[202,6,205,15],[202,17,205,18],[202,19,205,20],[202,21,205,36],[202,37,205,39],[202,40,205,42],[202,43,205,47],[198,1,201,5],[198,6,201,15],[198,17,201,20],[198,21,201,36],[198,37,201,39],[198,40,201,42],[202,48,205,54],[187,52,189,54],[192,1,195,5],[192,6,195,11],[192,12,195,15],[192,16,195,35],[192,37,195,40],[192,41,195,54],[185,19,188,32],[186,1,189,11],[186,12,189,13],[187,49,189,51],[187,40,189,44],[187,45,189,48],[174,37,177,47],[174,48,177,54],[179,48,182,54],[170,17,173,18],[170,19,173,20],[170,21,173,36],[170,37,173,39],[170,40,173,42],[170,43,173,47],[170,48,173,54],[179,37,182,42],[179,43,180,45],[179,46,180,47],[181,43,182,44],[181,45,182,45],[181,46,182,47],[166,17,169,18],[166,19,169,20],[162,43,165,47],[162,48,165,54],[158,17,161,18],[158,19,161,20],[158,21,161,36],[158,37,161,39],[158,40,161,42],[162,17,165,18],[162,19,165,20],[162,21,165,36],[162,37,165,39],[162,40,165,42],[166,48,169,54],[158,43,161,47],[166,21,169,36],[166,37,169,39],[166,40,169,42],[166,43,169,47],[158,48,161,54],[154,48,157,54],[150,17,153,18],[150,19,153,20],[146,43,149,47],[146,48,149,54],[142,17,145,18],[142,19,145,20],[142,21,145,36],[142,37,145,39],[142,40,145,42],[154,17,157,18],[154,19,157,20],[154,21,157,36],[154,37,157,39],[154,40,157,42],[154,43,157,47],[146,17,149,18],[146,19,149,20],[146,21,149,36],[146,37,149,39],[146,40,149,42],[150,48,153,54],[142,43,145,47],[150,21,153,36],[150,37,153,39],[150,40,153,42],[150,43,153,47],[142,48,145,54],[130,48,133,54],[134,48,137,54],[130,17,133,18],[130,19,133,20],[130,21,133,36],[130,37,133,39],[130,40,133,42],[130,43,133,47],[138,48,141,54],[134,17,137,18],[134,19,137,20],[134,21,137,36],[134,37,137,39],[134,40,137,42],[134,43,137,47],[138,17,141,18],[138,19,141,20],[138,21,141,36],[138,37,141,39],[138,40,141,42],[138,43,141,47],[126,1,129,5],[126,6,129,15],[126,17,129,18],[126,19,129,20],[126,21,129,36],[126,37,129,39],[126,40,129,42],[126,43,129,47],[126,48,129,54],[118,40,121,42],[118,43,121,47],[118,48,121,54],[122,1,125,3],[122,4,125,5],[122,6,125,15],[122,17,125,18],[122,19,125,20],[122,21,125,36],[122,37,125,39],[118,1,121,5],[118,6,121,15],[118,17,121,18],[118,19,121,20],[118,21,121,36],[118,37,121,39],[122,40,125,42],[122,43,125,47],[122,48,125,54],[114,1,117,5],[114,6,117,15],[114,17,117,18],[114,19,117,20],[114,21,117,36],[114,37,117,39],[114,40,117,42],[114,43,117,47],[114,48,117,54],[106,43,109,47],[106,48,109,54],[110,1,113,5],[110,6,113,15],[110,17,113,18],[110,19,113,20],[110,21,113,36],[110,37,113,39],[110,40,113,42],[110,43,113,47],[106,1,109,5],[106,6,109,15],[106,17,109,20],[106,21,109,36],[106,37,109,39],[106,40,109,42],[110,48,113,54],[89,46,90,47],[87,46,88,47],[95,49,97,51],[95,52,97,54],[100,1,103,5],[100,6,103,11],[100,12,103,15],[100,16,103,35],[100,37,103,40],[100,41,103,54],[93,19,96,32],[94,1,97,11],[94,12,97,13],[95,40,97,44],[95,45,97,48],[83,1,84,4],[83,5,84,10],[83,11,84,16],[83,17,84,25],[85,1,90,4],[85,5,90,10],[85,11,90,16],[85,17,90,25],[89,45,90,45],[78,43,81,47],[83,26,84,30],[83,31,84,35],[78,17,81,18],[78,19,81,20],[78,21,81,36],[85,26,90,30],[85,31,90,35],[74,48,77,54],[87,48,90,54],[78,48,81,54],[82,37,85,47],[82,48,85,54],[78,37,81,39],[78,40,81,42],[74,17,77,18],[74,19,77,20],[74,21,77,36],[74,37,77,39],[74,40,77,42],[74,43,77,47],[87,37,90,42],[87,43,88,45],[89,43,90,44],[66,48,69,54],[70,17,73,18],[70,19,73,20],[70,21,73,36],[70,37,73,39],[70,40,73,42],[70,43,73,47],[70,48,73,54],[66,17,69,18],[66,19,69,20],[66,21,69,36],[66,37,69,39],[66,40,69,42],[66,43,69,47],[58,48,61,54],[62,17,65,18],[62,19,65,20],[62,21,65,36],[62,37,65,39],[62,40,65,42],[62,43,65,47],[62,48,65,54],[58,17,61,18],[58,19,61,20],[58,21,61,36],[58,37,61,39],[58,40,61,42],[58,43,61,47],[50,48,53,54],[54,17,57,18],[54,19,57,20],[54,21,57,36],[54,37,57,39],[54,40,57,42],[54,43,57,47],[54,48,57,54],[50,17,53,18],[50,19,53,20],[50,21,53,36],[50,37,53,39],[50,40,53,42],[50,43,53,47],[38,17,41,18],[38,19,41,20],[38,21,41,36],[38,37,41,39],[38,40,41,42],[38,43,41,47],[38,48,41,54],[42,48,45,54],[46,17,49,18],[46,19,49,20],[46,21,49,36],[46,37,49,39],[46,40,49,42],[46,43,49,47],[46,48,49,54],[42,17,45,18],[42,19,45,20],[42,21,45,36],[42,37,45,39],[42,40,45,42],[42,43,45,47],[34,1,37,5],[34,6,37,15],[34,17,37,18],[34,19,37,20],[34,21,37,36],[34,37,37,39],[34,40,37,42],[34,43,37,47],[34,48,37,54],[26,40,29,42],[26,43,29,47],[26,48,29,54],[30,1,33,3],[30,4,33,5],[30,6,33,15],[30,17,33,18],[30,19,33,20],[30,21,33,36],[30,37,33,39],[26,1,29,5],[26,6,29,15],[26,17,29,18],[26,19,29,20],[26,21,29,36],[26,37,29,39],[30,40,33,42],[30,43,33,47],[30,48,33,54],[22,1,25,5],[22,6,25,15],[22,17,25,18],[22,19,25,20],[22,21,25,36],[22,37,25,39],[22,40,25,42],[22,43,25,47],[22,48,25,54],[14,43,17,47],[14,48,17,54],[18,1,21,5],[18,6,21,15],[18,17,21,18],[18,19,21,20],[18,21,21,36],[18,37,21,39],[18,40,21,42],[18,43,21,47],[14,1,17,5],[14,6,17,15],[14,17,17,20],[14,21,17,36],[14,37,17,39],[14,40,17,42],[18,48,21,54],[3,52,5,54],[8,37,11,40],[8,41,11,54],[1,19,4,32],[2,1,5,11],[2,12,5,13],[8,1,11,5],[8,6,11,11],[8,12,11,15],[8,16,11,35],[3,49,5,51],[3,40,5,44],[3,45,5,48]]}
[]
[null,null,null,null,null,null,null,null,null,null,null,null,null,null,null,null,null,null,null,"請求書明細書 (正)"]
[null,"株 式 会 社 種 村 建 設",null,null,null,null,null,null,null,null,null,null,"御中"]
[null,null,null,null,null,null,null,null,null,null,null,null,null,null,null,null,null,null,null,null,null,null,null,null,null,null,null,null,null,null,null,null,null,null,null,null,null,null,null,null,"請求年月日",null,null,null,null,{"$f":"IF(年=\"\",\"\",年)","v":""},null,null,null,{"$f":"IF(月=\"\",\"\",月)","v":""},null,null,{"$f":"IF(日=\"\",\"\",日)","v":""}]
[]
[]
[]
[]
[null,"工事番号",null,null,null,null,null,null,null,null,null,null,"工事名",null,null,null,null,null,null,null,null,null,null,null,null,null,null,null,null,null,null,null,null,null,null,null,null,"業者名",null,null,null,{"$f":"IF(社名=\"\",\"\",社名)","v":""}]
[]
[]
[]
[]
[]
[null,"注文番号",null,null,null,null,null,null,null,null,null,null,null,null,null,null,null,"月　日",null,null,null,"品　名・内　訳",null,null,null,null,null,null,null,null,null,null,null,null,null,null,null,"数 量",null,null,"単位",null,null,"単価",null,null,null,null,{"$f":"表紙①!P35","v":"金額(税抜)"}]
[]
[]
[]
[null,"契約金額",null,null,null,null,null,null,null,null,null,null,null,null,null,null,null,null,null,null,null,null,null,null,null,null,null,null,null,null,null,null,null,null,null,null,null,null,null,null,null,null,null,null,null,null,null,null,{"$f":"IF(V19=\"\",\"\",ROUND(AL19*AR19,0))","v":""}]
[]
[]
[]
[null,"増減額",null,null,null,null,null,null,null,null,null,null,null,null,null,null,null,null,null,null,null,null,null,null,null,null,null,null,null,null,null,null,null,null,null,null,null,null,null,null,null,null,null,null,null,null,null,null,{"$f":"IF(V23=\"\",\"\",ROUND(AL23*AR23,0))","v":""}]
[]
[]
[]
[null,"前回までの\n請求額",null,null,null,null,null,null,null,null,null,null,null,null,null,null,null,null,null,null,null,null,null,null,null,null,null,null,null,null,null,null,null,null,null,null,null,null,null,null,null,null,null,null,null,null,null,null,{"$f":"IF(V27=\"\",\"\",ROUND(AL27*AR27,0))","v":""}]
[]
[]
[]
[null,"今回\n請求額",null,null,null,null,null,null,null,null,null,null,null,null,null,null,null,null,null,null,null,null,null,null,null,null,null,null,null,null,null,null,null,null,null,null,null,null,null,null,null,null,null,null,null,null,null,null,{"$f":"IF(V31=\"\",\"\",ROUND(AL31*AR31,0))","v":""}]
[]
[]
[]
[null,"差引残高",null,null,null,null,{"$f":"IF(G19=\"\",\"\",G19+G23-G27-G31)","v":""},null,null,null,null,null,null,null,null,null,null,null,null,null,null,null,null,null,null,null,null,null,null,null,null,null,null,null,null,null,null,null,null,null,null,null,null,null,null,null,null,null,{"$f":"IF(V35=\"\",\"\",ROUND(AL35*AR35,0))","v":""}]
[]
[]
[]
[null,null,null,null,null,null,null,null,null,null,null,null,null,null,null,null,null,null,null,null,null,null,null,null,null,null,null,null,null,null,null,null,null,null,null,null,null,null,null,null,null,null,null,null,null,null,null,null,{"$f":"IF(V39=\"\",\"\",ROUND(AL39*AR39,0))","v":""}]
[]
[]
[]
[null,null,null,null,null,null,null,null,null,null,null,null,null,null,null,null,null,null,null,null,null,null,null,null,null,null,null,null,null,null,null,null,null,null,null,null,null,null,null,null,null,null,null,null,null,null,null,null,{"$f":"IF(V43=\"\",\"\",ROUND(AL43*AR43,0))","v":""}]
[]
[]
[]
[null,null,null,null,null,null,null,null,null,null,null,null,null,null,null,null,null,null,null,null,null,null,null,null,null,null,null,null,null,null,null,null,null,null,null,null,null,null,null,null,null,null,null,null,null,null,null,null,{"$f":"IF(V47=\"\",\"\",ROUND(AL47*AR47,0))","v":""}]
[]
[]
[]
[null,null,null,null,null,null,null,null,null,null,null,null,null,null,null,null,null,null,null,null,null,null,null,null,null,null,null,null,null,null,null,null,null,null,null,null,null,null,null,null,null,null,null,null,null,null,null,null,{"$f":"IF(V51=\"\",\"\",ROUND(AL51*AR51,0))","v":""}]
[]
[]
[]
[null,null,null,null,null,null,null,null,null,null,null,null,null,null,null,null,null,null,null,null,null,null,null,null,null,null,null,null,null,null,null,null,null,null,null,null,null,null,null,null,null,null,null,null,null,null,null,null,{"$f":"IF(V55=\"\",\"\",ROUND(AL55*AR55,0))","v":""}]
[]
[]
[]
[null,null,null,null,null,null,null,null,null,null,null,null,null,null,null,null,null,null,null,null,null,null,null,null,null,null,null,null,null,null,null,null,null,null,null,null,null,null,null,null,null,null,null,null,null,null,null,null,{"$f":"IF(V59=\"\",\"\",ROUND(AL59*AR59,0))","v":""}]
[]
[]
[]
[null,null,null,null,null,null,null,null,null,null,null,null,null,null,null,null,null,null,null,null,null,null,null,null,null,null,null,null,null,null,null,null,null,null,null,null,null,null,null,null,null,null,null,null,null,null,null,null,{"$f":"IF(V63=\"\",\"\",ROUND(AL63*AR63,0))","v":""}]
[]
[]
[]
[null,null,null,null,null,null,null,null,null,null,null,null,null,null,null,null,null,null,null,null,null,null,null,null,null,null,null,null,null,null,null,null,null,null,null,null,null,null,null,null,null,null,null,null,null,null,null,null,{"$f":"IF(V67=\"\",\"\",ROUND(AL67*AR67,0))","v":""}]
[]
[]
[]
[null,null,null,null,null,null,null,null,null,null,null,null,null,null,null,null,null,null,null,null,null,null,null,null,null,null,null,null,null,null,null,null,null,null,null,null,null,null,null,null,null,null,null,null,null,null,null,null,{"$f":"IF(V71=\"\",\"\",ROUND(AL71*AR71,0))","v":""}]
[]
[]
[]
[null,null,null,null,null,null,null,null,null,null,null,null,null,null,null,null,null,null,null,null,null,null,null,null,null,null,null,null,null,null,null,null,null,null,null,null,null,null,null,null,null,null,null,null,null,null,null,null,{"$f":"IF(V75=\"\",\"\",ROUND(AL75*AR75,0))","v":""}]
[]
[]
[]
[null,null,null,null,null,null,null,null,null,null,null,null,null,null,null,null,null,null,null,null,null,null,null,null,null,null,null,null,null,null,null,null,null,null,null,null,null,null,null,null,null,null,null,null,null,null,null,null,{"$f":"IF(V79=\"\",\"\",ROUND(AL79*AR79,0))","v":""}]
[]
[]
[]
[null,null,null,null,null,null,null,null,null,null,null,null,null,null,null,null,null,null,null,null,null,null,null,null,null,null,null,null,null,null,null,null,null,null,null,null,null,"金額(税抜)",null,null,null,null,null,null,null,null,null,null,{"$f":"IF(AW19=\"\",\"\",SUM(AW19:AW79))","v":""}]
[null,"社長",null,null,null,"専務",null,null,null,null,null,"常務",null,null,null,null,null,"部長･工場長",null,null,null,null,null,null,null,null,"担当者",null,null,null,null,"受付"]
[]
[]
[]
[null,null,null,null,null,null,null,null,null,null,null,null,null,null,null,null,null,null,null,null,null,null,null,null,null,null,null,null,null,null,null,null,null,null,null,null,null,"消費税",null,null,null,null,null,"税率",null,null,"税調",null,{"$f":"IF(AW83=\"\",\"\",IF(AR90=\"\",\"\",IF(AR90=8.1,ROUND(AW83*8/100,0)+AU90,ROUND(AW83*AR90/100,0)+AU90)))","v":""}]
[]
[null,null,null,null,null,null,null,null,null,null,null,null,null,null,null,null,null,null,null,null,null,null,null,null,null,null,null,null,null,null,null,null,null,null,null,null,null,null,null,null,null,null,null,null,null,{"$f":"IF(AR90=\"\",\"\",IF(AR90=8.1,\"旧\",IF(AR90=8,\"軽\",IF(AR90=0,\"非\",\"\"))))","v":""}]
[]
[]
[]
[null,null,null,null,null,null,null,null,null,null,null,null,null,null,null,null,null,null,null,"請求明細書 (現場控)"]
[null,"株 式 会 社 種 村 建 設",null,null,null,null,null,null,null,null,null,null,"御中"]
[null,null,null,null,null,null,null,null,null,null,null,null,null,null,null,null,null,null,null,null,null,null,null,null,null,null,null,null,null,null,null,null,null,null,null,null,null,null,null,null,"請求年月日",null,null,null,null,{"$f":"IF(AT4=\"\",\"\",AT4)","v":""},null,null,null,{"$f":"IF(AX4=\"\",\"\",AX4)","v":""},null,null,{"$f":"IF(BA4=\"\",\"\",BA4)","v":""}]
[]
[]
[]
[]
[null,"工事番号",null,null,null,null,{"$f":"IF(G9=\"\",\"\",G9)","v":""},null,null,null,null,null,"工事名",null,null,null,{"$f":"IF(Q9=\"\",\"\",Q9)","v":""},null,null,null,null,null,null,null,null,null,null,null,null,null,null,null,null,null,null,null,null,"業者名",null,null,null,{"$f":"IF(AP9=\"\",\"\",AP9)","v":""}]
[]
[]
[]
[]
[]
[null,"注文番号",null,null,null,null,{"$f":"IF(G15=\"\",\"\",G15)","v":""},null,null,null,null,null,null,null,null,null,null,"月　日",null,null,null,"品　名・内　訳",null,null,null,null,null,null,null,null,null,null,null,null,null,null,null,"数 量",null,null,"単位",null,null,"単価",null,null,null,null,{"$f":"AW15","v":"金額(税抜)"}]
[]
[]
[]
[null,"契約金額",null,null,null,null,{"$f":"IF(G19=\"\",\"\",G19)","v":""},null,null,null,null,null,null,null,null,null,null,{"$f":"IF(R19=\"\",\"\",R19)","v":""},null,{"$f":"IF(T19=\"\",\"\",T19)","v":""},null,{"$f":"IF(V19=\"\",\"\",V19)","v":""},null,{"$f":"IF(X19=\"\",\"\",X19)","v":""},null,{"$f":"IF(Z19=\"\",\"\",Z19)","v":""},null,{"$f":"IF(AB19=\"\",\"\",AB19)","v":""},null,{"$f":"IF(AD19=\"\",\"\",AD19)","v":""},null,{"$f":"IF(AF19=\"\",\"\",AF19)","v":""},null,{"$f":"IF(AH19=\"\",\"\",AH19)","v":""},null,{"$f":"IF(AJ19=\"\",\"\",AJ19)","v":""},null,{"$f":"IF(AL19=\"\",\"\",AL19)","v":""},null,null,{"$f":"IF(AO19=\"\",\"\",AO19)","v":""},null,null,{"$f":"IF(AR19=\"\",\"\",AR19)","v":""},null,null,null,null,{"$f":"IF(AW19=\"\",\"\",AW19)","v":""}]
[]
[]
[]
[null,"増減額",null,null,null,null,{"$f":"IF(G23=\"\",\"\",G23)","v":""},null,null,null,null,null,null,null,null,null,null,{"$f":"IF(R23=\"\",\"\",R23)","v":""},null,{"$f":"IF(T23=\"\",\"\",T23)","v":""},null,{"$f":"IF(V23=\"\",\"\",V23)","v":""},null,{"$f":"IF(X23=\"\",\"\",X23)","v":""},null,{"$f":"IF(Z23=\"\",\"\",Z23)","v":""},null,{"$f":"IF(AB23=\"\",\"\",AB23)","v":""},null,{"$f":"IF(AD23=\"\",\"\",AD23)","v":""},null,{"$f":"IF(AF23=\"\",\"\",AF23)","v":""},null,{"$f":"IF(AH23=\"\",\"\",AH23)","v":""},null,{"$f":"IF(AJ23=\"\",\"\",AJ23)","v":""},null,{"$f":"IF(AL23=\"\",\"\",AL23)","v":""},null,null,{"$f":"IF(AO23=\"\",\"\",AO23)","v":""},null,null,{"$f":"IF(AR23=\"\",\"\",AR23)","v":""},null,null,null,null,{"$f":"IF(AW23=\"\",\"\",AW23)","v":""}]
[]
[]
[]
[null,"前回までの\n請求額",null,null,null,null,{"$f":"IF(G27=\"\",\"\",G27)","v":""},null,null,null,null,null,null,null,null,null,null,{"$f":"IF(R27=\"\",\"\",R27)","v":""},null,{"$f":"IF(T27=\"\",\"\",T27)","v":""},null,{"$f":"IF(V27=\"\",\"\",V27)","v":""},null,{"$f":"IF(X27=\"\",\"\",X27)","v":""},null,{"$f":"IF(Z27=\"\",\"\",Z27)","v":""},null,{"$f":"IF(AB27=\"\",\"\",AB27)","v":""},null,{"$f":"IF(AD27=\"\",\"\",AD27)","v":""},null,{"$f":"IF(AF27=\"\",\"\",AF27)","v":""},null,{"$f":"IF(AH27=\"\",\"\",AH27)","v":""},null,{"$f":"IF(AJ27=\"\",\"\",AJ27)","v":""},null,{"$f":"IF(AL27=\"\",\"\",AL27)","v":""},null,null,{"$f":"IF(AO27=\"\",\"\",AO27)","v":""},null,null,{"$f":"IF(AR27=\"\",\"\",AR27)","v":""},null,null,null,null,{"$f":"IF(AW27=\"\",\"\",AW27)","v":""}]
[]
[]
[]
[null,"今回\n請求額",null,null,{"$f":"IF(E31=\"\",\"\",E31)","v":""},null,{"$f":"IF(G31=\"\",\"\",G31)","v":""},null,null,null,null,null,null,null,null,null,null,{"$f":"IF(R31=\"\",\"\",R31)","v":""},null,{"$f":"IF(T31=\"\",\"\",T31)","v":""},null,{"$f":"IF(V31=\"\",\"\",V31)","v":""},null,{"$f":"IF(X31=\"\",\"\",X31)","v":""},null,{"$f":"IF(Z31=\"\",\"\",Z31)","v":""},null,{"$f":"IF(AB31=\"\",\"\",AB31)","v":""},null,{"$f":"IF(AD31=\"\",\"\",AD31)","v":""},null,{"$f":"IF(AF31=\"\",\"\",AF31)","v":""},null,{"$f":"IF(AH31=\"\",\"\",AH31)","v":""},null,{"$f":"IF(AJ31=\"\",\"\",AJ31)","v":""},null,{"$f":"IF(AL31=\"\",\"\",AL31)","v":""},null,null,{"$f":"IF(AO31=\"\",\"\",AO31)","v":""},null,null,{"$f":"IF(AR31=\"\",\"\",AR31)","v":""},null,null,null,null,{"$f":"IF(AW31=\"\",\"\",AW31)","v":""}]
[]
[]
[]
[null,"差引残高",null,null,null,null,{"$f":"IF(G111=\"\",\"\",G111+G115-G119-G123)","v":""},null,null,null,null,null,null,null,null,null,null,{"$f":"IF(R35=\"\",\"\",R35)","v":""},null,{"$f":"IF(T35=\"\",\"\",T35)","v":""},null,{"$f":"IF(V35=\"\",\"\",V35)","v":""},null,{"$f":"IF(X35=\"\",\"\",X35)","v":""},null,{"$f":"IF(Z35=\"\",\"\",Z35)","v":""},null,{"$f":"IF(AB35=\"\",\"\",AB35)","v":""},null,{"$f":"IF(AD35=\"\",\"\",AD35)","v":""},null,{"$f":"IF(AF35=\"\",\"\",AF35)","v":""},null,{"$f":"IF(AH35=\"\",\"\",AH35)","v":""},null,{"$f":"IF(AJ35=\"\",\"\",AJ35)","v":""},null,{"$f":"IF(AL35=\"\",\"\",AL35)","v":""},null,null,{"$f":"IF(AO35=\"\",\"\",AO35)","v":""},null,null,{"$f":"IF(AR35=\"\",\"\",AR35)","v":""},null,null,null,null,{"$f":"IF(AW35=\"\",\"\",AW35)","v":""}]
[]
[]
[]
[null,null,null,null,null,null,null,null,null,null,null,null,null,null,null,null,null,{"$f":"IF(R39=\"\",\"\",R39)","v":""},null,{"$f":"IF(T39=\"\",\"\",T39)","v":""},null,{"$f":"IF(V39=\"\",\"\",V39)","v":""},null,{"$f":"IF(X39=\"\",\"\",X39)","v":""},null,{"$f":"IF(Z39=\"\",\"\",Z39)","v":""},null,{"$f":"IF(AB39=\"\",\"\",AB39)","v":""},null,{"$f":"IF(AD39=\"\",\"\",AD39)","v":""},null,{"$f":"IF(AF39=\"\",\"\",AF39)","v":""},null,{"$f":"IF(AH39=\"\",\"\",AH39)","v":""},null,{"$f":"IF(AJ39=\"\",\"\",AJ39)","v":""},null,{"$f":"IF(AL39=\"\",\"\",AL39)","v":""},null,null,{"$f":"IF(AO39=\"\",\"\",AO39)","v":""},null,null,{"$f":"IF(AR39=\"\",\"\",AR39)","v":""},null,null,null,null,{"$f":"IF(AW39=\"\",\"\",AW39)","v":""}]
[]
[]
[]
[null,null,null,null,null,null,null,null,null,null,null,null,null,null,null,null,null,{"$f":"IF(R43=\"\",\"\",R43)","v":""},null,{"$f":"IF(T43=\"\",\"\",T43)","v":""},null,{"$f":"IF(V43=\"\",\"\",V43)","v":""},null,{"$f":"IF(X43=\"\",\"\",X43)","v":""},null,{"$f":"IF(Z43=\"\",\"\",Z43)","v":""},null,{"$f":"IF(AB43=\"\",\"\",AB43)","v":""},null,{"$f":"IF(AD43=\"\",\"\",AD43)","v":""},null,{"$f":"IF(AF43=\"\",\"\",AF43)","v":""},null,{"$f":"IF(AH43=\"\",\"\",AH43)","v":""},null,{"$f":"IF(AJ43=\"\",\"\",AJ43)","v":""},null,{"$f":"IF(AL43=\"\",\"\",AL43)","v":""},null,null,{"$f":"IF(AO43=\"\",\"\",AO43)","v":""},null,null,{"$f":"IF(AR43=\"\",\"\",AR43)","v":""},null,null,null,null,{"$f":"IF(AW43=\"\",\"\",AW43)","v":""}]
[]
[]
[]
[null,null,null,null,null,null,null,null,null,null,null,null,null,null,null,null,null,{"$f":"IF(R47=\"\",\"\",R47)","v":""},null,{"$f":"IF(T47=\"\",\"\",T47)","v":""},null,{"$f":"IF(V47=\"\",\"\",V47)","v":""},null,{"$f":"IF(X47=\"\",\"\",X47)","v":""},null,{"$f":"IF(Z47=\"\",\"\",Z47)","v":""},null,{"$f":"IF(AB47=\"\",\"\",AB47)","v":""},null,{"$f":"IF(AD47=\"\",\"\",AD47)","v":""},null,{"$f":"IF(AF47=\"\",\"\",AF47)","v":""},null,{"$f":"IF(AH47=\"\",\"\",AH47)","v":""},null,{"$f":"IF(AJ47=\"\",\"\",AJ47)","v":""},null,{"$f":"IF(AL47=\"\",\"\",AL47)","v":""},null,null,{"$f":"IF(AO47=\"\",\"\",AO47)","v":""},null,null,{"$f":"IF(AR47=\"\",\"\",AR47)","v":""},null,null,null,null,{"$f":"IF(AW47=\"\",\"\",AW47)","v":""}]
[]
[]
[]
[null,null,null,null,null,null,null,null,null,null,null,null,null,null,null,null,null,{"$f":"IF(R51=\"\",\"\",R51)","v":""},null,{"$f":"IF(T51=\"\",\"\",T51)","v":""},null,{"$f":"IF(V51=\"\",\"\",V51)","v":""},null,{"$f":"IF(X51=\"\",\"\",X51)","v":""},null,{"$f":"IF(Z51=\"\",\"\",Z51)","v":""},null,{"$f":"IF(AB51=\"\",\"\",AB51)","v":""},null,{"$f":"IF(AD51=\"\",\"\",AD51)","v":""},null,{"$f":"IF(AF51=\"\",\"\",AF51)","v":""},null,{"$f":"IF(AH51=\"\",\"\",AH51)","v":""},null,{"$f":"IF(AJ51=\"\",\"\",AJ51)","v":""},null,{"$f":"IF(AL51=\"\",\"\",AL51)","v":""},null,null,{"$f":"IF(AO51=\"\",\"\",AO51)","v":""},null,null,{"$f":"IF(AR51=\"\",\"\",AR51)","v":""},null,null,null,null,{"$f":"IF(AW51=\"\",\"\",AW51)","v":""}]
[]
[]
[]
[null,null,null,null,null,null,null,null,null,null,null,null,null,null,null,null,null,{"$f":"IF(R55=\"\",\"\",R55)","v":""},null,{"$f":"IF(T55=\"\",\"\",T55)","v":""},null,{"$f":"IF(V55=\"\",\"\",V55)","v":""},null,{"$f":"IF(X55=\"\",\"\",X55)","v":""},null,{"$f":"IF(Z55=\"\",\"\",Z55)","v":""},null,{"$f":"IF(AB55=\"\",\"\",AB55)","v":""},null,{"$f":"IF(AD55=\"\",\"\",AD55)","v":""},null,{"$f":"IF(AF55=\"\",\"\",AF55)","v":""},null,{"$f":"IF(AH55=\"\",\"\",AH55)","v":""},null,{"$f":"IF(AJ55=\"\",\"\",AJ55)","v":""},null,{"$f":"IF(AL55=\"\",\"\",AL55)","v":""},null,null,{"$f":"IF(AO55=\"\",\"\",AO55)","v":""},null,null,{"$f":"IF(AR55=\"\",\"\",AR55)","v":""},null,null,null,null,{"$f":"IF(AW55=\"\",\"\",AW55)","v":""}]
[]
[]
[]
[null,null,null,null,null,null,null,null,null,null,null,null,null,null,null,null,null,{"$f":"IF(R59=\"\",\"\",R59)","v":""},null,{"$f":"IF(T59=\"\",\"\",T59)","v":""},null,{"$f":"IF(V59=\"\",\"\",V59)","v":""},null,{"$f":"IF(X59=\"\",\"\",X59)","v":""},null,{"$f":"IF(Z59=\"\",\"\",Z59)","v":""},null,{"$f":"IF(AB59=\"\",\"\",AB59)","v":""},null,{"$f":"IF(AD59=\"\",\"\",AD59)","v":""},null,{"$f":"IF(AF59=\"\",\"\",AF59)","v":""},null,{"$f":"IF(AH59=\"\",\"\",AH59)","v":""},null,{"$f":"IF(AJ59=\"\",\"\",AJ59)","v":""},null,{"$f":"IF(AL59=\"\",\"\",AL59)","v":""},null,null,{"$f":"IF(AO59=\"\",\"\",AO59)","v":""},null,null,{"$f":"IF(AR59=\"\",\"\",AR59)","v":""},null,null,null,null,{"$f":"IF(AW59=\"\",\"\",AW59)","v":""}]
[]
[]
[]
[null,null,null,null,null,null,null,null,null,null,null,null,null,null,null,null,null,{"$f":"IF(R63=\"\",\"\",R63)","v":""},null,{"$f":"IF(T63=\"\",\"\",T63)","v":""},null,{"$f":"IF(V63=\"\",\"\",V63)","v":""},null,{"$f":"IF(X63=\"\",\"\",X63)","v":""},null,{"$f":"IF(Z63=\"\",\"\",Z63)","v":""},null,{"$f":"IF(AB63=\"\",\"\",AB63)","v":""},null,{"$f":"IF(AD63=\"\",\"\",AD63)","v":""},null,{"$f":"IF(AF63=\"\",\"\",AF63)","v":""},null,{"$f":"IF(AH63=\"\",\"\",AH63)","v":""},null,{"$f":"IF(AJ63=\"\",\"\",AJ63)","v":""},null,{"$f":"IF(AL63=\"\",\"\",AL63)","v":""},null,null,{"$f":"IF(AO63=\"\",\"\",AO63)","v":""},null,null,{"$f":"IF(AR63=\"\",\"\",AR63)","v":""},null,null,null,null,{"$f":"IF(AW63=\"\",\"\",AW63)","v":""}]
[]
[]
[]
[null,null,null,null,null,null,null,null,null,null,null,null,null,null,null,null,null,{"$f":"IF(R67=\"\",\"\",R67)","v":""},null,{"$f":"IF(T67=\"\",\"\",T67)","v":""},null,{"$f":"IF(V67=\"\",\"\",V67)","v":""},null,{"$f":"IF(X67=\"\",\"\",X67)","v":""},null,{"$f":"IF(Z67=\"\",\"\",Z67)","v":""},null,{"$f":"IF(AB67=\"\",\"\",AB67)","v":""},null,{"$f":"IF(AD67=\"\",\"\",AD67)","v":""},null,{"$f":"IF(AF67=\"\",\"\",AF67)","v":""},null,{"$f":"IF(AH67=\"\",\"\",AH67)","v":""},null,{"$f":"IF(AJ67=\"\",\"\",AJ67)","v":""},null,{"$f":"IF(AL67=\"\",\"\",AL67)","v":""},null,null,{"$f":"IF(AO67=\"\",\"\",AO67)","v":""},null,null,{"$f":"IF(AR67=\"\",\"\",AR67)","v":""},null,null,null,null,{"$f":"IF(AW67=\"\",\"\",AW67)","v":""}]
[]
[]
[]
[null,null,null,null,null,null,null,null,null,null,null,null,null,null,null,null,null,{"$f":"IF(R71=\"\",\"\",R71)","v":""},null,{"$f":"IF(T71=\"\",\"\",T71)","v":""},null,{"$f":"IF(V71=\"\",\"\",V71)","v":""},null,{"$f":"IF(X71=\"\",\"\",X71)","v":""},null,{"$f":"IF(Z71=\"\",\"\",Z71)","v":""},null,{"$f":"IF(AB71=\"\",\"\",AB71)","v":""},null,{"$f":"IF(AD71=\"\",\"\",AD71)","v":""},null,{"$f":"IF(AF71=\"\",\"\",AF71)","v":""},null,{"$f":"IF(AH71=\"\",\"\",AH71)","v":""},null,{"$f":"IF(AJ71=\"\",\"\",AJ71)","v":""},null,{"$f":"IF(AL71=\"\",\"\",AL71)","v":""},null,null,{"$f":"IF(AO71=\"\",\"\",AO71)","v":""},null,null,{"$f":"IF(AR71=\"\",\"\",AR71)","v":""},null,null,null,null,{"$f":"IF(AW71=\"\",\"\",AW71)","v":""}]
[]
[]
[]
[null,null,null,null,null,null,null,null,null,null,null,null,null,null,null,null,null,{"$f":"IF(R75=\"\",\"\",R75)","v":""},null,{"$f":"IF(T75=\"\",\"\",T75)","v":""},null,{"$f":"IF(V75=\"\",\"\",V75)","v":""},null,{"$f":"IF(X75=\"\",\"\",X75)","v":""},null,{"$f":"IF(Z75=\"\",\"\",Z75)","v":""},null,{"$f":"IF(AB75=\"\",\"\",AB75)","v":""},null,{"$f":"IF(AD75=\"\",\"\",AD75)","v":""},null,{"$f":"IF(AF75=\"\",\"\",AF75)","v":""},null,{"$f":"IF(AH75=\"\",\"\",AH75)","v":""},null,{"$f":"IF(AJ75=\"\",\"\",AJ75)","v":""},null,{"$f":"IF(AL75=\"\",\"\",AL75)","v":""},null,null,{"$f":"IF(AO75=\"\",\"\",AO75)","v":""},null,null,{"$f":"IF(AR75=\"\",\"\",AR75)","v":""},null,null,null,null,{"$f":"IF(AW75=\"\",\"\",AW75)","v":""}]
[]
[]
[]
[null,null,null,null,null,null,null,null,null,null,null,null,null,null,null,null,null,{"$f":"IF(R79=\"\",\"\",R79)","v":""},null,{"$f":"IF(T79=\"\",\"\",T79)","v":""},null,{"$f":"IF(V79=\"\",\"\",V79)","v":""},null,{"$f":"IF(X79=\"\",\"\",X79)","v":""},null,{"$f":"IF(Z79=\"\",\"\",Z79)","v":""},null,{"$f":"IF(AB79=\"\",\"\",AB79)","v":""},null,{"$f":"IF(AD79=\"\",\"\",AD79)","v":""},null,{"$f":"IF(AF79=\"\",\"\",AF79)","v":""},null,{"$f":"IF(AH79=\"\",\"\",AH79)","v":""},null,{"$f":"IF(AJ79=\"\",\"\",AJ79)","v":""},null,{"$f":"IF(AL79=\"\",\"\",AL79)","v":""},null,null,{"$f":"IF(AO79=\"\",\"\",AO79)","v":""},null,null,{"$f":"IF(AR79=\"\",\"\",AR79)","v":""},null,null,null,null,{"$f":"IF(AW79=\"\",\"\",AW79)","v":""}]
[]
[]
[]
[null,null,null,null,null,null,null,null,null,null,null,null,null,null,null,null,null,null,null,null,null,null,null,null,null,null,null,null,null,null,null,null,null,null,null,null,null,{"$f":"AL83","v":"金額(税抜)"},null,null,null,null,null,null,null,null,null,null,{"$f":"AW83","v":""}]
[]
[]
[]
[]
[null,null,null,null,null,null,null,null,null,null,null,null,null,null,null,null,null,null,null,null,null,null,null,null,null,null,null,null,null,null,null,null,null,null,null,null,null,{"$f":"AL88","v":"消費税"},null,null,null,null,null,"税率",null,null,"税調",null,{"$f":"AW88","v":""}]
[]
[null,null,null,null,null,null,null,null,null,null,null,null,null,null,null,null,null,null,null,null,null,null,null,null,null,null,null,null,null,null,null,null,null,null,null,null,null,null,null,null,null,null,null,{"$f":"AR90","v":0},null,{"$f":"AT90","v":""}]
[]
[]
[]
[null,null,null,null,null,null,null,null,null,null,null,null,null,null,null,null,null,null,null,"請求明細書 (貴社控)"]
[null,"株 式 会 社 種 村 建 設",null,null,null,null,null,null,null,null,null,null,"御中"]
[null,null,null,null,null,null,null,null,null,null,null,null,null,null,null,null,null,null,null,null,null,null,null,null,null,null,null,null,null,null,null,null,null,null,null,null,null,null,null,null,"請求年月日",null,null,null,null,{"$f":"IF(AT4=\"\",\"\",AT4)","v":""},null,null,null,{"$f":"IF(AX96=\"\",\"\",AX96)","v":""},null,null,{"$f":"IF(BA96=\"\",\"\",BA96)","v":""}]
[]
[]
[]
[]
[null,"工事番号",null,null,null,null,{"$f":"IF(G101=\"\",\"\",G101)","v":""},null,null,null,null,null,"工事名",null,null,null,{"$f":"IF(Q101=\"\",\"\",Q101)","v":""},null,null,null,null,null,null,null,null,null,null,null,null,null,null,null,null,null,null,null,null,"業者名",null,null,null,{"$f":"IF(AP101=\"\",\"\",AP101)","v":""}]
[]
[]
[]
[]
[]
[null,"注文番号",null,null,null,null,{"$f":"IF(G107=\"\",\"\",G107)","v":""},null,null,null,null,null,null,null,null,null,null,"月　日",null,null,null,"品　名・内　訳",null,null,null,null,null,null,null,null,null,null,null,null,null,null,null,"数 量",null,null,"単位",null,null,"単価",null,null,null,null,{"$f":"AW15","v":"金額(税抜)"}]
[]
[]
[]
[null,"契約金額",null,null,null,null,{"$f":"IF(G111=\"\",\"\",G111)","v":""},null,null,null,null,null,null,null,null,null,null,{"$f":"IF(R111=\"\",\"\",R111)","v":""},null,{"$f":"IF(T111=\"\",\"\",T111)","v":""},null,{"$f":"IF(V111=\"\",\"\",V111)","v":""},null,{"$f":"IF(X111=\"\",\"\",X111)","v":""},null,{"$f":"IF(Z111=\"\",\"\",Z111)","v":""},null,{"$f":"IF(AB111=\"\",\"\",AB111)","v":""},null,{"$f":"IF(AD111=\"\",\"\",AD111)","v":""},null,{"$f":"IF(AF111=\"\",\"\",AF111)","v":""},null,{"$f":"IF(AH111=\"\",\"\",AH111)","v":""},null,{"$f":"IF(AJ111=\"\",\"\",AJ111)","v":""},null,{"$f":"IF(AL111=\"\",\"\",AL111)","v":""},null,null,{"$f":"IF(AO111=\"\",\"\",AO111)","v":""},null,null,{"$f":"IF(AR111=\"\",\"\",AR111)","v":""},null,null,null,null,{"$f":"IF(AW111=\"\",\"\",AW111)","v":""}]
[]
[]
[]
[null,"増減額",null,null,null,null,{"$f":"IF(G115=\"\",\"\",G115)","v":""},null,null,null,null,null,null,null,null,null,null,{"$f":"IF(R115=\"\",\"\",R115)","v":""},null,{"$f":"IF(T115=\"\",\"\",T115)","v":""},null,{"$f":"IF(V115=\"\",\"\",V115)","v":""},null,{"$f":"IF(X115=\"\",\"\",X115)","v":""},null,{"$f":"IF(Z115=\"\",\"\",Z115)","v":""},null,{"$f":"IF(AB115=\"\",\"\",AB115)","v":""},null,{"$f":"IF(AD115=\"\",\"\",AD115)","v":""},null,{"$f":"IF(AF115=\"\",\"\",AF115)","v":""},null,{"$f":"IF(AH115=\"\",\"\",AH115)","v":""},null,{"$f":"IF(AJ115=\"\",\"\",AJ115)","v":""},null,{"$f":"IF(AL115=\"\",\"\",AL115)","v":""},null,null,{"$f":"IF(AO115=\"\",\"\",AO115)","v":""},null,null,{"$f":"IF(AR115=\"\",\"\",AR115)","v":""},null,null,null,null,{"$f":"IF(AW115=\"\",\"\",AW115)","v":""}]
[]
[]
[]
[null,"前回までの\n請求額",null,null,null,null,{"$f":"IF(G119=\"\",\"\",G119)","v":""},null,null,null,null,null,null,null,null,null,null,{"$f":"IF(R119=\"\",\"\",R119)","v":""},null,{"$f":"IF(T119=\"\",\"\",T119)","v":""},null,{"$f":"IF(V119=\"\",\"\",V119)","v":""},null,{"$f":"IF(X119=\"\",\"\",X119)","v":""},null,{"$f":"IF(Z119=\"\",\"\",Z119)","v":""},null,{"$f":"IF(AB119=\"\",\"\",AB119)","v":""},null,{"$f":"IF(AD119=\"\",\"\",AD119)","v":""},null,{"$f":"IF(AF119=\"\",\"\",AF119)","v":""},null,{"$f":"IF(AH119=\"\",\"\",AH119)","v":""},null,{"$f":"IF(AJ119=\"\",\"\",AJ119)","v":""},null,{"$f":"IF(AL119=\"\",\"\",AL119)","v":""},null,null,{"$f":"IF(AO119=\"\",\"\",AO119)","v":""},null,null,{"$f":"IF(AR119=\"\",\"\",AR119)","v":""},null,null,null,null,{"$f":"IF(AW119=\"\",\"\",AW119)","v":""}]
[]
[]
[]
[null,"今回\n請求額",null,null,{"$f":"IF(E31=\"\",\"\",E31)","v":""},null,{"$f":"IF(G123=\"\",\"\",G123)","v":""},null,null,null,null,null,null,null,null,null,null,{"$f":"IF(R123=\"\",\"\",R123)","v":""},null,{"$f":"IF(T123=\"\",\"\",T123)","v":""},null,{"$f":"IF(V123=\"\",\"\",V123)","v":""},null,{"$f":"IF(X123=\"\",\"\",X123)","v":""},null,{"$f":"IF(Z123=\"\",\"\",Z123)","v":""},null,{"$f":"IF(AB123=\"\",\"\",AB123)","v":""},null,{"$f":"IF(AD123=\"\",\"\",AD123)","v":""},null,{"$f":"IF(AF123=\"\",\"\",AF123)","v":""},null,{"$f":"IF(AH123=\"\",\"\",AH123)","v":""},null,{"$f":"IF(AJ123=\"\",\"\",AJ123)","v":""},null,{"$f":"IF(AL123=\"\",\"\",AL123)","v":""},null,null,{"$f":"IF(AO123=\"\",\"\",AO123)","v":""},null,null,{"$f":"IF(AR123=\"\",\"\",AR123)","v":""},null,null,null,null,{"$f":"IF(AW123=\"\",\"\",AW123)","v":""}]
[]
[]
[]
[null,"差引残高",null,null,null,null,{"$f":"IF(G203=\"\",\"\",G203+G207-G211-G215)","v":""},null,null,null,null,null,null,null,null,null,null,{"$f":"IF(R127=\"\",\"\",R127)","v":""},null,{"$f":"IF(T127=\"\",\"\",T127)","v":""},null,{"$f":"IF(V127=\"\",\"\",V127)","v":""},null,{"$f":"IF(X127=\"\",\"\",X127)","v":""},null,{"$f":"IF(Z127=\"\",\"\",Z127)","v":""},null,{"$f":"IF(AB127=\"\",\"\",AB127)","v":""},null,{"$f":"IF(AD127=\"\",\"\",AD127)","v":""},null,{"$f":"IF(AF127=\"\",\"\",AF127)","v":""},null,{"$f":"IF(AH127=\"\",\"\",AH127)","v":""},null,{"$f":"IF(AJ127=\"\",\"\",AJ127)","v":""},null,{"$f":"IF(AL127=\"\",\"\",AL127)","v":""},null,null,{"$f":"IF(AO127=\"\",\"\",AO127)","v":""},null,null,{"$f":"IF(AR127=\"\",\"\",AR127)","v":""},null,null,null,null,{"$f":"IF(AW127=\"\",\"\",AW127)","v":""}]
[]
[]
[]
[null,null,null,null,null,null,null,null,null,null,null,null,null,null,null,null,null,{"$f":"IF(R131=\"\",\"\",R131)","v":""},null,{"$f":"IF(T131=\"\",\"\",T131)","v":""},null,{"$f":"IF(V131=\"\",\"\",V131)","v":""},null,{"$f":"IF(X131=\"\",\"\",X131)","v":""},null,{"$f":"IF(Z131=\"\",\"\",Z131)","v":""},null,{"$f":"IF(AB131=\"\",\"\",AB131)","v":""},null,{"$f":"IF(AD131=\"\",\"\",AD131)","v":""},null,{"$f":"IF(AF131=\"\",\"\",AF131)","v":""},null,{"$f":"IF(AH131=\"\",\"\",AH131)","v":""},null,{"$f":"IF(AJ131=\"\",\"\",AJ131)","v":""},null,{"$f":"IF(AL131=\"\",\"\",AL131)","v":""},null,null,{"$f":"IF(AO131=\"\",\"\",AO131)","v":""},null,null,{"$f":"IF(AR131=\"\",\"\",AR131)","v":""},null,null,null,null,{"$f":"IF(AW131=\"\",\"\",AW131)","v":""}]
[]
[]
[]
[null,null,null,null,null,null,null,null,null,null,null,null,null,null,null,null,null,{"$f":"IF(R135=\"\",\"\",R135)","v":""},null,{"$f":"IF(T135=\"\",\"\",T135)","v":""},null,{"$f":"IF(V135=\"\",\"\",V135)","v":""},null,{"$f":"IF(X135=\"\",\"\",X135)","v":""},null,{"$f":"IF(Z135=\"\",\"\",Z135)","v":""},null,{"$f":"IF(AB135=\"\",\"\",AB135)","v":""},null,{"$f":"IF(AD135=\"\",\"\",AD135)","v":""},null,{"$f":"IF(AF135=\"\",\"\",AF135)","v":""},null,{"$f":"IF(AH135=\"\",\"\",AH135)","v":""},null,{"$f":"IF(AJ135=\"\",\"\",AJ135)","v":""},null,{"$f":"IF(AL135=\"\",\"\",AL135)","v":""},null,null,{"$f":"IF(AO135=\"\",\"\",AO135)","v":""},null,null,{"$f":"IF(AR135=\"\",\"\",AR135)","v":""},null,null,null,null,{"$f":"IF(AW135=\"\",\"\",AW135)","v":""}]
[]
[]
[]
[null,null,null,null,null,null,null,null,null,null,null,null,null,null,null,null,null,{"$f":"IF(R139=\"\",\"\",R139)","v":""},null,{"$f":"IF(T139=\"\",\"\",T139)","v":""},null,{"$f":"IF(V139=\"\",\"\",V139)","v":""},null,{"$f":"IF(X139=\"\",\"\",X139)","v":""},null,{"$f":"IF(Z139=\"\",\"\",Z139)","v":""},null,{"$f":"IF(AB139=\"\",\"\",AB139)","v":""},null,{"$f":"IF(AD139=\"\",\"\",AD139)","v":""},null,{"$f":"IF(AF139=\"\",\"\",AF139)","v":""},null,{"$f":"IF(AH139=\"\",\"\",AH139)","v":""},null,{"$f":"IF(AJ139=\"\",\"\",AJ139)","v":""},null,{"$f":"IF(AL139=\"\",\"\",AL139)","v":""},null,null,{"$f":"IF(AO139=\"\",\"\",AO139)","v":""},null,null,{"$f":"IF(AR139=\"\",\"\",AR139)","v":""},null,null,null,null,{"$f":"IF(AW139=\"\",\"\",AW139)","v":""}]
[]
[]
[]
[null,null,null,null,null,null,null,null,null,null,null,null,null,null,null,null,null,{"$f":"IF(R143=\"\",\"\",R143)","v":""},null,{"$f":"IF(T143=\"\",\"\",T143)","v":""},null,{"$f":"IF(V143=\"\",\"\",V143)","v":""},null,{"$f":"IF(X143=\"\",\"\",X143)","v":""},null,{"$f":"IF(Z143=\"\",\"\",Z143)","v":""},null,{"$f":"IF(AB143=\"\",\"\",AB143)","v":""},null,{"$f":"IF(AD143=\"\",\"\",AD143)","v":""},null,{"$f":"IF(AF143=\"\",\"\",AF143)","v":""},null,{"$f":"IF(AH143=\"\",\"\",AH143)","v":""},null,{"$f":"IF(AJ143=\"\",\"\",AJ143)","v":""},null,{"$f":"IF(AL143=\"\",\"\",AL143)","v":""},null,null,{"$f":"IF(AO143=\"\",\"\",AO143)","v":""},null,null,{"$f":"IF(AR143=\"\",\"\",AR143)","v":""},null,null,null,null,{"$f":"IF(AW143=\"\",\"\",AW143)","v":""}]
[]
[]
[]
[null,null,null,null,null,null,null,null,null,null,null,null,null,null,null,null,null,{"$f":"IF(R147=\"\",\"\",R147)","v":""},null,{"$f":"IF(T147=\"\",\"\",T147)","v":""},null,{"$f":"IF(V147=\"\",\"\",V147)","v":""},null,{"$f":"IF(X147=\"\",\"\",X147)","v":""},null,{"$f":"IF(Z147=\"\",\"\",Z147)","v":""},null,{"$f":"IF(AB147=\"\",\"\",AB147)","v":""},null,{"$f":"IF(AD147=\"\",\"\",AD147)","v":""},null,{"$f":"IF(AF147=\"\",\"\",AF147)","v":""},null,{"$f":"IF(AH147=\"\",\"\",AH147)","v":""},null,{"$f":"IF(AJ147=\"\",\"\",AJ147)","v":""},null,{"$f":"IF(AL147=\"\",\"\",AL147)","v":""},null,null,{"$f":"IF(AO147=\"\",\"\",AO147)","v":""},null,null,{"$f":"IF(AR147=\"\",\"\",AR147)","v":""},null,null,null,null,{"$f":"IF(AW147=\"\",\"\",AW147)","v":""}]
[]
[]
[]
[null,null,null,null,null,null,null,null,null,null,null,null,null,null,null,null,null,{"$f":"IF(R151=\"\",\"\",R151)","v":""},null,{"$f":"IF(T151=\"\",\"\",T151)","v":""},null,{"$f":"IF(V151=\"\",\"\",V151)","v":""},null,{"$f":"IF(X151=\"\",\"\",X151)","v":""},null,{"$f":"IF(Z151=\"\",\"\",Z151)","v":""},null,{"$f":"IF(AB151=\"\",\"\",AB151)","v":""},null,{"$f":"IF(AD151=\"\",\"\",AD151)","v":""},null,{"$f":"IF(AF151=\"\",\"\",AF151)","v":""},null,{"$f":"IF(AH151=\"\",\"\",AH151)","v":""},null,{"$f":"IF(AJ151=\"\",\"\",AJ151)","v":""},null,{"$f":"IF(AL151=\"\",\"\",AL151)","v":""},null,null,{"$f":"IF(AO151=\"\",\"\",AO151)","v":""},null,null,{"$f":"IF(AR151=\"\",\"\",AR151)","v":""},null,null,null,null,{"$f":"IF(AW151=\"\",\"\",AW151)","v":""}]
[]
[]
[]
[null,null,null,null,null,null,null,null,null,null,null,null,null,null,null,null,null,{"$f":"IF(R155=\"\",\"\",R155)","v":""},null,{"$f":"IF(T155=\"\",\"\",T155)","v":""},null,{"$f":"IF(V155=\"\",\"\",V155)","v":""},null,{"$f":"IF(X155=\"\",\"\",X155)","v":""},null,{"$f":"IF(Z155=\"\",\"\",Z155)","v":""},null,{"$f":"IF(AB155=\"\",\"\",AB155)","v":""},null,{"$f":"IF(AD155=\"\",\"\",AD155)","v":""},null,{"$f":"IF(AF155=\"\",\"\",AF155)","v":""},null,{"$f":"IF(AH155=\"\",\"\",AH155)","v":""},null,{"$f":"IF(AJ155=\"\",\"\",AJ155)","v":""},null,{"$f":"IF(AL155=\"\",\"\",AL155)","v":""},null,null,{"$f":"IF(AO155=\"\",\"\",AO155)","v":""},null,null,{"$f":"IF(AR155=\"\",\"\",AR155)","v":""},null,null,null,null,{"$f":"IF(AW155=\"\",\"\",AW155)","v":""}]
[]
[]
[]
[null,null,null,null,null,null,null,null,null,null,null,null,null,null,null,null,null,{"$f":"IF(R159=\"\",\"\",R159)","v":""},null,{"$f":"IF(T159=\"\",\"\",T159)","v":""},null,{"$f":"IF(V159=\"\",\"\",V159)","v":""},null,{"$f":"IF(X159=\"\",\"\",X159)","v":""},null,{"$f":"IF(Z159=\"\",\"\",Z159)","v":""},null,{"$f":"IF(AB159=\"\",\"\",AB159)","v":""},null,{"$f":"IF(AD159=\"\",\"\",AD159)","v":""},null,{"$f":"IF(AF159=\"\",\"\",AF159)","v":""},null,{"$f":"IF(AH159=\"\",\"\",AH159)","v":""},null,{"$f":"IF(AJ159=\"\",\"\",AJ159)","v":""},null,{"$f":"IF(AL159=\"\",\"\",AL159)","v":""},null,null,{"$f":"IF(AO159=\"\",\"\",AO159)","v":""},null,null,{"$f":"IF(AR159=\"\",\"\",AR159)","v":""},null,null,null,null,{"$f":"IF(AW159=\"\",\"\",AW159)","v":""}]
[]
[]
[]
[null,null,null,null,null,null,null,null,null,null,null,null,null,null,null,null,null,{"$f":"IF(R163=\"\",\"\",R163)","v":""},null,{"$f":"IF(T163=\"\",\"\",T163)","v":""},null,{"$f":"IF(V163=\"\",\"\",V163)","v":""},null,{"$f":"IF(X163=\"\",\"\",X163)","v":""},null,{"$f":"IF(Z163=\"\",\"\",Z163)","v":""},null,{"$f":"IF(AB163=\"\",\"\",AB163)","v":""},null,{"$f":"IF(AD163=\"\",\"\",AD163)","v":""},null,{"$f":"IF(AF163=\"\",\"\",AF163)","v":""},null,{"$f":"IF(AH163=\"\",\"\",AH163)","v":""},null,{"$f":"IF(AJ163=\"\",\"\",AJ163)","v":""},null,{"$f":"IF(AL163=\"\",\"\",AL163)","v":""},null,null,{"$f":"IF(AO163=\"\",\"\",AO163)","v":""},null,null,{"$f":"IF(AR163=\"\",\"\",AR163)","v":""},null,null,null,null,{"$f":"IF(AW163=\"\",\"\",AW163)","v":""}]
[]
[]
[]
[null,null,null,null,null,null,null,null,null,null,null,null,null,null,null,null,null,{"$f":"IF(R167=\"\",\"\",R167)","v":""},null,{"$f":"IF(T167=\"\",\"\",T167)","v":""},null,{"$f":"IF(V167=\"\",\"\",V167)","v":""},null,{"$f":"IF(X167=\"\",\"\",X167)","v":""},null,{"$f":"IF(Z167=\"\",\"\",Z167)","v":""},null,{"$f":"IF(AB167=\"\",\"\",AB167)","v":""},null,{"$f":"IF(AD167=\"\",\"\",AD167)","v":""},null,{"$f":"IF(AF167=\"\",\"\",AF167)","v":""},null,{"$f":"IF(AH167=\"\",\"\",AH167)","v":""},null,{"$f":"IF(AJ167=\"\",\"\",AJ167)","v":""},null,{"$f":"IF(AL167=\"\",\"\",AL167)","v":""},null,null,{"$f":"IF(AO167=\"\",\"\",AO167)","v":""},null,null,{"$f":"IF(AR167=\"\",\"\",AR167)","v":""},null,null,null,null,{"$f":"IF(AW167=\"\",\"\",AW167)","v":""}]
[]
[]
[]
[null,null,null,null,null,null,null,null,null,null,null,null,null,null,null,null,null,{"$f":"IF(R171=\"\",\"\",R171)","v":""},null,{"$f":"IF(T171=\"\",\"\",T171)","v":""},null,{"$f":"IF(V171=\"\",\"\",V171)","v":""},null,{"$f":"IF(X171=\"\",\"\",X171)","v":""},null,{"$f":"IF(Z171=\"\",\"\",Z171)","v":""},null,{"$f":"IF(AB171=\"\",\"\",AB171)","v":""},null,{"$f":"IF(AD171=\"\",\"\",AD171)","v":""},null,{"$f":"IF(AF171=\"\",\"\",AF171)","v":""},null,{"$f":"IF(AH171=\"\",\"\",AH171)","v":""},null,{"$f":"IF(AJ171=\"\",\"\",AJ171)","v":""},null,{"$f":"IF(AL171=\"\",\"\",AL171)","v":""},null,null,{"$f":"IF(AO171=\"\",\"\",AO171)","v":""},null,null,{"$f":"IF(AR171=\"\",\"\",AR171)","v":""},null,null,null,null,{"$f":"IF(AW171=\"\",\"\",AW171)","v":""}]
[]
[]
[]
[null,null,null,null,null,null,null,null,null,null,null,null,null,null,null,null,null,null,null,null,null,null,null,null,null,null,null,null,null,null,null,null,null,null,null,null,null,{"$f":"AL175","v":"金額(税抜)"},null,null,null,null,null,null,null,null,null,null,{"$f":"AW83","v":""}]
[]
[]
[]
[]
[null,null,null,null,null,null,null,null,null,null,null,null,null,null,null,null,null,null,null,null,null,null,null,null,null,null,null,null,null,null,null,null,null,null,null,null,null,{"$f":"AL180","v":"消費税"},null,null,null,null,null,"税率",null,null,"税調",null,{"$f":"AW88","v":""}]
[]
[null,null,null,null,null,null,null,null,null,null,null,null,null,null,null,null,null,null,null,null,null,null,null,null,null,null,null,null,null,null,null,null,null,null,null,null,null,null,null,null,null,null,null,{"$f":"AR90","v":0},null,{"$f":"AT90","v":""}]

{"sheet":"細2-3","index":18,"n_rows":274,"n_cols":53,"rows_kept":274,"cut":false,"hidden":false,"merged":[[266,37,269,47],[266,48,269,54],[258,48,261,54],[262,17,265,18],[262,19,265,20],[262,21,265,36],[262,37,265,39],[258,43,261,47],[271,48,274,54],[262,40,265,42],[262,43,265,47],[262,48,265,54],[258,17,261,18],[258,19,261,20],[258,21,261,36],[258,37,261,39],[258,40,261,42],[271,37,274,42],[271,43,272,45],[273,43,274,44],[273,45,274,45],[273,46,274,47],[271,46,272,47],[250,48,253,54],[254,17,257,18],[254,19,257,20],[254,21,257,36],[254,37,257,39],[254,40,257,42],[254,43,257,47],[254,48,257,54],[250,17,253,18],[250,19,253,20],[250,21,253,36],[250,37,253,39],[250,40,253,42],[250,43,253,47],[242,48,245,54],[246,17,249,18],[246,19,249,20],[246,21,249,36],[246,37,249,39],[246,40,249,42],[246,43,249,47],[246,48,249,54],[242,17,245,18],[242,19,245,20],[242,21,245,36],[242,37,245,39],[242,40,245,42],[242,43,245,47],[234,48,237,54],[238,17,241,18],[238,19,241,20],[238,21,241,36],[238,37,241,39],[238,40,241,42],[238,43,241,47],[238,48,241,54],[234,17,237,18],[234,19,237,20],[234,21,237,36],[234,37,237,39],[234,40,237,42],[234,43,237,47],[222,17,225,18],[222,19,225,20],[222,21,225,36],[222,37,225,39],[222,40,225,42],[222,43,225,47],[222,48,225,54],[226,48,229,54],[230,17,233,18],[230,19,233,20],[230,21,233,36],[230,37,233,39],[230,40,233,42],[230,43,233,47],[230,48,233,54],[226,17,229,18],[226,19,229,20],[226,21,229,36],[226,37,229,39],[226,40,229,42],[226,43,229,47],[218,1,221,5],[218,6,221,15],[218,17,221,18],[218,19,221,20],[218,21,221,36],[218,37,221,39],[218,40,221,42],[218,43,221,47],[218,48,221,54],[210,40,213,42],[210,43,213,47],[210,48,213,54],[214,1,217,3],[214,4,217,5],[214,6,217,15],[214,17,217,18],[214,19,217,20],[214,21,217,36],[214,37,217,39],[210,1,213,5],[210,6,213,15],[210,17,213,18],[210,19,213,20],[210,21,213,36],[210,37,213,39],[214,40,217,42],[214,43,217,47],[214,48,217,54],[206,1,209,5],[206,6,209,15],[206,17,209,18],[206,19,209,20],[206,21,209,36],[206,37,209,39],[206,40,209,42],[206,43,209,47],[206,48,209,54],[198,43,201,47],[198,48,201,54],[202,1,205,5],[202,6,205,15],[202,17,205,18],[202,19,205,20],[202,21,205,36],[202,37,205,39],[202,40,205,42],[202,43,205,47],[198,1,201,5],[198,6,201,15],[198,17,201,20],[198,21,201,36],[198,37,201,39],[198,40,201,42],[202,48,205,54],[187,52,189,54],[192,1,195,5],[192,6,195,11],[192,12,195,15],[192,16,195,35],[192,37,195,40],[192,41,195,54],[185,19,188,32],[186,1,189,11],[186,12,189,13],[187,49,189,51],[187,40,189,44],[187,45,189,48],[174,37,177,47],[174,48,177,54],[179,48,182,54],[170,17,173,18],[170,19,173,20],[170,21,173,36],[170,37,173,39],[170,40,173,42],[170,43,173,47],[170,48,173,54],[179,37,182,42],[179,43,180,45],[179,46,180,47],[181,43,182,44],[181,45,182,45],[181,46,182,47],[166,17,169,18],[166,19,169,20],[162,43,165,47],[162,48,165,54],[158,17,161,18],[158,19,161,20],[158,21,161,36],[158,37,161,39],[158,40,161,42],[162,17,165,18],[162,19,165,20],[162,21,165,36],[162,37,165,39],[162,40,165,42],[166,48,169,54],[158,43,161,47],[166,21,169,36],[166,37,169,39],[166,40,169,42],[166,43,169,47],[158,48,161,54],[154,48,157,54],[150,17,153,18],[150,19,153,20],[146,43,149,47],[146,48,149,54],[142,17,145,18],[142,19,145,20],[142,21,145,36],[142,37,145,39],[142,40,145,42],[154,17,157,18],[154,19,157,20],[154,21,157,36],[154,37,157,39],[154,40,157,42],[154,43,157,47],[146,17,149,18],[146,19,149,20],[146,21,149,36],[146,37,149,39],[146,40,149,42],[150,48,153,54],[142,43,145,47],[150,21,153,36],[150,37,153,39],[150,40,153,42],[150,43,153,47],[142,48,145,54],[130,48,133,54],[134,48,137,54],[130,17,133,18],[130,19,133,20],[130,21,133,36],[130,37,133,39],[130,40,133,42],[130,43,133,47],[138,48,141,54],[134,17,137,18],[134,19,137,20],[134,21,137,36],[134,37,137,39],[134,40,137,42],[134,43,137,47],[138,17,141,18],[138,19,141,20],[138,21,141,36],[138,37,141,39],[138,40,141,42],[138,43,141,47],[126,1,129,5],[126,6,129,15],[126,17,129,18],[126,19,129,20],[126,21,129,36],[126,37,129,39],[126,40,129,42],[126,43,129,47],[126,48,129,54],[118,40,121,42],[118,43,121,47],[118,48,121,54],[122,1,125,3],[122,4,125,5],[122,6,125,15],[122,17,125,18],[122,19,125,20],[122,21,125,36],[122,37,125,39],[118,1,121,5],[118,6,121,15],[118,17,121,18],[118,19,121,20],[118,21,121,36],[118,37,121,39],[122,40,125,42],[122,43,125,47],[122,48,125,54],[114,1,117,5],[114,6,117,15],[114,17,117,18],[114,19,117,20],[114,21,117,36],[114,37,117,39],[114,40,117,42],[114,43,117,47],[114,48,117,54],[106,43,109,47],[106,48,109,54],[110,1,113,5],[110,6,113,15],[110,17,113,18],[110,19,113,20],[110,21,113,36],[110,37,113,39],[110,40,113,42],[110,43,113,47],[106,1,109,5],[106,6,109,15],[106,17,109,20],[106,21,109,36],[106,37,109,39],[106,40,109,42],[110,48,113,54],[89,46,90,47],[87,46,88,47],[95,49,97,51],[95,52,97,54],[100,1,103,5],[100,6,103,11],[100,12,103,15],[100,16,103,35],[100,37,103,40],[100,41,103,54],[93,19,96,32],[94,1,97,11],[94,12,97,13],[95,40,97,44],[95,45,97,48],[83,1,84,4],[83,5,84,10],[83,11,84,16],[83,17,84,25],[85,1,90,4],[85,5,90,10],[85,11,90,16],[85,17,90,25],[89,45,90,45],[78,43,81,47],[83,26,84,30],[83,31,84,35],[78,17,81,18],[78,19,81,20],[78,21,81,36],[85,26,90,30],[85,31,90,35],[74,48,77,54],[87,48,90,54],[78,48,81,54],[82,37,85,47],[82,48,85,54],[78,37,81,39],[78,40,81,42],[74,17,77,18],[74,19,77,20],[74,21,77,36],[74,37,77,39],[74,40,77,42],[74,43,77,47],[87,37,90,42],[87,43,88,45],[89,43,90,44],[66,48,69,54],[70,17,73,18],[70,19,73,20],[70,21,73,36],[70,37,73,39],[70,40,73,42],[70,43,73,47],[70,48,73,54],[66,17,69,18],[66,19,69,20],[66,21,69,36],[66,37,69,39],[66,40,69,42],[66,43,69,47],[58,48,61,54],[62,17,65,18],[62,19,65,20],[62,21,65,36],[62,37,65,39],[62,40,65,42],[62,43,65,47],[62,48,65,54],[58,17,61,18],[58,19,61,20],[58,21,61,36],[58,37,61,39],[58,40,61,42],[58,43,61,47],[50,48,53,54],[54,17,57,18],[54,19,57,20],[54,21,57,36],[54,37,57,39],[54,40,57,42],[54,43,57,47],[54,48,57,54],[50,17,53,18],[50,19,53,20],[50,21,53,36],[50,37,53,39],[50,40,53,42],[50,43,53,47],[38,17,41,18],[38,19,41,20],[38,21,41,36],[38,37,41,39],[38,40,41,42],[38,43,41,47],[38,48,41,54],[42,48,45,54],[46,17,49,18],[46,19,49,20],[46,21,49,36],[46,37,49,39],[46,40,49,42],[46,43,49,47],[46,48,49,54],[42,17,45,18],[42,19,45,20],[42,21,45,36],[42,37,45,39],[42,40,45,42],[42,43,45,47],[34,1,37,5],[34,6,37,15],[34,17,37,18],[34,19,37,20],[34,21,37,36],[34,37,37,39],[34,40,37,42],[34,43,37,47],[34,48,37,54],[26,40,29,42],[26,43,29,47],[26,48,29,54],[30,1,33,3],[30,4,33,5],[30,6,33,15],[30,17,33,18],[30,19,33,20],[30,21,33,36],[30,37,33,39],[26,1,29,5],[26,6,29,15],[26,17,29,18],[26,19,29,20],[26,21,29,36],[26,37,29,39],[30,40,33,42],[30,43,33,47],[30,48,33,54],[22,1,25,5],[22,6,25,15],[22,17,25,18],[22,19,25,20],[22,21,25,36],[22,37,25,39],[22,40,25,42],[22,43,25,47],[22,48,25,54],[14,43,17,47],[14,48,17,54],[18,1,21,5],[18,6,21,15],[18,17,21,18],[18,19,21,20],[18,21,21,36],[18,37,21,39],[18,40,21,42],[18,43,21,47],[14,1,17,5],[14,6,17,15],[14,17,17,20],[14,21,17,36],[14,37,17,39],[14,40,17,42],[18,48,21,54],[3,52,5,54],[8,37,11,40],[8,41,11,54],[1,19,4,32],[2,1,5,11],[2,12,5,13],[8,1,11,5],[8,6,11,11],[8,12,11,15],[8,16,11,35],[3,49,5,51],[3,40,5,44],[3,45,5,48]]}
[]
[null,null,null,null,null,null,null,null,null,null,null,null,null,null,null,null,null,null,null,"請求書明細書 (正)"]
[null,"株 式 会 社 種 村 建 設",null,null,null,null,null,null,null,null,null,null,"御中"]
[null,null,null,null,null,null,null,null,null,null,null,null,null,null,null,null,null,null,null,null,null,null,null,null,null,null,null,null,null,null,null,null,null,null,null,null,null,null,null,null,"請求年月日",null,null,null,null,{"$f":"IF(年=\"\",\"\",年)","v":""},null,null,null,{"$f":"IF(月=\"\",\"\",月)","v":""},null,null,{"$f":"IF(日=\"\",\"\",日)","v":""}]
[]
[]
[]
[]
[null,"工事番号",null,null,null,null,null,null,null,null,null,null,"工事名",null,null,null,null,null,null,null,null,null,null,null,null,null,null,null,null,null,null,null,null,null,null,null,null,"業者名",null,null,null,{"$f":"IF(社名=\"\",\"\",社名)","v":""}]
[]
[]
[]
[]
[]
[null,"注文番号",null,null,null,null,null,null,null,null,null,null,null,null,null,null,null,"月　日",null,null,null,"品　名・内　訳",null,null,null,null,null,null,null,null,null,null,null,null,null,null,null,"数 量",null,null,"単位",null,null,"単価",null,null,null,null,{"$f":"表紙①!P35","v":"金額(税抜)"}]
[]
[]
[]
[null,"契約金額",null,null,null,null,null,null,null,null,null,null,null,null,null,null,null,null,null,null,null,null,null,null,null,null,null,null,null,null,null,null,null,null,null,null,null,null,null,null,null,null,null,null,null,null,null,null,{"$f":"IF(V19=\"\",\"\",ROUND(AL19*AR19,0))","v":""}]
[]
[]
[]
[null,"増減額",null,null,null,null,null,null,null,null,null,null,null,null,null,null,null,null,null,null,null,null,null,null,null,null,null,null,null,null,null,null,null,null,null,null,null,null,null,null,null,null,null,null,null,null,null,null,{"$f":"IF(V23=\"\",\"\",ROUND(AL23*AR23,0))","v":""}]
[]
[]
[]
[null,"前回までの\n請求額",null,null,null,null,null,null,null,null,null,null,null,null,null,null,null,null,null,null,null,null,null,null,null,null,null,null,null,null,null,null,null,null,null,null,null,null,null,null,null,null,null,null,null,null,null,null,{"$f":"IF(V27=\"\",\"\",ROUND(AL27*AR27,0))","v":""}]
[]
[]
[]
[null,"今回\n請求額",null,null,null,null,null,null,null,null,null,null,null,null,null,null,null,null,null,null,null,null,null,null,null,null,null,null,null,null,null,null,null,null,null,null,null,null,null,null,null,null,null,null,null,null,null,null,{"$f":"IF(V31=\"\",\"\",ROUND(AL31*AR31,0))","v":""}]
[]
[]
[]
[null,"差引残高",null,null,null,null,{"$f":"IF(G19=\"\",\"\",G19+G23-G27-G31)","v":""},null,null,null,null,null,null,null,null,null,null,null,null,null,null,null,null,null,null,null,null,null,null,null,null,null,null,null,null,null,null,null,null,null,null,null,null,null,null,null,null,null,{"$f":"IF(V35=\"\",\"\",ROUND(AL35*AR35,0))","v":""}]
[]
[]
[]
[null,null,null,null,null,null,null,null,null,null,null,null,null,null,null,null,null,null,null,null,null,null,null,null,null,null,null,null,null,null,null,null,null,null,null,null,null,null,null,null,null,null,null,null,null,null,null,null,{"$f":"IF(V39=\"\",\"\",ROUND(AL39*AR39,0))","v":""}]
[]
[]
[]
[null,null,null,null,null,null,null,null,null,null,null,null,null,null,null,null,null,null,null,null,null,null,null,null,null,null,null,null,null,null,null,null,null,null,null,null,null,null,null,null,null,null,null,null,null,null,null,null,{"$f":"IF(V43=\"\",\"\",ROUND(AL43*AR43,0))","v":""}]
[]
[]
[]
[null,null,null,null,null,null,null,null,null,null,null,null,null,null,null,null,null,null,null,null,null,null,null,null,null,null,null,null,null,null,null,null,null,null,null,null,null,null,null,null,null,null,null,null,null,null,null,null,{"$f":"IF(V47=\"\",\"\",ROUND(AL47*AR47,0))","v":""}]
[]
[]
[]
[null,null,null,null,null,null,null,null,null,null,null,null,null,null,null,null,null,null,null,null,null,null,null,null,null,null,null,null,null,null,null,null,null,null,null,null,null,null,null,null,null,null,null,null,null,null,null,null,{"$f":"IF(V51=\"\",\"\",ROUND(AL51*AR51,0))","v":""}]
[]
[]
[]
[null,null,null,null,null,null,null,null,null,null,null,null,null,null,null,null,null,null,null,null,null,null,null,null,null,null,null,null,null,null,null,null,null,null,null,null,null,null,null,null,null,null,null,null,null,null,null,null,{"$f":"IF(V55=\"\",\"\",ROUND(AL55*AR55,0))","v":""}]
[]
[]
[]
[null,null,null,null,null,null,null,null,null,null,null,null,null,null,null,null,null,null,null,null,null,null,null,null,null,null,null,null,null,null,null,null,null,null,null,null,null,null,null,null,null,null,null,null,null,null,null,null,{"$f":"IF(V59=\"\",\"\",ROUND(AL59*AR59,0))","v":""}]
[]
[]
[]
[null,null,null,null,null,null,null,null,null,null,null,null,null,null,null,null,null,null,null,null,null,null,null,null,null,null,null,null,null,null,null,null,null,null,null,null,null,null,null,null,null,null,null,null,null,null,null,null,{"$f":"IF(V63=\"\",\"\",ROUND(AL63*AR63,0))","v":""}]
[]
[]
[]
[null,null,null,null,null,null,null,null,null,null,null,null,null,null,null,null,null,null,null,null,null,null,null,null,null,null,null,null,null,null,null,null,null,null,null,null,null,null,null,null,null,null,null,null,null,null,null,null,{"$f":"IF(V67=\"\",\"\",ROUND(AL67*AR67,0))","v":""}]
[]
[]
[]
[null,null,null,null,null,null,null,null,null,null,null,null,null,null,null,null,null,null,null,null,null,null,null,null,null,null,null,null,null,null,null,null,null,null,null,null,null,null,null,null,null,null,null,null,null,null,null,null,{"$f":"IF(V71=\"\",\"\",ROUND(AL71*AR71,0))","v":""}]
[]
[]
[]
[null,null,null,null,null,null,null,null,null,null,null,null,null,null,null,null,null,null,null,null,null,null,null,null,null,null,null,null,null,null,null,null,null,null,null,null,null,null,null,null,null,null,null,null,null,null,null,null,{"$f":"IF(V75=\"\",\"\",ROUND(AL75*AR75,0))","v":""}]
[]
[]
[]
[null,null,null,null,null,null,null,null,null,null,null,null,null,null,null,null,null,null,null,null,null,null,null,null,null,null,null,null,null,null,null,null,null,null,null,null,null,null,null,null,null,null,null,null,null,null,null,null,{"$f":"IF(V79=\"\",\"\",ROUND(AL79*AR79,0))","v":""}]
[]
[]
[]
[null,null,null,null,null,null,null,null,null,null,null,null,null,null,null,null,null,null,null,null,null,null,null,null,null,null,null,null,null,null,null,null,null,null,null,null,null,"金額(税抜)",null,null,null,null,null,null,null,null,null,null,{"$f":"IF(AW19=\"\",\"\",SUM(AW19:AW79))","v":""}]
[null,"社長",null,null,null,"専務",null,null,null,null,null,"常務",null,null,null,null,null,"部長･工場長",null,null,null,null,null,null,null,null,"担当者",null,null,null,null,"受付"]
[]
[]
[]
[null,null,null,null,null,null,null,null,null,null,null,null,null,null,null,null,null,null,null,null,null,null,null,null,null,null,null,null,null,null,null,null,null,null,null,null,null,"消費税",null,null,null,null,null,"税率",null,null,"税調",null,{"$f":"IF(AW83=\"\",\"\",IF(AR90=\"\",\"\",IF(AR90=8.1,ROUND(AW83*8/100,0)+AU90,ROUND(AW83*AR90/100,0)+AU90)))","v":""}]
[]
[null,null,null,null,null,null,null,null,null,null,null,null,null,null,null,null,null,null,null,null,null,null,null,null,null,null,null,null,null,null,null,null,null,null,null,null,null,null,null,null,null,null,null,null,null,{"$f":"IF(AR90=\"\",\"\",IF(AR90=8.1,\"旧\",IF(AR90=8,\"軽\",IF(AR90=0,\"非\",\"\"))))","v":""}]
[]
[]
[]
[null,null,null,null,null,null,null,null,null,null,null,null,null,null,null,null,null,null,null,"請求明細書 (現場控)"]
[null,"株 式 会 社 種 村 建 設",null,null,null,null,null,null,null,null,null,null,"御中"]
[null,null,null,null,null,null,null,null,null,null,null,null,null,null,null,null,null,null,null,null,null,null,null,null,null,null,null,null,null,null,null,null,null,null,null,null,null,null,null,null,"請求年月日",null,null,null,null,{"$f":"IF(AT4=\"\",\"\",AT4)","v":""},null,null,null,{"$f":"IF(AX4=\"\",\"\",AX4)","v":""},null,null,{"$f":"IF(BA4=\"\",\"\",BA4)","v":""}]
[]
[]
[]
[]
[null,"工事番号",null,null,null,null,{"$f":"IF(G9=\"\",\"\",G9)","v":""},null,null,null,null,null,"工事名",null,null,null,{"$f":"IF(Q9=\"\",\"\",Q9)","v":""},null,null,null,null,null,null,null,null,null,null,null,null,null,null,null,null,null,null,null,null,"業者名",null,null,null,{"$f":"IF(AP9=\"\",\"\",AP9)","v":""}]
[]
[]
[]
[]
[]
[null,"注文番号",null,null,null,null,{"$f":"IF(G15=\"\",\"\",G15)","v":""},null,null,null,null,null,null,null,null,null,null,"月　日",null,null,null,"品　名・内　訳",null,null,null,null,null,null,null,null,null,null,null,null,null,null,null,"数 量",null,null,"単位",null,null,"単価",null,null,null,null,{"$f":"AW15","v":"金額(税抜)"}]
[]
[]
[]
[null,"契約金額",null,null,null,null,{"$f":"IF(G19=\"\",\"\",G19)","v":""},null,null,null,null,null,null,null,null,null,null,{"$f":"IF(R19=\"\",\"\",R19)","v":""},null,{"$f":"IF(T19=\"\",\"\",T19)","v":""},null,{"$f":"IF(V19=\"\",\"\",V19)","v":""},null,{"$f":"IF(X19=\"\",\"\",X19)","v":""},null,{"$f":"IF(Z19=\"\",\"\",Z19)","v":""},null,{"$f":"IF(AB19=\"\",\"\",AB19)","v":""},null,{"$f":"IF(AD19=\"\",\"\",AD19)","v":""},null,{"$f":"IF(AF19=\"\",\"\",AF19)","v":""},null,{"$f":"IF(AH19=\"\",\"\",AH19)","v":""},null,{"$f":"IF(AJ19=\"\",\"\",AJ19)","v":""},null,{"$f":"IF(AL19=\"\",\"\",AL19)","v":""},null,null,{"$f":"IF(AO19=\"\",\"\",AO19)","v":""},null,null,{"$f":"IF(AR19=\"\",\"\",AR19)","v":""},null,null,null,null,{"$f":"IF(AW19=\"\",\"\",AW19)","v":""}]
[]
[]
[]
[null,"増減額",null,null,null,null,{"$f":"IF(G23=\"\",\"\",G23)","v":""},null,null,null,null,null,null,null,null,null,null,{"$f":"IF(R23=\"\",\"\",R23)","v":""},null,{"$f":"IF(T23=\"\",\"\",T23)","v":""},null,{"$f":"IF(V23=\"\",\"\",V23)","v":""},null,{"$f":"IF(X23=\"\",\"\",X23)","v":""},null,{"$f":"IF(Z23=\"\",\"\",Z23)","v":""},null,{"$f":"IF(AB23=\"\",\"\",AB23)","v":""},null,{"$f":"IF(AD23=\"\",\"\",AD23)","v":""},null,{"$f":"IF(AF23=\"\",\"\",AF23)","v":""},null,{"$f":"IF(AH23=\"\",\"\",AH23)","v":""},null,{"$f":"IF(AJ23=\"\",\"\",AJ23)","v":""},null,{"$f":"IF(AL23=\"\",\"\",AL23)","v":""},null,null,{"$f":"IF(AO23=\"\",\"\",AO23)","v":""},null,null,{"$f":"IF(AR23=\"\",\"\",AR23)","v":""},null,null,null,null,{"$f":"IF(AW23=\"\",\"\",AW23)","v":""}]
[]
[]
[]
[null,"前回までの\n請求額",null,null,null,null,{"$f":"IF(G27=\"\",\"\",G27)","v":""},null,null,null,null,null,null,null,null,null,null,{"$f":"IF(R27=\"\",\"\",R27)","v":""},null,{"$f":"IF(T27=\"\",\"\",T27)","v":""},null,{"$f":"IF(V27=\"\",\"\",V27)","v":""},null,{"$f":"IF(X27=\"\",\"\",X27)","v":""},null,{"$f":"IF(Z27=\"\",\"\",Z27)","v":""},null,{"$f":"IF(AB27=\"\",\"\",AB27)","v":""},null,{"$f":"IF(AD27=\"\",\"\",AD27)","v":""},null,{"$f":"IF(AF27=\"\",\"\",AF27)","v":""},null,{"$f":"IF(AH27=\"\",\"\",AH27)","v":""},null,{"$f":"IF(AJ27=\"\",\"\",AJ27)","v":""},null,{"$f":"IF(AL27=\"\",\"\",AL27)","v":""},null,null,{"$f":"IF(AO27=\"\",\"\",AO27)","v":""},null,null,{"$f":"IF(AR27=\"\",\"\",AR27)","v":""},null,null,null,null,{"$f":"IF(AW27=\"\",\"\",AW27)","v":""}]
[]
[]
[]
[null,"今回\n請求額",null,null,{"$f":"IF(E31=\"\",\"\",E31)","v":""},null,{"$f":"IF(G31=\"\",\"\",G31)","v":""},null,null,null,null,null,null,null,null,null,null,{"$f":"IF(R31=\"\",\"\",R31)","v":""},null,{"$f":"IF(T31=\"\",\"\",T31)","v":""},null,{"$f":"IF(V31=\"\",\"\",V31)","v":""},null,{"$f":"IF(X31=\"\",\"\",X31)","v":""},null,{"$f":"IF(Z31=\"\",\"\",Z31)","v":""},null,{"$f":"IF(AB31=\"\",\"\",AB31)","v":""},null,{"$f":"IF(AD31=\"\",\"\",AD31)","v":""},null,{"$f":"IF(AF31=\"\",\"\",AF31)","v":""},null,{"$f":"IF(AH31=\"\",\"\",AH31)","v":""},null,{"$f":"IF(AJ31=\"\",\"\",AJ31)","v":""},null,{"$f":"IF(AL31=\"\",\"\",AL31)","v":""},null,null,{"$f":"IF(AO31=\"\",\"\",AO31)","v":""},null,null,{"$f":"IF(AR31=\"\",\"\",AR31)","v":""},null,null,null,null,{"$f":"IF(AW31=\"\",\"\",AW31)","v":""}]
[]
[]
[]
[null,"差引残高",null,null,null,null,{"$f":"IF(G111=\"\",\"\",G111+G115-G119-G123)","v":""},null,null,null,null,null,null,null,null,null,null,{"$f":"IF(R35=\"\",\"\",R35)","v":""},null,{"$f":"IF(T35=\"\",\"\",T35)","v":""},null,{"$f":"IF(V35=\"\",\"\",V35)","v":""},null,{"$f":"IF(X35=\"\",\"\",X35)","v":""},null,{"$f":"IF(Z35=\"\",\"\",Z35)","v":""},null,{"$f":"IF(AB35=\"\",\"\",AB35)","v":""},null,{"$f":"IF(AD35=\"\",\"\",AD35)","v":""},null,{"$f":"IF(AF35=\"\",\"\",AF35)","v":""},null,{"$f":"IF(AH35=\"\",\"\",AH35)","v":""},null,{"$f":"IF(AJ35=\"\",\"\",AJ35)","v":""},null,{"$f":"IF(AL35=\"\",\"\",AL35)","v":""},null,null,{"$f":"IF(AO35=\"\",\"\",AO35)","v":""},null,null,{"$f":"IF(AR35=\"\",\"\",AR35)","v":""},null,null,null,null,{"$f":"IF(AW35=\"\",\"\",AW35)","v":""}]
[]
[]
[]
[null,null,null,null,null,null,null,null,null,null,null,null,null,null,null,null,null,{"$f":"IF(R39=\"\",\"\",R39)","v":""},null,{"$f":"IF(T39=\"\",\"\",T39)","v":""},null,{"$f":"IF(V39=\"\",\"\",V39)","v":""},null,{"$f":"IF(X39=\"\",\"\",X39)","v":""},null,{"$f":"IF(Z39=\"\",\"\",Z39)","v":""},null,{"$f":"IF(AB39=\"\",\"\",AB39)","v":""},null,{"$f":"IF(AD39=\"\",\"\",AD39)","v":""},null,{"$f":"IF(AF39=\"\",\"\",AF39)","v":""},null,{"$f":"IF(AH39=\"\",\"\",AH39)","v":""},null,{"$f":"IF(AJ39=\"\",\"\",AJ39)","v":""},null,{"$f":"IF(AL39=\"\",\"\",AL39)","v":""},null,null,{"$f":"IF(AO39=\"\",\"\",AO39)","v":""},null,null,{"$f":"IF(AR39=\"\",\"\",AR39)","v":""},null,null,null,null,{"$f":"IF(AW39=\"\",\"\",AW39)","v":""}]
[]
[]
[]
[null,null,null,null,null,null,null,null,null,null,null,null,null,null,null,null,null,{"$f":"IF(R43=\"\",\"\",R43)","v":""},null,{"$f":"IF(T43=\"\",\"\",T43)","v":""},null,{"$f":"IF(V43=\"\",\"\",V43)","v":""},null,{"$f":"IF(X43=\"\",\"\",X43)","v":""},null,{"$f":"IF(Z43=\"\",\"\",Z43)","v":""},null,{"$f":"IF(AB43=\"\",\"\",AB43)","v":""},null,{"$f":"IF(AD43=\"\",\"\",AD43)","v":""},null,{"$f":"IF(AF43=\"\",\"\",AF43)","v":""},null,{"$f":"IF(AH43=\"\",\"\",AH43)","v":""},null,{"$f":"IF(AJ43=\"\",\"\",AJ43)","v":""},null,{"$f":"IF(AL43=\"\",\"\",AL43)","v":""},null,null,{"$f":"IF(AO43=\"\",\"\",AO43)","v":""},null,null,{"$f":"IF(AR43=\"\",\"\",AR43)","v":""},null,null,null,null,{"$f":"IF(AW43=\"\",\"\",AW43)","v":""}]
[]
[]
[]
[null,null,null,null,null,null,null,null,null,null,null,null,null,null,null,null,null,{"$f":"IF(R47=\"\",\"\",R47)","v":""},null,{"$f":"IF(T47=\"\",\"\",T47)","v":""},null,{"$f":"IF(V47=\"\",\"\",V47)","v":""},null,{"$f":"IF(X47=\"\",\"\",X47)","v":""},null,{"$f":"IF(Z47=\"\",\"\",Z47)","v":""},null,{"$f":"IF(AB47=\"\",\"\",AB47)","v":""},null,{"$f":"IF(AD47=\"\",\"\",AD47)","v":""},null,{"$f":"IF(AF47=\"\",\"\",AF47)","v":""},null,{"$f":"IF(AH47=\"\",\"\",AH47)","v":""},null,{"$f":"IF(AJ47=\"\",\"\",AJ47)","v":""},null,{"$f":"IF(AL47=\"\",\"\",AL47)","v":""},null,null,{"$f":"IF(AO47=\"\",\"\",AO47)","v":""},null,null,{"$f":"IF(AR47=\"\",\"\",AR47)","v":""},null,null,null,null,{"$f":"IF(AW47=\"\",\"\",AW47)","v":""}]
[]
[]
[]
[null,null,null,null,null,null,null,null,null,null,null,null,null,null,null,null,null,{"$f":"IF(R51=\"\",\"\",R51)","v":""},null,{"$f":"IF(T51=\"\",\"\",T51)","v":""},null,{"$f":"IF(V51=\"\",\"\",V51)","v":""},null,{"$f":"IF(X51=\"\",\"\",X51)","v":""},null,{"$f":"IF(Z51=\"\",\"\",Z51)","v":""},null,{"$f":"IF(AB51=\"\",\"\",AB51)","v":""},null,{"$f":"IF(AD51=\"\",\"\",AD51)","v":""},null,{"$f":"IF(AF51=\"\",\"\",AF51)","v":""},null,{"$f":"IF(AH51=\"\",\"\",AH51)","v":""},null,{"$f":"IF(AJ51=\"\",\"\",AJ51)","v":""},null,{"$f":"IF(AL51=\"\",\"\",AL51)","v":""},null,null,{"$f":"IF(AO51=\"\",\"\",AO51)","v":""},null,null,{"$f":"IF(AR51=\"\",\"\",AR51)","v":""},null,null,null,null,{"$f":"IF(AW51=\"\",\"\",AW51)","v":""}]
[]
[]
[]
[null,null,null,null,null,null,null,null,null,null,null,null,null,null,null,null,null,{"$f":"IF(R55=\"\",\"\",R55)","v":""},null,{"$f":"IF(T55=\"\",\"\",T55)","v":""},null,{"$f":"IF(V55=\"\",\"\",V55)","v":""},null,{"$f":"IF(X55=\"\",\"\",X55)","v":""},null,{"$f":"IF(Z55=\"\",\"\",Z55)","v":""},null,{"$f":"IF(AB55=\"\",\"\",AB55)","v":""},null,{"$f":"IF(AD55=\"\",\"\",AD55)","v":""},null,{"$f":"IF(AF55=\"\",\"\",AF55)","v":""},null,{"$f":"IF(AH55=\"\",\"\",AH55)","v":""},null,{"$f":"IF(AJ55=\"\",\"\",AJ55)","v":""},null,{"$f":"IF(AL55=\"\",\"\",AL55)","v":""},null,null,{"$f":"IF(AO55=\"\",\"\",AO55)","v":""},null,null,{"$f":"IF(AR55=\"\",\"\",AR55)","v":""},null,null,null,null,{"$f":"IF(AW55=\"\",\"\",AW55)","v":""}]
[]
[]
[]
[null,null,null,null,null,null,null,null,null,null,null,null,null,null,null,null,null,{"$f":"IF(R59=\"\",\"\",R59)","v":""},null,{"$f":"IF(T59=\"\",\"\",T59)","v":""},null,{"$f":"IF(V59=\"\",\"\",V59)","v":""},null,{"$f":"IF(X59=\"\",\"\",X59)","v":""},null,{"$f":"IF(Z59=\"\",\"\",Z59)","v":""},null,{"$f":"IF(AB59=\"\",\"\",AB59)","v":""},null,{"$f":"IF(AD59=\"\",\"\",AD59)","v":""},null,{"$f":"IF(AF59=\"\",\"\",AF59)","v":""},null,{"$f":"IF(AH59=\"\",\"\",AH59)","v":""},null,{"$f":"IF(AJ59=\"\",\"\",AJ59)","v":""},null,{"$f":"IF(AL59=\"\",\"\",AL59)","v":""},null,null,{"$f":"IF(AO59=\"\",\"\",AO59)","v":""},null,null,{"$f":"IF(AR59=\"\",\"\",AR59)","v":""},null,null,null,null,{"$f":"IF(AW59=\"\",\"\",AW59)","v":""}]
[]
[]
[]
[null,null,null,null,null,null,null,null,null,null,null,null,null,null,null,null,null,{"$f":"IF(R63=\"\",\"\",R63)","v":""},null,{"$f":"IF(T63=\"\",\"\",T63)","v":""},null,{"$f":"IF(V63=\"\",\"\",V63)","v":""},null,{"$f":"IF(X63=\"\",\"\",X63)","v":""},null,{"$f":"IF(Z63=\"\",\"\",Z63)","v":""},null,{"$f":"IF(AB63=\"\",\"\",AB63)","v":""},null,{"$f":"IF(AD63=\"\",\"\",AD63)","v":""},null,{"$f":"IF(AF63=\"\",\"\",AF63)","v":""},null,{"$f":"IF(AH63=\"\",\"\",AH63)","v":""},null,{"$f":"IF(AJ63=\"\",\"\",AJ63)","v":""},null,{"$f":"IF(AL63=\"\",\"\",AL63)","v":""},null,null,{"$f":"IF(AO63=\"\",\"\",AO63)","v":""},null,null,{"$f":"IF(AR63=\"\",\"\",AR63)","v":""},null,null,null,null,{"$f":"IF(AW63=\"\",\"\",AW63)","v":""}]
[]
[]
[]
[null,null,null,null,null,null,null,null,null,null,null,null,null,null,null,null,null,{"$f":"IF(R67=\"\",\"\",R67)","v":""},null,{"$f":"IF(T67=\"\",\"\",T67)","v":""},null,{"$f":"IF(V67=\"\",\"\",V67)","v":""},null,{"$f":"IF(X67=\"\",\"\",X67)","v":""},null,{"$f":"IF(Z67=\"\",\"\",Z67)","v":""},null,{"$f":"IF(AB67=\"\",\"\",AB67)","v":""},null,{"$f":"IF(AD67=\"\",\"\",AD67)","v":""},null,{"$f":"IF(AF67=\"\",\"\",AF67)","v":""},null,{"$f":"IF(AH67=\"\",\"\",AH67)","v":""},null,{"$f":"IF(AJ67=\"\",\"\",AJ67)","v":""},null,{"$f":"IF(AL67=\"\",\"\",AL67)","v":""},null,null,{"$f":"IF(AO67=\"\",\"\",AO67)","v":""},null,null,{"$f":"IF(AR67=\"\",\"\",AR67)","v":""},null,null,null,null,{"$f":"IF(AW67=\"\",\"\",AW67)","v":""}]
[]
[]
[]
[null,null,null,null,null,null,null,null,null,null,null,null,null,null,null,null,null,{"$f":"IF(R71=\"\",\"\",R71)","v":""},null,{"$f":"IF(T71=\"\",\"\",T71)","v":""},null,{"$f":"IF(V71=\"\",\"\",V71)","v":""},null,{"$f":"IF(X71=\"\",\"\",X71)","v":""},null,{"$f":"IF(Z71=\"\",\"\",Z71)","v":""},null,{"$f":"IF(AB71=\"\",\"\",AB71)","v":""},null,{"$f":"IF(AD71=\"\",\"\",AD71)","v":""},null,{"$f":"IF(AF71=\"\",\"\",AF71)","v":""},null,{"$f":"IF(AH71=\"\",\"\",AH71)","v":""},null,{"$f":"IF(AJ71=\"\",\"\",AJ71)","v":""},null,{"$f":"IF(AL71=\"\",\"\",AL71)","v":""},null,null,{"$f":"IF(AO71=\"\",\"\",AO71)","v":""},null,null,{"$f":"IF(AR71=\"\",\"\",AR71)","v":""},null,null,null,null,{"$f":"IF(AW71=\"\",\"\",AW71)","v":""}]
[]
[]
[]
[null,null,null,null,null,null,null,null,null,null,null,null,null,null,null,null,null,{"$f":"IF(R75=\"\",\"\",R75)","v":""},null,{"$f":"IF(T75=\"\",\"\",T75)","v":""},null,{"$f":"IF(V75=\"\",\"\",V75)","v":""},null,{"$f":"IF(X75=\"\",\"\",X75)","v":""},null,{"$f":"IF(Z75=\"\",\"\",Z75)","v":""},null,{"$f":"IF(AB75=\"\",\"\",AB75)","v":""},null,{"$f":"IF(AD75=\"\",\"\",AD75)","v":""},null,{"$f":"IF(AF75=\"\",\"\",AF75)","v":""},null,{"$f":"IF(AH75=\"\",\"\",AH75)","v":""},null,{"$f":"IF(AJ75=\"\",\"\",AJ75)","v":""},null,{"$f":"IF(AL75=\"\",\"\",AL75)","v":""},null,null,{"$f":"IF(AO75=\"\",\"\",AO75)","v":""},null,null,{"$f":"IF(AR75=\"\",\"\",AR75)","v":""},null,null,null,null,{"$f":"IF(AW75=\"\",\"\",AW75)","v":""}]
[]
[]
[]
[null,null,null,null,null,null,null,null,null,null,null,null,null,null,null,null,null,{"$f":"IF(R79=\"\",\"\",R79)","v":""},null,{"$f":"IF(T79=\"\",\"\",T79)","v":""},null,{"$f":"IF(V79=\"\",\"\",V79)","v":""},null,{"$f":"IF(X79=\"\",\"\",X79)","v":""},null,{"$f":"IF(Z79=\"\",\"\",Z79)","v":""},null,{"$f":"IF(AB79=\"\",\"\",AB79)","v":""},null,{"$f":"IF(AD79=\"\",\"\",AD79)","v":""},null,{"$f":"IF(AF79=\"\",\"\",AF79)","v":""},null,{"$f":"IF(AH79=\"\",\"\",AH79)","v":""},null,{"$f":"IF(AJ79=\"\",\"\",AJ79)","v":""},null,{"$f":"IF(AL79=\"\",\"\",AL79)","v":""},null,null,{"$f":"IF(AO79=\"\",\"\",AO79)","v":""},null,null,{"$f":"IF(AR79=\"\",\"\",AR79)","v":""},null,null,null,null,{"$f":"IF(AW79=\"\",\"\",AW79)","v":""}]
[]
[]
[]
[null,null,null,null,null,null,null,null,null,null,null,null,null,null,null,null,null,null,null,null,null,null,null,null,null,null,null,null,null,null,null,null,null,null,null,null,null,{"$f":"AL83","v":"金額(税抜)"},null,null,null,null,null,null,null,null,null,null,{"$f":"AW83","v":""}]
[]
[]
[]
[]
[null,null,null,null,null,null,null,null,null,null,null,null,null,null,null,null,null,null,null,null,null,null,null,null,null,null,null,null,null,null,null,null,null,null,null,null,null,{"$f":"AL88","v":"消費税"},null,null,null,null,null,"税率",null,null,"税調",null,{"$f":"AW88","v":""}]
[]
[null,null,null,null,null,null,null,null,null,null,null,null,null,null,null,null,null,null,null,null,null,null,null,null,null,null,null,null,null,null,null,null,null,null,null,null,null,null,null,null,null,null,null,{"$f":"AR90","v":0},null,{"$f":"AT90","v":""}]
[]
[]
[]
[null,null,null,null,null,null,null,null,null,null,null,null,null,null,null,null,null,null,null,"請求明細書 (貴社控)"]
[null,"株 式 会 社 種 村 建 設",null,null,null,null,null,null,null,null,null,null,"御中"]
[null,null,null,null,null,null,null,null,null,null,null,null,null,null,null,null,null,null,null,null,null,null,null,null,null,null,null,null,null,null,null,null,null,null,null,null,null,null,null,null,"請求年月日",null,null,null,null,{"$f":"IF(AT4=\"\",\"\",AT4)","v":""},null,null,null,{"$f":"IF(AX96=\"\",\"\",AX96)","v":""},null,null,{"$f":"IF(BA96=\"\",\"\",BA96)","v":""}]
[]
[]
[]
[]
[null,"工事番号",null,null,null,null,{"$f":"IF(G101=\"\",\"\",G101)","v":""},null,null,null,null,null,"工事名",null,null,null,{"$f":"IF(Q101=\"\",\"\",Q101)","v":""},null,null,null,null,null,null,null,null,null,null,null,null,null,null,null,null,null,null,null,null,"業者名",null,null,null,{"$f":"IF(AP101=\"\",\"\",AP101)","v":""}]
[]
[]
[]
[]
[]
[null,"注文番号",null,null,null,null,{"$f":"IF(G107=\"\",\"\",G107)","v":""},null,null,null,null,null,null,null,null,null,null,"月　日",null,null,null,"品　名・内　訳",null,null,null,null,null,null,null,null,null,null,null,null,null,null,null,"数 量",null,null,"単位",null,null,"単価",null,null,null,null,{"$f":"AW15","v":"金額(税抜)"}]
[]
[]
[]
[null,"契約金額",null,null,null,null,{"$f":"IF(G111=\"\",\"\",G111)","v":""},null,null,null,null,null,null,null,null,null,null,{"$f":"IF(R111=\"\",\"\",R111)","v":""},null,{"$f":"IF(T111=\"\",\"\",T111)","v":""},null,{"$f":"IF(V111=\"\",\"\",V111)","v":""},null,{"$f":"IF(X111=\"\",\"\",X111)","v":""},null,{"$f":"IF(Z111=\"\",\"\",Z111)","v":""},null,{"$f":"IF(AB111=\"\",\"\",AB111)","v":""},null,{"$f":"IF(AD111=\"\",\"\",AD111)","v":""},null,{"$f":"IF(AF111=\"\",\"\",AF111)","v":""},null,{"$f":"IF(AH111=\"\",\"\",AH111)","v":""},null,{"$f":"IF(AJ111=\"\",\"\",AJ111)","v":""},null,{"$f":"IF(AL111=\"\",\"\",AL111)","v":""},null,null,{"$f":"IF(AO111=\"\",\"\",AO111)","v":""},null,null,{"$f":"IF(AR111=\"\",\"\",AR111)","v":""},null,null,null,null,{"$f":"IF(AW111=\"\",\"\",AW111)","v":""}]
[]
[]
[]
[null,"増減額",null,null,null,null,{"$f":"IF(G115=\"\",\"\",G115)","v":""},null,null,null,null,null,null,null,null,null,null,{"$f":"IF(R115=\"\",\"\",R115)","v":""},null,{"$f":"IF(T115=\"\",\"\",T115)","v":""},null,{"$f":"IF(V115=\"\",\"\",V115)","v":""},null,{"$f":"IF(X115=\"\",\"\",X115)","v":""},null,{"$f":"IF(Z115=\"\",\"\",Z115)","v":""},null,{"$f":"IF(AB115=\"\",\"\",AB115)","v":""},null,{"$f":"IF(AD115=\"\",\"\",AD115)","v":""},null,{"$f":"IF(AF115=\"\",\"\",AF115)","v":""},null,{"$f":"IF(AH115=\"\",\"\",AH115)","v":""},null,{"$f":"IF(AJ115=\"\",\"\",AJ115)","v":""},null,{"$f":"IF(AL115=\"\",\"\",AL115)","v":""},null,null,{"$f":"IF(AO115=\"\",\"\",AO115)","v":""},null,null,{"$f":"IF(AR115=\"\",\"\",AR115)","v":""},null,null,null,null,{"$f":"IF(AW115=\"\",\"\",AW115)","v":""}]
[]
[]
[]
[null,"前回までの\n請求額",null,null,null,null,{"$f":"IF(G119=\"\",\"\",G119)","v":""},null,null,null,null,null,null,null,null,null,null,{"$f":"IF(R119=\"\",\"\",R119)","v":""},null,{"$f":"IF(T119=\"\",\"\",T119)","v":""},null,{"$f":"IF(V119=\"\",\"\",V119)","v":""},null,{"$f":"IF(X119=\"\",\"\",X119)","v":""},null,{"$f":"IF(Z119=\"\",\"\",Z119)","v":""},null,{"$f":"IF(AB119=\"\",\"\",AB119)","v":""},null,{"$f":"IF(AD119=\"\",\"\",AD119)","v":""},null,{"$f":"IF(AF119=\"\",\"\",AF119)","v":""},null,{"$f":"IF(AH119=\"\",\"\",AH119)","v":""},null,{"$f":"IF(AJ119=\"\",\"\",AJ119)","v":""},null,{"$f":"IF(AL119=\"\",\"\",AL119)","v":""},null,null,{"$f":"IF(AO119=\"\",\"\",AO119)","v":""},null,null,{"$f":"IF(AR119=\"\",\"\",AR119)","v":""},null,null,null,null,{"$f":"IF(AW119=\"\",\"\",AW119)","v":""}]
[]
[]
[]
[null,"今回\n請求額",null,null,{"$f":"IF(E31=\"\",\"\",E31)","v":""},null,{"$f":"IF(G123=\"\",\"\",G123)","v":""},null,null,null,null,null,null,null,null,null,null,{"$f":"IF(R123=\"\",\"\",R123)","v":""},null,{"$f":"IF(T123=\"\",\"\",T123)","v":""},null,{"$f":"IF(V123=\"\",\"\",V123)","v":""},null,{"$f":"IF(X123=\"\",\"\",X123)","v":""},null,{"$f":"IF(Z123=\"\",\"\",Z123)","v":""},null,{"$f":"IF(AB123=\"\",\"\",AB123)","v":""},null,{"$f":"IF(AD123=\"\",\"\",AD123)","v":""},null,{"$f":"IF(AF123=\"\",\"\",AF123)","v":""},null,{"$f":"IF(AH123=\"\",\"\",AH123)","v":""},null,{"$f":"IF(AJ123=\"\",\"\",AJ123)","v":""},null,{"$f":"IF(AL123=\"\",\"\",AL123)","v":""},null,null,{"$f":"IF(AO123=\"\",\"\",AO123)","v":""},null,null,{"$f":"IF(AR123=\"\",\"\",AR123)","v":""},null,null,null,null,{"$f":"IF(AW123=\"\",\"\",AW123)","v":""}]
[]
[]
[]
[null,"差引残高",null,null,null,null,{"$f":"IF(G203=\"\",\"\",G203+G207-G211-G215)","v":""},null,null,null,null,null,null,null,null,null,null,{"$f":"IF(R127=\"\",\"\",R127)","v":""},null,{"$f":"IF(T127=\"\",\"\",T127)","v":""},null,{"$f":"IF(V127=\"\",\"\",V127)","v":""},null,{"$f":"IF(X127=\"\",\"\",X127)","v":""},null,{"$f":"IF(Z127=\"\",\"\",Z127)","v":""},null,{"$f":"IF(AB127=\"\",\"\",AB127)","v":""},null,{"$f":"IF(AD127=\"\",\"\",AD127)","v":""},null,{"$f":"IF(AF127=\"\",\"\",AF127)","v":""},null,{"$f":"IF(AH127=\"\",\"\",AH127)","v":""},null,{"$f":"IF(AJ127=\"\",\"\",AJ127)","v":""},null,{"$f":"IF(AL127=\"\",\"\",AL127)","v":""},null,null,{"$f":"IF(AO127=\"\",\"\",AO127)","v":""},null,null,{"$f":"IF(AR127=\"\",\"\",AR127)","v":""},null,null,null,null,{"$f":"IF(AW127=\"\",\"\",AW127)","v":""}]
[]
[]
[]
[null,null,null,null,null,null,null,null,null,null,null,null,null,null,null,null,null,{"$f":"IF(R131=\"\",\"\",R131)","v":""},null,{"$f":"IF(T131=\"\",\"\",T131)","v":""},null,{"$f":"IF(V131=\"\",\"\",V131)","v":""},null,{"$f":"IF(X131=\"\",\"\",X131)","v":""},null,{"$f":"IF(Z131=\"\",\"\",Z131)","v":""},null,{"$f":"IF(AB131=\"\",\"\",AB131)","v":""},null,{"$f":"IF(AD131=\"\",\"\",AD131)","v":""},null,{"$f":"IF(AF131=\"\",\"\",AF131)","v":""},null,{"$f":"IF(AH131=\"\",\"\",AH131)","v":""},null,{"$f":"IF(AJ131=\"\",\"\",AJ131)","v":""},null,{"$f":"IF(AL131=\"\",\"\",AL131)","v":""},null,null,{"$f":"IF(AO131=\"\",\"\",AO131)","v":""},null,null,{"$f":"IF(AR131=\"\",\"\",AR131)","v":""},null,null,null,null,{"$f":"IF(AW131=\"\",\"\",AW131)","v":""}]
[]
[]
[]
[null,null,null,null,null,null,null,null,null,null,null,null,null,null,null,null,null,{"$f":"IF(R135=\"\",\"\",R135)","v":""},null,{"$f":"IF(T135=\"\",\"\",T135)","v":""},null,{"$f":"IF(V135=\"\",\"\",V135)","v":""},null,{"$f":"IF(X135=\"\",\"\",X135)","v":""},null,{"$f":"IF(Z135=\"\",\"\",Z135)","v":""},null,{"$f":"IF(AB135=\"\",\"\",AB135)","v":""},null,{"$f":"IF(AD135=\"\",\"\",AD135)","v":""},null,{"$f":"IF(AF135=\"\",\"\",AF135)","v":""},null,{"$f":"IF(AH135=\"\",\"\",AH135)","v":""},null,{"$f":"IF(AJ135=\"\",\"\",AJ135)","v":""},null,{"$f":"IF(AL135=\"\",\"\",AL135)","v":""},null,null,{"$f":"IF(AO135=\"\",\"\",AO135)","v":""},null,null,{"$f":"IF(AR135=\"\",\"\",AR135)","v":""},null,null,null,null,{"$f":"IF(AW135=\"\",\"\",AW135)","v":""}]
[]
[]
[]
[null,null,null,null,null,null,null,null,null,null,null,null,null,null,null,null,null,{"$f":"IF(R139=\"\",\"\",R139)","v":""},null,{"$f":"IF(T139=\"\",\"\",T139)","v":""},null,{"$f":"IF(V139=\"\",\"\",V139)","v":""},null,{"$f":"IF(X139=\"\",\"\",X139)","v":""},null,{"$f":"IF(Z139=\"\",\"\",Z139)","v":""},null,{"$f":"IF(AB139=\"\",\"\",AB139)","v":""},null,{"$f":"IF(AD139=\"\",\"\",AD139)","v":""},null,{"$f":"IF(AF139=\"\",\"\",AF139)","v":""},null,{"$f":"IF(AH139=\"\",\"\",AH139)","v":""},null,{"$f":"IF(AJ139=\"\",\"\",AJ139)","v":""},null,{"$f":"IF(AL139=\"\",\"\",AL139)","v":""},null,null,{"$f":"IF(AO139=\"\",\"\",AO139)","v":""},null,null,{"$f":"IF(AR139=\"\",\"\",AR139)","v":""},null,null,null,null,{"$f":"IF(AW139=\"\",\"\",AW139)","v":""}]
[]
[]
[]
[null,null,null,null,null,null,null,null,null,null,null,null,null,null,null,null,null,{"$f":"IF(R143=\"\",\"\",R143)","v":""},null,{"$f":"IF(T143=\"\",\"\",T143)","v":""},null,{"$f":"IF(V143=\"\",\"\",V143)","v":""},null,{"$f":"IF(X143=\"\",\"\",X143)","v":""},null,{"$f":"IF(Z143=\"\",\"\",Z143)","v":""},null,{"$f":"IF(AB143=\"\",\"\",AB143)","v":""},null,{"$f":"IF(AD143=\"\",\"\",AD143)","v":""},null,{"$f":"IF(AF143=\"\",\"\",AF143)","v":""},null,{"$f":"IF(AH143=\"\",\"\",AH143)","v":""},null,{"$f":"IF(AJ143=\"\",\"\",AJ143)","v":""},null,{"$f":"IF(AL143=\"\",\"\",AL143)","v":""},null,null,{"$f":"IF(AO143=\"\",\"\",AO143)","v":""},null,null,{"$f":"IF(AR143=\"\",\"\",AR143)","v":""},null,null,null,null,{"$f":"IF(AW143=\"\",\"\",AW143)","v":""}]
[]
[]
[]
[null,null,null,null,null,null,null,null,null,null,null,null,null,null,null,null,null,{"$f":"IF(R147=\"\",\"\",R147)","v":""},null,{"$f":"IF(T147=\"\",\"\",T147)","v":""},null,{"$f":"IF(V147=\"\",\"\",V147)","v":""},null,{"$f":"IF(X147=\"\",\"\",X147)","v":""},null,{"$f":"IF(Z147=\"\",\"\",Z147)","v":""},null,{"$f":"IF(AB147=\"\",\"\",AB147)","v":""},null,{"$f":"IF(AD147=\"\",\"\",AD147)","v":""},null,{"$f":"IF(AF147=\"\",\"\",AF147)","v":""},null,{"$f":"IF(AH147=\"\",\"\",AH147)","v":""},null,{"$f":"IF(AJ147=\"\",\"\",AJ147)","v":""},null,{"$f":"IF(AL147=\"\",\"\",AL147)","v":""},null,null,{"$f":"IF(AO147=\"\",\"\",AO147)","v":""},null,null,{"$f":"IF(AR147=\"\",\"\",AR147)","v":""},null,null,null,null,{"$f":"IF(AW147=\"\",\"\",AW147)","v":""}]
[]
[]
[]
[null,null,null,null,null,null,null,null,null,null,null,null,null,null,null,null,null,{"$f":"IF(R151=\"\",\"\",R151)","v":""},null,{"$f":"IF(T151=\"\",\"\",T151)","v":""},null,{"$f":"IF(V151=\"\",\"\",V151)","v":""},null,{"$f":"IF(X151=\"\",\"\",X151)","v":""},null,{"$f":"IF(Z151=\"\",\"\",Z151)","v":""},null,{"$f":"IF(AB151=\"\",\"\",AB151)","v":""},null,{"$f":"IF(AD151=\"\",\"\",AD151)","v":""},null,{"$f":"IF(AF151=\"\",\"\",AF151)","v":""},null,{"$f":"IF(AH151=\"\",\"\",AH151)","v":""},null,{"$f":"IF(AJ151=\"\",\"\",AJ151)","v":""},null,{"$f":"IF(AL151=\"\",\"\",AL151)","v":""},null,null,{"$f":"IF(AO151=\"\",\"\",AO151)","v":""},null,null,{"$f":"IF(AR151=\"\",\"\",AR151)","v":""},null,null,null,null,{"$f":"IF(AW151=\"\",\"\",AW151)","v":""}]
[]
[]
[]
[null,null,null,null,null,null,null,null,null,null,null,null,null,null,null,null,null,{"$f":"IF(R155=\"\",\"\",R155)","v":""},null,{"$f":"IF(T155=\"\",\"\",T155)","v":""},null,{"$f":"IF(V155=\"\",\"\",V155)","v":""},null,{"$f":"IF(X155=\"\",\"\",X155)","v":""},null,{"$f":"IF(Z155=\"\",\"\",Z155)","v":""},null,{"$f":"IF(AB155=\"\",\"\",AB155)","v":""},null,{"$f":"IF(AD155=\"\",\"\",AD155)","v":""},null,{"$f":"IF(AF155=\"\",\"\",AF155)","v":""},null,{"$f":"IF(AH155=\"\",\"\",AH155)","v":""},null,{"$f":"IF(AJ155=\"\",\"\",AJ155)","v":""},null,{"$f":"IF(AL155=\"\",\"\",AL155)","v":""},null,null,{"$f":"IF(AO155=\"\",\"\",AO155)","v":""},null,null,{"$f":"IF(AR155=\"\",\"\",AR155)","v":""},null,null,null,null,{"$f":"IF(AW155=\"\",\"\",AW155)","v":""}]
[]
[]
[]
[null,null,null,null,null,null,null,null,null,null,null,null,null,null,null,null,null,{"$f":"IF(R159=\"\",\"\",R159)","v":""},null,{"$f":"IF(T159=\"\",\"\",T159)","v":""},null,{"$f":"IF(V159=\"\",\"\",V159)","v":""},null,{"$f":"IF(X159=\"\",\"\",X159)","v":""},null,{"$f":"IF(Z159=\"\",\"\",Z159)","v":""},null,{"$f":"IF(AB159=\"\",\"\",AB159)","v":""},null,{"$f":"IF(AD159=\"\",\"\",AD159)","v":""},null,{"$f":"IF(AF159=\"\",\"\",AF159)","v":""},null,{"$f":"IF(AH159=\"\",\"\",AH159)","v":""},null,{"$f":"IF(AJ159=\"\",\"\",AJ159)","v":""},null,{"$f":"IF(AL159=\"\",\"\",AL159)","v":""},null,null,{"$f":"IF(AO159=\"\",\"\",AO159)","v":""},null,null,{"$f":"IF(AR159=\"\",\"\",AR159)","v":""},null,null,null,null,{"$f":"IF(AW159=\"\",\"\",AW159)","v":""}]
[]
[]
[]
[null,null,null,null,null,null,null,null,null,null,null,null,null,null,null,null,null,{"$f":"IF(R163=\"\",\"\",R163)","v":""},null,{"$f":"IF(T163=\"\",\"\",T163)","v":""},null,{"$f":"IF(V163=\"\",\"\",V163)","v":""},null,{"$f":"IF(X163=\"\",\"\",X163)","v":""},null,{"$f":"IF(Z163=\"\",\"\",Z163)","v":""},null,{"$f":"IF(AB163=\"\",\"\",AB163)","v":""},null,{"$f":"IF(AD163=\"\",\"\",AD163)","v":""},null,{"$f":"IF(AF163=\"\",\"\",AF163)","v":""},null,{"$f":"IF(AH163=\"\",\"\",AH163)","v":""},null,{"$f":"IF(AJ163=\"\",\"\",AJ163)","v":""},null,{"$f":"IF(AL163=\"\",\"\",AL163)","v":""},null,null,{"$f":"IF(AO163=\"\",\"\",AO163)","v":""},null,null,{"$f":"IF(AR163=\"\",\"\",AR163)","v":""},null,null,null,null,{"$f":"IF(AW163=\"\",\"\",AW163)","v":""}]
[]
[]
[]
[null,null,null,null,null,null,null,null,null,null,null,null,null,null,null,null,null,{"$f":"IF(R167=\"\",\"\",R167)","v":""},null,{"$f":"IF(T167=\"\",\"\",T167)","v":""},null,{"$f":"IF(V167=\"\",\"\",V167)","v":""},null,{"$f":"IF(X167=\"\",\"\",X167)","v":""},null,{"$f":"IF(Z167=\"\",\"\",Z167)","v":""},null,{"$f":"IF(AB167=\"\",\"\",AB167)","v":""},null,{"$f":"IF(AD167=\"\",\"\",AD167)","v":""},null,{"$f":"IF(AF167=\"\",\"\",AF167)","v":""},null,{"$f":"IF(AH167=\"\",\"\",AH167)","v":""},null,{"$f":"IF(AJ167=\"\",\"\",AJ167)","v":""},null,{"$f":"IF(AL167=\"\",\"\",AL167)","v":""},null,null,{"$f":"IF(AO167=\"\",\"\",AO167)","v":""},null,null,{"$f":"IF(AR167=\"\",\"\",AR167)","v":""},null,null,null,null,{"$f":"IF(AW167=\"\",\"\",AW167)","v":""}]
[]
[]
[]
[null,null,null,null,null,null,null,null,null,null,null,null,null,null,null,null,null,{"$f":"IF(R171=\"\",\"\",R171)","v":""},null,{"$f":"IF(T171=\"\",\"\",T171)","v":""},null,{"$f":"IF(V171=\"\",\"\",V171)","v":""},null,{"$f":"IF(X171=\"\",\"\",X171)","v":""},null,{"$f":"IF(Z171=\"\",\"\",Z171)","v":""},null,{"$f":"IF(AB171=\"\",\"\",AB171)","v":""},null,{"$f":"IF(AD171=\"\",\"\",AD171)","v":""},null,{"$f":"IF(AF171=\"\",\"\",AF171)","v":""},null,{"$f":"IF(AH171=\"\",\"\",AH171)","v":""},null,{"$f":"IF(AJ171=\"\",\"\",AJ171)","v":""},null,{"$f":"IF(AL171=\"\",\"\",AL171)","v":""},null,null,{"$f":"IF(AO171=\"\",\"\",AO171)","v":""},null,null,{"$f":"IF(AR171=\"\",\"\",AR171)","v":""},null,null,null,null,{"$f":"IF(AW171=\"\",\"\",AW171)","v":""}]
[]
[]
[]
[null,null,null,null,null,null,null,null,null,null,null,null,null,null,null,null,null,null,null,null,null,null,null,null,null,null,null,null,null,null,null,null,null,null,null,null,null,{"$f":"AL175","v":"金額(税抜)"},null,null,null,null,null,null,null,null,null,null,{"$f":"AW83","v":""}]
[]
[]
[]
[]
[null,null,null,null,null,null,null,null,null,null,null,null,null,null,null,null,null,null,null,null,null,null,null,null,null,null,null,null,null,null,null,null,null,null,null,null,null,{"$f":"AL180","v":"消費税"},null,null,null,null,null,"税率",null,null,"税調",null,{"$f":"AW88","v":""}]
[]
[null,null,null,null,null,null,null,null,null,null,null,null,null,null,null,null,null,null,null,null,null,null,null,null,null,null,null,null,null,null,null,null,null,null,null,null,null,null,null,null,null,null,null,{"$f":"AR90","v":0},null,{"$f":"AT90","v":""}]

{"sheet":"細2-4","index":19,"n_rows":274,"n_cols":53,"rows_kept":274,"cut":false,"hidden":false,"merged":[[266,37,269,47],[266,48,269,54],[258,48,261,54],[262,17,265,18],[262,19,265,20],[262,21,265,36],[262,37,265,39],[258,43,261,47],[271,48,274,54],[262,40,265,42],[262,43,265,47],[262,48,265,54],[258,17,261,18],[258,19,261,20],[258,21,261,36],[258,37,261,39],[258,40,261,42],[271,37,274,42],[271,43,272,45],[273,43,274,44],[273,45,274,45],[273,46,274,47],[271,46,272,47],[250,48,253,54],[254,17,257,18],[254,19,257,20],[254,21,257,36],[254,37,257,39],[254,40,257,42],[254,43,257,47],[254,48,257,54],[250,17,253,18],[250,19,253,20],[250,21,253,36],[250,37,253,39],[250,40,253,42],[250,43,253,47],[242,48,245,54],[246,17,249,18],[246,19,249,20],[246,21,249,36],[246,37,249,39],[246,40,249,42],[246,43,249,47],[246,48,249,54],[242,17,245,18],[242,19,245,20],[242,21,245,36],[242,37,245,39],[242,40,245,42],[242,43,245,47],[234,48,237,54],[238,17,241,18],[238,19,241,20],[238,21,241,36],[238,37,241,39],[238,40,241,42],[238,43,241,47],[238,48,241,54],[234,17,237,18],[234,19,237,20],[234,21,237,36],[234,37,237,39],[234,40,237,42],[234,43,237,47],[222,17,225,18],[222,19,225,20],[222,21,225,36],[222,37,225,39],[222,40,225,42],[222,43,225,47],[222,48,225,54],[226,48,229,54],[230,17,233,18],[230,19,233,20],[230,21,233,36],[230,37,233,39],[230,40,233,42],[230,43,233,47],[230,48,233,54],[226,17,229,18],[226,19,229,20],[226,21,229,36],[226,37,229,39],[226,40,229,42],[226,43,229,47],[218,1,221,5],[218,6,221,15],[218,17,221,18],[218,19,221,20],[218,21,221,36],[218,37,221,39],[218,40,221,42],[218,43,221,47],[218,48,221,54],[210,40,213,42],[210,43,213,47],[210,48,213,54],[214,1,217,3],[214,4,217,5],[214,6,217,15],[214,17,217,18],[214,19,217,20],[214,21,217,36],[214,37,217,39],[210,1,213,5],[210,6,213,15],[210,17,213,18],[210,19,213,20],[210,21,213,36],[210,37,213,39],[214,40,217,42],[214,43,217,47],[214,48,217,54],[206,1,209,5],[206,6,209,15],[206,17,209,18],[206,19,209,20],[206,21,209,36],[206,37,209,39],[206,40,209,42],[206,43,209,47],[206,48,209,54],[198,43,201,47],[198,48,201,54],[202,1,205,5],[202,6,205,15],[202,17,205,18],[202,19,205,20],[202,21,205,36],[202,37,205,39],[202,40,205,42],[202,43,205,47],[198,1,201,5],[198,6,201,15],[198,17,201,20],[198,21,201,36],[198,37,201,39],[198,40,201,42],[202,48,205,54],[187,52,189,54],[192,1,195,5],[192,6,195,11],[192,12,195,15],[192,16,195,35],[192,37,195,40],[192,41,195,54],[185,19,188,32],[186,1,189,11],[186,12,189,13],[187,49,189,51],[187,40,189,44],[187,45,189,48],[174,37,177,47],[174,48,177,54],[179,48,182,54],[170,17,173,18],[170,19,173,20],[170,21,173,36],[170,37,173,39],[170,40,173,42],[170,43,173,47],[170,48,173,54],[179,37,182,42],[179,43,180,45],[179,46,180,47],[181,43,182,44],[181,45,182,45],[181,46,182,47],[166,17,169,18],[166,19,169,20],[162,43,165,47],[162,48,165,54],[158,17,161,18],[158,19,161,20],[158,21,161,36],[158,37,161,39],[158,40,161,42],[162,17,165,18],[162,19,165,20],[162,21,165,36],[162,37,165,39],[162,40,165,42],[166,48,169,54],[158,43,161,47],[166,21,169,36],[166,37,169,39],[166,40,169,42],[166,43,169,47],[158,48,161,54],[154,48,157,54],[150,17,153,18],[150,19,153,20],[146,43,149,47],[146,48,149,54],[142,17,145,18],[142,19,145,20],[142,21,145,36],[142,37,145,39],[142,40,145,42],[154,17,157,18],[154,19,157,20],[154,21,157,36],[154,37,157,39],[154,40,157,42],[154,43,157,47],[146,17,149,18],[146,19,149,20],[146,21,149,36],[146,37,149,39],[146,40,149,42],[150,48,153,54],[142,43,145,47],[150,21,153,36],[150,37,153,39],[150,40,153,42],[150,43,153,47],[142,48,145,54],[130,48,133,54],[134,48,137,54],[130,17,133,18],[130,19,133,20],[130,21,133,36],[130,37,133,39],[130,40,133,42],[130,43,133,47],[138,48,141,54],[134,17,137,18],[134,19,137,20],[134,21,137,36],[134,37,137,39],[134,40,137,42],[134,43,137,47],[138,17,141,18],[138,19,141,20],[138,21,141,36],[138,37,141,39],[138,40,141,42],[138,43,141,47],[126,1,129,5],[126,6,129,15],[126,17,129,18],[126,19,129,20],[126,21,129,36],[126,37,129,39],[126,40,129,42],[126,43,129,47],[126,48,129,54],[118,40,121,42],[118,43,121,47],[118,48,121,54],[122,1,125,3],[122,4,125,5],[122,6,125,15],[122,17,125,18],[122,19,125,20],[122,21,125,36],[122,37,125,39],[118,1,121,5],[118,6,121,15],[118,17,121,18],[118,19,121,20],[118,21,121,36],[118,37,121,39],[122,40,125,42],[122,43,125,47],[122,48,125,54],[114,1,117,5],[114,6,117,15],[114,17,117,18],[114,19,117,20],[114,21,117,36],[114,37,117,39],[114,40,117,42],[114,43,117,47],[114,48,117,54],[106,43,109,47],[106,48,109,54],[110,1,113,5],[110,6,113,15],[110,17,113,18],[110,19,113,20],[110,21,113,36],[110,37,113,39],[110,40,113,42],[110,43,113,47],[106,1,109,5],[106,6,109,15],[106,17,109,20],[106,21,109,36],[106,37,109,39],[106,40,109,42],[110,48,113,54],[89,46,90,47],[87,46,88,47],[95,49,97,51],[95,52,97,54],[100,1,103,5],[100,6,103,11],[100,12,103,15],[100,16,103,35],[100,37,103,40],[100,41,103,54],[93,19,96,32],[94,1,97,11],[94,12,97,13],[95,40,97,44],[95,45,97,48],[83,1,84,4],[83,5,84,10],[83,11,84,16],[83,17,84,25],[85,1,90,4],[85,5,90,10],[85,11,90,16],[85,17,90,25],[89,45,90,45],[78,43,81,47],[83,26,84,30],[83,31,84,35],[78,17,81,18],[78,19,81,20],[78,21,81,36],[85,26,90,30],[85,31,90,35],[74,48,77,54],[87,48,90,54],[78,48,81,54],[82,37,85,47],[82,48,85,54],[78,37,81,39],[78,40,81,42],[74,17,77,18],[74,19,77,20],[74,21,77,36],[74,37,77,39],[74,40,77,42],[74,43,77,47],[87,37,90,42],[87,43,88,45],[89,43,90,44],[66,48,69,54],[70,17,73,18],[70,19,73,20],[70,21,73,36],[70,37,73,39],[70,40,73,42],[70,43,73,47],[70,48,73,54],[66,17,69,18],[66,19,69,20],[66,21,69,36],[66,37,69,39],[66,40,69,42],[66,43,69,47],[58,48,61,54],[62,17,65,18],[62,19,65,20],[62,21,65,36],[62,37,65,39],[62,40,65,42],[62,43,65,47],[62,48,65,54],[58,17,61,18],[58,19,61,20],[58,21,61,36],[58,37,61,39],[58,40,61,42],[58,43,61,47],[50,48,53,54],[54,17,57,18],[54,19,57,20],[54,21,57,36],[54,37,57,39],[54,40,57,42],[54,43,57,47],[54,48,57,54],[50,17,53,18],[50,19,53,20],[50,21,53,36],[50,37,53,39],[50,40,53,42],[50,43,53,47],[38,17,41,18],[38,19,41,20],[38,21,41,36],[38,37,41,39],[38,40,41,42],[38,43,41,47],[38,48,41,54],[42,48,45,54],[46,17,49,18],[46,19,49,20],[46,21,49,36],[46,37,49,39],[46,40,49,42],[46,43,49,47],[46,48,49,54],[42,17,45,18],[42,19,45,20],[42,21,45,36],[42,37,45,39],[42,40,45,42],[42,43,45,47],[34,1,37,5],[34,6,37,15],[34,17,37,18],[34,19,37,20],[34,21,37,36],[34,37,37,39],[34,40,37,42],[34,43,37,47],[34,48,37,54],[26,40,29,42],[26,43,29,47],[26,48,29,54],[30,1,33,3],[30,4,33,5],[30,6,33,15],[30,17,33,18],[30,19,33,20],[30,21,33,36],[30,37,33,39],[26,1,29,5],[26,6,29,15],[26,17,29,18],[26,19,29,20],[26,21,29,36],[26,37,29,39],[30,40,33,42],[30,43,33,47],[30,48,33,54],[22,1,25,5],[22,6,25,15],[22,17,25,18],[22,19,25,20],[22,21,25,36],[22,37,25,39],[22,40,25,42],[22,43,25,47],[22,48,25,54],[14,43,17,47],[14,48,17,54],[18,1,21,5],[18,6,21,15],[18,17,21,18],[18,19,21,20],[18,21,21,36],[18,37,21,39],[18,40,21,42],[18,43,21,47],[14,1,17,5],[14,6,17,15],[14,17,17,20],[14,21,17,36],[14,37,17,39],[14,40,17,42],[18,48,21,54],[3,52,5,54],[8,37,11,40],[8,41,11,54],[1,19,4,32],[2,1,5,11],[2,12,5,13],[8,1,11,5],[8,6,11,11],[8,12,11,15],[8,16,11,35],[3,49,5,51],[3,40,5,44],[3,45,5,48]]}
[]
[null,null,null,null,null,null,null,null,null,null,null,null,null,null,null,null,null,null,null,"請求書明細書 (正)"]
[null,"株 式 会 社 種 村 建 設",null,null,null,null,null,null,null,null,null,null,"御中"]
[null,null,null,null,null,null,null,null,null,null,null,null,null,null,null,null,null,null,null,null,null,null,null,null,null,null,null,null,null,null,null,null,null,null,null,null,null,null,null,null,"請求年月日",null,null,null,null,{"$f":"IF(年=\"\",\"\",年)","v":""},null,null,null,{"$f":"IF(月=\"\",\"\",月)","v":""},null,null,{"$f":"IF(日=\"\",\"\",日)","v":""}]
[]
[]
[]
[]
[null,"工事番号",null,null,null,null,null,null,null,null,null,null,"工事名",null,null,null,null,null,null,null,null,null,null,null,null,null,null,null,null,null,null,null,null,null,null,null,null,"業者名",null,null,null,{"$f":"IF(社名=\"\",\"\",社名)","v":""}]
[]
[]
[]
[]
[]
[null,"注文番号",null,null,null,null,null,null,null,null,null,null,null,null,null,null,null,"月　日",null,null,null,"品　名・内　訳",null,null,null,null,null,null,null,null,null,null,null,null,null,null,null,"数 量",null,null,"単位",null,null,"単価",null,null,null,null,{"$f":"表紙①!P35","v":"金額(税抜)"}]
[]
[]
[]
[null,"契約金額",null,null,null,null,null,null,null,null,null,null,null,null,null,null,null,null,null,null,null,null,null,null,null,null,null,null,null,null,null,null,null,null,null,null,null,null,null,null,null,null,null,null,null,null,null,null,{"$f":"IF(V19=\"\",\"\",ROUND(AL19*AR19,0))","v":""}]
[]
[]
[]
[null,"増減額",null,null,null,null,null,null,null,null,null,null,null,null,null,null,null,null,null,null,null,null,null,null,null,null,null,null,null,null,null,null,null,null,null,null,null,null,null,null,null,null,null,null,null,null,null,null,{"$f":"IF(V23=\"\",\"\",ROUND(AL23*AR23,0))","v":""}]
[]
[]
[]
[null,"前回までの\n請求額",null,null,null,null,null,null,null,null,null,null,null,null,null,null,null,null,null,null,null,null,null,null,null,null,null,null,null,null,null,null,null,null,null,null,null,null,null,null,null,null,null,null,null,null,null,null,{"$f":"IF(V27=\"\",\"\",ROUND(AL27*AR27,0))","v":""}]
[]
[]
[]
[null,"今回\n請求額",null,null,null,null,null,null,null,null,null,null,null,null,null,null,null,null,null,null,null,null,null,null,null,null,null,null,null,null,null,null,null,null,null,null,null,null,null,null,null,null,null,null,null,null,null,null,{"$f":"IF(V31=\"\",\"\",ROUND(AL31*AR31,0))","v":""}]
[]
[]
[]
[null,"差引残高",null,null,null,null,{"$f":"IF(G19=\"\",\"\",G19+G23-G27-G31)","v":""},null,null,null,null,null,null,null,null,null,null,null,null,null,null,null,null,null,null,null,null,null,null,null,null,null,null,null,null,null,null,null,null,null,null,null,null,null,null,null,null,null,{"$f":"IF(V35=\"\",\"\",ROUND(AL35*AR35,0))","v":""}]
[]
[]
[]
[null,null,null,null,null,null,null,null,null,null,null,null,null,null,null,null,null,null,null,null,null,null,null,null,null,null,null,null,null,null,null,null,null,null,null,null,null,null,null,null,null,null,null,null,null,null,null,null,{"$f":"IF(V39=\"\",\"\",ROUND(AL39*AR39,0))","v":""}]
[]
[]
[]
[null,null,null,null,null,null,null,null,null,null,null,null,null,null,null,null,null,null,null,null,null,null,null,null,null,null,null,null,null,null,null,null,null,null,null,null,null,null,null,null,null,null,null,null,null,null,null,null,{"$f":"IF(V43=\"\",\"\",ROUND(AL43*AR43,0))","v":""}]
[]
[]
[]
[null,null,null,null,null,null,null,null,null,null,null,null,null,null,null,null,null,null,null,null,null,null,null,null,null,null,null,null,null,null,null,null,null,null,null,null,null,null,null,null,null,null,null,null,null,null,null,null,{"$f":"IF(V47=\"\",\"\",ROUND(AL47*AR47,0))","v":""}]
[]
[]
[]
[null,null,null,null,null,null,null,null,null,null,null,null,null,null,null,null,null,null,null,null,null,null,null,null,null,null,null,null,null,null,null,null,null,null,null,null,null,null,null,null,null,null,null,null,null,null,null,null,{"$f":"IF(V51=\"\",\"\",ROUND(AL51*AR51,0))","v":""}]
[]
[]
[]
[null,null,null,null,null,null,null,null,null,null,null,null,null,null,null,null,null,null,null,null,null,null,null,null,null,null,null,null,null,null,null,null,null,null,null,null,null,null,null,null,null,null,null,null,null,null,null,null,{"$f":"IF(V55=\"\",\"\",ROUND(AL55*AR55,0))","v":""}]
[]
[]
[]
[null,null,null,null,null,null,null,null,null,null,null,null,null,null,null,null,null,null,null,null,null,null,null,null,null,null,null,null,null,null,null,null,null,null,null,null,null,null,null,null,null,null,null,null,null,null,null,null,{"$f":"IF(V59=\"\",\"\",ROUND(AL59*AR59,0))","v":""}]
[]
[]
[]
[null,null,null,null,null,null,null,null,null,null,null,null,null,null,null,null,null,null,null,null,null,null,null,null,null,null,null,null,null,null,null,null,null,null,null,null,null,null,null,null,null,null,null,null,null,null,null,null,{"$f":"IF(V63=\"\",\"\",ROUND(AL63*AR63,0))","v":""}]
[]
[]
[]
[null,null,null,null,null,null,null,null,null,null,null,null,null,null,null,null,null,null,null,null,null,null,null,null,null,null,null,null,null,null,null,null,null,null,null,null,null,null,null,null,null,null,null,null,null,null,null,null,{"$f":"IF(V67=\"\",\"\",ROUND(AL67*AR67,0))","v":""}]
[]
[]
[]
[null,null,null,null,null,null,null,null,null,null,null,null,null,null,null,null,null,null,null,null,null,null,null,null,null,null,null,null,null,null,null,null,null,null,null,null,null,null,null,null,null,null,null,null,null,null,null,null,{"$f":"IF(V71=\"\",\"\",ROUND(AL71*AR71,0))","v":""}]
[]
[]
[]
[null,null,null,null,null,null,null,null,null,null,null,null,null,null,null,null,null,null,null,null,null,null,null,null,null,null,null,null,null,null,null,null,null,null,null,null,null,null,null,null,null,null,null,null,null,null,null,null,{"$f":"IF(V75=\"\",\"\",ROUND(AL75*AR75,0))","v":""}]
[]
[]
[]
[null,null,null,null,null,null,null,null,null,null,null,null,null,null,null,null,null,null,null,null,null,null,null,null,null,null,null,null,null,null,null,null,null,null,null,null,null,null,null,null,null,null,null,null,null,null,null,null,{"$f":"IF(V79=\"\",\"\",ROUND(AL79*AR79,0))","v":""}]
[]
[]
[]
[null,null,null,null,null,null,null,null,null,null,null,null,null,null,null,null,null,null,null,null,null,null,null,null,null,null,null,null,null,null,null,null,null,null,null,null,null,"金額(税抜)",null,null,null,null,null,null,null,null,null,null,{"$f":"IF(AW19=\"\",\"\",SUM(AW19:AW79))","v":""}]
[null,"社長",null,null,null,"専務",null,null,null,null,null,"常務",null,null,null,null,null,"部長･工場長",null,null,null,null,null,null,null,null,"担当者",null,null,null,null,"受付"]
[]
[]
[]
[null,null,null,null,null,null,null,null,null,null,null,null,null,null,null,null,null,null,null,null,null,null,null,null,null,null,null,null,null,null,null,null,null,null,null,null,null,"消費税",null,null,null,null,null,"税率",null,null,"税調",null,{"$f":"IF(AW83=\"\",\"\",IF(AR90=\"\",\"\",IF(AR90=8.1,ROUND(AW83*8/100,0)+AU90,ROUND(AW83*AR90/100,0)+AU90)))","v":""}]
[]
[null,null,null,null,null,null,null,null,null,null,null,null,null,null,null,null,null,null,null,null,null,null,null,null,null,null,null,null,null,null,null,null,null,null,null,null,null,null,null,null,null,null,null,null,null,{"$f":"IF(AR90=\"\",\"\",IF(AR90=8.1,\"旧\",IF(AR90=8,\"軽\",IF(AR90=0,\"非\",\"\"))))","v":""}]
[]
[]
[]
[null,null,null,null,null,null,null,null,null,null,null,null,null,null,null,null,null,null,null,"請求明細書 (現場控)"]
[null,"株 式 会 社 種 村 建 設",null,null,null,null,null,null,null,null,null,null,"御中"]
[null,null,null,null,null,null,null,null,null,null,null,null,null,null,null,null,null,null,null,null,null,null,null,null,null,null,null,null,null,null,null,null,null,null,null,null,null,null,null,null,"請求年月日",null,null,null,null,{"$f":"IF(AT4=\"\",\"\",AT4)","v":""},null,null,null,{"$f":"IF(AX4=\"\",\"\",AX4)","v":""},null,null,{"$f":"IF(BA4=\"\",\"\",BA4)","v":""}]
[]
[]
[]
[]
[null,"工事番号",null,null,null,null,{"$f":"IF(G9=\"\",\"\",G9)","v":""},null,null,null,null,null,"工事名",null,null,null,{"$f":"IF(Q9=\"\",\"\",Q9)","v":""},null,null,null,null,null,null,null,null,null,null,null,null,null,null,null,null,null,null,null,null,"業者名",null,null,null,{"$f":"IF(AP9=\"\",\"\",AP9)","v":""}]
[]
[]
[]
[]
[]
[null,"注文番号",null,null,null,null,{"$f":"IF(G15=\"\",\"\",G15)","v":""},null,null,null,null,null,null,null,null,null,null,"月　日",null,null,null,"品　名・内　訳",null,null,null,null,null,null,null,null,null,null,null,null,null,null,null,"数 量",null,null,"単位",null,null,"単価",null,null,null,null,{"$f":"AW15","v":"金額(税抜)"}]
[]
[]
[]
[null,"契約金額",null,null,null,null,{"$f":"IF(G19=\"\",\"\",G19)","v":""},null,null,null,null,null,null,null,null,null,null,{"$f":"IF(R19=\"\",\"\",R19)","v":""},null,{"$f":"IF(T19=\"\",\"\",T19)","v":""},null,{"$f":"IF(V19=\"\",\"\",V19)","v":""},null,{"$f":"IF(X19=\"\",\"\",X19)","v":""},null,{"$f":"IF(Z19=\"\",\"\",Z19)","v":""},null,{"$f":"IF(AB19=\"\",\"\",AB19)","v":""},null,{"$f":"IF(AD19=\"\",\"\",AD19)","v":""},null,{"$f":"IF(AF19=\"\",\"\",AF19)","v":""},null,{"$f":"IF(AH19=\"\",\"\",AH19)","v":""},null,{"$f":"IF(AJ19=\"\",\"\",AJ19)","v":""},null,{"$f":"IF(AL19=\"\",\"\",AL19)","v":""},null,null,{"$f":"IF(AO19=\"\",\"\",AO19)","v":""},null,null,{"$f":"IF(AR19=\"\",\"\",AR19)","v":""},null,null,null,null,{"$f":"IF(AW19=\"\",\"\",AW19)","v":""}]
[]
[]
[]
[null,"増減額",null,null,null,null,{"$f":"IF(G23=\"\",\"\",G23)","v":""},null,null,null,null,null,null,null,null,null,null,{"$f":"IF(R23=\"\",\"\",R23)","v":""},null,{"$f":"IF(T23=\"\",\"\",T23)","v":""},null,{"$f":"IF(V23=\"\",\"\",V23)","v":""},null,{"$f":"IF(X23=\"\",\"\",X23)","v":""},null,{"$f":"IF(Z23=\"\",\"\",Z23)","v":""},null,{"$f":"IF(AB23=\"\",\"\",AB23)","v":""},null,{"$f":"IF(AD23=\"\",\"\",AD23)","v":""},null,{"$f":"IF(AF23=\"\",\"\",AF23)","v":""},null,{"$f":"IF(AH23=\"\",\"\",AH23)","v":""},null,{"$f":"IF(AJ23=\"\",\"\",AJ23)","v":""},null,{"$f":"IF(AL23=\"\",\"\",AL23)","v":""},null,null,{"$f":"IF(AO23=\"\",\"\",AO23)","v":""},null,null,{"$f":"IF(AR23=\"\",\"\",AR23)","v":""},null,null,null,null,{"$f":"IF(AW23=\"\",\"\",AW23)","v":""}]
[]
[]
[]
[null,"前回までの\n請求額",null,null,null,null,{"$f":"IF(G27=\"\",\"\",G27)","v":""},null,null,null,null,null,null,null,null,null,null,{"$f":"IF(R27=\"\",\"\",R27)","v":""},null,{"$f":"IF(T27=\"\",\"\",T27)","v":""},null,{"$f":"IF(V27=\"\",\"\",V27)","v":""},null,{"$f":"IF(X27=\"\",\"\",X27)","v":""},null,{"$f":"IF(Z27=\"\",\"\",Z27)","v":""},null,{"$f":"IF(AB27=\"\",\"\",AB27)","v":""},null,{"$f":"IF(AD27=\"\",\"\",AD27)","v":""},null,{"$f":"IF(AF27=\"\",\"\",AF27)","v":""},null,{"$f":"IF(AH27=\"\",\"\",AH27)","v":""},null,{"$f":"IF(AJ27=\"\",\"\",AJ27)","v":""},null,{"$f":"IF(AL27=\"\",\"\",AL27)","v":""},null,null,{"$f":"IF(AO27=\"\",\"\",AO27)","v":""},null,null,{"$f":"IF(AR27=\"\",\"\",AR27)","v":""},null,null,null,null,{"$f":"IF(AW27=\"\",\"\",AW27)","v":""}]
[]
[]
[]
[null,"今回\n請求額",null,null,{"$f":"IF(E31=\"\",\"\",E31)","v":""},null,{"$f":"IF(G31=\"\",\"\",G31)","v":""},null,null,null,null,null,null,null,null,null,null,{"$f":"IF(R31=\"\",\"\",R31)","v":""},null,{"$f":"IF(T31=\"\",\"\",T31)","v":""},null,{"$f":"IF(V31=\"\",\"\",V31)","v":""},null,{"$f":"IF(X31=\"\",\"\",X31)","v":""},null,{"$f":"IF(Z31=\"\",\"\",Z31)","v":""},null,{"$f":"IF(AB31=\"\",\"\",AB31)","v":""},null,{"$f":"IF(AD31=\"\",\"\",AD31)","v":""},null,{"$f":"IF(AF31=\"\",\"\",AF31)","v":""},null,{"$f":"IF(AH31=\"\",\"\",AH31)","v":""},null,{"$f":"IF(AJ31=\"\",\"\",AJ31)","v":""},null,{"$f":"IF(AL31=\"\",\"\",AL31)","v":""},null,null,{"$f":"IF(AO31=\"\",\"\",AO31)","v":""},null,null,{"$f":"IF(AR31=\"\",\"\",AR31)","v":""},null,null,null,null,{"$f":"IF(AW31=\"\",\"\",AW31)","v":""}]
[]
[]
[]
[null,"差引残高",null,null,null,null,{"$f":"IF(G111=\"\",\"\",G111+G115-G119-G123)","v":""},null,null,null,null,null,null,null,null,null,null,{"$f":"IF(R35=\"\",\"\",R35)","v":""},null,{"$f":"IF(T35=\"\",\"\",T35)","v":""},null,{"$f":"IF(V35=\"\",\"\",V35)","v":""},null,{"$f":"IF(X35=\"\",\"\",X35)","v":""},null,{"$f":"IF(Z35=\"\",\"\",Z35)","v":""},null,{"$f":"IF(AB35=\"\",\"\",AB35)","v":""},null,{"$f":"IF(AD35=\"\",\"\",AD35)","v":""},null,{"$f":"IF(AF35=\"\",\"\",AF35)","v":""},null,{"$f":"IF(AH35=\"\",\"\",AH35)","v":""},null,{"$f":"IF(AJ35=\"\",\"\",AJ35)","v":""},null,{"$f":"IF(AL35=\"\",\"\",AL35)","v":""},null,null,{"$f":"IF(AO35=\"\",\"\",AO35)","v":""},null,null,{"$f":"IF(AR35=\"\",\"\",AR35)","v":""},null,null,null,null,{"$f":"IF(AW35=\"\",\"\",AW35)","v":""}]
[]
[]
[]
[null,null,null,null,null,null,null,null,null,null,null,null,null,null,null,null,null,{"$f":"IF(R39=\"\",\"\",R39)","v":""},null,{"$f":"IF(T39=\"\",\"\",T39)","v":""},null,{"$f":"IF(V39=\"\",\"\",V39)","v":""},null,{"$f":"IF(X39=\"\",\"\",X39)","v":""},null,{"$f":"IF(Z39=\"\",\"\",Z39)","v":""},null,{"$f":"IF(AB39=\"\",\"\",AB39)","v":""},null,{"$f":"IF(AD39=\"\",\"\",AD39)","v":""},null,{"$f":"IF(AF39=\"\",\"\",AF39)","v":""},null,{"$f":"IF(AH39=\"\",\"\",AH39)","v":""},null,{"$f":"IF(AJ39=\"\",\"\",AJ39)","v":""},null,{"$f":"IF(AL39=\"\",\"\",AL39)","v":""},null,null,{"$f":"IF(AO39=\"\",\"\",AO39)","v":""},null,null,{"$f":"IF(AR39=\"\",\"\",AR39)","v":""},null,null,null,null,{"$f":"IF(AW39=\"\",\"\",AW39)","v":""}]
[]
[]
[]
[null,null,null,null,null,null,null,null,null,null,null,null,null,null,null,null,null,{"$f":"IF(R43=\"\",\"\",R43)","v":""},null,{"$f":"IF(T43=\"\",\"\",T43)","v":""},null,{"$f":"IF(V43=\"\",\"\",V43)","v":""},null,{"$f":"IF(X43=\"\",\"\",X43)","v":""},null,{"$f":"IF(Z43=\"\",\"\",Z43)","v":""},null,{"$f":"IF(AB43=\"\",\"\",AB43)","v":""},null,{"$f":"IF(AD43=\"\",\"\",AD43)","v":""},null,{"$f":"IF(AF43=\"\",\"\",AF43)","v":""},null,{"$f":"IF(AH43=\"\",\"\",AH43)","v":""},null,{"$f":"IF(AJ43=\"\",\"\",AJ43)","v":""},null,{"$f":"IF(AL43=\"\",\"\",AL43)","v":""},null,null,{"$f":"IF(AO43=\"\",\"\",AO43)","v":""},null,null,{"$f":"IF(AR43=\"\",\"\",AR43)","v":""},null,null,null,null,{"$f":"IF(AW43=\"\",\"\",AW43)","v":""}]
[]
[]
[]
[null,null,null,null,null,null,null,null,null,null,null,null,null,null,null,null,null,{"$f":"IF(R47=\"\",\"\",R47)","v":""},null,{"$f":"IF(T47=\"\",\"\",T47)","v":""},null,{"$f":"IF(V47=\"\",\"\",V47)","v":""},null,{"$f":"IF(X47=\"\",\"\",X47)","v":""},null,{"$f":"IF(Z47=\"\",\"\",Z47)","v":""},null,{"$f":"IF(AB47=\"\",\"\",AB47)","v":""},null,{"$f":"IF(AD47=\"\",\"\",AD47)","v":""},null,{"$f":"IF(AF47=\"\",\"\",AF47)","v":""},null,{"$f":"IF(AH47=\"\",\"\",AH47)","v":""},null,{"$f":"IF(AJ47=\"\",\"\",AJ47)","v":""},null,{"$f":"IF(AL47=\"\",\"\",AL47)","v":""},null,null,{"$f":"IF(AO47=\"\",\"\",AO47)","v":""},null,null,{"$f":"IF(AR47=\"\",\"\",AR47)","v":""},null,null,null,null,{"$f":"IF(AW47=\"\",\"\",AW47)","v":""}]
[]
[]
[]
[null,null,null,null,null,null,null,null,null,null,null,null,null,null,null,null,null,{"$f":"IF(R51=\"\",\"\",R51)","v":""},null,{"$f":"IF(T51=\"\",\"\",T51)","v":""},null,{"$f":"IF(V51=\"\",\"\",V51)","v":""},null,{"$f":"IF(X51=\"\",\"\",X51)","v":""},null,{"$f":"IF(Z51=\"\",\"\",Z51)","v":""},null,{"$f":"IF(AB51=\"\",\"\",AB51)","v":""},null,{"$f":"IF(AD51=\"\",\"\",AD51)","v":""},null,{"$f":"IF(AF51=\"\",\"\",AF51)","v":""},null,{"$f":"IF(AH51=\"\",\"\",AH51)","v":""},null,{"$f":"IF(AJ51=\"\",\"\",AJ51)","v":""},null,{"$f":"IF(AL51=\"\",\"\",AL51)","v":""},null,null,{"$f":"IF(AO51=\"\",\"\",AO51)","v":""},null,null,{"$f":"IF(AR51=\"\",\"\",AR51)","v":""},null,null,null,null,{"$f":"IF(AW51=\"\",\"\",AW51)","v":""}]
[]
[]
[]
[null,null,null,null,null,null,null,null,null,null,null,null,null,null,null,null,null,{"$f":"IF(R55=\"\",\"\",R55)","v":""},null,{"$f":"IF(T55=\"\",\"\",T55)","v":""},null,{"$f":"IF(V55=\"\",\"\",V55)","v":""},null,{"$f":"IF(X55=\"\",\"\",X55)","v":""},null,{"$f":"IF(Z55=\"\",\"\",Z55)","v":""},null,{"$f":"IF(AB55=\"\",\"\",AB55)","v":""},null,{"$f":"IF(AD55=\"\",\"\",AD55)","v":""},null,{"$f":"IF(AF55=\"\",\"\",AF55)","v":""},null,{"$f":"IF(AH55=\"\",\"\",AH55)","v":""},null,{"$f":"IF(AJ55=\"\",\"\",AJ55)","v":""},null,{"$f":"IF(AL55=\"\",\"\",AL55)","v":""},null,null,{"$f":"IF(AO55=\"\",\"\",AO55)","v":""},null,null,{"$f":"IF(AR55=\"\",\"\",AR55)","v":""},null,null,null,null,{"$f":"IF(AW55=\"\",\"\",AW55)","v":""}]
[]
[]
[]
[null,null,null,null,null,null,null,null,null,null,null,null,null,null,null,null,null,{"$f":"IF(R59=\"\",\"\",R59)","v":""},null,{"$f":"IF(T59=\"\",\"\",T59)","v":""},null,{"$f":"IF(V59=\"\",\"\",V59)","v":""},null,{"$f":"IF(X59=\"\",\"\",X59)","v":""},null,{"$f":"IF(Z59=\"\",\"\",Z59)","v":""},null,{"$f":"IF(AB59=\"\",\"\",AB59)","v":""},null,{"$f":"IF(AD59=\"\",\"\",AD59)","v":""},null,{"$f":"IF(AF59=\"\",\"\",AF59)","v":""},null,{"$f":"IF(AH59=\"\",\"\",AH59)","v":""},null,{"$f":"IF(AJ59=\"\",\"\",AJ59)","v":""},null,{"$f":"IF(AL59=\"\",\"\",AL59)","v":""},null,null,{"$f":"IF(AO59=\"\",\"\",AO59)","v":""},null,null,{"$f":"IF(AR59=\"\",\"\",AR59)","v":""},null,null,null,null,{"$f":"IF(AW59=\"\",\"\",AW59)","v":""}]
[]
[]
[]
[null,null,null,null,null,null,null,null,null,null,null,null,null,null,null,null,null,{"$f":"IF(R63=\"\",\"\",R63)","v":""},null,{"$f":"IF(T63=\"\",\"\",T63)","v":""},null,{"$f":"IF(V63=\"\",\"\",V63)","v":""},null,{"$f":"IF(X63=\"\",\"\",X63)","v":""},null,{"$f":"IF(Z63=\"\",\"\",Z63)","v":""},null,{"$f":"IF(AB63=\"\",\"\",AB63)","v":""},null,{"$f":"IF(AD63=\"\",\"\",AD63)","v":""},null,{"$f":"IF(AF63=\"\",\"\",AF63)","v":""},null,{"$f":"IF(AH63=\"\",\"\",AH63)","v":""},null,{"$f":"IF(AJ63=\"\",\"\",AJ63)","v":""},null,{"$f":"IF(AL63=\"\",\"\",AL63)","v":""},null,null,{"$f":"IF(AO63=\"\",\"\",AO63)","v":""},null,null,{"$f":"IF(AR63=\"\",\"\",AR63)","v":""},null,null,null,null,{"$f":"IF(AW63=\"\",\"\",AW63)","v":""}]
[]
[]
[]
[null,null,null,null,null,null,null,null,null,null,null,null,null,null,null,null,null,{"$f":"IF(R67=\"\",\"\",R67)","v":""},null,{"$f":"IF(T67=\"\",\"\",T67)","v":""},null,{"$f":"IF(V67=\"\",\"\",V67)","v":""},null,{"$f":"IF(X67=\"\",\"\",X67)","v":""},null,{"$f":"IF(Z67=\"\",\"\",Z67)","v":""},null,{"$f":"IF(AB67=\"\",\"\",AB67)","v":""},null,{"$f":"IF(AD67=\"\",\"\",AD67)","v":""},null,{"$f":"IF(AF67=\"\",\"\",AF67)","v":""},null,{"$f":"IF(AH67=\"\",\"\",AH67)","v":""},null,{"$f":"IF(AJ67=\"\",\"\",AJ67)","v":""},null,{"$f":"IF(AL67=\"\",\"\",AL67)","v":""},null,null,{"$f":"IF(AO67=\"\",\"\",AO67)","v":""},null,null,{"$f":"IF(AR67=\"\",\"\",AR67)","v":""},null,null,null,null,{"$f":"IF(AW67=\"\",\"\",AW67)","v":""}]
[]
[]
[]
[null,null,null,null,null,null,null,null,null,null,null,null,null,null,null,null,null,{"$f":"IF(R71=\"\",\"\",R71)","v":""},null,{"$f":"IF(T71=\"\",\"\",T71)","v":""},null,{"$f":"IF(V71=\"\",\"\",V71)","v":""},null,{"$f":"IF(X71=\"\",\"\",X71)","v":""},null,{"$f":"IF(Z71=\"\",\"\",Z71)","v":""},null,{"$f":"IF(AB71=\"\",\"\",AB71)","v":""},null,{"$f":"IF(AD71=\"\",\"\",AD71)","v":""},null,{"$f":"IF(AF71=\"\",\"\",AF71)","v":""},null,{"$f":"IF(AH71=\"\",\"\",AH71)","v":""},null,{"$f":"IF(AJ71=\"\",\"\",AJ71)","v":""},null,{"$f":"IF(AL71=\"\",\"\",AL71)","v":""},null,null,{"$f":"IF(AO71=\"\",\"\",AO71)","v":""},null,null,{"$f":"IF(AR71=\"\",\"\",AR71)","v":""},null,null,null,null,{"$f":"IF(AW71=\"\",\"\",AW71)","v":""}]
[]
[]
[]
[null,null,null,null,null,null,null,null,null,null,null,null,null,null,null,null,null,{"$f":"IF(R75=\"\",\"\",R75)","v":""},null,{"$f":"IF(T75=\"\",\"\",T75)","v":""},null,{"$f":"IF(V75=\"\",\"\",V75)","v":""},null,{"$f":"IF(X75=\"\",\"\",X75)","v":""},null,{"$f":"IF(Z75=\"\",\"\",Z75)","v":""},null,{"$f":"IF(AB75=\"\",\"\",AB75)","v":""},null,{"$f":"IF(AD75=\"\",\"\",AD75)","v":""},null,{"$f":"IF(AF75=\"\",\"\",AF75)","v":""},null,{"$f":"IF(AH75=\"\",\"\",AH75)","v":""},null,{"$f":"IF(AJ75=\"\",\"\",AJ75)","v":""},null,{"$f":"IF(AL75=\"\",\"\",AL75)","v":""},null,null,{"$f":"IF(AO75=\"\",\"\",AO75)","v":""},null,null,{"$f":"IF(AR75=\"\",\"\",AR75)","v":""},null,null,null,null,{"$f":"IF(AW75=\"\",\"\",AW75)","v":""}]
[]
[]
[]
[null,null,null,null,null,null,null,null,null,null,null,null,null,null,null,null,null,{"$f":"IF(R79=\"\",\"\",R79)","v":""},null,{"$f":"IF(T79=\"\",\"\",T79)","v":""},null,{"$f":"IF(V79=\"\",\"\",V79)","v":""},null,{"$f":"IF(X79=\"\",\"\",X79)","v":""},null,{"$f":"IF(Z79=\"\",\"\",Z79)","v":""},null,{"$f":"IF(AB79=\"\",\"\",AB79)","v":""},null,{"$f":"IF(AD79=\"\",\"\",AD79)","v":""},null,{"$f":"IF(AF79=\"\",\"\",AF79)","v":""},null,{"$f":"IF(AH79=\"\",\"\",AH79)","v":""},null,{"$f":"IF(AJ79=\"\",\"\",AJ79)","v":""},null,{"$f":"IF(AL79=\"\",\"\",AL79)","v":""},null,null,{"$f":"IF(AO79=\"\",\"\",AO79)","v":""},null,null,{"$f":"IF(AR79=\"\",\"\",AR79)","v":""},null,null,null,null,{"$f":"IF(AW79=\"\",\"\",AW79)","v":""}]
[]
[]
[]
[null,null,null,null,null,null,null,null,null,null,null,null,null,null,null,null,null,null,null,null,null,null,null,null,null,null,null,null,null,null,null,null,null,null,null,null,null,{"$f":"AL83","v":"金額(税抜)"},null,null,null,null,null,null,null,null,null,null,{"$f":"AW83","v":""}]
[]
[]
[]
[]
[null,null,null,null,null,null,null,null,null,null,null,null,null,null,null,null,null,null,null,null,null,null,null,null,null,null,null,null,null,null,null,null,null,null,null,null,null,{"$f":"AL88","v":"消費税"},null,null,null,null,null,"税率",null,null,"税調",null,{"$f":"AW88","v":""}]
[]
[null,null,null,null,null,null,null,null,null,null,null,null,null,null,null,null,null,null,null,null,null,null,null,null,null,null,null,null,null,null,null,null,null,null,null,null,null,null,null,null,null,null,null,{"$f":"AR90","v":0},null,{"$f":"AT90","v":""}]
[]
[]
[]
[null,null,null,null,null,null,null,null,null,null,null,null,null,null,null,null,null,null,null,"請求明細書 (貴社控)"]
[null,"株 式 会 社 種 村 建 設",null,null,null,null,null,null,null,null,null,null,"御中"]
[null,null,null,null,null,null,null,null,null,null,null,null,null,null,null,null,null,null,null,null,null,null,null,null,null,null,null,null,null,null,null,null,null,null,null,null,null,null,null,null,"請求年月日",null,null,null,null,{"$f":"IF(AT4=\"\",\"\",AT4)","v":""},null,null,null,{"$f":"IF(AX96=\"\",\"\",AX96)","v":""},null,null,{"$f":"IF(BA96=\"\",\"\",BA96)","v":""}]
[]
[]
[]
[]
[null,"工事番号",null,null,null,null,{"$f":"IF(G101=\"\",\"\",G101)","v":""},null,null,null,null,null,"工事名",null,null,null,{"$f":"IF(Q101=\"\",\"\",Q101)","v":""},null,null,null,null,null,null,null,null,null,null,null,null,null,null,null,null,null,null,null,null,"業者名",null,null,null,{"$f":"IF(AP101=\"\",\"\",AP101)","v":""}]
[]
[]
[]
[]
[]
[null,"注文番号",null,null,null,null,{"$f":"IF(G107=\"\",\"\",G107)","v":""},null,null,null,null,null,null,null,null,null,null,"月　日",null,null,null,"品　名・内　訳",null,null,null,null,null,null,null,null,null,null,null,null,null,null,null,"数 量",null,null,"単位",null,null,"単価",null,null,null,null,{"$f":"AW15","v":"金額(税抜)"}]
[]
[]
[]
[null,"契約金額",null,null,null,null,{"$f":"IF(G111=\"\",\"\",G111)","v":""},null,null,null,null,null,null,null,null,null,null,{"$f":"IF(R111=\"\",\"\",R111)","v":""},null,{"$f":"IF(T111=\"\",\"\",T111)","v":""},null,{"$f":"IF(V111=\"\",\"\",V111)","v":""},null,{"$f":"IF(X111=\"\",\"\",X111)","v":""},null,{"$f":"IF(Z111=\"\",\"\",Z111)","v":""},null,{"$f":"IF(AB111=\"\",\"\",AB111)","v":""},null,{"$f":"IF(AD111=\"\",\"\",AD111)","v":""},null,{"$f":"IF(AF111=\"\",\"\",AF111)","v":""},null,{"$f":"IF(AH111=\"\",\"\",AH111)","v":""},null,{"$f":"IF(AJ111=\"\",\"\",AJ111)","v":""},null,{"$f":"IF(AL111=\"\",\"\",AL111)","v":""},null,null,{"$f":"IF(AO111=\"\",\"\",AO111)","v":""},null,null,{"$f":"IF(AR111=\"\",\"\",AR111)","v":""},null,null,null,null,{"$f":"IF(AW111=\"\",\"\",AW111)","v":""}]
[]
[]
[]
[null,"増減額",null,null,null,null,{"$f":"IF(G115=\"\",\"\",G115)","v":""},null,null,null,null,null,null,null,null,null,null,{"$f":"IF(R115=\"\",\"\",R115)","v":""},null,{"$f":"IF(T115=\"\",\"\",T115)","v":""},null,{"$f":"IF(V115=\"\",\"\",V115)","v":""},null,{"$f":"IF(X115=\"\",\"\",X115)","v":""},null,{"$f":"IF(Z115=\"\",\"\",Z115)","v":""},null,{"$f":"IF(AB115=\"\",\"\",AB115)","v":""},null,{"$f":"IF(AD115=\"\",\"\",AD115)","v":""},null,{"$f":"IF(AF115=\"\",\"\",AF115)","v":""},null,{"$f":"IF(AH115=\"\",\"\",AH115)","v":""},null,{"$f":"IF(AJ115=\"\",\"\",AJ115)","v":""},null,{"$f":"IF(AL115=\"\",\"\",AL115)","v":""},null,null,{"$f":"IF(AO115=\"\",\"\",AO115)","v":""},null,null,{"$f":"IF(AR115=\"\",\"\",AR115)","v":""},null,null,null,null,{"$f":"IF(AW115=\"\",\"\",AW115)","v":""}]
[]
[]
[]
[null,"前回までの\n請求額",null,null,null,null,{"$f":"IF(G119=\"\",\"\",G119)","v":""},null,null,null,null,null,null,null,null,null,null,{"$f":"IF(R119=\"\",\"\",R119)","v":""},null,{"$f":"IF(T119=\"\",\"\",T119)","v":""},null,{"$f":"IF(V119=\"\",\"\",V119)","v":""},null,{"$f":"IF(X119=\"\",\"\",X119)","v":""},null,{"$f":"IF(Z119=\"\",\"\",Z119)","v":""},null,{"$f":"IF(AB119=\"\",\"\",AB119)","v":""},null,{"$f":"IF(AD119=\"\",\"\",AD119)","v":""},null,{"$f":"IF(AF119=\"\",\"\",AF119)","v":""},null,{"$f":"IF(AH119=\"\",\"\",AH119)","v":""},null,{"$f":"IF(AJ119=\"\",\"\",AJ119)","v":""},null,{"$f":"IF(AL119=\"\",\"\",AL119)","v":""},null,null,{"$f":"IF(AO119=\"\",\"\",AO119)","v":""},null,null,{"$f":"IF(AR119=\"\",\"\",AR119)","v":""},null,null,null,null,{"$f":"IF(AW119=\"\",\"\",AW119)","v":""}]
[]
[]
[]
[null,"今回\n請求額",null,null,{"$f":"IF(E31=\"\",\"\",E31)","v":""},null,{"$f":"IF(G123=\"\",\"\",G123)","v":""},null,null,null,null,null,null,null,null,null,null,{"$f":"IF(R123=\"\",\"\",R123)","v":""},null,{"$f":"IF(T123=\"\",\"\",T123)","v":""},null,{"$f":"IF(V123=\"\",\"\",V123)","v":""},null,{"$f":"IF(X123=\"\",\"\",X123)","v":""},null,{"$f":"IF(Z123=\"\",\"\",Z123)","v":""},null,{"$f":"IF(AB123=\"\",\"\",AB123)","v":""},null,{"$f":"IF(AD123=\"\",\"\",AD123)","v":""},null,{"$f":"IF(AF123=\"\",\"\",AF123)","v":""},null,{"$f":"IF(AH123=\"\",\"\",AH123)","v":""},null,{"$f":"IF(AJ123=\"\",\"\",AJ123)","v":""},null,{"$f":"IF(AL123=\"\",\"\",AL123)","v":""},null,null,{"$f":"IF(AO123=\"\",\"\",AO123)","v":""},null,null,{"$f":"IF(AR123=\"\",\"\",AR123)","v":""},null,null,null,null,{"$f":"IF(AW123=\"\",\"\",AW123)","v":""}]
[]
[]
[]
[null,"差引残高",null,null,null,null,{"$f":"IF(G203=\"\",\"\",G203+G207-G211-G215)","v":""},null,null,null,null,null,null,null,null,null,null,{"$f":"IF(R127=\"\",\"\",R127)","v":""},null,{"$f":"IF(T127=\"\",\"\",T127)","v":""},null,{"$f":"IF(V127=\"\",\"\",V127)","v":""},null,{"$f":"IF(X127=\"\",\"\",X127)","v":""},null,{"$f":"IF(Z127=\"\",\"\",Z127)","v":""},null,{"$f":"IF(AB127=\"\",\"\",AB127)","v":""},null,{"$f":"IF(AD127=\"\",\"\",AD127)","v":""},null,{"$f":"IF(AF127=\"\",\"\",AF127)","v":""},null,{"$f":"IF(AH127=\"\",\"\",AH127)","v":""},null,{"$f":"IF(AJ127=\"\",\"\",AJ127)","v":""},null,{"$f":"IF(AL127=\"\",\"\",AL127)","v":""},null,null,{"$f":"IF(AO127=\"\",\"\",AO127)","v":""},null,null,{"$f":"IF(AR127=\"\",\"\",AR127)","v":""},null,null,null,null,{"$f":"IF(AW127=\"\",\"\",AW127)","v":""}]
[]
[]
[]
[null,null,null,null,null,null,null,null,null,null,null,null,null,null,null,null,null,{"$f":"IF(R131=\"\",\"\",R131)","v":""},null,{"$f":"IF(T131=\"\",\"\",T131)","v":""},null,{"$f":"IF(V131=\"\",\"\",V131)","v":""},null,{"$f":"IF(X131=\"\",\"\",X131)","v":""},null,{"$f":"IF(Z131=\"\",\"\",Z131)","v":""},null,{"$f":"IF(AB131=\"\",\"\",AB131)","v":""},null,{"$f":"IF(AD131=\"\",\"\",AD131)","v":""},null,{"$f":"IF(AF131=\"\",\"\",AF131)","v":""},null,{"$f":"IF(AH131=\"\",\"\",AH131)","v":""},null,{"$f":"IF(AJ131=\"\",\"\",AJ131)","v":""},null,{"$f":"IF(AL131=\"\",\"\",AL131)","v":""},null,null,{"$f":"IF(AO131=\"\",\"\",AO131)","v":""},null,null,{"$f":"IF(AR131=\"\",\"\",AR131)","v":""},null,null,null,null,{"$f":"IF(AW131=\"\",\"\",AW131)","v":""}]
[]
[]
[]
[null,null,null,null,null,null,null,null,null,null,null,null,null,null,null,null,null,{"$f":"IF(R135=\"\",\"\",R135)","v":""},null,{"$f":"IF(T135=\"\",\"\",T135)","v":""},null,{"$f":"IF(V135=\"\",\"\",V135)","v":""},null,{"$f":"IF(X135=\"\",\"\",X135)","v":""},null,{"$f":"IF(Z135=\"\",\"\",Z135)","v":""},null,{"$f":"IF(AB135=\"\",\"\",AB135)","v":""},null,{"$f":"IF(AD135=\"\",\"\",AD135)","v":""},null,{"$f":"IF(AF135=\"\",\"\",AF135)","v":""},null,{"$f":"IF(AH135=\"\",\"\",AH135)","v":""},null,{"$f":"IF(AJ135=\"\",\"\",AJ135)","v":""},null,{"$f":"IF(AL135=\"\",\"\",AL135)","v":""},null,null,{"$f":"IF(AO135=\"\",\"\",AO135)","v":""},null,null,{"$f":"IF(AR135=\"\",\"\",AR135)","v":""},null,null,null,null,{"$f":"IF(AW135=\"\",\"\",AW135)","v":""}]
[]
[]
[]
[null,null,null,null,null,null,null,null,null,null,null,null,null,null,null,null,null,{"$f":"IF(R139=\"\",\"\",R139)","v":""},null,{"$f":"IF(T139=\"\",\"\",T139)","v":""},null,{"$f":"IF(V139=\"\",\"\",V139)","v":""},null,{"$f":"IF(X139=\"\",\"\",X139)","v":""},null,{"$f":"IF(Z139=\"\",\"\",Z139)","v":""},null,{"$f":"IF(AB139=\"\",\"\",AB139)","v":""},null,{"$f":"IF(AD139=\"\",\"\",AD139)","v":""},null,{"$f":"IF(AF139=\"\",\"\",AF139)","v":""},null,{"$f":"IF(AH139=\"\",\"\",AH139)","v":""},null,{"$f":"IF(AJ139=\"\",\"\",AJ139)","v":""},null,{"$f":"IF(AL139=\"\",\"\",AL139)","v":""},null,null,{"$f":"IF(AO139=\"\",\"\",AO139)","v":""},null,null,{"$f":"IF(AR139=\"\",\"\",AR139)","v":""},null,null,null,null,{"$f":"IF(AW139=\"\",\"\",AW139)","v":""}]
[]
[]
[]
[null,null,null,null,null,null,null,null,null,null,null,null,null,null,null,null,null,{"$f":"IF(R143=\"\",\"\",R143)","v":""},null,{"$f":"IF(T143=\"\",\"\",T143)","v":""},null,{"$f":"IF(V143=\"\",\"\",V143)","v":""},null,{"$f":"IF(X143=\"\",\"\",X143)","v":""},null,{"$f":"IF(Z143=\"\",\"\",Z143)","v":""},null,{"$f":"IF(AB143=\"\",\"\",AB143)","v":""},null,{"$f":"IF(AD143=\"\",\"\",AD143)","v":""},null,{"$f":"IF(AF143=\"\",\"\",AF143)","v":""},null,{"$f":"IF(AH143=\"\",\"\",AH143)","v":""},null,{"$f":"IF(AJ143=\"\",\"\",AJ143)","v":""},null,{"$f":"IF(AL143=\"\",\"\",AL143)","v":""},null,null,{"$f":"IF(AO143=\"\",\"\",AO143)","v":""},null,null,{"$f":"IF(AR143=\"\",\"\",AR143)","v":""},null,null,null,null,{"$f":"IF(AW143=\"\",\"\",AW143)","v":""}]
[]
[]
[]
[null,null,null,null,null,null,null,null,null,null,null,null,null,null,null,null,null,{"$f":"IF(R147=\"\",\"\",R147)","v":""},null,{"$f":"IF(T147=\"\",\"\",T147)","v":""},null,{"$f":"IF(V147=\"\",\"\",V147)","v":""},null,{"$f":"IF(X147=\"\",\"\",X147)","v":""},null,{"$f":"IF(Z147=\"\",\"\",Z147)","v":""},null,{"$f":"IF(AB147=\"\",\"\",AB147)","v":""},null,{"$f":"IF(AD147=\"\",\"\",AD147)","v":""},null,{"$f":"IF(AF147=\"\",\"\",AF147)","v":""},null,{"$f":"IF(AH147=\"\",\"\",AH147)","v":""},null,{"$f":"IF(AJ147=\"\",\"\",AJ147)","v":""},null,{"$f":"IF(AL147=\"\",\"\",AL147)","v":""},null,null,{"$f":"IF(AO147=\"\",\"\",AO147)","v":""},null,null,{"$f":"IF(AR147=\"\",\"\",AR147)","v":""},null,null,null,null,{"$f":"IF(AW147=\"\",\"\",AW147)","v":""}]
[]
[]
[]
[null,null,null,null,null,null,null,null,null,null,null,null,null,null,null,null,null,{"$f":"IF(R151=\"\",\"\",R151)","v":""},null,{"$f":"IF(T151=\"\",\"\",T151)","v":""},null,{"$f":"IF(V151=\"\",\"\",V151)","v":""},null,{"$f":"IF(X151=\"\",\"\",X151)","v":""},null,{"$f":"IF(Z151=\"\",\"\",Z151)","v":""},null,{"$f":"IF(AB151=\"\",\"\",AB151)","v":""},null,{"$f":"IF(AD151=\"\",\"\",AD151)","v":""},null,{"$f":"IF(AF151=\"\",\"\",AF151)","v":""},null,{"$f":"IF(AH151=\"\",\"\",AH151)","v":""},null,{"$f":"IF(AJ151=\"\",\"\",AJ151)","v":""},null,{"$f":"IF(AL151=\"\",\"\",AL151)","v":""},null,null,{"$f":"IF(AO151=\"\",\"\",AO151)","v":""},null,null,{"$f":"IF(AR151=\"\",\"\",AR151)","v":""},null,null,null,null,{"$f":"IF(AW151=\"\",\"\",AW151)","v":""}]
[]
[]
[]
[null,null,null,null,null,null,null,null,null,null,null,null,null,null,null,null,null,{"$f":"IF(R155=\"\",\"\",R155)","v":""},null,{"$f":"IF(T155=\"\",\"\",T155)","v":""},null,{"$f":"IF(V155=\"\",\"\",V155)","v":""},null,{"$f":"IF(X155=\"\",\"\",X155)","v":""},null,{"$f":"IF(Z155=\"\",\"\",Z155)","v":""},null,{"$f":"IF(AB155=\"\",\"\",AB155)","v":""},null,{"$f":"IF(AD155=\"\",\"\",AD155)","v":""},null,{"$f":"IF(AF155=\"\",\"\",AF155)","v":""},null,{"$f":"IF(AH155=\"\",\"\",AH155)","v":""},null,{"$f":"IF(AJ155=\"\",\"\",AJ155)","v":""},null,{"$f":"IF(AL155=\"\",\"\",AL155)","v":""},null,null,{"$f":"IF(AO155=\"\",\"\",AO155)","v":""},null,null,{"$f":"IF(AR155=\"\",\"\",AR155)","v":""},null,null,null,null,{"$f":"IF(AW155=\"\",\"\",AW155)","v":""}]
[]
[]
[]
[null,null,null,null,null,null,null,null,null,null,null,null,null,null,null,null,null,{"$f":"IF(R159=\"\",\"\",R159)","v":""},null,{"$f":"IF(T159=\"\",\"\",T159)","v":""},null,{"$f":"IF(V159=\"\",\"\",V159)","v":""},null,{"$f":"IF(X159=\"\",\"\",X159)","v":""},null,{"$f":"IF(Z159=\"\",\"\",Z159)","v":""},null,{"$f":"IF(AB159=\"\",\"\",AB159)","v":""},null,{"$f":"IF(AD159=\"\",\"\",AD159)","v":""},null,{"$f":"IF(AF159=\"\",\"\",AF159)","v":""},null,{"$f":"IF(AH159=\"\",\"\",AH159)","v":""},null,{"$f":"IF(AJ159=\"\",\"\",AJ159)","v":""},null,{"$f":"IF(AL159=\"\",\"\",AL159)","v":""},null,null,{"$f":"IF(AO159=\"\",\"\",AO159)","v":""},null,null,{"$f":"IF(AR159=\"\",\"\",AR159)","v":""},null,null,null,null,{"$f":"IF(AW159=\"\",\"\",AW159)","v":""}]
[]
[]
[]
[null,null,null,null,null,null,null,null,null,null,null,null,null,null,null,null,null,{"$f":"IF(R163=\"\",\"\",R163)","v":""},null,{"$f":"IF(T163=\"\",\"\",T163)","v":""},null,{"$f":"IF(V163=\"\",\"\",V163)","v":""},null,{"$f":"IF(X163=\"\",\"\",X163)","v":""},null,{"$f":"IF(Z163=\"\",\"\",Z163)","v":""},null,{"$f":"IF(AB163=\"\",\"\",AB163)","v":""},null,{"$f":"IF(AD163=\"\",\"\",AD163)","v":""},null,{"$f":"IF(AF163=\"\",\"\",AF163)","v":""},null,{"$f":"IF(AH163=\"\",\"\",AH163)","v":""},null,{"$f":"IF(AJ163=\"\",\"\",AJ163)","v":""},null,{"$f":"IF(AL163=\"\",\"\",AL163)","v":""},null,null,{"$f":"IF(AO163=\"\",\"\",AO163)","v":""},null,null,{"$f":"IF(AR163=\"\",\"\",AR163)","v":""},null,null,null,null,{"$f":"IF(AW163=\"\",\"\",AW163)","v":""}]
[]
[]
[]
[null,null,null,null,null,null,null,null,null,null,null,null,null,null,null,null,null,{"$f":"IF(R167=\"\",\"\",R167)","v":""},null,{"$f":"IF(T167=\"\",\"\",T167)","v":""},null,{"$f":"IF(V167=\"\",\"\",V167)","v":""},null,{"$f":"IF(X167=\"\",\"\",X167)","v":""},null,{"$f":"IF(Z167=\"\",\"\",Z167)","v":""},null,{"$f":"IF(AB167=\"\",\"\",AB167)","v":""},null,{"$f":"IF(AD167=\"\",\"\",AD167)","v":""},null,{"$f":"IF(AF167=\"\",\"\",AF167)","v":""},null,{"$f":"IF(AH167=\"\",\"\",AH167)","v":""},null,{"$f":"IF(AJ167=\"\",\"\",AJ167)","v":""},null,{"$f":"IF(AL167=\"\",\"\",AL167)","v":""},null,null,{"$f":"IF(AO167=\"\",\"\",AO167)","v":""},null,null,{"$f":"IF(AR167=\"\",\"\",AR167)","v":""},null,null,null,null,{"$f":"IF(AW167=\"\",\"\",AW167)","v":""}]
[]
[]
[]
[null,null,null,null,null,null,null,null,null,null,null,null,null,null,null,null,null,{"$f":"IF(R171=\"\",\"\",R171)","v":""},null,{"$f":"IF(T171=\"\",\"\",T171)","v":""},null,{"$f":"IF(V171=\"\",\"\",V171)","v":""},null,{"$f":"IF(X171=\"\",\"\",X171)","v":""},null,{"$f":"IF(Z171=\"\",\"\",Z171)","v":""},null,{"$f":"IF(AB171=\"\",\"\",AB171)","v":""},null,{"$f":"IF(AD171=\"\",\"\",AD171)","v":""},null,{"$f":"IF(AF171=\"\",\"\",AF171)","v":""},null,{"$f":"IF(AH171=\"\",\"\",AH171)","v":""},null,{"$f":"IF(AJ171=\"\",\"\",AJ171)","v":""},null,{"$f":"IF(AL171=\"\",\"\",AL171)","v":""},null,null,{"$f":"IF(AO171=\"\",\"\",AO171)","v":""},null,null,{"$f":"IF(AR171=\"\",\"\",AR171)","v":""},null,null,null,null,{"$f":"IF(AW171=\"\",\"\",AW171)","v":""}]
[]
[]
[]
[null,null,null,null,null,null,null,null,null,null,null,null,null,null,null,null,null,null,null,null,null,null,null,null,null,null,null,null,null,null,null,null,null,null,null,null,null,{"$f":"AL175","v":"金額(税抜)"},null,null,null,null,null,null,null,null,null,null,{"$f":"AW83","v":""}]
[]
[]
[]
[]
[null,null,null,null,null,null,null,null,null,null,null,null,null,null,null,null,null,null,null,null,null,null,null,null,null,null,null,null,null,null,null,null,null,null,null,null,null,{"$f":"AL180","v":"消費税"},null,null,null,null,null,"税率",null,null,"税調",null,{"$f":"AW88","v":""}]
[]
[null,null,null,null,null,null,null,null,null,null,null,null,null,null,null,null,null,null,null,null,null,null,null,null,null,null,null,null,null,null,null,null,null,null,null,null,null,null,null,null,null,null,null,{"$f":"AR90","v":0},null,{"$f":"AT90","v":""}]

{"sheet":"細2-5","index":20,"n_rows":274,"n_cols":53,"rows_kept":274,"cut":false,"hidden":false,"merged":[[266,37,269,47],[266,48,269,54],[258,48,261,54],[262,17,265,18],[262,19,265,20],[262,21,265,36],[262,37,265,39],[258,43,261,47],[271,48,274,54],[262,40,265,42],[262,43,265,47],[262,48,265,54],[258,17,261,18],[258,19,261,20],[258,21,261,36],[258,37,261,39],[258,40,261,42],[271,37,274,42],[271,43,272,45],[273,43,274,44],[273,45,274,45],[273,46,274,47],[271,46,272,47],[250,48,253,54],[254,17,257,18],[254,19,257,20],[254,21,257,36],[254,37,257,39],[254,40,257,42],[254,43,257,47],[254,48,257,54],[250,17,253,18],[250,19,253,20],[250,21,253,36],[250,37,253,39],[250,40,253,42],[250,43,253,47],[242,48,245,54],[246,17,249,18],[246,19,249,20],[246,21,249,36],[246,37,249,39],[246,40,249,42],[246,43,249,47],[246,48,249,54],[242,17,245,18],[242,19,245,20],[242,21,245,36],[242,37,245,39],[242,40,245,42],[242,43,245,47],[234,48,237,54],[238,17,241,18],[238,19,241,20],[238,21,241,36],[238,37,241,39],[238,40,241,42],[238,43,241,47],[238,48,241,54],[234,17,237,18],[234,19,237,20],[234,21,237,36],[234,37,237,39],[234,40,237,42],[234,43,237,47],[222,17,225,18],[222,19,225,20],[222,21,225,36],[222,37,225,39],[222,40,225,42],[222,43,225,47],[222,48,225,54],[226,48,229,54],[230,17,233,18],[230,19,233,20],[230,21,233,36],[230,37,233,39],[230,40,233,42],[230,43,233,47],[230,48,233,54],[226,17,229,18],[226,19,229,20],[226,21,229,36],[226,37,229,39],[226,40,229,42],[226,43,229,47],[218,1,221,5],[218,6,221,15],[218,17,221,18],[218,19,221,20],[218,21,221,36],[218,37,221,39],[218,40,221,42],[218,43,221,47],[218,48,221,54],[210,40,213,42],[210,43,213,47],[210,48,213,54],[214,1,217,3],[214,4,217,5],[214,6,217,15],[214,17,217,18],[214,19,217,20],[214,21,217,36],[214,37,217,39],[210,1,213,5],[210,6,213,15],[210,17,213,18],[210,19,213,20],[210,21,213,36],[210,37,213,39],[214,40,217,42],[214,43,217,47],[214,48,217,54],[206,1,209,5],[206,6,209,15],[206,17,209,18],[206,19,209,20],[206,21,209,36],[206,37,209,39],[206,40,209,42],[206,43,209,47],[206,48,209,54],[198,43,201,47],[198,48,201,54],[202,1,205,5],[202,6,205,15],[202,17,205,18],[202,19,205,20],[202,21,205,36],[202,37,205,39],[202,40,205,42],[202,43,205,47],[198,1,201,5],[198,6,201,15],[198,17,201,20],[198,21,201,36],[198,37,201,39],[198,40,201,42],[202,48,205,54],[187,52,189,54],[192,1,195,5],[192,6,195,11],[192,12,195,15],[192,16,195,35],[192,37,195,40],[192,41,195,54],[185,19,188,32],[186,1,189,11],[186,12,189,13],[187,49,189,51],[187,40,189,44],[187,45,189,48],[174,37,177,47],[174,48,177,54],[179,48,182,54],[170,17,173,18],[170,19,173,20],[170,21,173,36],[170,37,173,39],[170,40,173,42],[170,43,173,47],[170,48,173,54],[179,37,182,42],[179,43,180,45],[179,46,180,47],[181,43,182,44],[181,45,182,45],[181,46,182,47],[166,17,169,18],[166,19,169,20],[162,43,165,47],[162,48,165,54],[158,17,161,18],[158,19,161,20],[158,21,161,36],[158,37,161,39],[158,40,161,42],[162,17,165,18],[162,19,165,20],[162,21,165,36],[162,37,165,39],[162,40,165,42],[166,48,169,54],[158,43,161,47],[166,21,169,36],[166,37,169,39],[166,40,169,42],[166,43,169,47],[158,48,161,54],[154,48,157,54],[150,17,153,18],[150,19,153,20],[146,43,149,47],[146,48,149,54],[142,17,145,18],[142,19,145,20],[142,21,145,36],[142,37,145,39],[142,40,145,42],[154,17,157,18],[154,19,157,20],[154,21,157,36],[154,37,157,39],[154,40,157,42],[154,43,157,47],[146,17,149,18],[146,19,149,20],[146,21,149,36],[146,37,149,39],[146,40,149,42],[150,48,153,54],[142,43,145,47],[150,21,153,36],[150,37,153,39],[150,40,153,42],[150,43,153,47],[142,48,145,54],[130,48,133,54],[134,48,137,54],[130,17,133,18],[130,19,133,20],[130,21,133,36],[130,37,133,39],[130,40,133,42],[130,43,133,47],[138,48,141,54],[134,17,137,18],[134,19,137,20],[134,21,137,36],[134,37,137,39],[134,40,137,42],[134,43,137,47],[138,17,141,18],[138,19,141,20],[138,21,141,36],[138,37,141,39],[138,40,141,42],[138,43,141,47],[126,1,129,5],[126,6,129,15],[126,17,129,18],[126,19,129,20],[126,21,129,36],[126,37,129,39],[126,40,129,42],[126,43,129,47],[126,48,129,54],[118,40,121,42],[118,43,121,47],[118,48,121,54],[122,1,125,3],[122,4,125,5],[122,6,125,15],[122,17,125,18],[122,19,125,20],[122,21,125,36],[122,37,125,39],[118,1,121,5],[118,6,121,15],[118,17,121,18],[118,19,121,20],[118,21,121,36],[118,37,121,39],[122,40,125,42],[122,43,125,47],[122,48,125,54],[114,1,117,5],[114,6,117,15],[114,17,117,18],[114,19,117,20],[114,21,117,36],[114,37,117,39],[114,40,117,42],[114,43,117,47],[114,48,117,54],[106,43,109,47],[106,48,109,54],[110,1,113,5],[110,6,113,15],[110,17,113,18],[110,19,113,20],[110,21,113,36],[110,37,113,39],[110,40,113,42],[110,43,113,47],[106,1,109,5],[106,6,109,15],[106,17,109,20],[106,21,109,36],[106,37,109,39],[106,40,109,42],[110,48,113,54],[89,46,90,47],[87,46,88,47],[95,49,97,51],[95,52,97,54],[100,1,103,5],[100,6,103,11],[100,12,103,15],[100,16,103,35],[100,37,103,40],[100,41,103,54],[93,19,96,32],[94,1,97,11],[94,12,97,13],[95,40,97,44],[95,45,97,48],[83,1,84,4],[83,5,84,10],[83,11,84,16],[83,17,84,25],[85,1,90,4],[85,5,90,10],[85,11,90,16],[85,17,90,25],[89,45,90,45],[78,43,81,47],[83,26,84,30],[83,31,84,35],[78,17,81,18],[78,19,81,20],[78,21,81,36],[85,26,90,30],[85,31,90,35],[74,48,77,54],[87,48,90,54],[78,48,81,54],[82,37,85,47],[82,48,85,54],[78,37,81,39],[78,40,81,42],[74,17,77,18],[74,19,77,20],[74,21,77,36],[74,37,77,39],[74,40,77,42],[74,43,77,47],[87,37,90,42],[87,43,88,45],[89,43,90,44],[66,48,69,54],[70,17,73,18],[70,19,73,20],[70,21,73,36],[70,37,73,39],[70,40,73,42],[70,43,73,47],[70,48,73,54],[66,17,69,18],[66,19,69,20],[66,21,69,36],[66,37,69,39],[66,40,69,42],[66,43,69,47],[58,48,61,54],[62,17,65,18],[62,19,65,20],[62,21,65,36],[62,37,65,39],[62,40,65,42],[62,43,65,47],[62,48,65,54],[58,17,61,18],[58,19,61,20],[58,21,61,36],[58,37,61,39],[58,40,61,42],[58,43,61,47],[50,48,53,54],[54,17,57,18],[54,19,57,20],[54,21,57,36],[54,37,57,39],[54,40,57,42],[54,43,57,47],[54,48,57,54],[50,17,53,18],[50,19,53,20],[50,21,53,36],[50,37,53,39],[50,40,53,42],[50,43,53,47],[38,17,41,18],[38,19,41,20],[38,21,41,36],[38,37,41,39],[38,40,41,42],[38,43,41,47],[38,48,41,54],[42,48,45,54],[46,17,49,18],[46,19,49,20],[46,21,49,36],[46,37,49,39],[46,40,49,42],[46,43,49,47],[46,48,49,54],[42,17,45,18],[42,19,45,20],[42,21,45,36],[42,37,45,39],[42,40,45,42],[42,43,45,47],[34,1,37,5],[34,6,37,15],[34,17,37,18],[34,19,37,20],[34,21,37,36],[34,37,37,39],[34,40,37,42],[34,43,37,47],[34,48,37,54],[26,40,29,42],[26,43,29,47],[26,48,29,54],[30,1,33,3],[30,4,33,5],[30,6,33,15],[30,17,33,18],[30,19,33,20],[30,21,33,36],[30,37,33,39],[26,1,29,5],[26,6,29,15],[26,17,29,18],[26,19,29,20],[26,21,29,36],[26,37,29,39],[30,40,33,42],[30,43,33,47],[30,48,33,54],[22,1,25,5],[22,6,25,15],[22,17,25,18],[22,19,25,20],[22,21,25,36],[22,37,25,39],[22,40,25,42],[22,43,25,47],[22,48,25,54],[14,43,17,47],[14,48,17,54],[18,1,21,5],[18,6,21,15],[18,17,21,18],[18,19,21,20],[18,21,21,36],[18,37,21,39],[18,40,21,42],[18,43,21,47],[14,1,17,5],[14,6,17,15],[14,17,17,20],[14,21,17,36],[14,37,17,39],[14,40,17,42],[18,48,21,54],[3,52,5,54],[8,37,11,40],[8,41,11,54],[1,19,4,32],[2,1,5,11],[2,12,5,13],[8,1,11,5],[8,6,11,11],[8,12,11,15],[8,16,11,35],[3,49,5,51],[3,40,5,44],[3,45,5,48]]}
[]
[null,null,null,null,null,null,null,null,null,null,null,null,null,null,null,null,null,null,null,"請求書明細書 (正)"]
[null,"株 式 会 社 種 村 建 設",null,null,null,null,null,null,null,null,null,null,"御中"]
[null,null,null,null,null,null,null,null,null,null,null,null,null,null,null,null,null,null,null,null,null,null,null,null,null,null,null,null,null,null,null,null,null,null,null,null,null,null,null,null,"請求年月日",null,null,null,null,{"$f":"IF(年=\"\",\"\",年)","v":""},null,null,null,{"$f":"IF(月=\"\",\"\",月)","v":""},null,null,{"$f":"IF(日=\"\",\"\",日)","v":""}]
[]
[]
[]
[]
[null,"工事番号",null,null,null,null,null,null,null,null,null,null,"工事名",null,null,null,null,null,null,null,null,null,null,null,null,null,null,null,null,null,null,null,null,null,null,null,null,"業者名",null,null,null,{"$f":"IF(社名=\"\",\"\",社名)","v":""}]
[]
[]
[]
[]
[]
[null,"注文番号",null,null,null,null,null,null,null,null,null,null,null,null,null,null,null,"月　日",null,null,null,"品　名・内　訳",null,null,null,null,null,null,null,null,null,null,null,null,null,null,null,"数 量",null,null,"単位",null,null,"単価",null,null,null,null,{"$f":"表紙①!P35","v":"金額(税抜)"}]
[]
[]
[]
[null,"契約金額",null,null,null,null,null,null,null,null,null,null,null,null,null,null,null,null,null,null,null,null,null,null,null,null,null,null,null,null,null,null,null,null,null,null,null,null,null,null,null,null,null,null,null,null,null,null,{"$f":"IF(V19=\"\",\"\",ROUND(AL19*AR19,0))","v":""}]
[]
[]
[]
[null,"増減額",null,null,null,null,null,null,null,null,null,null,null,null,null,null,null,null,null,null,null,null,null,null,null,null,null,null,null,null,null,null,null,null,null,null,null,null,null,null,null,null,null,null,null,null,null,null,{"$f":"IF(V23=\"\",\"\",ROUND(AL23*AR23,0))","v":""}]
[]
[]
[]
[null,"前回までの\n請求額",null,null,null,null,null,null,null,null,null,null,null,null,null,null,null,null,null,null,null,null,null,null,null,null,null,null,null,null,null,null,null,null,null,null,null,null,null,null,null,null,null,null,null,null,null,null,{"$f":"IF(V27=\"\",\"\",ROUND(AL27*AR27,0))","v":""}]
[]
[]
[]
[null,"今回\n請求額",null,null,null,null,null,null,null,null,null,null,null,null,null,null,null,null,null,null,null,null,null,null,null,null,null,null,null,null,null,null,null,null,null,null,null,null,null,null,null,null,null,null,null,null,null,null,{"$f":"IF(V31=\"\",\"\",ROUND(AL31*AR31,0))","v":""}]
[]
[]
[]
[null,"差引残高",null,null,null,null,{"$f":"IF(G19=\"\",\"\",G19+G23-G27-G31)","v":""},null,null,null,null,null,null,null,null,null,null,null,null,null,null,null,null,null,null,null,null,null,null,null,null,null,null,null,null,null,null,null,null,null,null,null,null,null,null,null,null,null,{"$f":"IF(V35=\"\",\"\",ROUND(AL35*AR35,0))","v":""}]
[]
[]
[]
[null,null,null,null,null,null,null,null,null,null,null,null,null,null,null,null,null,null,null,null,null,null,null,null,null,null,null,null,null,null,null,null,null,null,null,null,null,null,null,null,null,null,null,null,null,null,null,null,{"$f":"IF(V39=\"\",\"\",ROUND(AL39*AR39,0))","v":""}]
[]
[]
[]
[null,null,null,null,null,null,null,null,null,null,null,null,null,null,null,null,null,null,null,null,null,null,null,null,null,null,null,null,null,null,null,null,null,null,null,null,null,null,null,null,null,null,null,null,null,null,null,null,{"$f":"IF(V43=\"\",\"\",ROUND(AL43*AR43,0))","v":""}]
[]
[]
[]
[null,null,null,null,null,null,null,null,null,null,null,null,null,null,null,null,null,null,null,null,null,null,null,null,null,null,null,null,null,null,null,null,null,null,null,null,null,null,null,null,null,null,null,null,null,null,null,null,{"$f":"IF(V47=\"\",\"\",ROUND(AL47*AR47,0))","v":""}]
[]
[]
[]
[null,null,null,null,null,null,null,null,null,null,null,null,null,null,null,null,null,null,null,null,null,null,null,null,null,null,null,null,null,null,null,null,null,null,null,null,null,null,null,null,null,null,null,null,null,null,null,null,{"$f":"IF(V51=\"\",\"\",ROUND(AL51*AR51,0))","v":""}]
[]
[]
[]
[null,null,null,null,null,null,null,null,null,null,null,null,null,null,null,null,null,null,null,null,null,null,null,null,null,null,null,null,null,null,null,null,null,null,null,null,null,null,null,null,null,null,null,null,null,null,null,null,{"$f":"IF(V55=\"\",\"\",ROUND(AL55*AR55,0))","v":""}]
[]
[]
[]
[null,null,null,null,null,null,null,null,null,null,null,null,null,null,null,null,null,null,null,null,null,null,null,null,null,null,null,null,null,null,null,null,null,null,null,null,null,null,null,null,null,null,null,null,null,null,null,null,{"$f":"IF(V59=\"\",\"\",ROUND(AL59*AR59,0))","v":""}]
[]
[]
[]
[null,null,null,null,null,null,null,null,null,null,null,null,null,null,null,null,null,null,null,null,null,null,null,null,null,null,null,null,null,null,null,null,null,null,null,null,null,null,null,null,null,null,null,null,null,null,null,null,{"$f":"IF(V63=\"\",\"\",ROUND(AL63*AR63,0))","v":""}]
[]
[]
[]
[null,null,null,null,null,null,null,null,null,null,null,null,null,null,null,null,null,null,null,null,null,null,null,null,null,null,null,null,null,null,null,null,null,null,null,null,null,null,null,null,null,null,null,null,null,null,null,null,{"$f":"IF(V67=\"\",\"\",ROUND(AL67*AR67,0))","v":""}]
[]
[]
[]
[null,null,null,null,null,null,null,null,null,null,null,null,null,null,null,null,null,null,null,null,null,null,null,null,null,null,null,null,null,null,null,null,null,null,null,null,null,null,null,null,null,null,null,null,null,null,null,null,{"$f":"IF(V71=\"\",\"\",ROUND(AL71*AR71,0))","v":""}]
[]
[]
[]
[null,null,null,null,null,null,null,null,null,null,null,null,null,null,null,null,null,null,null,null,null,null,null,null,null,null,null,null,null,null,null,null,null,null,null,null,null,null,null,null,null,null,null,null,null,null,null,null,{"$f":"IF(V75=\"\",\"\",ROUND(AL75*AR75,0))","v":""}]
[]
[]
[]
[null,null,null,null,null,null,null,null,null,null,null,null,null,null,null,null,null,null,null,null,null,null,null,null,null,null,null,null,null,null,null,null,null,null,null,null,null,null,null,null,null,null,null,null,null,null,null,null,{"$f":"IF(V79=\"\",\"\",ROUND(AL79*AR79,0))","v":""}]
[]
[]
[]
[null,null,null,null,null,null,null,null,null,null,null,null,null,null,null,null,null,null,null,null,null,null,null,null,null,null,null,null,null,null,null,null,null,null,null,null,null,"金額(税抜)",null,null,null,null,null,null,null,null,null,null,{"$f":"IF(AW19=\"\",\"\",SUM(AW19:AW79))","v":""}]
[null,"社長",null,null,null,"専務",null,null,null,null,null,"常務",null,null,null,null,null,"部長･工場長",null,null,null,null,null,null,null,null,"担当者",null,null,null,null,"受付"]
[]
[]
[]
[null,null,null,null,null,null,null,null,null,null,null,null,null,null,null,null,null,null,null,null,null,null,null,null,null,null,null,null,null,null,null,null,null,null,null,null,null,"消費税",null,null,null,null,null,"税率",null,null,"税調",null,{"$f":"IF(AW83=\"\",\"\",IF(AR90=\"\",\"\",IF(AR90=8.1,ROUND(AW83*8/100,0)+AU90,ROUND(AW83*AR90/100,0)+AU90)))","v":""}]
[]
[null,null,null,null,null,null,null,null,null,null,null,null,null,null,null,null,null,null,null,null,null,null,null,null,null,null,null,null,null,null,null,null,null,null,null,null,null,null,null,null,null,null,null,null,null,{"$f":"IF(AR90=\"\",\"\",IF(AR90=8.1,\"旧\",IF(AR90=8,\"軽\",IF(AR90=0,\"非\",\"\"))))","v":""}]
[]
[]
[]
[null,null,null,null,null,null,null,null,null,null,null,null,null,null,null,null,null,null,null,"請求明細書 (現場控)"]
[null,"株 式 会 社 種 村 建 設",null,null,null,null,null,null,null,null,null,null,"御中"]
[null,null,null,null,null,null,null,null,null,null,null,null,null,null,null,null,null,null,null,null,null,null,null,null,null,null,null,null,null,null,null,null,null,null,null,null,null,null,null,null,"請求年月日",null,null,null,null,{"$f":"IF(AT4=\"\",\"\",AT4)","v":""},null,null,null,{"$f":"IF(AX4=\"\",\"\",AX4)","v":""},null,null,{"$f":"IF(BA4=\"\",\"\",BA4)","v":""}]
[]
[]
[]
[]
[null,"工事番号",null,null,null,null,{"$f":"IF(G9=\"\",\"\",G9)","v":""},null,null,null,null,null,"工事名",null,null,null,{"$f":"IF(Q9=\"\",\"\",Q9)","v":""},null,null,null,null,null,null,null,null,null,null,null,null,null,null,null,null,null,null,null,null,"業者名",null,null,null,{"$f":"IF(AP9=\"\",\"\",AP9)","v":""}]
[]
[]
[]
[]
[]
[null,"注文番号",null,null,null,null,{"$f":"IF(G15=\"\",\"\",G15)","v":""},null,null,null,null,null,null,null,null,null,null,"月　日",null,null,null,"品　名・内　訳",null,null,null,null,null,null,null,null,null,null,null,null,null,null,null,"数 量",null,null,"単位",null,null,"単価",null,null,null,null,{"$f":"AW15","v":"金額(税抜)"}]
[]
[]
[]
[null,"契約金額",null,null,null,null,{"$f":"IF(G19=\"\",\"\",G19)","v":""},null,null,null,null,null,null,null,null,null,null,{"$f":"IF(R19=\"\",\"\",R19)","v":""},null,{"$f":"IF(T19=\"\",\"\",T19)","v":""},null,{"$f":"IF(V19=\"\",\"\",V19)","v":""},null,{"$f":"IF(X19=\"\",\"\",X19)","v":""},null,{"$f":"IF(Z19=\"\",\"\",Z19)","v":""},null,{"$f":"IF(AB19=\"\",\"\",AB19)","v":""},null,{"$f":"IF(AD19=\"\",\"\",AD19)","v":""},null,{"$f":"IF(AF19=\"\",\"\",AF19)","v":""},null,{"$f":"IF(AH19=\"\",\"\",AH19)","v":""},null,{"$f":"IF(AJ19=\"\",\"\",AJ19)","v":""},null,{"$f":"IF(AL19=\"\",\"\",AL19)","v":""},null,null,{"$f":"IF(AO19=\"\",\"\",AO19)","v":""},null,null,{"$f":"IF(AR19=\"\",\"\",AR19)","v":""},null,null,null,null,{"$f":"IF(AW19=\"\",\"\",AW19)","v":""}]
[]
[]
[]
[null,"増減額",null,null,null,null,{"$f":"IF(G23=\"\",\"\",G23)","v":""},null,null,null,null,null,null,null,null,null,null,{"$f":"IF(R23=\"\",\"\",R23)","v":""},null,{"$f":"IF(T23=\"\",\"\",T23)","v":""},null,{"$f":"IF(V23=\"\",\"\",V23)","v":""},null,{"$f":"IF(X23=\"\",\"\",X23)","v":""},null,{"$f":"IF(Z23=\"\",\"\",Z23)","v":""},null,{"$f":"IF(AB23=\"\",\"\",AB23)","v":""},null,{"$f":"IF(AD23=\"\",\"\",AD23)","v":""},null,{"$f":"IF(AF23=\"\",\"\",AF23)","v":""},null,{"$f":"IF(AH23=\"\",\"\",AH23)","v":""},null,{"$f":"IF(AJ23=\"\",\"\",AJ23)","v":""},null,{"$f":"IF(AL23=\"\",\"\",AL23)","v":""},null,null,{"$f":"IF(AO23=\"\",\"\",AO23)","v":""},null,null,{"$f":"IF(AR23=\"\",\"\",AR23)","v":""},null,null,null,null,{"$f":"IF(AW23=\"\",\"\",AW23)","v":""}]
[]
[]
[]
[null,"前回までの\n請求額",null,null,null,null,{"$f":"IF(G27=\"\",\"\",G27)","v":""},null,null,null,null,null,null,null,null,null,null,{"$f":"IF(R27=\"\",\"\",R27)","v":""},null,{"$f":"IF(T27=\"\",\"\",T27)","v":""},null,{"$f":"IF(V27=\"\",\"\",V27)","v":""},null,{"$f":"IF(X27=\"\",\"\",X27)","v":""},null,{"$f":"IF(Z27=\"\",\"\",Z27)","v":""},null,{"$f":"IF(AB27=\"\",\"\",AB27)","v":""},null,{"$f":"IF(AD27=\"\",\"\",AD27)","v":""},null,{"$f":"IF(AF27=\"\",\"\",AF27)","v":""},null,{"$f":"IF(AH27=\"\",\"\",AH27)","v":""},null,{"$f":"IF(AJ27=\"\",\"\",AJ27)","v":""},null,{"$f":"IF(AL27=\"\",\"\",AL27)","v":""},null,null,{"$f":"IF(AO27=\"\",\"\",AO27)","v":""},null,null,{"$f":"IF(AR27=\"\",\"\",AR27)","v":""},null,null,null,null,{"$f":"IF(AW27=\"\",\"\",AW27)","v":""}]
[]
[]
[]
[null,"今回\n請求額",null,null,{"$f":"IF(E31=\"\",\"\",E31)","v":""},null,{"$f":"IF(G31=\"\",\"\",G31)","v":""},null,null,null,null,null,null,null,null,null,null,{"$f":"IF(R31=\"\",\"\",R31)","v":""},null,{"$f":"IF(T31=\"\",\"\",T31)","v":""},null,{"$f":"IF(V31=\"\",\"\",V31)","v":""},null,{"$f":"IF(X31=\"\",\"\",X31)","v":""},null,{"$f":"IF(Z31=\"\",\"\",Z31)","v":""},null,{"$f":"IF(AB31=\"\",\"\",AB31)","v":""},null,{"$f":"IF(AD31=\"\",\"\",AD31)","v":""},null,{"$f":"IF(AF31=\"\",\"\",AF31)","v":""},null,{"$f":"IF(AH31=\"\",\"\",AH31)","v":""},null,{"$f":"IF(AJ31=\"\",\"\",AJ31)","v":""},null,{"$f":"IF(AL31=\"\",\"\",AL31)","v":""},null,null,{"$f":"IF(AO31=\"\",\"\",AO31)","v":""},null,null,{"$f":"IF(AR31=\"\",\"\",AR31)","v":""},null,null,null,null,{"$f":"IF(AW31=\"\",\"\",AW31)","v":""}]
[]
[]
[]
[null,"差引残高",null,null,null,null,{"$f":"IF(G111=\"\",\"\",G111+G115-G119-G123)","v":""},null,null,null,null,null,null,null,null,null,null,{"$f":"IF(R35=\"\",\"\",R35)","v":""},null,{"$f":"IF(T35=\"\",\"\",T35)","v":""},null,{"$f":"IF(V35=\"\",\"\",V35)","v":""},null,{"$f":"IF(X35=\"\",\"\",X35)","v":""},null,{"$f":"IF(Z35=\"\",\"\",Z35)","v":""},null,{"$f":"IF(AB35=\"\",\"\",AB35)","v":""},null,{"$f":"IF(AD35=\"\",\"\",AD35)","v":""},null,{"$f":"IF(AF35=\"\",\"\",AF35)","v":""},null,{"$f":"IF(AH35=\"\",\"\",AH35)","v":""},null,{"$f":"IF(AJ35=\"\",\"\",AJ35)","v":""},null,{"$f":"IF(AL35=\"\",\"\",AL35)","v":""},null,null,{"$f":"IF(AO35=\"\",\"\",AO35)","v":""},null,null,{"$f":"IF(AR35=\"\",\"\",AR35)","v":""},null,null,null,null,{"$f":"IF(AW35=\"\",\"\",AW35)","v":""}]
[]
[]
[]
[null,null,null,null,null,null,null,null,null,null,null,null,null,null,null,null,null,{"$f":"IF(R39=\"\",\"\",R39)","v":""},null,{"$f":"IF(T39=\"\",\"\",T39)","v":""},null,{"$f":"IF(V39=\"\",\"\",V39)","v":""},null,{"$f":"IF(X39=\"\",\"\",X39)","v":""},null,{"$f":"IF(Z39=\"\",\"\",Z39)","v":""},null,{"$f":"IF(AB39=\"\",\"\",AB39)","v":""},null,{"$f":"IF(AD39=\"\",\"\",AD39)","v":""},null,{"$f":"IF(AF39=\"\",\"\",AF39)","v":""},null,{"$f":"IF(AH39=\"\",\"\",AH39)","v":""},null,{"$f":"IF(AJ39=\"\",\"\",AJ39)","v":""},null,{"$f":"IF(AL39=\"\",\"\",AL39)","v":""},null,null,{"$f":"IF(AO39=\"\",\"\",AO39)","v":""},null,null,{"$f":"IF(AR39=\"\",\"\",AR39)","v":""},null,null,null,null,{"$f":"IF(AW39=\"\",\"\",AW39)","v":""}]
[]
[]
[]
[null,null,null,null,null,null,null,null,null,null,null,null,null,null,null,null,null,{"$f":"IF(R43=\"\",\"\",R43)","v":""},null,{"$f":"IF(T43=\"\",\"\",T43)","v":""},null,{"$f":"IF(V43=\"\",\"\",V43)","v":""},null,{"$f":"IF(X43=\"\",\"\",X43)","v":""},null,{"$f":"IF(Z43=\"\",\"\",Z43)","v":""},null,{"$f":"IF(AB43=\"\",\"\",AB43)","v":""},null,{"$f":"IF(AD43=\"\",\"\",AD43)","v":""},null,{"$f":"IF(AF43=\"\",\"\",AF43)","v":""},null,{"$f":"IF(AH43=\"\",\"\",AH43)","v":""},null,{"$f":"IF(AJ43=\"\",\"\",AJ43)","v":""},null,{"$f":"IF(AL43=\"\",\"\",AL43)","v":""},null,null,{"$f":"IF(AO43=\"\",\"\",AO43)","v":""},null,null,{"$f":"IF(AR43=\"\",\"\",AR43)","v":""},null,null,null,null,{"$f":"IF(AW43=\"\",\"\",AW43)","v":""}]
[]
[]
[]
[null,null,null,null,null,null,null,null,null,null,null,null,null,null,null,null,null,{"$f":"IF(R47=\"\",\"\",R47)","v":""},null,{"$f":"IF(T47=\"\",\"\",T47)","v":""},null,{"$f":"IF(V47=\"\",\"\",V47)","v":""},null,{"$f":"IF(X47=\"\",\"\",X47)","v":""},null,{"$f":"IF(Z47=\"\",\"\",Z47)","v":""},null,{"$f":"IF(AB47=\"\",\"\",AB47)","v":""},null,{"$f":"IF(AD47=\"\",\"\",AD47)","v":""},null,{"$f":"IF(AF47=\"\",\"\",AF47)","v":""},null,{"$f":"IF(AH47=\"\",\"\",AH47)","v":""},null,{"$f":"IF(AJ47=\"\",\"\",AJ47)","v":""},null,{"$f":"IF(AL47=\"\",\"\",AL47)","v":""},null,null,{"$f":"IF(AO47=\"\",\"\",AO47)","v":""},null,null,{"$f":"IF(AR47=\"\",\"\",AR47)","v":""},null,null,null,null,{"$f":"IF(AW47=\"\",\"\",AW47)","v":""}]
[]
[]
[]
[null,null,null,null,null,null,null,null,null,null,null,null,null,null,null,null,null,{"$f":"IF(R51=\"\",\"\",R51)","v":""},null,{"$f":"IF(T51=\"\",\"\",T51)","v":""},null,{"$f":"IF(V51=\"\",\"\",V51)","v":""},null,{"$f":"IF(X51=\"\",\"\",X51)","v":""},null,{"$f":"IF(Z51=\"\",\"\",Z51)","v":""},null,{"$f":"IF(AB51=\"\",\"\",AB51)","v":""},null,{"$f":"IF(AD51=\"\",\"\",AD51)","v":""},null,{"$f":"IF(AF51=\"\",\"\",AF51)","v":""},null,{"$f":"IF(AH51=\"\",\"\",AH51)","v":""},null,{"$f":"IF(AJ51=\"\",\"\",AJ51)","v":""},null,{"$f":"IF(AL51=\"\",\"\",AL51)","v":""},null,null,{"$f":"IF(AO51=\"\",\"\",AO51)","v":""},null,null,{"$f":"IF(AR51=\"\",\"\",AR51)","v":""},null,null,null,null,{"$f":"IF(AW51=\"\",\"\",AW51)","v":""}]
[]
[]
[]
[null,null,null,null,null,null,null,null,null,null,null,null,null,null,null,null,null,{"$f":"IF(R55=\"\",\"\",R55)","v":""},null,{"$f":"IF(T55=\"\",\"\",T55)","v":""},null,{"$f":"IF(V55=\"\",\"\",V55)","v":""},null,{"$f":"IF(X55=\"\",\"\",X55)","v":""},null,{"$f":"IF(Z55=\"\",\"\",Z55)","v":""},null,{"$f":"IF(AB55=\"\",\"\",AB55)","v":""},null,{"$f":"IF(AD55=\"\",\"\",AD55)","v":""},null,{"$f":"IF(AF55=\"\",\"\",AF55)","v":""},null,{"$f":"IF(AH55=\"\",\"\",AH55)","v":""},null,{"$f":"IF(AJ55=\"\",\"\",AJ55)","v":""},null,{"$f":"IF(AL55=\"\",\"\",AL55)","v":""},null,null,{"$f":"IF(AO55=\"\",\"\",AO55)","v":""},null,null,{"$f":"IF(AR55=\"\",\"\",AR55)","v":""},null,null,null,null,{"$f":"IF(AW55=\"\",\"\",AW55)","v":""}]
[]
[]
[]
[null,null,null,null,null,null,null,null,null,null,null,null,null,null,null,null,null,{"$f":"IF(R59=\"\",\"\",R59)","v":""},null,{"$f":"IF(T59=\"\",\"\",T59)","v":""},null,{"$f":"IF(V59=\"\",\"\",V59)","v":""},null,{"$f":"IF(X59=\"\",\"\",X59)","v":""},null,{"$f":"IF(Z59=\"\",\"\",Z59)","v":""},null,{"$f":"IF(AB59=\"\",\"\",AB59)","v":""},null,{"$f":"IF(AD59=\"\",\"\",AD59)","v":""},null,{"$f":"IF(AF59=\"\",\"\",AF59)","v":""},null,{"$f":"IF(AH59=\"\",\"\",AH59)","v":""},null,{"$f":"IF(AJ59=\"\",\"\",AJ59)","v":""},null,{"$f":"IF(AL59=\"\",\"\",AL59)","v":""},null,null,{"$f":"IF(AO59=\"\",\"\",AO59)","v":""},null,null,{"$f":"IF(AR59=\"\",\"\",AR59)","v":""},null,null,null,null,{"$f":"IF(AW59=\"\",\"\",AW59)","v":""}]
[]
[]
[]
[null,null,null,null,null,null,null,null,null,null,null,null,null,null,null,null,null,{"$f":"IF(R63=\"\",\"\",R63)","v":""},null,{"$f":"IF(T63=\"\",\"\",T63)","v":""},null,{"$f":"IF(V63=\"\",\"\",V63)","v":""},null,{"$f":"IF(X63=\"\",\"\",X63)","v":""},null,{"$f":"IF(Z63=\"\",\"\",Z63)","v":""},null,{"$f":"IF(AB63=\"\",\"\",AB63)","v":""},null,{"$f":"IF(AD63=\"\",\"\",AD63)","v":""},null,{"$f":"IF(AF63=\"\",\"\",AF63)","v":""},null,{"$f":"IF(AH63=\"\",\"\",AH63)","v":""},null,{"$f":"IF(AJ63=\"\",\"\",AJ63)","v":""},null,{"$f":"IF(AL63=\"\",\"\",AL63)","v":""},null,null,{"$f":"IF(AO63=\"\",\"\",AO63)","v":""},null,null,{"$f":"IF(AR63=\"\",\"\",AR63)","v":""},null,null,null,null,{"$f":"IF(AW63=\"\",\"\",AW63)","v":""}]
[]
[]
[]
[null,null,null,null,null,null,null,null,null,null,null,null,null,null,null,null,null,{"$f":"IF(R67=\"\",\"\",R67)","v":""},null,{"$f":"IF(T67=\"\",\"\",T67)","v":""},null,{"$f":"IF(V67=\"\",\"\",V67)","v":""},null,{"$f":"IF(X67=\"\",\"\",X67)","v":""},null,{"$f":"IF(Z67=\"\",\"\",Z67)","v":""},null,{"$f":"IF(AB67=\"\",\"\",AB67)","v":""},null,{"$f":"IF(AD67=\"\",\"\",AD67)","v":""},null,{"$f":"IF(AF67=\"\",\"\",AF67)","v":""},null,{"$f":"IF(AH67=\"\",\"\",AH67)","v":""},null,{"$f":"IF(AJ67=\"\",\"\",AJ67)","v":""},null,{"$f":"IF(AL67=\"\",\"\",AL67)","v":""},null,null,{"$f":"IF(AO67=\"\",\"\",AO67)","v":""},null,null,{"$f":"IF(AR67=\"\",\"\",AR67)","v":""},null,null,null,null,{"$f":"IF(AW67=\"\",\"\",AW67)","v":""}]
[]
[]
[]
[null,null,null,null,null,null,null,null,null,null,null,null,null,null,null,null,null,{"$f":"IF(R71=\"\",\"\",R71)","v":""},null,{"$f":"IF(T71=\"\",\"\",T71)","v":""},null,{"$f":"IF(V71=\"\",\"\",V71)","v":""},null,{"$f":"IF(X71=\"\",\"\",X71)","v":""},null,{"$f":"IF(Z71=\"\",\"\",Z71)","v":""},null,{"$f":"IF(AB71=\"\",\"\",AB71)","v":""},null,{"$f":"IF(AD71=\"\",\"\",AD71)","v":""},null,{"$f":"IF(AF71=\"\",\"\",AF71)","v":""},null,{"$f":"IF(AH71=\"\",\"\",AH71)","v":""},null,{"$f":"IF(AJ71=\"\",\"\",AJ71)","v":""},null,{"$f":"IF(AL71=\"\",\"\",AL71)","v":""},null,null,{"$f":"IF(AO71=\"\",\"\",AO71)","v":""},null,null,{"$f":"IF(AR71=\"\",\"\",AR71)","v":""},null,null,null,null,{"$f":"IF(AW71=\"\",\"\",AW71)","v":""}]
[]
[]
[]
[null,null,null,null,null,null,null,null,null,null,null,null,null,null,null,null,null,{"$f":"IF(R75=\"\",\"\",R75)","v":""},null,{"$f":"IF(T75=\"\",\"\",T75)","v":""},null,{"$f":"IF(V75=\"\",\"\",V75)","v":""},null,{"$f":"IF(X75=\"\",\"\",X75)","v":""},null,{"$f":"IF(Z75=\"\",\"\",Z75)","v":""},null,{"$f":"IF(AB75=\"\",\"\",AB75)","v":""},null,{"$f":"IF(AD75=\"\",\"\",AD75)","v":""},null,{"$f":"IF(AF75=\"\",\"\",AF75)","v":""},null,{"$f":"IF(AH75=\"\",\"\",AH75)","v":""},null,{"$f":"IF(AJ75=\"\",\"\",AJ75)","v":""},null,{"$f":"IF(AL75=\"\",\"\",AL75)","v":""},null,null,{"$f":"IF(AO75=\"\",\"\",AO75)","v":""},null,null,{"$f":"IF(AR75=\"\",\"\",AR75)","v":""},null,null,null,null,{"$f":"IF(AW75=\"\",\"\",AW75)","v":""}]
[]
[]
[]
[null,null,null,null,null,null,null,null,null,null,null,null,null,null,null,null,null,{"$f":"IF(R79=\"\",\"\",R79)","v":""},null,{"$f":"IF(T79=\"\",\"\",T79)","v":""},null,{"$f":"IF(V79=\"\",\"\",V79)","v":""},null,{"$f":"IF(X79=\"\",\"\",X79)","v":""},null,{"$f":"IF(Z79=\"\",\"\",Z79)","v":""},null,{"$f":"IF(AB79=\"\",\"\",AB79)","v":""},null,{"$f":"IF(AD79=\"\",\"\",AD79)","v":""},null,{"$f":"IF(AF79=\"\",\"\",AF79)","v":""},null,{"$f":"IF(AH79=\"\",\"\",AH79)","v":""},null,{"$f":"IF(AJ79=\"\",\"\",AJ79)","v":""},null,{"$f":"IF(AL79=\"\",\"\",AL79)","v":""},null,null,{"$f":"IF(AO79=\"\",\"\",AO79)","v":""},null,null,{"$f":"IF(AR79=\"\",\"\",AR79)","v":""},null,null,null,null,{"$f":"IF(AW79=\"\",\"\",AW79)","v":""}]
[]
[]
[]
[null,null,null,null,null,null,null,null,null,null,null,null,null,null,null,null,null,null,null,null,null,null,null,null,null,null,null,null,null,null,null,null,null,null,null,null,null,{"$f":"AL83","v":"金額(税抜)"},null,null,null,null,null,null,null,null,null,null,{"$f":"AW83","v":""}]
[]
[]
[]
[]
[null,null,null,null,null,null,null,null,null,null,null,null,null,null,null,null,null,null,null,null,null,null,null,null,null,null,null,null,null,null,null,null,null,null,null,null,null,{"$f":"AL88","v":"消費税"},null,null,null,null,null,"税率",null,null,"税調",null,{"$f":"AW88","v":""}]
[]
[null,null,null,null,null,null,null,null,null,null,null,null,null,null,null,null,null,null,null,null,null,null,null,null,null,null,null,null,null,null,null,null,null,null,null,null,null,null,null,null,null,null,null,{"$f":"AR90","v":0},null,{"$f":"AT90","v":""}]
[]
[]
[]
[null,null,null,null,null,null,null,null,null,null,null,null,null,null,null,null,null,null,null,"請求明細書 (貴社控)"]
[null,"株 式 会 社 種 村 建 設",null,null,null,null,null,null,null,null,null,null,"御中"]
[null,null,null,null,null,null,null,null,null,null,null,null,null,null,null,null,null,null,null,null,null,null,null,null,null,null,null,null,null,null,null,null,null,null,null,null,null,null,null,null,"請求年月日",null,null,null,null,{"$f":"IF(AT4=\"\",\"\",AT4)","v":""},null,null,null,{"$f":"IF(AX96=\"\",\"\",AX96)","v":""},null,null,{"$f":"IF(BA96=\"\",\"\",BA96)","v":""}]
[]
[]
[]
[]
[null,"工事番号",null,null,null,null,{"$f":"IF(G101=\"\",\"\",G101)","v":""},null,null,null,null,null,"工事名",null,null,null,{"$f":"IF(Q101=\"\",\"\",Q101)","v":""},null,null,null,null,null,null,null,null,null,null,null,null,null,null,null,null,null,null,null,null,"業者名",null,null,null,{"$f":"IF(AP101=\"\",\"\",AP101)","v":""}]
[]
[]
[]
[]
[]
[null,"注文番号",null,null,null,null,{"$f":"IF(G107=\"\",\"\",G107)","v":""},null,null,null,null,null,null,null,null,null,null,"月　日",null,null,null,"品　名・内　訳",null,null,null,null,null,null,null,null,null,null,null,null,null,null,null,"数 量",null,null,"単位",null,null,"単価",null,null,null,null,{"$f":"AW15","v":"金額(税抜)"}]
[]
[]
[]
[null,"契約金額",null,null,null,null,{"$f":"IF(G111=\"\",\"\",G111)","v":""},null,null,null,null,null,null,null,null,null,null,{"$f":"IF(R111=\"\",\"\",R111)","v":""},null,{"$f":"IF(T111=\"\",\"\",T111)","v":""},null,{"$f":"IF(V111=\"\",\"\",V111)","v":""},null,{"$f":"IF(X111=\"\",\"\",X111)","v":""},null,{"$f":"IF(Z111=\"\",\"\",Z111)","v":""},null,{"$f":"IF(AB111=\"\",\"\",AB111)","v":""},null,{"$f":"IF(AD111=\"\",\"\",AD111)","v":""},null,{"$f":"IF(AF111=\"\",\"\",AF111)","v":""},null,{"$f":"IF(AH111=\"\",\"\",AH111)","v":""},null,{"$f":"IF(AJ111=\"\",\"\",AJ111)","v":""},null,{"$f":"IF(AL111=\"\",\"\",AL111)","v":""},null,null,{"$f":"IF(AO111=\"\",\"\",AO111)","v":""},null,null,{"$f":"IF(AR111=\"\",\"\",AR111)","v":""},null,null,null,null,{"$f":"IF(AW111=\"\",\"\",AW111)","v":""}]
[]
[]
[]
[null,"増減額",null,null,null,null,{"$f":"IF(G115=\"\",\"\",G115)","v":""},null,null,null,null,null,null,null,null,null,null,{"$f":"IF(R115=\"\",\"\",R115)","v":""},null,{"$f":"IF(T115=\"\",\"\",T115)","v":""},null,{"$f":"IF(V115=\"\",\"\",V115)","v":""},null,{"$f":"IF(X115=\"\",\"\",X115)","v":""},null,{"$f":"IF(Z115=\"\",\"\",Z115)","v":""},null,{"$f":"IF(AB115=\"\",\"\",AB115)","v":""},null,{"$f":"IF(AD115=\"\",\"\",AD115)","v":""},null,{"$f":"IF(AF115=\"\",\"\",AF115)","v":""},null,{"$f":"IF(AH115=\"\",\"\",AH115)","v":""},null,{"$f":"IF(AJ115=\"\",\"\",AJ115)","v":""},null,{"$f":"IF(AL115=\"\",\"\",AL115)","v":""},null,null,{"$f":"IF(AO115=\"\",\"\",AO115)","v":""},null,null,{"$f":"IF(AR115=\"\",\"\",AR115)","v":""},null,null,null,null,{"$f":"IF(AW115=\"\",\"\",AW115)","v":""}]
[]
[]
[]
[null,"前回までの\n請求額",null,null,null,null,{"$f":"IF(G119=\"\",\"\",G119)","v":""},null,null,null,null,null,null,null,null,null,null,{"$f":"IF(R119=\"\",\"\",R119)","v":""},null,{"$f":"IF(T119=\"\",\"\",T119)","v":""},null,{"$f":"IF(V119=\"\",\"\",V119)","v":""},null,{"$f":"IF(X119=\"\",\"\",X119)","v":""},null,{"$f":"IF(Z119=\"\",\"\",Z119)","v":""},null,{"$f":"IF(AB119=\"\",\"\",AB119)","v":""},null,{"$f":"IF(AD119=\"\",\"\",AD119)","v":""},null,{"$f":"IF(AF119=\"\",\"\",AF119)","v":""},null,{"$f":"IF(AH119=\"\",\"\",AH119)","v":""},null,{"$f":"IF(AJ119=\"\",\"\",AJ119)","v":""},null,{"$f":"IF(AL119=\"\",\"\",AL119)","v":""},null,null,{"$f":"IF(AO119=\"\",\"\",AO119)","v":""},null,null,{"$f":"IF(AR119=\"\",\"\",AR119)","v":""},null,null,null,null,{"$f":"IF(AW119=\"\",\"\",AW119)","v":""}]
[]
[]
[]
[null,"今回\n請求額",null,null,{"$f":"IF(E31=\"\",\"\",E31)","v":""},null,{"$f":"IF(G123=\"\",\"\",G123)","v":""},null,null,null,null,null,null,null,null,null,null,{"$f":"IF(R123=\"\",\"\",R123)","v":""},null,{"$f":"IF(T123=\"\",\"\",T123)","v":""},null,{"$f":"IF(V123=\"\",\"\",V123)","v":""},null,{"$f":"IF(X123=\"\",\"\",X123)","v":""},null,{"$f":"IF(Z123=\"\",\"\",Z123)","v":""},null,{"$f":"IF(AB123=\"\",\"\",AB123)","v":""},null,{"$f":"IF(AD123=\"\",\"\",AD123)","v":""},null,{"$f":"IF(AF123=\"\",\"\",AF123)","v":""},null,{"$f":"IF(AH123=\"\",\"\",AH123)","v":""},null,{"$f":"IF(AJ123=\"\",\"\",AJ123)","v":""},null,{"$f":"IF(AL123=\"\",\"\",AL123)","v":""},null,null,{"$f":"IF(AO123=\"\",\"\",AO123)","v":""},null,null,{"$f":"IF(AR123=\"\",\"\",AR123)","v":""},null,null,null,null,{"$f":"IF(AW123=\"\",\"\",AW123)","v":""}]
[]
[]
[]
[null,"差引残高",null,null,null,null,{"$f":"IF(G203=\"\",\"\",G203+G207-G211-G215)","v":""},null,null,null,null,null,null,null,null,null,null,{"$f":"IF(R127=\"\",\"\",R127)","v":""},null,{"$f":"IF(T127=\"\",\"\",T127)","v":""},null,{"$f":"IF(V127=\"\",\"\",V127)","v":""},null,{"$f":"IF(X127=\"\",\"\",X127)","v":""},null,{"$f":"IF(Z127=\"\",\"\",Z127)","v":""},null,{"$f":"IF(AB127=\"\",\"\",AB127)","v":""},null,{"$f":"IF(AD127=\"\",\"\",AD127)","v":""},null,{"$f":"IF(AF127=\"\",\"\",AF127)","v":""},null,{"$f":"IF(AH127=\"\",\"\",AH127)","v":""},null,{"$f":"IF(AJ127=\"\",\"\",AJ127)","v":""},null,{"$f":"IF(AL127=\"\",\"\",AL127)","v":""},null,null,{"$f":"IF(AO127=\"\",\"\",AO127)","v":""},null,null,{"$f":"IF(AR127=\"\",\"\",AR127)","v":""},null,null,null,null,{"$f":"IF(AW127=\"\",\"\",AW127)","v":""}]
[]
[]
[]
[null,null,null,null,null,null,null,null,null,null,null,null,null,null,null,null,null,{"$f":"IF(R131=\"\",\"\",R131)","v":""},null,{"$f":"IF(T131=\"\",\"\",T131)","v":""},null,{"$f":"IF(V131=\"\",\"\",V131)","v":""},null,{"$f":"IF(X131=\"\",\"\",X131)","v":""},null,{"$f":"IF(Z131=\"\",\"\",Z131)","v":""},null,{"$f":"IF(AB131=\"\",\"\",AB131)","v":""},null,{"$f":"IF(AD131=\"\",\"\",AD131)","v":""},null,{"$f":"IF(AF131=\"\",\"\",AF131)","v":""},null,{"$f":"IF(AH131=\"\",\"\",AH131)","v":""},null,{"$f":"IF(AJ131=\"\",\"\",AJ131)","v":""},null,{"$f":"IF(AL131=\"\",\"\",AL131)","v":""},null,null,{"$f":"IF(AO131=\"\",\"\",AO131)","v":""},null,null,{"$f":"IF(AR131=\"\",\"\",AR131)","v":""},null,null,null,null,{"$f":"IF(AW131=\"\",\"\",AW131)","v":""}]
[]
[]
[]
[null,null,null,null,null,null,null,null,null,null,null,null,null,null,null,null,null,{"$f":"IF(R135=\"\",\"\",R135)","v":""},null,{"$f":"IF(T135=\"\",\"\",T135)","v":""},null,{"$f":"IF(V135=\"\",\"\",V135)","v":""},null,{"$f":"IF(X135=\"\",\"\",X135)","v":""},null,{"$f":"IF(Z135=\"\",\"\",Z135)","v":""},null,{"$f":"IF(AB135=\"\",\"\",AB135)","v":""},null,{"$f":"IF(AD135=\"\",\"\",AD135)","v":""},null,{"$f":"IF(AF135=\"\",\"\",AF135)","v":""},null,{"$f":"IF(AH135=\"\",\"\",AH135)","v":""},null,{"$f":"IF(AJ135=\"\",\"\",AJ135)","v":""},null,{"$f":"IF(AL135=\"\",\"\",AL135)","v":""},null,null,{"$f":"IF(AO135=\"\",\"\",AO135)","v":""},null,null,{"$f":"IF(AR135=\"\",\"\",AR135)","v":""},null,null,null,null,{"$f":"IF(AW135=\"\",\"\",AW135)","v":""}]
[]
[]
[]
[null,null,null,null,null,null,null,null,null,null,null,null,null,null,null,null,null,{"$f":"IF(R139=\"\",\"\",R139)","v":""},null,{"$f":"IF(T139=\"\",\"\",T139)","v":""},null,{"$f":"IF(V139=\"\",\"\",V139)","v":""},null,{"$f":"IF(X139=\"\",\"\",X139)","v":""},null,{"$f":"IF(Z139=\"\",\"\",Z139)","v":""},null,{"$f":"IF(AB139=\"\",\"\",AB139)","v":""},null,{"$f":"IF(AD139=\"\",\"\",AD139)","v":""},null,{"$f":"IF(AF139=\"\",\"\",AF139)","v":""},null,{"$f":"IF(AH139=\"\",\"\",AH139)","v":""},null,{"$f":"IF(AJ139=\"\",\"\",AJ139)","v":""},null,{"$f":"IF(AL139=\"\",\"\",AL139)","v":""},null,null,{"$f":"IF(AO139=\"\",\"\",AO139)","v":""},null,null,{"$f":"IF(AR139=\"\",\"\",AR139)","v":""},null,null,null,null,{"$f":"IF(AW139=\"\",\"\",AW139)","v":""}]
[]
[]
[]
[null,null,null,null,null,null,null,null,null,null,null,null,null,null,null,null,null,{"$f":"IF(R143=\"\",\"\",R143)","v":""},null,{"$f":"IF(T143=\"\",\"\",T143)","v":""},null,{"$f":"IF(V143=\"\",\"\",V143)","v":""},null,{"$f":"IF(X143=\"\",\"\",X143)","v":""},null,{"$f":"IF(Z143=\"\",\"\",Z143)","v":""},null,{"$f":"IF(AB143=\"\",\"\",AB143)","v":""},null,{"$f":"IF(AD143=\"\",\"\",AD143)","v":""},null,{"$f":"IF(AF143=\"\",\"\",AF143)","v":""},null,{"$f":"IF(AH143=\"\",\"\",AH143)","v":""},null,{"$f":"IF(AJ143=\"\",\"\",AJ143)","v":""},null,{"$f":"IF(AL143=\"\",\"\",AL143)","v":""},null,null,{"$f":"IF(AO143=\"\",\"\",AO143)","v":""},null,null,{"$f":"IF(AR143=\"\",\"\",AR143)","v":""},null,null,null,null,{"$f":"IF(AW143=\"\",\"\",AW143)","v":""}]
[]
[]
[]
[null,null,null,null,null,null,null,null,null,null,null,null,null,null,null,null,null,{"$f":"IF(R147=\"\",\"\",R147)","v":""},null,{"$f":"IF(T147=\"\",\"\",T147)","v":""},null,{"$f":"IF(V147=\"\",\"\",V147)","v":""},null,{"$f":"IF(X147=\"\",\"\",X147)","v":""},null,{"$f":"IF(Z147=\"\",\"\",Z147)","v":""},null,{"$f":"IF(AB147=\"\",\"\",AB147)","v":""},null,{"$f":"IF(AD147=\"\",\"\",AD147)","v":""},null,{"$f":"IF(AF147=\"\",\"\",AF147)","v":""},null,{"$f":"IF(AH147=\"\",\"\",AH147)","v":""},null,{"$f":"IF(AJ147=\"\",\"\",AJ147)","v":""},null,{"$f":"IF(AL147=\"\",\"\",AL147)","v":""},null,null,{"$f":"IF(AO147=\"\",\"\",AO147)","v":""},null,null,{"$f":"IF(AR147=\"\",\"\",AR147)","v":""},null,null,null,null,{"$f":"IF(AW147=\"\",\"\",AW147)","v":""}]
[]
[]
[]
[null,null,null,null,null,null,null,null,null,null,null,null,null,null,null,null,null,{"$f":"IF(R151=\"\",\"\",R151)","v":""},null,{"$f":"IF(T151=\"\",\"\",T151)","v":""},null,{"$f":"IF(V151=\"\",\"\",V151)","v":""},null,{"$f":"IF(X151=\"\",\"\",X151)","v":""},null,{"$f":"IF(Z151=\"\",\"\",Z151)","v":""},null,{"$f":"IF(AB151=\"\",\"\",AB151)","v":""},null,{"$f":"IF(AD151=\"\",\"\",AD151)","v":""},null,{"$f":"IF(AF151=\"\",\"\",AF151)","v":""},null,{"$f":"IF(AH151=\"\",\"\",AH151)","v":""},null,{"$f":"IF(AJ151=\"\",\"\",AJ151)","v":""},null,{"$f":"IF(AL151=\"\",\"\",AL151)","v":""},null,null,{"$f":"IF(AO151=\"\",\"\",AO151)","v":""},null,null,{"$f":"IF(AR151=\"\",\"\",AR151)","v":""},null,null,null,null,{"$f":"IF(AW151=\"\",\"\",AW151)","v":""}]
[]
[]
[]
[null,null,null,null,null,null,null,null,null,null,null,null,null,null,null,null,null,{"$f":"IF(R155=\"\",\"\",R155)","v":""},null,{"$f":"IF(T155=\"\",\"\",T155)","v":""},null,{"$f":"IF(V155=\"\",\"\",V155)","v":""},null,{"$f":"IF(X155=\"\",\"\",X155)","v":""},null,{"$f":"IF(Z155=\"\",\"\",Z155)","v":""},null,{"$f":"IF(AB155=\"\",\"\",AB155)","v":""},null,{"$f":"IF(AD155=\"\",\"\",AD155)","v":""},null,{"$f":"IF(AF155=\"\",\"\",AF155)","v":""},null,{"$f":"IF(AH155=\"\",\"\",AH155)","v":""},null,{"$f":"IF(AJ155=\"\",\"\",AJ155)","v":""},null,{"$f":"IF(AL155=\"\",\"\",AL155)","v":""},null,null,{"$f":"IF(AO155=\"\",\"\",AO155)","v":""},null,null,{"$f":"IF(AR155=\"\",\"\",AR155)","v":""},null,null,null,null,{"$f":"IF(AW155=\"\",\"\",AW155)","v":""}]
[]
[]
[]
[null,null,null,null,null,null,null,null,null,null,null,null,null,null,null,null,null,{"$f":"IF(R159=\"\",\"\",R159)","v":""},null,{"$f":"IF(T159=\"\",\"\",T159)","v":""},null,{"$f":"IF(V159=\"\",\"\",V159)","v":""},null,{"$f":"IF(X159=\"\",\"\",X159)","v":""},null,{"$f":"IF(Z159=\"\",\"\",Z159)","v":""},null,{"$f":"IF(AB159=\"\",\"\",AB159)","v":""},null,{"$f":"IF(AD159=\"\",\"\",AD159)","v":""},null,{"$f":"IF(AF159=\"\",\"\",AF159)","v":""},null,{"$f":"IF(AH159=\"\",\"\",AH159)","v":""},null,{"$f":"IF(AJ159=\"\",\"\",AJ159)","v":""},null,{"$f":"IF(AL159=\"\",\"\",AL159)","v":""},null,null,{"$f":"IF(AO159=\"\",\"\",AO159)","v":""},null,null,{"$f":"IF(AR159=\"\",\"\",AR159)","v":""},null,null,null,null,{"$f":"IF(AW159=\"\",\"\",AW159)","v":""}]
[]
[]
[]
[null,null,null,null,null,null,null,null,null,null,null,null,null,null,null,null,null,{"$f":"IF(R163=\"\",\"\",R163)","v":""},null,{"$f":"IF(T163=\"\",\"\",T163)","v":""},null,{"$f":"IF(V163=\"\",\"\",V163)","v":""},null,{"$f":"IF(X163=\"\",\"\",X163)","v":""},null,{"$f":"IF(Z163=\"\",\"\",Z163)","v":""},null,{"$f":"IF(AB163=\"\",\"\",AB163)","v":""},null,{"$f":"IF(AD163=\"\",\"\",AD163)","v":""},null,{"$f":"IF(AF163=\"\",\"\",AF163)","v":""},null,{"$f":"IF(AH163=\"\",\"\",AH163)","v":""},null,{"$f":"IF(AJ163=\"\",\"\",AJ163)","v":""},null,{"$f":"IF(AL163=\"\",\"\",AL163)","v":""},null,null,{"$f":"IF(AO163=\"\",\"\",AO163)","v":""},null,null,{"$f":"IF(AR163=\"\",\"\",AR163)","v":""},null,null,null,null,{"$f":"IF(AW163=\"\",\"\",AW163)","v":""}]
[]
[]
[]
[null,null,null,null,null,null,null,null,null,null,null,null,null,null,null,null,null,{"$f":"IF(R167=\"\",\"\",R167)","v":""},null,{"$f":"IF(T167=\"\",\"\",T167)","v":""},null,{"$f":"IF(V167=\"\",\"\",V167)","v":""},null,{"$f":"IF(X167=\"\",\"\",X167)","v":""},null,{"$f":"IF(Z167=\"\",\"\",Z167)","v":""},null,{"$f":"IF(AB167=\"\",\"\",AB167)","v":""},null,{"$f":"IF(AD167=\"\",\"\",AD167)","v":""},null,{"$f":"IF(AF167=\"\",\"\",AF167)","v":""},null,{"$f":"IF(AH167=\"\",\"\",AH167)","v":""},null,{"$f":"IF(AJ167=\"\",\"\",AJ167)","v":""},null,{"$f":"IF(AL167=\"\",\"\",AL167)","v":""},null,null,{"$f":"IF(AO167=\"\",\"\",AO167)","v":""},null,null,{"$f":"IF(AR167=\"\",\"\",AR167)","v":""},null,null,null,null,{"$f":"IF(AW167=\"\",\"\",AW167)","v":""}]
[]
[]
[]
[null,null,null,null,null,null,null,null,null,null,null,null,null,null,null,null,null,{"$f":"IF(R171=\"\",\"\",R171)","v":""},null,{"$f":"IF(T171=\"\",\"\",T171)","v":""},null,{"$f":"IF(V171=\"\",\"\",V171)","v":""},null,{"$f":"IF(X171=\"\",\"\",X171)","v":""},null,{"$f":"IF(Z171=\"\",\"\",Z171)","v":""},null,{"$f":"IF(AB171=\"\",\"\",AB171)","v":""},null,{"$f":"IF(AD171=\"\",\"\",AD171)","v":""},null,{"$f":"IF(AF171=\"\",\"\",AF171)","v":""},null,{"$f":"IF(AH171=\"\",\"\",AH171)","v":""},null,{"$f":"IF(AJ171=\"\",\"\",AJ171)","v":""},null,{"$f":"IF(AL171=\"\",\"\",AL171)","v":""},null,null,{"$f":"IF(AO171=\"\",\"\",AO171)","v":""},null,null,{"$f":"IF(AR171=\"\",\"\",AR171)","v":""},null,null,null,null,{"$f":"IF(AW171=\"\",\"\",AW171)","v":""}]
[]
[]
[]
[null,null,null,null,null,null,null,null,null,null,null,null,null,null,null,null,null,null,null,null,null,null,null,null,null,null,null,null,null,null,null,null,null,null,null,null,null,{"$f":"AL175","v":"金額(税抜)"},null,null,null,null,null,null,null,null,null,null,{"$f":"AW83","v":""}]
[]
[]
[]
[]
[null,null,null,null,null,null,null,null,null,null,null,null,null,null,null,null,null,null,null,null,null,null,null,null,null,null,null,null,null,null,null,null,null,null,null,null,null,{"$f":"AL180","v":"消費税"},null,null,null,null,null,"税率",null,null,"税調",null,{"$f":"AW88","v":""}]
[]
[null,null,null,null,null,null,null,null,null,null,null,null,null,null,null,null,null,null,null,null,null,null,null,null,null,null,null,null,null,null,null,null,null,null,null,null,null,null,null,null,null,null,null,{"$f":"AR90","v":0},null,{"$f":"AT90","v":""}]

{"sheet":"細2-6","index":21,"n_rows":274,"n_cols":53,"rows_kept":274,"cut":false,"hidden":false,"merged":[[179,37,182,42],[179,43,180,45],[179,46,180,47],[181,43,182,44],[181,45,182,45],[181,46,182,47],[271,37,274,42],[271,43,272,45],[273,43,274,44],[273,45,274,45],[273,46,274,47],[271,46,272,47],[187,40,189,44],[187,45,189,48],[179,48,182,54],[198,48,201,54],[214,48,217,54],[222,40,225,42],[222,43,225,47],[254,37,257,39],[246,40,249,42],[246,43,249,47],[246,48,249,54],[254,48,257,54],[3,49,5,51],[3,52,5,54],[8,37,11,40],[8,41,11,54],[1,19,4,32],[2,1,5,11],[2,12,5,13],[8,1,11,5],[8,6,11,11],[8,12,11,15],[8,16,11,35],[3,40,5,44],[3,45,5,48],[14,43,17,47],[14,48,17,54],[14,1,17,5],[14,6,17,15],[14,17,17,20],[14,21,17,36],[18,1,21,5],[18,6,21,15],[18,17,21,18],[14,37,17,39],[14,40,17,42],[18,21,21,36],[18,37,21,39],[18,40,21,42],[18,43,21,47],[26,1,29,5],[26,6,29,15],[26,17,29,18],[26,19,29,20],[18,48,21,54],[22,1,25,5],[22,6,25,15],[22,17,25,18],[22,19,25,20],[22,21,25,36],[26,21,29,36],[26,37,29,39],[26,40,29,42],[26,43,29,47],[22,37,25,39],[22,40,25,42],[22,43,25,47],[18,19,21,20],[34,48,37,54],[26,48,29,54],[30,1,33,3],[30,4,33,5],[30,6,33,15],[30,17,33,18],[30,19,33,20],[22,48,25,54],[38,17,41,18],[38,19,41,20],[38,21,41,36],[38,37,41,39],[30,48,33,54],[34,1,37,5],[34,6,37,15],[34,17,37,18],[34,19,37,20],[34,21,37,36],[38,40,41,42],[38,43,41,47],[38,48,41,54],[30,21,33,36],[30,37,33,39],[30,40,33,42],[30,43,33,47],[34,37,37,39],[34,40,37,42],[34,43,37,47],[46,40,49,42],[46,43,49,47],[46,21,49,36],[46,37,49,39],[54,40,57,42],[54,43,57,47],[42,17,45,18],[42,19,45,20],[42,21,45,36],[42,37,45,39],[42,40,45,42],[42,43,45,47],[42,48,45,54],[46,48,49,54],[50,17,53,18],[50,19,53,20],[50,21,53,36],[50,37,53,39],[50,40,53,42],[50,43,53,47],[50,48,53,54],[46,17,49,18],[46,19,49,20],[58,17,61,18],[58,19,61,20],[58,21,61,36],[58,37,61,39],[58,40,61,42],[58,43,61,47],[58,48,61,54],[54,17,57,18],[54,19,57,20],[54,21,57,36],[54,37,57,39],[54,48,57,54],[62,40,65,42],[62,43,65,47],[62,21,65,36],[62,37,65,39],[70,40,73,42],[70,43,73,47],[70,48,73,54],[62,48,65,54],[66,17,69,18],[66,19,69,20],[66,21,69,36],[66,37,69,39],[66,40,69,42],[66,43,69,47],[66,48,69,54],[62,17,65,18],[62,19,65,20],[74,17,77,18],[74,19,77,20],[74,21,77,36],[74,37,77,39],[74,40,77,42],[74,43,77,47],[74,48,77,54],[70,17,73,18],[70,19,73,20],[70,21,73,36],[70,37,73,39],[78,48,81,54],[82,37,85,47],[82,48,85,54],[78,37,81,39],[78,40,81,42],[85,11,90,16],[85,17,90,25],[78,43,81,47],[83,26,84,30],[83,31,84,35],[78,17,81,18],[78,19,81,20],[78,21,81,36],[85,26,90,30],[85,31,90,35],[83,1,84,4],[83,5,84,10],[83,11,84,16],[83,17,84,25],[85,1,90,4],[85,5,90,10],[87,48,90,54],[95,49,97,51],[95,52,97,54],[95,40,97,44],[95,45,97,48],[87,37,90,42],[87,43,88,45],[89,43,90,44],[89,45,90,45],[89,46,90,47],[87,46,88,47],[100,1,103,5],[100,6,103,11],[100,12,103,15],[100,16,103,35],[100,37,103,40],[100,41,103,54],[93,19,96,32],[94,1,97,11],[94,12,97,13],[106,37,109,39],[106,40,109,42],[106,43,109,47],[106,48,109,54],[106,1,109,5],[106,6,109,15],[106,17,109,20],[106,21,109,36],[110,21,113,36],[110,37,113,39],[110,40,113,42],[110,43,113,47],[110,1,113,5],[110,6,113,15],[110,17,113,18],[110,19,113,20],[110,48,113,54],[114,1,117,5],[114,6,117,15],[114,17,117,18],[114,19,117,20],[114,21,117,36],[114,37,117,39],[114,40,117,42],[114,43,117,47],[114,48,117,54],[118,21,121,36],[118,37,121,39],[118,40,121,42],[118,43,121,47],[118,1,121,5],[118,6,121,15],[118,17,121,18],[118,19,121,20],[118,48,121,54],[122,48,125,54],[126,1,129,5],[126,6,129,15],[126,17,129,18],[126,19,129,20],[126,21,129,36],[126,37,129,39],[126,40,129,42],[126,43,129,47],[126,48,129,54],[122,1,125,3],[122,4,125,5],[122,6,125,15],[122,17,125,18],[122,19,125,20],[122,21,125,36],[122,37,125,39],[122,40,125,42],[122,43,125,47],[130,40,133,42],[130,43,133,47],[130,21,133,36],[130,37,133,39],[138,40,141,42],[138,43,141,47],[138,48,141,54],[130,48,133,54],[134,17,137,18],[134,19,137,20],[134,21,137,36],[134,37,137,39],[134,40,137,42],[134,43,137,47],[134,48,137,54],[130,17,133,18],[130,19,133,20],[142,17,145,18],[142,19,145,20],[142,21,145,36],[142,37,145,39],[142,40,145,42],[142,43,145,47],[142,48,145,54],[138,17,141,18],[138,19,141,20],[138,21,141,36],[138,37,141,39],[154,48,157,54],[146,48,149,54],[150,17,153,18],[150,19,153,20],[150,21,153,36],[150,37,153,39],[150,40,153,42],[150,43,153,47],[150,48,153,54],[146,17,149,18],[146,19,149,20],[154,17,157,18],[154,19,157,20],[154,21,157,36],[154,37,157,39],[146,40,149,42],[146,43,149,47],[146,21,149,36],[146,37,149,39],[154,40,157,42],[154,43,157,47],[174,48,177,54],[170,17,173,18],[170,19,173,20],[158,17,161,18],[158,19,161,20],[158,21,161,36],[158,37,161,39],[158,40,161,42],[158,43,161,47],[158,48,161,54],[170,21,173,36],[170,37,173,39],[170,43,173,47],[185,19,188,32],[186,1,189,11],[186,12,189,13],[192,37,195,40],[192,41,195,54],[162,40,165,42],[162,43,165,47],[162,21,165,36],[162,37,165,39],[162,48,165,54],[166,17,169,18],[166,19,169,20],[166,21,169,36],[166,37,169,39],[166,40,169,42],[166,43,169,47],[166,48,169,54],[162,17,165,18],[162,19,165,20],[187,49,189,51],[187,52,189,54],[170,40,173,42],[170,48,173,54],[174,37,177,47],[202,21,205,36],[202,37,205,39],[202,40,205,42],[202,43,205,47],[202,1,205,5],[202,6,205,15],[202,17,205,18],[202,19,205,20],[202,48,205,54],[198,1,201,5],[198,6,201,15],[198,17,201,20],[198,21,201,36],[198,37,201,39],[198,40,201,42],[198,43,201,47],[192,1,195,5],[192,6,195,11],[192,12,195,15],[192,16,195,35],[206,1,209,5],[206,6,209,15],[206,17,209,18],[206,19,209,20],[206,21,209,36],[206,37,209,39],[206,40,209,42],[206,43,209,47],[206,48,209,54],[210,21,213,36],[210,37,213,39],[210,40,213,42],[210,43,213,47],[210,1,213,5],[210,6,213,15],[210,17,213,18],[210,19,213,20],[210,48,213,54],[218,1,221,5],[218,6,221,15],[218,17,221,18],[218,19,221,20],[218,21,221,36],[218,37,221,39],[218,40,221,42],[218,43,221,47],[218,48,221,54],[214,1,217,3],[214,4,217,5],[214,6,217,15],[214,17,217,18],[214,19,217,20],[214,21,217,36],[214,37,217,39],[214,40,217,42],[214,43,217,47],[222,21,225,36],[222,37,225,39],[230,40,233,42],[230,43,233,47],[230,48,233,54],[222,48,225,54],[226,17,229,18],[226,19,229,20],[226,21,229,36],[226,37,229,39],[226,40,229,42],[226,43,229,47],[226,48,229,54],[222,17,225,18],[222,19,225,20],[234,17,237,18],[234,19,237,20],[234,21,237,36],[234,37,237,39],[234,40,237,42],[234,43,237,47],[234,48,237,54],[230,17,233,18],[230,19,233,20],[230,21,233,36],[230,37,233,39],[242,17,245,18],[242,19,245,20],[242,21,245,36],[242,37,245,39],[242,40,245,42],[242,43,245,47],[242,48,245,54],[238,17,241,18],[238,19,241,20],[238,40,241,42],[238,43,241,47],[238,21,241,36],[238,37,241,39],[238,48,241,54],[250,17,253,18],[250,19,253,20],[250,21,253,36],[250,37,253,39],[250,40,253,42],[250,43,253,47],[250,48,253,54],[246,17,249,18],[246,19,249,20],[246,21,249,36],[246,37,249,39],[258,17,261,18],[258,19,261,20],[258,21,261,36],[258,37,261,39],[258,40,261,42],[258,43,261,47],[258,48,261,54],[254,17,257,18],[254,19,257,20],[254,40,257,42],[254,43,257,47],[254,21,257,36],[271,48,274,54],[262,40,265,42],[262,43,265,47],[262,48,265,54],[266,37,269,47],[266,48,269,54],[262,17,265,18],[262,19,265,20],[262,21,265,36],[262,37,265,39]]}
[]
[null,null,null,null,null,null,null,null,null,null,null,null,null,null,null,null,null,null,null,"請求書明細書 (正)"]
[null,"株 式 会 社 種 村 建 設",null,null,null,null,null,null,null,null,null,null,"御中"]
[null,null,null,null,null,null,null,null,null,null,null,null,null,null,null,null,null,null,null,null,null,null,null,null,null,null,null,null,null,null,null,null,null,null,null,null,null,null,null,null,"請求年月日",null,null,null,null,{"$f":"IF(年=\"\",\"\",年)","v":""},null,null,null,{"$f":"IF(月=\"\",\"\",月)","v":""},null,null,{"$f":"IF(日=\"\",\"\",日)","v":""}]
[]
[]
[]
[]
[null,"工事番号",null,null,null,null,null,null,null,null,null,null,"工事名",null,null,null,null,null,null,null,null,null,null,null,null,null,null,null,null,null,null,null,null,null,null,null,null,"業者名",null,null,null,{"$f":"IF(社名=\"\",\"\",社名)","v":""}]
[]
[]
[]
[]
[]
[null,"注文番号",null,null,null,null,null,null,null,null,null,null,null,null,null,null,null,"月　日",null,null,null,"品　名・内　訳",null,null,null,null,null,null,null,null,null,null,null,null,null,null,null,"数 量",null,null,"単位",null,null,"単価",null,null,null,null,{"$f":"表紙①!P35","v":"金額(税抜)"}]
[]
[]
[]
[null,"契約金額",null,null,null,null,null,null,null,null,null,null,null,null,null,null,null,null,null,null,null,null,null,null,null,null,null,null,null,null,null,null,null,null,null,null,null,null,null,null,null,null,null,null,null,null,null,null,{"$f":"IF(V19=\"\",\"\",ROUND(AL19*AR19,0))","v":""}]
[]
[]
[]
[null,"増減額",null,null,null,null,null,null,null,null,null,null,null,null,null,null,null,null,null,null,null,null,null,null,null,null,null,null,null,null,null,null,null,null,null,null,null,null,null,null,null,null,null,null,null,null,null,null,{"$f":"IF(V23=\"\",\"\",ROUND(AL23*AR23,0))","v":""}]
[]
[]
[]
[null,"前回までの\n請求額",null,null,null,null,null,null,null,null,null,null,null,null,null,null,null,null,null,null,null,null,null,null,null,null,null,null,null,null,null,null,null,null,null,null,null,null,null,null,null,null,null,null,null,null,null,null,{"$f":"IF(V27=\"\",\"\",ROUND(AL27*AR27,0))","v":""}]
[]
[]
[]
[null,"今回\n請求額",null,null,null,null,null,null,null,null,null,null,null,null,null,null,null,null,null,null,null,null,null,null,null,null,null,null,null,null,null,null,null,null,null,null,null,null,null,null,null,null,null,null,null,null,null,null,{"$f":"IF(V31=\"\",\"\",ROUND(AL31*AR31,0))","v":""}]
[]
[]
[]
[null,"差引残高",null,null,null,null,{"$f":"IF(G19=\"\",\"\",G19+G23-G27-G31)","v":""},null,null,null,null,null,null,null,null,null,null,null,null,null,null,null,null,null,null,null,null,null,null,null,null,null,null,null,null,null,null,null,null,null,null,null,null,null,null,null,null,null,{"$f":"IF(V35=\"\",\"\",ROUND(AL35*AR35,0))","v":""}]
[]
[]
[]
[null,null,null,null,null,null,null,null,null,null,null,null,null,null,null,null,null,null,null,null,null,null,null,null,null,null,null,null,null,null,null,null,null,null,null,null,null,null,null,null,null,null,null,null,null,null,null,null,{"$f":"IF(V39=\"\",\"\",ROUND(AL39*AR39,0))","v":""}]
[]
[]
[]
[null,null,null,null,null,null,null,null,null,null,null,null,null,null,null,null,null,null,null,null,null,null,null,null,null,null,null,null,null,null,null,null,null,null,null,null,null,null,null,null,null,null,null,null,null,null,null,null,{"$f":"IF(V43=\"\",\"\",ROUND(AL43*AR43,0))","v":""}]
[]
[]
[]
[null,null,null,null,null,null,null,null,null,null,null,null,null,null,null,null,null,null,null,null,null,null,null,null,null,null,null,null,null,null,null,null,null,null,null,null,null,null,null,null,null,null,null,null,null,null,null,null,{"$f":"IF(V47=\"\",\"\",ROUND(AL47*AR47,0))","v":""}]
[]
[]
[]
[null,null,null,null,null,null,null,null,null,null,null,null,null,null,null,null,null,null,null,null,null,null,null,null,null,null,null,null,null,null,null,null,null,null,null,null,null,null,null,null,null,null,null,null,null,null,null,null,{"$f":"IF(V51=\"\",\"\",ROUND(AL51*AR51,0))","v":""}]
[]
[]
[]
[null,null,null,null,null,null,null,null,null,null,null,null,null,null,null,null,null,null,null,null,null,null,null,null,null,null,null,null,null,null,null,null,null,null,null,null,null,null,null,null,null,null,null,null,null,null,null,null,{"$f":"IF(V55=\"\",\"\",ROUND(AL55*AR55,0))","v":""}]
[]
[]
[]
[null,null,null,null,null,null,null,null,null,null,null,null,null,null,null,null,null,null,null,null,null,null,null,null,null,null,null,null,null,null,null,null,null,null,null,null,null,null,null,null,null,null,null,null,null,null,null,null,{"$f":"IF(V59=\"\",\"\",ROUND(AL59*AR59,0))","v":""}]
[]
[]
[]
[null,null,null,null,null,null,null,null,null,null,null,null,null,null,null,null,null,null,null,null,null,null,null,null,null,null,null,null,null,null,null,null,null,null,null,null,null,null,null,null,null,null,null,null,null,null,null,null,{"$f":"IF(V63=\"\",\"\",ROUND(AL63*AR63,0))","v":""}]
[]
[]
[]
[null,null,null,null,null,null,null,null,null,null,null,null,null,null,null,null,null,null,null,null,null,null,null,null,null,null,null,null,null,null,null,null,null,null,null,null,null,null,null,null,null,null,null,null,null,null,null,null,{"$f":"IF(V67=\"\",\"\",ROUND(AL67*AR67,0))","v":""}]
[]
[]
[]
[null,null,null,null,null,null,null,null,null,null,null,null,null,null,null,null,null,null,null,null,null,null,null,null,null,null,null,null,null,null,null,null,null,null,null,null,null,null,null,null,null,null,null,null,null,null,null,null,{"$f":"IF(V71=\"\",\"\",ROUND(AL71*AR71,0))","v":""}]
[]
[]
[]
[null,null,null,null,null,null,null,null,null,null,null,null,null,null,null,null,null,null,null,null,null,null,null,null,null,null,null,null,null,null,null,null,null,null,null,null,null,null,null,null,null,null,null,null,null,null,null,null,{"$f":"IF(V75=\"\",\"\",ROUND(AL75*AR75,0))","v":""}]
[]
[]
[]
[null,null,null,null,null,null,null,null,null,null,null,null,null,null,null,null,null,null,null,null,null,null,null,null,null,null,null,null,null,null,null,null,null,null,null,null,null,null,null,null,null,null,null,null,null,null,null,null,{"$f":"IF(V79=\"\",\"\",ROUND(AL79*AR79,0))","v":""}]
[]
[]
[]
[null,null,null,null,null,null,null,null,null,null,null,null,null,null,null,null,null,null,null,null,null,null,null,null,null,null,null,null,null,null,null,null,null,null,null,null,null,"金額(税抜)",null,null,null,null,null,null,null,null,null,null,{"$f":"IF(AW19=\"\",\"\",SUM(AW19:AW79))","v":""}]
[null,"社長",null,null,null,"専務",null,null,null,null,null,"常務",null,null,null,null,null,"部長･工場長",null,null,null,null,null,null,null,null,"担当者",null,null,null,null,"受付"]
[]
[]
[]
[null,null,null,null,null,null,null,null,null,null,null,null,null,null,null,null,null,null,null,null,null,null,null,null,null,null,null,null,null,null,null,null,null,null,null,null,null,"消費税",null,null,null,null,null,"税率",null,null,"税調",null,{"$f":"IF(AW83=\"\",\"\",IF(AR90=\"\",\"\",IF(AR90=8.1,ROUND(AW83*8/100,0)+AU90,ROUND(AW83*AR90/100,0)+AU90)))","v":""}]
[]
[null,null,null,null,null,null,null,null,null,null,null,null,null,null,null,null,null,null,null,null,null,null,null,null,null,null,null,null,null,null,null,null,null,null,null,null,null,null,null,null,null,null,null,null,null,{"$f":"IF(AR90=\"\",\"\",IF(AR90=8.1,\"旧\",IF(AR90=8,\"軽\",IF(AR90=0,\"非\",\"\"))))","v":""}]
[]
[]
[]
[null,null,null,null,null,null,null,null,null,null,null,null,null,null,null,null,null,null,null,"請求明細書 (現場控)"]
[null,"株 式 会 社 種 村 建 設",null,null,null,null,null,null,null,null,null,null,"御中"]
[null,null,null,null,null,null,null,null,null,null,null,null,null,null,null,null,null,null,null,null,null,null,null,null,null,null,null,null,null,null,null,null,null,null,null,null,null,null,null,null,"請求年月日",null,null,null,null,{"$f":"IF(AT4=\"\",\"\",AT4)","v":""},null,null,null,{"$f":"IF(AX4=\"\",\"\",AX4)","v":""},null,null,{"$f":"IF(BA4=\"\",\"\",BA4)","v":""}]
[]
[]
[]
[]
[null,"工事番号",null,null,null,null,{"$f":"IF(G9=\"\",\"\",G9)","v":""},null,null,null,null,null,"工事名",null,null,null,{"$f":"IF(Q9=\"\",\"\",Q9)","v":""},null,null,null,null,null,null,null,null,null,null,null,null,null,null,null,null,null,null,null,null,"業者名",null,null,null,{"$f":"IF(AP9=\"\",\"\",AP9)","v":""}]
[]
[]
[]
[]
[]
[null,"注文番号",null,null,null,null,{"$f":"IF(G15=\"\",\"\",G15)","v":""},null,null,null,null,null,null,null,null,null,null,"月　日",null,null,null,"品　名・内　訳",null,null,null,null,null,null,null,null,null,null,null,null,null,null,null,"数 量",null,null,"単位",null,null,"単価",null,null,null,null,{"$f":"AW15","v":"金額(税抜)"}]
[]
[]
[]
[null,"契約金額",null,null,null,null,{"$f":"IF(G19=\"\",\"\",G19)","v":""},null,null,null,null,null,null,null,null,null,null,{"$f":"IF(R19=\"\",\"\",R19)","v":""},null,{"$f":"IF(T19=\"\",\"\",T19)","v":""},null,{"$f":"IF(V19=\"\",\"\",V19)","v":""},null,{"$f":"IF(X19=\"\",\"\",X19)","v":""},null,{"$f":"IF(Z19=\"\",\"\",Z19)","v":""},null,{"$f":"IF(AB19=\"\",\"\",AB19)","v":""},null,{"$f":"IF(AD19=\"\",\"\",AD19)","v":""},null,{"$f":"IF(AF19=\"\",\"\",AF19)","v":""},null,{"$f":"IF(AH19=\"\",\"\",AH19)","v":""},null,{"$f":"IF(AJ19=\"\",\"\",AJ19)","v":""},null,{"$f":"IF(AL19=\"\",\"\",AL19)","v":""},null,null,{"$f":"IF(AO19=\"\",\"\",AO19)","v":""},null,null,{"$f":"IF(AR19=\"\",\"\",AR19)","v":""},null,null,null,null,{"$f":"IF(AW19=\"\",\"\",AW19)","v":""}]
[]
[]
[]
[null,"増減額",null,null,null,null,{"$f":"IF(G23=\"\",\"\",G23)","v":""},null,null,null,null,null,null,null,null,null,null,{"$f":"IF(R23=\"\",\"\",R23)","v":""},null,{"$f":"IF(T23=\"\",\"\",T23)","v":""},null,{"$f":"IF(V23=\"\",\"\",V23)","v":""},null,{"$f":"IF(X23=\"\",\"\",X23)","v":""},null,{"$f":"IF(Z23=\"\",\"\",Z23)","v":""},null,{"$f":"IF(AB23=\"\",\"\",AB23)","v":""},null,{"$f":"IF(AD23=\"\",\"\",AD23)","v":""},null,{"$f":"IF(AF23=\"\",\"\",AF23)","v":""},null,{"$f":"IF(AH23=\"\",\"\",AH23)","v":""},null,{"$f":"IF(AJ23=\"\",\"\",AJ23)","v":""},null,{"$f":"IF(AL23=\"\",\"\",AL23)","v":""},null,null,{"$f":"IF(AO23=\"\",\"\",AO23)","v":""},null,null,{"$f":"IF(AR23=\"\",\"\",AR23)","v":""},null,null,null,null,{"$f":"IF(AW23=\"\",\"\",AW23)","v":""}]
[]
[]
[]
[null,"前回までの\n請求額",null,null,null,null,{"$f":"IF(G27=\"\",\"\",G27)","v":""},null,null,null,null,null,null,null,null,null,null,{"$f":"IF(R27=\"\",\"\",R27)","v":""},null,{"$f":"IF(T27=\"\",\"\",T27)","v":""},null,{"$f":"IF(V27=\"\",\"\",V27)","v":""},null,{"$f":"IF(X27=\"\",\"\",X27)","v":""},null,{"$f":"IF(Z27=\"\",\"\",Z27)","v":""},null,{"$f":"IF(AB27=\"\",\"\",AB27)","v":""},null,{"$f":"IF(AD27=\"\",\"\",AD27)","v":""},null,{"$f":"IF(AF27=\"\",\"\",AF27)","v":""},null,{"$f":"IF(AH27=\"\",\"\",AH27)","v":""},null,{"$f":"IF(AJ27=\"\",\"\",AJ27)","v":""},null,{"$f":"IF(AL27=\"\",\"\",AL27)","v":""},null,null,{"$f":"IF(AO27=\"\",\"\",AO27)","v":""},null,null,{"$f":"IF(AR27=\"\",\"\",AR27)","v":""},null,null,null,null,{"$f":"IF(AW27=\"\",\"\",AW27)","v":""}]
[]
[]
[]
[null,"今回\n請求額",null,null,{"$f":"IF(E31=\"\",\"\",E31)","v":""},null,{"$f":"IF(G31=\"\",\"\",G31)","v":""},null,null,null,null,null,null,null,null,null,null,{"$f":"IF(R31=\"\",\"\",R31)","v":""},null,{"$f":"IF(T31=\"\",\"\",T31)","v":""},null,{"$f":"IF(V31=\"\",\"\",V31)","v":""},null,{"$f":"IF(X31=\"\",\"\",X31)","v":""},null,{"$f":"IF(Z31=\"\",\"\",Z31)","v":""},null,{"$f":"IF(AB31=\"\",\"\",AB31)","v":""},null,{"$f":"IF(AD31=\"\",\"\",AD31)","v":""},null,{"$f":"IF(AF31=\"\",\"\",AF31)","v":""},null,{"$f":"IF(AH31=\"\",\"\",AH31)","v":""},null,{"$f":"IF(AJ31=\"\",\"\",AJ31)","v":""},null,{"$f":"IF(AL31=\"\",\"\",AL31)","v":""},null,null,{"$f":"IF(AO31=\"\",\"\",AO31)","v":""},null,null,{"$f":"IF(AR31=\"\",\"\",AR31)","v":""},null,null,null,null,{"$f":"IF(AW31=\"\",\"\",AW31)","v":""}]
[]
[]
[]
[null,"差引残高",null,null,null,null,{"$f":"IF(G111=\"\",\"\",G111+G115-G119-G123)","v":""},null,null,null,null,null,null,null,null,null,null,{"$f":"IF(R35=\"\",\"\",R35)","v":""},null,{"$f":"IF(T35=\"\",\"\",T35)","v":""},null,{"$f":"IF(V35=\"\",\"\",V35)","v":""},null,{"$f":"IF(X35=\"\",\"\",X35)","v":""},null,{"$f":"IF(Z35=\"\",\"\",Z35)","v":""},null,{"$f":"IF(AB35=\"\",\"\",AB35)","v":""},null,{"$f":"IF(AD35=\"\",\"\",AD35)","v":""},null,{"$f":"IF(AF35=\"\",\"\",AF35)","v":""},null,{"$f":"IF(AH35=\"\",\"\",AH35)","v":""},null,{"$f":"IF(AJ35=\"\",\"\",AJ35)","v":""},null,{"$f":"IF(AL35=\"\",\"\",AL35)","v":""},null,null,{"$f":"IF(AO35=\"\",\"\",AO35)","v":""},null,null,{"$f":"IF(AR35=\"\",\"\",AR35)","v":""},null,null,null,null,{"$f":"IF(AW35=\"\",\"\",AW35)","v":""}]
[]
[]
[]
[null,null,null,null,null,null,null,null,null,null,null,null,null,null,null,null,null,{"$f":"IF(R39=\"\",\"\",R39)","v":""},null,{"$f":"IF(T39=\"\",\"\",T39)","v":""},null,{"$f":"IF(V39=\"\",\"\",V39)","v":""},null,{"$f":"IF(X39=\"\",\"\",X39)","v":""},null,{"$f":"IF(Z39=\"\",\"\",Z39)","v":""},null,{"$f":"IF(AB39=\"\",\"\",AB39)","v":""},null,{"$f":"IF(AD39=\"\",\"\",AD39)","v":""},null,{"$f":"IF(AF39=\"\",\"\",AF39)","v":""},null,{"$f":"IF(AH39=\"\",\"\",AH39)","v":""},null,{"$f":"IF(AJ39=\"\",\"\",AJ39)","v":""},null,{"$f":"IF(AL39=\"\",\"\",AL39)","v":""},null,null,{"$f":"IF(AO39=\"\",\"\",AO39)","v":""},null,null,{"$f":"IF(AR39=\"\",\"\",AR39)","v":""},null,null,null,null,{"$f":"IF(AW39=\"\",\"\",AW39)","v":""}]
[]
[]
[]
[null,null,null,null,null,null,null,null,null,null,null,null,null,null,null,null,null,{"$f":"IF(R43=\"\",\"\",R43)","v":""},null,{"$f":"IF(T43=\"\",\"\",T43)","v":""},null,{"$f":"IF(V43=\"\",\"\",V43)","v":""},null,{"$f":"IF(X43=\"\",\"\",X43)","v":""},null,{"$f":"IF(Z43=\"\",\"\",Z43)","v":""},null,{"$f":"IF(AB43=\"\",\"\",AB43)","v":""},null,{"$f":"IF(AD43=\"\",\"\",AD43)","v":""},null,{"$f":"IF(AF43=\"\",\"\",AF43)","v":""},null,{"$f":"IF(AH43=\"\",\"\",AH43)","v":""},null,{"$f":"IF(AJ43=\"\",\"\",AJ43)","v":""},null,{"$f":"IF(AL43=\"\",\"\",AL43)","v":""},null,null,{"$f":"IF(AO43=\"\",\"\",AO43)","v":""},null,null,{"$f":"IF(AR43=\"\",\"\",AR43)","v":""},null,null,null,null,{"$f":"IF(AW43=\"\",\"\",AW43)","v":""}]
[]
[]
[]
[null,null,null,null,null,null,null,null,null,null,null,null,null,null,null,null,null,{"$f":"IF(R47=\"\",\"\",R47)","v":""},null,{"$f":"IF(T47=\"\",\"\",T47)","v":""},null,{"$f":"IF(V47=\"\",\"\",V47)","v":""},null,{"$f":"IF(X47=\"\",\"\",X47)","v":""},null,{"$f":"IF(Z47=\"\",\"\",Z47)","v":""},null,{"$f":"IF(AB47=\"\",\"\",AB47)","v":""},null,{"$f":"IF(AD47=\"\",\"\",AD47)","v":""},null,{"$f":"IF(AF47=\"\",\"\",AF47)","v":""},null,{"$f":"IF(AH47=\"\",\"\",AH47)","v":""},null,{"$f":"IF(AJ47=\"\",\"\",AJ47)","v":""},null,{"$f":"IF(AL47=\"\",\"\",AL47)","v":""},null,null,{"$f":"IF(AO47=\"\",\"\",AO47)","v":""},null,null,{"$f":"IF(AR47=\"\",\"\",AR47)","v":""},null,null,null,null,{"$f":"IF(AW47=\"\",\"\",AW47)","v":""}]
[]
[]
[]
[null,null,null,null,null,null,null,null,null,null,null,null,null,null,null,null,null,{"$f":"IF(R51=\"\",\"\",R51)","v":""},null,{"$f":"IF(T51=\"\",\"\",T51)","v":""},null,{"$f":"IF(V51=\"\",\"\",V51)","v":""},null,{"$f":"IF(X51=\"\",\"\",X51)","v":""},null,{"$f":"IF(Z51=\"\",\"\",Z51)","v":""},null,{"$f":"IF(AB51=\"\",\"\",AB51)","v":""},null,{"$f":"IF(AD51=\"\",\"\",AD51)","v":""},null,{"$f":"IF(AF51=\"\",\"\",AF51)","v":""},null,{"$f":"IF(AH51=\"\",\"\",AH51)","v":""},null,{"$f":"IF(AJ51=\"\",\"\",AJ51)","v":""},null,{"$f":"IF(AL51=\"\",\"\",AL51)","v":""},null,null,{"$f":"IF(AO51=\"\",\"\",AO51)","v":""},null,null,{"$f":"IF(AR51=\"\",\"\",AR51)","v":""},null,null,null,null,{"$f":"IF(AW51=\"\",\"\",AW51)","v":""}]
[]
[]
[]
[null,null,null,null,null,null,null,null,null,null,null,null,null,null,null,null,null,{"$f":"IF(R55=\"\",\"\",R55)","v":""},null,{"$f":"IF(T55=\"\",\"\",T55)","v":""},null,{"$f":"IF(V55=\"\",\"\",V55)","v":""},null,{"$f":"IF(X55=\"\",\"\",X55)","v":""},null,{"$f":"IF(Z55=\"\",\"\",Z55)","v":""},null,{"$f":"IF(AB55=\"\",\"\",AB55)","v":""},null,{"$f":"IF(AD55=\"\",\"\",AD55)","v":""},null,{"$f":"IF(AF55=\"\",\"\",AF55)","v":""},null,{"$f":"IF(AH55=\"\",\"\",AH55)","v":""},null,{"$f":"IF(AJ55=\"\",\"\",AJ55)","v":""},null,{"$f":"IF(AL55=\"\",\"\",AL55)","v":""},null,null,{"$f":"IF(AO55=\"\",\"\",AO55)","v":""},null,null,{"$f":"IF(AR55=\"\",\"\",AR55)","v":""},null,null,null,null,{"$f":"IF(AW55=\"\",\"\",AW55)","v":""}]
[]
[]
[]
[null,null,null,null,null,null,null,null,null,null,null,null,null,null,null,null,null,{"$f":"IF(R59=\"\",\"\",R59)","v":""},null,{"$f":"IF(T59=\"\",\"\",T59)","v":""},null,{"$f":"IF(V59=\"\",\"\",V59)","v":""},null,{"$f":"IF(X59=\"\",\"\",X59)","v":""},null,{"$f":"IF(Z59=\"\",\"\",Z59)","v":""},null,{"$f":"IF(AB59=\"\",\"\",AB59)","v":""},null,{"$f":"IF(AD59=\"\",\"\",AD59)","v":""},null,{"$f":"IF(AF59=\"\",\"\",AF59)","v":""},null,{"$f":"IF(AH59=\"\",\"\",AH59)","v":""},null,{"$f":"IF(AJ59=\"\",\"\",AJ59)","v":""},null,{"$f":"IF(AL59=\"\",\"\",AL59)","v":""},null,null,{"$f":"IF(AO59=\"\",\"\",AO59)","v":""},null,null,{"$f":"IF(AR59=\"\",\"\",AR59)","v":""},null,null,null,null,{"$f":"IF(AW59=\"\",\"\",AW59)","v":""}]
[]
[]
[]
[null,null,null,null,null,null,null,null,null,null,null,null,null,null,null,null,null,{"$f":"IF(R63=\"\",\"\",R63)","v":""},null,{"$f":"IF(T63=\"\",\"\",T63)","v":""},null,{"$f":"IF(V63=\"\",\"\",V63)","v":""},null,{"$f":"IF(X63=\"\",\"\",X63)","v":""},null,{"$f":"IF(Z63=\"\",\"\",Z63)","v":""},null,{"$f":"IF(AB63=\"\",\"\",AB63)","v":""},null,{"$f":"IF(AD63=\"\",\"\",AD63)","v":""},null,{"$f":"IF(AF63=\"\",\"\",AF63)","v":""},null,{"$f":"IF(AH63=\"\",\"\",AH63)","v":""},null,{"$f":"IF(AJ63=\"\",\"\",AJ63)","v":""},null,{"$f":"IF(AL63=\"\",\"\",AL63)","v":""},null,null,{"$f":"IF(AO63=\"\",\"\",AO63)","v":""},null,null,{"$f":"IF(AR63=\"\",\"\",AR63)","v":""},null,null,null,null,{"$f":"IF(AW63=\"\",\"\",AW63)","v":""}]
[]
[]
[]
[null,null,null,null,null,null,null,null,null,null,null,null,null,null,null,null,null,{"$f":"IF(R67=\"\",\"\",R67)","v":""},null,{"$f":"IF(T67=\"\",\"\",T67)","v":""},null,{"$f":"IF(V67=\"\",\"\",V67)","v":""},null,{"$f":"IF(X67=\"\",\"\",X67)","v":""},null,{"$f":"IF(Z67=\"\",\"\",Z67)","v":""},null,{"$f":"IF(AB67=\"\",\"\",AB67)","v":""},null,{"$f":"IF(AD67=\"\",\"\",AD67)","v":""},null,{"$f":"IF(AF67=\"\",\"\",AF67)","v":""},null,{"$f":"IF(AH67=\"\",\"\",AH67)","v":""},null,{"$f":"IF(AJ67=\"\",\"\",AJ67)","v":""},null,{"$f":"IF(AL67=\"\",\"\",AL67)","v":""},null,null,{"$f":"IF(AO67=\"\",\"\",AO67)","v":""},null,null,{"$f":"IF(AR67=\"\",\"\",AR67)","v":""},null,null,null,null,{"$f":"IF(AW67=\"\",\"\",AW67)","v":""}]
[]
[]
[]
[null,null,null,null,null,null,null,null,null,null,null,null,null,null,null,null,null,{"$f":"IF(R71=\"\",\"\",R71)","v":""},null,{"$f":"IF(T71=\"\",\"\",T71)","v":""},null,{"$f":"IF(V71=\"\",\"\",V71)","v":""},null,{"$f":"IF(X71=\"\",\"\",X71)","v":""},null,{"$f":"IF(Z71=\"\",\"\",Z71)","v":""},null,{"$f":"IF(AB71=\"\",\"\",AB71)","v":""},null,{"$f":"IF(AD71=\"\",\"\",AD71)","v":""},null,{"$f":"IF(AF71=\"\",\"\",AF71)","v":""},null,{"$f":"IF(AH71=\"\",\"\",AH71)","v":""},null,{"$f":"IF(AJ71=\"\",\"\",AJ71)","v":""},null,{"$f":"IF(AL71=\"\",\"\",AL71)","v":""},null,null,{"$f":"IF(AO71=\"\",\"\",AO71)","v":""},null,null,{"$f":"IF(AR71=\"\",\"\",AR71)","v":""},null,null,null,null,{"$f":"IF(AW71=\"\",\"\",AW71)","v":""}]
[]
[]
[]
[null,null,null,null,null,null,null,null,null,null,null,null,null,null,null,null,null,{"$f":"IF(R75=\"\",\"\",R75)","v":""},null,{"$f":"IF(T75=\"\",\"\",T75)","v":""},null,{"$f":"IF(V75=\"\",\"\",V75)","v":""},null,{"$f":"IF(X75=\"\",\"\",X75)","v":""},null,{"$f":"IF(Z75=\"\",\"\",Z75)","v":""},null,{"$f":"IF(AB75=\"\",\"\",AB75)","v":""},null,{"$f":"IF(AD75=\"\",\"\",AD75)","v":""},null,{"$f":"IF(AF75=\"\",\"\",AF75)","v":""},null,{"$f":"IF(AH75=\"\",\"\",AH75)","v":""},null,{"$f":"IF(AJ75=\"\",\"\",AJ75)","v":""},null,{"$f":"IF(AL75=\"\",\"\",AL75)","v":""},null,null,{"$f":"IF(AO75=\"\",\"\",AO75)","v":""},null,null,{"$f":"IF(AR75=\"\",\"\",AR75)","v":""},null,null,null,null,{"$f":"IF(AW75=\"\",\"\",AW75)","v":""}]
[]
[]
[]
[null,null,null,null,null,null,null,null,null,null,null,null,null,null,null,null,null,{"$f":"IF(R79=\"\",\"\",R79)","v":""},null,{"$f":"IF(T79=\"\",\"\",T79)","v":""},null,{"$f":"IF(V79=\"\",\"\",V79)","v":""},null,{"$f":"IF(X79=\"\",\"\",X79)","v":""},null,{"$f":"IF(Z79=\"\",\"\",Z79)","v":""},null,{"$f":"IF(AB79=\"\",\"\",AB79)","v":""},null,{"$f":"IF(AD79=\"\",\"\",AD79)","v":""},null,{"$f":"IF(AF79=\"\",\"\",AF79)","v":""},null,{"$f":"IF(AH79=\"\",\"\",AH79)","v":""},null,{"$f":"IF(AJ79=\"\",\"\",AJ79)","v":""},null,{"$f":"IF(AL79=\"\",\"\",AL79)","v":""},null,null,{"$f":"IF(AO79=\"\",\"\",AO79)","v":""},null,null,{"$f":"IF(AR79=\"\",\"\",AR79)","v":""},null,null,null,null,{"$f":"IF(AW79=\"\",\"\",AW79)","v":""}]
[]
[]
[]
[null,null,null,null,null,null,null,null,null,null,null,null,null,null,null,null,null,null,null,null,null,null,null,null,null,null,null,null,null,null,null,null,null,null,null,null,null,{"$f":"AL83","v":"金額(税抜)"},null,null,null,null,null,null,null,null,null,null,{"$f":"AW83","v":""}]
[]
[]
[]
[]
[null,null,null,null,null,null,null,null,null,null,null,null,null,null,null,null,null,null,null,null,null,null,null,null,null,null,null,null,null,null,null,null,null,null,null,null,null,{"$f":"AL88","v":"消費税"},null,null,null,null,null,"税率",null,null,"税調",null,{"$f":"AW88","v":""}]
[]
[null,null,null,null,null,null,null,null,null,null,null,null,null,null,null,null,null,null,null,null,null,null,null,null,null,null,null,null,null,null,null,null,null,null,null,null,null,null,null,null,null,null,null,{"$f":"AR90","v":0},null,{"$f":"AT90","v":""}]
[]
[]
[]
[null,null,null,null,null,null,null,null,null,null,null,null,null,null,null,null,null,null,null,"請求明細書 (貴社控)"]
[null,"株 式 会 社 種 村 建 設",null,null,null,null,null,null,null,null,null,null,"御中"]
[null,null,null,null,null,null,null,null,null,null,null,null,null,null,null,null,null,null,null,null,null,null,null,null,null,null,null,null,null,null,null,null,null,null,null,null,null,null,null,null,"請求年月日",null,null,null,null,{"$f":"IF(AT4=\"\",\"\",AT4)","v":""},null,null,null,{"$f":"IF(AX96=\"\",\"\",AX96)","v":""},null,null,{"$f":"IF(BA96=\"\",\"\",BA96)","v":""}]
[]
[]
[]
[]
[null,"工事番号",null,null,null,null,{"$f":"IF(G101=\"\",\"\",G101)","v":""},null,null,null,null,null,"工事名",null,null,null,{"$f":"IF(Q101=\"\",\"\",Q101)","v":""},null,null,null,null,null,null,null,null,null,null,null,null,null,null,null,null,null,null,null,null,"業者名",null,null,null,{"$f":"IF(AP101=\"\",\"\",AP101)","v":""}]
[]
[]
[]
[]
[]
[null,"注文番号",null,null,null,null,{"$f":"IF(G107=\"\",\"\",G107)","v":""},null,null,null,null,null,null,null,null,null,null,"月　日",null,null,null,"品　名・内　訳",null,null,null,null,null,null,null,null,null,null,null,null,null,null,null,"数 量",null,null,"単位",null,null,"単価",null,null,null,null,{"$f":"AW15","v":"金額(税抜)"}]
[]
[]
[]
[null,"契約金額",null,null,null,null,{"$f":"IF(G111=\"\",\"\",G111)","v":""},null,null,null,null,null,null,null,null,null,null,{"$f":"IF(R111=\"\",\"\",R111)","v":""},null,{"$f":"IF(T111=\"\",\"\",T111)","v":""},null,{"$f":"IF(V111=\"\",\"\",V111)","v":""},null,{"$f":"IF(X111=\"\",\"\",X111)","v":""},null,{"$f":"IF(Z111=\"\",\"\",Z111)","v":""},null,{"$f":"IF(AB111=\"\",\"\",AB111)","v":""},null,{"$f":"IF(AD111=\"\",\"\",AD111)","v":""},null,{"$f":"IF(AF111=\"\",\"\",AF111)","v":""},null,{"$f":"IF(AH111=\"\",\"\",AH111)","v":""},null,{"$f":"IF(AJ111=\"\",\"\",AJ111)","v":""},null,{"$f":"IF(AL111=\"\",\"\",AL111)","v":""},null,null,{"$f":"IF(AO111=\"\",\"\",AO111)","v":""},null,null,{"$f":"IF(AR111=\"\",\"\",AR111)","v":""},null,null,null,null,{"$f":"IF(AW111=\"\",\"\",AW111)","v":""}]
[]
[]
[]
[null,"増減額",null,null,null,null,{"$f":"IF(G115=\"\",\"\",G115)","v":""},null,null,null,null,null,null,null,null,null,null,{"$f":"IF(R115=\"\",\"\",R115)","v":""},null,{"$f":"IF(T115=\"\",\"\",T115)","v":""},null,{"$f":"IF(V115=\"\",\"\",V115)","v":""},null,{"$f":"IF(X115=\"\",\"\",X115)","v":""},null,{"$f":"IF(Z115=\"\",\"\",Z115)","v":""},null,{"$f":"IF(AB115=\"\",\"\",AB115)","v":""},null,{"$f":"IF(AD115=\"\",\"\",AD115)","v":""},null,{"$f":"IF(AF115=\"\",\"\",AF115)","v":""},null,{"$f":"IF(AH115=\"\",\"\",AH115)","v":""},null,{"$f":"IF(AJ115=\"\",\"\",AJ115)","v":""},null,{"$f":"IF(AL115=\"\",\"\",AL115)","v":""},null,null,{"$f":"IF(AO115=\"\",\"\",AO115)","v":""},null,null,{"$f":"IF(AR115=\"\",\"\",AR115)","v":""},null,null,null,null,{"$f":"IF(AW115=\"\",\"\",AW115)","v":""}]
[]
[]
[]
[null,"前回までの\n請求額",null,null,null,null,{"$f":"IF(G119=\"\",\"\",G119)","v":""},null,null,null,null,null,null,null,null,null,null,{"$f":"IF(R119=\"\",\"\",R119)","v":""},null,{"$f":"IF(T119=\"\",\"\",T119)","v":""},null,{"$f":"IF(V119=\"\",\"\",V119)","v":""},null,{"$f":"IF(X119=\"\",\"\",X119)","v":""},null,{"$f":"IF(Z119=\"\",\"\",Z119)","v":""},null,{"$f":"IF(AB119=\"\",\"\",AB119)","v":""},null,{"$f":"IF(AD119=\"\",\"\",AD119)","v":""},null,{"$f":"IF(AF119=\"\",\"\",AF119)","v":""},null,{"$f":"IF(AH119=\"\",\"\",AH119)","v":""},null,{"$f":"IF(AJ119=\"\",\"\",AJ119)","v":""},null,{"$f":"IF(AL119=\"\",\"\",AL119)","v":""},null,null,{"$f":"IF(AO119=\"\",\"\",AO119)","v":""},null,null,{"$f":"IF(AR119=\"\",\"\",AR119)","v":""},null,null,null,null,{"$f":"IF(AW119=\"\",\"\",AW119)","v":""}]
[]
[]
[]
[null,"今回\n請求額",null,null,{"$f":"IF(E31=\"\",\"\",E31)","v":""},null,{"$f":"IF(G123=\"\",\"\",G123)","v":""},null,null,null,null,null,null,null,null,null,null,{"$f":"IF(R123=\"\",\"\",R123)","v":""},null,{"$f":"IF(T123=\"\",\"\",T123)","v":""},null,{"$f":"IF(V123=\"\",\"\",V123)","v":""},null,{"$f":"IF(X123=\"\",\"\",X123)","v":""},null,{"$f":"IF(Z123=\"\",\"\",Z123)","v":""},null,{"$f":"IF(AB123=\"\",\"\",AB123)","v":""},null,{"$f":"IF(AD123=\"\",\"\",AD123)","v":""},null,{"$f":"IF(AF123=\"\",\"\",AF123)","v":""},null,{"$f":"IF(AH123=\"\",\"\",AH123)","v":""},null,{"$f":"IF(AJ123=\"\",\"\",AJ123)","v":""},null,{"$f":"IF(AL123=\"\",\"\",AL123)","v":""},null,null,{"$f":"IF(AO123=\"\",\"\",AO123)","v":""},null,null,{"$f":"IF(AR123=\"\",\"\",AR123)","v":""},null,null,null,null,{"$f":"IF(AW123=\"\",\"\",AW123)","v":""}]
[]
[]
[]
[null,"差引残高",null,null,null,null,{"$f":"IF(G203=\"\",\"\",G203+G207-G211-G215)","v":""},null,null,null,null,null,null,null,null,null,null,{"$f":"IF(R127=\"\",\"\",R127)","v":""},null,{"$f":"IF(T127=\"\",\"\",T127)","v":""},null,{"$f":"IF(V127=\"\",\"\",V127)","v":""},null,{"$f":"IF(X127=\"\",\"\",X127)","v":""},null,{"$f":"IF(Z127=\"\",\"\",Z127)","v":""},null,{"$f":"IF(AB127=\"\",\"\",AB127)","v":""},null,{"$f":"IF(AD127=\"\",\"\",AD127)","v":""},null,{"$f":"IF(AF127=\"\",\"\",AF127)","v":""},null,{"$f":"IF(AH127=\"\",\"\",AH127)","v":""},null,{"$f":"IF(AJ127=\"\",\"\",AJ127)","v":""},null,{"$f":"IF(AL127=\"\",\"\",AL127)","v":""},null,null,{"$f":"IF(AO127=\"\",\"\",AO127)","v":""},null,null,{"$f":"IF(AR127=\"\",\"\",AR127)","v":""},null,null,null,null,{"$f":"IF(AW127=\"\",\"\",AW127)","v":""}]
[]
[]
[]
[null,null,null,null,null,null,null,null,null,null,null,null,null,null,null,null,null,{"$f":"IF(R131=\"\",\"\",R131)","v":""},null,{"$f":"IF(T131=\"\",\"\",T131)","v":""},null,{"$f":"IF(V131=\"\",\"\",V131)","v":""},null,{"$f":"IF(X131=\"\",\"\",X131)","v":""},null,{"$f":"IF(Z131=\"\",\"\",Z131)","v":""},null,{"$f":"IF(AB131=\"\",\"\",AB131)","v":""},null,{"$f":"IF(AD131=\"\",\"\",AD131)","v":""},null,{"$f":"IF(AF131=\"\",\"\",AF131)","v":""},null,{"$f":"IF(AH131=\"\",\"\",AH131)","v":""},null,{"$f":"IF(AJ131=\"\",\"\",AJ131)","v":""},null,{"$f":"IF(AL131=\"\",\"\",AL131)","v":""},null,null,{"$f":"IF(AO131=\"\",\"\",AO131)","v":""},null,null,{"$f":"IF(AR131=\"\",\"\",AR131)","v":""},null,null,null,null,{"$f":"IF(AW131=\"\",\"\",AW131)","v":""}]
[]
[]
[]
[null,null,null,null,null,null,null,null,null,null,null,null,null,null,null,null,null,{"$f":"IF(R135=\"\",\"\",R135)","v":""},null,{"$f":"IF(T135=\"\",\"\",T135)","v":""},null,{"$f":"IF(V135=\"\",\"\",V135)","v":""},null,{"$f":"IF(X135=\"\",\"\",X135)","v":""},null,{"$f":"IF(Z135=\"\",\"\",Z135)","v":""},null,{"$f":"IF(AB135=\"\",\"\",AB135)","v":""},null,{"$f":"IF(AD135=\"\",\"\",AD135)","v":""},null,{"$f":"IF(AF135=\"\",\"\",AF135)","v":""},null,{"$f":"IF(AH135=\"\",\"\",AH135)","v":""},null,{"$f":"IF(AJ135=\"\",\"\",AJ135)","v":""},null,{"$f":"IF(AL135=\"\",\"\",AL135)","v":""},null,null,{"$f":"IF(AO135=\"\",\"\",AO135)","v":""},null,null,{"$f":"IF(AR135=\"\",\"\",AR135)","v":""},null,null,null,null,{"$f":"IF(AW135=\"\",\"\",AW135)","v":""}]
[]
[]
[]
[null,null,null,null,null,null,null,null,null,null,null,null,null,null,null,null,null,{"$f":"IF(R139=\"\",\"\",R139)","v":""},null,{"$f":"IF(T139=\"\",\"\",T139)","v":""},null,{"$f":"IF(V139=\"\",\"\",V139)","v":""},null,{"$f":"IF(X139=\"\",\"\",X139)","v":""},null,{"$f":"IF(Z139=\"\",\"\",Z139)","v":""},null,{"$f":"IF(AB139=\"\",\"\",AB139)","v":""},null,{"$f":"IF(AD139=\"\",\"\",AD139)","v":""},null,{"$f":"IF(AF139=\"\",\"\",AF139)","v":""},null,{"$f":"IF(AH139=\"\",\"\",AH139)","v":""},null,{"$f":"IF(AJ139=\"\",\"\",AJ139)","v":""},null,{"$f":"IF(AL139=\"\",\"\",AL139)","v":""},null,null,{"$f":"IF(AO139=\"\",\"\",AO139)","v":""},null,null,{"$f":"IF(AR139=\"\",\"\",AR139)","v":""},null,null,null,null,{"$f":"IF(AW139=\"\",\"\",AW139)","v":""}]
[]
[]
[]
[null,null,null,null,null,null,null,null,null,null,null,null,null,null,null,null,null,{"$f":"IF(R143=\"\",\"\",R143)","v":""},null,{"$f":"IF(T143=\"\",\"\",T143)","v":""},null,{"$f":"IF(V143=\"\",\"\",V143)","v":""},null,{"$f":"IF(X143=\"\",\"\",X143)","v":""},null,{"$f":"IF(Z143=\"\",\"\",Z143)","v":""},null,{"$f":"IF(AB143=\"\",\"\",AB143)","v":""},null,{"$f":"IF(AD143=\"\",\"\",AD143)","v":""},null,{"$f":"IF(AF143=\"\",\"\",AF143)","v":""},null,{"$f":"IF(AH143=\"\",\"\",AH143)","v":""},null,{"$f":"IF(AJ143=\"\",\"\",AJ143)","v":""},null,{"$f":"IF(AL143=\"\",\"\",AL143)","v":""},null,null,{"$f":"IF(AO143=\"\",\"\",AO143)","v":""},null,null,{"$f":"IF(AR143=\"\",\"\",AR143)","v":""},null,null,null,null,{"$f":"IF(AW143=\"\",\"\",AW143)","v":""}]
[]
[]
[]
[null,null,null,null,null,null,null,null,null,null,null,null,null,null,null,null,null,{"$f":"IF(R147=\"\",\"\",R147)","v":""},null,{"$f":"IF(T147=\"\",\"\",T147)","v":""},null,{"$f":"IF(V147=\"\",\"\",V147)","v":""},null,{"$f":"IF(X147=\"\",\"\",X147)","v":""},null,{"$f":"IF(Z147=\"\",\"\",Z147)","v":""},null,{"$f":"IF(AB147=\"\",\"\",AB147)","v":""},null,{"$f":"IF(AD147=\"\",\"\",AD147)","v":""},null,{"$f":"IF(AF147=\"\",\"\",AF147)","v":""},null,{"$f":"IF(AH147=\"\",\"\",AH147)","v":""},null,{"$f":"IF(AJ147=\"\",\"\",AJ147)","v":""},null,{"$f":"IF(AL147=\"\",\"\",AL147)","v":""},null,null,{"$f":"IF(AO147=\"\",\"\",AO147)","v":""},null,null,{"$f":"IF(AR147=\"\",\"\",AR147)","v":""},null,null,null,null,{"$f":"IF(AW147=\"\",\"\",AW147)","v":""}]
[]
[]
[]
[null,null,null,null,null,null,null,null,null,null,null,null,null,null,null,null,null,{"$f":"IF(R151=\"\",\"\",R151)","v":""},null,{"$f":"IF(T151=\"\",\"\",T151)","v":""},null,{"$f":"IF(V151=\"\",\"\",V151)","v":""},null,{"$f":"IF(X151=\"\",\"\",X151)","v":""},null,{"$f":"IF(Z151=\"\",\"\",Z151)","v":""},null,{"$f":"IF(AB151=\"\",\"\",AB151)","v":""},null,{"$f":"IF(AD151=\"\",\"\",AD151)","v":""},null,{"$f":"IF(AF151=\"\",\"\",AF151)","v":""},null,{"$f":"IF(AH151=\"\",\"\",AH151)","v":""},null,{"$f":"IF(AJ151=\"\",\"\",AJ151)","v":""},null,{"$f":"IF(AL151=\"\",\"\",AL151)","v":""},null,null,{"$f":"IF(AO151=\"\",\"\",AO151)","v":""},null,null,{"$f":"IF(AR151=\"\",\"\",AR151)","v":""},null,null,null,null,{"$f":"IF(AW151=\"\",\"\",AW151)","v":""}]
[]
[]
[]
[null,null,null,null,null,null,null,null,null,null,null,null,null,null,null,null,null,{"$f":"IF(R155=\"\",\"\",R155)","v":""},null,{"$f":"IF(T155=\"\",\"\",T155)","v":""},null,{"$f":"IF(V155=\"\",\"\",V155)","v":""},null,{"$f":"IF(X155=\"\",\"\",X155)","v":""},null,{"$f":"IF(Z155=\"\",\"\",Z155)","v":""},null,{"$f":"IF(AB155=\"\",\"\",AB155)","v":""},null,{"$f":"IF(AD155=\"\",\"\",AD155)","v":""},null,{"$f":"IF(AF155=\"\",\"\",AF155)","v":""},null,{"$f":"IF(AH155=\"\",\"\",AH155)","v":""},null,{"$f":"IF(AJ155=\"\",\"\",AJ155)","v":""},null,{"$f":"IF(AL155=\"\",\"\",AL155)","v":""},null,null,{"$f":"IF(AO155=\"\",\"\",AO155)","v":""},null,null,{"$f":"IF(AR155=\"\",\"\",AR155)","v":""},null,null,null,null,{"$f":"IF(AW155=\"\",\"\",AW155)","v":""}]
[]
[]
[]
[null,null,null,null,null,null,null,null,null,null,null,null,null,null,null,null,null,{"$f":"IF(R159=\"\",\"\",R159)","v":""},null,{"$f":"IF(T159=\"\",\"\",T159)","v":""},null,{"$f":"IF(V159=\"\",\"\",V159)","v":""},null,{"$f":"IF(X159=\"\",\"\",X159)","v":""},null,{"$f":"IF(Z159=\"\",\"\",Z159)","v":""},null,{"$f":"IF(AB159=\"\",\"\",AB159)","v":""},null,{"$f":"IF(AD159=\"\",\"\",AD159)","v":""},null,{"$f":"IF(AF159=\"\",\"\",AF159)","v":""},null,{"$f":"IF(AH159=\"\",\"\",AH159)","v":""},null,{"$f":"IF(AJ159=\"\",\"\",AJ159)","v":""},null,{"$f":"IF(AL159=\"\",\"\",AL159)","v":""},null,null,{"$f":"IF(AO159=\"\",\"\",AO159)","v":""},null,null,{"$f":"IF(AR159=\"\",\"\",AR159)","v":""},null,null,null,null,{"$f":"IF(AW159=\"\",\"\",AW159)","v":""}]
[]
[]
[]
[null,null,null,null,null,null,null,null,null,null,null,null,null,null,null,null,null,{"$f":"IF(R163=\"\",\"\",R163)","v":""},null,{"$f":"IF(T163=\"\",\"\",T163)","v":""},null,{"$f":"IF(V163=\"\",\"\",V163)","v":""},null,{"$f":"IF(X163=\"\",\"\",X163)","v":""},null,{"$f":"IF(Z163=\"\",\"\",Z163)","v":""},null,{"$f":"IF(AB163=\"\",\"\",AB163)","v":""},null,{"$f":"IF(AD163=\"\",\"\",AD163)","v":""},null,{"$f":"IF(AF163=\"\",\"\",AF163)","v":""},null,{"$f":"IF(AH163=\"\",\"\",AH163)","v":""},null,{"$f":"IF(AJ163=\"\",\"\",AJ163)","v":""},null,{"$f":"IF(AL163=\"\",\"\",AL163)","v":""},null,null,{"$f":"IF(AO163=\"\",\"\",AO163)","v":""},null,null,{"$f":"IF(AR163=\"\",\"\",AR163)","v":""},null,null,null,null,{"$f":"IF(AW163=\"\",\"\",AW163)","v":""}]
[]
[]
[]
[null,null,null,null,null,null,null,null,null,null,null,null,null,null,null,null,null,{"$f":"IF(R167=\"\",\"\",R167)","v":""},null,{"$f":"IF(T167=\"\",\"\",T167)","v":""},null,{"$f":"IF(V167=\"\",\"\",V167)","v":""},null,{"$f":"IF(X167=\"\",\"\",X167)","v":""},null,{"$f":"IF(Z167=\"\",\"\",Z167)","v":""},null,{"$f":"IF(AB167=\"\",\"\",AB167)","v":""},null,{"$f":"IF(AD167=\"\",\"\",AD167)","v":""},null,{"$f":"IF(AF167=\"\",\"\",AF167)","v":""},null,{"$f":"IF(AH167=\"\",\"\",AH167)","v":""},null,{"$f":"IF(AJ167=\"\",\"\",AJ167)","v":""},null,{"$f":"IF(AL167=\"\",\"\",AL167)","v":""},null,null,{"$f":"IF(AO167=\"\",\"\",AO167)","v":""},null,null,{"$f":"IF(AR167=\"\",\"\",AR167)","v":""},null,null,null,null,{"$f":"IF(AW167=\"\",\"\",AW167)","v":""}]
[]
[]
[]
[null,null,null,null,null,null,null,null,null,null,null,null,null,null,null,null,null,{"$f":"IF(R171=\"\",\"\",R171)","v":""},null,{"$f":"IF(T171=\"\",\"\",T171)","v":""},null,{"$f":"IF(V171=\"\",\"\",V171)","v":""},null,{"$f":"IF(X171=\"\",\"\",X171)","v":""},null,{"$f":"IF(Z171=\"\",\"\",Z171)","v":""},null,{"$f":"IF(AB171=\"\",\"\",AB171)","v":""},null,{"$f":"IF(AD171=\"\",\"\",AD171)","v":""},null,{"$f":"IF(AF171=\"\",\"\",AF171)","v":""},null,{"$f":"IF(AH171=\"\",\"\",AH171)","v":""},null,{"$f":"IF(AJ171=\"\",\"\",AJ171)","v":""},null,{"$f":"IF(AL171=\"\",\"\",AL171)","v":""},null,null,{"$f":"IF(AO171=\"\",\"\",AO171)","v":""},null,null,{"$f":"IF(AR171=\"\",\"\",AR171)","v":""},null,null,null,null,{"$f":"IF(AW171=\"\",\"\",AW171)","v":""}]
[]
[]
[]
[null,null,null,null,null,null,null,null,null,null,null,null,null,null,null,null,null,null,null,null,null,null,null,null,null,null,null,null,null,null,null,null,null,null,null,null,null,{"$f":"AL175","v":"金額(税抜)"},null,null,null,null,null,null,null,null,null,null,{"$f":"AW83","v":""}]
[]
[]
[]
[]
[null,null,null,null,null,null,null,null,null,null,null,null,null,null,null,null,null,null,null,null,null,null,null,null,null,null,null,null,null,null,null,null,null,null,null,null,null,{"$f":"AL180","v":"消費税"},null,null,null,null,null,"税率",null,null,"税調",null,{"$f":"AW88","v":""}]
[]
[null,null,null,null,null,null,null,null,null,null,null,null,null,null,null,null,null,null,null,null,null,null,null,null,null,null,null,null,null,null,null,null,null,null,null,null,null,null,null,null,null,null,null,{"$f":"AR90","v":0},null,{"$f":"AT90","v":""}]

{"sheet":"細2-7","index":22,"n_rows":274,"n_cols":53,"rows_kept":274,"cut":false,"hidden":false,"merged":[[266,37,269,47],[266,48,269,54],[258,48,261,54],[262,17,265,18],[262,19,265,20],[262,21,265,36],[262,37,265,39],[258,43,261,47],[271,48,274,54],[262,40,265,42],[262,43,265,47],[262,48,265,54],[258,17,261,18],[258,19,261,20],[258,21,261,36],[258,37,261,39],[258,40,261,42],[271,37,274,42],[271,43,272,45],[273,43,274,44],[273,45,274,45],[273,46,274,47],[271,46,272,47],[250,48,253,54],[254,17,257,18],[254,19,257,20],[254,21,257,36],[254,37,257,39],[254,40,257,42],[254,43,257,47],[254,48,257,54],[250,17,253,18],[250,19,253,20],[250,21,253,36],[250,37,253,39],[250,40,253,42],[250,43,253,47],[242,48,245,54],[246,17,249,18],[246,19,249,20],[246,21,249,36],[246,37,249,39],[246,40,249,42],[246,43,249,47],[246,48,249,54],[242,17,245,18],[242,19,245,20],[242,21,245,36],[242,37,245,39],[242,40,245,42],[242,43,245,47],[234,48,237,54],[238,17,241,18],[238,19,241,20],[238,21,241,36],[238,37,241,39],[238,40,241,42],[238,43,241,47],[238,48,241,54],[234,17,237,18],[234,19,237,20],[234,21,237,36],[234,37,237,39],[234,40,237,42],[234,43,237,47],[222,17,225,18],[222,19,225,20],[222,21,225,36],[222,37,225,39],[222,40,225,42],[222,43,225,47],[222,48,225,54],[226,48,229,54],[230,17,233,18],[230,19,233,20],[230,21,233,36],[230,37,233,39],[230,40,233,42],[230,43,233,47],[230,48,233,54],[226,17,229,18],[226,19,229,20],[226,21,229,36],[226,37,229,39],[226,40,229,42],[226,43,229,47],[218,1,221,5],[218,6,221,15],[218,17,221,18],[218,19,221,20],[218,21,221,36],[218,37,221,39],[218,40,221,42],[218,43,221,47],[218,48,221,54],[210,40,213,42],[210,43,213,47],[210,48,213,54],[214,1,217,3],[214,4,217,5],[214,6,217,15],[214,17,217,18],[214,19,217,20],[214,21,217,36],[214,37,217,39],[210,1,213,5],[210,6,213,15],[210,17,213,18],[210,19,213,20],[210,21,213,36],[210,37,213,39],[214,40,217,42],[214,43,217,47],[214,48,217,54],[206,1,209,5],[206,6,209,15],[206,17,209,18],[206,19,209,20],[206,21,209,36],[206,37,209,39],[206,40,209,42],[206,43,209,47],[206,48,209,54],[198,43,201,47],[198,48,201,54],[202,1,205,5],[202,6,205,15],[202,17,205,18],[202,19,205,20],[202,21,205,36],[202,37,205,39],[202,40,205,42],[202,43,205,47],[198,1,201,5],[198,6,201,15],[198,17,201,20],[198,21,201,36],[198,37,201,39],[198,40,201,42],[202,48,205,54],[187,52,189,54],[192,1,195,5],[192,6,195,11],[192,12,195,15],[192,16,195,35],[192,37,195,40],[192,41,195,54],[185,19,188,32],[186,1,189,11],[186,12,189,13],[187,49,189,51],[187,40,189,44],[187,45,189,48],[174,37,177,47],[174,48,177,54],[179,48,182,54],[170,17,173,18],[170,19,173,20],[170,21,173,36],[170,37,173,39],[170,40,173,42],[170,43,173,47],[170,48,173,54],[179,37,182,42],[179,43,180,45],[179,46,180,47],[181,43,182,44],[181,45,182,45],[181,46,182,47],[166,17,169,18],[166,19,169,20],[162,43,165,47],[162,48,165,54],[158,17,161,18],[158,19,161,20],[158,21,161,36],[158,37,161,39],[158,40,161,42],[162,17,165,18],[162,19,165,20],[162,21,165,36],[162,37,165,39],[162,40,165,42],[166,48,169,54],[158,43,161,47],[166,21,169,36],[166,37,169,39],[166,40,169,42],[166,43,169,47],[158,48,161,54],[154,48,157,54],[150,17,153,18],[150,19,153,20],[146,43,149,47],[146,48,149,54],[142,17,145,18],[142,19,145,20],[142,21,145,36],[142,37,145,39],[142,40,145,42],[154,17,157,18],[154,19,157,20],[154,21,157,36],[154,37,157,39],[154,40,157,42],[154,43,157,47],[146,17,149,18],[146,19,149,20],[146,21,149,36],[146,37,149,39],[146,40,149,42],[150,48,153,54],[142,43,145,47],[150,21,153,36],[150,37,153,39],[150,40,153,42],[150,43,153,47],[142,48,145,54],[130,48,133,54],[134,48,137,54],[130,17,133,18],[130,19,133,20],[130,21,133,36],[130,37,133,39],[130,40,133,42],[130,43,133,47],[138,48,141,54],[134,17,137,18],[134,19,137,20],[134,21,137,36],[134,37,137,39],[134,40,137,42],[134,43,137,47],[138,17,141,18],[138,19,141,20],[138,21,141,36],[138,37,141,39],[138,40,141,42],[138,43,141,47],[126,1,129,5],[126,6,129,15],[126,17,129,18],[126,19,129,20],[126,21,129,36],[126,37,129,39],[126,40,129,42],[126,43,129,47],[126,48,129,54],[118,40,121,42],[118,43,121,47],[118,48,121,54],[122,1,125,3],[122,4,125,5],[122,6,125,15],[122,17,125,18],[122,19,125,20],[122,21,125,36],[122,37,125,39],[118,1,121,5],[118,6,121,15],[118,17,121,18],[118,19,121,20],[118,21,121,36],[118,37,121,39],[122,40,125,42],[122,43,125,47],[122,48,125,54],[114,1,117,5],[114,6,117,15],[114,17,117,18],[114,19,117,20],[114,21,117,36],[114,37,117,39],[114,40,117,42],[114,43,117,47],[114,48,117,54],[106,43,109,47],[106,48,109,54],[110,1,113,5],[110,6,113,15],[110,17,113,18],[110,19,113,20],[110,21,113,36],[110,37,113,39],[110,40,113,42],[110,43,113,47],[106,1,109,5],[106,6,109,15],[106,17,109,20],[106,21,109,36],[106,37,109,39],[106,40,109,42],[110,48,113,54],[89,46,90,47],[87,46,88,47],[95,49,97,51],[95,52,97,54],[100,1,103,5],[100,6,103,11],[100,12,103,15],[100,16,103,35],[100,37,103,40],[100,41,103,54],[93,19,96,32],[94,1,97,11],[94,12,97,13],[95,40,97,44],[95,45,97,48],[83,1,84,4],[83,5,84,10],[83,11,84,16],[83,17,84,25],[85,1,90,4],[85,5,90,10],[85,11,90,16],[85,17,90,25],[89,45,90,45],[78,43,81,47],[83,26,84,30],[83,31,84,35],[78,17,81,18],[78,19,81,20],[78,21,81,36],[85,26,90,30],[85,31,90,35],[74,48,77,54],[87,48,90,54],[78,48,81,54],[82,37,85,47],[82,48,85,54],[78,37,81,39],[78,40,81,42],[74,17,77,18],[74,19,77,20],[74,21,77,36],[74,37,77,39],[74,40,77,42],[74,43,77,47],[87,37,90,42],[87,43,88,45],[89,43,90,44],[66,48,69,54],[70,17,73,18],[70,19,73,20],[70,21,73,36],[70,37,73,39],[70,40,73,42],[70,43,73,47],[70,48,73,54],[66,17,69,18],[66,19,69,20],[66,21,69,36],[66,37,69,39],[66,40,69,42],[66,43,69,47],[58,48,61,54],[62,17,65,18],[62,19,65,20],[62,21,65,36],[62,37,65,39],[62,40,65,42],[62,43,65,47],[62,48,65,54],[58,17,61,18],[58,19,61,20],[58,21,61,36],[58,37,61,39],[58,40,61,42],[58,43,61,47],[50,48,53,54],[54,17,57,18],[54,19,57,20],[54,21,57,36],[54,37,57,39],[54,40,57,42],[54,43,57,47],[54,48,57,54],[50,17,53,18],[50,19,53,20],[50,21,53,36],[50,37,53,39],[50,40,53,42],[50,43,53,47],[38,17,41,18],[38,19,41,20],[38,21,41,36],[38,37,41,39],[38,40,41,42],[38,43,41,47],[38,48,41,54],[42,48,45,54],[46,17,49,18],[46,19,49,20],[46,21,49,36],[46,37,49,39],[46,40,49,42],[46,43,49,47],[46,48,49,54],[42,17,45,18],[42,19,45,20],[42,21,45,36],[42,37,45,39],[42,40,45,42],[42,43,45,47],[34,1,37,5],[34,6,37,15],[34,17,37,18],[34,19,37,20],[34,21,37,36],[34,37,37,39],[34,40,37,42],[34,43,37,47],[34,48,37,54],[26,40,29,42],[26,43,29,47],[26,48,29,54],[30,1,33,3],[30,4,33,5],[30,6,33,15],[30,17,33,18],[30,19,33,20],[30,21,33,36],[30,37,33,39],[26,1,29,5],[26,6,29,15],[26,17,29,18],[26,19,29,20],[26,21,29,36],[26,37,29,39],[30,40,33,42],[30,43,33,47],[30,48,33,54],[22,1,25,5],[22,6,25,15],[22,17,25,18],[22,19,25,20],[22,21,25,36],[22,37,25,39],[22,40,25,42],[22,43,25,47],[22,48,25,54],[14,43,17,47],[14,48,17,54],[18,1,21,5],[18,6,21,15],[18,17,21,18],[18,19,21,20],[18,21,21,36],[18,37,21,39],[18,40,21,42],[18,43,21,47],[14,1,17,5],[14,6,17,15],[14,17,17,20],[14,21,17,36],[14,37,17,39],[14,40,17,42],[18,48,21,54],[3,52,5,54],[8,37,11,40],[8,41,11,54],[1,19,4,32],[2,1,5,11],[2,12,5,13],[8,1,11,5],[8,6,11,11],[8,12,11,15],[8,16,11,35],[3,49,5,51],[3,40,5,44],[3,45,5,48]]}
[]
[null,null,null,null,null,null,null,null,null,null,null,null,null,null,null,null,null,null,null,"請求書明細書 (正)"]
[null,"株 式 会 社 種 村 建 設",null,null,null,null,null,null,null,null,null,null,"御中"]
[null,null,null,null,null,null,null,null,null,null,null,null,null,null,null,null,null,null,null,null,null,null,null,null,null,null,null,null,null,null,null,null,null,null,null,null,null,null,null,null,"請求年月日",null,null,null,null,{"$f":"IF(年=\"\",\"\",年)","v":""},null,null,null,{"$f":"IF(月=\"\",\"\",月)","v":""},null,null,{"$f":"IF(日=\"\",\"\",日)","v":""}]
[]
[]
[]
[]
[null,"工事番号",null,null,null,null,null,null,null,null,null,null,"工事名",null,null,null,null,null,null,null,null,null,null,null,null,null,null,null,null,null,null,null,null,null,null,null,null,"業者名",null,null,null,{"$f":"IF(社名=\"\",\"\",社名)","v":""}]
[]
[]
[]
[]
[]
[null,"注文番号",null,null,null,null,null,null,null,null,null,null,null,null,null,null,null,"月　日",null,null,null,"品　名・内　訳",null,null,null,null,null,null,null,null,null,null,null,null,null,null,null,"数 量",null,null,"単位",null,null,"単価",null,null,null,null,{"$f":"表紙①!P35","v":"金額(税抜)"}]
[]
[]
[]
[null,"契約金額",null,null,null,null,null,null,null,null,null,null,null,null,null,null,null,null,null,null,null,null,null,null,null,null,null,null,null,null,null,null,null,null,null,null,null,null,null,null,null,null,null,null,null,null,null,null,{"$f":"IF(V19=\"\",\"\",ROUND(AL19*AR19,0))","v":""}]
[]
[]
[]
[null,"増減額",null,null,null,null,null,null,null,null,null,null,null,null,null,null,null,null,null,null,null,null,null,null,null,null,null,null,null,null,null,null,null,null,null,null,null,null,null,null,null,null,null,null,null,null,null,null,{"$f":"IF(V23=\"\",\"\",ROUND(AL23*AR23,0))","v":""}]
[]
[]
[]
[null,"前回までの\n請求額",null,null,null,null,null,null,null,null,null,null,null,null,null,null,null,null,null,null,null,null,null,null,null,null,null,null,null,null,null,null,null,null,null,null,null,null,null,null,null,null,null,null,null,null,null,null,{"$f":"IF(V27=\"\",\"\",ROUND(AL27*AR27,0))","v":""}]
[]
[]
[]
[null,"今回\n請求額",null,null,null,null,null,null,null,null,null,null,null,null,null,null,null,null,null,null,null,null,null,null,null,null,null,null,null,null,null,null,null,null,null,null,null,null,null,null,null,null,null,null,null,null,null,null,{"$f":"IF(V31=\"\",\"\",ROUND(AL31*AR31,0))","v":""}]
[]
[]
[]
[null,"差引残高",null,null,null,null,{"$f":"IF(G19=\"\",\"\",G19+G23-G27-G31)","v":""},null,null,null,null,null,null,null,null,null,null,null,null,null,null,null,null,null,null,null,null,null,null,null,null,null,null,null,null,null,null,null,null,null,null,null,null,null,null,null,null,null,{"$f":"IF(V35=\"\",\"\",ROUND(AL35*AR35,0))","v":""}]
[]
[]
[]
[null,null,null,null,null,null,null,null,null,null,null,null,null,null,null,null,null,null,null,null,null,null,null,null,null,null,null,null,null,null,null,null,null,null,null,null,null,null,null,null,null,null,null,null,null,null,null,null,{"$f":"IF(V39=\"\",\"\",ROUND(AL39*AR39,0))","v":""}]
[]
[]
[]
[null,null,null,null,null,null,null,null,null,null,null,null,null,null,null,null,null,null,null,null,null,null,null,null,null,null,null,null,null,null,null,null,null,null,null,null,null,null,null,null,null,null,null,null,null,null,null,null,{"$f":"IF(V43=\"\",\"\",ROUND(AL43*AR43,0))","v":""}]
[]
[]
[]
[null,null,null,null,null,null,null,null,null,null,null,null,null,null,null,null,null,null,null,null,null,null,null,null,null,null,null,null,null,null,null,null,null,null,null,null,null,null,null,null,null,null,null,null,null,null,null,null,{"$f":"IF(V47=\"\",\"\",ROUND(AL47*AR47,0))","v":""}]
[]
[]
[]
[null,null,null,null,null,null,null,null,null,null,null,null,null,null,null,null,null,null,null,null,null,null,null,null,null,null,null,null,null,null,null,null,null,null,null,null,null,null,null,null,null,null,null,null,null,null,null,null,{"$f":"IF(V51=\"\",\"\",ROUND(AL51*AR51,0))","v":""}]
[]
[]
[]
[null,null,null,null,null,null,null,null,null,null,null,null,null,null,null,null,null,null,null,null,null,null,null,null,null,null,null,null,null,null,null,null,null,null,null,null,null,null,null,null,null,null,null,null,null,null,null,null,{"$f":"IF(V55=\"\",\"\",ROUND(AL55*AR55,0))","v":""}]
[]
[]
[]
[null,null,null,null,null,null,null,null,null,null,null,null,null,null,null,null,null,null,null,null,null,null,null,null,null,null,null,null,null,null,null,null,null,null,null,null,null,null,null,null,null,null,null,null,null,null,null,null,{"$f":"IF(V59=\"\",\"\",ROUND(AL59*AR59,0))","v":""}]
[]
[]
[]
[null,null,null,null,null,null,null,null,null,null,null,null,null,null,null,null,null,null,null,null,null,null,null,null,null,null,null,null,null,null,null,null,null,null,null,null,null,null,null,null,null,null,null,null,null,null,null,null,{"$f":"IF(V63=\"\",\"\",ROUND(AL63*AR63,0))","v":""}]
[]
[]
[]
[null,null,null,null,null,null,null,null,null,null,null,null,null,null,null,null,null,null,null,null,null,null,null,null,null,null,null,null,null,null,null,null,null,null,null,null,null,null,null,null,null,null,null,null,null,null,null,null,{"$f":"IF(V67=\"\",\"\",ROUND(AL67*AR67,0))","v":""}]
[]
[]
[]
[null,null,null,null,null,null,null,null,null,null,null,null,null,null,null,null,null,null,null,null,null,null,null,null,null,null,null,null,null,null,null,null,null,null,null,null,null,null,null,null,null,null,null,null,null,null,null,null,{"$f":"IF(V71=\"\",\"\",ROUND(AL71*AR71,0))","v":""}]
[]
[]
[]
[null,null,null,null,null,null,null,null,null,null,null,null,null,null,null,null,null,null,null,null,null,null,null,null,null,null,null,null,null,null,null,null,null,null,null,null,null,null,null,null,null,null,null,null,null,null,null,null,{"$f":"IF(V75=\"\",\"\",ROUND(AL75*AR75,0))","v":""}]
[]
[]
[]
[null,null,null,null,null,null,null,null,null,null,null,null,null,null,null,null,null,null,null,null,null,null,null,null,null,null,null,null,null,null,null,null,null,null,null,null,null,null,null,null,null,null,null,null,null,null,null,null,{"$f":"IF(V79=\"\",\"\",ROUND(AL79*AR79,0))","v":""}]
[]
[]
[]
[null,null,null,null,null,null,null,null,null,null,null,null,null,null,null,null,null,null,null,null,null,null,null,null,null,null,null,null,null,null,null,null,null,null,null,null,null,"金額(税抜)",null,null,null,null,null,null,null,null,null,null,{"$f":"IF(AW19=\"\",\"\",SUM(AW19:AW79))","v":""}]
[null,"社長",null,null,null,"専務",null,null,null,null,null,"常務",null,null,null,null,null,"部長･工場長",null,null,null,null,null,null,null,null,"担当者",null,null,null,null,"受付"]
[]
[]
[]
[null,null,null,null,null,null,null,null,null,null,null,null,null,null,null,null,null,null,null,null,null,null,null,null,null,null,null,null,null,null,null,null,null,null,null,null,null,"消費税",null,null,null,null,null,"税率",null,null,"税調",null,{"$f":"IF(AW83=\"\",\"\",IF(AR90=\"\",\"\",IF(AR90=8.1,ROUND(AW83*8/100,0)+AU90,ROUND(AW83*AR90/100,0)+AU90)))","v":""}]
[]
[null,null,null,null,null,null,null,null,null,null,null,null,null,null,null,null,null,null,null,null,null,null,null,null,null,null,null,null,null,null,null,null,null,null,null,null,null,null,null,null,null,null,null,null,null,{"$f":"IF(AR90=\"\",\"\",IF(AR90=8.1,\"旧\",IF(AR90=8,\"軽\",IF(AR90=0,\"非\",\"\"))))","v":""}]
[]
[]
[]
[null,null,null,null,null,null,null,null,null,null,null,null,null,null,null,null,null,null,null,"請求明細書 (現場控)"]
[null,"株 式 会 社 種 村 建 設",null,null,null,null,null,null,null,null,null,null,"御中"]
[null,null,null,null,null,null,null,null,null,null,null,null,null,null,null,null,null,null,null,null,null,null,null,null,null,null,null,null,null,null,null,null,null,null,null,null,null,null,null,null,"請求年月日",null,null,null,null,{"$f":"IF(AT4=\"\",\"\",AT4)","v":""},null,null,null,{"$f":"IF(AX4=\"\",\"\",AX4)","v":""},null,null,{"$f":"IF(BA4=\"\",\"\",BA4)","v":""}]
[]
[]
[]
[]
[null,"工事番号",null,null,null,null,{"$f":"IF(G9=\"\",\"\",G9)","v":""},null,null,null,null,null,"工事名",null,null,null,{"$f":"IF(Q9=\"\",\"\",Q9)","v":""},null,null,null,null,null,null,null,null,null,null,null,null,null,null,null,null,null,null,null,null,"業者名",null,null,null,{"$f":"IF(AP9=\"\",\"\",AP9)","v":""}]
[]
[]
[]
[]
[]
[null,"注文番号",null,null,null,null,{"$f":"IF(G15=\"\",\"\",G15)","v":""},null,null,null,null,null,null,null,null,null,null,"月　日",null,null,null,"品　名・内　訳",null,null,null,null,null,null,null,null,null,null,null,null,null,null,null,"数 量",null,null,"単位",null,null,"単価",null,null,null,null,{"$f":"AW15","v":"金額(税抜)"}]
[]
[]
[]
[null,"契約金額",null,null,null,null,{"$f":"IF(G19=\"\",\"\",G19)","v":""},null,null,null,null,null,null,null,null,null,null,{"$f":"IF(R19=\"\",\"\",R19)","v":""},null,{"$f":"IF(T19=\"\",\"\",T19)","v":""},null,{"$f":"IF(V19=\"\",\"\",V19)","v":""},null,{"$f":"IF(X19=\"\",\"\",X19)","v":""},null,{"$f":"IF(Z19=\"\",\"\",Z19)","v":""},null,{"$f":"IF(AB19=\"\",\"\",AB19)","v":""},null,{"$f":"IF(AD19=\"\",\"\",AD19)","v":""},null,{"$f":"IF(AF19=\"\",\"\",AF19)","v":""},null,{"$f":"IF(AH19=\"\",\"\",AH19)","v":""},null,{"$f":"IF(AJ19=\"\",\"\",AJ19)","v":""},null,{"$f":"IF(AL19=\"\",\"\",AL19)","v":""},null,null,{"$f":"IF(AO19=\"\",\"\",AO19)","v":""},null,null,{"$f":"IF(AR19=\"\",\"\",AR19)","v":""},null,null,null,null,{"$f":"IF(AW19=\"\",\"\",AW19)","v":""}]
[]
[]
[]
[null,"増減額",null,null,null,null,{"$f":"IF(G23=\"\",\"\",G23)","v":""},null,null,null,null,null,null,null,null,null,null,{"$f":"IF(R23=\"\",\"\",R23)","v":""},null,{"$f":"IF(T23=\"\",\"\",T23)","v":""},null,{"$f":"IF(V23=\"\",\"\",V23)","v":""},null,{"$f":"IF(X23=\"\",\"\",X23)","v":""},null,{"$f":"IF(Z23=\"\",\"\",Z23)","v":""},null,{"$f":"IF(AB23=\"\",\"\",AB23)","v":""},null,{"$f":"IF(AD23=\"\",\"\",AD23)","v":""},null,{"$f":"IF(AF23=\"\",\"\",AF23)","v":""},null,{"$f":"IF(AH23=\"\",\"\",AH23)","v":""},null,{"$f":"IF(AJ23=\"\",\"\",AJ23)","v":""},null,{"$f":"IF(AL23=\"\",\"\",AL23)","v":""},null,null,{"$f":"IF(AO23=\"\",\"\",AO23)","v":""},null,null,{"$f":"IF(AR23=\"\",\"\",AR23)","v":""},null,null,null,null,{"$f":"IF(AW23=\"\",\"\",AW23)","v":""}]
[]
[]
[]
[null,"前回までの\n請求額",null,null,null,null,{"$f":"IF(G27=\"\",\"\",G27)","v":""},null,null,null,null,null,null,null,null,null,null,{"$f":"IF(R27=\"\",\"\",R27)","v":""},null,{"$f":"IF(T27=\"\",\"\",T27)","v":""},null,{"$f":"IF(V27=\"\",\"\",V27)","v":""},null,{"$f":"IF(X27=\"\",\"\",X27)","v":""},null,{"$f":"IF(Z27=\"\",\"\",Z27)","v":""},null,{"$f":"IF(AB27=\"\",\"\",AB27)","v":""},null,{"$f":"IF(AD27=\"\",\"\",AD27)","v":""},null,{"$f":"IF(AF27=\"\",\"\",AF27)","v":""},null,{"$f":"IF(AH27=\"\",\"\",AH27)","v":""},null,{"$f":"IF(AJ27=\"\",\"\",AJ27)","v":""},null,{"$f":"IF(AL27=\"\",\"\",AL27)","v":""},null,null,{"$f":"IF(AO27=\"\",\"\",AO27)","v":""},null,null,{"$f":"IF(AR27=\"\",\"\",AR27)","v":""},null,null,null,null,{"$f":"IF(AW27=\"\",\"\",AW27)","v":""}]
[]
[]
[]
[null,"今回\n請求額",null,null,{"$f":"IF(E31=\"\",\"\",E31)","v":""},null,{"$f":"IF(G31=\"\",\"\",G31)","v":""},null,null,null,null,null,null,null,null,null,null,{"$f":"IF(R31=\"\",\"\",R31)","v":""},null,{"$f":"IF(T31=\"\",\"\",T31)","v":""},null,{"$f":"IF(V31=\"\",\"\",V31)","v":""},null,{"$f":"IF(X31=\"\",\"\",X31)","v":""},null,{"$f":"IF(Z31=\"\",\"\",Z31)","v":""},null,{"$f":"IF(AB31=\"\",\"\",AB31)","v":""},null,{"$f":"IF(AD31=\"\",\"\",AD31)","v":""},null,{"$f":"IF(AF31=\"\",\"\",AF31)","v":""},null,{"$f":"IF(AH31=\"\",\"\",AH31)","v":""},null,{"$f":"IF(AJ31=\"\",\"\",AJ31)","v":""},null,{"$f":"IF(AL31=\"\",\"\",AL31)","v":""},null,null,{"$f":"IF(AO31=\"\",\"\",AO31)","v":""},null,null,{"$f":"IF(AR31=\"\",\"\",AR31)","v":""},null,null,null,null,{"$f":"IF(AW31=\"\",\"\",AW31)","v":""}]
[]
[]
[]
[null,"差引残高",null,null,null,null,{"$f":"IF(G111=\"\",\"\",G111+G115-G119-G123)","v":""},null,null,null,null,null,null,null,null,null,null,{"$f":"IF(R35=\"\",\"\",R35)","v":""},null,{"$f":"IF(T35=\"\",\"\",T35)","v":""},null,{"$f":"IF(V35=\"\",\"\",V35)","v":""},null,{"$f":"IF(X35=\"\",\"\",X35)","v":""},null,{"$f":"IF(Z35=\"\",\"\",Z35)","v":""},null,{"$f":"IF(AB35=\"\",\"\",AB35)","v":""},null,{"$f":"IF(AD35=\"\",\"\",AD35)","v":""},null,{"$f":"IF(AF35=\"\",\"\",AF35)","v":""},null,{"$f":"IF(AH35=\"\",\"\",AH35)","v":""},null,{"$f":"IF(AJ35=\"\",\"\",AJ35)","v":""},null,{"$f":"IF(AL35=\"\",\"\",AL35)","v":""},null,null,{"$f":"IF(AO35=\"\",\"\",AO35)","v":""},null,null,{"$f":"IF(AR35=\"\",\"\",AR35)","v":""},null,null,null,null,{"$f":"IF(AW35=\"\",\"\",AW35)","v":""}]
[]
[]
[]
[null,null,null,null,null,null,null,null,null,null,null,null,null,null,null,null,null,{"$f":"IF(R39=\"\",\"\",R39)","v":""},null,{"$f":"IF(T39=\"\",\"\",T39)","v":""},null,{"$f":"IF(V39=\"\",\"\",V39)","v":""},null,{"$f":"IF(X39=\"\",\"\",X39)","v":""},null,{"$f":"IF(Z39=\"\",\"\",Z39)","v":""},null,{"$f":"IF(AB39=\"\",\"\",AB39)","v":""},null,{"$f":"IF(AD39=\"\",\"\",AD39)","v":""},null,{"$f":"IF(AF39=\"\",\"\",AF39)","v":""},null,{"$f":"IF(AH39=\"\",\"\",AH39)","v":""},null,{"$f":"IF(AJ39=\"\",\"\",AJ39)","v":""},null,{"$f":"IF(AL39=\"\",\"\",AL39)","v":""},null,null,{"$f":"IF(AO39=\"\",\"\",AO39)","v":""},null,null,{"$f":"IF(AR39=\"\",\"\",AR39)","v":""},null,null,null,null,{"$f":"IF(AW39=\"\",\"\",AW39)","v":""}]
[]
[]
[]
[null,null,null,null,null,null,null,null,null,null,null,null,null,null,null,null,null,{"$f":"IF(R43=\"\",\"\",R43)","v":""},null,{"$f":"IF(T43=\"\",\"\",T43)","v":""},null,{"$f":"IF(V43=\"\",\"\",V43)","v":""},null,{"$f":"IF(X43=\"\",\"\",X43)","v":""},null,{"$f":"IF(Z43=\"\",\"\",Z43)","v":""},null,{"$f":"IF(AB43=\"\",\"\",AB43)","v":""},null,{"$f":"IF(AD43=\"\",\"\",AD43)","v":""},null,{"$f":"IF(AF43=\"\",\"\",AF43)","v":""},null,{"$f":"IF(AH43=\"\",\"\",AH43)","v":""},null,{"$f":"IF(AJ43=\"\",\"\",AJ43)","v":""},null,{"$f":"IF(AL43=\"\",\"\",AL43)","v":""},null,null,{"$f":"IF(AO43=\"\",\"\",AO43)","v":""},null,null,{"$f":"IF(AR43=\"\",\"\",AR43)","v":""},null,null,null,null,{"$f":"IF(AW43=\"\",\"\",AW43)","v":""}]
[]
[]
[]
[null,null,null,null,null,null,null,null,null,null,null,null,null,null,null,null,null,{"$f":"IF(R47=\"\",\"\",R47)","v":""},null,{"$f":"IF(T47=\"\",\"\",T47)","v":""},null,{"$f":"IF(V47=\"\",\"\",V47)","v":""},null,{"$f":"IF(X47=\"\",\"\",X47)","v":""},null,{"$f":"IF(Z47=\"\",\"\",Z47)","v":""},null,{"$f":"IF(AB47=\"\",\"\",AB47)","v":""},null,{"$f":"IF(AD47=\"\",\"\",AD47)","v":""},null,{"$f":"IF(AF47=\"\",\"\",AF47)","v":""},null,{"$f":"IF(AH47=\"\",\"\",AH47)","v":""},null,{"$f":"IF(AJ47=\"\",\"\",AJ47)","v":""},null,{"$f":"IF(AL47=\"\",\"\",AL47)","v":""},null,null,{"$f":"IF(AO47=\"\",\"\",AO47)","v":""},null,null,{"$f":"IF(AR47=\"\",\"\",AR47)","v":""},null,null,null,null,{"$f":"IF(AW47=\"\",\"\",AW47)","v":""}]
[]
[]
[]
[null,null,null,null,null,null,null,null,null,null,null,null,null,null,null,null,null,{"$f":"IF(R51=\"\",\"\",R51)","v":""},null,{"$f":"IF(T51=\"\",\"\",T51)","v":""},null,{"$f":"IF(V51=\"\",\"\",V51)","v":""},null,{"$f":"IF(X51=\"\",\"\",X51)","v":""},null,{"$f":"IF(Z51=\"\",\"\",Z51)","v":""},null,{"$f":"IF(AB51=\"\",\"\",AB51)","v":""},null,{"$f":"IF(AD51=\"\",\"\",AD51)","v":""},null,{"$f":"IF(AF51=\"\",\"\",AF51)","v":""},null,{"$f":"IF(AH51=\"\",\"\",AH51)","v":""},null,{"$f":"IF(AJ51=\"\",\"\",AJ51)","v":""},null,{"$f":"IF(AL51=\"\",\"\",AL51)","v":""},null,null,{"$f":"IF(AO51=\"\",\"\",AO51)","v":""},null,null,{"$f":"IF(AR51=\"\",\"\",AR51)","v":""},null,null,null,null,{"$f":"IF(AW51=\"\",\"\",AW51)","v":""}]
[]
[]
[]
[null,null,null,null,null,null,null,null,null,null,null,null,null,null,null,null,null,{"$f":"IF(R55=\"\",\"\",R55)","v":""},null,{"$f":"IF(T55=\"\",\"\",T55)","v":""},null,{"$f":"IF(V55=\"\",\"\",V55)","v":""},null,{"$f":"IF(X55=\"\",\"\",X55)","v":""},null,{"$f":"IF(Z55=\"\",\"\",Z55)","v":""},null,{"$f":"IF(AB55=\"\",\"\",AB55)","v":""},null,{"$f":"IF(AD55=\"\",\"\",AD55)","v":""},null,{"$f":"IF(AF55=\"\",\"\",AF55)","v":""},null,{"$f":"IF(AH55=\"\",\"\",AH55)","v":""},null,{"$f":"IF(AJ55=\"\",\"\",AJ55)","v":""},null,{"$f":"IF(AL55=\"\",\"\",AL55)","v":""},null,null,{"$f":"IF(AO55=\"\",\"\",AO55)","v":""},null,null,{"$f":"IF(AR55=\"\",\"\",AR55)","v":""},null,null,null,null,{"$f":"IF(AW55=\"\",\"\",AW55)","v":""}]
[]
[]
[]
[null,null,null,null,null,null,null,null,null,null,null,null,null,null,null,null,null,{"$f":"IF(R59=\"\",\"\",R59)","v":""},null,{"$f":"IF(T59=\"\",\"\",T59)","v":""},null,{"$f":"IF(V59=\"\",\"\",V59)","v":""},null,{"$f":"IF(X59=\"\",\"\",X59)","v":""},null,{"$f":"IF(Z59=\"\",\"\",Z59)","v":""},null,{"$f":"IF(AB59=\"\",\"\",AB59)","v":""},null,{"$f":"IF(AD59=\"\",\"\",AD59)","v":""},null,{"$f":"IF(AF59=\"\",\"\",AF59)","v":""},null,{"$f":"IF(AH59=\"\",\"\",AH59)","v":""},null,{"$f":"IF(AJ59=\"\",\"\",AJ59)","v":""},null,{"$f":"IF(AL59=\"\",\"\",AL59)","v":""},null,null,{"$f":"IF(AO59=\"\",\"\",AO59)","v":""},null,null,{"$f":"IF(AR59=\"\",\"\",AR59)","v":""},null,null,null,null,{"$f":"IF(AW59=\"\",\"\",AW59)","v":""}]
[]
[]
[]
[null,null,null,null,null,null,null,null,null,null,null,null,null,null,null,null,null,{"$f":"IF(R63=\"\",\"\",R63)","v":""},null,{"$f":"IF(T63=\"\",\"\",T63)","v":""},null,{"$f":"IF(V63=\"\",\"\",V63)","v":""},null,{"$f":"IF(X63=\"\",\"\",X63)","v":""},null,{"$f":"IF(Z63=\"\",\"\",Z63)","v":""},null,{"$f":"IF(AB63=\"\",\"\",AB63)","v":""},null,{"$f":"IF(AD63=\"\",\"\",AD63)","v":""},null,{"$f":"IF(AF63=\"\",\"\",AF63)","v":""},null,{"$f":"IF(AH63=\"\",\"\",AH63)","v":""},null,{"$f":"IF(AJ63=\"\",\"\",AJ63)","v":""},null,{"$f":"IF(AL63=\"\",\"\",AL63)","v":""},null,null,{"$f":"IF(AO63=\"\",\"\",AO63)","v":""},null,null,{"$f":"IF(AR63=\"\",\"\",AR63)","v":""},null,null,null,null,{"$f":"IF(AW63=\"\",\"\",AW63)","v":""}]
[]
[]
[]
[null,null,null,null,null,null,null,null,null,null,null,null,null,null,null,null,null,{"$f":"IF(R67=\"\",\"\",R67)","v":""},null,{"$f":"IF(T67=\"\",\"\",T67)","v":""},null,{"$f":"IF(V67=\"\",\"\",V67)","v":""},null,{"$f":"IF(X67=\"\",\"\",X67)","v":""},null,{"$f":"IF(Z67=\"\",\"\",Z67)","v":""},null,{"$f":"IF(AB67=\"\",\"\",AB67)","v":""},null,{"$f":"IF(AD67=\"\",\"\",AD67)","v":""},null,{"$f":"IF(AF67=\"\",\"\",AF67)","v":""},null,{"$f":"IF(AH67=\"\",\"\",AH67)","v":""},null,{"$f":"IF(AJ67=\"\",\"\",AJ67)","v":""},null,{"$f":"IF(AL67=\"\",\"\",AL67)","v":""},null,null,{"$f":"IF(AO67=\"\",\"\",AO67)","v":""},null,null,{"$f":"IF(AR67=\"\",\"\",AR67)","v":""},null,null,null,null,{"$f":"IF(AW67=\"\",\"\",AW67)","v":""}]
[]
[]
[]
[null,null,null,null,null,null,null,null,null,null,null,null,null,null,null,null,null,{"$f":"IF(R71=\"\",\"\",R71)","v":""},null,{"$f":"IF(T71=\"\",\"\",T71)","v":""},null,{"$f":"IF(V71=\"\",\"\",V71)","v":""},null,{"$f":"IF(X71=\"\",\"\",X71)","v":""},null,{"$f":"IF(Z71=\"\",\"\",Z71)","v":""},null,{"$f":"IF(AB71=\"\",\"\",AB71)","v":""},null,{"$f":"IF(AD71=\"\",\"\",AD71)","v":""},null,{"$f":"IF(AF71=\"\",\"\",AF71)","v":""},null,{"$f":"IF(AH71=\"\",\"\",AH71)","v":""},null,{"$f":"IF(AJ71=\"\",\"\",AJ71)","v":""},null,{"$f":"IF(AL71=\"\",\"\",AL71)","v":""},null,null,{"$f":"IF(AO71=\"\",\"\",AO71)","v":""},null,null,{"$f":"IF(AR71=\"\",\"\",AR71)","v":""},null,null,null,null,{"$f":"IF(AW71=\"\",\"\",AW71)","v":""}]
[]
[]
[]
[null,null,null,null,null,null,null,null,null,null,null,null,null,null,null,null,null,{"$f":"IF(R75=\"\",\"\",R75)","v":""},null,{"$f":"IF(T75=\"\",\"\",T75)","v":""},null,{"$f":"IF(V75=\"\",\"\",V75)","v":""},null,{"$f":"IF(X75=\"\",\"\",X75)","v":""},null,{"$f":"IF(Z75=\"\",\"\",Z75)","v":""},null,{"$f":"IF(AB75=\"\",\"\",AB75)","v":""},null,{"$f":"IF(AD75=\"\",\"\",AD75)","v":""},null,{"$f":"IF(AF75=\"\",\"\",AF75)","v":""},null,{"$f":"IF(AH75=\"\",\"\",AH75)","v":""},null,{"$f":"IF(AJ75=\"\",\"\",AJ75)","v":""},null,{"$f":"IF(AL75=\"\",\"\",AL75)","v":""},null,null,{"$f":"IF(AO75=\"\",\"\",AO75)","v":""},null,null,{"$f":"IF(AR75=\"\",\"\",AR75)","v":""},null,null,null,null,{"$f":"IF(AW75=\"\",\"\",AW75)","v":""}]
[]
[]
[]
[null,null,null,null,null,null,null,null,null,null,null,null,null,null,null,null,null,{"$f":"IF(R79=\"\",\"\",R79)","v":""},null,{"$f":"IF(T79=\"\",\"\",T79)","v":""},null,{"$f":"IF(V79=\"\",\"\",V79)","v":""},null,{"$f":"IF(X79=\"\",\"\",X79)","v":""},null,{"$f":"IF(Z79=\"\",\"\",Z79)","v":""},null,{"$f":"IF(AB79=\"\",\"\",AB79)","v":""},null,{"$f":"IF(AD79=\"\",\"\",AD79)","v":""},null,{"$f":"IF(AF79=\"\",\"\",AF79)","v":""},null,{"$f":"IF(AH79=\"\",\"\",AH79)","v":""},null,{"$f":"IF(AJ79=\"\",\"\",AJ79)","v":""},null,{"$f":"IF(AL79=\"\",\"\",AL79)","v":""},null,null,{"$f":"IF(AO79=\"\",\"\",AO79)","v":""},null,null,{"$f":"IF(AR79=\"\",\"\",AR79)","v":""},null,null,null,null,{"$f":"IF(AW79=\"\",\"\",AW79)","v":""}]
[]
[]
[]
[null,null,null,null,null,null,null,null,null,null,null,null,null,null,null,null,null,null,null,null,null,null,null,null,null,null,null,null,null,null,null,null,null,null,null,null,null,{"$f":"AL83","v":"金額(税抜)"},null,null,null,null,null,null,null,null,null,null,{"$f":"AW83","v":""}]
[]
[]
[]
[]
[null,null,null,null,null,null,null,null,null,null,null,null,null,null,null,null,null,null,null,null,null,null,null,null,null,null,null,null,null,null,null,null,null,null,null,null,null,{"$f":"AL88","v":"消費税"},null,null,null,null,null,"税率",null,null,"税調",null,{"$f":"AW88","v":""}]
[]
[null,null,null,null,null,null,null,null,null,null,null,null,null,null,null,null,null,null,null,null,null,null,null,null,null,null,null,null,null,null,null,null,null,null,null,null,null,null,null,null,null,null,null,{"$f":"AR90","v":0},null,{"$f":"AT90","v":""}]
[]
[]
[]
[null,null,null,null,null,null,null,null,null,null,null,null,null,null,null,null,null,null,null,"請求明細書 (貴社控)"]
[null,"株 式 会 社 種 村 建 設",null,null,null,null,null,null,null,null,null,null,"御中"]
[null,null,null,null,null,null,null,null,null,null,null,null,null,null,null,null,null,null,null,null,null,null,null,null,null,null,null,null,null,null,null,null,null,null,null,null,null,null,null,null,"請求年月日",null,null,null,null,{"$f":"IF(AT4=\"\",\"\",AT4)","v":""},null,null,null,{"$f":"IF(AX96=\"\",\"\",AX96)","v":""},null,null,{"$f":"IF(BA96=\"\",\"\",BA96)","v":""}]
[]
[]
[]
[]
[null,"工事番号",null,null,null,null,{"$f":"IF(G101=\"\",\"\",G101)","v":""},null,null,null,null,null,"工事名",null,null,null,{"$f":"IF(Q101=\"\",\"\",Q101)","v":""},null,null,null,null,null,null,null,null,null,null,null,null,null,null,null,null,null,null,null,null,"業者名",null,null,null,{"$f":"IF(AP101=\"\",\"\",AP101)","v":""}]
[]
[]
[]
[]
[]
[null,"注文番号",null,null,null,null,{"$f":"IF(G107=\"\",\"\",G107)","v":""},null,null,null,null,null,null,null,null,null,null,"月　日",null,null,null,"品　名・内　訳",null,null,null,null,null,null,null,null,null,null,null,null,null,null,null,"数 量",null,null,"単位",null,null,"単価",null,null,null,null,{"$f":"AW15","v":"金額(税抜)"}]
[]
[]
[]
[null,"契約金額",null,null,null,null,{"$f":"IF(G111=\"\",\"\",G111)","v":""},null,null,null,null,null,null,null,null,null,null,{"$f":"IF(R111=\"\",\"\",R111)","v":""},null,{"$f":"IF(T111=\"\",\"\",T111)","v":""},null,{"$f":"IF(V111=\"\",\"\",V111)","v":""},null,{"$f":"IF(X111=\"\",\"\",X111)","v":""},null,{"$f":"IF(Z111=\"\",\"\",Z111)","v":""},null,{"$f":"IF(AB111=\"\",\"\",AB111)","v":""},null,{"$f":"IF(AD111=\"\",\"\",AD111)","v":""},null,{"$f":"IF(AF111=\"\",\"\",AF111)","v":""},null,{"$f":"IF(AH111=\"\",\"\",AH111)","v":""},null,{"$f":"IF(AJ111=\"\",\"\",AJ111)","v":""},null,{"$f":"IF(AL111=\"\",\"\",AL111)","v":""},null,null,{"$f":"IF(AO111=\"\",\"\",AO111)","v":""},null,null,{"$f":"IF(AR111=\"\",\"\",AR111)","v":""},null,null,null,null,{"$f":"IF(AW111=\"\",\"\",AW111)","v":""}]
[]
[]
[]
[null,"増減額",null,null,null,null,{"$f":"IF(G115=\"\",\"\",G115)","v":""},null,null,null,null,null,null,null,null,null,null,{"$f":"IF(R115=\"\",\"\",R115)","v":""},null,{"$f":"IF(T115=\"\",\"\",T115)","v":""},null,{"$f":"IF(V115=\"\",\"\",V115)","v":""},null,{"$f":"IF(X115=\"\",\"\",X115)","v":""},null,{"$f":"IF(Z115=\"\",\"\",Z115)","v":""},null,{"$f":"IF(AB115=\"\",\"\",AB115)","v":""},null,{"$f":"IF(AD115=\"\",\"\",AD115)","v":""},null,{"$f":"IF(AF115=\"\",\"\",AF115)","v":""},null,{"$f":"IF(AH115=\"\",\"\",AH115)","v":""},null,{"$f":"IF(AJ115=\"\",\"\",AJ115)","v":""},null,{"$f":"IF(AL115=\"\",\"\",AL115)","v":""},null,null,{"$f":"IF(AO115=\"\",\"\",AO115)","v":""},null,null,{"$f":"IF(AR115=\"\",\"\",AR115)","v":""},null,null,null,null,{"$f":"IF(AW115=\"\",\"\",AW115)","v":""}]
[]
[]
[]
[null,"前回までの\n請求額",null,null,null,null,{"$f":"IF(G119=\"\",\"\",G119)","v":""},null,null,null,null,null,null,null,null,null,null,{"$f":"IF(R119=\"\",\"\",R119)","v":""},null,{"$f":"IF(T119=\"\",\"\",T119)","v":""},null,{"$f":"IF(V119=\"\",\"\",V119)","v":""},null,{"$f":"IF(X119=\"\",\"\",X119)","v":""},null,{"$f":"IF(Z119=\"\",\"\",Z119)","v":""},null,{"$f":"IF(AB119=\"\",\"\",AB119)","v":""},null,{"$f":"IF(AD119=\"\",\"\",AD119)","v":""},null,{"$f":"IF(AF119=\"\",\"\",AF119)","v":""},null,{"$f":"IF(AH119=\"\",\"\",AH119)","v":""},null,{"$f":"IF(AJ119=\"\",\"\",AJ119)","v":""},null,{"$f":"IF(AL119=\"\",\"\",AL119)","v":""},null,null,{"$f":"IF(AO119=\"\",\"\",AO119)","v":""},null,null,{"$f":"IF(AR119=\"\",\"\",AR119)","v":""},null,null,null,null,{"$f":"IF(AW119=\"\",\"\",AW119)","v":""}]
[]
[]
[]
[null,"今回\n請求額",null,null,{"$f":"IF(E31=\"\",\"\",E31)","v":""},null,{"$f":"IF(G123=\"\",\"\",G123)","v":""},null,null,null,null,null,null,null,null,null,null,{"$f":"IF(R123=\"\",\"\",R123)","v":""},null,{"$f":"IF(T123=\"\",\"\",T123)","v":""},null,{"$f":"IF(V123=\"\",\"\",V123)","v":""},null,{"$f":"IF(X123=\"\",\"\",X123)","v":""},null,{"$f":"IF(Z123=\"\",\"\",Z123)","v":""},null,{"$f":"IF(AB123=\"\",\"\",AB123)","v":""},null,{"$f":"IF(AD123=\"\",\"\",AD123)","v":""},null,{"$f":"IF(AF123=\"\",\"\",AF123)","v":""},null,{"$f":"IF(AH123=\"\",\"\",AH123)","v":""},null,{"$f":"IF(AJ123=\"\",\"\",AJ123)","v":""},null,{"$f":"IF(AL123=\"\",\"\",AL123)","v":""},null,null,{"$f":"IF(AO123=\"\",\"\",AO123)","v":""},null,null,{"$f":"IF(AR123=\"\",\"\",AR123)","v":""},null,null,null,null,{"$f":"IF(AW123=\"\",\"\",AW123)","v":""}]
[]
[]
[]
[null,"差引残高",null,null,null,null,{"$f":"IF(G203=\"\",\"\",G203+G207-G211-G215)","v":""},null,null,null,null,null,null,null,null,null,null,{"$f":"IF(R127=\"\",\"\",R127)","v":""},null,{"$f":"IF(T127=\"\",\"\",T127)","v":""},null,{"$f":"IF(V127=\"\",\"\",V127)","v":""},null,{"$f":"IF(X127=\"\",\"\",X127)","v":""},null,{"$f":"IF(Z127=\"\",\"\",Z127)","v":""},null,{"$f":"IF(AB127=\"\",\"\",AB127)","v":""},null,{"$f":"IF(AD127=\"\",\"\",AD127)","v":""},null,{"$f":"IF(AF127=\"\",\"\",AF127)","v":""},null,{"$f":"IF(AH127=\"\",\"\",AH127)","v":""},null,{"$f":"IF(AJ127=\"\",\"\",AJ127)","v":""},null,{"$f":"IF(AL127=\"\",\"\",AL127)","v":""},null,null,{"$f":"IF(AO127=\"\",\"\",AO127)","v":""},null,null,{"$f":"IF(AR127=\"\",\"\",AR127)","v":""},null,null,null,null,{"$f":"IF(AW127=\"\",\"\",AW127)","v":""}]
[]
[]
[]
[null,null,null,null,null,null,null,null,null,null,null,null,null,null,null,null,null,{"$f":"IF(R131=\"\",\"\",R131)","v":""},null,{"$f":"IF(T131=\"\",\"\",T131)","v":""},null,{"$f":"IF(V131=\"\",\"\",V131)","v":""},null,{"$f":"IF(X131=\"\",\"\",X131)","v":""},null,{"$f":"IF(Z131=\"\",\"\",Z131)","v":""},null,{"$f":"IF(AB131=\"\",\"\",AB131)","v":""},null,{"$f":"IF(AD131=\"\",\"\",AD131)","v":""},null,{"$f":"IF(AF131=\"\",\"\",AF131)","v":""},null,{"$f":"IF(AH131=\"\",\"\",AH131)","v":""},null,{"$f":"IF(AJ131=\"\",\"\",AJ131)","v":""},null,{"$f":"IF(AL131=\"\",\"\",AL131)","v":""},null,null,{"$f":"IF(AO131=\"\",\"\",AO131)","v":""},null,null,{"$f":"IF(AR131=\"\",\"\",AR131)","v":""},null,null,null,null,{"$f":"IF(AW131=\"\",\"\",AW131)","v":""}]
[]
[]
[]
[null,null,null,null,null,null,null,null,null,null,null,null,null,null,null,null,null,{"$f":"IF(R135=\"\",\"\",R135)","v":""},null,{"$f":"IF(T135=\"\",\"\",T135)","v":""},null,{"$f":"IF(V135=\"\",\"\",V135)","v":""},null,{"$f":"IF(X135=\"\",\"\",X135)","v":""},null,{"$f":"IF(Z135=\"\",\"\",Z135)","v":""},null,{"$f":"IF(AB135=\"\",\"\",AB135)","v":""},null,{"$f":"IF(AD135=\"\",\"\",AD135)","v":""},null,{"$f":"IF(AF135=\"\",\"\",AF135)","v":""},null,{"$f":"IF(AH135=\"\",\"\",AH135)","v":""},null,{"$f":"IF(AJ135=\"\",\"\",AJ135)","v":""},null,{"$f":"IF(AL135=\"\",\"\",AL135)","v":""},null,null,{"$f":"IF(AO135=\"\",\"\",AO135)","v":""},null,null,{"$f":"IF(AR135=\"\",\"\",AR135)","v":""},null,null,null,null,{"$f":"IF(AW135=\"\",\"\",AW135)","v":""}]
[]
[]
[]
[null,null,null,null,null,null,null,null,null,null,null,null,null,null,null,null,null,{"$f":"IF(R139=\"\",\"\",R139)","v":""},null,{"$f":"IF(T139=\"\",\"\",T139)","v":""},null,{"$f":"IF(V139=\"\",\"\",V139)","v":""},null,{"$f":"IF(X139=\"\",\"\",X139)","v":""},null,{"$f":"IF(Z139=\"\",\"\",Z139)","v":""},null,{"$f":"IF(AB139=\"\",\"\",AB139)","v":""},null,{"$f":"IF(AD139=\"\",\"\",AD139)","v":""},null,{"$f":"IF(AF139=\"\",\"\",AF139)","v":""},null,{"$f":"IF(AH139=\"\",\"\",AH139)","v":""},null,{"$f":"IF(AJ139=\"\",\"\",AJ139)","v":""},null,{"$f":"IF(AL139=\"\",\"\",AL139)","v":""},null,null,{"$f":"IF(AO139=\"\",\"\",AO139)","v":""},null,null,{"$f":"IF(AR139=\"\",\"\",AR139)","v":""},null,null,null,null,{"$f":"IF(AW139=\"\",\"\",AW139)","v":""}]
[]
[]
[]
[null,null,null,null,null,null,null,null,null,null,null,null,null,null,null,null,null,{"$f":"IF(R143=\"\",\"\",R143)","v":""},null,{"$f":"IF(T143=\"\",\"\",T143)","v":""},null,{"$f":"IF(V143=\"\",\"\",V143)","v":""},null,{"$f":"IF(X143=\"\",\"\",X143)","v":""},null,{"$f":"IF(Z143=\"\",\"\",Z143)","v":""},null,{"$f":"IF(AB143=\"\",\"\",AB143)","v":""},null,{"$f":"IF(AD143=\"\",\"\",AD143)","v":""},null,{"$f":"IF(AF143=\"\",\"\",AF143)","v":""},null,{"$f":"IF(AH143=\"\",\"\",AH143)","v":""},null,{"$f":"IF(AJ143=\"\",\"\",AJ143)","v":""},null,{"$f":"IF(AL143=\"\",\"\",AL143)","v":""},null,null,{"$f":"IF(AO143=\"\",\"\",AO143)","v":""},null,null,{"$f":"IF(AR143=\"\",\"\",AR143)","v":""},null,null,null,null,{"$f":"IF(AW143=\"\",\"\",AW143)","v":""}]
[]
[]
[]
[null,null,null,null,null,null,null,null,null,null,null,null,null,null,null,null,null,{"$f":"IF(R147=\"\",\"\",R147)","v":""},null,{"$f":"IF(T147=\"\",\"\",T147)","v":""},null,{"$f":"IF(V147=\"\",\"\",V147)","v":""},null,{"$f":"IF(X147=\"\",\"\",X147)","v":""},null,{"$f":"IF(Z147=\"\",\"\",Z147)","v":""},null,{"$f":"IF(AB147=\"\",\"\",AB147)","v":""},null,{"$f":"IF(AD147=\"\",\"\",AD147)","v":""},null,{"$f":"IF(AF147=\"\",\"\",AF147)","v":""},null,{"$f":"IF(AH147=\"\",\"\",AH147)","v":""},null,{"$f":"IF(AJ147=\"\",\"\",AJ147)","v":""},null,{"$f":"IF(AL147=\"\",\"\",AL147)","v":""},null,null,{"$f":"IF(AO147=\"\",\"\",AO147)","v":""},null,null,{"$f":"IF(AR147=\"\",\"\",AR147)","v":""},null,null,null,null,{"$f":"IF(AW147=\"\",\"\",AW147)","v":""}]
[]
[]
[]
[null,null,null,null,null,null,null,null,null,null,null,null,null,null,null,null,null,{"$f":"IF(R151=\"\",\"\",R151)","v":""},null,{"$f":"IF(T151=\"\",\"\",T151)","v":""},null,{"$f":"IF(V151=\"\",\"\",V151)","v":""},null,{"$f":"IF(X151=\"\",\"\",X151)","v":""},null,{"$f":"IF(Z151=\"\",\"\",Z151)","v":""},null,{"$f":"IF(AB151=\"\",\"\",AB151)","v":""},null,{"$f":"IF(AD151=\"\",\"\",AD151)","v":""},null,{"$f":"IF(AF151=\"\",\"\",AF151)","v":""},null,{"$f":"IF(AH151=\"\",\"\",AH151)","v":""},null,{"$f":"IF(AJ151=\"\",\"\",AJ151)","v":""},null,{"$f":"IF(AL151=\"\",\"\",AL151)","v":""},null,null,{"$f":"IF(AO151=\"\",\"\",AO151)","v":""},null,null,{"$f":"IF(AR151=\"\",\"\",AR151)","v":""},null,null,null,null,{"$f":"IF(AW151=\"\",\"\",AW151)","v":""}]
[]
[]
[]
[null,null,null,null,null,null,null,null,null,null,null,null,null,null,null,null,null,{"$f":"IF(R155=\"\",\"\",R155)","v":""},null,{"$f":"IF(T155=\"\",\"\",T155)","v":""},null,{"$f":"IF(V155=\"\",\"\",V155)","v":""},null,{"$f":"IF(X155=\"\",\"\",X155)","v":""},null,{"$f":"IF(Z155=\"\",\"\",Z155)","v":""},null,{"$f":"IF(AB155=\"\",\"\",AB155)","v":""},null,{"$f":"IF(AD155=\"\",\"\",AD155)","v":""},null,{"$f":"IF(AF155=\"\",\"\",AF155)","v":""},null,{"$f":"IF(AH155=\"\",\"\",AH155)","v":""},null,{"$f":"IF(AJ155=\"\",\"\",AJ155)","v":""},null,{"$f":"IF(AL155=\"\",\"\",AL155)","v":""},null,null,{"$f":"IF(AO155=\"\",\"\",AO155)","v":""},null,null,{"$f":"IF(AR155=\"\",\"\",AR155)","v":""},null,null,null,null,{"$f":"IF(AW155=\"\",\"\",AW155)","v":""}]
[]
[]
[]
[null,null,null,null,null,null,null,null,null,null,null,null,null,null,null,null,null,{"$f":"IF(R159=\"\",\"\",R159)","v":""},null,{"$f":"IF(T159=\"\",\"\",T159)","v":""},null,{"$f":"IF(V159=\"\",\"\",V159)","v":""},null,{"$f":"IF(X159=\"\",\"\",X159)","v":""},null,{"$f":"IF(Z159=\"\",\"\",Z159)","v":""},null,{"$f":"IF(AB159=\"\",\"\",AB159)","v":""},null,{"$f":"IF(AD159=\"\",\"\",AD159)","v":""},null,{"$f":"IF(AF159=\"\",\"\",AF159)","v":""},null,{"$f":"IF(AH159=\"\",\"\",AH159)","v":""},null,{"$f":"IF(AJ159=\"\",\"\",AJ159)","v":""},null,{"$f":"IF(AL159=\"\",\"\",AL159)","v":""},null,null,{"$f":"IF(AO159=\"\",\"\",AO159)","v":""},null,null,{"$f":"IF(AR159=\"\",\"\",AR159)","v":""},null,null,null,null,{"$f":"IF(AW159=\"\",\"\",AW159)","v":""}]
[]
[]
[]
[null,null,null,null,null,null,null,null,null,null,null,null,null,null,null,null,null,{"$f":"IF(R163=\"\",\"\",R163)","v":""},null,{"$f":"IF(T163=\"\",\"\",T163)","v":""},null,{"$f":"IF(V163=\"\",\"\",V163)","v":""},null,{"$f":"IF(X163=\"\",\"\",X163)","v":""},null,{"$f":"IF(Z163=\"\",\"\",Z163)","v":""},null,{"$f":"IF(AB163=\"\",\"\",AB163)","v":""},null,{"$f":"IF(AD163=\"\",\"\",AD163)","v":""},null,{"$f":"IF(AF163=\"\",\"\",AF163)","v":""},null,{"$f":"IF(AH163=\"\",\"\",AH163)","v":""},null,{"$f":"IF(AJ163=\"\",\"\",AJ163)","v":""},null,{"$f":"IF(AL163=\"\",\"\",AL163)","v":""},null,null,{"$f":"IF(AO163=\"\",\"\",AO163)","v":""},null,null,{"$f":"IF(AR163=\"\",\"\",AR163)","v":""},null,null,null,null,{"$f":"IF(AW163=\"\",\"\",AW163)","v":""}]
[]
[]
[]
[null,null,null,null,null,null,null,null,null,null,null,null,null,null,null,null,null,{"$f":"IF(R167=\"\",\"\",R167)","v":""},null,{"$f":"IF(T167=\"\",\"\",T167)","v":""},null,{"$f":"IF(V167=\"\",\"\",V167)","v":""},null,{"$f":"IF(X167=\"\",\"\",X167)","v":""},null,{"$f":"IF(Z167=\"\",\"\",Z167)","v":""},null,{"$f":"IF(AB167=\"\",\"\",AB167)","v":""},null,{"$f":"IF(AD167=\"\",\"\",AD167)","v":""},null,{"$f":"IF(AF167=\"\",\"\",AF167)","v":""},null,{"$f":"IF(AH167=\"\",\"\",AH167)","v":""},null,{"$f":"IF(AJ167=\"\",\"\",AJ167)","v":""},null,{"$f":"IF(AL167=\"\",\"\",AL167)","v":""},null,null,{"$f":"IF(AO167=\"\",\"\",AO167)","v":""},null,null,{"$f":"IF(AR167=\"\",\"\",AR167)","v":""},null,null,null,null,{"$f":"IF(AW167=\"\",\"\",AW167)","v":""}]
[]
[]
[]
[null,null,null,null,null,null,null,null,null,null,null,null,null,null,null,null,null,{"$f":"IF(R171=\"\",\"\",R171)","v":""},null,{"$f":"IF(T171=\"\",\"\",T171)","v":""},null,{"$f":"IF(V171=\"\",\"\",V171)","v":""},null,{"$f":"IF(X171=\"\",\"\",X171)","v":""},null,{"$f":"IF(Z171=\"\",\"\",Z171)","v":""},null,{"$f":"IF(AB171=\"\",\"\",AB171)","v":""},null,{"$f":"IF(AD171=\"\",\"\",AD171)","v":""},null,{"$f":"IF(AF171=\"\",\"\",AF171)","v":""},null,{"$f":"IF(AH171=\"\",\"\",AH171)","v":""},null,{"$f":"IF(AJ171=\"\",\"\",AJ171)","v":""},null,{"$f":"IF(AL171=\"\",\"\",AL171)","v":""},null,null,{"$f":"IF(AO171=\"\",\"\",AO171)","v":""},null,null,{"$f":"IF(AR171=\"\",\"\",AR171)","v":""},null,null,null,null,{"$f":"IF(AW171=\"\",\"\",AW171)","v":""}]
[]
[]
[]
[null,null,null,null,null,null,null,null,null,null,null,null,null,null,null,null,null,null,null,null,null,null,null,null,null,null,null,null,null,null,null,null,null,null,null,null,null,{"$f":"AL175","v":"金額(税抜)"},null,null,null,null,null,null,null,null,null,null,{"$f":"AW83","v":""}]
[]
[]
[]
[]
[null,null,null,null,null,null,null,null,null,null,null,null,null,null,null,null,null,null,null,null,null,null,null,null,null,null,null,null,null,null,null,null,null,null,null,null,null,{"$f":"AL180","v":"消費税"},null,null,null,null,null,"税率",null,null,"税調",null,{"$f":"AW88","v":""}]
[]
[null,null,null,null,null,null,null,null,null,null,null,null,null,null,null,null,null,null,null,null,null,null,null,null,null,null,null,null,null,null,null,null,null,null,null,null,null,null,null,null,null,null,null,{"$f":"AR90","v":0},null,{"$f":"AT90","v":""}]

{"sheet":"細2-8","index":23,"n_rows":274,"n_cols":53,"rows_kept":274,"cut":false,"hidden":false,"merged":[[179,37,182,42],[179,43,180,45],[179,46,180,47],[181,43,182,44],[181,45,182,45],[181,46,182,47],[271,37,274,42],[271,43,272,45],[273,43,274,44],[273,45,274,45],[273,46,274,47],[271,46,272,47],[187,40,189,44],[187,45,189,48],[179,48,182,54],[198,48,201,54],[214,48,217,54],[222,40,225,42],[222,43,225,47],[254,37,257,39],[246,40,249,42],[246,43,249,47],[246,48,249,54],[254,48,257,54],[3,49,5,51],[3,52,5,54],[8,37,11,40],[8,41,11,54],[1,19,4,32],[2,1,5,11],[2,12,5,13],[8,1,11,5],[8,6,11,11],[8,12,11,15],[8,16,11,35],[3,40,5,44],[3,45,5,48],[14,43,17,47],[14,48,17,54],[14,1,17,5],[14,6,17,15],[14,17,17,20],[14,21,17,36],[18,1,21,5],[18,6,21,15],[18,17,21,18],[14,37,17,39],[14,40,17,42],[18,21,21,36],[18,37,21,39],[18,40,21,42],[18,43,21,47],[26,1,29,5],[26,6,29,15],[26,17,29,18],[26,19,29,20],[18,48,21,54],[22,1,25,5],[22,6,25,15],[22,17,25,18],[22,19,25,20],[22,21,25,36],[26,21,29,36],[26,37,29,39],[26,40,29,42],[26,43,29,47],[22,37,25,39],[22,40,25,42],[22,43,25,47],[18,19,21,20],[34,48,37,54],[26,48,29,54],[30,1,33,3],[30,4,33,5],[30,6,33,15],[30,17,33,18],[30,19,33,20],[22,48,25,54],[38,17,41,18],[38,19,41,20],[38,21,41,36],[38,37,41,39],[30,48,33,54],[34,1,37,5],[34,6,37,15],[34,17,37,18],[34,19,37,20],[34,21,37,36],[38,40,41,42],[38,43,41,47],[38,48,41,54],[30,21,33,36],[30,37,33,39],[30,40,33,42],[30,43,33,47],[34,37,37,39],[34,40,37,42],[34,43,37,47],[46,40,49,42],[46,43,49,47],[46,21,49,36],[46,37,49,39],[54,40,57,42],[54,43,57,47],[42,17,45,18],[42,19,45,20],[42,21,45,36],[42,37,45,39],[42,40,45,42],[42,43,45,47],[42,48,45,54],[46,48,49,54],[50,17,53,18],[50,19,53,20],[50,21,53,36],[50,37,53,39],[50,40,53,42],[50,43,53,47],[50,48,53,54],[46,17,49,18],[46,19,49,20],[58,17,61,18],[58,19,61,20],[58,21,61,36],[58,37,61,39],[58,40,61,42],[58,43,61,47],[58,48,61,54],[54,17,57,18],[54,19,57,20],[54,21,57,36],[54,37,57,39],[54,48,57,54],[62,40,65,42],[62,43,65,47],[62,21,65,36],[62,37,65,39],[70,40,73,42],[70,43,73,47],[70,48,73,54],[62,48,65,54],[66,17,69,18],[66,19,69,20],[66,21,69,36],[66,37,69,39],[66,40,69,42],[66,43,69,47],[66,48,69,54],[62,17,65,18],[62,19,65,20],[74,17,77,18],[74,19,77,20],[74,21,77,36],[74,37,77,39],[74,40,77,42],[74,43,77,47],[74,48,77,54],[70,17,73,18],[70,19,73,20],[70,21,73,36],[70,37,73,39],[78,48,81,54],[82,37,85,47],[82,48,85,54],[78,37,81,39],[78,40,81,42],[85,11,90,16],[85,17,90,25],[78,43,81,47],[83,26,84,30],[83,31,84,35],[78,17,81,18],[78,19,81,20],[78,21,81,36],[85,26,90,30],[85,31,90,35],[83,1,84,4],[83,5,84,10],[83,11,84,16],[83,17,84,25],[85,1,90,4],[85,5,90,10],[87,48,90,54],[95,49,97,51],[95,52,97,54],[95,40,97,44],[95,45,97,48],[87,37,90,42],[87,43,88,45],[89,43,90,44],[89,45,90,45],[89,46,90,47],[87,46,88,47],[100,1,103,5],[100,6,103,11],[100,12,103,15],[100,16,103,35],[100,37,103,40],[100,41,103,54],[93,19,96,32],[94,1,97,11],[94,12,97,13],[106,37,109,39],[106,40,109,42],[106,43,109,47],[106,48,109,54],[106,1,109,5],[106,6,109,15],[106,17,109,20],[106,21,109,36],[110,21,113,36],[110,37,113,39],[110,40,113,42],[110,43,113,47],[110,1,113,5],[110,6,113,15],[110,17,113,18],[110,19,113,20],[110,48,113,54],[114,1,117,5],[114,6,117,15],[114,17,117,18],[114,19,117,20],[114,21,117,36],[114,37,117,39],[114,40,117,42],[114,43,117,47],[114,48,117,54],[118,21,121,36],[118,37,121,39],[118,40,121,42],[118,43,121,47],[118,1,121,5],[118,6,121,15],[118,17,121,18],[118,19,121,20],[118,48,121,54],[122,48,125,54],[126,1,129,5],[126,6,129,15],[126,17,129,18],[126,19,129,20],[126,21,129,36],[126,37,129,39],[126,40,129,42],[126,43,129,47],[126,48,129,54],[122,1,125,3],[122,4,125,5],[122,6,125,15],[122,17,125,18],[122,19,125,20],[122,21,125,36],[122,37,125,39],[122,40,125,42],[122,43,125,47],[130,40,133,42],[130,43,133,47],[130,21,133,36],[130,37,133,39],[138,40,141,42],[138,43,141,47],[138,48,141,54],[130,48,133,54],[134,17,137,18],[134,19,137,20],[134,21,137,36],[134,37,137,39],[134,40,137,42],[134,43,137,47],[134,48,137,54],[130,17,133,18],[130,19,133,20],[142,17,145,18],[142,19,145,20],[142,21,145,36],[142,37,145,39],[142,40,145,42],[142,43,145,47],[142,48,145,54],[138,17,141,18],[138,19,141,20],[138,21,141,36],[138,37,141,39],[154,48,157,54],[146,48,149,54],[150,17,153,18],[150,19,153,20],[150,21,153,36],[150,37,153,39],[150,40,153,42],[150,43,153,47],[150,48,153,54],[146,17,149,18],[146,19,149,20],[154,17,157,18],[154,19,157,20],[154,21,157,36],[154,37,157,39],[146,40,149,42],[146,43,149,47],[146,21,149,36],[146,37,149,39],[154,40,157,42],[154,43,157,47],[174,48,177,54],[170,17,173,18],[170,19,173,20],[158,17,161,18],[158,19,161,20],[158,21,161,36],[158,37,161,39],[158,40,161,42],[158,43,161,47],[158,48,161,54],[170,21,173,36],[170,37,173,39],[170,43,173,47],[185,19,188,32],[186,1,189,11],[186,12,189,13],[192,37,195,40],[192,41,195,54],[162,40,165,42],[162,43,165,47],[162,21,165,36],[162,37,165,39],[162,48,165,54],[166,17,169,18],[166,19,169,20],[166,21,169,36],[166,37,169,39],[166,40,169,42],[166,43,169,47],[166,48,169,54],[162,17,165,18],[162,19,165,20],[187,49,189,51],[187,52,189,54],[170,40,173,42],[170,48,173,54],[174,37,177,47],[202,21,205,36],[202,37,205,39],[202,40,205,42],[202,43,205,47],[202,1,205,5],[202,6,205,15],[202,17,205,18],[202,19,205,20],[202,48,205,54],[198,1,201,5],[198,6,201,15],[198,17,201,20],[198,21,201,36],[198,37,201,39],[198,40,201,42],[198,43,201,47],[192,1,195,5],[192,6,195,11],[192,12,195,15],[192,16,195,35],[206,1,209,5],[206,6,209,15],[206,17,209,18],[206,19,209,20],[206,21,209,36],[206,37,209,39],[206,40,209,42],[206,43,209,47],[206,48,209,54],[210,21,213,36],[210,37,213,39],[210,40,213,42],[210,43,213,47],[210,1,213,5],[210,6,213,15],[210,17,213,18],[210,19,213,20],[210,48,213,54],[218,1,221,5],[218,6,221,15],[218,17,221,18],[218,19,221,20],[218,21,221,36],[218,37,221,39],[218,40,221,42],[218,43,221,47],[218,48,221,54],[214,1,217,3],[214,4,217,5],[214,6,217,15],[214,17,217,18],[214,19,217,20],[214,21,217,36],[214,37,217,39],[214,40,217,42],[214,43,217,47],[222,21,225,36],[222,37,225,39],[230,40,233,42],[230,43,233,47],[230,48,233,54],[222,48,225,54],[226,17,229,18],[226,19,229,20],[226,21,229,36],[226,37,229,39],[226,40,229,42],[226,43,229,47],[226,48,229,54],[222,17,225,18],[222,19,225,20],[234,17,237,18],[234,19,237,20],[234,21,237,36],[234,37,237,39],[234,40,237,42],[234,43,237,47],[234,48,237,54],[230,17,233,18],[230,19,233,20],[230,21,233,36],[230,37,233,39],[242,17,245,18],[242,19,245,20],[242,21,245,36],[242,37,245,39],[242,40,245,42],[242,43,245,47],[242,48,245,54],[238,17,241,18],[238,19,241,20],[238,40,241,42],[238,43,241,47],[238,21,241,36],[238,37,241,39],[238,48,241,54],[250,17,253,18],[250,19,253,20],[250,21,253,36],[250,37,253,39],[250,40,253,42],[250,43,253,47],[250,48,253,54],[246,17,249,18],[246,19,249,20],[246,21,249,36],[246,37,249,39],[258,17,261,18],[258,19,261,20],[258,21,261,36],[258,37,261,39],[258,40,261,42],[258,43,261,47],[258,48,261,54],[254,17,257,18],[254,19,257,20],[254,40,257,42],[254,43,257,47],[254,21,257,36],[271,48,274,54],[262,40,265,42],[262,43,265,47],[262,48,265,54],[266,37,269,47],[266,48,269,54],[262,17,265,18],[262,19,265,20],[262,21,265,36],[262,37,265,39]]}
[]
[null,null,null,null,null,null,null,null,null,null,null,null,null,null,null,null,null,null,null,"請求書明細書 (正)"]
[null,"株 式 会 社 種 村 建 設",null,null,null,null,null,null,null,null,null,null,"御中"]
[null,null,null,null,null,null,null,null,null,null,null,null,null,null,null,null,null,null,null,null,null,null,null,null,null,null,null,null,null,null,null,null,null,null,null,null,null,null,null,null,"請求年月日",null,null,null,null,{"$f":"IF(年=\"\",\"\",年)","v":""},null,null,null,{"$f":"IF(月=\"\",\"\",月)","v":""},null,null,{"$f":"IF(日=\"\",\"\",日)","v":""}]
[]
[]
[]
[]
[null,"工事番号",null,null,null,null,null,null,null,null,null,null,"工事名",null,null,null,null,null,null,null,null,null,null,null,null,null,null,null,null,null,null,null,null,null,null,null,null,"業者名",null,null,null,{"$f":"IF(社名=\"\",\"\",社名)","v":""}]
[]
[]
[]
[]
[]
[null,"注文番号",null,null,null,null,null,null,null,null,null,null,null,null,null,null,null,"月　日",null,null,null,"品　名・内　訳",null,null,null,null,null,null,null,null,null,null,null,null,null,null,null,"数 量",null,null,"単位",null,null,"単価",null,null,null,null,{"$f":"表紙①!P35","v":"金額(税抜)"}]
[]
[]
[]
[null,"契約金額",null,null,null,null,null,null,null,null,null,null,null,null,null,null,null,null,null,null,null,null,null,null,null,null,null,null,null,null,null,null,null,null,null,null,null,null,null,null,null,null,null,null,null,null,null,null,{"$f":"IF(V19=\"\",\"\",ROUND(AL19*AR19,0))","v":""}]
[]
[]
[]
[null,"増減額",null,null,null,null,null,null,null,null,null,null,null,null,null,null,null,null,null,null,null,null,null,null,null,null,null,null,null,null,null,null,null,null,null,null,null,null,null,null,null,null,null,null,null,null,null,null,{"$f":"IF(V23=\"\",\"\",ROUND(AL23*AR23,0))","v":""}]
[]
[]
[]
[null,"前回までの\n請求額",null,null,null,null,null,null,null,null,null,null,null,null,null,null,null,null,null,null,null,null,null,null,null,null,null,null,null,null,null,null,null,null,null,null,null,null,null,null,null,null,null,null,null,null,null,null,{"$f":"IF(V27=\"\",\"\",ROUND(AL27*AR27,0))","v":""}]
[]
[]
[]
[null,"今回\n請求額",null,null,null,null,null,null,null,null,null,null,null,null,null,null,null,null,null,null,null,null,null,null,null,null,null,null,null,null,null,null,null,null,null,null,null,null,null,null,null,null,null,null,null,null,null,null,{"$f":"IF(V31=\"\",\"\",ROUND(AL31*AR31,0))","v":""}]
[]
[]
[]
[null,"差引残高",null,null,null,null,{"$f":"IF(G19=\"\",\"\",G19+G23-G27-G31)","v":""},null,null,null,null,null,null,null,null,null,null,null,null,null,null,null,null,null,null,null,null,null,null,null,null,null,null,null,null,null,null,null,null,null,null,null,null,null,null,null,null,null,{"$f":"IF(V35=\"\",\"\",ROUND(AL35*AR35,0))","v":""}]
[]
[]
[]
[null,null,null,null,null,null,null,null,null,null,null,null,null,null,null,null,null,null,null,null,null,null,null,null,null,null,null,null,null,null,null,null,null,null,null,null,null,null,null,null,null,null,null,null,null,null,null,null,{"$f":"IF(V39=\"\",\"\",ROUND(AL39*AR39,0))","v":""}]
[]
[]
[]
[null,null,null,null,null,null,null,null,null,null,null,null,null,null,null,null,null,null,null,null,null,null,null,null,null,null,null,null,null,null,null,null,null,null,null,null,null,null,null,null,null,null,null,null,null,null,null,null,{"$f":"IF(V43=\"\",\"\",ROUND(AL43*AR43,0))","v":""}]
[]
[]
[]
[null,null,null,null,null,null,null,null,null,null,null,null,null,null,null,null,null,null,null,null,null,null,null,null,null,null,null,null,null,null,null,null,null,null,null,null,null,null,null,null,null,null,null,null,null,null,null,null,{"$f":"IF(V47=\"\",\"\",ROUND(AL47*AR47,0))","v":""}]
[]
[]
[]
[null,null,null,null,null,null,null,null,null,null,null,null,null,null,null,null,null,null,null,null,null,null,null,null,null,null,null,null,null,null,null,null,null,null,null,null,null,null,null,null,null,null,null,null,null,null,null,null,{"$f":"IF(V51=\"\",\"\",ROUND(AL51*AR51,0))","v":""}]
[]
[]
[]
[null,null,null,null,null,null,null,null,null,null,null,null,null,null,null,null,null,null,null,null,null,null,null,null,null,null,null,null,null,null,null,null,null,null,null,null,null,null,null,null,null,null,null,null,null,null,null,null,{"$f":"IF(V55=\"\",\"\",ROUND(AL55*AR55,0))","v":""}]
[]
[]
[]
[null,null,null,null,null,null,null,null,null,null,null,null,null,null,null,null,null,null,null,null,null,null,null,null,null,null,null,null,null,null,null,null,null,null,null,null,null,null,null,null,null,null,null,null,null,null,null,null,{"$f":"IF(V59=\"\",\"\",ROUND(AL59*AR59,0))","v":""}]
[]
[]
[]
[null,null,null,null,null,null,null,null,null,null,null,null,null,null,null,null,null,null,null,null,null,null,null,null,null,null,null,null,null,null,null,null,null,null,null,null,null,null,null,null,null,null,null,null,null,null,null,null,{"$f":"IF(V63=\"\",\"\",ROUND(AL63*AR63,0))","v":""}]
[]
[]
[]
[null,null,null,null,null,null,null,null,null,null,null,null,null,null,null,null,null,null,null,null,null,null,null,null,null,null,null,null,null,null,null,null,null,null,null,null,null,null,null,null,null,null,null,null,null,null,null,null,{"$f":"IF(V67=\"\",\"\",ROUND(AL67*AR67,0))","v":""}]
[]
[]
[]
[null,null,null,null,null,null,null,null,null,null,null,null,null,null,null,null,null,null,null,null,null,null,null,null,null,null,null,null,null,null,null,null,null,null,null,null,null,null,null,null,null,null,null,null,null,null,null,null,{"$f":"IF(V71=\"\",\"\",ROUND(AL71*AR71,0))","v":""}]
[]
[]
[]
[null,null,null,null,null,null,null,null,null,null,null,null,null,null,null,null,null,null,null,null,null,null,null,null,null,null,null,null,null,null,null,null,null,null,null,null,null,null,null,null,null,null,null,null,null,null,null,null,{"$f":"IF(V75=\"\",\"\",ROUND(AL75*AR75,0))","v":""}]
[]
[]
[]
[null,null,null,null,null,null,null,null,null,null,null,null,null,null,null,null,null,null,null,null,null,null,null,null,null,null,null,null,null,null,null,null,null,null,null,null,null,null,null,null,null,null,null,null,null,null,null,null,{"$f":"IF(V79=\"\",\"\",ROUND(AL79*AR79,0))","v":""}]
[]
[]
[]
[null,null,null,null,null,null,null,null,null,null,null,null,null,null,null,null,null,null,null,null,null,null,null,null,null,null,null,null,null,null,null,null,null,null,null,null,null,"金額(税抜)",null,null,null,null,null,null,null,null,null,null,{"$f":"IF(AW19=\"\",\"\",SUM(AW19:AW79))","v":""}]
[null,"社長",null,null,null,"専務",null,null,null,null,null,"常務",null,null,null,null,null,"部長･工場長",null,null,null,null,null,null,null,null,"担当者",null,null,null,null,"受付"]
[]
[]
[]
[null,null,null,null,null,null,null,null,null,null,null,null,null,null,null,null,null,null,null,null,null,null,null,null,null,null,null,null,null,null,null,null,null,null,null,null,null,"消費税",null,null,null,null,null,"税率",null,null,"税調",null,{"$f":"IF(AW83=\"\",\"\",IF(AR90=\"\",\"\",IF(AR90=8.1,ROUND(AW83*8/100,0)+AU90,ROUND(AW83*AR90/100,0)+AU90)))","v":""}]
[]
[null,null,null,null,null,null,null,null,null,null,null,null,null,null,null,null,null,null,null,null,null,null,null,null,null,null,null,null,null,null,null,null,null,null,null,null,null,null,null,null,null,null,null,null,null,{"$f":"IF(AR90=\"\",\"\",IF(AR90=8.1,\"旧\",IF(AR90=8,\"軽\",IF(AR90=0,\"非\",\"\"))))","v":""}]
[]
[]
[]
[null,null,null,null,null,null,null,null,null,null,null,null,null,null,null,null,null,null,null,"請求明細書 (現場控)"]
[null,"株 式 会 社 種 村 建 設",null,null,null,null,null,null,null,null,null,null,"御中"]
[null,null,null,null,null,null,null,null,null,null,null,null,null,null,null,null,null,null,null,null,null,null,null,null,null,null,null,null,null,null,null,null,null,null,null,null,null,null,null,null,"請求年月日",null,null,null,null,{"$f":"IF(AT4=\"\",\"\",AT4)","v":""},null,null,null,{"$f":"IF(AX4=\"\",\"\",AX4)","v":""},null,null,{"$f":"IF(BA4=\"\",\"\",BA4)","v":""}]
[]
[]
[]
[]
[null,"工事番号",null,null,null,null,{"$f":"IF(G9=\"\",\"\",G9)","v":""},null,null,null,null,null,"工事名",null,null,null,{"$f":"IF(Q9=\"\",\"\",Q9)","v":""},null,null,null,null,null,null,null,null,null,null,null,null,null,null,null,null,null,null,null,null,"業者名",null,null,null,{"$f":"IF(AP9=\"\",\"\",AP9)","v":""}]
[]
[]
[]
[]
[]
[null,"注文番号",null,null,null,null,{"$f":"IF(G15=\"\",\"\",G15)","v":""},null,null,null,null,null,null,null,null,null,null,"月　日",null,null,null,"品　名・内　訳",null,null,null,null,null,null,null,null,null,null,null,null,null,null,null,"数 量",null,null,"単位",null,null,"単価",null,null,null,null,{"$f":"AW15","v":"金額(税抜)"}]
[]
[]
[]
[null,"契約金額",null,null,null,null,{"$f":"IF(G19=\"\",\"\",G19)","v":""},null,null,null,null,null,null,null,null,null,null,{"$f":"IF(R19=\"\",\"\",R19)","v":""},null,{"$f":"IF(T19=\"\",\"\",T19)","v":""},null,{"$f":"IF(V19=\"\",\"\",V19)","v":""},null,{"$f":"IF(X19=\"\",\"\",X19)","v":""},null,{"$f":"IF(Z19=\"\",\"\",Z19)","v":""},null,{"$f":"IF(AB19=\"\",\"\",AB19)","v":""},null,{"$f":"IF(AD19=\"\",\"\",AD19)","v":""},null,{"$f":"IF(AF19=\"\",\"\",AF19)","v":""},null,{"$f":"IF(AH19=\"\",\"\",AH19)","v":""},null,{"$f":"IF(AJ19=\"\",\"\",AJ19)","v":""},null,{"$f":"IF(AL19=\"\",\"\",AL19)","v":""},null,null,{"$f":"IF(AO19=\"\",\"\",AO19)","v":""},null,null,{"$f":"IF(AR19=\"\",\"\",AR19)","v":""},null,null,null,null,{"$f":"IF(AW19=\"\",\"\",AW19)","v":""}]
[]
[]
[]
[null,"増減額",null,null,null,null,{"$f":"IF(G23=\"\",\"\",G23)","v":""},null,null,null,null,null,null,null,null,null,null,{"$f":"IF(R23=\"\",\"\",R23)","v":""},null,{"$f":"IF(T23=\"\",\"\",T23)","v":""},null,{"$f":"IF(V23=\"\",\"\",V23)","v":""},null,{"$f":"IF(X23=\"\",\"\",X23)","v":""},null,{"$f":"IF(Z23=\"\",\"\",Z23)","v":""},null,{"$f":"IF(AB23=\"\",\"\",AB23)","v":""},null,{"$f":"IF(AD23=\"\",\"\",AD23)","v":""},null,{"$f":"IF(AF23=\"\",\"\",AF23)","v":""},null,{"$f":"IF(AH23=\"\",\"\",AH23)","v":""},null,{"$f":"IF(AJ23=\"\",\"\",AJ23)","v":""},null,{"$f":"IF(AL23=\"\",\"\",AL23)","v":""},null,null,{"$f":"IF(AO23=\"\",\"\",AO23)","v":""},null,null,{"$f":"IF(AR23=\"\",\"\",AR23)","v":""},null,null,null,null,{"$f":"IF(AW23=\"\",\"\",AW23)","v":""}]
[]
[]
[]
[null,"前回までの\n請求額",null,null,null,null,{"$f":"IF(G27=\"\",\"\",G27)","v":""},null,null,null,null,null,null,null,null,null,null,{"$f":"IF(R27=\"\",\"\",R27)","v":""},null,{"$f":"IF(T27=\"\",\"\",T27)","v":""},null,{"$f":"IF(V27=\"\",\"\",V27)","v":""},null,{"$f":"IF(X27=\"\",\"\",X27)","v":""},null,{"$f":"IF(Z27=\"\",\"\",Z27)","v":""},null,{"$f":"IF(AB27=\"\",\"\",AB27)","v":""},null,{"$f":"IF(AD27=\"\",\"\",AD27)","v":""},null,{"$f":"IF(AF27=\"\",\"\",AF27)","v":""},null,{"$f":"IF(AH27=\"\",\"\",AH27)","v":""},null,{"$f":"IF(AJ27=\"\",\"\",AJ27)","v":""},null,{"$f":"IF(AL27=\"\",\"\",AL27)","v":""},null,null,{"$f":"IF(AO27=\"\",\"\",AO27)","v":""},null,null,{"$f":"IF(AR27=\"\",\"\",AR27)","v":""},null,null,null,null,{"$f":"IF(AW27=\"\",\"\",AW27)","v":""}]
[]
[]
[]
[null,"今回\n請求額",null,null,{"$f":"IF(E31=\"\",\"\",E31)","v":""},null,{"$f":"IF(G31=\"\",\"\",G31)","v":""},null,null,null,null,null,null,null,null,null,null,{"$f":"IF(R31=\"\",\"\",R31)","v":""},null,{"$f":"IF(T31=\"\",\"\",T31)","v":""},null,{"$f":"IF(V31=\"\",\"\",V31)","v":""},null,{"$f":"IF(X31=\"\",\"\",X31)","v":""},null,{"$f":"IF(Z31=\"\",\"\",Z31)","v":""},null,{"$f":"IF(AB31=\"\",\"\",AB31)","v":""},null,{"$f":"IF(AD31=\"\",\"\",AD31)","v":""},null,{"$f":"IF(AF31=\"\",\"\",AF31)","v":""},null,{"$f":"IF(AH31=\"\",\"\",AH31)","v":""},null,{"$f":"IF(AJ31=\"\",\"\",AJ31)","v":""},null,{"$f":"IF(AL31=\"\",\"\",AL31)","v":""},null,null,{"$f":"IF(AO31=\"\",\"\",AO31)","v":""},null,null,{"$f":"IF(AR31=\"\",\"\",AR31)","v":""},null,null,null,null,{"$f":"IF(AW31=\"\",\"\",AW31)","v":""}]
[]
[]
[]
[null,"差引残高",null,null,null,null,{"$f":"IF(G111=\"\",\"\",G111+G115-G119-G123)","v":""},null,null,null,null,null,null,null,null,null,null,{"$f":"IF(R35=\"\",\"\",R35)","v":""},null,{"$f":"IF(T35=\"\",\"\",T35)","v":""},null,{"$f":"IF(V35=\"\",\"\",V35)","v":""},null,{"$f":"IF(X35=\"\",\"\",X35)","v":""},null,{"$f":"IF(Z35=\"\",\"\",Z35)","v":""},null,{"$f":"IF(AB35=\"\",\"\",AB35)","v":""},null,{"$f":"IF(AD35=\"\",\"\",AD35)","v":""},null,{"$f":"IF(AF35=\"\",\"\",AF35)","v":""},null,{"$f":"IF(AH35=\"\",\"\",AH35)","v":""},null,{"$f":"IF(AJ35=\"\",\"\",AJ35)","v":""},null,{"$f":"IF(AL35=\"\",\"\",AL35)","v":""},null,null,{"$f":"IF(AO35=\"\",\"\",AO35)","v":""},null,null,{"$f":"IF(AR35=\"\",\"\",AR35)","v":""},null,null,null,null,{"$f":"IF(AW35=\"\",\"\",AW35)","v":""}]
[]
[]
[]
[null,null,null,null,null,null,null,null,null,null,null,null,null,null,null,null,null,{"$f":"IF(R39=\"\",\"\",R39)","v":""},null,{"$f":"IF(T39=\"\",\"\",T39)","v":""},null,{"$f":"IF(V39=\"\",\"\",V39)","v":""},null,{"$f":"IF(X39=\"\",\"\",X39)","v":""},null,{"$f":"IF(Z39=\"\",\"\",Z39)","v":""},null,{"$f":"IF(AB39=\"\",\"\",AB39)","v":""},null,{"$f":"IF(AD39=\"\",\"\",AD39)","v":""},null,{"$f":"IF(AF39=\"\",\"\",AF39)","v":""},null,{"$f":"IF(AH39=\"\",\"\",AH39)","v":""},null,{"$f":"IF(AJ39=\"\",\"\",AJ39)","v":""},null,{"$f":"IF(AL39=\"\",\"\",AL39)","v":""},null,null,{"$f":"IF(AO39=\"\",\"\",AO39)","v":""},null,null,{"$f":"IF(AR39=\"\",\"\",AR39)","v":""},null,null,null,null,{"$f":"IF(AW39=\"\",\"\",AW39)","v":""}]
[]
[]
[]
[null,null,null,null,null,null,null,null,null,null,null,null,null,null,null,null,null,{"$f":"IF(R43=\"\",\"\",R43)","v":""},null,{"$f":"IF(T43=\"\",\"\",T43)","v":""},null,{"$f":"IF(V43=\"\",\"\",V43)","v":""},null,{"$f":"IF(X43=\"\",\"\",X43)","v":""},null,{"$f":"IF(Z43=\"\",\"\",Z43)","v":""},null,{"$f":"IF(AB43=\"\",\"\",AB43)","v":""},null,{"$f":"IF(AD43=\"\",\"\",AD43)","v":""},null,{"$f":"IF(AF43=\"\",\"\",AF43)","v":""},null,{"$f":"IF(AH43=\"\",\"\",AH43)","v":""},null,{"$f":"IF(AJ43=\"\",\"\",AJ43)","v":""},null,{"$f":"IF(AL43=\"\",\"\",AL43)","v":""},null,null,{"$f":"IF(AO43=\"\",\"\",AO43)","v":""},null,null,{"$f":"IF(AR43=\"\",\"\",AR43)","v":""},null,null,null,null,{"$f":"IF(AW43=\"\",\"\",AW43)","v":""}]
[]
[]
[]
[null,null,null,null,null,null,null,null,null,null,null,null,null,null,null,null,null,{"$f":"IF(R47=\"\",\"\",R47)","v":""},null,{"$f":"IF(T47=\"\",\"\",T47)","v":""},null,{"$f":"IF(V47=\"\",\"\",V47)","v":""},null,{"$f":"IF(X47=\"\",\"\",X47)","v":""},null,{"$f":"IF(Z47=\"\",\"\",Z47)","v":""},null,{"$f":"IF(AB47=\"\",\"\",AB47)","v":""},null,{"$f":"IF(AD47=\"\",\"\",AD47)","v":""},null,{"$f":"IF(AF47=\"\",\"\",AF47)","v":""},null,{"$f":"IF(AH47=\"\",\"\",AH47)","v":""},null,{"$f":"IF(AJ47=\"\",\"\",AJ47)","v":""},null,{"$f":"IF(AL47=\"\",\"\",AL47)","v":""},null,null,{"$f":"IF(AO47=\"\",\"\",AO47)","v":""},null,null,{"$f":"IF(AR47=\"\",\"\",AR47)","v":""},null,null,null,null,{"$f":"IF(AW47=\"\",\"\",AW47)","v":""}]
[]
[]
[]
[null,null,null,null,null,null,null,null,null,null,null,null,null,null,null,null,null,{"$f":"IF(R51=\"\",\"\",R51)","v":""},null,{"$f":"IF(T51=\"\",\"\",T51)","v":""},null,{"$f":"IF(V51=\"\",\"\",V51)","v":""},null,{"$f":"IF(X51=\"\",\"\",X51)","v":""},null,{"$f":"IF(Z51=\"\",\"\",Z51)","v":""},null,{"$f":"IF(AB51=\"\",\"\",AB51)","v":""},null,{"$f":"IF(AD51=\"\",\"\",AD51)","v":""},null,{"$f":"IF(AF51=\"\",\"\",AF51)","v":""},null,{"$f":"IF(AH51=\"\",\"\",AH51)","v":""},null,{"$f":"IF(AJ51=\"\",\"\",AJ51)","v":""},null,{"$f":"IF(AL51=\"\",\"\",AL51)","v":""},null,null,{"$f":"IF(AO51=\"\",\"\",AO51)","v":""},null,null,{"$f":"IF(AR51=\"\",\"\",AR51)","v":""},null,null,null,null,{"$f":"IF(AW51=\"\",\"\",AW51)","v":""}]
[]
[]
[]
[null,null,null,null,null,null,null,null,null,null,null,null,null,null,null,null,null,{"$f":"IF(R55=\"\",\"\",R55)","v":""},null,{"$f":"IF(T55=\"\",\"\",T55)","v":""},null,{"$f":"IF(V55=\"\",\"\",V55)","v":""},null,{"$f":"IF(X55=\"\",\"\",X55)","v":""},null,{"$f":"IF(Z55=\"\",\"\",Z55)","v":""},null,{"$f":"IF(AB55=\"\",\"\",AB55)","v":""},null,{"$f":"IF(AD55=\"\",\"\",AD55)","v":""},null,{"$f":"IF(AF55=\"\",\"\",AF55)","v":""},null,{"$f":"IF(AH55=\"\",\"\",AH55)","v":""},null,{"$f":"IF(AJ55=\"\",\"\",AJ55)","v":""},null,{"$f":"IF(AL55=\"\",\"\",AL55)","v":""},null,null,{"$f":"IF(AO55=\"\",\"\",AO55)","v":""},null,null,{"$f":"IF(AR55=\"\",\"\",AR55)","v":""},null,null,null,null,{"$f":"IF(AW55=\"\",\"\",AW55)","v":""}]
[]
[]
[]
[null,null,null,null,null,null,null,null,null,null,null,null,null,null,null,null,null,{"$f":"IF(R59=\"\",\"\",R59)","v":""},null,{"$f":"IF(T59=\"\",\"\",T59)","v":""},null,{"$f":"IF(V59=\"\",\"\",V59)","v":""},null,{"$f":"IF(X59=\"\",\"\",X59)","v":""},null,{"$f":"IF(Z59=\"\",\"\",Z59)","v":""},null,{"$f":"IF(AB59=\"\",\"\",AB59)","v":""},null,{"$f":"IF(AD59=\"\",\"\",AD59)","v":""},null,{"$f":"IF(AF59=\"\",\"\",AF59)","v":""},null,{"$f":"IF(AH59=\"\",\"\",AH59)","v":""},null,{"$f":"IF(AJ59=\"\",\"\",AJ59)","v":""},null,{"$f":"IF(AL59=\"\",\"\",AL59)","v":""},null,null,{"$f":"IF(AO59=\"\",\"\",AO59)","v":""},null,null,{"$f":"IF(AR59=\"\",\"\",AR59)","v":""},null,null,null,null,{"$f":"IF(AW59=\"\",\"\",AW59)","v":""}]
[]
[]
[]
[null,null,null,null,null,null,null,null,null,null,null,null,null,null,null,null,null,{"$f":"IF(R63=\"\",\"\",R63)","v":""},null,{"$f":"IF(T63=\"\",\"\",T63)","v":""},null,{"$f":"IF(V63=\"\",\"\",V63)","v":""},null,{"$f":"IF(X63=\"\",\"\",X63)","v":""},null,{"$f":"IF(Z63=\"\",\"\",Z63)","v":""},null,{"$f":"IF(AB63=\"\",\"\",AB63)","v":""},null,{"$f":"IF(AD63=\"\",\"\",AD63)","v":""},null,{"$f":"IF(AF63=\"\",\"\",AF63)","v":""},null,{"$f":"IF(AH63=\"\",\"\",AH63)","v":""},null,{"$f":"IF(AJ63=\"\",\"\",AJ63)","v":""},null,{"$f":"IF(AL63=\"\",\"\",AL63)","v":""},null,null,{"$f":"IF(AO63=\"\",\"\",AO63)","v":""},null,null,{"$f":"IF(AR63=\"\",\"\",AR63)","v":""},null,null,null,null,{"$f":"IF(AW63=\"\",\"\",AW63)","v":""}]
[]
[]
[]
[null,null,null,null,null,null,null,null,null,null,null,null,null,null,null,null,null,{"$f":"IF(R67=\"\",\"\",R67)","v":""},null,{"$f":"IF(T67=\"\",\"\",T67)","v":""},null,{"$f":"IF(V67=\"\",\"\",V67)","v":""},null,{"$f":"IF(X67=\"\",\"\",X67)","v":""},null,{"$f":"IF(Z67=\"\",\"\",Z67)","v":""},null,{"$f":"IF(AB67=\"\",\"\",AB67)","v":""},null,{"$f":"IF(AD67=\"\",\"\",AD67)","v":""},null,{"$f":"IF(AF67=\"\",\"\",AF67)","v":""},null,{"$f":"IF(AH67=\"\",\"\",AH67)","v":""},null,{"$f":"IF(AJ67=\"\",\"\",AJ67)","v":""},null,{"$f":"IF(AL67=\"\",\"\",AL67)","v":""},null,null,{"$f":"IF(AO67=\"\",\"\",AO67)","v":""},null,null,{"$f":"IF(AR67=\"\",\"\",AR67)","v":""},null,null,null,null,{"$f":"IF(AW67=\"\",\"\",AW67)","v":""}]
[]
[]
[]
[null,null,null,null,null,null,null,null,null,null,null,null,null,null,null,null,null,{"$f":"IF(R71=\"\",\"\",R71)","v":""},null,{"$f":"IF(T71=\"\",\"\",T71)","v":""},null,{"$f":"IF(V71=\"\",\"\",V71)","v":""},null,{"$f":"IF(X71=\"\",\"\",X71)","v":""},null,{"$f":"IF(Z71=\"\",\"\",Z71)","v":""},null,{"$f":"IF(AB71=\"\",\"\",AB71)","v":""},null,{"$f":"IF(AD71=\"\",\"\",AD71)","v":""},null,{"$f":"IF(AF71=\"\",\"\",AF71)","v":""},null,{"$f":"IF(AH71=\"\",\"\",AH71)","v":""},null,{"$f":"IF(AJ71=\"\",\"\",AJ71)","v":""},null,{"$f":"IF(AL71=\"\",\"\",AL71)","v":""},null,null,{"$f":"IF(AO71=\"\",\"\",AO71)","v":""},null,null,{"$f":"IF(AR71=\"\",\"\",AR71)","v":""},null,null,null,null,{"$f":"IF(AW71=\"\",\"\",AW71)","v":""}]
[]
[]
[]
[null,null,null,null,null,null,null,null,null,null,null,null,null,null,null,null,null,{"$f":"IF(R75=\"\",\"\",R75)","v":""},null,{"$f":"IF(T75=\"\",\"\",T75)","v":""},null,{"$f":"IF(V75=\"\",\"\",V75)","v":""},null,{"$f":"IF(X75=\"\",\"\",X75)","v":""},null,{"$f":"IF(Z75=\"\",\"\",Z75)","v":""},null,{"$f":"IF(AB75=\"\",\"\",AB75)","v":""},null,{"$f":"IF(AD75=\"\",\"\",AD75)","v":""},null,{"$f":"IF(AF75=\"\",\"\",AF75)","v":""},null,{"$f":"IF(AH75=\"\",\"\",AH75)","v":""},null,{"$f":"IF(AJ75=\"\",\"\",AJ75)","v":""},null,{"$f":"IF(AL75=\"\",\"\",AL75)","v":""},null,null,{"$f":"IF(AO75=\"\",\"\",AO75)","v":""},null,null,{"$f":"IF(AR75=\"\",\"\",AR75)","v":""},null,null,null,null,{"$f":"IF(AW75=\"\",\"\",AW75)","v":""}]
[]
[]
[]
[null,null,null,null,null,null,null,null,null,null,null,null,null,null,null,null,null,{"$f":"IF(R79=\"\",\"\",R79)","v":""},null,{"$f":"IF(T79=\"\",\"\",T79)","v":""},null,{"$f":"IF(V79=\"\",\"\",V79)","v":""},null,{"$f":"IF(X79=\"\",\"\",X79)","v":""},null,{"$f":"IF(Z79=\"\",\"\",Z79)","v":""},null,{"$f":"IF(AB79=\"\",\"\",AB79)","v":""},null,{"$f":"IF(AD79=\"\",\"\",AD79)","v":""},null,{"$f":"IF(AF79=\"\",\"\",AF79)","v":""},null,{"$f":"IF(AH79=\"\",\"\",AH79)","v":""},null,{"$f":"IF(AJ79=\"\",\"\",AJ79)","v":""},null,{"$f":"IF(AL79=\"\",\"\",AL79)","v":""},null,null,{"$f":"IF(AO79=\"\",\"\",AO79)","v":""},null,null,{"$f":"IF(AR79=\"\",\"\",AR79)","v":""},null,null,null,null,{"$f":"IF(AW79=\"\",\"\",AW79)","v":""}]
[]
[]
[]
[null,null,null,null,null,null,null,null,null,null,null,null,null,null,null,null,null,null,null,null,null,null,null,null,null,null,null,null,null,null,null,null,null,null,null,null,null,{"$f":"AL83","v":"金額(税抜)"},null,null,null,null,null,null,null,null,null,null,{"$f":"AW83","v":""}]
[]
[]
[]
[]
[null,null,null,null,null,null,null,null,null,null,null,null,null,null,null,null,null,null,null,null,null,null,null,null,null,null,null,null,null,null,null,null,null,null,null,null,null,{"$f":"AL88","v":"消費税"},null,null,null,null,null,"税率",null,null,"税調",null,{"$f":"AW88","v":""}]
[]
[null,null,null,null,null,null,null,null,null,null,null,null,null,null,null,null,null,null,null,null,null,null,null,null,null,null,null,null,null,null,null,null,null,null,null,null,null,null,null,null,null,null,null,{"$f":"AR90","v":0},null,{"$f":"AT90","v":""}]
[]
[]
[]
[null,null,null,null,null,null,null,null,null,null,null,null,null,null,null,null,null,null,null,"請求明細書 (貴社控)"]
[null,"株 式 会 社 種 村 建 設",null,null,null,null,null,null,null,null,null,null,"御中"]
[null,null,null,null,null,null,null,null,null,null,null,null,null,null,null,null,null,null,null,null,null,null,null,null,null,null,null,null,null,null,null,null,null,null,null,null,null,null,null,null,"請求年月日",null,null,null,null,{"$f":"IF(AT4=\"\",\"\",AT4)","v":""},null,null,null,{"$f":"IF(AX96=\"\",\"\",AX96)","v":""},null,null,{"$f":"IF(BA96=\"\",\"\",BA96)","v":""}]
[]
[]
[]
[]
[null,"工事番号",null,null,null,null,{"$f":"IF(G101=\"\",\"\",G101)","v":""},null,null,null,null,null,"工事名",null,null,null,{"$f":"IF(Q101=\"\",\"\",Q101)","v":""},null,null,null,null,null,null,null,null,null,null,null,null,null,null,null,null,null,null,null,null,"業者名",null,null,null,{"$f":"IF(AP101=\"\",\"\",AP101)","v":""}]
[]
[]
[]
[]
[]
[null,"注文番号",null,null,null,null,{"$f":"IF(G107=\"\",\"\",G107)","v":""},null,null,null,null,null,null,null,null,null,null,"月　日",null,null,null,"品　名・内　訳",null,null,null,null,null,null,null,null,null,null,null,null,null,null,null,"数 量",null,null,"単位",null,null,"単価",null,null,null,null,{"$f":"AW15","v":"金額(税抜)"}]
[]
[]
[]
[null,"契約金額",null,null,null,null,{"$f":"IF(G111=\"\",\"\",G111)","v":""},null,null,null,null,null,null,null,null,null,null,{"$f":"IF(R111=\"\",\"\",R111)","v":""},null,{"$f":"IF(T111=\"\",\"\",T111)","v":""},null,{"$f":"IF(V111=\"\",\"\",V111)","v":""},null,{"$f":"IF(X111=\"\",\"\",X111)","v":""},null,{"$f":"IF(Z111=\"\",\"\",Z111)","v":""},null,{"$f":"IF(AB111=\"\",\"\",AB111)","v":""},null,{"$f":"IF(AD111=\"\",\"\",AD111)","v":""},null,{"$f":"IF(AF111=\"\",\"\",AF111)","v":""},null,{"$f":"IF(AH111=\"\",\"\",AH111)","v":""},null,{"$f":"IF(AJ111=\"\",\"\",AJ111)","v":""},null,{"$f":"IF(AL111=\"\",\"\",AL111)","v":""},null,null,{"$f":"IF(AO111=\"\",\"\",AO111)","v":""},null,null,{"$f":"IF(AR111=\"\",\"\",AR111)","v":""},null,null,null,null,{"$f":"IF(AW111=\"\",\"\",AW111)","v":""}]
[]
[]
[]
[null,"増減額",null,null,null,null,{"$f":"IF(G115=\"\",\"\",G115)","v":""},null,null,null,null,null,null,null,null,null,null,{"$f":"IF(R115=\"\",\"\",R115)","v":""},null,{"$f":"IF(T115=\"\",\"\",T115)","v":""},null,{"$f":"IF(V115=\"\",\"\",V115)","v":""},null,{"$f":"IF(X115=\"\",\"\",X115)","v":""},null,{"$f":"IF(Z115=\"\",\"\",Z115)","v":""},null,{"$f":"IF(AB115=\"\",\"\",AB115)","v":""},null,{"$f":"IF(AD115=\"\",\"\",AD115)","v":""},null,{"$f":"IF(AF115=\"\",\"\",AF115)","v":""},null,{"$f":"IF(AH115=\"\",\"\",AH115)","v":""},null,{"$f":"IF(AJ115=\"\",\"\",AJ115)","v":""},null,{"$f":"IF(AL115=\"\",\"\",AL115)","v":""},null,null,{"$f":"IF(AO115=\"\",\"\",AO115)","v":""},null,null,{"$f":"IF(AR115=\"\",\"\",AR115)","v":""},null,null,null,null,{"$f":"IF(AW115=\"\",\"\",AW115)","v":""}]
[]
[]
[]
[null,"前回までの\n請求額",null,null,null,null,{"$f":"IF(G119=\"\",\"\",G119)","v":""},null,null,null,null,null,null,null,null,null,null,{"$f":"IF(R119=\"\",\"\",R119)","v":""},null,{"$f":"IF(T119=\"\",\"\",T119)","v":""},null,{"$f":"IF(V119=\"\",\"\",V119)","v":""},null,{"$f":"IF(X119=\"\",\"\",X119)","v":""},null,{"$f":"IF(Z119=\"\",\"\",Z119)","v":""},null,{"$f":"IF(AB119=\"\",\"\",AB119)","v":""},null,{"$f":"IF(AD119=\"\",\"\",AD119)","v":""},null,{"$f":"IF(AF119=\"\",\"\",AF119)","v":""},null,{"$f":"IF(AH119=\"\",\"\",AH119)","v":""},null,{"$f":"IF(AJ119=\"\",\"\",AJ119)","v":""},null,{"$f":"IF(AL119=\"\",\"\",AL119)","v":""},null,null,{"$f":"IF(AO119=\"\",\"\",AO119)","v":""},null,null,{"$f":"IF(AR119=\"\",\"\",AR119)","v":""},null,null,null,null,{"$f":"IF(AW119=\"\",\"\",AW119)","v":""}]
[]
[]
[]
[null,"今回\n請求額",null,null,{"$f":"IF(E31=\"\",\"\",E31)","v":""},null,{"$f":"IF(G123=\"\",\"\",G123)","v":""},null,null,null,null,null,null,null,null,null,null,{"$f":"IF(R123=\"\",\"\",R123)","v":""},null,{"$f":"IF(T123=\"\",\"\",T123)","v":""},null,{"$f":"IF(V123=\"\",\"\",V123)","v":""},null,{"$f":"IF(X123=\"\",\"\",X123)","v":""},null,{"$f":"IF(Z123=\"\",\"\",Z123)","v":""},null,{"$f":"IF(AB123=\"\",\"\",AB123)","v":""},null,{"$f":"IF(AD123=\"\",\"\",AD123)","v":""},null,{"$f":"IF(AF123=\"\",\"\",AF123)","v":""},null,{"$f":"IF(AH123=\"\",\"\",AH123)","v":""},null,{"$f":"IF(AJ123=\"\",\"\",AJ123)","v":""},null,{"$f":"IF(AL123=\"\",\"\",AL123)","v":""},null,null,{"$f":"IF(AO123=\"\",\"\",AO123)","v":""},null,null,{"$f":"IF(AR123=\"\",\"\",AR123)","v":""},null,null,null,null,{"$f":"IF(AW123=\"\",\"\",AW123)","v":""}]
[]
[]
[]
[null,"差引残高",null,null,null,null,{"$f":"IF(G203=\"\",\"\",G203+G207-G211-G215)","v":""},null,null,null,null,null,null,null,null,null,null,{"$f":"IF(R127=\"\",\"\",R127)","v":""},null,{"$f":"IF(T127=\"\",\"\",T127)","v":""},null,{"$f":"IF(V127=\"\",\"\",V127)","v":""},null,{"$f":"IF(X127=\"\",\"\",X127)","v":""},null,{"$f":"IF(Z127=\"\",\"\",Z127)","v":""},null,{"$f":"IF(AB127=\"\",\"\",AB127)","v":""},null,{"$f":"IF(AD127=\"\",\"\",AD127)","v":""},null,{"$f":"IF(AF127=\"\",\"\",AF127)","v":""},null,{"$f":"IF(AH127=\"\",\"\",AH127)","v":""},null,{"$f":"IF(AJ127=\"\",\"\",AJ127)","v":""},null,{"$f":"IF(AL127=\"\",\"\",AL127)","v":""},null,null,{"$f":"IF(AO127=\"\",\"\",AO127)","v":""},null,null,{"$f":"IF(AR127=\"\",\"\",AR127)","v":""},null,null,null,null,{"$f":"IF(AW127=\"\",\"\",AW127)","v":""}]
[]
[]
[]
[null,null,null,null,null,null,null,null,null,null,null,null,null,null,null,null,null,{"$f":"IF(R131=\"\",\"\",R131)","v":""},null,{"$f":"IF(T131=\"\",\"\",T131)","v":""},null,{"$f":"IF(V131=\"\",\"\",V131)","v":""},null,{"$f":"IF(X131=\"\",\"\",X131)","v":""},null,{"$f":"IF(Z131=\"\",\"\",Z131)","v":""},null,{"$f":"IF(AB131=\"\",\"\",AB131)","v":""},null,{"$f":"IF(AD131=\"\",\"\",AD131)","v":""},null,{"$f":"IF(AF131=\"\",\"\",AF131)","v":""},null,{"$f":"IF(AH131=\"\",\"\",AH131)","v":""},null,{"$f":"IF(AJ131=\"\",\"\",AJ131)","v":""},null,{"$f":"IF(AL131=\"\",\"\",AL131)","v":""},null,null,{"$f":"IF(AO131=\"\",\"\",AO131)","v":""},null,null,{"$f":"IF(AR131=\"\",\"\",AR131)","v":""},null,null,null,null,{"$f":"IF(AW131=\"\",\"\",AW131)","v":""}]
[]
[]
[]
[null,null,null,null,null,null,null,null,null,null,null,null,null,null,null,null,null,{"$f":"IF(R135=\"\",\"\",R135)","v":""},null,{"$f":"IF(T135=\"\",\"\",T135)","v":""},null,{"$f":"IF(V135=\"\",\"\",V135)","v":""},null,{"$f":"IF(X135=\"\",\"\",X135)","v":""},null,{"$f":"IF(Z135=\"\",\"\",Z135)","v":""},null,{"$f":"IF(AB135=\"\",\"\",AB135)","v":""},null,{"$f":"IF(AD135=\"\",\"\",AD135)","v":""},null,{"$f":"IF(AF135=\"\",\"\",AF135)","v":""},null,{"$f":"IF(AH135=\"\",\"\",AH135)","v":""},null,{"$f":"IF(AJ135=\"\",\"\",AJ135)","v":""},null,{"$f":"IF(AL135=\"\",\"\",AL135)","v":""},null,null,{"$f":"IF(AO135=\"\",\"\",AO135)","v":""},null,null,{"$f":"IF(AR135=\"\",\"\",AR135)","v":""},null,null,null,null,{"$f":"IF(AW135=\"\",\"\",AW135)","v":""}]
[]
[]
[]
[null,null,null,null,null,null,null,null,null,null,null,null,null,null,null,null,null,{"$f":"IF(R139=\"\",\"\",R139)","v":""},null,{"$f":"IF(T139=\"\",\"\",T139)","v":""},null,{"$f":"IF(V139=\"\",\"\",V139)","v":""},null,{"$f":"IF(X139=\"\",\"\",X139)","v":""},null,{"$f":"IF(Z139=\"\",\"\",Z139)","v":""},null,{"$f":"IF(AB139=\"\",\"\",AB139)","v":""},null,{"$f":"IF(AD139=\"\",\"\",AD139)","v":""},null,{"$f":"IF(AF139=\"\",\"\",AF139)","v":""},null,{"$f":"IF(AH139=\"\",\"\",AH139)","v":""},null,{"$f":"IF(AJ139=\"\",\"\",AJ139)","v":""},null,{"$f":"IF(AL139=\"\",\"\",AL139)","v":""},null,null,{"$f":"IF(AO139=\"\",\"\",AO139)","v":""},null,null,{"$f":"IF(AR139=\"\",\"\",AR139)","v":""},null,null,null,null,{"$f":"IF(AW139=\"\",\"\",AW139)","v":""}]
[]
[]
[]
[null,null,null,null,null,null,null,null,null,null,null,null,null,null,null,null,null,{"$f":"IF(R143=\"\",\"\",R143)","v":""},null,{"$f":"IF(T143=\"\",\"\",T143)","v":""},null,{"$f":"IF(V143=\"\",\"\",V143)","v":""},null,{"$f":"IF(X143=\"\",\"\",X143)","v":""},null,{"$f":"IF(Z143=\"\",\"\",Z143)","v":""},null,{"$f":"IF(AB143=\"\",\"\",AB143)","v":""},null,{"$f":"IF(AD143=\"\",\"\",AD143)","v":""},null,{"$f":"IF(AF143=\"\",\"\",AF143)","v":""},null,{"$f":"IF(AH143=\"\",\"\",AH143)","v":""},null,{"$f":"IF(AJ143=\"\",\"\",AJ143)","v":""},null,{"$f":"IF(AL143=\"\",\"\",AL143)","v":""},null,null,{"$f":"IF(AO143=\"\",\"\",AO143)","v":""},null,null,{"$f":"IF(AR143=\"\",\"\",AR143)","v":""},null,null,null,null,{"$f":"IF(AW143=\"\",\"\",AW143)","v":""}]
[]
[]
[]
[null,null,null,null,null,null,null,null,null,null,null,null,null,null,null,null,null,{"$f":"IF(R147=\"\",\"\",R147)","v":""},null,{"$f":"IF(T147=\"\",\"\",T147)","v":""},null,{"$f":"IF(V147=\"\",\"\",V147)","v":""},null,{"$f":"IF(X147=\"\",\"\",X147)","v":""},null,{"$f":"IF(Z147=\"\",\"\",Z147)","v":""},null,{"$f":"IF(AB147=\"\",\"\",AB147)","v":""},null,{"$f":"IF(AD147=\"\",\"\",AD147)","v":""},null,{"$f":"IF(AF147=\"\",\"\",AF147)","v":""},null,{"$f":"IF(AH147=\"\",\"\",AH147)","v":""},null,{"$f":"IF(AJ147=\"\",\"\",AJ147)","v":""},null,{"$f":"IF(AL147=\"\",\"\",AL147)","v":""},null,null,{"$f":"IF(AO147=\"\",\"\",AO147)","v":""},null,null,{"$f":"IF(AR147=\"\",\"\",AR147)","v":""},null,null,null,null,{"$f":"IF(AW147=\"\",\"\",AW147)","v":""}]
[]
[]
[]
[null,null,null,null,null,null,null,null,null,null,null,null,null,null,null,null,null,{"$f":"IF(R151=\"\",\"\",R151)","v":""},null,{"$f":"IF(T151=\"\",\"\",T151)","v":""},null,{"$f":"IF(V151=\"\",\"\",V151)","v":""},null,{"$f":"IF(X151=\"\",\"\",X151)","v":""},null,{"$f":"IF(Z151=\"\",\"\",Z151)","v":""},null,{"$f":"IF(AB151=\"\",\"\",AB151)","v":""},null,{"$f":"IF(AD151=\"\",\"\",AD151)","v":""},null,{"$f":"IF(AF151=\"\",\"\",AF151)","v":""},null,{"$f":"IF(AH151=\"\",\"\",AH151)","v":""},null,{"$f":"IF(AJ151=\"\",\"\",AJ151)","v":""},null,{"$f":"IF(AL151=\"\",\"\",AL151)","v":""},null,null,{"$f":"IF(AO151=\"\",\"\",AO151)","v":""},null,null,{"$f":"IF(AR151=\"\",\"\",AR151)","v":""},null,null,null,null,{"$f":"IF(AW151=\"\",\"\",AW151)","v":""}]
[]
[]
[]
[null,null,null,null,null,null,null,null,null,null,null,null,null,null,null,null,null,{"$f":"IF(R155=\"\",\"\",R155)","v":""},null,{"$f":"IF(T155=\"\",\"\",T155)","v":""},null,{"$f":"IF(V155=\"\",\"\",V155)","v":""},null,{"$f":"IF(X155=\"\",\"\",X155)","v":""},null,{"$f":"IF(Z155=\"\",\"\",Z155)","v":""},null,{"$f":"IF(AB155=\"\",\"\",AB155)","v":""},null,{"$f":"IF(AD155=\"\",\"\",AD155)","v":""},null,{"$f":"IF(AF155=\"\",\"\",AF155)","v":""},null,{"$f":"IF(AH155=\"\",\"\",AH155)","v":""},null,{"$f":"IF(AJ155=\"\",\"\",AJ155)","v":""},null,{"$f":"IF(AL155=\"\",\"\",AL155)","v":""},null,null,{"$f":"IF(AO155=\"\",\"\",AO155)","v":""},null,null,{"$f":"IF(AR155=\"\",\"\",AR155)","v":""},null,null,null,null,{"$f":"IF(AW155=\"\",\"\",AW155)","v":""}]
[]
[]
[]
[null,null,null,null,null,null,null,null,null,null,null,null,null,null,null,null,null,{"$f":"IF(R159=\"\",\"\",R159)","v":""},null,{"$f":"IF(T159=\"\",\"\",T159)","v":""},null,{"$f":"IF(V159=\"\",\"\",V159)","v":""},null,{"$f":"IF(X159=\"\",\"\",X159)","v":""},null,{"$f":"IF(Z159=\"\",\"\",Z159)","v":""},null,{"$f":"IF(AB159=\"\",\"\",AB159)","v":""},null,{"$f":"IF(AD159=\"\",\"\",AD159)","v":""},null,{"$f":"IF(AF159=\"\",\"\",AF159)","v":""},null,{"$f":"IF(AH159=\"\",\"\",AH159)","v":""},null,{"$f":"IF(AJ159=\"\",\"\",AJ159)","v":""},null,{"$f":"IF(AL159=\"\",\"\",AL159)","v":""},null,null,{"$f":"IF(AO159=\"\",\"\",AO159)","v":""},null,null,{"$f":"IF(AR159=\"\",\"\",AR159)","v":""},null,null,null,null,{"$f":"IF(AW159=\"\",\"\",AW159)","v":""}]
[]
[]
[]
[null,null,null,null,null,null,null,null,null,null,null,null,null,null,null,null,null,{"$f":"IF(R163=\"\",\"\",R163)","v":""},null,{"$f":"IF(T163=\"\",\"\",T163)","v":""},null,{"$f":"IF(V163=\"\",\"\",V163)","v":""},null,{"$f":"IF(X163=\"\",\"\",X163)","v":""},null,{"$f":"IF(Z163=\"\",\"\",Z163)","v":""},null,{"$f":"IF(AB163=\"\",\"\",AB163)","v":""},null,{"$f":"IF(AD163=\"\",\"\",AD163)","v":""},null,{"$f":"IF(AF163=\"\",\"\",AF163)","v":""},null,{"$f":"IF(AH163=\"\",\"\",AH163)","v":""},null,{"$f":"IF(AJ163=\"\",\"\",AJ163)","v":""},null,{"$f":"IF(AL163=\"\",\"\",AL163)","v":""},null,null,{"$f":"IF(AO163=\"\",\"\",AO163)","v":""},null,null,{"$f":"IF(AR163=\"\",\"\",AR163)","v":""},null,null,null,null,{"$f":"IF(AW163=\"\",\"\",AW163)","v":""}]
[]
[]
[]
[null,null,null,null,null,null,null,null,null,null,null,null,null,null,null,null,null,{"$f":"IF(R167=\"\",\"\",R167)","v":""},null,{"$f":"IF(T167=\"\",\"\",T167)","v":""},null,{"$f":"IF(V167=\"\",\"\",V167)","v":""},null,{"$f":"IF(X167=\"\",\"\",X167)","v":""},null,{"$f":"IF(Z167=\"\",\"\",Z167)","v":""},null,{"$f":"IF(AB167=\"\",\"\",AB167)","v":""},null,{"$f":"IF(AD167=\"\",\"\",AD167)","v":""},null,{"$f":"IF(AF167=\"\",\"\",AF167)","v":""},null,{"$f":"IF(AH167=\"\",\"\",AH167)","v":""},null,{"$f":"IF(AJ167=\"\",\"\",AJ167)","v":""},null,{"$f":"IF(AL167=\"\",\"\",AL167)","v":""},null,null,{"$f":"IF(AO167=\"\",\"\",AO167)","v":""},null,null,{"$f":"IF(AR167=\"\",\"\",AR167)","v":""},null,null,null,null,{"$f":"IF(AW167=\"\",\"\",AW167)","v":""}]
[]
[]
[]
[null,null,null,null,null,null,null,null,null,null,null,null,null,null,null,null,null,{"$f":"IF(R171=\"\",\"\",R171)","v":""},null,{"$f":"IF(T171=\"\",\"\",T171)","v":""},null,{"$f":"IF(V171=\"\",\"\",V171)","v":""},null,{"$f":"IF(X171=\"\",\"\",X171)","v":""},null,{"$f":"IF(Z171=\"\",\"\",Z171)","v":""},null,{"$f":"IF(AB171=\"\",\"\",AB171)","v":""},null,{"$f":"IF(AD171=\"\",\"\",AD171)","v":""},null,{"$f":"IF(AF171=\"\",\"\",AF171)","v":""},null,{"$f":"IF(AH171=\"\",\"\",AH171)","v":""},null,{"$f":"IF(AJ171=\"\",\"\",AJ171)","v":""},null,{"$f":"IF(AL171=\"\",\"\",AL171)","v":""},null,null,{"$f":"IF(AO171=\"\",\"\",AO171)","v":""},null,null,{"$f":"IF(AR171=\"\",\"\",AR171)","v":""},null,null,null,null,{"$f":"IF(AW171=\"\",\"\",AW171)","v":""}]
[]
[]
[]
[null,null,null,null,null,null,null,null,null,null,null,null,null,null,null,null,null,null,null,null,null,null,null,null,null,null,null,null,null,null,null,null,null,null,null,null,null,{"$f":"AL175","v":"金額(税抜)"},null,null,null,null,null,null,null,null,null,null,{"$f":"AW83","v":""}]
[]
[]
[]
[]
[null,null,null,null,null,null,null,null,null,null,null,null,null,null,null,null,null,null,null,null,null,null,null,null,null,null,null,null,null,null,null,null,null,null,null,null,null,{"$f":"AL180","v":"消費税"},null,null,null,null,null,"税率",null,null,"税調",null,{"$f":"AW88","v":""}]
[]
[null,null,null,null,null,null,null,null,null,null,null,null,null,null,null,null,null,null,null,null,null,null,null,null,null,null,null,null,null,null,null,null,null,null,null,null,null,null,null,null,null,null,null,{"$f":"AR90","v":0},null,{"$f":"AT90","v":""}]

{"sheet":"細2-9","index":24,"n_rows":274,"n_cols":53,"rows_kept":274,"cut":false,"hidden":false,"merged":[[266,37,269,47],[266,48,269,54],[258,48,261,54],[262,17,265,18],[262,19,265,20],[262,21,265,36],[262,37,265,39],[258,43,261,47],[271,48,274,54],[262,40,265,42],[262,43,265,47],[262,48,265,54],[258,17,261,18],[258,19,261,20],[258,21,261,36],[258,37,261,39],[258,40,261,42],[271,37,274,42],[271,43,272,45],[273,43,274,44],[273,45,274,45],[273,46,274,47],[271,46,272,47],[250,48,253,54],[254,17,257,18],[254,19,257,20],[254,21,257,36],[254,37,257,39],[254,40,257,42],[254,43,257,47],[254,48,257,54],[250,17,253,18],[250,19,253,20],[250,21,253,36],[250,37,253,39],[250,40,253,42],[250,43,253,47],[242,48,245,54],[246,17,249,18],[246,19,249,20],[246,21,249,36],[246,37,249,39],[246,40,249,42],[246,43,249,47],[246,48,249,54],[242,17,245,18],[242,19,245,20],[242,21,245,36],[242,37,245,39],[242,40,245,42],[242,43,245,47],[234,48,237,54],[238,17,241,18],[238,19,241,20],[238,21,241,36],[238,37,241,39],[238,40,241,42],[238,43,241,47],[238,48,241,54],[234,17,237,18],[234,19,237,20],[234,21,237,36],[234,37,237,39],[234,40,237,42],[234,43,237,47],[222,17,225,18],[222,19,225,20],[222,21,225,36],[222,37,225,39],[222,40,225,42],[222,43,225,47],[222,48,225,54],[226,48,229,54],[230,17,233,18],[230,19,233,20],[230,21,233,36],[230,37,233,39],[230,40,233,42],[230,43,233,47],[230,48,233,54],[226,17,229,18],[226,19,229,20],[226,21,229,36],[226,37,229,39],[226,40,229,42],[226,43,229,47],[218,1,221,5],[218,6,221,15],[218,17,221,18],[218,19,221,20],[218,21,221,36],[218,37,221,39],[218,40,221,42],[218,43,221,47],[218,48,221,54],[210,40,213,42],[210,43,213,47],[210,48,213,54],[214,1,217,3],[214,4,217,5],[214,6,217,15],[214,17,217,18],[214,19,217,20],[214,21,217,36],[214,37,217,39],[210,1,213,5],[210,6,213,15],[210,17,213,18],[210,19,213,20],[210,21,213,36],[210,37,213,39],[214,40,217,42],[214,43,217,47],[214,48,217,54],[206,1,209,5],[206,6,209,15],[206,17,209,18],[206,19,209,20],[206,21,209,36],[206,37,209,39],[206,40,209,42],[206,43,209,47],[206,48,209,54],[198,43,201,47],[198,48,201,54],[202,1,205,5],[202,6,205,15],[202,17,205,18],[202,19,205,20],[202,21,205,36],[202,37,205,39],[202,40,205,42],[202,43,205,47],[198,1,201,5],[198,6,201,15],[198,17,201,20],[198,21,201,36],[198,37,201,39],[198,40,201,42],[202,48,205,54],[187,52,189,54],[192,1,195,5],[192,6,195,11],[192,12,195,15],[192,16,195,35],[192,37,195,40],[192,41,195,54],[185,19,188,32],[186,1,189,11],[186,12,189,13],[187,49,189,51],[187,40,189,44],[187,45,189,48],[174,37,177,47],[174,48,177,54],[179,48,182,54],[170,17,173,18],[170,19,173,20],[170,21,173,36],[170,37,173,39],[170,40,173,42],[170,43,173,47],[170,48,173,54],[179,37,182,42],[179,43,180,45],[179,46,180,47],[181,43,182,44],[181,45,182,45],[181,46,182,47],[166,17,169,18],[166,19,169,20],[162,43,165,47],[162,48,165,54],[158,17,161,18],[158,19,161,20],[158,21,161,36],[158,37,161,39],[158,40,161,42],[162,17,165,18],[162,19,165,20],[162,21,165,36],[162,37,165,39],[162,40,165,42],[166,48,169,54],[158,43,161,47],[166,21,169,36],[166,37,169,39],[166,40,169,42],[166,43,169,47],[158,48,161,54],[154,48,157,54],[150,17,153,18],[150,19,153,20],[146,43,149,47],[146,48,149,54],[142,17,145,18],[142,19,145,20],[142,21,145,36],[142,37,145,39],[142,40,145,42],[154,17,157,18],[154,19,157,20],[154,21,157,36],[154,37,157,39],[154,40,157,42],[154,43,157,47],[146,17,149,18],[146,19,149,20],[146,21,149,36],[146,37,149,39],[146,40,149,42],[150,48,153,54],[142,43,145,47],[150,21,153,36],[150,37,153,39],[150,40,153,42],[150,43,153,47],[142,48,145,54],[130,48,133,54],[134,48,137,54],[130,17,133,18],[130,19,133,20],[130,21,133,36],[130,37,133,39],[130,40,133,42],[130,43,133,47],[138,48,141,54],[134,17,137,18],[134,19,137,20],[134,21,137,36],[134,37,137,39],[134,40,137,42],[134,43,137,47],[138,17,141,18],[138,19,141,20],[138,21,141,36],[138,37,141,39],[138,40,141,42],[138,43,141,47],[126,1,129,5],[126,6,129,15],[126,17,129,18],[126,19,129,20],[126,21,129,36],[126,37,129,39],[126,40,129,42],[126,43,129,47],[126,48,129,54],[118,40,121,42],[118,43,121,47],[118,48,121,54],[122,1,125,3],[122,4,125,5],[122,6,125,15],[122,17,125,18],[122,19,125,20],[122,21,125,36],[122,37,125,39],[118,1,121,5],[118,6,121,15],[118,17,121,18],[118,19,121,20],[118,21,121,36],[118,37,121,39],[122,40,125,42],[122,43,125,47],[122,48,125,54],[114,1,117,5],[114,6,117,15],[114,17,117,18],[114,19,117,20],[114,21,117,36],[114,37,117,39],[114,40,117,42],[114,43,117,47],[114,48,117,54],[106,43,109,47],[106,48,109,54],[110,1,113,5],[110,6,113,15],[110,17,113,18],[110,19,113,20],[110,21,113,36],[110,37,113,39],[110,40,113,42],[110,43,113,47],[106,1,109,5],[106,6,109,15],[106,17,109,20],[106,21,109,36],[106,37,109,39],[106,40,109,42],[110,48,113,54],[89,46,90,47],[87,46,88,47],[95,49,97,51],[95,52,97,54],[100,1,103,5],[100,6,103,11],[100,12,103,15],[100,16,103,35],[100,37,103,40],[100,41,103,54],[93,19,96,32],[94,1,97,11],[94,12,97,13],[95,40,97,44],[95,45,97,48],[83,1,84,4],[83,5,84,10],[83,11,84,16],[83,17,84,25],[85,1,90,4],[85,5,90,10],[85,11,90,16],[85,17,90,25],[89,45,90,45],[78,43,81,47],[83,26,84,30],[83,31,84,35],[78,17,81,18],[78,19,81,20],[78,21,81,36],[85,26,90,30],[85,31,90,35],[74,48,77,54],[87,48,90,54],[78,48,81,54],[82,37,85,47],[82,48,85,54],[78,37,81,39],[78,40,81,42],[74,17,77,18],[74,19,77,20],[74,21,77,36],[74,37,77,39],[74,40,77,42],[74,43,77,47],[87,37,90,42],[87,43,88,45],[89,43,90,44],[66,48,69,54],[70,17,73,18],[70,19,73,20],[70,21,73,36],[70,37,73,39],[70,40,73,42],[70,43,73,47],[70,48,73,54],[66,17,69,18],[66,19,69,20],[66,21,69,36],[66,37,69,39],[66,40,69,42],[66,43,69,47],[58,48,61,54],[62,17,65,18],[62,19,65,20],[62,21,65,36],[62,37,65,39],[62,40,65,42],[62,43,65,47],[62,48,65,54],[58,17,61,18],[58,19,61,20],[58,21,61,36],[58,37,61,39],[58,40,61,42],[58,43,61,47],[50,48,53,54],[54,17,57,18],[54,19,57,20],[54,21,57,36],[54,37,57,39],[54,40,57,42],[54,43,57,47],[54,48,57,54],[50,17,53,18],[50,19,53,20],[50,21,53,36],[50,37,53,39],[50,40,53,42],[50,43,53,47],[38,17,41,18],[38,19,41,20],[38,21,41,36],[38,37,41,39],[38,40,41,42],[38,43,41,47],[38,48,41,54],[42,48,45,54],[46,17,49,18],[46,19,49,20],[46,21,49,36],[46,37,49,39],[46,40,49,42],[46,43,49,47],[46,48,49,54],[42,17,45,18],[42,19,45,20],[42,21,45,36],[42,37,45,39],[42,40,45,42],[42,43,45,47],[34,1,37,5],[34,6,37,15],[34,17,37,18],[34,19,37,20],[34,21,37,36],[34,37,37,39],[34,40,37,42],[34,43,37,47],[34,48,37,54],[26,40,29,42],[26,43,29,47],[26,48,29,54],[30,1,33,3],[30,4,33,5],[30,6,33,15],[30,17,33,18],[30,19,33,20],[30,21,33,36],[30,37,33,39],[26,1,29,5],[26,6,29,15],[26,17,29,18],[26,19,29,20],[26,21,29,36],[26,37,29,39],[30,40,33,42],[30,43,33,47],[30,48,33,54],[22,1,25,5],[22,6,25,15],[22,17,25,18],[22,19,25,20],[22,21,25,36],[22,37,25,39],[22,40,25,42],[22,43,25,47],[22,48,25,54],[14,43,17,47],[14,48,17,54],[18,1,21,5],[18,6,21,15],[18,17,21,18],[18,19,21,20],[18,21,21,36],[18,37,21,39],[18,40,21,42],[18,43,21,47],[14,1,17,5],[14,6,17,15],[14,17,17,20],[14,21,17,36],[14,37,17,39],[14,40,17,42],[18,48,21,54],[3,52,5,54],[8,37,11,40],[8,41,11,54],[1,19,4,32],[2,1,5,11],[2,12,5,13],[8,1,11,5],[8,6,11,11],[8,12,11,15],[8,16,11,35],[3,49,5,51],[3,40,5,44],[3,45,5,48]]}
[]
[null,null,null,null,null,null,null,null,null,null,null,null,null,null,null,null,null,null,null,"請求書明細書 (正)"]
[null,"株 式 会 社 種 村 建 設",null,null,null,null,null,null,null,null,null,null,"御中"]
[null,null,null,null,null,null,null,null,null,null,null,null,null,null,null,null,null,null,null,null,null,null,null,null,null,null,null,null,null,null,null,null,null,null,null,null,null,null,null,null,"請求年月日",null,null,null,null,{"$f":"IF(年=\"\",\"\",年)","v":""},null,null,null,{"$f":"IF(月=\"\",\"\",月)","v":""},null,null,{"$f":"IF(日=\"\",\"\",日)","v":""}]
[]
[]
[]
[]
[null,"工事番号",null,null,null,null,null,null,null,null,null,null,"工事名",null,null,null,null,null,null,null,null,null,null,null,null,null,null,null,null,null,null,null,null,null,null,null,null,"業者名",null,null,null,{"$f":"IF(社名=\"\",\"\",社名)","v":""}]
[]
[]
[]
[]
[]
[null,"注文番号",null,null,null,null,null,null,null,null,null,null,null,null,null,null,null,"月　日",null,null,null,"品　名・内　訳",null,null,null,null,null,null,null,null,null,null,null,null,null,null,null,"数 量",null,null,"単位",null,null,"単価",null,null,null,null,{"$f":"表紙①!P35","v":"金額(税抜)"}]
[]
[]
[]
[null,"契約金額",null,null,null,null,null,null,null,null,null,null,null,null,null,null,null,null,null,null,null,null,null,null,null,null,null,null,null,null,null,null,null,null,null,null,null,null,null,null,null,null,null,null,null,null,null,null,{"$f":"IF(V19=\"\",\"\",ROUND(AL19*AR19,0))","v":""}]
[]
[]
[]
[null,"増減額",null,null,null,null,null,null,null,null,null,null,null,null,null,null,null,null,null,null,null,null,null,null,null,null,null,null,null,null,null,null,null,null,null,null,null,null,null,null,null,null,null,null,null,null,null,null,{"$f":"IF(V23=\"\",\"\",ROUND(AL23*AR23,0))","v":""}]
[]
[]
[]
[null,"前回までの\n請求額",null,null,null,null,null,null,null,null,null,null,null,null,null,null,null,null,null,null,null,null,null,null,null,null,null,null,null,null,null,null,null,null,null,null,null,null,null,null,null,null,null,null,null,null,null,null,{"$f":"IF(V27=\"\",\"\",ROUND(AL27*AR27,0))","v":""}]
[]
[]
[]
[null,"今回\n請求額",null,null,null,null,null,null,null,null,null,null,null,null,null,null,null,null,null,null,null,null,null,null,null,null,null,null,null,null,null,null,null,null,null,null,null,null,null,null,null,null,null,null,null,null,null,null,{"$f":"IF(V31=\"\",\"\",ROUND(AL31*AR31,0))","v":""}]
[]
[]
[]
[null,"差引残高",null,null,null,null,{"$f":"IF(G19=\"\",\"\",G19+G23-G27-G31)","v":""},null,null,null,null,null,null,null,null,null,null,null,null,null,null,null,null,null,null,null,null,null,null,null,null,null,null,null,null,null,null,null,null,null,null,null,null,null,null,null,null,null,{"$f":"IF(V35=\"\",\"\",ROUND(AL35*AR35,0))","v":""}]
[]
[]
[]
[null,null,null,null,null,null,null,null,null,null,null,null,null,null,null,null,null,null,null,null,null,null,null,null,null,null,null,null,null,null,null,null,null,null,null,null,null,null,null,null,null,null,null,null,null,null,null,null,{"$f":"IF(V39=\"\",\"\",ROUND(AL39*AR39,0))","v":""}]
[]
[]
[]
[null,null,null,null,null,null,null,null,null,null,null,null,null,null,null,null,null,null,null,null,null,null,null,null,null,null,null,null,null,null,null,null,null,null,null,null,null,null,null,null,null,null,null,null,null,null,null,null,{"$f":"IF(V43=\"\",\"\",ROUND(AL43*AR43,0))","v":""}]
[]
[]
[]
[null,null,null,null,null,null,null,null,null,null,null,null,null,null,null,null,null,null,null,null,null,null,null,null,null,null,null,null,null,null,null,null,null,null,null,null,null,null,null,null,null,null,null,null,null,null,null,null,{"$f":"IF(V47=\"\",\"\",ROUND(AL47*AR47,0))","v":""}]
[]
[]
[]
[null,null,null,null,null,null,null,null,null,null,null,null,null,null,null,null,null,null,null,null,null,null,null,null,null,null,null,null,null,null,null,null,null,null,null,null,null,null,null,null,null,null,null,null,null,null,null,null,{"$f":"IF(V51=\"\",\"\",ROUND(AL51*AR51,0))","v":""}]
[]
[]
[]
[null,null,null,null,null,null,null,null,null,null,null,null,null,null,null,null,null,null,null,null,null,null,null,null,null,null,null,null,null,null,null,null,null,null,null,null,null,null,null,null,null,null,null,null,null,null,null,null,{"$f":"IF(V55=\"\",\"\",ROUND(AL55*AR55,0))","v":""}]
[]
[]
[]
[null,null,null,null,null,null,null,null,null,null,null,null,null,null,null,null,null,null,null,null,null,null,null,null,null,null,null,null,null,null,null,null,null,null,null,null,null,null,null,null,null,null,null,null,null,null,null,null,{"$f":"IF(V59=\"\",\"\",ROUND(AL59*AR59,0))","v":""}]
[]
[]
[]
[null,null,null,null,null,null,null,null,null,null,null,null,null,null,null,null,null,null,null,null,null,null,null,null,null,null,null,null,null,null,null,null,null,null,null,null,null,null,null,null,null,null,null,null,null,null,null,null,{"$f":"IF(V63=\"\",\"\",ROUND(AL63*AR63,0))","v":""}]
[]
[]
[]
[null,null,null,null,null,null,null,null,null,null,null,null,null,null,null,null,null,null,null,null,null,null,null,null,null,null,null,null,null,null,null,null,null,null,null,null,null,null,null,null,null,null,null,null,null,null,null,null,{"$f":"IF(V67=\"\",\"\",ROUND(AL67*AR67,0))","v":""}]
[]
[]
[]
[null,null,null,null,null,null,null,null,null,null,null,null,null,null,null,null,null,null,null,null,null,null,null,null,null,null,null,null,null,null,null,null,null,null,null,null,null,null,null,null,null,null,null,null,null,null,null,null,{"$f":"IF(V71=\"\",\"\",ROUND(AL71*AR71,0))","v":""}]
[]
[]
[]
[null,null,null,null,null,null,null,null,null,null,null,null,null,null,null,null,null,null,null,null,null,null,null,null,null,null,null,null,null,null,null,null,null,null,null,null,null,null,null,null,null,null,null,null,null,null,null,null,{"$f":"IF(V75=\"\",\"\",ROUND(AL75*AR75,0))","v":""}]
[]
[]
[]
[null,null,null,null,null,null,null,null,null,null,null,null,null,null,null,null,null,null,null,null,null,null,null,null,null,null,null,null,null,null,null,null,null,null,null,null,null,null,null,null,null,null,null,null,null,null,null,null,{"$f":"IF(V79=\"\",\"\",ROUND(AL79*AR79,0))","v":""}]
[]
[]
[]
[null,null,null,null,null,null,null,null,null,null,null,null,null,null,null,null,null,null,null,null,null,null,null,null,null,null,null,null,null,null,null,null,null,null,null,null,null,"金額(税抜)",null,null,null,null,null,null,null,null,null,null,{"$f":"IF(AW19=\"\",\"\",SUM(AW19:AW79))","v":""}]
[null,"社長",null,null,null,"専務",null,null,null,null,null,"常務",null,null,null,null,null,"部長･工場長",null,null,null,null,null,null,null,null,"担当者",null,null,null,null,"受付"]
[]
[]
[]
[null,null,null,null,null,null,null,null,null,null,null,null,null,null,null,null,null,null,null,null,null,null,null,null,null,null,null,null,null,null,null,null,null,null,null,null,null,"消費税",null,null,null,null,null,"税率",null,null,"税調",null,{"$f":"IF(AW83=\"\",\"\",IF(AR90=\"\",\"\",IF(AR90=8.1,ROUND(AW83*8/100,0)+AU90,ROUND(AW83*AR90/100,0)+AU90)))","v":""}]
[]
[null,null,null,null,null,null,null,null,null,null,null,null,null,null,null,null,null,null,null,null,null,null,null,null,null,null,null,null,null,null,null,null,null,null,null,null,null,null,null,null,null,null,null,null,null,{"$f":"IF(AR90=\"\",\"\",IF(AR90=8.1,\"旧\",IF(AR90=8,\"軽\",IF(AR90=0,\"非\",\"\"))))","v":""}]
[]
[]
[]
[null,null,null,null,null,null,null,null,null,null,null,null,null,null,null,null,null,null,null,"請求明細書 (現場控)"]
[null,"株 式 会 社 種 村 建 設",null,null,null,null,null,null,null,null,null,null,"御中"]
[null,null,null,null,null,null,null,null,null,null,null,null,null,null,null,null,null,null,null,null,null,null,null,null,null,null,null,null,null,null,null,null,null,null,null,null,null,null,null,null,"請求年月日",null,null,null,null,{"$f":"IF(AT4=\"\",\"\",AT4)","v":""},null,null,null,{"$f":"IF(AX4=\"\",\"\",AX4)","v":""},null,null,{"$f":"IF(BA4=\"\",\"\",BA4)","v":""}]
[]
[]
[]
[]
[null,"工事番号",null,null,null,null,{"$f":"IF(G9=\"\",\"\",G9)","v":""},null,null,null,null,null,"工事名",null,null,null,{"$f":"IF(Q9=\"\",\"\",Q9)","v":""},null,null,null,null,null,null,null,null,null,null,null,null,null,null,null,null,null,null,null,null,"業者名",null,null,null,{"$f":"IF(AP9=\"\",\"\",AP9)","v":""}]
[]
[]
[]
[]
[]
[null,"注文番号",null,null,null,null,{"$f":"IF(G15=\"\",\"\",G15)","v":""},null,null,null,null,null,null,null,null,null,null,"月　日",null,null,null,"品　名・内　訳",null,null,null,null,null,null,null,null,null,null,null,null,null,null,null,"数 量",null,null,"単位",null,null,"単価",null,null,null,null,{"$f":"AW15","v":"金額(税抜)"}]
[]
[]
[]
[null,"契約金額",null,null,null,null,{"$f":"IF(G19=\"\",\"\",G19)","v":""},null,null,null,null,null,null,null,null,null,null,{"$f":"IF(R19=\"\",\"\",R19)","v":""},null,{"$f":"IF(T19=\"\",\"\",T19)","v":""},null,{"$f":"IF(V19=\"\",\"\",V19)","v":""},null,{"$f":"IF(X19=\"\",\"\",X19)","v":""},null,{"$f":"IF(Z19=\"\",\"\",Z19)","v":""},null,{"$f":"IF(AB19=\"\",\"\",AB19)","v":""},null,{"$f":"IF(AD19=\"\",\"\",AD19)","v":""},null,{"$f":"IF(AF19=\"\",\"\",AF19)","v":""},null,{"$f":"IF(AH19=\"\",\"\",AH19)","v":""},null,{"$f":"IF(AJ19=\"\",\"\",AJ19)","v":""},null,{"$f":"IF(AL19=\"\",\"\",AL19)","v":""},null,null,{"$f":"IF(AO19=\"\",\"\",AO19)","v":""},null,null,{"$f":"IF(AR19=\"\",\"\",AR19)","v":""},null,null,null,null,{"$f":"IF(AW19=\"\",\"\",AW19)","v":""}]
[]
[]
[]
[null,"増減額",null,null,null,null,{"$f":"IF(G23=\"\",\"\",G23)","v":""},null,null,null,null,null,null,null,null,null,null,{"$f":"IF(R23=\"\",\"\",R23)","v":""},null,{"$f":"IF(T23=\"\",\"\",T23)","v":""},null,{"$f":"IF(V23=\"\",\"\",V23)","v":""},null,{"$f":"IF(X23=\"\",\"\",X23)","v":""},null,{"$f":"IF(Z23=\"\",\"\",Z23)","v":""},null,{"$f":"IF(AB23=\"\",\"\",AB23)","v":""},null,{"$f":"IF(AD23=\"\",\"\",AD23)","v":""},null,{"$f":"IF(AF23=\"\",\"\",AF23)","v":""},null,{"$f":"IF(AH23=\"\",\"\",AH23)","v":""},null,{"$f":"IF(AJ23=\"\",\"\",AJ23)","v":""},null,{"$f":"IF(AL23=\"\",\"\",AL23)","v":""},null,null,{"$f":"IF(AO23=\"\",\"\",AO23)","v":""},null,null,{"$f":"IF(AR23=\"\",\"\",AR23)","v":""},null,null,null,null,{"$f":"IF(AW23=\"\",\"\",AW23)","v":""}]
[]
[]
[]
[null,"前回までの\n請求額",null,null,null,null,{"$f":"IF(G27=\"\",\"\",G27)","v":""},null,null,null,null,null,null,null,null,null,null,{"$f":"IF(R27=\"\",\"\",R27)","v":""},null,{"$f":"IF(T27=\"\",\"\",T27)","v":""},null,{"$f":"IF(V27=\"\",\"\",V27)","v":""},null,{"$f":"IF(X27=\"\",\"\",X27)","v":""},null,{"$f":"IF(Z27=\"\",\"\",Z27)","v":""},null,{"$f":"IF(AB27=\"\",\"\",AB27)","v":""},null,{"$f":"IF(AD27=\"\",\"\",AD27)","v":""},null,{"$f":"IF(AF27=\"\",\"\",AF27)","v":""},null,{"$f":"IF(AH27=\"\",\"\",AH27)","v":""},null,{"$f":"IF(AJ27=\"\",\"\",AJ27)","v":""},null,{"$f":"IF(AL27=\"\",\"\",AL27)","v":""},null,null,{"$f":"IF(AO27=\"\",\"\",AO27)","v":""},null,null,{"$f":"IF(AR27=\"\",\"\",AR27)","v":""},null,null,null,null,{"$f":"IF(AW27=\"\",\"\",AW27)","v":""}]
[]
[]
[]
[null,"今回\n請求額",null,null,{"$f":"IF(E31=\"\",\"\",E31)","v":""},null,{"$f":"IF(G31=\"\",\"\",G31)","v":""},null,null,null,null,null,null,null,null,null,null,{"$f":"IF(R31=\"\",\"\",R31)","v":""},null,{"$f":"IF(T31=\"\",\"\",T31)","v":""},null,{"$f":"IF(V31=\"\",\"\",V31)","v":""},null,{"$f":"IF(X31=\"\",\"\",X31)","v":""},null,{"$f":"IF(Z31=\"\",\"\",Z31)","v":""},null,{"$f":"IF(AB31=\"\",\"\",AB31)","v":""},null,{"$f":"IF(AD31=\"\",\"\",AD31)","v":""},null,{"$f":"IF(AF31=\"\",\"\",AF31)","v":""},null,{"$f":"IF(AH31=\"\",\"\",AH31)","v":""},null,{"$f":"IF(AJ31=\"\",\"\",AJ31)","v":""},null,{"$f":"IF(AL31=\"\",\"\",AL31)","v":""},null,null,{"$f":"IF(AO31=\"\",\"\",AO31)","v":""},null,null,{"$f":"IF(AR31=\"\",\"\",AR31)","v":""},null,null,null,null,{"$f":"IF(AW31=\"\",\"\",AW31)","v":""}]
[]
[]
[]
[null,"差引残高",null,null,null,null,{"$f":"IF(G111=\"\",\"\",G111+G115-G119-G123)","v":""},null,null,null,null,null,null,null,null,null,null,{"$f":"IF(R35=\"\",\"\",R35)","v":""},null,{"$f":"IF(T35=\"\",\"\",T35)","v":""},null,{"$f":"IF(V35=\"\",\"\",V35)","v":""},null,{"$f":"IF(X35=\"\",\"\",X35)","v":""},null,{"$f":"IF(Z35=\"\",\"\",Z35)","v":""},null,{"$f":"IF(AB35=\"\",\"\",AB35)","v":""},null,{"$f":"IF(AD35=\"\",\"\",AD35)","v":""},null,{"$f":"IF(AF35=\"\",\"\",AF35)","v":""},null,{"$f":"IF(AH35=\"\",\"\",AH35)","v":""},null,{"$f":"IF(AJ35=\"\",\"\",AJ35)","v":""},null,{"$f":"IF(AL35=\"\",\"\",AL35)","v":""},null,null,{"$f":"IF(AO35=\"\",\"\",AO35)","v":""},null,null,{"$f":"IF(AR35=\"\",\"\",AR35)","v":""},null,null,null,null,{"$f":"IF(AW35=\"\",\"\",AW35)","v":""}]
[]
[]
[]
[null,null,null,null,null,null,null,null,null,null,null,null,null,null,null,null,null,{"$f":"IF(R39=\"\",\"\",R39)","v":""},null,{"$f":"IF(T39=\"\",\"\",T39)","v":""},null,{"$f":"IF(V39=\"\",\"\",V39)","v":""},null,{"$f":"IF(X39=\"\",\"\",X39)","v":""},null,{"$f":"IF(Z39=\"\",\"\",Z39)","v":""},null,{"$f":"IF(AB39=\"\",\"\",AB39)","v":""},null,{"$f":"IF(AD39=\"\",\"\",AD39)","v":""},null,{"$f":"IF(AF39=\"\",\"\",AF39)","v":""},null,{"$f":"IF(AH39=\"\",\"\",AH39)","v":""},null,{"$f":"IF(AJ39=\"\",\"\",AJ39)","v":""},null,{"$f":"IF(AL39=\"\",\"\",AL39)","v":""},null,null,{"$f":"IF(AO39=\"\",\"\",AO39)","v":""},null,null,{"$f":"IF(AR39=\"\",\"\",AR39)","v":""},null,null,null,null,{"$f":"IF(AW39=\"\",\"\",AW39)","v":""}]
[]
[]
[]
[null,null,null,null,null,null,null,null,null,null,null,null,null,null,null,null,null,{"$f":"IF(R43=\"\",\"\",R43)","v":""},null,{"$f":"IF(T43=\"\",\"\",T43)","v":""},null,{"$f":"IF(V43=\"\",\"\",V43)","v":""},null,{"$f":"IF(X43=\"\",\"\",X43)","v":""},null,{"$f":"IF(Z43=\"\",\"\",Z43)","v":""},null,{"$f":"IF(AB43=\"\",\"\",AB43)","v":""},null,{"$f":"IF(AD43=\"\",\"\",AD43)","v":""},null,{"$f":"IF(AF43=\"\",\"\",AF43)","v":""},null,{"$f":"IF(AH43=\"\",\"\",AH43)","v":""},null,{"$f":"IF(AJ43=\"\",\"\",AJ43)","v":""},null,{"$f":"IF(AL43=\"\",\"\",AL43)","v":""},null,null,{"$f":"IF(AO43=\"\",\"\",AO43)","v":""},null,null,{"$f":"IF(AR43=\"\",\"\",AR43)","v":""},null,null,null,null,{"$f":"IF(AW43=\"\",\"\",AW43)","v":""}]
[]
[]
[]
[null,null,null,null,null,null,null,null,null,null,null,null,null,null,null,null,null,{"$f":"IF(R47=\"\",\"\",R47)","v":""},null,{"$f":"IF(T47=\"\",\"\",T47)","v":""},null,{"$f":"IF(V47=\"\",\"\",V47)","v":""},null,{"$f":"IF(X47=\"\",\"\",X47)","v":""},null,{"$f":"IF(Z47=\"\",\"\",Z47)","v":""},null,{"$f":"IF(AB47=\"\",\"\",AB47)","v":""},null,{"$f":"IF(AD47=\"\",\"\",AD47)","v":""},null,{"$f":"IF(AF47=\"\",\"\",AF47)","v":""},null,{"$f":"IF(AH47=\"\",\"\",AH47)","v":""},null,{"$f":"IF(AJ47=\"\",\"\",AJ47)","v":""},null,{"$f":"IF(AL47=\"\",\"\",AL47)","v":""},null,null,{"$f":"IF(AO47=\"\",\"\",AO47)","v":""},null,null,{"$f":"IF(AR47=\"\",\"\",AR47)","v":""},null,null,null,null,{"$f":"IF(AW47=\"\",\"\",AW47)","v":""}]
[]
[]
[]
[null,null,null,null,null,null,null,null,null,null,null,null,null,null,null,null,null,{"$f":"IF(R51=\"\",\"\",R51)","v":""},null,{"$f":"IF(T51=\"\",\"\",T51)","v":""},null,{"$f":"IF(V51=\"\",\"\",V51)","v":""},null,{"$f":"IF(X51=\"\",\"\",X51)","v":""},null,{"$f":"IF(Z51=\"\",\"\",Z51)","v":""},null,{"$f":"IF(AB51=\"\",\"\",AB51)","v":""},null,{"$f":"IF(AD51=\"\",\"\",AD51)","v":""},null,{"$f":"IF(AF51=\"\",\"\",AF51)","v":""},null,{"$f":"IF(AH51=\"\",\"\",AH51)","v":""},null,{"$f":"IF(AJ51=\"\",\"\",AJ51)","v":""},null,{"$f":"IF(AL51=\"\",\"\",AL51)","v":""},null,null,{"$f":"IF(AO51=\"\",\"\",AO51)","v":""},null,null,{"$f":"IF(AR51=\"\",\"\",AR51)","v":""},null,null,null,null,{"$f":"IF(AW51=\"\",\"\",AW51)","v":""}]
[]
[]
[]
[null,null,null,null,null,null,null,null,null,null,null,null,null,null,null,null,null,{"$f":"IF(R55=\"\",\"\",R55)","v":""},null,{"$f":"IF(T55=\"\",\"\",T55)","v":""},null,{"$f":"IF(V55=\"\",\"\",V55)","v":""},null,{"$f":"IF(X55=\"\",\"\",X55)","v":""},null,{"$f":"IF(Z55=\"\",\"\",Z55)","v":""},null,{"$f":"IF(AB55=\"\",\"\",AB55)","v":""},null,{"$f":"IF(AD55=\"\",\"\",AD55)","v":""},null,{"$f":"IF(AF55=\"\",\"\",AF55)","v":""},null,{"$f":"IF(AH55=\"\",\"\",AH55)","v":""},null,{"$f":"IF(AJ55=\"\",\"\",AJ55)","v":""},null,{"$f":"IF(AL55=\"\",\"\",AL55)","v":""},null,null,{"$f":"IF(AO55=\"\",\"\",AO55)","v":""},null,null,{"$f":"IF(AR55=\"\",\"\",AR55)","v":""},null,null,null,null,{"$f":"IF(AW55=\"\",\"\",AW55)","v":""}]
[]
[]
[]
[null,null,null,null,null,null,null,null,null,null,null,null,null,null,null,null,null,{"$f":"IF(R59=\"\",\"\",R59)","v":""},null,{"$f":"IF(T59=\"\",\"\",T59)","v":""},null,{"$f":"IF(V59=\"\",\"\",V59)","v":""},null,{"$f":"IF(X59=\"\",\"\",X59)","v":""},null,{"$f":"IF(Z59=\"\",\"\",Z59)","v":""},null,{"$f":"IF(AB59=\"\",\"\",AB59)","v":""},null,{"$f":"IF(AD59=\"\",\"\",AD59)","v":""},null,{"$f":"IF(AF59=\"\",\"\",AF59)","v":""},null,{"$f":"IF(AH59=\"\",\"\",AH59)","v":""},null,{"$f":"IF(AJ59=\"\",\"\",AJ59)","v":""},null,{"$f":"IF(AL59=\"\",\"\",AL59)","v":""},null,null,{"$f":"IF(AO59=\"\",\"\",AO59)","v":""},null,null,{"$f":"IF(AR59=\"\",\"\",AR59)","v":""},null,null,null,null,{"$f":"IF(AW59=\"\",\"\",AW59)","v":""}]
[]
[]
[]
[null,null,null,null,null,null,null,null,null,null,null,null,null,null,null,null,null,{"$f":"IF(R63=\"\",\"\",R63)","v":""},null,{"$f":"IF(T63=\"\",\"\",T63)","v":""},null,{"$f":"IF(V63=\"\",\"\",V63)","v":""},null,{"$f":"IF(X63=\"\",\"\",X63)","v":""},null,{"$f":"IF(Z63=\"\",\"\",Z63)","v":""},null,{"$f":"IF(AB63=\"\",\"\",AB63)","v":""},null,{"$f":"IF(AD63=\"\",\"\",AD63)","v":""},null,{"$f":"IF(AF63=\"\",\"\",AF63)","v":""},null,{"$f":"IF(AH63=\"\",\"\",AH63)","v":""},null,{"$f":"IF(AJ63=\"\",\"\",AJ63)","v":""},null,{"$f":"IF(AL63=\"\",\"\",AL63)","v":""},null,null,{"$f":"IF(AO63=\"\",\"\",AO63)","v":""},null,null,{"$f":"IF(AR63=\"\",\"\",AR63)","v":""},null,null,null,null,{"$f":"IF(AW63=\"\",\"\",AW63)","v":""}]
[]
[]
[]
[null,null,null,null,null,null,null,null,null,null,null,null,null,null,null,null,null,{"$f":"IF(R67=\"\",\"\",R67)","v":""},null,{"$f":"IF(T67=\"\",\"\",T67)","v":""},null,{"$f":"IF(V67=\"\",\"\",V67)","v":""},null,{"$f":"IF(X67=\"\",\"\",X67)","v":""},null,{"$f":"IF(Z67=\"\",\"\",Z67)","v":""},null,{"$f":"IF(AB67=\"\",\"\",AB67)","v":""},null,{"$f":"IF(AD67=\"\",\"\",AD67)","v":""},null,{"$f":"IF(AF67=\"\",\"\",AF67)","v":""},null,{"$f":"IF(AH67=\"\",\"\",AH67)","v":""},null,{"$f":"IF(AJ67=\"\",\"\",AJ67)","v":""},null,{"$f":"IF(AL67=\"\",\"\",AL67)","v":""},null,null,{"$f":"IF(AO67=\"\",\"\",AO67)","v":""},null,null,{"$f":"IF(AR67=\"\",\"\",AR67)","v":""},null,null,null,null,{"$f":"IF(AW67=\"\",\"\",AW67)","v":""}]
[]
[]
[]
[null,null,null,null,null,null,null,null,null,null,null,null,null,null,null,null,null,{"$f":"IF(R71=\"\",\"\",R71)","v":""},null,{"$f":"IF(T71=\"\",\"\",T71)","v":""},null,{"$f":"IF(V71=\"\",\"\",V71)","v":""},null,{"$f":"IF(X71=\"\",\"\",X71)","v":""},null,{"$f":"IF(Z71=\"\",\"\",Z71)","v":""},null,{"$f":"IF(AB71=\"\",\"\",AB71)","v":""},null,{"$f":"IF(AD71=\"\",\"\",AD71)","v":""},null,{"$f":"IF(AF71=\"\",\"\",AF71)","v":""},null,{"$f":"IF(AH71=\"\",\"\",AH71)","v":""},null,{"$f":"IF(AJ71=\"\",\"\",AJ71)","v":""},null,{"$f":"IF(AL71=\"\",\"\",AL71)","v":""},null,null,{"$f":"IF(AO71=\"\",\"\",AO71)","v":""},null,null,{"$f":"IF(AR71=\"\",\"\",AR71)","v":""},null,null,null,null,{"$f":"IF(AW71=\"\",\"\",AW71)","v":""}]
[]
[]
[]
[null,null,null,null,null,null,null,null,null,null,null,null,null,null,null,null,null,{"$f":"IF(R75=\"\",\"\",R75)","v":""},null,{"$f":"IF(T75=\"\",\"\",T75)","v":""},null,{"$f":"IF(V75=\"\",\"\",V75)","v":""},null,{"$f":"IF(X75=\"\",\"\",X75)","v":""},null,{"$f":"IF(Z75=\"\",\"\",Z75)","v":""},null,{"$f":"IF(AB75=\"\",\"\",AB75)","v":""},null,{"$f":"IF(AD75=\"\",\"\",AD75)","v":""},null,{"$f":"IF(AF75=\"\",\"\",AF75)","v":""},null,{"$f":"IF(AH75=\"\",\"\",AH75)","v":""},null,{"$f":"IF(AJ75=\"\",\"\",AJ75)","v":""},null,{"$f":"IF(AL75=\"\",\"\",AL75)","v":""},null,null,{"$f":"IF(AO75=\"\",\"\",AO75)","v":""},null,null,{"$f":"IF(AR75=\"\",\"\",AR75)","v":""},null,null,null,null,{"$f":"IF(AW75=\"\",\"\",AW75)","v":""}]
[]
[]
[]
[null,null,null,null,null,null,null,null,null,null,null,null,null,null,null,null,null,{"$f":"IF(R79=\"\",\"\",R79)","v":""},null,{"$f":"IF(T79=\"\",\"\",T79)","v":""},null,{"$f":"IF(V79=\"\",\"\",V79)","v":""},null,{"$f":"IF(X79=\"\",\"\",X79)","v":""},null,{"$f":"IF(Z79=\"\",\"\",Z79)","v":""},null,{"$f":"IF(AB79=\"\",\"\",AB79)","v":""},null,{"$f":"IF(AD79=\"\",\"\",AD79)","v":""},null,{"$f":"IF(AF79=\"\",\"\",AF79)","v":""},null,{"$f":"IF(AH79=\"\",\"\",AH79)","v":""},null,{"$f":"IF(AJ79=\"\",\"\",AJ79)","v":""},null,{"$f":"IF(AL79=\"\",\"\",AL79)","v":""},null,null,{"$f":"IF(AO79=\"\",\"\",AO79)","v":""},null,null,{"$f":"IF(AR79=\"\",\"\",AR79)","v":""},null,null,null,null,{"$f":"IF(AW79=\"\",\"\",AW79)","v":""}]
[]
[]
[]
[null,null,null,null,null,null,null,null,null,null,null,null,null,null,null,null,null,null,null,null,null,null,null,null,null,null,null,null,null,null,null,null,null,null,null,null,null,{"$f":"AL83","v":"金額(税抜)"},null,null,null,null,null,null,null,null,null,null,{"$f":"AW83","v":""}]
[]
[]
[]
[]
[null,null,null,null,null,null,null,null,null,null,null,null,null,null,null,null,null,null,null,null,null,null,null,null,null,null,null,null,null,null,null,null,null,null,null,null,null,{"$f":"AL88","v":"消費税"},null,null,null,null,null,"税率",null,null,"税調",null,{"$f":"AW88","v":""}]
[]
[null,null,null,null,null,null,null,null,null,null,null,null,null,null,null,null,null,null,null,null,null,null,null,null,null,null,null,null,null,null,null,null,null,null,null,null,null,null,null,null,null,null,null,{"$f":"AR90","v":0},null,{"$f":"AT90","v":""}]
[]
[]
[]
[null,null,null,null,null,null,null,null,null,null,null,null,null,null,null,null,null,null,null,"請求明細書 (貴社控)"]
[null,"株 式 会 社 種 村 建 設",null,null,null,null,null,null,null,null,null,null,"御中"]
[null,null,null,null,null,null,null,null,null,null,null,null,null,null,null,null,null,null,null,null,null,null,null,null,null,null,null,null,null,null,null,null,null,null,null,null,null,null,null,null,"請求年月日",null,null,null,null,{"$f":"IF(AT4=\"\",\"\",AT4)","v":""},null,null,null,{"$f":"IF(AX96=\"\",\"\",AX96)","v":""},null,null,{"$f":"IF(BA96=\"\",\"\",BA96)","v":""}]
[]
[]
[]
[]
[null,"工事番号",null,null,null,null,{"$f":"IF(G101=\"\",\"\",G101)","v":""},null,null,null,null,null,"工事名",null,null,null,{"$f":"IF(Q101=\"\",\"\",Q101)","v":""},null,null,null,null,null,null,null,null,null,null,null,null,null,null,null,null,null,null,null,null,"業者名",null,null,null,{"$f":"IF(AP101=\"\",\"\",AP101)","v":""}]
[]
[]
[]
[]
[]
[null,"注文番号",null,null,null,null,{"$f":"IF(G107=\"\",\"\",G107)","v":""},null,null,null,null,null,null,null,null,null,null,"月　日",null,null,null,"品　名・内　訳",null,null,null,null,null,null,null,null,null,null,null,null,null,null,null,"数 量",null,null,"単位",null,null,"単価",null,null,null,null,{"$f":"AW15","v":"金額(税抜)"}]
[]
[]
[]
[null,"契約金額",null,null,null,null,{"$f":"IF(G111=\"\",\"\",G111)","v":""},null,null,null,null,null,null,null,null,null,null,{"$f":"IF(R111=\"\",\"\",R111)","v":""},null,{"$f":"IF(T111=\"\",\"\",T111)","v":""},null,{"$f":"IF(V111=\"\",\"\",V111)","v":""},null,{"$f":"IF(X111=\"\",\"\",X111)","v":""},null,{"$f":"IF(Z111=\"\",\"\",Z111)","v":""},null,{"$f":"IF(AB111=\"\",\"\",AB111)","v":""},null,{"$f":"IF(AD111=\"\",\"\",AD111)","v":""},null,{"$f":"IF(AF111=\"\",\"\",AF111)","v":""},null,{"$f":"IF(AH111=\"\",\"\",AH111)","v":""},null,{"$f":"IF(AJ111=\"\",\"\",AJ111)","v":""},null,{"$f":"IF(AL111=\"\",\"\",AL111)","v":""},null,null,{"$f":"IF(AO111=\"\",\"\",AO111)","v":""},null,null,{"$f":"IF(AR111=\"\",\"\",AR111)","v":""},null,null,null,null,{"$f":"IF(AW111=\"\",\"\",AW111)","v":""}]
[]
[]
[]
[null,"増減額",null,null,null,null,{"$f":"IF(G115=\"\",\"\",G115)","v":""},null,null,null,null,null,null,null,null,null,null,{"$f":"IF(R115=\"\",\"\",R115)","v":""},null,{"$f":"IF(T115=\"\",\"\",T115)","v":""},null,{"$f":"IF(V115=\"\",\"\",V115)","v":""},null,{"$f":"IF(X115=\"\",\"\",X115)","v":""},null,{"$f":"IF(Z115=\"\",\"\",Z115)","v":""},null,{"$f":"IF(AB115=\"\",\"\",AB115)","v":""},null,{"$f":"IF(AD115=\"\",\"\",AD115)","v":""},null,{"$f":"IF(AF115=\"\",\"\",AF115)","v":""},null,{"$f":"IF(AH115=\"\",\"\",AH115)","v":""},null,{"$f":"IF(AJ115=\"\",\"\",AJ115)","v":""},null,{"$f":"IF(AL115=\"\",\"\",AL115)","v":""},null,null,{"$f":"IF(AO115=\"\",\"\",AO115)","v":""},null,null,{"$f":"IF(AR115=\"\",\"\",AR115)","v":""},null,null,null,null,{"$f":"IF(AW115=\"\",\"\",AW115)","v":""}]
[]
[]
[]
[null,"前回までの\n請求額",null,null,null,null,{"$f":"IF(G119=\"\",\"\",G119)","v":""},null,null,null,null,null,null,null,null,null,null,{"$f":"IF(R119=\"\",\"\",R119)","v":""},null,{"$f":"IF(T119=\"\",\"\",T119)","v":""},null,{"$f":"IF(V119=\"\",\"\",V119)","v":""},null,{"$f":"IF(X119=\"\",\"\",X119)","v":""},null,{"$f":"IF(Z119=\"\",\"\",Z119)","v":""},null,{"$f":"IF(AB119=\"\",\"\",AB119)","v":""},null,{"$f":"IF(AD119=\"\",\"\",AD119)","v":""},null,{"$f":"IF(AF119=\"\",\"\",AF119)","v":""},null,{"$f":"IF(AH119=\"\",\"\",AH119)","v":""},null,{"$f":"IF(AJ119=\"\",\"\",AJ119)","v":""},null,{"$f":"IF(AL119=\"\",\"\",AL119)","v":""},null,null,{"$f":"IF(AO119=\"\",\"\",AO119)","v":""},null,null,{"$f":"IF(AR119=\"\",\"\",AR119)","v":""},null,null,null,null,{"$f":"IF(AW119=\"\",\"\",AW119)","v":""}]
[]
[]
[]
[null,"今回\n請求額",null,null,{"$f":"IF(E31=\"\",\"\",E31)","v":""},null,{"$f":"IF(G123=\"\",\"\",G123)","v":""},null,null,null,null,null,null,null,null,null,null,{"$f":"IF(R123=\"\",\"\",R123)","v":""},null,{"$f":"IF(T123=\"\",\"\",T123)","v":""},null,{"$f":"IF(V123=\"\",\"\",V123)","v":""},null,{"$f":"IF(X123=\"\",\"\",X123)","v":""},null,{"$f":"IF(Z123=\"\",\"\",Z123)","v":""},null,{"$f":"IF(AB123=\"\",\"\",AB123)","v":""},null,{"$f":"IF(AD123=\"\",\"\",AD123)","v":""},null,{"$f":"IF(AF123=\"\",\"\",AF123)","v":""},null,{"$f":"IF(AH123=\"\",\"\",AH123)","v":""},null,{"$f":"IF(AJ123=\"\",\"\",AJ123)","v":""},null,{"$f":"IF(AL123=\"\",\"\",AL123)","v":""},null,null,{"$f":"IF(AO123=\"\",\"\",AO123)","v":""},null,null,{"$f":"IF(AR123=\"\",\"\",AR123)","v":""},null,null,null,null,{"$f":"IF(AW123=\"\",\"\",AW123)","v":""}]
[]
[]
[]
[null,"差引残高",null,null,null,null,{"$f":"IF(G203=\"\",\"\",G203+G207-G211-G215)","v":""},null,null,null,null,null,null,null,null,null,null,{"$f":"IF(R127=\"\",\"\",R127)","v":""},null,{"$f":"IF(T127=\"\",\"\",T127)","v":""},null,{"$f":"IF(V127=\"\",\"\",V127)","v":""},null,{"$f":"IF(X127=\"\",\"\",X127)","v":""},null,{"$f":"IF(Z127=\"\",\"\",Z127)","v":""},null,{"$f":"IF(AB127=\"\",\"\",AB127)","v":""},null,{"$f":"IF(AD127=\"\",\"\",AD127)","v":""},null,{"$f":"IF(AF127=\"\",\"\",AF127)","v":""},null,{"$f":"IF(AH127=\"\",\"\",AH127)","v":""},null,{"$f":"IF(AJ127=\"\",\"\",AJ127)","v":""},null,{"$f":"IF(AL127=\"\",\"\",AL127)","v":""},null,null,{"$f":"IF(AO127=\"\",\"\",AO127)","v":""},null,null,{"$f":"IF(AR127=\"\",\"\",AR127)","v":""},null,null,null,null,{"$f":"IF(AW127=\"\",\"\",AW127)","v":""}]
[]
[]
[]
[null,null,null,null,null,null,null,null,null,null,null,null,null,null,null,null,null,{"$f":"IF(R131=\"\",\"\",R131)","v":""},null,{"$f":"IF(T131=\"\",\"\",T131)","v":""},null,{"$f":"IF(V131=\"\",\"\",V131)","v":""},null,{"$f":"IF(X131=\"\",\"\",X131)","v":""},null,{"$f":"IF(Z131=\"\",\"\",Z131)","v":""},null,{"$f":"IF(AB131=\"\",\"\",AB131)","v":""},null,{"$f":"IF(AD131=\"\",\"\",AD131)","v":""},null,{"$f":"IF(AF131=\"\",\"\",AF131)","v":""},null,{"$f":"IF(AH131=\"\",\"\",AH131)","v":""},null,{"$f":"IF(AJ131=\"\",\"\",AJ131)","v":""},null,{"$f":"IF(AL131=\"\",\"\",AL131)","v":""},null,null,{"$f":"IF(AO131=\"\",\"\",AO131)","v":""},null,null,{"$f":"IF(AR131=\"\",\"\",AR131)","v":""},null,null,null,null,{"$f":"IF(AW131=\"\",\"\",AW131)","v":""}]
[]
[]
[]
[null,null,null,null,null,null,null,null,null,null,null,null,null,null,null,null,null,{"$f":"IF(R135=\"\",\"\",R135)","v":""},null,{"$f":"IF(T135=\"\",\"\",T135)","v":""},null,{"$f":"IF(V135=\"\",\"\",V135)","v":""},null,{"$f":"IF(X135=\"\",\"\",X135)","v":""},null,{"$f":"IF(Z135=\"\",\"\",Z135)","v":""},null,{"$f":"IF(AB135=\"\",\"\",AB135)","v":""},null,{"$f":"IF(AD135=\"\",\"\",AD135)","v":""},null,{"$f":"IF(AF135=\"\",\"\",AF135)","v":""},null,{"$f":"IF(AH135=\"\",\"\",AH135)","v":""},null,{"$f":"IF(AJ135=\"\",\"\",AJ135)","v":""},null,{"$f":"IF(AL135=\"\",\"\",AL135)","v":""},null,null,{"$f":"IF(AO135=\"\",\"\",AO135)","v":""},null,null,{"$f":"IF(AR135=\"\",\"\",AR135)","v":""},null,null,null,null,{"$f":"IF(AW135=\"\",\"\",AW135)","v":""}]
[]
[]
[]
[null,null,null,null,null,null,null,null,null,null,null,null,null,null,null,null,null,{"$f":"IF(R139=\"\",\"\",R139)","v":""},null,{"$f":"IF(T139=\"\",\"\",T139)","v":""},null,{"$f":"IF(V139=\"\",\"\",V139)","v":""},null,{"$f":"IF(X139=\"\",\"\",X139)","v":""},null,{"$f":"IF(Z139=\"\",\"\",Z139)","v":""},null,{"$f":"IF(AB139=\"\",\"\",AB139)","v":""},null,{"$f":"IF(AD139=\"\",\"\",AD139)","v":""},null,{"$f":"IF(AF139=\"\",\"\",AF139)","v":""},null,{"$f":"IF(AH139=\"\",\"\",AH139)","v":""},null,{"$f":"IF(AJ139=\"\",\"\",AJ139)","v":""},null,{"$f":"IF(AL139=\"\",\"\",AL139)","v":""},null,null,{"$f":"IF(AO139=\"\",\"\",AO139)","v":""},null,null,{"$f":"IF(AR139=\"\",\"\",AR139)","v":""},null,null,null,null,{"$f":"IF(AW139=\"\",\"\",AW139)","v":""}]
[]
[]
[]
[null,null,null,null,null,null,null,null,null,null,null,null,null,null,null,null,null,{"$f":"IF(R143=\"\",\"\",R143)","v":""},null,{"$f":"IF(T143=\"\",\"\",T143)","v":""},null,{"$f":"IF(V143=\"\",\"\",V143)","v":""},null,{"$f":"IF(X143=\"\",\"\",X143)","v":""},null,{"$f":"IF(Z143=\"\",\"\",Z143)","v":""},null,{"$f":"IF(AB143=\"\",\"\",AB143)","v":""},null,{"$f":"IF(AD143=\"\",\"\",AD143)","v":""},null,{"$f":"IF(AF143=\"\",\"\",AF143)","v":""},null,{"$f":"IF(AH143=\"\",\"\",AH143)","v":""},null,{"$f":"IF(AJ143=\"\",\"\",AJ143)","v":""},null,{"$f":"IF(AL143=\"\",\"\",AL143)","v":""},null,null,{"$f":"IF(AO143=\"\",\"\",AO143)","v":""},null,null,{"$f":"IF(AR143=\"\",\"\",AR143)","v":""},null,null,null,null,{"$f":"IF(AW143=\"\",\"\",AW143)","v":""}]
[]
[]
[]
[null,null,null,null,null,null,null,null,null,null,null,null,null,null,null,null,null,{"$f":"IF(R147=\"\",\"\",R147)","v":""},null,{"$f":"IF(T147=\"\",\"\",T147)","v":""},null,{"$f":"IF(V147=\"\",\"\",V147)","v":""},null,{"$f":"IF(X147=\"\",\"\",X147)","v":""},null,{"$f":"IF(Z147=\"\",\"\",Z147)","v":""},null,{"$f":"IF(AB147=\"\",\"\",AB147)","v":""},null,{"$f":"IF(AD147=\"\",\"\",AD147)","v":""},null,{"$f":"IF(AF147=\"\",\"\",AF147)","v":""},null,{"$f":"IF(AH147=\"\",\"\",AH147)","v":""},null,{"$f":"IF(AJ147=\"\",\"\",AJ147)","v":""},null,{"$f":"IF(AL147=\"\",\"\",AL147)","v":""},null,null,{"$f":"IF(AO147=\"\",\"\",AO147)","v":""},null,null,{"$f":"IF(AR147=\"\",\"\",AR147)","v":""},null,null,null,null,{"$f":"IF(AW147=\"\",\"\",AW147)","v":""}]
[]
[]
[]
[null,null,null,null,null,null,null,null,null,null,null,null,null,null,null,null,null,{"$f":"IF(R151=\"\",\"\",R151)","v":""},null,{"$f":"IF(T151=\"\",\"\",T151)","v":""},null,{"$f":"IF(V151=\"\",\"\",V151)","v":""},null,{"$f":"IF(X151=\"\",\"\",X151)","v":""},null,{"$f":"IF(Z151=\"\",\"\",Z151)","v":""},null,{"$f":"IF(AB151=\"\",\"\",AB151)","v":""},null,{"$f":"IF(AD151=\"\",\"\",AD151)","v":""},null,{"$f":"IF(AF151=\"\",\"\",AF151)","v":""},null,{"$f":"IF(AH151=\"\",\"\",AH151)","v":""},null,{"$f":"IF(AJ151=\"\",\"\",AJ151)","v":""},null,{"$f":"IF(AL151=\"\",\"\",AL151)","v":""},null,null,{"$f":"IF(AO151=\"\",\"\",AO151)","v":""},null,null,{"$f":"IF(AR151=\"\",\"\",AR151)","v":""},null,null,null,null,{"$f":"IF(AW151=\"\",\"\",AW151)","v":""}]
[]
[]
[]
[null,null,null,null,null,null,null,null,null,null,null,null,null,null,null,null,null,{"$f":"IF(R155=\"\",\"\",R155)","v":""},null,{"$f":"IF(T155=\"\",\"\",T155)","v":""},null,{"$f":"IF(V155=\"\",\"\",V155)","v":""},null,{"$f":"IF(X155=\"\",\"\",X155)","v":""},null,{"$f":"IF(Z155=\"\",\"\",Z155)","v":""},null,{"$f":"IF(AB155=\"\",\"\",AB155)","v":""},null,{"$f":"IF(AD155=\"\",\"\",AD155)","v":""},null,{"$f":"IF(AF155=\"\",\"\",AF155)","v":""},null,{"$f":"IF(AH155=\"\",\"\",AH155)","v":""},null,{"$f":"IF(AJ155=\"\",\"\",AJ155)","v":""},null,{"$f":"IF(AL155=\"\",\"\",AL155)","v":""},null,null,{"$f":"IF(AO155=\"\",\"\",AO155)","v":""},null,null,{"$f":"IF(AR155=\"\",\"\",AR155)","v":""},null,null,null,null,{"$f":"IF(AW155=\"\",\"\",AW155)","v":""}]
[]
[]
[]
[null,null,null,null,null,null,null,null,null,null,null,null,null,null,null,null,null,{"$f":"IF(R159=\"\",\"\",R159)","v":""},null,{"$f":"IF(T159=\"\",\"\",T159)","v":""},null,{"$f":"IF(V159=\"\",\"\",V159)","v":""},null,{"$f":"IF(X159=\"\",\"\",X159)","v":""},null,{"$f":"IF(Z159=\"\",\"\",Z159)","v":""},null,{"$f":"IF(AB159=\"\",\"\",AB159)","v":""},null,{"$f":"IF(AD159=\"\",\"\",AD159)","v":""},null,{"$f":"IF(AF159=\"\",\"\",AF159)","v":""},null,{"$f":"IF(AH159=\"\",\"\",AH159)","v":""},null,{"$f":"IF(AJ159=\"\",\"\",AJ159)","v":""},null,{"$f":"IF(AL159=\"\",\"\",AL159)","v":""},null,null,{"$f":"IF(AO159=\"\",\"\",AO159)","v":""},null,null,{"$f":"IF(AR159=\"\",\"\",AR159)","v":""},null,null,null,null,{"$f":"IF(AW159=\"\",\"\",AW159)","v":""}]
[]
[]
[]
[null,null,null,null,null,null,null,null,null,null,null,null,null,null,null,null,null,{"$f":"IF(R163=\"\",\"\",R163)","v":""},null,{"$f":"IF(T163=\"\",\"\",T163)","v":""},null,{"$f":"IF(V163=\"\",\"\",V163)","v":""},null,{"$f":"IF(X163=\"\",\"\",X163)","v":""},null,{"$f":"IF(Z163=\"\",\"\",Z163)","v":""},null,{"$f":"IF(AB163=\"\",\"\",AB163)","v":""},null,{"$f":"IF(AD163=\"\",\"\",AD163)","v":""},null,{"$f":"IF(AF163=\"\",\"\",AF163)","v":""},null,{"$f":"IF(AH163=\"\",\"\",AH163)","v":""},null,{"$f":"IF(AJ163=\"\",\"\",AJ163)","v":""},null,{"$f":"IF(AL163=\"\",\"\",AL163)","v":""},null,null,{"$f":"IF(AO163=\"\",\"\",AO163)","v":""},null,null,{"$f":"IF(AR163=\"\",\"\",AR163)","v":""},null,null,null,null,{"$f":"IF(AW163=\"\",\"\",AW163)","v":""}]
[]
[]
[]
[null,null,null,null,null,null,null,null,null,null,null,null,null,null,null,null,null,{"$f":"IF(R167=\"\",\"\",R167)","v":""},null,{"$f":"IF(T167=\"\",\"\",T167)","v":""},null,{"$f":"IF(V167=\"\",\"\",V167)","v":""},null,{"$f":"IF(X167=\"\",\"\",X167)","v":""},null,{"$f":"IF(Z167=\"\",\"\",Z167)","v":""},null,{"$f":"IF(AB167=\"\",\"\",AB167)","v":""},null,{"$f":"IF(AD167=\"\",\"\",AD167)","v":""},null,{"$f":"IF(AF167=\"\",\"\",AF167)","v":""},null,{"$f":"IF(AH167=\"\",\"\",AH167)","v":""},null,{"$f":"IF(AJ167=\"\",\"\",AJ167)","v":""},null,{"$f":"IF(AL167=\"\",\"\",AL167)","v":""},null,null,{"$f":"IF(AO167=\"\",\"\",AO167)","v":""},null,null,{"$f":"IF(AR167=\"\",\"\",AR167)","v":""},null,null,null,null,{"$f":"IF(AW167=\"\",\"\",AW167)","v":""}]
[]
[]
[]
[null,null,null,null,null,null,null,null,null,null,null,null,null,null,null,null,null,{"$f":"IF(R171=\"\",\"\",R171)","v":""},null,{"$f":"IF(T171=\"\",\"\",T171)","v":""},null,{"$f":"IF(V171=\"\",\"\",V171)","v":""},null,{"$f":"IF(X171=\"\",\"\",X171)","v":""},null,{"$f":"IF(Z171=\"\",\"\",Z171)","v":""},null,{"$f":"IF(AB171=\"\",\"\",AB171)","v":""},null,{"$f":"IF(AD171=\"\",\"\",AD171)","v":""},null,{"$f":"IF(AF171=\"\",\"\",AF171)","v":""},null,{"$f":"IF(AH171=\"\",\"\",AH171)","v":""},null,{"$f":"IF(AJ171=\"\",\"\",AJ171)","v":""},null,{"$f":"IF(AL171=\"\",\"\",AL171)","v":""},null,null,{"$f":"IF(AO171=\"\",\"\",AO171)","v":""},null,null,{"$f":"IF(AR171=\"\",\"\",AR171)","v":""},null,null,null,null,{"$f":"IF(AW171=\"\",\"\",AW171)","v":""}]
[]
[]
[]
[null,null,null,null,null,null,null,null,null,null,null,null,null,null,null,null,null,null,null,null,null,null,null,null,null,null,null,null,null,null,null,null,null,null,null,null,null,{"$f":"AL175","v":"金額(税抜)"},null,null,null,null,null,null,null,null,null,null,{"$f":"AW83","v":""}]
[]
[]
[]
[]
[null,null,null,null,null,null,null,null,null,null,null,null,null,null,null,null,null,null,null,null,null,null,null,null,null,null,null,null,null,null,null,null,null,null,null,null,null,{"$f":"AL180","v":"消費税"},null,null,null,null,null,"税率",null,null,"税調",null,{"$f":"AW88","v":""}]
[]
[null,null,null,null,null,null,null,null,null,null,null,null,null,null,null,null,null,null,null,null,null,null,null,null,null,null,null,null,null,null,null,null,null,null,null,null,null,null,null,null,null,null,null,{"$f":"AR90","v":0},null,{"$f":"AT90","v":""}]

{"sheet":"細2-10","index":25,"n_rows":274,"n_cols":53,"rows_kept":274,"cut":false,"hidden":false,"merged":[[179,37,182,42],[179,43,180,45],[179,46,180,47],[181,43,182,44],[181,45,182,45],[181,46,182,47],[271,37,274,42],[271,43,272,45],[273,43,274,44],[273,45,274,45],[273,46,274,47],[271,46,272,47],[187,40,189,44],[187,45,189,48],[179,48,182,54],[198,48,201,54],[214,48,217,54],[222,40,225,42],[222,43,225,47],[254,37,257,39],[246,40,249,42],[246,43,249,47],[246,48,249,54],[254,48,257,54],[3,49,5,51],[3,52,5,54],[8,37,11,40],[8,41,11,54],[1,19,4,32],[2,1,5,11],[2,12,5,13],[8,1,11,5],[8,6,11,11],[8,12,11,15],[8,16,11,35],[3,40,5,44],[3,45,5,48],[14,43,17,47],[14,48,17,54],[14,1,17,5],[14,6,17,15],[14,17,17,20],[14,21,17,36],[18,1,21,5],[18,6,21,15],[18,17,21,18],[14,37,17,39],[14,40,17,42],[18,21,21,36],[18,37,21,39],[18,40,21,42],[18,43,21,47],[26,1,29,5],[26,6,29,15],[26,17,29,18],[26,19,29,20],[18,48,21,54],[22,1,25,5],[22,6,25,15],[22,17,25,18],[22,19,25,20],[22,21,25,36],[26,21,29,36],[26,37,29,39],[26,40,29,42],[26,43,29,47],[22,37,25,39],[22,40,25,42],[22,43,25,47],[18,19,21,20],[34,48,37,54],[26,48,29,54],[30,1,33,3],[30,4,33,5],[30,6,33,15],[30,17,33,18],[30,19,33,20],[22,48,25,54],[38,17,41,18],[38,19,41,20],[38,21,41,36],[38,37,41,39],[30,48,33,54],[34,1,37,5],[34,6,37,15],[34,17,37,18],[34,19,37,20],[34,21,37,36],[38,40,41,42],[38,43,41,47],[38,48,41,54],[30,21,33,36],[30,37,33,39],[30,40,33,42],[30,43,33,47],[34,37,37,39],[34,40,37,42],[34,43,37,47],[46,40,49,42],[46,43,49,47],[46,21,49,36],[46,37,49,39],[54,40,57,42],[54,43,57,47],[42,17,45,18],[42,19,45,20],[42,21,45,36],[42,37,45,39],[42,40,45,42],[42,43,45,47],[42,48,45,54],[46,48,49,54],[50,17,53,18],[50,19,53,20],[50,21,53,36],[50,37,53,39],[50,40,53,42],[50,43,53,47],[50,48,53,54],[46,17,49,18],[46,19,49,20],[58,17,61,18],[58,19,61,20],[58,21,61,36],[58,37,61,39],[58,40,61,42],[58,43,61,47],[58,48,61,54],[54,17,57,18],[54,19,57,20],[54,21,57,36],[54,37,57,39],[54,48,57,54],[62,40,65,42],[62,43,65,47],[62,21,65,36],[62,37,65,39],[70,40,73,42],[70,43,73,47],[70,48,73,54],[62,48,65,54],[66,17,69,18],[66,19,69,20],[66,21,69,36],[66,37,69,39],[66,40,69,42],[66,43,69,47],[66,48,69,54],[62,17,65,18],[62,19,65,20],[74,17,77,18],[74,19,77,20],[74,21,77,36],[74,37,77,39],[74,40,77,42],[74,43,77,47],[74,48,77,54],[70,17,73,18],[70,19,73,20],[70,21,73,36],[70,37,73,39],[78,48,81,54],[82,37,85,47],[82,48,85,54],[78,37,81,39],[78,40,81,42],[85,11,90,16],[85,17,90,25],[78,43,81,47],[83,26,84,30],[83,31,84,35],[78,17,81,18],[78,19,81,20],[78,21,81,36],[85,26,90,30],[85,31,90,35],[83,1,84,4],[83,5,84,10],[83,11,84,16],[83,17,84,25],[85,1,90,4],[85,5,90,10],[87,48,90,54],[95,49,97,51],[95,52,97,54],[95,40,97,44],[95,45,97,48],[87,37,90,42],[87,43,88,45],[89,43,90,44],[89,45,90,45],[89,46,90,47],[87,46,88,47],[100,1,103,5],[100,6,103,11],[100,12,103,15],[100,16,103,35],[100,37,103,40],[100,41,103,54],[93,19,96,32],[94,1,97,11],[94,12,97,13],[106,37,109,39],[106,40,109,42],[106,43,109,47],[106,48,109,54],[106,1,109,5],[106,6,109,15],[106,17,109,20],[106,21,109,36],[110,21,113,36],[110,37,113,39],[110,40,113,42],[110,43,113,47],[110,1,113,5],[110,6,113,15],[110,17,113,18],[110,19,113,20],[110,48,113,54],[114,1,117,5],[114,6,117,15],[114,17,117,18],[114,19,117,20],[114,21,117,36],[114,37,117,39],[114,40,117,42],[114,43,117,47],[114,48,117,54],[118,21,121,36],[118,37,121,39],[118,40,121,42],[118,43,121,47],[118,1,121,5],[118,6,121,15],[118,17,121,18],[118,19,121,20],[118,48,121,54],[122,48,125,54],[126,1,129,5],[126,6,129,15],[126,17,129,18],[126,19,129,20],[126,21,129,36],[126,37,129,39],[126,40,129,42],[126,43,129,47],[126,48,129,54],[122,1,125,3],[122,4,125,5],[122,6,125,15],[122,17,125,18],[122,19,125,20],[122,21,125,36],[122,37,125,39],[122,40,125,42],[122,43,125,47],[130,40,133,42],[130,43,133,47],[130,21,133,36],[130,37,133,39],[138,40,141,42],[138,43,141,47],[138,48,141,54],[130,48,133,54],[134,17,137,18],[134,19,137,20],[134,21,137,36],[134,37,137,39],[134,40,137,42],[134,43,137,47],[134,48,137,54],[130,17,133,18],[130,19,133,20],[142,17,145,18],[142,19,145,20],[142,21,145,36],[142,37,145,39],[142,40,145,42],[142,43,145,47],[142,48,145,54],[138,17,141,18],[138,19,141,20],[138,21,141,36],[138,37,141,39],[154,48,157,54],[146,48,149,54],[150,17,153,18],[150,19,153,20],[150,21,153,36],[150,37,153,39],[150,40,153,42],[150,43,153,47],[150,48,153,54],[146,17,149,18],[146,19,149,20],[154,17,157,18],[154,19,157,20],[154,21,157,36],[154,37,157,39],[146,40,149,42],[146,43,149,47],[146,21,149,36],[146,37,149,39],[154,40,157,42],[154,43,157,47],[174,48,177,54],[170,17,173,18],[170,19,173,20],[158,17,161,18],[158,19,161,20],[158,21,161,36],[158,37,161,39],[158,40,161,42],[158,43,161,47],[158,48,161,54],[170,21,173,36],[170,37,173,39],[170,43,173,47],[185,19,188,32],[186,1,189,11],[186,12,189,13],[192,37,195,40],[192,41,195,54],[162,40,165,42],[162,43,165,47],[162,21,165,36],[162,37,165,39],[162,48,165,54],[166,17,169,18],[166,19,169,20],[166,21,169,36],[166,37,169,39],[166,40,169,42],[166,43,169,47],[166,48,169,54],[162,17,165,18],[162,19,165,20],[187,49,189,51],[187,52,189,54],[170,40,173,42],[170,48,173,54],[174,37,177,47],[202,21,205,36],[202,37,205,39],[202,40,205,42],[202,43,205,47],[202,1,205,5],[202,6,205,15],[202,17,205,18],[202,19,205,20],[202,48,205,54],[198,1,201,5],[198,6,201,15],[198,17,201,20],[198,21,201,36],[198,37,201,39],[198,40,201,42],[198,43,201,47],[192,1,195,5],[192,6,195,11],[192,12,195,15],[192,16,195,35],[206,1,209,5],[206,6,209,15],[206,17,209,18],[206,19,209,20],[206,21,209,36],[206,37,209,39],[206,40,209,42],[206,43,209,47],[206,48,209,54],[210,21,213,36],[210,37,213,39],[210,40,213,42],[210,43,213,47],[210,1,213,5],[210,6,213,15],[210,17,213,18],[210,19,213,20],[210,48,213,54],[218,1,221,5],[218,6,221,15],[218,17,221,18],[218,19,221,20],[218,21,221,36],[218,37,221,39],[218,40,221,42],[218,43,221,47],[218,48,221,54],[214,1,217,3],[214,4,217,5],[214,6,217,15],[214,17,217,18],[214,19,217,20],[214,21,217,36],[214,37,217,39],[214,40,217,42],[214,43,217,47],[222,21,225,36],[222,37,225,39],[230,40,233,42],[230,43,233,47],[230,48,233,54],[222,48,225,54],[226,17,229,18],[226,19,229,20],[226,21,229,36],[226,37,229,39],[226,40,229,42],[226,43,229,47],[226,48,229,54],[222,17,225,18],[222,19,225,20],[234,17,237,18],[234,19,237,20],[234,21,237,36],[234,37,237,39],[234,40,237,42],[234,43,237,47],[234,48,237,54],[230,17,233,18],[230,19,233,20],[230,21,233,36],[230,37,233,39],[242,17,245,18],[242,19,245,20],[242,21,245,36],[242,37,245,39],[242,40,245,42],[242,43,245,47],[242,48,245,54],[238,17,241,18],[238,19,241,20],[238,40,241,42],[238,43,241,47],[238,21,241,36],[238,37,241,39],[238,48,241,54],[250,17,253,18],[250,19,253,20],[250,21,253,36],[250,37,253,39],[250,40,253,42],[250,43,253,47],[250,48,253,54],[246,17,249,18],[246,19,249,20],[246,21,249,36],[246,37,249,39],[258,17,261,18],[258,19,261,20],[258,21,261,36],[258,37,261,39],[258,40,261,42],[258,43,261,47],[258,48,261,54],[254,17,257,18],[254,19,257,20],[254,40,257,42],[254,43,257,47],[254,21,257,36],[271,48,274,54],[262,40,265,42],[262,43,265,47],[262,48,265,54],[266,37,269,47],[266,48,269,54],[262,17,265,18],[262,19,265,20],[262,21,265,36],[262,37,265,39]]}
[]
[null,null,null,null,null,null,null,null,null,null,null,null,null,null,null,null,null,null,null,"請求書明細書 (正)"]
[null,"株 式 会 社 種 村 建 設",null,null,null,null,null,null,null,null,null,null,"御中"]
[null,null,null,null,null,null,null,null,null,null,null,null,null,null,null,null,null,null,null,null,null,null,null,null,null,null,null,null,null,null,null,null,null,null,null,null,null,null,null,null,"請求年月日",null,null,null,null,{"$f":"IF(年=\"\",\"\",年)","v":""},null,null,null,{"$f":"IF(月=\"\",\"\",月)","v":""},null,null,{"$f":"IF(日=\"\",\"\",日)","v":""}]
[]
[]
[]
[]
[null,"工事番号",null,null,null,null,null,null,null,null,null,null,"工事名",null,null,null,null,null,null,null,null,null,null,null,null,null,null,null,null,null,null,null,null,null,null,null,null,"業者名",null,null,null,{"$f":"IF(社名=\"\",\"\",社名)","v":""}]
[]
[]
[]
[]
[]
[null,"注文番号",null,null,null,null,null,null,null,null,null,null,null,null,null,null,null,"月　日",null,null,null,"品　名・内　訳",null,null,null,null,null,null,null,null,null,null,null,null,null,null,null,"数 量",null,null,"単位",null,null,"単価",null,null,null,null,{"$f":"表紙①!P35","v":"金額(税抜)"}]
[]
[]
[]
[null,"契約金額",null,null,null,null,null,null,null,null,null,null,null,null,null,null,null,null,null,null,null,null,null,null,null,null,null,null,null,null,null,null,null,null,null,null,null,null,null,null,null,null,null,null,null,null,null,null,{"$f":"IF(V19=\"\",\"\",ROUND(AL19*AR19,0))","v":""}]
[]
[]
[]
[null,"増減額",null,null,null,null,null,null,null,null,null,null,null,null,null,null,null,null,null,null,null,null,null,null,null,null,null,null,null,null,null,null,null,null,null,null,null,null,null,null,null,null,null,null,null,null,null,null,{"$f":"IF(V23=\"\",\"\",ROUND(AL23*AR23,0))","v":""}]
[]
[]
[]
[null,"前回までの\n請求額",null,null,null,null,null,null,null,null,null,null,null,null,null,null,null,null,null,null,null,null,null,null,null,null,null,null,null,null,null,null,null,null,null,null,null,null,null,null,null,null,null,null,null,null,null,null,{"$f":"IF(V27=\"\",\"\",ROUND(AL27*AR27,0))","v":""}]
[]
[]
[]
[null,"今回\n請求額",null,null,null,null,null,null,null,null,null,null,null,null,null,null,null,null,null,null,null,null,null,null,null,null,null,null,null,null,null,null,null,null,null,null,null,null,null,null,null,null,null,null,null,null,null,null,{"$f":"IF(V31=\"\",\"\",ROUND(AL31*AR31,0))","v":""}]
[]
[]
[]
[null,"差引残高",null,null,null,null,{"$f":"IF(G19=\"\",\"\",G19+G23-G27-G31)","v":""},null,null,null,null,null,null,null,null,null,null,null,null,null,null,null,null,null,null,null,null,null,null,null,null,null,null,null,null,null,null,null,null,null,null,null,null,null,null,null,null,null,{"$f":"IF(V35=\"\",\"\",ROUND(AL35*AR35,0))","v":""}]
[]
[]
[]
[null,null,null,null,null,null,null,null,null,null,null,null,null,null,null,null,null,null,null,null,null,null,null,null,null,null,null,null,null,null,null,null,null,null,null,null,null,null,null,null,null,null,null,null,null,null,null,null,{"$f":"IF(V39=\"\",\"\",ROUND(AL39*AR39,0))","v":""}]
[]
[]
[]
[null,null,null,null,null,null,null,null,null,null,null,null,null,null,null,null,null,null,null,null,null,null,null,null,null,null,null,null,null,null,null,null,null,null,null,null,null,null,null,null,null,null,null,null,null,null,null,null,{"$f":"IF(V43=\"\",\"\",ROUND(AL43*AR43,0))","v":""}]
[]
[]
[]
[null,null,null,null,null,null,null,null,null,null,null,null,null,null,null,null,null,null,null,null,null,null,null,null,null,null,null,null,null,null,null,null,null,null,null,null,null,null,null,null,null,null,null,null,null,null,null,null,{"$f":"IF(V47=\"\",\"\",ROUND(AL47*AR47,0))","v":""}]
[]
[]
[]
[null,null,null,null,null,null,null,null,null,null,null,null,null,null,null,null,null,null,null,null,null,null,null,null,null,null,null,null,null,null,null,null,null,null,null,null,null,null,null,null,null,null,null,null,null,null,null,null,{"$f":"IF(V51=\"\",\"\",ROUND(AL51*AR51,0))","v":""}]
[]
[]
[]
[null,null,null,null,null,null,null,null,null,null,null,null,null,null,null,null,null,null,null,null,null,null,null,null,null,null,null,null,null,null,null,null,null,null,null,null,null,null,null,null,null,null,null,null,null,null,null,null,{"$f":"IF(V55=\"\",\"\",ROUND(AL55*AR55,0))","v":""}]
[]
[]
[]
[null,null,null,null,null,null,null,null,null,null,null,null,null,null,null,null,null,null,null,null,null,null,null,null,null,null,null,null,null,null,null,null,null,null,null,null,null,null,null,null,null,null,null,null,null,null,null,null,{"$f":"IF(V59=\"\",\"\",ROUND(AL59*AR59,0))","v":""}]
[]
[]
[]
[null,null,null,null,null,null,null,null,null,null,null,null,null,null,null,null,null,null,null,null,null,null,null,null,null,null,null,null,null,null,null,null,null,null,null,null,null,null,null,null,null,null,null,null,null,null,null,null,{"$f":"IF(V63=\"\",\"\",ROUND(AL63*AR63,0))","v":""}]
[]
[]
[]
[null,null,null,null,null,null,null,null,null,null,null,null,null,null,null,null,null,null,null,null,null,null,null,null,null,null,null,null,null,null,null,null,null,null,null,null,null,null,null,null,null,null,null,null,null,null,null,null,{"$f":"IF(V67=\"\",\"\",ROUND(AL67*AR67,0))","v":""}]
[]
[]
[]
[null,null,null,null,null,null,null,null,null,null,null,null,null,null,null,null,null,null,null,null,null,null,null,null,null,null,null,null,null,null,null,null,null,null,null,null,null,null,null,null,null,null,null,null,null,null,null,null,{"$f":"IF(V71=\"\",\"\",ROUND(AL71*AR71,0))","v":""}]
[]
[]
[]
[null,null,null,null,null,null,null,null,null,null,null,null,null,null,null,null,null,null,null,null,null,null,null,null,null,null,null,null,null,null,null,null,null,null,null,null,null,null,null,null,null,null,null,null,null,null,null,null,{"$f":"IF(V75=\"\",\"\",ROUND(AL75*AR75,0))","v":""}]
[]
[]
[]
[null,null,null,null,null,null,null,null,null,null,null,null,null,null,null,null,null,null,null,null,null,null,null,null,null,null,null,null,null,null,null,null,null,null,null,null,null,null,null,null,null,null,null,null,null,null,null,null,{"$f":"IF(V79=\"\",\"\",ROUND(AL79*AR79,0))","v":""}]
[]
[]
[]
[null,null,null,null,null,null,null,null,null,null,null,null,null,null,null,null,null,null,null,null,null,null,null,null,null,null,null,null,null,null,null,null,null,null,null,null,null,"金額(税抜)",null,null,null,null,null,null,null,null,null,null,{"$f":"IF(AW19=\"\",\"\",SUM(AW19:AW79))","v":""}]
[null,"社長",null,null,null,"専務",null,null,null,null,null,"常務",null,null,null,null,null,"部長･工場長",null,null,null,null,null,null,null,null,"担当者",null,null,null,null,"受付"]
[]
[]
[]
[null,null,null,null,null,null,null,null,null,null,null,null,null,null,null,null,null,null,null,null,null,null,null,null,null,null,null,null,null,null,null,null,null,null,null,null,null,"消費税",null,null,null,null,null,"税率",null,null,"税調",null,{"$f":"IF(AW83=\"\",\"\",IF(AR90=\"\",\"\",IF(AR90=8.1,ROUND(AW83*8/100,0)+AU90,ROUND(AW83*AR90/100,0)+AU90)))","v":""}]
[]
[null,null,null,null,null,null,null,null,null,null,null,null,null,null,null,null,null,null,null,null,null,null,null,null,null,null,null,null,null,null,null,null,null,null,null,null,null,null,null,null,null,null,null,null,null,{"$f":"IF(AR90=\"\",\"\",IF(AR90=8.1,\"旧\",IF(AR90=8,\"軽\",IF(AR90=0,\"非\",\"\"))))","v":""}]
[]
[]
[]
[null,null,null,null,null,null,null,null,null,null,null,null,null,null,null,null,null,null,null,"請求明細書 (現場控)"]
[null,"株 式 会 社 種 村 建 設",null,null,null,null,null,null,null,null,null,null,"御中"]
[null,null,null,null,null,null,null,null,null,null,null,null,null,null,null,null,null,null,null,null,null,null,null,null,null,null,null,null,null,null,null,null,null,null,null,null,null,null,null,null,"請求年月日",null,null,null,null,{"$f":"IF(AT4=\"\",\"\",AT4)","v":""},null,null,null,{"$f":"IF(AX4=\"\",\"\",AX4)","v":""},null,null,{"$f":"IF(BA4=\"\",\"\",BA4)","v":""}]
[]
[]
[]
[]
[null,"工事番号",null,null,null,null,{"$f":"IF(G9=\"\",\"\",G9)","v":""},null,null,null,null,null,"工事名",null,null,null,{"$f":"IF(Q9=\"\",\"\",Q9)","v":""},null,null,null,null,null,null,null,null,null,null,null,null,null,null,null,null,null,null,null,null,"業者名",null,null,null,{"$f":"IF(AP9=\"\",\"\",AP9)","v":""}]
[]
[]
[]
[]
[]
[null,"注文番号",null,null,null,null,{"$f":"IF(G15=\"\",\"\",G15)","v":""},null,null,null,null,null,null,null,null,null,null,"月　日",null,null,null,"品　名・内　訳",null,null,null,null,null,null,null,null,null,null,null,null,null,null,null,"数 量",null,null,"単位",null,null,"単価",null,null,null,null,{"$f":"AW15","v":"金額(税抜)"}]
[]
[]
[]
[null,"契約金額",null,null,null,null,{"$f":"IF(G19=\"\",\"\",G19)","v":""},null,null,null,null,null,null,null,null,null,null,{"$f":"IF(R19=\"\",\"\",R19)","v":""},null,{"$f":"IF(T19=\"\",\"\",T19)","v":""},null,{"$f":"IF(V19=\"\",\"\",V19)","v":""},null,{"$f":"IF(X19=\"\",\"\",X19)","v":""},null,{"$f":"IF(Z19=\"\",\"\",Z19)","v":""},null,{"$f":"IF(AB19=\"\",\"\",AB19)","v":""},null,{"$f":"IF(AD19=\"\",\"\",AD19)","v":""},null,{"$f":"IF(AF19=\"\",\"\",AF19)","v":""},null,{"$f":"IF(AH19=\"\",\"\",AH19)","v":""},null,{"$f":"IF(AJ19=\"\",\"\",AJ19)","v":""},null,{"$f":"IF(AL19=\"\",\"\",AL19)","v":""},null,null,{"$f":"IF(AO19=\"\",\"\",AO19)","v":""},null,null,{"$f":"IF(AR19=\"\",\"\",AR19)","v":""},null,null,null,null,{"$f":"IF(AW19=\"\",\"\",AW19)","v":""}]
[]
[]
[]
[null,"増減額",null,null,null,null,{"$f":"IF(G23=\"\",\"\",G23)","v":""},null,null,null,null,null,null,null,null,null,null,{"$f":"IF(R23=\"\",\"\",R23)","v":""},null,{"$f":"IF(T23=\"\",\"\",T23)","v":""},null,{"$f":"IF(V23=\"\",\"\",V23)","v":""},null,{"$f":"IF(X23=\"\",\"\",X23)","v":""},null,{"$f":"IF(Z23=\"\",\"\",Z23)","v":""},null,{"$f":"IF(AB23=\"\",\"\",AB23)","v":""},null,{"$f":"IF(AD23=\"\",\"\",AD23)","v":""},null,{"$f":"IF(AF23=\"\",\"\",AF23)","v":""},null,{"$f":"IF(AH23=\"\",\"\",AH23)","v":""},null,{"$f":"IF(AJ23=\"\",\"\",AJ23)","v":""},null,{"$f":"IF(AL23=\"\",\"\",AL23)","v":""},null,null,{"$f":"IF(AO23=\"\",\"\",AO23)","v":""},null,null,{"$f":"IF(AR23=\"\",\"\",AR23)","v":""},null,null,null,null,{"$f":"IF(AW23=\"\",\"\",AW23)","v":""}]
[]
[]
[]
[null,"前回までの\n請求額",null,null,null,null,{"$f":"IF(G27=\"\",\"\",G27)","v":""},null,null,null,null,null,null,null,null,null,null,{"$f":"IF(R27=\"\",\"\",R27)","v":""},null,{"$f":"IF(T27=\"\",\"\",T27)","v":""},null,{"$f":"IF(V27=\"\",\"\",V27)","v":""},null,{"$f":"IF(X27=\"\",\"\",X27)","v":""},null,{"$f":"IF(Z27=\"\",\"\",Z27)","v":""},null,{"$f":"IF(AB27=\"\",\"\",AB27)","v":""},null,{"$f":"IF(AD27=\"\",\"\",AD27)","v":""},null,{"$f":"IF(AF27=\"\",\"\",AF27)","v":""},null,{"$f":"IF(AH27=\"\",\"\",AH27)","v":""},null,{"$f":"IF(AJ27=\"\",\"\",AJ27)","v":""},null,{"$f":"IF(AL27=\"\",\"\",AL27)","v":""},null,null,{"$f":"IF(AO27=\"\",\"\",AO27)","v":""},null,null,{"$f":"IF(AR27=\"\",\"\",AR27)","v":""},null,null,null,null,{"$f":"IF(AW27=\"\",\"\",AW27)","v":""}]
[]
[]
[]
[null,"今回\n請求額",null,null,{"$f":"IF(E31=\"\",\"\",E31)","v":""},null,{"$f":"IF(G31=\"\",\"\",G31)","v":""},null,null,null,null,null,null,null,null,null,null,{"$f":"IF(R31=\"\",\"\",R31)","v":""},null,{"$f":"IF(T31=\"\",\"\",T31)","v":""},null,{"$f":"IF(V31=\"\",\"\",V31)","v":""},null,{"$f":"IF(X31=\"\",\"\",X31)","v":""},null,{"$f":"IF(Z31=\"\",\"\",Z31)","v":""},null,{"$f":"IF(AB31=\"\",\"\",AB31)","v":""},null,{"$f":"IF(AD31=\"\",\"\",AD31)","v":""},null,{"$f":"IF(AF31=\"\",\"\",AF31)","v":""},null,{"$f":"IF(AH31=\"\",\"\",AH31)","v":""},null,{"$f":"IF(AJ31=\"\",\"\",AJ31)","v":""},null,{"$f":"IF(AL31=\"\",\"\",AL31)","v":""},null,null,{"$f":"IF(AO31=\"\",\"\",AO31)","v":""},null,null,{"$f":"IF(AR31=\"\",\"\",AR31)","v":""},null,null,null,null,{"$f":"IF(AW31=\"\",\"\",AW31)","v":""}]
[]
[]
[]
[null,"差引残高",null,null,null,null,{"$f":"IF(G111=\"\",\"\",G111+G115-G119-G123)","v":""},null,null,null,null,null,null,null,null,null,null,{"$f":"IF(R35=\"\",\"\",R35)","v":""},null,{"$f":"IF(T35=\"\",\"\",T35)","v":""},null,{"$f":"IF(V35=\"\",\"\",V35)","v":""},null,{"$f":"IF(X35=\"\",\"\",X35)","v":""},null,{"$f":"IF(Z35=\"\",\"\",Z35)","v":""},null,{"$f":"IF(AB35=\"\",\"\",AB35)","v":""},null,{"$f":"IF(AD35=\"\",\"\",AD35)","v":""},null,{"$f":"IF(AF35=\"\",\"\",AF35)","v":""},null,{"$f":"IF(AH35=\"\",\"\",AH35)","v":""},null,{"$f":"IF(AJ35=\"\",\"\",AJ35)","v":""},null,{"$f":"IF(AL35=\"\",\"\",AL35)","v":""},null,null,{"$f":"IF(AO35=\"\",\"\",AO35)","v":""},null,null,{"$f":"IF(AR35=\"\",\"\",AR35)","v":""},null,null,null,null,{"$f":"IF(AW35=\"\",\"\",AW35)","v":""}]
[]
[]
[]
[null,null,null,null,null,null,null,null,null,null,null,null,null,null,null,null,null,{"$f":"IF(R39=\"\",\"\",R39)","v":""},null,{"$f":"IF(T39=\"\",\"\",T39)","v":""},null,{"$f":"IF(V39=\"\",\"\",V39)","v":""},null,{"$f":"IF(X39=\"\",\"\",X39)","v":""},null,{"$f":"IF(Z39=\"\",\"\",Z39)","v":""},null,{"$f":"IF(AB39=\"\",\"\",AB39)","v":""},null,{"$f":"IF(AD39=\"\",\"\",AD39)","v":""},null,{"$f":"IF(AF39=\"\",\"\",AF39)","v":""},null,{"$f":"IF(AH39=\"\",\"\",AH39)","v":""},null,{"$f":"IF(AJ39=\"\",\"\",AJ39)","v":""},null,{"$f":"IF(AL39=\"\",\"\",AL39)","v":""},null,null,{"$f":"IF(AO39=\"\",\"\",AO39)","v":""},null,null,{"$f":"IF(AR39=\"\",\"\",AR39)","v":""},null,null,null,null,{"$f":"IF(AW39=\"\",\"\",AW39)","v":""}]
[]
[]
[]
[null,null,null,null,null,null,null,null,null,null,null,null,null,null,null,null,null,{"$f":"IF(R43=\"\",\"\",R43)","v":""},null,{"$f":"IF(T43=\"\",\"\",T43)","v":""},null,{"$f":"IF(V43=\"\",\"\",V43)","v":""},null,{"$f":"IF(X43=\"\",\"\",X43)","v":""},null,{"$f":"IF(Z43=\"\",\"\",Z43)","v":""},null,{"$f":"IF(AB43=\"\",\"\",AB43)","v":""},null,{"$f":"IF(AD43=\"\",\"\",AD43)","v":""},null,{"$f":"IF(AF43=\"\",\"\",AF43)","v":""},null,{"$f":"IF(AH43=\"\",\"\",AH43)","v":""},null,{"$f":"IF(AJ43=\"\",\"\",AJ43)","v":""},null,{"$f":"IF(AL43=\"\",\"\",AL43)","v":""},null,null,{"$f":"IF(AO43=\"\",\"\",AO43)","v":""},null,null,{"$f":"IF(AR43=\"\",\"\",AR43)","v":""},null,null,null,null,{"$f":"IF(AW43=\"\",\"\",AW43)","v":""}]
[]
[]
[]
[null,null,null,null,null,null,null,null,null,null,null,null,null,null,null,null,null,{"$f":"IF(R47=\"\",\"\",R47)","v":""},null,{"$f":"IF(T47=\"\",\"\",T47)","v":""},null,{"$f":"IF(V47=\"\",\"\",V47)","v":""},null,{"$f":"IF(X47=\"\",\"\",X47)","v":""},null,{"$f":"IF(Z47=\"\",\"\",Z47)","v":""},null,{"$f":"IF(AB47=\"\",\"\",AB47)","v":""},null,{"$f":"IF(AD47=\"\",\"\",AD47)","v":""},null,{"$f":"IF(AF47=\"\",\"\",AF47)","v":""},null,{"$f":"IF(AH47=\"\",\"\",AH47)","v":""},null,{"$f":"IF(AJ47=\"\",\"\",AJ47)","v":""},null,{"$f":"IF(AL47=\"\",\"\",AL47)","v":""},null,null,{"$f":"IF(AO47=\"\",\"\",AO47)","v":""},null,null,{"$f":"IF(AR47=\"\",\"\",AR47)","v":""},null,null,null,null,{"$f":"IF(AW47=\"\",\"\",AW47)","v":""}]
[]
[]
[]
[null,null,null,null,null,null,null,null,null,null,null,null,null,null,null,null,null,{"$f":"IF(R51=\"\",\"\",R51)","v":""},null,{"$f":"IF(T51=\"\",\"\",T51)","v":""},null,{"$f":"IF(V51=\"\",\"\",V51)","v":""},null,{"$f":"IF(X51=\"\",\"\",X51)","v":""},null,{"$f":"IF(Z51=\"\",\"\",Z51)","v":""},null,{"$f":"IF(AB51=\"\",\"\",AB51)","v":""},null,{"$f":"IF(AD51=\"\",\"\",AD51)","v":""},null,{"$f":"IF(AF51=\"\",\"\",AF51)","v":""},null,{"$f":"IF(AH51=\"\",\"\",AH51)","v":""},null,{"$f":"IF(AJ51=\"\",\"\",AJ51)","v":""},null,{"$f":"IF(AL51=\"\",\"\",AL51)","v":""},null,null,{"$f":"IF(AO51=\"\",\"\",AO51)","v":""},null,null,{"$f":"IF(AR51=\"\",\"\",AR51)","v":""},null,null,null,null,{"$f":"IF(AW51=\"\",\"\",AW51)","v":""}]
[]
[]
[]
[null,null,null,null,null,null,null,null,null,null,null,null,null,null,null,null,null,{"$f":"IF(R55=\"\",\"\",R55)","v":""},null,{"$f":"IF(T55=\"\",\"\",T55)","v":""},null,{"$f":"IF(V55=\"\",\"\",V55)","v":""},null,{"$f":"IF(X55=\"\",\"\",X55)","v":""},null,{"$f":"IF(Z55=\"\",\"\",Z55)","v":""},null,{"$f":"IF(AB55=\"\",\"\",AB55)","v":""},null,{"$f":"IF(AD55=\"\",\"\",AD55)","v":""},null,{"$f":"IF(AF55=\"\",\"\",AF55)","v":""},null,{"$f":"IF(AH55=\"\",\"\",AH55)","v":""},null,{"$f":"IF(AJ55=\"\",\"\",AJ55)","v":""},null,{"$f":"IF(AL55=\"\",\"\",AL55)","v":""},null,null,{"$f":"IF(AO55=\"\",\"\",AO55)","v":""},null,null,{"$f":"IF(AR55=\"\",\"\",AR55)","v":""},null,null,null,null,{"$f":"IF(AW55=\"\",\"\",AW55)","v":""}]
[]
[]
[]
[null,null,null,null,null,null,null,null,null,null,null,null,null,null,null,null,null,{"$f":"IF(R59=\"\",\"\",R59)","v":""},null,{"$f":"IF(T59=\"\",\"\",T59)","v":""},null,{"$f":"IF(V59=\"\",\"\",V59)","v":""},null,{"$f":"IF(X59=\"\",\"\",X59)","v":""},null,{"$f":"IF(Z59=\"\",\"\",Z59)","v":""},null,{"$f":"IF(AB59=\"\",\"\",AB59)","v":""},null,{"$f":"IF(AD59=\"\",\"\",AD59)","v":""},null,{"$f":"IF(AF59=\"\",\"\",AF59)","v":""},null,{"$f":"IF(AH59=\"\",\"\",AH59)","v":""},null,{"$f":"IF(AJ59=\"\",\"\",AJ59)","v":""},null,{"$f":"IF(AL59=\"\",\"\",AL59)","v":""},null,null,{"$f":"IF(AO59=\"\",\"\",AO59)","v":""},null,null,{"$f":"IF(AR59=\"\",\"\",AR59)","v":""},null,null,null,null,{"$f":"IF(AW59=\"\",\"\",AW59)","v":""}]
[]
[]
[]
[null,null,null,null,null,null,null,null,null,null,null,null,null,null,null,null,null,{"$f":"IF(R63=\"\",\"\",R63)","v":""},null,{"$f":"IF(T63=\"\",\"\",T63)","v":""},null,{"$f":"IF(V63=\"\",\"\",V63)","v":""},null,{"$f":"IF(X63=\"\",\"\",X63)","v":""},null,{"$f":"IF(Z63=\"\",\"\",Z63)","v":""},null,{"$f":"IF(AB63=\"\",\"\",AB63)","v":""},null,{"$f":"IF(AD63=\"\",\"\",AD63)","v":""},null,{"$f":"IF(AF63=\"\",\"\",AF63)","v":""},null,{"$f":"IF(AH63=\"\",\"\",AH63)","v":""},null,{"$f":"IF(AJ63=\"\",\"\",AJ63)","v":""},null,{"$f":"IF(AL63=\"\",\"\",AL63)","v":""},null,null,{"$f":"IF(AO63=\"\",\"\",AO63)","v":""},null,null,{"$f":"IF(AR63=\"\",\"\",AR63)","v":""},null,null,null,null,{"$f":"IF(AW63=\"\",\"\",AW63)","v":""}]
[]
[]
[]
[null,null,null,null,null,null,null,null,null,null,null,null,null,null,null,null,null,{"$f":"IF(R67=\"\",\"\",R67)","v":""},null,{"$f":"IF(T67=\"\",\"\",T67)","v":""},null,{"$f":"IF(V67=\"\",\"\",V67)","v":""},null,{"$f":"IF(X67=\"\",\"\",X67)","v":""},null,{"$f":"IF(Z67=\"\",\"\",Z67)","v":""},null,{"$f":"IF(AB67=\"\",\"\",AB67)","v":""},null,{"$f":"IF(AD67=\"\",\"\",AD67)","v":""},null,{"$f":"IF(AF67=\"\",\"\",AF67)","v":""},null,{"$f":"IF(AH67=\"\",\"\",AH67)","v":""},null,{"$f":"IF(AJ67=\"\",\"\",AJ67)","v":""},null,{"$f":"IF(AL67=\"\",\"\",AL67)","v":""},null,null,{"$f":"IF(AO67=\"\",\"\",AO67)","v":""},null,null,{"$f":"IF(AR67=\"\",\"\",AR67)","v":""},null,null,null,null,{"$f":"IF(AW67=\"\",\"\",AW67)","v":""}]
[]
[]
[]
[null,null,null,null,null,null,null,null,null,null,null,null,null,null,null,null,null,{"$f":"IF(R71=\"\",\"\",R71)","v":""},null,{"$f":"IF(T71=\"\",\"\",T71)","v":""},null,{"$f":"IF(V71=\"\",\"\",V71)","v":""},null,{"$f":"IF(X71=\"\",\"\",X71)","v":""},null,{"$f":"IF(Z71=\"\",\"\",Z71)","v":""},null,{"$f":"IF(AB71=\"\",\"\",AB71)","v":""},null,{"$f":"IF(AD71=\"\",\"\",AD71)","v":""},null,{"$f":"IF(AF71=\"\",\"\",AF71)","v":""},null,{"$f":"IF(AH71=\"\",\"\",AH71)","v":""},null,{"$f":"IF(AJ71=\"\",\"\",AJ71)","v":""},null,{"$f":"IF(AL71=\"\",\"\",AL71)","v":""},null,null,{"$f":"IF(AO71=\"\",\"\",AO71)","v":""},null,null,{"$f":"IF(AR71=\"\",\"\",AR71)","v":""},null,null,null,null,{"$f":"IF(AW71=\"\",\"\",AW71)","v":""}]
[]
[]
[]
[null,null,null,null,null,null,null,null,null,null,null,null,null,null,null,null,null,{"$f":"IF(R75=\"\",\"\",R75)","v":""},null,{"$f":"IF(T75=\"\",\"\",T75)","v":""},null,{"$f":"IF(V75=\"\",\"\",V75)","v":""},null,{"$f":"IF(X75=\"\",\"\",X75)","v":""},null,{"$f":"IF(Z75=\"\",\"\",Z75)","v":""},null,{"$f":"IF(AB75=\"\",\"\",AB75)","v":""},null,{"$f":"IF(AD75=\"\",\"\",AD75)","v":""},null,{"$f":"IF(AF75=\"\",\"\",AF75)","v":""},null,{"$f":"IF(AH75=\"\",\"\",AH75)","v":""},null,{"$f":"IF(AJ75=\"\",\"\",AJ75)","v":""},null,{"$f":"IF(AL75=\"\",\"\",AL75)","v":""},null,null,{"$f":"IF(AO75=\"\",\"\",AO75)","v":""},null,null,{"$f":"IF(AR75=\"\",\"\",AR75)","v":""},null,null,null,null,{"$f":"IF(AW75=\"\",\"\",AW75)","v":""}]
[]
[]
[]
[null,null,null,null,null,null,null,null,null,null,null,null,null,null,null,null,null,{"$f":"IF(R79=\"\",\"\",R79)","v":""},null,{"$f":"IF(T79=\"\",\"\",T79)","v":""},null,{"$f":"IF(V79=\"\",\"\",V79)","v":""},null,{"$f":"IF(X79=\"\",\"\",X79)","v":""},null,{"$f":"IF(Z79=\"\",\"\",Z79)","v":""},null,{"$f":"IF(AB79=\"\",\"\",AB79)","v":""},null,{"$f":"IF(AD79=\"\",\"\",AD79)","v":""},null,{"$f":"IF(AF79=\"\",\"\",AF79)","v":""},null,{"$f":"IF(AH79=\"\",\"\",AH79)","v":""},null,{"$f":"IF(AJ79=\"\",\"\",AJ79)","v":""},null,{"$f":"IF(AL79=\"\",\"\",AL79)","v":""},null,null,{"$f":"IF(AO79=\"\",\"\",AO79)","v":""},null,null,{"$f":"IF(AR79=\"\",\"\",AR79)","v":""},null,null,null,null,{"$f":"IF(AW79=\"\",\"\",AW79)","v":""}]
[]
[]
[]
[null,null,null,null,null,null,null,null,null,null,null,null,null,null,null,null,null,null,null,null,null,null,null,null,null,null,null,null,null,null,null,null,null,null,null,null,null,{"$f":"AL83","v":"金額(税抜)"},null,null,null,null,null,null,null,null,null,null,{"$f":"AW83","v":""}]
[]
[]
[]
[]
[null,null,null,null,null,null,null,null,null,null,null,null,null,null,null,null,null,null,null,null,null,null,null,null,null,null,null,null,null,null,null,null,null,null,null,null,null,{"$f":"AL88","v":"消費税"},null,null,null,null,null,"税率",null,null,"税調",null,{"$f":"AW88","v":""}]
[]
[null,null,null,null,null,null,null,null,null,null,null,null,null,null,null,null,null,null,null,null,null,null,null,null,null,null,null,null,null,null,null,null,null,null,null,null,null,null,null,null,null,null,null,{"$f":"AR90","v":0},null,{"$f":"AT90","v":""}]
[]
[]
[]
[null,null,null,null,null,null,null,null,null,null,null,null,null,null,null,null,null,null,null,"請求明細書 (貴社控)"]
[null,"株 式 会 社 種 村 建 設",null,null,null,null,null,null,null,null,null,null,"御中"]
[null,null,null,null,null,null,null,null,null,null,null,null,null,null,null,null,null,null,null,null,null,null,null,null,null,null,null,null,null,null,null,null,null,null,null,null,null,null,null,null,"請求年月日",null,null,null,null,{"$f":"IF(AT4=\"\",\"\",AT4)","v":""},null,null,null,{"$f":"IF(AX96=\"\",\"\",AX96)","v":""},null,null,{"$f":"IF(BA96=\"\",\"\",BA96)","v":""}]
[]
[]
[]
[]
[null,"工事番号",null,null,null,null,{"$f":"IF(G101=\"\",\"\",G101)","v":""},null,null,null,null,null,"工事名",null,null,null,{"$f":"IF(Q101=\"\",\"\",Q101)","v":""},null,null,null,null,null,null,null,null,null,null,null,null,null,null,null,null,null,null,null,null,"業者名",null,null,null,{"$f":"IF(AP101=\"\",\"\",AP101)","v":""}]
[]
[]
[]
[]
[]
[null,"注文番号",null,null,null,null,{"$f":"IF(G107=\"\",\"\",G107)","v":""},null,null,null,null,null,null,null,null,null,null,"月　日",null,null,null,"品　名・内　訳",null,null,null,null,null,null,null,null,null,null,null,null,null,null,null,"数 量",null,null,"単位",null,null,"単価",null,null,null,null,{"$f":"AW15","v":"金額(税抜)"}]
[]
[]
[]
[null,"契約金額",null,null,null,null,{"$f":"IF(G111=\"\",\"\",G111)","v":""},null,null,null,null,null,null,null,null,null,null,{"$f":"IF(R111=\"\",\"\",R111)","v":""},null,{"$f":"IF(T111=\"\",\"\",T111)","v":""},null,{"$f":"IF(V111=\"\",\"\",V111)","v":""},null,{"$f":"IF(X111=\"\",\"\",X111)","v":""},null,{"$f":"IF(Z111=\"\",\"\",Z111)","v":""},null,{"$f":"IF(AB111=\"\",\"\",AB111)","v":""},null,{"$f":"IF(AD111=\"\",\"\",AD111)","v":""},null,{"$f":"IF(AF111=\"\",\"\",AF111)","v":""},null,{"$f":"IF(AH111=\"\",\"\",AH111)","v":""},null,{"$f":"IF(AJ111=\"\",\"\",AJ111)","v":""},null,{"$f":"IF(AL111=\"\",\"\",AL111)","v":""},null,null,{"$f":"IF(AO111=\"\",\"\",AO111)","v":""},null,null,{"$f":"IF(AR111=\"\",\"\",AR111)","v":""},null,null,null,null,{"$f":"IF(AW111=\"\",\"\",AW111)","v":""}]
[]
[]
[]
[null,"増減額",null,null,null,null,{"$f":"IF(G115=\"\",\"\",G115)","v":""},null,null,null,null,null,null,null,null,null,null,{"$f":"IF(R115=\"\",\"\",R115)","v":""},null,{"$f":"IF(T115=\"\",\"\",T115)","v":""},null,{"$f":"IF(V115=\"\",\"\",V115)","v":""},null,{"$f":"IF(X115=\"\",\"\",X115)","v":""},null,{"$f":"IF(Z115=\"\",\"\",Z115)","v":""},null,{"$f":"IF(AB115=\"\",\"\",AB115)","v":""},null,{"$f":"IF(AD115=\"\",\"\",AD115)","v":""},null,{"$f":"IF(AF115=\"\",\"\",AF115)","v":""},null,{"$f":"IF(AH115=\"\",\"\",AH115)","v":""},null,{"$f":"IF(AJ115=\"\",\"\",AJ115)","v":""},null,{"$f":"IF(AL115=\"\",\"\",AL115)","v":""},null,null,{"$f":"IF(AO115=\"\",\"\",AO115)","v":""},null,null,{"$f":"IF(AR115=\"\",\"\",AR115)","v":""},null,null,null,null,{"$f":"IF(AW115=\"\",\"\",AW115)","v":""}]
[]
[]
[]
[null,"前回までの\n請求額",null,null,null,null,{"$f":"IF(G119=\"\",\"\",G119)","v":""},null,null,null,null,null,null,null,null,null,null,{"$f":"IF(R119=\"\",\"\",R119)","v":""},null,{"$f":"IF(T119=\"\",\"\",T119)","v":""},null,{"$f":"IF(V119=\"\",\"\",V119)","v":""},null,{"$f":"IF(X119=\"\",\"\",X119)","v":""},null,{"$f":"IF(Z119=\"\",\"\",Z119)","v":""},null,{"$f":"IF(AB119=\"\",\"\",AB119)","v":""},null,{"$f":"IF(AD119=\"\",\"\",AD119)","v":""},null,{"$f":"IF(AF119=\"\",\"\",AF119)","v":""},null,{"$f":"IF(AH119=\"\",\"\",AH119)","v":""},null,{"$f":"IF(AJ119=\"\",\"\",AJ119)","v":""},null,{"$f":"IF(AL119=\"\",\"\",AL119)","v":""},null,null,{"$f":"IF(AO119=\"\",\"\",AO119)","v":""},null,null,{"$f":"IF(AR119=\"\",\"\",AR119)","v":""},null,null,null,null,{"$f":"IF(AW119=\"\",\"\",AW119)","v":""}]
[]
[]
[]
[null,"今回\n請求額",null,null,{"$f":"IF(E31=\"\",\"\",E31)","v":""},null,{"$f":"IF(G123=\"\",\"\",G123)","v":""},null,null,null,null,null,null,null,null,null,null,{"$f":"IF(R123=\"\",\"\",R123)","v":""},null,{"$f":"IF(T123=\"\",\"\",T123)","v":""},null,{"$f":"IF(V123=\"\",\"\",V123)","v":""},null,{"$f":"IF(X123=\"\",\"\",X123)","v":""},null,{"$f":"IF(Z123=\"\",\"\",Z123)","v":""},null,{"$f":"IF(AB123=\"\",\"\",AB123)","v":""},null,{"$f":"IF(AD123=\"\",\"\",AD123)","v":""},null,{"$f":"IF(AF123=\"\",\"\",AF123)","v":""},null,{"$f":"IF(AH123=\"\",\"\",AH123)","v":""},null,{"$f":"IF(AJ123=\"\",\"\",AJ123)","v":""},null,{"$f":"IF(AL123=\"\",\"\",AL123)","v":""},null,null,{"$f":"IF(AO123=\"\",\"\",AO123)","v":""},null,null,{"$f":"IF(AR123=\"\",\"\",AR123)","v":""},null,null,null,null,{"$f":"IF(AW123=\"\",\"\",AW123)","v":""}]
[]
[]
[]
[null,"差引残高",null,null,null,null,{"$f":"IF(G203=\"\",\"\",G203+G207-G211-G215)","v":""},null,null,null,null,null,null,null,null,null,null,{"$f":"IF(R127=\"\",\"\",R127)","v":""},null,{"$f":"IF(T127=\"\",\"\",T127)","v":""},null,{"$f":"IF(V127=\"\",\"\",V127)","v":""},null,{"$f":"IF(X127=\"\",\"\",X127)","v":""},null,{"$f":"IF(Z127=\"\",\"\",Z127)","v":""},null,{"$f":"IF(AB127=\"\",\"\",AB127)","v":""},null,{"$f":"IF(AD127=\"\",\"\",AD127)","v":""},null,{"$f":"IF(AF127=\"\",\"\",AF127)","v":""},null,{"$f":"IF(AH127=\"\",\"\",AH127)","v":""},null,{"$f":"IF(AJ127=\"\",\"\",AJ127)","v":""},null,{"$f":"IF(AL127=\"\",\"\",AL127)","v":""},null,null,{"$f":"IF(AO127=\"\",\"\",AO127)","v":""},null,null,{"$f":"IF(AR127=\"\",\"\",AR127)","v":""},null,null,null,null,{"$f":"IF(AW127=\"\",\"\",AW127)","v":""}]
[]
[]
[]
[null,null,null,null,null,null,null,null,null,null,null,null,null,null,null,null,null,{"$f":"IF(R131=\"\",\"\",R131)","v":""},null,{"$f":"IF(T131=\"\",\"\",T131)","v":""},null,{"$f":"IF(V131=\"\",\"\",V131)","v":""},null,{"$f":"IF(X131=\"\",\"\",X131)","v":""},null,{"$f":"IF(Z131=\"\",\"\",Z131)","v":""},null,{"$f":"IF(AB131=\"\",\"\",AB131)","v":""},null,{"$f":"IF(AD131=\"\",\"\",AD131)","v":""},null,{"$f":"IF(AF131=\"\",\"\",AF131)","v":""},null,{"$f":"IF(AH131=\"\",\"\",AH131)","v":""},null,{"$f":"IF(AJ131=\"\",\"\",AJ131)","v":""},null,{"$f":"IF(AL131=\"\",\"\",AL131)","v":""},null,null,{"$f":"IF(AO131=\"\",\"\",AO131)","v":""},null,null,{"$f":"IF(AR131=\"\",\"\",AR131)","v":""},null,null,null,null,{"$f":"IF(AW131=\"\",\"\",AW131)","v":""}]
[]
[]
[]
[null,null,null,null,null,null,null,null,null,null,null,null,null,null,null,null,null,{"$f":"IF(R135=\"\",\"\",R135)","v":""},null,{"$f":"IF(T135=\"\",\"\",T135)","v":""},null,{"$f":"IF(V135=\"\",\"\",V135)","v":""},null,{"$f":"IF(X135=\"\",\"\",X135)","v":""},null,{"$f":"IF(Z135=\"\",\"\",Z135)","v":""},null,{"$f":"IF(AB135=\"\",\"\",AB135)","v":""},null,{"$f":"IF(AD135=\"\",\"\",AD135)","v":""},null,{"$f":"IF(AF135=\"\",\"\",AF135)","v":""},null,{"$f":"IF(AH135=\"\",\"\",AH135)","v":""},null,{"$f":"IF(AJ135=\"\",\"\",AJ135)","v":""},null,{"$f":"IF(AL135=\"\",\"\",AL135)","v":""},null,null,{"$f":"IF(AO135=\"\",\"\",AO135)","v":""},null,null,{"$f":"IF(AR135=\"\",\"\",AR135)","v":""},null,null,null,null,{"$f":"IF(AW135=\"\",\"\",AW135)","v":""}]
[]
[]
[]
[null,null,null,null,null,null,null,null,null,null,null,null,null,null,null,null,null,{"$f":"IF(R139=\"\",\"\",R139)","v":""},null,{"$f":"IF(T139=\"\",\"\",T139)","v":""},null,{"$f":"IF(V139=\"\",\"\",V139)","v":""},null,{"$f":"IF(X139=\"\",\"\",X139)","v":""},null,{"$f":"IF(Z139=\"\",\"\",Z139)","v":""},null,{"$f":"IF(AB139=\"\",\"\",AB139)","v":""},null,{"$f":"IF(AD139=\"\",\"\",AD139)","v":""},null,{"$f":"IF(AF139=\"\",\"\",AF139)","v":""},null,{"$f":"IF(AH139=\"\",\"\",AH139)","v":""},null,{"$f":"IF(AJ139=\"\",\"\",AJ139)","v":""},null,{"$f":"IF(AL139=\"\",\"\",AL139)","v":""},null,null,{"$f":"IF(AO139=\"\",\"\",AO139)","v":""},null,null,{"$f":"IF(AR139=\"\",\"\",AR139)","v":""},null,null,null,null,{"$f":"IF(AW139=\"\",\"\",AW139)","v":""}]
[]
[]
[]
[null,null,null,null,null,null,null,null,null,null,null,null,null,null,null,null,null,{"$f":"IF(R143=\"\",\"\",R143)","v":""},null,{"$f":"IF(T143=\"\",\"\",T143)","v":""},null,{"$f":"IF(V143=\"\",\"\",V143)","v":""},null,{"$f":"IF(X143=\"\",\"\",X143)","v":""},null,{"$f":"IF(Z143=\"\",\"\",Z143)","v":""},null,{"$f":"IF(AB143=\"\",\"\",AB143)","v":""},null,{"$f":"IF(AD143=\"\",\"\",AD143)","v":""},null,{"$f":"IF(AF143=\"\",\"\",AF143)","v":""},null,{"$f":"IF(AH143=\"\",\"\",AH143)","v":""},null,{"$f":"IF(AJ143=\"\",\"\",AJ143)","v":""},null,{"$f":"IF(AL143=\"\",\"\",AL143)","v":""},null,null,{"$f":"IF(AO143=\"\",\"\",AO143)","v":""},null,null,{"$f":"IF(AR143=\"\",\"\",AR143)","v":""},null,null,null,null,{"$f":"IF(AW143=\"\",\"\",AW143)","v":""}]
[]
[]
[]
[null,null,null,null,null,null,null,null,null,null,null,null,null,null,null,null,null,{"$f":"IF(R147=\"\",\"\",R147)","v":""},null,{"$f":"IF(T147=\"\",\"\",T147)","v":""},null,{"$f":"IF(V147=\"\",\"\",V147)","v":""},null,{"$f":"IF(X147=\"\",\"\",X147)","v":""},null,{"$f":"IF(Z147=\"\",\"\",Z147)","v":""},null,{"$f":"IF(AB147=\"\",\"\",AB147)","v":""},null,{"$f":"IF(AD147=\"\",\"\",AD147)","v":""},null,{"$f":"IF(AF147=\"\",\"\",AF147)","v":""},null,{"$f":"IF(AH147=\"\",\"\",AH147)","v":""},null,{"$f":"IF(AJ147=\"\",\"\",AJ147)","v":""},null,{"$f":"IF(AL147=\"\",\"\",AL147)","v":""},null,null,{"$f":"IF(AO147=\"\",\"\",AO147)","v":""},null,null,{"$f":"IF(AR147=\"\",\"\",AR147)","v":""},null,null,null,null,{"$f":"IF(AW147=\"\",\"\",AW147)","v":""}]
[]
[]
[]
[null,null,null,null,null,null,null,null,null,null,null,null,null,null,null,null,null,{"$f":"IF(R151=\"\",\"\",R151)","v":""},null,{"$f":"IF(T151=\"\",\"\",T151)","v":""},null,{"$f":"IF(V151=\"\",\"\",V151)","v":""},null,{"$f":"IF(X151=\"\",\"\",X151)","v":""},null,{"$f":"IF(Z151=\"\",\"\",Z151)","v":""},null,{"$f":"IF(AB151=\"\",\"\",AB151)","v":""},null,{"$f":"IF(AD151=\"\",\"\",AD151)","v":""},null,{"$f":"IF(AF151=\"\",\"\",AF151)","v":""},null,{"$f":"IF(AH151=\"\",\"\",AH151)","v":""},null,{"$f":"IF(AJ151=\"\",\"\",AJ151)","v":""},null,{"$f":"IF(AL151=\"\",\"\",AL151)","v":""},null,null,{"$f":"IF(AO151=\"\",\"\",AO151)","v":""},null,null,{"$f":"IF(AR151=\"\",\"\",AR151)","v":""},null,null,null,null,{"$f":"IF(AW151=\"\",\"\",AW151)","v":""}]
[]
[]
[]
[null,null,null,null,null,null,null,null,null,null,null,null,null,null,null,null,null,{"$f":"IF(R155=\"\",\"\",R155)","v":""},null,{"$f":"IF(T155=\"\",\"\",T155)","v":""},null,{"$f":"IF(V155=\"\",\"\",V155)","v":""},null,{"$f":"IF(X155=\"\",\"\",X155)","v":""},null,{"$f":"IF(Z155=\"\",\"\",Z155)","v":""},null,{"$f":"IF(AB155=\"\",\"\",AB155)","v":""},null,{"$f":"IF(AD155=\"\",\"\",AD155)","v":""},null,{"$f":"IF(AF155=\"\",\"\",AF155)","v":""},null,{"$f":"IF(AH155=\"\",\"\",AH155)","v":""},null,{"$f":"IF(AJ155=\"\",\"\",AJ155)","v":""},null,{"$f":"IF(AL155=\"\",\"\",AL155)","v":""},null,null,{"$f":"IF(AO155=\"\",\"\",AO155)","v":""},null,null,{"$f":"IF(AR155=\"\",\"\",AR155)","v":""},null,null,null,null,{"$f":"IF(AW155=\"\",\"\",AW155)","v":""}]
[]
[]
[]
[null,null,null,null,null,null,null,null,null,null,null,null,null,null,null,null,null,{"$f":"IF(R159=\"\",\"\",R159)","v":""},null,{"$f":"IF(T159=\"\",\"\",T159)","v":""},null,{"$f":"IF(V159=\"\",\"\",V159)","v":""},null,{"$f":"IF(X159=\"\",\"\",X159)","v":""},null,{"$f":"IF(Z159=\"\",\"\",Z159)","v":""},null,{"$f":"IF(AB159=\"\",\"\",AB159)","v":""},null,{"$f":"IF(AD159=\"\",\"\",AD159)","v":""},null,{"$f":"IF(AF159=\"\",\"\",AF159)","v":""},null,{"$f":"IF(AH159=\"\",\"\",AH159)","v":""},null,{"$f":"IF(AJ159=\"\",\"\",AJ159)","v":""},null,{"$f":"IF(AL159=\"\",\"\",AL159)","v":""},null,null,{"$f":"IF(AO159=\"\",\"\",AO159)","v":""},null,null,{"$f":"IF(AR159=\"\",\"\",AR159)","v":""},null,null,null,null,{"$f":"IF(AW159=\"\",\"\",AW159)","v":""}]
[]
[]
[]
[null,null,null,null,null,null,null,null,null,null,null,null,null,null,null,null,null,{"$f":"IF(R163=\"\",\"\",R163)","v":""},null,{"$f":"IF(T163=\"\",\"\",T163)","v":""},null,{"$f":"IF(V163=\"\",\"\",V163)","v":""},null,{"$f":"IF(X163=\"\",\"\",X163)","v":""},null,{"$f":"IF(Z163=\"\",\"\",Z163)","v":""},null,{"$f":"IF(AB163=\"\",\"\",AB163)","v":""},null,{"$f":"IF(AD163=\"\",\"\",AD163)","v":""},null,{"$f":"IF(AF163=\"\",\"\",AF163)","v":""},null,{"$f":"IF(AH163=\"\",\"\",AH163)","v":""},null,{"$f":"IF(AJ163=\"\",\"\",AJ163)","v":""},null,{"$f":"IF(AL163=\"\",\"\",AL163)","v":""},null,null,{"$f":"IF(AO163=\"\",\"\",AO163)","v":""},null,null,{"$f":"IF(AR163=\"\",\"\",AR163)","v":""},null,null,null,null,{"$f":"IF(AW163=\"\",\"\",AW163)","v":""}]
[]
[]
[]
[null,null,null,null,null,null,null,null,null,null,null,null,null,null,null,null,null,{"$f":"IF(R167=\"\",\"\",R167)","v":""},null,{"$f":"IF(T167=\"\",\"\",T167)","v":""},null,{"$f":"IF(V167=\"\",\"\",V167)","v":""},null,{"$f":"IF(X167=\"\",\"\",X167)","v":""},null,{"$f":"IF(Z167=\"\",\"\",Z167)","v":""},null,{"$f":"IF(AB167=\"\",\"\",AB167)","v":""},null,{"$f":"IF(AD167=\"\",\"\",AD167)","v":""},null,{"$f":"IF(AF167=\"\",\"\",AF167)","v":""},null,{"$f":"IF(AH167=\"\",\"\",AH167)","v":""},null,{"$f":"IF(AJ167=\"\",\"\",AJ167)","v":""},null,{"$f":"IF(AL167=\"\",\"\",AL167)","v":""},null,null,{"$f":"IF(AO167=\"\",\"\",AO167)","v":""},null,null,{"$f":"IF(AR167=\"\",\"\",AR167)","v":""},null,null,null,null,{"$f":"IF(AW167=\"\",\"\",AW167)","v":""}]
[]
[]
[]
[null,null,null,null,null,null,null,null,null,null,null,null,null,null,null,null,null,{"$f":"IF(R171=\"\",\"\",R171)","v":""},null,{"$f":"IF(T171=\"\",\"\",T171)","v":""},null,{"$f":"IF(V171=\"\",\"\",V171)","v":""},null,{"$f":"IF(X171=\"\",\"\",X171)","v":""},null,{"$f":"IF(Z171=\"\",\"\",Z171)","v":""},null,{"$f":"IF(AB171=\"\",\"\",AB171)","v":""},null,{"$f":"IF(AD171=\"\",\"\",AD171)","v":""},null,{"$f":"IF(AF171=\"\",\"\",AF171)","v":""},null,{"$f":"IF(AH171=\"\",\"\",AH171)","v":""},null,{"$f":"IF(AJ171=\"\",\"\",AJ171)","v":""},null,{"$f":"IF(AL171=\"\",\"\",AL171)","v":""},null,null,{"$f":"IF(AO171=\"\",\"\",AO171)","v":""},null,null,{"$f":"IF(AR171=\"\",\"\",AR171)","v":""},null,null,null,null,{"$f":"IF(AW171=\"\",\"\",AW171)","v":""}]
[]
[]
[]
[null,null,null,null,null,null,null,null,null,null,null,null,null,null,null,null,null,null,null,null,null,null,null,null,null,null,null,null,null,null,null,null,null,null,null,null,null,{"$f":"AL175","v":"金額(税抜)"},null,null,null,null,null,null,null,null,null,null,{"$f":"AW83","v":""}]
[]
[]
[]
[]
[null,null,null,null,null,null,null,null,null,null,null,null,null,null,null,null,null,null,null,null,null,null,null,null,null,null,null,null,null,null,null,null,null,null,null,null,null,{"$f":"AL180","v":"消費税"},null,null,null,null,null,"税率",null,null,"税調",null,{"$f":"AW88","v":""}]
[]
[null,null,null,null,null,null,null,null,null,null,null,null,null,null,null,null,null,null,null,null,null,null,null,null,null,null,null,null,null,null,null,null,null,null,null,null,null,null,null,null,null,null,null,{"$f":"AR90","v":0},null,{"$f":"AT90","v":""}]

{"sheet":"細2-11","index":26,"n_rows":274,"n_cols":53,"rows_kept":274,"cut":false,"hidden":false,"merged":[[266,37,269,47],[266,48,269,54],[258,48,261,54],[262,17,265,18],[262,19,265,20],[262,21,265,36],[262,37,265,39],[258,43,261,47],[271,48,274,54],[262,40,265,42],[262,43,265,47],[262,48,265,54],[258,17,261,18],[258,19,261,20],[258,21,261,36],[258,37,261,39],[258,40,261,42],[271,37,274,42],[271,43,272,45],[273,43,274,44],[273,45,274,45],[273,46,274,47],[271,46,272,47],[250,48,253,54],[254,17,257,18],[254,19,257,20],[254,21,257,36],[254,37,257,39],[254,40,257,42],[254,43,257,47],[254,48,257,54],[250,17,253,18],[250,19,253,20],[250,21,253,36],[250,37,253,39],[250,40,253,42],[250,43,253,47],[242,48,245,54],[246,17,249,18],[246,19,249,20],[246,21,249,36],[246,37,249,39],[246,40,249,42],[246,43,249,47],[246,48,249,54],[242,17,245,18],[242,19,245,20],[242,21,245,36],[242,37,245,39],[242,40,245,42],[242,43,245,47],[234,48,237,54],[238,17,241,18],[238,19,241,20],[238,21,241,36],[238,37,241,39],[238,40,241,42],[238,43,241,47],[238,48,241,54],[234,17,237,18],[234,19,237,20],[234,21,237,36],[234,37,237,39],[234,40,237,42],[234,43,237,47],[222,17,225,18],[222,19,225,20],[222,21,225,36],[222,37,225,39],[222,40,225,42],[222,43,225,47],[222,48,225,54],[226,48,229,54],[230,17,233,18],[230,19,233,20],[230,21,233,36],[230,37,233,39],[230,40,233,42],[230,43,233,47],[230,48,233,54],[226,17,229,18],[226,19,229,20],[226,21,229,36],[226,37,229,39],[226,40,229,42],[226,43,229,47],[218,1,221,5],[218,6,221,15],[218,17,221,18],[218,19,221,20],[218,21,221,36],[218,37,221,39],[218,40,221,42],[218,43,221,47],[218,48,221,54],[210,40,213,42],[210,43,213,47],[210,48,213,54],[214,1,217,3],[214,4,217,5],[214,6,217,15],[214,17,217,18],[214,19,217,20],[214,21,217,36],[214,37,217,39],[210,1,213,5],[210,6,213,15],[210,17,213,18],[210,19,213,20],[210,21,213,36],[210,37,213,39],[214,40,217,42],[214,43,217,47],[214,48,217,54],[206,1,209,5],[206,6,209,15],[206,17,209,18],[206,19,209,20],[206,21,209,36],[206,37,209,39],[206,40,209,42],[206,43,209,47],[206,48,209,54],[198,43,201,47],[198,48,201,54],[202,1,205,5],[202,6,205,15],[202,17,205,18],[202,19,205,20],[202,21,205,36],[202,37,205,39],[202,40,205,42],[202,43,205,47],[198,1,201,5],[198,6,201,15],[198,17,201,20],[198,21,201,36],[198,37,201,39],[198,40,201,42],[202,48,205,54],[187,52,189,54],[192,1,195,5],[192,6,195,11],[192,12,195,15],[192,16,195,35],[192,37,195,40],[192,41,195,54],[185,19,188,32],[186,1,189,11],[186,12,189,13],[187,49,189,51],[187,40,189,44],[187,45,189,48],[174,37,177,47],[174,48,177,54],[179,48,182,54],[170,17,173,18],[170,19,173,20],[170,21,173,36],[170,37,173,39],[170,40,173,42],[170,43,173,47],[170,48,173,54],[179,37,182,42],[179,43,180,45],[179,46,180,47],[181,43,182,44],[181,45,182,45],[181,46,182,47],[166,17,169,18],[166,19,169,20],[162,43,165,47],[162,48,165,54],[158,17,161,18],[158,19,161,20],[158,21,161,36],[158,37,161,39],[158,40,161,42],[162,17,165,18],[162,19,165,20],[162,21,165,36],[162,37,165,39],[162,40,165,42],[166,48,169,54],[158,43,161,47],[166,21,169,36],[166,37,169,39],[166,40,169,42],[166,43,169,47],[158,48,161,54],[154,48,157,54],[150,17,153,18],[150,19,153,20],[146,43,149,47],[146,48,149,54],[142,17,145,18],[142,19,145,20],[142,21,145,36],[142,37,145,39],[142,40,145,42],[154,17,157,18],[154,19,157,20],[154,21,157,36],[154,37,157,39],[154,40,157,42],[154,43,157,47],[146,17,149,18],[146,19,149,20],[146,21,149,36],[146,37,149,39],[146,40,149,42],[150,48,153,54],[142,43,145,47],[150,21,153,36],[150,37,153,39],[150,40,153,42],[150,43,153,47],[142,48,145,54],[130,48,133,54],[134,48,137,54],[130,17,133,18],[130,19,133,20],[130,21,133,36],[130,37,133,39],[130,40,133,42],[130,43,133,47],[138,48,141,54],[134,17,137,18],[134,19,137,20],[134,21,137,36],[134,37,137,39],[134,40,137,42],[134,43,137,47],[138,17,141,18],[138,19,141,20],[138,21,141,36],[138,37,141,39],[138,40,141,42],[138,43,141,47],[126,1,129,5],[126,6,129,15],[126,17,129,18],[126,19,129,20],[126,21,129,36],[126,37,129,39],[126,40,129,42],[126,43,129,47],[126,48,129,54],[118,40,121,42],[118,43,121,47],[118,48,121,54],[122,1,125,3],[122,4,125,5],[122,6,125,15],[122,17,125,18],[122,19,125,20],[122,21,125,36],[122,37,125,39],[118,1,121,5],[118,6,121,15],[118,17,121,18],[118,19,121,20],[118,21,121,36],[118,37,121,39],[122,40,125,42],[122,43,125,47],[122,48,125,54],[114,1,117,5],[114,6,117,15],[114,17,117,18],[114,19,117,20],[114,21,117,36],[114,37,117,39],[114,40,117,42],[114,43,117,47],[114,48,117,54],[106,43,109,47],[106,48,109,54],[110,1,113,5],[110,6,113,15],[110,17,113,18],[110,19,113,20],[110,21,113,36],[110,37,113,39],[110,40,113,42],[110,43,113,47],[106,1,109,5],[106,6,109,15],[106,17,109,20],[106,21,109,36],[106,37,109,39],[106,40,109,42],[110,48,113,54],[89,46,90,47],[87,46,88,47],[95,49,97,51],[95,52,97,54],[100,1,103,5],[100,6,103,11],[100,12,103,15],[100,16,103,35],[100,37,103,40],[100,41,103,54],[93,19,96,32],[94,1,97,11],[94,12,97,13],[95,40,97,44],[95,45,97,48],[83,1,84,4],[83,5,84,10],[83,11,84,16],[83,17,84,25],[85,1,90,4],[85,5,90,10],[85,11,90,16],[85,17,90,25],[89,45,90,45],[78,43,81,47],[83,26,84,30],[83,31,84,35],[78,17,81,18],[78,19,81,20],[78,21,81,36],[85,26,90,30],[85,31,90,35],[74,48,77,54],[87,48,90,54],[78,48,81,54],[82,37,85,47],[82,48,85,54],[78,37,81,39],[78,40,81,42],[74,17,77,18],[74,19,77,20],[74,21,77,36],[74,37,77,39],[74,40,77,42],[74,43,77,47],[87,37,90,42],[87,43,88,45],[89,43,90,44],[66,48,69,54],[70,17,73,18],[70,19,73,20],[70,21,73,36],[70,37,73,39],[70,40,73,42],[70,43,73,47],[70,48,73,54],[66,17,69,18],[66,19,69,20],[66,21,69,36],[66,37,69,39],[66,40,69,42],[66,43,69,47],[58,48,61,54],[62,17,65,18],[62,19,65,20],[62,21,65,36],[62,37,65,39],[62,40,65,42],[62,43,65,47],[62,48,65,54],[58,17,61,18],[58,19,61,20],[58,21,61,36],[58,37,61,39],[58,40,61,42],[58,43,61,47],[50,48,53,54],[54,17,57,18],[54,19,57,20],[54,21,57,36],[54,37,57,39],[54,40,57,42],[54,43,57,47],[54,48,57,54],[50,17,53,18],[50,19,53,20],[50,21,53,36],[50,37,53,39],[50,40,53,42],[50,43,53,47],[38,17,41,18],[38,19,41,20],[38,21,41,36],[38,37,41,39],[38,40,41,42],[38,43,41,47],[38,48,41,54],[42,48,45,54],[46,17,49,18],[46,19,49,20],[46,21,49,36],[46,37,49,39],[46,40,49,42],[46,43,49,47],[46,48,49,54],[42,17,45,18],[42,19,45,20],[42,21,45,36],[42,37,45,39],[42,40,45,42],[42,43,45,47],[34,1,37,5],[34,6,37,15],[34,17,37,18],[34,19,37,20],[34,21,37,36],[34,37,37,39],[34,40,37,42],[34,43,37,47],[34,48,37,54],[26,40,29,42],[26,43,29,47],[26,48,29,54],[30,1,33,3],[30,4,33,5],[30,6,33,15],[30,17,33,18],[30,19,33,20],[30,21,33,36],[30,37,33,39],[26,1,29,5],[26,6,29,15],[26,17,29,18],[26,19,29,20],[26,21,29,36],[26,37,29,39],[30,40,33,42],[30,43,33,47],[30,48,33,54],[22,1,25,5],[22,6,25,15],[22,17,25,18],[22,19,25,20],[22,21,25,36],[22,37,25,39],[22,40,25,42],[22,43,25,47],[22,48,25,54],[14,43,17,47],[14,48,17,54],[18,1,21,5],[18,6,21,15],[18,17,21,18],[18,19,21,20],[18,21,21,36],[18,37,21,39],[18,40,21,42],[18,43,21,47],[14,1,17,5],[14,6,17,15],[14,17,17,20],[14,21,17,36],[14,37,17,39],[14,40,17,42],[18,48,21,54],[3,52,5,54],[8,37,11,40],[8,41,11,54],[1,19,4,32],[2,1,5,11],[2,12,5,13],[8,1,11,5],[8,6,11,11],[8,12,11,15],[8,16,11,35],[3,49,5,51],[3,40,5,44],[3,45,5,48]]}
[]
[null,null,null,null,null,null,null,null,null,null,null,null,null,null,null,null,null,null,null,"請求書明細書 (正)"]
[null,"株 式 会 社 種 村 建 設",null,null,null,null,null,null,null,null,null,null,"御中"]
[null,null,null,null,null,null,null,null,null,null,null,null,null,null,null,null,null,null,null,null,null,null,null,null,null,null,null,null,null,null,null,null,null,null,null,null,null,null,null,null,"請求年月日",null,null,null,null,{"$f":"IF(年=\"\",\"\",年)","v":""},null,null,null,{"$f":"IF(月=\"\",\"\",月)","v":""},null,null,{"$f":"IF(日=\"\",\"\",日)","v":""}]
[]
[]
[]
[]
[null,"工事番号",null,null,null,null,null,null,null,null,null,null,"工事名",null,null,null,null,null,null,null,null,null,null,null,null,null,null,null,null,null,null,null,null,null,null,null,null,"業者名",null,null,null,{"$f":"IF(社名=\"\",\"\",社名)","v":""}]
[]
[]
[]
[]
[]
[null,"注文番号",null,null,null,null,null,null,null,null,null,null,null,null,null,null,null,"月　日",null,null,null,"品　名・内　訳",null,null,null,null,null,null,null,null,null,null,null,null,null,null,null,"数 量",null,null,"単位",null,null,"単価",null,null,null,null,{"$f":"表紙①!P35","v":"金額(税抜)"}]
[]
[]
[]
[null,"契約金額",null,null,null,null,null,null,null,null,null,null,null,null,null,null,null,null,null,null,null,null,null,null,null,null,null,null,null,null,null,null,null,null,null,null,null,null,null,null,null,null,null,null,null,null,null,null,{"$f":"IF(V19=\"\",\"\",ROUND(AL19*AR19,0))","v":""}]
[]
[]
[]
[null,"増減額",null,null,null,null,null,null,null,null,null,null,null,null,null,null,null,null,null,null,null,null,null,null,null,null,null,null,null,null,null,null,null,null,null,null,null,null,null,null,null,null,null,null,null,null,null,null,{"$f":"IF(V23=\"\",\"\",ROUND(AL23*AR23,0))","v":""}]
[]
[]
[]
[null,"前回までの\n請求額",null,null,null,null,null,null,null,null,null,null,null,null,null,null,null,null,null,null,null,null,null,null,null,null,null,null,null,null,null,null,null,null,null,null,null,null,null,null,null,null,null,null,null,null,null,null,{"$f":"IF(V27=\"\",\"\",ROUND(AL27*AR27,0))","v":""}]
[]
[]
[]
[null,"今回\n請求額",null,null,null,null,null,null,null,null,null,null,null,null,null,null,null,null,null,null,null,null,null,null,null,null,null,null,null,null,null,null,null,null,null,null,null,null,null,null,null,null,null,null,null,null,null,null,{"$f":"IF(V31=\"\",\"\",ROUND(AL31*AR31,0))","v":""}]
[]
[]
[]
[null,"差引残高",null,null,null,null,{"$f":"IF(G19=\"\",\"\",G19+G23-G27-G31)","v":""},null,null,null,null,null,null,null,null,null,null,null,null,null,null,null,null,null,null,null,null,null,null,null,null,null,null,null,null,null,null,null,null,null,null,null,null,null,null,null,null,null,{"$f":"IF(V35=\"\",\"\",ROUND(AL35*AR35,0))","v":""}]
[]
[]
[]
[null,null,null,null,null,null,null,null,null,null,null,null,null,null,null,null,null,null,null,null,null,null,null,null,null,null,null,null,null,null,null,null,null,null,null,null,null,null,null,null,null,null,null,null,null,null,null,null,{"$f":"IF(V39=\"\",\"\",ROUND(AL39*AR39,0))","v":""}]
[]
[]
[]
[null,null,null,null,null,null,null,null,null,null,null,null,null,null,null,null,null,null,null,null,null,null,null,null,null,null,null,null,null,null,null,null,null,null,null,null,null,null,null,null,null,null,null,null,null,null,null,null,{"$f":"IF(V43=\"\",\"\",ROUND(AL43*AR43,0))","v":""}]
[]
[]
[]
[null,null,null,null,null,null,null,null,null,null,null,null,null,null,null,null,null,null,null,null,null,null,null,null,null,null,null,null,null,null,null,null,null,null,null,null,null,null,null,null,null,null,null,null,null,null,null,null,{"$f":"IF(V47=\"\",\"\",ROUND(AL47*AR47,0))","v":""}]
[]
[]
[]
[null,null,null,null,null,null,null,null,null,null,null,null,null,null,null,null,null,null,null,null,null,null,null,null,null,null,null,null,null,null,null,null,null,null,null,null,null,null,null,null,null,null,null,null,null,null,null,null,{"$f":"IF(V51=\"\",\"\",ROUND(AL51*AR51,0))","v":""}]
[]
[]
[]
[null,null,null,null,null,null,null,null,null,null,null,null,null,null,null,null,null,null,null,null,null,null,null,null,null,null,null,null,null,null,null,null,null,null,null,null,null,null,null,null,null,null,null,null,null,null,null,null,{"$f":"IF(V55=\"\",\"\",ROUND(AL55*AR55,0))","v":""}]
[]
[]
[]
[null,null,null,null,null,null,null,null,null,null,null,null,null,null,null,null,null,null,null,null,null,null,null,null,null,null,null,null,null,null,null,null,null,null,null,null,null,null,null,null,null,null,null,null,null,null,null,null,{"$f":"IF(V59=\"\",\"\",ROUND(AL59*AR59,0))","v":""}]
[]
[]
[]
[null,null,null,null,null,null,null,null,null,null,null,null,null,null,null,null,null,null,null,null,null,null,null,null,null,null,null,null,null,null,null,null,null,null,null,null,null,null,null,null,null,null,null,null,null,null,null,null,{"$f":"IF(V63=\"\",\"\",ROUND(AL63*AR63,0))","v":""}]
[]
[]
[]
[null,null,null,null,null,null,null,null,null,null,null,null,null,null,null,null,null,null,null,null,null,null,null,null,null,null,null,null,null,null,null,null,null,null,null,null,null,null,null,null,null,null,null,null,null,null,null,null,{"$f":"IF(V67=\"\",\"\",ROUND(AL67*AR67,0))","v":""}]
[]
[]
[]
[null,null,null,null,null,null,null,null,null,null,null,null,null,null,null,null,null,null,null,null,null,null,null,null,null,null,null,null,null,null,null,null,null,null,null,null,null,null,null,null,null,null,null,null,null,null,null,null,{"$f":"IF(V71=\"\",\"\",ROUND(AL71*AR71,0))","v":""}]
[]
[]
[]
[null,null,null,null,null,null,null,null,null,null,null,null,null,null,null,null,null,null,null,null,null,null,null,null,null,null,null,null,null,null,null,null,null,null,null,null,null,null,null,null,null,null,null,null,null,null,null,null,{"$f":"IF(V75=\"\",\"\",ROUND(AL75*AR75,0))","v":""}]
[]
[]
[]
[null,null,null,null,null,null,null,null,null,null,null,null,null,null,null,null,null,null,null,null,null,null,null,null,null,null,null,null,null,null,null,null,null,null,null,null,null,null,null,null,null,null,null,null,null,null,null,null,{"$f":"IF(V79=\"\",\"\",ROUND(AL79*AR79,0))","v":""}]
[]
[]
[]
[null,null,null,null,null,null,null,null,null,null,null,null,null,null,null,null,null,null,null,null,null,null,null,null,null,null,null,null,null,null,null,null,null,null,null,null,null,"金額(税抜)",null,null,null,null,null,null,null,null,null,null,{"$f":"IF(AW19=\"\",\"\",SUM(AW19:AW79))","v":""}]
[null,"社長",null,null,null,"専務",null,null,null,null,null,"常務",null,null,null,null,null,"部長･工場長",null,null,null,null,null,null,null,null,"担当者",null,null,null,null,"受付"]
[]
[]
[]
[null,null,null,null,null,null,null,null,null,null,null,null,null,null,null,null,null,null,null,null,null,null,null,null,null,null,null,null,null,null,null,null,null,null,null,null,null,"消費税",null,null,null,null,null,"税率",null,null,"税調",null,{"$f":"IF(AW83=\"\",\"\",IF(AR90=\"\",\"\",IF(AR90=8.1,ROUND(AW83*8/100,0)+AU90,ROUND(AW83*AR90/100,0)+AU90)))","v":""}]
[]
[null,null,null,null,null,null,null,null,null,null,null,null,null,null,null,null,null,null,null,null,null,null,null,null,null,null,null,null,null,null,null,null,null,null,null,null,null,null,null,null,null,null,null,null,null,{"$f":"IF(AR90=\"\",\"\",IF(AR90=8.1,\"旧\",IF(AR90=8,\"軽\",IF(AR90=0,\"非\",\"\"))))","v":""}]
[]
[]
[]
[null,null,null,null,null,null,null,null,null,null,null,null,null,null,null,null,null,null,null,"請求明細書 (現場控)"]
[null,"株 式 会 社 種 村 建 設",null,null,null,null,null,null,null,null,null,null,"御中"]
[null,null,null,null,null,null,null,null,null,null,null,null,null,null,null,null,null,null,null,null,null,null,null,null,null,null,null,null,null,null,null,null,null,null,null,null,null,null,null,null,"請求年月日",null,null,null,null,{"$f":"IF(AT4=\"\",\"\",AT4)","v":""},null,null,null,{"$f":"IF(AX4=\"\",\"\",AX4)","v":""},null,null,{"$f":"IF(BA4=\"\",\"\",BA4)","v":""}]
[]
[]
[]
[]
[null,"工事番号",null,null,null,null,{"$f":"IF(G9=\"\",\"\",G9)","v":""},null,null,null,null,null,"工事名",null,null,null,{"$f":"IF(Q9=\"\",\"\",Q9)","v":""},null,null,null,null,null,null,null,null,null,null,null,null,null,null,null,null,null,null,null,null,"業者名",null,null,null,{"$f":"IF(AP9=\"\",\"\",AP9)","v":""}]
[]
[]
[]
[]
[]
[null,"注文番号",null,null,null,null,{"$f":"IF(G15=\"\",\"\",G15)","v":""},null,null,null,null,null,null,null,null,null,null,"月　日",null,null,null,"品　名・内　訳",null,null,null,null,null,null,null,null,null,null,null,null,null,null,null,"数 量",null,null,"単位",null,null,"単価",null,null,null,null,{"$f":"AW15","v":"金額(税抜)"}]
[]
[]
[]
[null,"契約金額",null,null,null,null,{"$f":"IF(G19=\"\",\"\",G19)","v":""},null,null,null,null,null,null,null,null,null,null,{"$f":"IF(R19=\"\",\"\",R19)","v":""},null,{"$f":"IF(T19=\"\",\"\",T19)","v":""},null,{"$f":"IF(V19=\"\",\"\",V19)","v":""},null,{"$f":"IF(X19=\"\",\"\",X19)","v":""},null,{"$f":"IF(Z19=\"\",\"\",Z19)","v":""},null,{"$f":"IF(AB19=\"\",\"\",AB19)","v":""},null,{"$f":"IF(AD19=\"\",\"\",AD19)","v":""},null,{"$f":"IF(AF19=\"\",\"\",AF19)","v":""},null,{"$f":"IF(AH19=\"\",\"\",AH19)","v":""},null,{"$f":"IF(AJ19=\"\",\"\",AJ19)","v":""},null,{"$f":"IF(AL19=\"\",\"\",AL19)","v":""},null,null,{"$f":"IF(AO19=\"\",\"\",AO19)","v":""},null,null,{"$f":"IF(AR19=\"\",\"\",AR19)","v":""},null,null,null,null,{"$f":"IF(AW19=\"\",\"\",AW19)","v":""}]
[]
[]
[]
[null,"増減額",null,null,null,null,{"$f":"IF(G23=\"\",\"\",G23)","v":""},null,null,null,null,null,null,null,null,null,null,{"$f":"IF(R23=\"\",\"\",R23)","v":""},null,{"$f":"IF(T23=\"\",\"\",T23)","v":""},null,{"$f":"IF(V23=\"\",\"\",V23)","v":""},null,{"$f":"IF(X23=\"\",\"\",X23)","v":""},null,{"$f":"IF(Z23=\"\",\"\",Z23)","v":""},null,{"$f":"IF(AB23=\"\",\"\",AB23)","v":""},null,{"$f":"IF(AD23=\"\",\"\",AD23)","v":""},null,{"$f":"IF(AF23=\"\",\"\",AF23)","v":""},null,{"$f":"IF(AH23=\"\",\"\",AH23)","v":""},null,{"$f":"IF(AJ23=\"\",\"\",AJ23)","v":""},null,{"$f":"IF(AL23=\"\",\"\",AL23)","v":""},null,null,{"$f":"IF(AO23=\"\",\"\",AO23)","v":""},null,null,{"$f":"IF(AR23=\"\",\"\",AR23)","v":""},null,null,null,null,{"$f":"IF(AW23=\"\",\"\",AW23)","v":""}]
[]
[]
[]
[null,"前回までの\n請求額",null,null,null,null,{"$f":"IF(G27=\"\",\"\",G27)","v":""},null,null,null,null,null,null,null,null,null,null,{"$f":"IF(R27=\"\",\"\",R27)","v":""},null,{"$f":"IF(T27=\"\",\"\",T27)","v":""},null,{"$f":"IF(V27=\"\",\"\",V27)","v":""},null,{"$f":"IF(X27=\"\",\"\",X27)","v":""},null,{"$f":"IF(Z27=\"\",\"\",Z27)","v":""},null,{"$f":"IF(AB27=\"\",\"\",AB27)","v":""},null,{"$f":"IF(AD27=\"\",\"\",AD27)","v":""},null,{"$f":"IF(AF27=\"\",\"\",AF27)","v":""},null,{"$f":"IF(AH27=\"\",\"\",AH27)","v":""},null,{"$f":"IF(AJ27=\"\",\"\",AJ27)","v":""},null,{"$f":"IF(AL27=\"\",\"\",AL27)","v":""},null,null,{"$f":"IF(AO27=\"\",\"\",AO27)","v":""},null,null,{"$f":"IF(AR27=\"\",\"\",AR27)","v":""},null,null,null,null,{"$f":"IF(AW27=\"\",\"\",AW27)","v":""}]
[]
[]
[]
[null,"今回\n請求額",null,null,{"$f":"IF(E31=\"\",\"\",E31)","v":""},null,{"$f":"IF(G31=\"\",\"\",G31)","v":""},null,null,null,null,null,null,null,null,null,null,{"$f":"IF(R31=\"\",\"\",R31)","v":""},null,{"$f":"IF(T31=\"\",\"\",T31)","v":""},null,{"$f":"IF(V31=\"\",\"\",V31)","v":""},null,{"$f":"IF(X31=\"\",\"\",X31)","v":""},null,{"$f":"IF(Z31=\"\",\"\",Z31)","v":""},null,{"$f":"IF(AB31=\"\",\"\",AB31)","v":""},null,{"$f":"IF(AD31=\"\",\"\",AD31)","v":""},null,{"$f":"IF(AF31=\"\",\"\",AF31)","v":""},null,{"$f":"IF(AH31=\"\",\"\",AH31)","v":""},null,{"$f":"IF(AJ31=\"\",\"\",AJ31)","v":""},null,{"$f":"IF(AL31=\"\",\"\",AL31)","v":""},null,null,{"$f":"IF(AO31=\"\",\"\",AO31)","v":""},null,null,{"$f":"IF(AR31=\"\",\"\",AR31)","v":""},null,null,null,null,{"$f":"IF(AW31=\"\",\"\",AW31)","v":""}]
[]
[]
[]
[null,"差引残高",null,null,null,null,{"$f":"IF(G111=\"\",\"\",G111+G115-G119-G123)","v":""},null,null,null,null,null,null,null,null,null,null,{"$f":"IF(R35=\"\",\"\",R35)","v":""},null,{"$f":"IF(T35=\"\",\"\",T35)","v":""},null,{"$f":"IF(V35=\"\",\"\",V35)","v":""},null,{"$f":"IF(X35=\"\",\"\",X35)","v":""},null,{"$f":"IF(Z35=\"\",\"\",Z35)","v":""},null,{"$f":"IF(AB35=\"\",\"\",AB35)","v":""},null,{"$f":"IF(AD35=\"\",\"\",AD35)","v":""},null,{"$f":"IF(AF35=\"\",\"\",AF35)","v":""},null,{"$f":"IF(AH35=\"\",\"\",AH35)","v":""},null,{"$f":"IF(AJ35=\"\",\"\",AJ35)","v":""},null,{"$f":"IF(AL35=\"\",\"\",AL35)","v":""},null,null,{"$f":"IF(AO35=\"\",\"\",AO35)","v":""},null,null,{"$f":"IF(AR35=\"\",\"\",AR35)","v":""},null,null,null,null,{"$f":"IF(AW35=\"\",\"\",AW35)","v":""}]
[]
[]
[]
[null,null,null,null,null,null,null,null,null,null,null,null,null,null,null,null,null,{"$f":"IF(R39=\"\",\"\",R39)","v":""},null,{"$f":"IF(T39=\"\",\"\",T39)","v":""},null,{"$f":"IF(V39=\"\",\"\",V39)","v":""},null,{"$f":"IF(X39=\"\",\"\",X39)","v":""},null,{"$f":"IF(Z39=\"\",\"\",Z39)","v":""},null,{"$f":"IF(AB39=\"\",\"\",AB39)","v":""},null,{"$f":"IF(AD39=\"\",\"\",AD39)","v":""},null,{"$f":"IF(AF39=\"\",\"\",AF39)","v":""},null,{"$f":"IF(AH39=\"\",\"\",AH39)","v":""},null,{"$f":"IF(AJ39=\"\",\"\",AJ39)","v":""},null,{"$f":"IF(AL39=\"\",\"\",AL39)","v":""},null,null,{"$f":"IF(AO39=\"\",\"\",AO39)","v":""},null,null,{"$f":"IF(AR39=\"\",\"\",AR39)","v":""},null,null,null,null,{"$f":"IF(AW39=\"\",\"\",AW39)","v":""}]
[]
[]
[]
[null,null,null,null,null,null,null,null,null,null,null,null,null,null,null,null,null,{"$f":"IF(R43=\"\",\"\",R43)","v":""},null,{"$f":"IF(T43=\"\",\"\",T43)","v":""},null,{"$f":"IF(V43=\"\",\"\",V43)","v":""},null,{"$f":"IF(X43=\"\",\"\",X43)","v":""},null,{"$f":"IF(Z43=\"\",\"\",Z43)","v":""},null,{"$f":"IF(AB43=\"\",\"\",AB43)","v":""},null,{"$f":"IF(AD43=\"\",\"\",AD43)","v":""},null,{"$f":"IF(AF43=\"\",\"\",AF43)","v":""},null,{"$f":"IF(AH43=\"\",\"\",AH43)","v":""},null,{"$f":"IF(AJ43=\"\",\"\",AJ43)","v":""},null,{"$f":"IF(AL43=\"\",\"\",AL43)","v":""},null,null,{"$f":"IF(AO43=\"\",\"\",AO43)","v":""},null,null,{"$f":"IF(AR43=\"\",\"\",AR43)","v":""},null,null,null,null,{"$f":"IF(AW43=\"\",\"\",AW43)","v":""}]
[]
[]
[]
[null,null,null,null,null,null,null,null,null,null,null,null,null,null,null,null,null,{"$f":"IF(R47=\"\",\"\",R47)","v":""},null,{"$f":"IF(T47=\"\",\"\",T47)","v":""},null,{"$f":"IF(V47=\"\",\"\",V47)","v":""},null,{"$f":"IF(X47=\"\",\"\",X47)","v":""},null,{"$f":"IF(Z47=\"\",\"\",Z47)","v":""},null,{"$f":"IF(AB47=\"\",\"\",AB47)","v":""},null,{"$f":"IF(AD47=\"\",\"\",AD47)","v":""},null,{"$f":"IF(AF47=\"\",\"\",AF47)","v":""},null,{"$f":"IF(AH47=\"\",\"\",AH47)","v":""},null,{"$f":"IF(AJ47=\"\",\"\",AJ47)","v":""},null,{"$f":"IF(AL47=\"\",\"\",AL47)","v":""},null,null,{"$f":"IF(AO47=\"\",\"\",AO47)","v":""},null,null,{"$f":"IF(AR47=\"\",\"\",AR47)","v":""},null,null,null,null,{"$f":"IF(AW47=\"\",\"\",AW47)","v":""}]
[]
[]
[]
[null,null,null,null,null,null,null,null,null,null,null,null,null,null,null,null,null,{"$f":"IF(R51=\"\",\"\",R51)","v":""},null,{"$f":"IF(T51=\"\",\"\",T51)","v":""},null,{"$f":"IF(V51=\"\",\"\",V51)","v":""},null,{"$f":"IF(X51=\"\",\"\",X51)","v":""},null,{"$f":"IF(Z51=\"\",\"\",Z51)","v":""},null,{"$f":"IF(AB51=\"\",\"\",AB51)","v":""},null,{"$f":"IF(AD51=\"\",\"\",AD51)","v":""},null,{"$f":"IF(AF51=\"\",\"\",AF51)","v":""},null,{"$f":"IF(AH51=\"\",\"\",AH51)","v":""},null,{"$f":"IF(AJ51=\"\",\"\",AJ51)","v":""},null,{"$f":"IF(AL51=\"\",\"\",AL51)","v":""},null,null,{"$f":"IF(AO51=\"\",\"\",AO51)","v":""},null,null,{"$f":"IF(AR51=\"\",\"\",AR51)","v":""},null,null,null,null,{"$f":"IF(AW51=\"\",\"\",AW51)","v":""}]
[]
[]
[]
[null,null,null,null,null,null,null,null,null,null,null,null,null,null,null,null,null,{"$f":"IF(R55=\"\",\"\",R55)","v":""},null,{"$f":"IF(T55=\"\",\"\",T55)","v":""},null,{"$f":"IF(V55=\"\",\"\",V55)","v":""},null,{"$f":"IF(X55=\"\",\"\",X55)","v":""},null,{"$f":"IF(Z55=\"\",\"\",Z55)","v":""},null,{"$f":"IF(AB55=\"\",\"\",AB55)","v":""},null,{"$f":"IF(AD55=\"\",\"\",AD55)","v":""},null,{"$f":"IF(AF55=\"\",\"\",AF55)","v":""},null,{"$f":"IF(AH55=\"\",\"\",AH55)","v":""},null,{"$f":"IF(AJ55=\"\",\"\",AJ55)","v":""},null,{"$f":"IF(AL55=\"\",\"\",AL55)","v":""},null,null,{"$f":"IF(AO55=\"\",\"\",AO55)","v":""},null,null,{"$f":"IF(AR55=\"\",\"\",AR55)","v":""},null,null,null,null,{"$f":"IF(AW55=\"\",\"\",AW55)","v":""}]
[]
[]
[]
[null,null,null,null,null,null,null,null,null,null,null,null,null,null,null,null,null,{"$f":"IF(R59=\"\",\"\",R59)","v":""},null,{"$f":"IF(T59=\"\",\"\",T59)","v":""},null,{"$f":"IF(V59=\"\",\"\",V59)","v":""},null,{"$f":"IF(X59=\"\",\"\",X59)","v":""},null,{"$f":"IF(Z59=\"\",\"\",Z59)","v":""},null,{"$f":"IF(AB59=\"\",\"\",AB59)","v":""},null,{"$f":"IF(AD59=\"\",\"\",AD59)","v":""},null,{"$f":"IF(AF59=\"\",\"\",AF59)","v":""},null,{"$f":"IF(AH59=\"\",\"\",AH59)","v":""},null,{"$f":"IF(AJ59=\"\",\"\",AJ59)","v":""},null,{"$f":"IF(AL59=\"\",\"\",AL59)","v":""},null,null,{"$f":"IF(AO59=\"\",\"\",AO59)","v":""},null,null,{"$f":"IF(AR59=\"\",\"\",AR59)","v":""},null,null,null,null,{"$f":"IF(AW59=\"\",\"\",AW59)","v":""}]
[]
[]
[]
[null,null,null,null,null,null,null,null,null,null,null,null,null,null,null,null,null,{"$f":"IF(R63=\"\",\"\",R63)","v":""},null,{"$f":"IF(T63=\"\",\"\",T63)","v":""},null,{"$f":"IF(V63=\"\",\"\",V63)","v":""},null,{"$f":"IF(X63=\"\",\"\",X63)","v":""},null,{"$f":"IF(Z63=\"\",\"\",Z63)","v":""},null,{"$f":"IF(AB63=\"\",\"\",AB63)","v":""},null,{"$f":"IF(AD63=\"\",\"\",AD63)","v":""},null,{"$f":"IF(AF63=\"\",\"\",AF63)","v":""},null,{"$f":"IF(AH63=\"\",\"\",AH63)","v":""},null,{"$f":"IF(AJ63=\"\",\"\",AJ63)","v":""},null,{"$f":"IF(AL63=\"\",\"\",AL63)","v":""},null,null,{"$f":"IF(AO63=\"\",\"\",AO63)","v":""},null,null,{"$f":"IF(AR63=\"\",\"\",AR63)","v":""},null,null,null,null,{"$f":"IF(AW63=\"\",\"\",AW63)","v":""}]
[]
[]
[]
[null,null,null,null,null,null,null,null,null,null,null,null,null,null,null,null,null,{"$f":"IF(R67=\"\",\"\",R67)","v":""},null,{"$f":"IF(T67=\"\",\"\",T67)","v":""},null,{"$f":"IF(V67=\"\",\"\",V67)","v":""},null,{"$f":"IF(X67=\"\",\"\",X67)","v":""},null,{"$f":"IF(Z67=\"\",\"\",Z67)","v":""},null,{"$f":"IF(AB67=\"\",\"\",AB67)","v":""},null,{"$f":"IF(AD67=\"\",\"\",AD67)","v":""},null,{"$f":"IF(AF67=\"\",\"\",AF67)","v":""},null,{"$f":"IF(AH67=\"\",\"\",AH67)","v":""},null,{"$f":"IF(AJ67=\"\",\"\",AJ67)","v":""},null,{"$f":"IF(AL67=\"\",\"\",AL67)","v":""},null,null,{"$f":"IF(AO67=\"\",\"\",AO67)","v":""},null,null,{"$f":"IF(AR67=\"\",\"\",AR67)","v":""},null,null,null,null,{"$f":"IF(AW67=\"\",\"\",AW67)","v":""}]
[]
[]
[]
[null,null,null,null,null,null,null,null,null,null,null,null,null,null,null,null,null,{"$f":"IF(R71=\"\",\"\",R71)","v":""},null,{"$f":"IF(T71=\"\",\"\",T71)","v":""},null,{"$f":"IF(V71=\"\",\"\",V71)","v":""},null,{"$f":"IF(X71=\"\",\"\",X71)","v":""},null,{"$f":"IF(Z71=\"\",\"\",Z71)","v":""},null,{"$f":"IF(AB71=\"\",\"\",AB71)","v":""},null,{"$f":"IF(AD71=\"\",\"\",AD71)","v":""},null,{"$f":"IF(AF71=\"\",\"\",AF71)","v":""},null,{"$f":"IF(AH71=\"\",\"\",AH71)","v":""},null,{"$f":"IF(AJ71=\"\",\"\",AJ71)","v":""},null,{"$f":"IF(AL71=\"\",\"\",AL71)","v":""},null,null,{"$f":"IF(AO71=\"\",\"\",AO71)","v":""},null,null,{"$f":"IF(AR71=\"\",\"\",AR71)","v":""},null,null,null,null,{"$f":"IF(AW71=\"\",\"\",AW71)","v":""}]
[]
[]
[]
[null,null,null,null,null,null,null,null,null,null,null,null,null,null,null,null,null,{"$f":"IF(R75=\"\",\"\",R75)","v":""},null,{"$f":"IF(T75=\"\",\"\",T75)","v":""},null,{"$f":"IF(V75=\"\",\"\",V75)","v":""},null,{"$f":"IF(X75=\"\",\"\",X75)","v":""},null,{"$f":"IF(Z75=\"\",\"\",Z75)","v":""},null,{"$f":"IF(AB75=\"\",\"\",AB75)","v":""},null,{"$f":"IF(AD75=\"\",\"\",AD75)","v":""},null,{"$f":"IF(AF75=\"\",\"\",AF75)","v":""},null,{"$f":"IF(AH75=\"\",\"\",AH75)","v":""},null,{"$f":"IF(AJ75=\"\",\"\",AJ75)","v":""},null,{"$f":"IF(AL75=\"\",\"\",AL75)","v":""},null,null,{"$f":"IF(AO75=\"\",\"\",AO75)","v":""},null,null,{"$f":"IF(AR75=\"\",\"\",AR75)","v":""},null,null,null,null,{"$f":"IF(AW75=\"\",\"\",AW75)","v":""}]
[]
[]
[]
[null,null,null,null,null,null,null,null,null,null,null,null,null,null,null,null,null,{"$f":"IF(R79=\"\",\"\",R79)","v":""},null,{"$f":"IF(T79=\"\",\"\",T79)","v":""},null,{"$f":"IF(V79=\"\",\"\",V79)","v":""},null,{"$f":"IF(X79=\"\",\"\",X79)","v":""},null,{"$f":"IF(Z79=\"\",\"\",Z79)","v":""},null,{"$f":"IF(AB79=\"\",\"\",AB79)","v":""},null,{"$f":"IF(AD79=\"\",\"\",AD79)","v":""},null,{"$f":"IF(AF79=\"\",\"\",AF79)","v":""},null,{"$f":"IF(AH79=\"\",\"\",AH79)","v":""},null,{"$f":"IF(AJ79=\"\",\"\",AJ79)","v":""},null,{"$f":"IF(AL79=\"\",\"\",AL79)","v":""},null,null,{"$f":"IF(AO79=\"\",\"\",AO79)","v":""},null,null,{"$f":"IF(AR79=\"\",\"\",AR79)","v":""},null,null,null,null,{"$f":"IF(AW79=\"\",\"\",AW79)","v":""}]
[]
[]
[]
[null,null,null,null,null,null,null,null,null,null,null,null,null,null,null,null,null,null,null,null,null,null,null,null,null,null,null,null,null,null,null,null,null,null,null,null,null,{"$f":"AL83","v":"金額(税抜)"},null,null,null,null,null,null,null,null,null,null,{"$f":"AW83","v":""}]
[]
[]
[]
[]
[null,null,null,null,null,null,null,null,null,null,null,null,null,null,null,null,null,null,null,null,null,null,null,null,null,null,null,null,null,null,null,null,null,null,null,null,null,{"$f":"AL88","v":"消費税"},null,null,null,null,null,"税率",null,null,"税調",null,{"$f":"AW88","v":""}]
[]
[null,null,null,null,null,null,null,null,null,null,null,null,null,null,null,null,null,null,null,null,null,null,null,null,null,null,null,null,null,null,null,null,null,null,null,null,null,null,null,null,null,null,null,{"$f":"AR90","v":0},null,{"$f":"AT90","v":""}]
[]
[]
[]
[null,null,null,null,null,null,null,null,null,null,null,null,null,null,null,null,null,null,null,"請求明細書 (貴社控)"]
[null,"株 式 会 社 種 村 建 設",null,null,null,null,null,null,null,null,null,null,"御中"]
[null,null,null,null,null,null,null,null,null,null,null,null,null,null,null,null,null,null,null,null,null,null,null,null,null,null,null,null,null,null,null,null,null,null,null,null,null,null,null,null,"請求年月日",null,null,null,null,{"$f":"IF(AT4=\"\",\"\",AT4)","v":""},null,null,null,{"$f":"IF(AX96=\"\",\"\",AX96)","v":""},null,null,{"$f":"IF(BA96=\"\",\"\",BA96)","v":""}]
[]
[]
[]
[]
[null,"工事番号",null,null,null,null,{"$f":"IF(G101=\"\",\"\",G101)","v":""},null,null,null,null,null,"工事名",null,null,null,{"$f":"IF(Q101=\"\",\"\",Q101)","v":""},null,null,null,null,null,null,null,null,null,null,null,null,null,null,null,null,null,null,null,null,"業者名",null,null,null,{"$f":"IF(AP101=\"\",\"\",AP101)","v":""}]
[]
[]
[]
[]
[]
[null,"注文番号",null,null,null,null,{"$f":"IF(G107=\"\",\"\",G107)","v":""},null,null,null,null,null,null,null,null,null,null,"月　日",null,null,null,"品　名・内　訳",null,null,null,null,null,null,null,null,null,null,null,null,null,null,null,"数 量",null,null,"単位",null,null,"単価",null,null,null,null,{"$f":"AW15","v":"金額(税抜)"}]
[]
[]
[]
[null,"契約金額",null,null,null,null,{"$f":"IF(G111=\"\",\"\",G111)","v":""},null,null,null,null,null,null,null,null,null,null,{"$f":"IF(R111=\"\",\"\",R111)","v":""},null,{"$f":"IF(T111=\"\",\"\",T111)","v":""},null,{"$f":"IF(V111=\"\",\"\",V111)","v":""},null,{"$f":"IF(X111=\"\",\"\",X111)","v":""},null,{"$f":"IF(Z111=\"\",\"\",Z111)","v":""},null,{"$f":"IF(AB111=\"\",\"\",AB111)","v":""},null,{"$f":"IF(AD111=\"\",\"\",AD111)","v":""},null,{"$f":"IF(AF111=\"\",\"\",AF111)","v":""},null,{"$f":"IF(AH111=\"\",\"\",AH111)","v":""},null,{"$f":"IF(AJ111=\"\",\"\",AJ111)","v":""},null,{"$f":"IF(AL111=\"\",\"\",AL111)","v":""},null,null,{"$f":"IF(AO111=\"\",\"\",AO111)","v":""},null,null,{"$f":"IF(AR111=\"\",\"\",AR111)","v":""},null,null,null,null,{"$f":"IF(AW111=\"\",\"\",AW111)","v":""}]
[]
[]
[]
[null,"増減額",null,null,null,null,{"$f":"IF(G115=\"\",\"\",G115)","v":""},null,null,null,null,null,null,null,null,null,null,{"$f":"IF(R115=\"\",\"\",R115)","v":""},null,{"$f":"IF(T115=\"\",\"\",T115)","v":""},null,{"$f":"IF(V115=\"\",\"\",V115)","v":""},null,{"$f":"IF(X115=\"\",\"\",X115)","v":""},null,{"$f":"IF(Z115=\"\",\"\",Z115)","v":""},null,{"$f":"IF(AB115=\"\",\"\",AB115)","v":""},null,{"$f":"IF(AD115=\"\",\"\",AD115)","v":""},null,{"$f":"IF(AF115=\"\",\"\",AF115)","v":""},null,{"$f":"IF(AH115=\"\",\"\",AH115)","v":""},null,{"$f":"IF(AJ115=\"\",\"\",AJ115)","v":""},null,{"$f":"IF(AL115=\"\",\"\",AL115)","v":""},null,null,{"$f":"IF(AO115=\"\",\"\",AO115)","v":""},null,null,{"$f":"IF(AR115=\"\",\"\",AR115)","v":""},null,null,null,null,{"$f":"IF(AW115=\"\",\"\",AW115)","v":""}]
[]
[]
[]
[null,"前回までの\n請求額",null,null,null,null,{"$f":"IF(G119=\"\",\"\",G119)","v":""},null,null,null,null,null,null,null,null,null,null,{"$f":"IF(R119=\"\",\"\",R119)","v":""},null,{"$f":"IF(T119=\"\",\"\",T119)","v":""},null,{"$f":"IF(V119=\"\",\"\",V119)","v":""},null,{"$f":"IF(X119=\"\",\"\",X119)","v":""},null,{"$f":"IF(Z119=\"\",\"\",Z119)","v":""},null,{"$f":"IF(AB119=\"\",\"\",AB119)","v":""},null,{"$f":"IF(AD119=\"\",\"\",AD119)","v":""},null,{"$f":"IF(AF119=\"\",\"\",AF119)","v":""},null,{"$f":"IF(AH119=\"\",\"\",AH119)","v":""},null,{"$f":"IF(AJ119=\"\",\"\",AJ119)","v":""},null,{"$f":"IF(AL119=\"\",\"\",AL119)","v":""},null,null,{"$f":"IF(AO119=\"\",\"\",AO119)","v":""},null,null,{"$f":"IF(AR119=\"\",\"\",AR119)","v":""},null,null,null,null,{"$f":"IF(AW119=\"\",\"\",AW119)","v":""}]
[]
[]
[]
[null,"今回\n請求額",null,null,{"$f":"IF(E31=\"\",\"\",E31)","v":""},null,{"$f":"IF(G123=\"\",\"\",G123)","v":""},null,null,null,null,null,null,null,null,null,null,{"$f":"IF(R123=\"\",\"\",R123)","v":""},null,{"$f":"IF(T123=\"\",\"\",T123)","v":""},null,{"$f":"IF(V123=\"\",\"\",V123)","v":""},null,{"$f":"IF(X123=\"\",\"\",X123)","v":""},null,{"$f":"IF(Z123=\"\",\"\",Z123)","v":""},null,{"$f":"IF(AB123=\"\",\"\",AB123)","v":""},null,{"$f":"IF(AD123=\"\",\"\",AD123)","v":""},null,{"$f":"IF(AF123=\"\",\"\",AF123)","v":""},null,{"$f":"IF(AH123=\"\",\"\",AH123)","v":""},null,{"$f":"IF(AJ123=\"\",\"\",AJ123)","v":""},null,{"$f":"IF(AL123=\"\",\"\",AL123)","v":""},null,null,{"$f":"IF(AO123=\"\",\"\",AO123)","v":""},null,null,{"$f":"IF(AR123=\"\",\"\",AR123)","v":""},null,null,null,null,{"$f":"IF(AW123=\"\",\"\",AW123)","v":""}]
[]
[]
[]
[null,"差引残高",null,null,null,null,{"$f":"IF(G203=\"\",\"\",G203+G207-G211-G215)","v":""},null,null,null,null,null,null,null,null,null,null,{"$f":"IF(R127=\"\",\"\",R127)","v":""},null,{"$f":"IF(T127=\"\",\"\",T127)","v":""},null,{"$f":"IF(V127=\"\",\"\",V127)","v":""},null,{"$f":"IF(X127=\"\",\"\",X127)","v":""},null,{"$f":"IF(Z127=\"\",\"\",Z127)","v":""},null,{"$f":"IF(AB127=\"\",\"\",AB127)","v":""},null,{"$f":"IF(AD127=\"\",\"\",AD127)","v":""},null,{"$f":"IF(AF127=\"\",\"\",AF127)","v":""},null,{"$f":"IF(AH127=\"\",\"\",AH127)","v":""},null,{"$f":"IF(AJ127=\"\",\"\",AJ127)","v":""},null,{"$f":"IF(AL127=\"\",\"\",AL127)","v":""},null,null,{"$f":"IF(AO127=\"\",\"\",AO127)","v":""},null,null,{"$f":"IF(AR127=\"\",\"\",AR127)","v":""},null,null,null,null,{"$f":"IF(AW127=\"\",\"\",AW127)","v":""}]
[]
[]
[]
[null,null,null,null,null,null,null,null,null,null,null,null,null,null,null,null,null,{"$f":"IF(R131=\"\",\"\",R131)","v":""},null,{"$f":"IF(T131=\"\",\"\",T131)","v":""},null,{"$f":"IF(V131=\"\",\"\",V131)","v":""},null,{"$f":"IF(X131=\"\",\"\",X131)","v":""},null,{"$f":"IF(Z131=\"\",\"\",Z131)","v":""},null,{"$f":"IF(AB131=\"\",\"\",AB131)","v":""},null,{"$f":"IF(AD131=\"\",\"\",AD131)","v":""},null,{"$f":"IF(AF131=\"\",\"\",AF131)","v":""},null,{"$f":"IF(AH131=\"\",\"\",AH131)","v":""},null,{"$f":"IF(AJ131=\"\",\"\",AJ131)","v":""},null,{"$f":"IF(AL131=\"\",\"\",AL131)","v":""},null,null,{"$f":"IF(AO131=\"\",\"\",AO131)","v":""},null,null,{"$f":"IF(AR131=\"\",\"\",AR131)","v":""},null,null,null,null,{"$f":"IF(AW131=\"\",\"\",AW131)","v":""}]
[]
[]
[]
[null,null,null,null,null,null,null,null,null,null,null,null,null,null,null,null,null,{"$f":"IF(R135=\"\",\"\",R135)","v":""},null,{"$f":"IF(T135=\"\",\"\",T135)","v":""},null,{"$f":"IF(V135=\"\",\"\",V135)","v":""},null,{"$f":"IF(X135=\"\",\"\",X135)","v":""},null,{"$f":"IF(Z135=\"\",\"\",Z135)","v":""},null,{"$f":"IF(AB135=\"\",\"\",AB135)","v":""},null,{"$f":"IF(AD135=\"\",\"\",AD135)","v":""},null,{"$f":"IF(AF135=\"\",\"\",AF135)","v":""},null,{"$f":"IF(AH135=\"\",\"\",AH135)","v":""},null,{"$f":"IF(AJ135=\"\",\"\",AJ135)","v":""},null,{"$f":"IF(AL135=\"\",\"\",AL135)","v":""},null,null,{"$f":"IF(AO135=\"\",\"\",AO135)","v":""},null,null,{"$f":"IF(AR135=\"\",\"\",AR135)","v":""},null,null,null,null,{"$f":"IF(AW135=\"\",\"\",AW135)","v":""}]
[]
[]
[]
[null,null,null,null,null,null,null,null,null,null,null,null,null,null,null,null,null,{"$f":"IF(R139=\"\",\"\",R139)","v":""},null,{"$f":"IF(T139=\"\",\"\",T139)","v":""},null,{"$f":"IF(V139=\"\",\"\",V139)","v":""},null,{"$f":"IF(X139=\"\",\"\",X139)","v":""},null,{"$f":"IF(Z139=\"\",\"\",Z139)","v":""},null,{"$f":"IF(AB139=\"\",\"\",AB139)","v":""},null,{"$f":"IF(AD139=\"\",\"\",AD139)","v":""},null,{"$f":"IF(AF139=\"\",\"\",AF139)","v":""},null,{"$f":"IF(AH139=\"\",\"\",AH139)","v":""},null,{"$f":"IF(AJ139=\"\",\"\",AJ139)","v":""},null,{"$f":"IF(AL139=\"\",\"\",AL139)","v":""},null,null,{"$f":"IF(AO139=\"\",\"\",AO139)","v":""},null,null,{"$f":"IF(AR139=\"\",\"\",AR139)","v":""},null,null,null,null,{"$f":"IF(AW139=\"\",\"\",AW139)","v":""}]
[]
[]
[]
[null,null,null,null,null,null,null,null,null,null,null,null,null,null,null,null,null,{"$f":"IF(R143=\"\",\"\",R143)","v":""},null,{"$f":"IF(T143=\"\",\"\",T143)","v":""},null,{"$f":"IF(V143=\"\",\"\",V143)","v":""},null,{"$f":"IF(X143=\"\",\"\",X143)","v":""},null,{"$f":"IF(Z143=\"\",\"\",Z143)","v":""},null,{"$f":"IF(AB143=\"\",\"\",AB143)","v":""},null,{"$f":"IF(AD143=\"\",\"\",AD143)","v":""},null,{"$f":"IF(AF143=\"\",\"\",AF143)","v":""},null,{"$f":"IF(AH143=\"\",\"\",AH143)","v":""},null,{"$f":"IF(AJ143=\"\",\"\",AJ143)","v":""},null,{"$f":"IF(AL143=\"\",\"\",AL143)","v":""},null,null,{"$f":"IF(AO143=\"\",\"\",AO143)","v":""},null,null,{"$f":"IF(AR143=\"\",\"\",AR143)","v":""},null,null,null,null,{"$f":"IF(AW143=\"\",\"\",AW143)","v":""}]
[]
[]
[]
[null,null,null,null,null,null,null,null,null,null,null,null,null,null,null,null,null,{"$f":"IF(R147=\"\",\"\",R147)","v":""},null,{"$f":"IF(T147=\"\",\"\",T147)","v":""},null,{"$f":"IF(V147=\"\",\"\",V147)","v":""},null,{"$f":"IF(X147=\"\",\"\",X147)","v":""},null,{"$f":"IF(Z147=\"\",\"\",Z147)","v":""},null,{"$f":"IF(AB147=\"\",\"\",AB147)","v":""},null,{"$f":"IF(AD147=\"\",\"\",AD147)","v":""},null,{"$f":"IF(AF147=\"\",\"\",AF147)","v":""},null,{"$f":"IF(AH147=\"\",\"\",AH147)","v":""},null,{"$f":"IF(AJ147=\"\",\"\",AJ147)","v":""},null,{"$f":"IF(AL147=\"\",\"\",AL147)","v":""},null,null,{"$f":"IF(AO147=\"\",\"\",AO147)","v":""},null,null,{"$f":"IF(AR147=\"\",\"\",AR147)","v":""},null,null,null,null,{"$f":"IF(AW147=\"\",\"\",AW147)","v":""}]
[]
[]
[]
[null,null,null,null,null,null,null,null,null,null,null,null,null,null,null,null,null,{"$f":"IF(R151=\"\",\"\",R151)","v":""},null,{"$f":"IF(T151=\"\",\"\",T151)","v":""},null,{"$f":"IF(V151=\"\",\"\",V151)","v":""},null,{"$f":"IF(X151=\"\",\"\",X151)","v":""},null,{"$f":"IF(Z151=\"\",\"\",Z151)","v":""},null,{"$f":"IF(AB151=\"\",\"\",AB151)","v":""},null,{"$f":"IF(AD151=\"\",\"\",AD151)","v":""},null,{"$f":"IF(AF151=\"\",\"\",AF151)","v":""},null,{"$f":"IF(AH151=\"\",\"\",AH151)","v":""},null,{"$f":"IF(AJ151=\"\",\"\",AJ151)","v":""},null,{"$f":"IF(AL151=\"\",\"\",AL151)","v":""},null,null,{"$f":"IF(AO151=\"\",\"\",AO151)","v":""},null,null,{"$f":"IF(AR151=\"\",\"\",AR151)","v":""},null,null,null,null,{"$f":"IF(AW151=\"\",\"\",AW151)","v":""}]
[]
[]
[]
[null,null,null,null,null,null,null,null,null,null,null,null,null,null,null,null,null,{"$f":"IF(R155=\"\",\"\",R155)","v":""},null,{"$f":"IF(T155=\"\",\"\",T155)","v":""},null,{"$f":"IF(V155=\"\",\"\",V155)","v":""},null,{"$f":"IF(X155=\"\",\"\",X155)","v":""},null,{"$f":"IF(Z155=\"\",\"\",Z155)","v":""},null,{"$f":"IF(AB155=\"\",\"\",AB155)","v":""},null,{"$f":"IF(AD155=\"\",\"\",AD155)","v":""},null,{"$f":"IF(AF155=\"\",\"\",AF155)","v":""},null,{"$f":"IF(AH155=\"\",\"\",AH155)","v":""},null,{"$f":"IF(AJ155=\"\",\"\",AJ155)","v":""},null,{"$f":"IF(AL155=\"\",\"\",AL155)","v":""},null,null,{"$f":"IF(AO155=\"\",\"\",AO155)","v":""},null,null,{"$f":"IF(AR155=\"\",\"\",AR155)","v":""},null,null,null,null,{"$f":"IF(AW155=\"\",\"\",AW155)","v":""}]
[]
[]
[]
[null,null,null,null,null,null,null,null,null,null,null,null,null,null,null,null,null,{"$f":"IF(R159=\"\",\"\",R159)","v":""},null,{"$f":"IF(T159=\"\",\"\",T159)","v":""},null,{"$f":"IF(V159=\"\",\"\",V159)","v":""},null,{"$f":"IF(X159=\"\",\"\",X159)","v":""},null,{"$f":"IF(Z159=\"\",\"\",Z159)","v":""},null,{"$f":"IF(AB159=\"\",\"\",AB159)","v":""},null,{"$f":"IF(AD159=\"\",\"\",AD159)","v":""},null,{"$f":"IF(AF159=\"\",\"\",AF159)","v":""},null,{"$f":"IF(AH159=\"\",\"\",AH159)","v":""},null,{"$f":"IF(AJ159=\"\",\"\",AJ159)","v":""},null,{"$f":"IF(AL159=\"\",\"\",AL159)","v":""},null,null,{"$f":"IF(AO159=\"\",\"\",AO159)","v":""},null,null,{"$f":"IF(AR159=\"\",\"\",AR159)","v":""},null,null,null,null,{"$f":"IF(AW159=\"\",\"\",AW159)","v":""}]
[]
[]
[]
[null,null,null,null,null,null,null,null,null,null,null,null,null,null,null,null,null,{"$f":"IF(R163=\"\",\"\",R163)","v":""},null,{"$f":"IF(T163=\"\",\"\",T163)","v":""},null,{"$f":"IF(V163=\"\",\"\",V163)","v":""},null,{"$f":"IF(X163=\"\",\"\",X163)","v":""},null,{"$f":"IF(Z163=\"\",\"\",Z163)","v":""},null,{"$f":"IF(AB163=\"\",\"\",AB163)","v":""},null,{"$f":"IF(AD163=\"\",\"\",AD163)","v":""},null,{"$f":"IF(AF163=\"\",\"\",AF163)","v":""},null,{"$f":"IF(AH163=\"\",\"\",AH163)","v":""},null,{"$f":"IF(AJ163=\"\",\"\",AJ163)","v":""},null,{"$f":"IF(AL163=\"\",\"\",AL163)","v":""},null,null,{"$f":"IF(AO163=\"\",\"\",AO163)","v":""},null,null,{"$f":"IF(AR163=\"\",\"\",AR163)","v":""},null,null,null,null,{"$f":"IF(AW163=\"\",\"\",AW163)","v":""}]
[]
[]
[]
[null,null,null,null,null,null,null,null,null,null,null,null,null,null,null,null,null,{"$f":"IF(R167=\"\",\"\",R167)","v":""},null,{"$f":"IF(T167=\"\",\"\",T167)","v":""},null,{"$f":"IF(V167=\"\",\"\",V167)","v":""},null,{"$f":"IF(X167=\"\",\"\",X167)","v":""},null,{"$f":"IF(Z167=\"\",\"\",Z167)","v":""},null,{"$f":"IF(AB167=\"\",\"\",AB167)","v":""},null,{"$f":"IF(AD167=\"\",\"\",AD167)","v":""},null,{"$f":"IF(AF167=\"\",\"\",AF167)","v":""},null,{"$f":"IF(AH167=\"\",\"\",AH167)","v":""},null,{"$f":"IF(AJ167=\"\",\"\",AJ167)","v":""},null,{"$f":"IF(AL167=\"\",\"\",AL167)","v":""},null,null,{"$f":"IF(AO167=\"\",\"\",AO167)","v":""},null,null,{"$f":"IF(AR167=\"\",\"\",AR167)","v":""},null,null,null,null,{"$f":"IF(AW167=\"\",\"\",AW167)","v":""}]
[]
[]
[]
[null,null,null,null,null,null,null,null,null,null,null,null,null,null,null,null,null,{"$f":"IF(R171=\"\",\"\",R171)","v":""},null,{"$f":"IF(T171=\"\",\"\",T171)","v":""},null,{"$f":"IF(V171=\"\",\"\",V171)","v":""},null,{"$f":"IF(X171=\"\",\"\",X171)","v":""},null,{"$f":"IF(Z171=\"\",\"\",Z171)","v":""},null,{"$f":"IF(AB171=\"\",\"\",AB171)","v":""},null,{"$f":"IF(AD171=\"\",\"\",AD171)","v":""},null,{"$f":"IF(AF171=\"\",\"\",AF171)","v":""},null,{"$f":"IF(AH171=\"\",\"\",AH171)","v":""},null,{"$f":"IF(AJ171=\"\",\"\",AJ171)","v":""},null,{"$f":"IF(AL171=\"\",\"\",AL171)","v":""},null,null,{"$f":"IF(AO171=\"\",\"\",AO171)","v":""},null,null,{"$f":"IF(AR171=\"\",\"\",AR171)","v":""},null,null,null,null,{"$f":"IF(AW171=\"\",\"\",AW171)","v":""}]
[]
[]
[]
[null,null,null,null,null,null,null,null,null,null,null,null,null,null,null,null,null,null,null,null,null,null,null,null,null,null,null,null,null,null,null,null,null,null,null,null,null,{"$f":"AL175","v":"金額(税抜)"},null,null,null,null,null,null,null,null,null,null,{"$f":"AW83","v":""}]
[]
[]
[]
[]
[null,null,null,null,null,null,null,null,null,null,null,null,null,null,null,null,null,null,null,null,null,null,null,null,null,null,null,null,null,null,null,null,null,null,null,null,null,{"$f":"AL180","v":"消費税"},null,null,null,null,null,"税率",null,null,"税調",null,{"$f":"AW88","v":""}]
[]
[null,null,null,null,null,null,null,null,null,null,null,null,null,null,null,null,null,null,null,null,null,null,null,null,null,null,null,null,null,null,null,null,null,null,null,null,null,null,null,null,null,null,null,{"$f":"AR90","v":0},null,{"$f":"AT90","v":""}]

{"sheet":"細2-12","index":27,"n_rows":274,"n_cols":53,"rows_kept":274,"cut":false,"hidden":false,"merged":[[179,37,182,42],[179,43,180,45],[179,46,180,47],[181,43,182,44],[181,45,182,45],[181,46,182,47],[271,37,274,42],[271,43,272,45],[273,43,274,44],[273,45,274,45],[273,46,274,47],[271,46,272,47],[187,40,189,44],[187,45,189,48],[179,48,182,54],[198,48,201,54],[214,48,217,54],[222,40,225,42],[222,43,225,47],[254,37,257,39],[246,40,249,42],[246,43,249,47],[246,48,249,54],[254,48,257,54],[3,49,5,51],[3,52,5,54],[8,37,11,40],[8,41,11,54],[1,19,4,32],[2,1,5,11],[2,12,5,13],[8,1,11,5],[8,6,11,11],[8,12,11,15],[8,16,11,35],[3,40,5,44],[3,45,5,48],[14,43,17,47],[14,48,17,54],[14,1,17,5],[14,6,17,15],[14,17,17,20],[14,21,17,36],[18,1,21,5],[18,6,21,15],[18,17,21,18],[14,37,17,39],[14,40,17,42],[18,21,21,36],[18,37,21,39],[18,40,21,42],[18,43,21,47],[26,1,29,5],[26,6,29,15],[26,17,29,18],[26,19,29,20],[18,48,21,54],[22,1,25,5],[22,6,25,15],[22,17,25,18],[22,19,25,20],[22,21,25,36],[26,21,29,36],[26,37,29,39],[26,40,29,42],[26,43,29,47],[22,37,25,39],[22,40,25,42],[22,43,25,47],[18,19,21,20],[34,48,37,54],[26,48,29,54],[30,1,33,3],[30,4,33,5],[30,6,33,15],[30,17,33,18],[30,19,33,20],[22,48,25,54],[38,17,41,18],[38,19,41,20],[38,21,41,36],[38,37,41,39],[30,48,33,54],[34,1,37,5],[34,6,37,15],[34,17,37,18],[34,19,37,20],[34,21,37,36],[38,40,41,42],[38,43,41,47],[38,48,41,54],[30,21,33,36],[30,37,33,39],[30,40,33,42],[30,43,33,47],[34,37,37,39],[34,40,37,42],[34,43,37,47],[46,40,49,42],[46,43,49,47],[46,21,49,36],[46,37,49,39],[54,40,57,42],[54,43,57,47],[42,17,45,18],[42,19,45,20],[42,21,45,36],[42,37,45,39],[42,40,45,42],[42,43,45,47],[42,48,45,54],[46,48,49,54],[50,17,53,18],[50,19,53,20],[50,21,53,36],[50,37,53,39],[50,40,53,42],[50,43,53,47],[50,48,53,54],[46,17,49,18],[46,19,49,20],[58,17,61,18],[58,19,61,20],[58,21,61,36],[58,37,61,39],[58,40,61,42],[58,43,61,47],[58,48,61,54],[54,17,57,18],[54,19,57,20],[54,21,57,36],[54,37,57,39],[54,48,57,54],[62,40,65,42],[62,43,65,47],[62,21,65,36],[62,37,65,39],[70,40,73,42],[70,43,73,47],[70,48,73,54],[62,48,65,54],[66,17,69,18],[66,19,69,20],[66,21,69,36],[66,37,69,39],[66,40,69,42],[66,43,69,47],[66,48,69,54],[62,17,65,18],[62,19,65,20],[74,17,77,18],[74,19,77,20],[74,21,77,36],[74,37,77,39],[74,40,77,42],[74,43,77,47],[74,48,77,54],[70,17,73,18],[70,19,73,20],[70,21,73,36],[70,37,73,39],[78,48,81,54],[82,37,85,47],[82,48,85,54],[78,37,81,39],[78,40,81,42],[85,11,90,16],[85,17,90,25],[78,43,81,47],[83,26,84,30],[83,31,84,35],[78,17,81,18],[78,19,81,20],[78,21,81,36],[85,26,90,30],[85,31,90,35],[83,1,84,4],[83,5,84,10],[83,11,84,16],[83,17,84,25],[85,1,90,4],[85,5,90,10],[87,48,90,54],[95,49,97,51],[95,52,97,54],[95,40,97,44],[95,45,97,48],[87,37,90,42],[87,43,88,45],[89,43,90,44],[89,45,90,45],[89,46,90,47],[87,46,88,47],[100,1,103,5],[100,6,103,11],[100,12,103,15],[100,16,103,35],[100,37,103,40],[100,41,103,54],[93,19,96,32],[94,1,97,11],[94,12,97,13],[106,37,109,39],[106,40,109,42],[106,43,109,47],[106,48,109,54],[106,1,109,5],[106,6,109,15],[106,17,109,20],[106,21,109,36],[110,21,113,36],[110,37,113,39],[110,40,113,42],[110,43,113,47],[110,1,113,5],[110,6,113,15],[110,17,113,18],[110,19,113,20],[110,48,113,54],[114,1,117,5],[114,6,117,15],[114,17,117,18],[114,19,117,20],[114,21,117,36],[114,37,117,39],[114,40,117,42],[114,43,117,47],[114,48,117,54],[118,21,121,36],[118,37,121,39],[118,40,121,42],[118,43,121,47],[118,1,121,5],[118,6,121,15],[118,17,121,18],[118,19,121,20],[118,48,121,54],[122,48,125,54],[126,1,129,5],[126,6,129,15],[126,17,129,18],[126,19,129,20],[126,21,129,36],[126,37,129,39],[126,40,129,42],[126,43,129,47],[126,48,129,54],[122,1,125,3],[122,4,125,5],[122,6,125,15],[122,17,125,18],[122,19,125,20],[122,21,125,36],[122,37,125,39],[122,40,125,42],[122,43,125,47],[130,40,133,42],[130,43,133,47],[130,21,133,36],[130,37,133,39],[138,40,141,42],[138,43,141,47],[138,48,141,54],[130,48,133,54],[134,17,137,18],[134,19,137,20],[134,21,137,36],[134,37,137,39],[134,40,137,42],[134,43,137,47],[134,48,137,54],[130,17,133,18],[130,19,133,20],[142,17,145,18],[142,19,145,20],[142,21,145,36],[142,37,145,39],[142,40,145,42],[142,43,145,47],[142,48,145,54],[138,17,141,18],[138,19,141,20],[138,21,141,36],[138,37,141,39],[154,48,157,54],[146,48,149,54],[150,17,153,18],[150,19,153,20],[150,21,153,36],[150,37,153,39],[150,40,153,42],[150,43,153,47],[150,48,153,54],[146,17,149,18],[146,19,149,20],[154,17,157,18],[154,19,157,20],[154,21,157,36],[154,37,157,39],[146,40,149,42],[146,43,149,47],[146,21,149,36],[146,37,149,39],[154,40,157,42],[154,43,157,47],[174,48,177,54],[170,17,173,18],[170,19,173,20],[158,17,161,18],[158,19,161,20],[158,21,161,36],[158,37,161,39],[158,40,161,42],[158,43,161,47],[158,48,161,54],[170,21,173,36],[170,37,173,39],[170,43,173,47],[185,19,188,32],[186,1,189,11],[186,12,189,13],[192,37,195,40],[192,41,195,54],[162,40,165,42],[162,43,165,47],[162,21,165,36],[162,37,165,39],[162,48,165,54],[166,17,169,18],[166,19,169,20],[166,21,169,36],[166,37,169,39],[166,40,169,42],[166,43,169,47],[166,48,169,54],[162,17,165,18],[162,19,165,20],[187,49,189,51],[187,52,189,54],[170,40,173,42],[170,48,173,54],[174,37,177,47],[202,21,205,36],[202,37,205,39],[202,40,205,42],[202,43,205,47],[202,1,205,5],[202,6,205,15],[202,17,205,18],[202,19,205,20],[202,48,205,54],[198,1,201,5],[198,6,201,15],[198,17,201,20],[198,21,201,36],[198,37,201,39],[198,40,201,42],[198,43,201,47],[192,1,195,5],[192,6,195,11],[192,12,195,15],[192,16,195,35],[206,1,209,5],[206,6,209,15],[206,17,209,18],[206,19,209,20],[206,21,209,36],[206,37,209,39],[206,40,209,42],[206,43,209,47],[206,48,209,54],[210,21,213,36],[210,37,213,39],[210,40,213,42],[210,43,213,47],[210,1,213,5],[210,6,213,15],[210,17,213,18],[210,19,213,20],[210,48,213,54],[218,1,221,5],[218,6,221,15],[218,17,221,18],[218,19,221,20],[218,21,221,36],[218,37,221,39],[218,40,221,42],[218,43,221,47],[218,48,221,54],[214,1,217,3],[214,4,217,5],[214,6,217,15],[214,17,217,18],[214,19,217,20],[214,21,217,36],[214,37,217,39],[214,40,217,42],[214,43,217,47],[222,21,225,36],[222,37,225,39],[230,40,233,42],[230,43,233,47],[230,48,233,54],[222,48,225,54],[226,17,229,18],[226,19,229,20],[226,21,229,36],[226,37,229,39],[226,40,229,42],[226,43,229,47],[226,48,229,54],[222,17,225,18],[222,19,225,20],[234,17,237,18],[234,19,237,20],[234,21,237,36],[234,37,237,39],[234,40,237,42],[234,43,237,47],[234,48,237,54],[230,17,233,18],[230,19,233,20],[230,21,233,36],[230,37,233,39],[242,17,245,18],[242,19,245,20],[242,21,245,36],[242,37,245,39],[242,40,245,42],[242,43,245,47],[242,48,245,54],[238,17,241,18],[238,19,241,20],[238,40,241,42],[238,43,241,47],[238,21,241,36],[238,37,241,39],[238,48,241,54],[250,17,253,18],[250,19,253,20],[250,21,253,36],[250,37,253,39],[250,40,253,42],[250,43,253,47],[250,48,253,54],[246,17,249,18],[246,19,249,20],[246,21,249,36],[246,37,249,39],[258,17,261,18],[258,19,261,20],[258,21,261,36],[258,37,261,39],[258,40,261,42],[258,43,261,47],[258,48,261,54],[254,17,257,18],[254,19,257,20],[254,40,257,42],[254,43,257,47],[254,21,257,36],[271,48,274,54],[262,40,265,42],[262,43,265,47],[262,48,265,54],[266,37,269,47],[266,48,269,54],[262,17,265,18],[262,19,265,20],[262,21,265,36],[262,37,265,39]]}
[]
[null,null,null,null,null,null,null,null,null,null,null,null,null,null,null,null,null,null,null,"請求書明細書 (正)"]
[null,"株 式 会 社 種 村 建 設",null,null,null,null,null,null,null,null,null,null,"御中"]
[null,null,null,null,null,null,null,null,null,null,null,null,null,null,null,null,null,null,null,null,null,null,null,null,null,null,null,null,null,null,null,null,null,null,null,null,null,null,null,null,"請求年月日",null,null,null,null,{"$f":"IF(年=\"\",\"\",年)","v":""},null,null,null,{"$f":"IF(月=\"\",\"\",月)","v":""},null,null,{"$f":"IF(日=\"\",\"\",日)","v":""}]
[]
[]
[]
[]
[null,"工事番号",null,null,null,null,null,null,null,null,null,null,"工事名",null,null,null,null,null,null,null,null,null,null,null,null,null,null,null,null,null,null,null,null,null,null,null,null,"業者名",null,null,null,{"$f":"IF(社名=\"\",\"\",社名)","v":""}]
[]
[]
[]
[]
[]
[null,"注文番号",null,null,null,null,null,null,null,null,null,null,null,null,null,null,null,"月　日",null,null,null,"品　名・内　訳",null,null,null,null,null,null,null,null,null,null,null,null,null,null,null,"数 量",null,null,"単位",null,null,"単価",null,null,null,null,{"$f":"表紙①!P35","v":"金額(税抜)"}]
[]
[]
[]
[null,"契約金額",null,null,null,null,null,null,null,null,null,null,null,null,null,null,null,null,null,null,null,null,null,null,null,null,null,null,null,null,null,null,null,null,null,null,null,null,null,null,null,null,null,null,null,null,null,null,{"$f":"IF(V19=\"\",\"\",ROUND(AL19*AR19,0))","v":""}]
[]
[]
[]
[null,"増減額",null,null,null,null,null,null,null,null,null,null,null,null,null,null,null,null,null,null,null,null,null,null,null,null,null,null,null,null,null,null,null,null,null,null,null,null,null,null,null,null,null,null,null,null,null,null,{"$f":"IF(V23=\"\",\"\",ROUND(AL23*AR23,0))","v":""}]
[]
[]
[]
[null,"前回までの\n請求額",null,null,null,null,null,null,null,null,null,null,null,null,null,null,null,null,null,null,null,null,null,null,null,null,null,null,null,null,null,null,null,null,null,null,null,null,null,null,null,null,null,null,null,null,null,null,{"$f":"IF(V27=\"\",\"\",ROUND(AL27*AR27,0))","v":""}]
[]
[]
[]
[null,"今回\n請求額",null,null,null,null,null,null,null,null,null,null,null,null,null,null,null,null,null,null,null,null,null,null,null,null,null,null,null,null,null,null,null,null,null,null,null,null,null,null,null,null,null,null,null,null,null,null,{"$f":"IF(V31=\"\",\"\",ROUND(AL31*AR31,0))","v":""}]
[]
[]
[]
[null,"差引残高",null,null,null,null,{"$f":"IF(G19=\"\",\"\",G19+G23-G27-G31)","v":""},null,null,null,null,null,null,null,null,null,null,null,null,null,null,null,null,null,null,null,null,null,null,null,null,null,null,null,null,null,null,null,null,null,null,null,null,null,null,null,null,null,{"$f":"IF(V35=\"\",\"\",ROUND(AL35*AR35,0))","v":""}]
[]
[]
[]
[null,null,null,null,null,null,null,null,null,null,null,null,null,null,null,null,null,null,null,null,null,null,null,null,null,null,null,null,null,null,null,null,null,null,null,null,null,null,null,null,null,null,null,null,null,null,null,null,{"$f":"IF(V39=\"\",\"\",ROUND(AL39*AR39,0))","v":""}]
[]
[]
[]
[null,null,null,null,null,null,null,null,null,null,null,null,null,null,null,null,null,null,null,null,null,null,null,null,null,null,null,null,null,null,null,null,null,null,null,null,null,null,null,null,null,null,null,null,null,null,null,null,{"$f":"IF(V43=\"\",\"\",ROUND(AL43*AR43,0))","v":""}]
[]
[]
[]
[null,null,null,null,null,null,null,null,null,null,null,null,null,null,null,null,null,null,null,null,null,null,null,null,null,null,null,null,null,null,null,null,null,null,null,null,null,null,null,null,null,null,null,null,null,null,null,null,{"$f":"IF(V47=\"\",\"\",ROUND(AL47*AR47,0))","v":""}]
[]
[]
[]
[null,null,null,null,null,null,null,null,null,null,null,null,null,null,null,null,null,null,null,null,null,null,null,null,null,null,null,null,null,null,null,null,null,null,null,null,null,null,null,null,null,null,null,null,null,null,null,null,{"$f":"IF(V51=\"\",\"\",ROUND(AL51*AR51,0))","v":""}]
[]
[]
[]
[null,null,null,null,null,null,null,null,null,null,null,null,null,null,null,null,null,null,null,null,null,null,null,null,null,null,null,null,null,null,null,null,null,null,null,null,null,null,null,null,null,null,null,null,null,null,null,null,{"$f":"IF(V55=\"\",\"\",ROUND(AL55*AR55,0))","v":""}]
[]
[]
[]
[null,null,null,null,null,null,null,null,null,null,null,null,null,null,null,null,null,null,null,null,null,null,null,null,null,null,null,null,null,null,null,null,null,null,null,null,null,null,null,null,null,null,null,null,null,null,null,null,{"$f":"IF(V59=\"\",\"\",ROUND(AL59*AR59,0))","v":""}]
[]
[]
[]
[null,null,null,null,null,null,null,null,null,null,null,null,null,null,null,null,null,null,null,null,null,null,null,null,null,null,null,null,null,null,null,null,null,null,null,null,null,null,null,null,null,null,null,null,null,null,null,null,{"$f":"IF(V63=\"\",\"\",ROUND(AL63*AR63,0))","v":""}]
[]
[]
[]
[null,null,null,null,null,null,null,null,null,null,null,null,null,null,null,null,null,null,null,null,null,null,null,null,null,null,null,null,null,null,null,null,null,null,null,null,null,null,null,null,null,null,null,null,null,null,null,null,{"$f":"IF(V67=\"\",\"\",ROUND(AL67*AR67,0))","v":""}]
[]
[]
[]
[null,null,null,null,null,null,null,null,null,null,null,null,null,null,null,null,null,null,null,null,null,null,null,null,null,null,null,null,null,null,null,null,null,null,null,null,null,null,null,null,null,null,null,null,null,null,null,null,{"$f":"IF(V71=\"\",\"\",ROUND(AL71*AR71,0))","v":""}]
[]
[]
[]
[null,null,null,null,null,null,null,null,null,null,null,null,null,null,null,null,null,null,null,null,null,null,null,null,null,null,null,null,null,null,null,null,null,null,null,null,null,null,null,null,null,null,null,null,null,null,null,null,{"$f":"IF(V75=\"\",\"\",ROUND(AL75*AR75,0))","v":""}]
[]
[]
[]
[null,null,null,null,null,null,null,null,null,null,null,null,null,null,null,null,null,null,null,null,null,null,null,null,null,null,null,null,null,null,null,null,null,null,null,null,null,null,null,null,null,null,null,null,null,null,null,null,{"$f":"IF(V79=\"\",\"\",ROUND(AL79*AR79,0))","v":""}]
[]
[]
[]
[null,null,null,null,null,null,null,null,null,null,null,null,null,null,null,null,null,null,null,null,null,null,null,null,null,null,null,null,null,null,null,null,null,null,null,null,null,"金額(税抜)",null,null,null,null,null,null,null,null,null,null,{"$f":"IF(AW19=\"\",\"\",SUM(AW19:AW79))","v":""}]
[null,"社長",null,null,null,"専務",null,null,null,null,null,"常務",null,null,null,null,null,"部長･工場長",null,null,null,null,null,null,null,null,"担当者",null,null,null,null,"受付"]
[]
[]
[]
[null,null,null,null,null,null,null,null,null,null,null,null,null,null,null,null,null,null,null,null,null,null,null,null,null,null,null,null,null,null,null,null,null,null,null,null,null,"消費税",null,null,null,null,null,"税率",null,null,"税調",null,{"$f":"IF(AW83=\"\",\"\",IF(AR90=\"\",\"\",IF(AR90=8.1,ROUND(AW83*8/100,0)+AU90,ROUND(AW83*AR90/100,0)+AU90)))","v":""}]
[]
[null,null,null,null,null,null,null,null,null,null,null,null,null,null,null,null,null,null,null,null,null,null,null,null,null,null,null,null,null,null,null,null,null,null,null,null,null,null,null,null,null,null,null,null,null,{"$f":"IF(AR90=\"\",\"\",IF(AR90=8.1,\"旧\",IF(AR90=8,\"軽\",IF(AR90=0,\"非\",\"\"))))","v":""}]
[]
[]
[]
[null,null,null,null,null,null,null,null,null,null,null,null,null,null,null,null,null,null,null,"請求明細書 (現場控)"]
[null,"株 式 会 社 種 村 建 設",null,null,null,null,null,null,null,null,null,null,"御中"]
[null,null,null,null,null,null,null,null,null,null,null,null,null,null,null,null,null,null,null,null,null,null,null,null,null,null,null,null,null,null,null,null,null,null,null,null,null,null,null,null,"請求年月日",null,null,null,null,{"$f":"IF(AT4=\"\",\"\",AT4)","v":""},null,null,null,{"$f":"IF(AX4=\"\",\"\",AX4)","v":""},null,null,{"$f":"IF(BA4=\"\",\"\",BA4)","v":""}]
[]
[]
[]
[]
[null,"工事番号",null,null,null,null,{"$f":"IF(G9=\"\",\"\",G9)","v":""},null,null,null,null,null,"工事名",null,null,null,{"$f":"IF(Q9=\"\",\"\",Q9)","v":""},null,null,null,null,null,null,null,null,null,null,null,null,null,null,null,null,null,null,null,null,"業者名",null,null,null,{"$f":"IF(AP9=\"\",\"\",AP9)","v":""}]
[]
[]
[]
[]
[]
[null,"注文番号",null,null,null,null,{"$f":"IF(G15=\"\",\"\",G15)","v":""},null,null,null,null,null,null,null,null,null,null,"月　日",null,null,null,"品　名・内　訳",null,null,null,null,null,null,null,null,null,null,null,null,null,null,null,"数 量",null,null,"単位",null,null,"単価",null,null,null,null,{"$f":"AW15","v":"金額(税抜)"}]
[]
[]
[]
[null,"契約金額",null,null,null,null,{"$f":"IF(G19=\"\",\"\",G19)","v":""},null,null,null,null,null,null,null,null,null,null,{"$f":"IF(R19=\"\",\"\",R19)","v":""},null,{"$f":"IF(T19=\"\",\"\",T19)","v":""},null,{"$f":"IF(V19=\"\",\"\",V19)","v":""},null,{"$f":"IF(X19=\"\",\"\",X19)","v":""},null,{"$f":"IF(Z19=\"\",\"\",Z19)","v":""},null,{"$f":"IF(AB19=\"\",\"\",AB19)","v":""},null,{"$f":"IF(AD19=\"\",\"\",AD19)","v":""},null,{"$f":"IF(AF19=\"\",\"\",AF19)","v":""},null,{"$f":"IF(AH19=\"\",\"\",AH19)","v":""},null,{"$f":"IF(AJ19=\"\",\"\",AJ19)","v":""},null,{"$f":"IF(AL19=\"\",\"\",AL19)","v":""},null,null,{"$f":"IF(AO19=\"\",\"\",AO19)","v":""},null,null,{"$f":"IF(AR19=\"\",\"\",AR19)","v":""},null,null,null,null,{"$f":"IF(AW19=\"\",\"\",AW19)","v":""}]
[]
[]
[]
[null,"増減額",null,null,null,null,{"$f":"IF(G23=\"\",\"\",G23)","v":""},null,null,null,null,null,null,null,null,null,null,{"$f":"IF(R23=\"\",\"\",R23)","v":""},null,{"$f":"IF(T23=\"\",\"\",T23)","v":""},null,{"$f":"IF(V23=\"\",\"\",V23)","v":""},null,{"$f":"IF(X23=\"\",\"\",X23)","v":""},null,{"$f":"IF(Z23=\"\",\"\",Z23)","v":""},null,{"$f":"IF(AB23=\"\",\"\",AB23)","v":""},null,{"$f":"IF(AD23=\"\",\"\",AD23)","v":""},null,{"$f":"IF(AF23=\"\",\"\",AF23)","v":""},null,{"$f":"IF(AH23=\"\",\"\",AH23)","v":""},null,{"$f":"IF(AJ23=\"\",\"\",AJ23)","v":""},null,{"$f":"IF(AL23=\"\",\"\",AL23)","v":""},null,null,{"$f":"IF(AO23=\"\",\"\",AO23)","v":""},null,null,{"$f":"IF(AR23=\"\",\"\",AR23)","v":""},null,null,null,null,{"$f":"IF(AW23=\"\",\"\",AW23)","v":""}]
[]
[]
[]
[null,"前回までの\n請求額",null,null,null,null,{"$f":"IF(G27=\"\",\"\",G27)","v":""},null,null,null,null,null,null,null,null,null,null,{"$f":"IF(R27=\"\",\"\",R27)","v":""},null,{"$f":"IF(T27=\"\",\"\",T27)","v":""},null,{"$f":"IF(V27=\"\",\"\",V27)","v":""},null,{"$f":"IF(X27=\"\",\"\",X27)","v":""},null,{"$f":"IF(Z27=\"\",\"\",Z27)","v":""},null,{"$f":"IF(AB27=\"\",\"\",AB27)","v":""},null,{"$f":"IF(AD27=\"\",\"\",AD27)","v":""},null,{"$f":"IF(AF27=\"\",\"\",AF27)","v":""},null,{"$f":"IF(AH27=\"\",\"\",AH27)","v":""},null,{"$f":"IF(AJ27=\"\",\"\",AJ27)","v":""},null,{"$f":"IF(AL27=\"\",\"\",AL27)","v":""},null,null,{"$f":"IF(AO27=\"\",\"\",AO27)","v":""},null,null,{"$f":"IF(AR27=\"\",\"\",AR27)","v":""},null,null,null,null,{"$f":"IF(AW27=\"\",\"\",AW27)","v":""}]
[]
[]
[]
[null,"今回\n請求額",null,null,{"$f":"IF(E31=\"\",\"\",E31)","v":""},null,{"$f":"IF(G31=\"\",\"\",G31)","v":""},null,null,null,null,null,null,null,null,null,null,{"$f":"IF(R31=\"\",\"\",R31)","v":""},null,{"$f":"IF(T31=\"\",\"\",T31)","v":""},null,{"$f":"IF(V31=\"\",\"\",V31)","v":""},null,{"$f":"IF(X31=\"\",\"\",X31)","v":""},null,{"$f":"IF(Z31=\"\",\"\",Z31)","v":""},null,{"$f":"IF(AB31=\"\",\"\",AB31)","v":""},null,{"$f":"IF(AD31=\"\",\"\",AD31)","v":""},null,{"$f":"IF(AF31=\"\",\"\",AF31)","v":""},null,{"$f":"IF(AH31=\"\",\"\",AH31)","v":""},null,{"$f":"IF(AJ31=\"\",\"\",AJ31)","v":""},null,{"$f":"IF(AL31=\"\",\"\",AL31)","v":""},null,null,{"$f":"IF(AO31=\"\",\"\",AO31)","v":""},null,null,{"$f":"IF(AR31=\"\",\"\",AR31)","v":""},null,null,null,null,{"$f":"IF(AW31=\"\",\"\",AW31)","v":""}]
[]
[]
[]
[null,"差引残高",null,null,null,null,{"$f":"IF(G111=\"\",\"\",G111+G115-G119-G123)","v":""},null,null,null,null,null,null,null,null,null,null,{"$f":"IF(R35=\"\",\"\",R35)","v":""},null,{"$f":"IF(T35=\"\",\"\",T35)","v":""},null,{"$f":"IF(V35=\"\",\"\",V35)","v":""},null,{"$f":"IF(X35=\"\",\"\",X35)","v":""},null,{"$f":"IF(Z35=\"\",\"\",Z35)","v":""},null,{"$f":"IF(AB35=\"\",\"\",AB35)","v":""},null,{"$f":"IF(AD35=\"\",\"\",AD35)","v":""},null,{"$f":"IF(AF35=\"\",\"\",AF35)","v":""},null,{"$f":"IF(AH35=\"\",\"\",AH35)","v":""},null,{"$f":"IF(AJ35=\"\",\"\",AJ35)","v":""},null,{"$f":"IF(AL35=\"\",\"\",AL35)","v":""},null,null,{"$f":"IF(AO35=\"\",\"\",AO35)","v":""},null,null,{"$f":"IF(AR35=\"\",\"\",AR35)","v":""},null,null,null,null,{"$f":"IF(AW35=\"\",\"\",AW35)","v":""}]
[]
[]
[]
[null,null,null,null,null,null,null,null,null,null,null,null,null,null,null,null,null,{"$f":"IF(R39=\"\",\"\",R39)","v":""},null,{"$f":"IF(T39=\"\",\"\",T39)","v":""},null,{"$f":"IF(V39=\"\",\"\",V39)","v":""},null,{"$f":"IF(X39=\"\",\"\",X39)","v":""},null,{"$f":"IF(Z39=\"\",\"\",Z39)","v":""},null,{"$f":"IF(AB39=\"\",\"\",AB39)","v":""},null,{"$f":"IF(AD39=\"\",\"\",AD39)","v":""},null,{"$f":"IF(AF39=\"\",\"\",AF39)","v":""},null,{"$f":"IF(AH39=\"\",\"\",AH39)","v":""},null,{"$f":"IF(AJ39=\"\",\"\",AJ39)","v":""},null,{"$f":"IF(AL39=\"\",\"\",AL39)","v":""},null,null,{"$f":"IF(AO39=\"\",\"\",AO39)","v":""},null,null,{"$f":"IF(AR39=\"\",\"\",AR39)","v":""},null,null,null,null,{"$f":"IF(AW39=\"\",\"\",AW39)","v":""}]
[]
[]
[]
[null,null,null,null,null,null,null,null,null,null,null,null,null,null,null,null,null,{"$f":"IF(R43=\"\",\"\",R43)","v":""},null,{"$f":"IF(T43=\"\",\"\",T43)","v":""},null,{"$f":"IF(V43=\"\",\"\",V43)","v":""},null,{"$f":"IF(X43=\"\",\"\",X43)","v":""},null,{"$f":"IF(Z43=\"\",\"\",Z43)","v":""},null,{"$f":"IF(AB43=\"\",\"\",AB43)","v":""},null,{"$f":"IF(AD43=\"\",\"\",AD43)","v":""},null,{"$f":"IF(AF43=\"\",\"\",AF43)","v":""},null,{"$f":"IF(AH43=\"\",\"\",AH43)","v":""},null,{"$f":"IF(AJ43=\"\",\"\",AJ43)","v":""},null,{"$f":"IF(AL43=\"\",\"\",AL43)","v":""},null,null,{"$f":"IF(AO43=\"\",\"\",AO43)","v":""},null,null,{"$f":"IF(AR43=\"\",\"\",AR43)","v":""},null,null,null,null,{"$f":"IF(AW43=\"\",\"\",AW43)","v":""}]
[]
[]
[]
[null,null,null,null,null,null,null,null,null,null,null,null,null,null,null,null,null,{"$f":"IF(R47=\"\",\"\",R47)","v":""},null,{"$f":"IF(T47=\"\",\"\",T47)","v":""},null,{"$f":"IF(V47=\"\",\"\",V47)","v":""},null,{"$f":"IF(X47=\"\",\"\",X47)","v":""},null,{"$f":"IF(Z47=\"\",\"\",Z47)","v":""},null,{"$f":"IF(AB47=\"\",\"\",AB47)","v":""},null,{"$f":"IF(AD47=\"\",\"\",AD47)","v":""},null,{"$f":"IF(AF47=\"\",\"\",AF47)","v":""},null,{"$f":"IF(AH47=\"\",\"\",AH47)","v":""},null,{"$f":"IF(AJ47=\"\",\"\",AJ47)","v":""},null,{"$f":"IF(AL47=\"\",\"\",AL47)","v":""},null,null,{"$f":"IF(AO47=\"\",\"\",AO47)","v":""},null,null,{"$f":"IF(AR47=\"\",\"\",AR47)","v":""},null,null,null,null,{"$f":"IF(AW47=\"\",\"\",AW47)","v":""}]
[]
[]
[]
[null,null,null,null,null,null,null,null,null,null,null,null,null,null,null,null,null,{"$f":"IF(R51=\"\",\"\",R51)","v":""},null,{"$f":"IF(T51=\"\",\"\",T51)","v":""},null,{"$f":"IF(V51=\"\",\"\",V51)","v":""},null,{"$f":"IF(X51=\"\",\"\",X51)","v":""},null,{"$f":"IF(Z51=\"\",\"\",Z51)","v":""},null,{"$f":"IF(AB51=\"\",\"\",AB51)","v":""},null,{"$f":"IF(AD51=\"\",\"\",AD51)","v":""},null,{"$f":"IF(AF51=\"\",\"\",AF51)","v":""},null,{"$f":"IF(AH51=\"\",\"\",AH51)","v":""},null,{"$f":"IF(AJ51=\"\",\"\",AJ51)","v":""},null,{"$f":"IF(AL51=\"\",\"\",AL51)","v":""},null,null,{"$f":"IF(AO51=\"\",\"\",AO51)","v":""},null,null,{"$f":"IF(AR51=\"\",\"\",AR51)","v":""},null,null,null,null,{"$f":"IF(AW51=\"\",\"\",AW51)","v":""}]
[]
[]
[]
[null,null,null,null,null,null,null,null,null,null,null,null,null,null,null,null,null,{"$f":"IF(R55=\"\",\"\",R55)","v":""},null,{"$f":"IF(T55=\"\",\"\",T55)","v":""},null,{"$f":"IF(V55=\"\",\"\",V55)","v":""},null,{"$f":"IF(X55=\"\",\"\",X55)","v":""},null,{"$f":"IF(Z55=\"\",\"\",Z55)","v":""},null,{"$f":"IF(AB55=\"\",\"\",AB55)","v":""},null,{"$f":"IF(AD55=\"\",\"\",AD55)","v":""},null,{"$f":"IF(AF55=\"\",\"\",AF55)","v":""},null,{"$f":"IF(AH55=\"\",\"\",AH55)","v":""},null,{"$f":"IF(AJ55=\"\",\"\",AJ55)","v":""},null,{"$f":"IF(AL55=\"\",\"\",AL55)","v":""},null,null,{"$f":"IF(AO55=\"\",\"\",AO55)","v":""},null,null,{"$f":"IF(AR55=\"\",\"\",AR55)","v":""},null,null,null,null,{"$f":"IF(AW55=\"\",\"\",AW55)","v":""}]
[]
[]
[]
[null,null,null,null,null,null,null,null,null,null,null,null,null,null,null,null,null,{"$f":"IF(R59=\"\",\"\",R59)","v":""},null,{"$f":"IF(T59=\"\",\"\",T59)","v":""},null,{"$f":"IF(V59=\"\",\"\",V59)","v":""},null,{"$f":"IF(X59=\"\",\"\",X59)","v":""},null,{"$f":"IF(Z59=\"\",\"\",Z59)","v":""},null,{"$f":"IF(AB59=\"\",\"\",AB59)","v":""},null,{"$f":"IF(AD59=\"\",\"\",AD59)","v":""},null,{"$f":"IF(AF59=\"\",\"\",AF59)","v":""},null,{"$f":"IF(AH59=\"\",\"\",AH59)","v":""},null,{"$f":"IF(AJ59=\"\",\"\",AJ59)","v":""},null,{"$f":"IF(AL59=\"\",\"\",AL59)","v":""},null,null,{"$f":"IF(AO59=\"\",\"\",AO59)","v":""},null,null,{"$f":"IF(AR59=\"\",\"\",AR59)","v":""},null,null,null,null,{"$f":"IF(AW59=\"\",\"\",AW59)","v":""}]
[]
[]
[]
[null,null,null,null,null,null,null,null,null,null,null,null,null,null,null,null,null,{"$f":"IF(R63=\"\",\"\",R63)","v":""},null,{"$f":"IF(T63=\"\",\"\",T63)","v":""},null,{"$f":"IF(V63=\"\",\"\",V63)","v":""},null,{"$f":"IF(X63=\"\",\"\",X63)","v":""},null,{"$f":"IF(Z63=\"\",\"\",Z63)","v":""},null,{"$f":"IF(AB63=\"\",\"\",AB63)","v":""},null,{"$f":"IF(AD63=\"\",\"\",AD63)","v":""},null,{"$f":"IF(AF63=\"\",\"\",AF63)","v":""},null,{"$f":"IF(AH63=\"\",\"\",AH63)","v":""},null,{"$f":"IF(AJ63=\"\",\"\",AJ63)","v":""},null,{"$f":"IF(AL63=\"\",\"\",AL63)","v":""},null,null,{"$f":"IF(AO63=\"\",\"\",AO63)","v":""},null,null,{"$f":"IF(AR63=\"\",\"\",AR63)","v":""},null,null,null,null,{"$f":"IF(AW63=\"\",\"\",AW63)","v":""}]
[]
[]
[]
[null,null,null,null,null,null,null,null,null,null,null,null,null,null,null,null,null,{"$f":"IF(R67=\"\",\"\",R67)","v":""},null,{"$f":"IF(T67=\"\",\"\",T67)","v":""},null,{"$f":"IF(V67=\"\",\"\",V67)","v":""},null,{"$f":"IF(X67=\"\",\"\",X67)","v":""},null,{"$f":"IF(Z67=\"\",\"\",Z67)","v":""},null,{"$f":"IF(AB67=\"\",\"\",AB67)","v":""},null,{"$f":"IF(AD67=\"\",\"\",AD67)","v":""},null,{"$f":"IF(AF67=\"\",\"\",AF67)","v":""},null,{"$f":"IF(AH67=\"\",\"\",AH67)","v":""},null,{"$f":"IF(AJ67=\"\",\"\",AJ67)","v":""},null,{"$f":"IF(AL67=\"\",\"\",AL67)","v":""},null,null,{"$f":"IF(AO67=\"\",\"\",AO67)","v":""},null,null,{"$f":"IF(AR67=\"\",\"\",AR67)","v":""},null,null,null,null,{"$f":"IF(AW67=\"\",\"\",AW67)","v":""}]
[]
[]
[]
[null,null,null,null,null,null,null,null,null,null,null,null,null,null,null,null,null,{"$f":"IF(R71=\"\",\"\",R71)","v":""},null,{"$f":"IF(T71=\"\",\"\",T71)","v":""},null,{"$f":"IF(V71=\"\",\"\",V71)","v":""},null,{"$f":"IF(X71=\"\",\"\",X71)","v":""},null,{"$f":"IF(Z71=\"\",\"\",Z71)","v":""},null,{"$f":"IF(AB71=\"\",\"\",AB71)","v":""},null,{"$f":"IF(AD71=\"\",\"\",AD71)","v":""},null,{"$f":"IF(AF71=\"\",\"\",AF71)","v":""},null,{"$f":"IF(AH71=\"\",\"\",AH71)","v":""},null,{"$f":"IF(AJ71=\"\",\"\",AJ71)","v":""},null,{"$f":"IF(AL71=\"\",\"\",AL71)","v":""},null,null,{"$f":"IF(AO71=\"\",\"\",AO71)","v":""},null,null,{"$f":"IF(AR71=\"\",\"\",AR71)","v":""},null,null,null,null,{"$f":"IF(AW71=\"\",\"\",AW71)","v":""}]
[]
[]
[]
[null,null,null,null,null,null,null,null,null,null,null,null,null,null,null,null,null,{"$f":"IF(R75=\"\",\"\",R75)","v":""},null,{"$f":"IF(T75=\"\",\"\",T75)","v":""},null,{"$f":"IF(V75=\"\",\"\",V75)","v":""},null,{"$f":"IF(X75=\"\",\"\",X75)","v":""},null,{"$f":"IF(Z75=\"\",\"\",Z75)","v":""},null,{"$f":"IF(AB75=\"\",\"\",AB75)","v":""},null,{"$f":"IF(AD75=\"\",\"\",AD75)","v":""},null,{"$f":"IF(AF75=\"\",\"\",AF75)","v":""},null,{"$f":"IF(AH75=\"\",\"\",AH75)","v":""},null,{"$f":"IF(AJ75=\"\",\"\",AJ75)","v":""},null,{"$f":"IF(AL75=\"\",\"\",AL75)","v":""},null,null,{"$f":"IF(AO75=\"\",\"\",AO75)","v":""},null,null,{"$f":"IF(AR75=\"\",\"\",AR75)","v":""},null,null,null,null,{"$f":"IF(AW75=\"\",\"\",AW75)","v":""}]
[]
[]
[]
[null,null,null,null,null,null,null,null,null,null,null,null,null,null,null,null,null,{"$f":"IF(R79=\"\",\"\",R79)","v":""},null,{"$f":"IF(T79=\"\",\"\",T79)","v":""},null,{"$f":"IF(V79=\"\",\"\",V79)","v":""},null,{"$f":"IF(X79=\"\",\"\",X79)","v":""},null,{"$f":"IF(Z79=\"\",\"\",Z79)","v":""},null,{"$f":"IF(AB79=\"\",\"\",AB79)","v":""},null,{"$f":"IF(AD79=\"\",\"\",AD79)","v":""},null,{"$f":"IF(AF79=\"\",\"\",AF79)","v":""},null,{"$f":"IF(AH79=\"\",\"\",AH79)","v":""},null,{"$f":"IF(AJ79=\"\",\"\",AJ79)","v":""},null,{"$f":"IF(AL79=\"\",\"\",AL79)","v":""},null,null,{"$f":"IF(AO79=\"\",\"\",AO79)","v":""},null,null,{"$f":"IF(AR79=\"\",\"\",AR79)","v":""},null,null,null,null,{"$f":"IF(AW79=\"\",\"\",AW79)","v":""}]
[]
[]
[]
[null,null,null,null,null,null,null,null,null,null,null,null,null,null,null,null,null,null,null,null,null,null,null,null,null,null,null,null,null,null,null,null,null,null,null,null,null,{"$f":"AL83","v":"金額(税抜)"},null,null,null,null,null,null,null,null,null,null,{"$f":"AW83","v":""}]
[]
[]
[]
[]
[null,null,null,null,null,null,null,null,null,null,null,null,null,null,null,null,null,null,null,null,null,null,null,null,null,null,null,null,null,null,null,null,null,null,null,null,null,{"$f":"AL88","v":"消費税"},null,null,null,null,null,"税率",null,null,"税調",null,{"$f":"AW88","v":""}]
[]
[null,null,null,null,null,null,null,null,null,null,null,null,null,null,null,null,null,null,null,null,null,null,null,null,null,null,null,null,null,null,null,null,null,null,null,null,null,null,null,null,null,null,null,{"$f":"AR90","v":0},null,{"$f":"AT90","v":""}]
[]
[]
[]
[null,null,null,null,null,null,null,null,null,null,null,null,null,null,null,null,null,null,null,"請求明細書 (貴社控)"]
[null,"株 式 会 社 種 村 建 設",null,null,null,null,null,null,null,null,null,null,"御中"]
[null,null,null,null,null,null,null,null,null,null,null,null,null,null,null,null,null,null,null,null,null,null,null,null,null,null,null,null,null,null,null,null,null,null,null,null,null,null,null,null,"請求年月日",null,null,null,null,{"$f":"IF(AT4=\"\",\"\",AT4)","v":""},null,null,null,{"$f":"IF(AX96=\"\",\"\",AX96)","v":""},null,null,{"$f":"IF(BA96=\"\",\"\",BA96)","v":""}]
[]
[]
[]
[]
[null,"工事番号",null,null,null,null,{"$f":"IF(G101=\"\",\"\",G101)","v":""},null,null,null,null,null,"工事名",null,null,null,{"$f":"IF(Q101=\"\",\"\",Q101)","v":""},null,null,null,null,null,null,null,null,null,null,null,null,null,null,null,null,null,null,null,null,"業者名",null,null,null,{"$f":"IF(AP101=\"\",\"\",AP101)","v":""}]
[]
[]
[]
[]
[]
[null,"注文番号",null,null,null,null,{"$f":"IF(G107=\"\",\"\",G107)","v":""},null,null,null,null,null,null,null,null,null,null,"月　日",null,null,null,"品　名・内　訳",null,null,null,null,null,null,null,null,null,null,null,null,null,null,null,"数 量",null,null,"単位",null,null,"単価",null,null,null,null,{"$f":"AW15","v":"金額(税抜)"}]
[]
[]
[]
[null,"契約金額",null,null,null,null,{"$f":"IF(G111=\"\",\"\",G111)","v":""},null,null,null,null,null,null,null,null,null,null,{"$f":"IF(R111=\"\",\"\",R111)","v":""},null,{"$f":"IF(T111=\"\",\"\",T111)","v":""},null,{"$f":"IF(V111=\"\",\"\",V111)","v":""},null,{"$f":"IF(X111=\"\",\"\",X111)","v":""},null,{"$f":"IF(Z111=\"\",\"\",Z111)","v":""},null,{"$f":"IF(AB111=\"\",\"\",AB111)","v":""},null,{"$f":"IF(AD111=\"\",\"\",AD111)","v":""},null,{"$f":"IF(AF111=\"\",\"\",AF111)","v":""},null,{"$f":"IF(AH111=\"\",\"\",AH111)","v":""},null,{"$f":"IF(AJ111=\"\",\"\",AJ111)","v":""},null,{"$f":"IF(AL111=\"\",\"\",AL111)","v":""},null,null,{"$f":"IF(AO111=\"\",\"\",AO111)","v":""},null,null,{"$f":"IF(AR111=\"\",\"\",AR111)","v":""},null,null,null,null,{"$f":"IF(AW111=\"\",\"\",AW111)","v":""}]
[]
[]
[]
[null,"増減額",null,null,null,null,{"$f":"IF(G115=\"\",\"\",G115)","v":""},null,null,null,null,null,null,null,null,null,null,{"$f":"IF(R115=\"\",\"\",R115)","v":""},null,{"$f":"IF(T115=\"\",\"\",T115)","v":""},null,{"$f":"IF(V115=\"\",\"\",V115)","v":""},null,{"$f":"IF(X115=\"\",\"\",X115)","v":""},null,{"$f":"IF(Z115=\"\",\"\",Z115)","v":""},null,{"$f":"IF(AB115=\"\",\"\",AB115)","v":""},null,{"$f":"IF(AD115=\"\",\"\",AD115)","v":""},null,{"$f":"IF(AF115=\"\",\"\",AF115)","v":""},null,{"$f":"IF(AH115=\"\",\"\",AH115)","v":""},null,{"$f":"IF(AJ115=\"\",\"\",AJ115)","v":""},null,{"$f":"IF(AL115=\"\",\"\",AL115)","v":""},null,null,{"$f":"IF(AO115=\"\",\"\",AO115)","v":""},null,null,{"$f":"IF(AR115=\"\",\"\",AR115)","v":""},null,null,null,null,{"$f":"IF(AW115=\"\",\"\",AW115)","v":""}]
[]
[]
[]
[null,"前回までの\n請求額",null,null,null,null,{"$f":"IF(G119=\"\",\"\",G119)","v":""},null,null,null,null,null,null,null,null,null,null,{"$f":"IF(R119=\"\",\"\",R119)","v":""},null,{"$f":"IF(T119=\"\",\"\",T119)","v":""},null,{"$f":"IF(V119=\"\",\"\",V119)","v":""},null,{"$f":"IF(X119=\"\",\"\",X119)","v":""},null,{"$f":"IF(Z119=\"\",\"\",Z119)","v":""},null,{"$f":"IF(AB119=\"\",\"\",AB119)","v":""},null,{"$f":"IF(AD119=\"\",\"\",AD119)","v":""},null,{"$f":"IF(AF119=\"\",\"\",AF119)","v":""},null,{"$f":"IF(AH119=\"\",\"\",AH119)","v":""},null,{"$f":"IF(AJ119=\"\",\"\",AJ119)","v":""},null,{"$f":"IF(AL119=\"\",\"\",AL119)","v":""},null,null,{"$f":"IF(AO119=\"\",\"\",AO119)","v":""},null,null,{"$f":"IF(AR119=\"\",\"\",AR119)","v":""},null,null,null,null,{"$f":"IF(AW119=\"\",\"\",AW119)","v":""}]
[]
[]
[]
[null,"今回\n請求額",null,null,{"$f":"IF(E31=\"\",\"\",E31)","v":""},null,{"$f":"IF(G123=\"\",\"\",G123)","v":""},null,null,null,null,null,null,null,null,null,null,{"$f":"IF(R123=\"\",\"\",R123)","v":""},null,{"$f":"IF(T123=\"\",\"\",T123)","v":""},null,{"$f":"IF(V123=\"\",\"\",V123)","v":""},null,{"$f":"IF(X123=\"\",\"\",X123)","v":""},null,{"$f":"IF(Z123=\"\",\"\",Z123)","v":""},null,{"$f":"IF(AB123=\"\",\"\",AB123)","v":""},null,{"$f":"IF(AD123=\"\",\"\",AD123)","v":""},null,{"$f":"IF(AF123=\"\",\"\",AF123)","v":""},null,{"$f":"IF(AH123=\"\",\"\",AH123)","v":""},null,{"$f":"IF(AJ123=\"\",\"\",AJ123)","v":""},null,{"$f":"IF(AL123=\"\",\"\",AL123)","v":""},null,null,{"$f":"IF(AO123=\"\",\"\",AO123)","v":""},null,null,{"$f":"IF(AR123=\"\",\"\",AR123)","v":""},null,null,null,null,{"$f":"IF(AW123=\"\",\"\",AW123)","v":""}]
[]
[]
[]
[null,"差引残高",null,null,null,null,{"$f":"IF(G203=\"\",\"\",G203+G207-G211-G215)","v":""},null,null,null,null,null,null,null,null,null,null,{"$f":"IF(R127=\"\",\"\",R127)","v":""},null,{"$f":"IF(T127=\"\",\"\",T127)","v":""},null,{"$f":"IF(V127=\"\",\"\",V127)","v":""},null,{"$f":"IF(X127=\"\",\"\",X127)","v":""},null,{"$f":"IF(Z127=\"\",\"\",Z127)","v":""},null,{"$f":"IF(AB127=\"\",\"\",AB127)","v":""},null,{"$f":"IF(AD127=\"\",\"\",AD127)","v":""},null,{"$f":"IF(AF127=\"\",\"\",AF127)","v":""},null,{"$f":"IF(AH127=\"\",\"\",AH127)","v":""},null,{"$f":"IF(AJ127=\"\",\"\",AJ127)","v":""},null,{"$f":"IF(AL127=\"\",\"\",AL127)","v":""},null,null,{"$f":"IF(AO127=\"\",\"\",AO127)","v":""},null,null,{"$f":"IF(AR127=\"\",\"\",AR127)","v":""},null,null,null,null,{"$f":"IF(AW127=\"\",\"\",AW127)","v":""}]
[]
[]
[]
[null,null,null,null,null,null,null,null,null,null,null,null,null,null,null,null,null,{"$f":"IF(R131=\"\",\"\",R131)","v":""},null,{"$f":"IF(T131=\"\",\"\",T131)","v":""},null,{"$f":"IF(V131=\"\",\"\",V131)","v":""},null,{"$f":"IF(X131=\"\",\"\",X131)","v":""},null,{"$f":"IF(Z131=\"\",\"\",Z131)","v":""},null,{"$f":"IF(AB131=\"\",\"\",AB131)","v":""},null,{"$f":"IF(AD131=\"\",\"\",AD131)","v":""},null,{"$f":"IF(AF131=\"\",\"\",AF131)","v":""},null,{"$f":"IF(AH131=\"\",\"\",AH131)","v":""},null,{"$f":"IF(AJ131=\"\",\"\",AJ131)","v":""},null,{"$f":"IF(AL131=\"\",\"\",AL131)","v":""},null,null,{"$f":"IF(AO131=\"\",\"\",AO131)","v":""},null,null,{"$f":"IF(AR131=\"\",\"\",AR131)","v":""},null,null,null,null,{"$f":"IF(AW131=\"\",\"\",AW131)","v":""}]
[]
[]
[]
[null,null,null,null,null,null,null,null,null,null,null,null,null,null,null,null,null,{"$f":"IF(R135=\"\",\"\",R135)","v":""},null,{"$f":"IF(T135=\"\",\"\",T135)","v":""},null,{"$f":"IF(V135=\"\",\"\",V135)","v":""},null,{"$f":"IF(X135=\"\",\"\",X135)","v":""},null,{"$f":"IF(Z135=\"\",\"\",Z135)","v":""},null,{"$f":"IF(AB135=\"\",\"\",AB135)","v":""},null,{"$f":"IF(AD135=\"\",\"\",AD135)","v":""},null,{"$f":"IF(AF135=\"\",\"\",AF135)","v":""},null,{"$f":"IF(AH135=\"\",\"\",AH135)","v":""},null,{"$f":"IF(AJ135=\"\",\"\",AJ135)","v":""},null,{"$f":"IF(AL135=\"\",\"\",AL135)","v":""},null,null,{"$f":"IF(AO135=\"\",\"\",AO135)","v":""},null,null,{"$f":"IF(AR135=\"\",\"\",AR135)","v":""},null,null,null,null,{"$f":"IF(AW135=\"\",\"\",AW135)","v":""}]
[]
[]
[]
[null,null,null,null,null,null,null,null,null,null,null,null,null,null,null,null,null,{"$f":"IF(R139=\"\",\"\",R139)","v":""},null,{"$f":"IF(T139=\"\",\"\",T139)","v":""},null,{"$f":"IF(V139=\"\",\"\",V139)","v":""},null,{"$f":"IF(X139=\"\",\"\",X139)","v":""},null,{"$f":"IF(Z139=\"\",\"\",Z139)","v":""},null,{"$f":"IF(AB139=\"\",\"\",AB139)","v":""},null,{"$f":"IF(AD139=\"\",\"\",AD139)","v":""},null,{"$f":"IF(AF139=\"\",\"\",AF139)","v":""},null,{"$f":"IF(AH139=\"\",\"\",AH139)","v":""},null,{"$f":"IF(AJ139=\"\",\"\",AJ139)","v":""},null,{"$f":"IF(AL139=\"\",\"\",AL139)","v":""},null,null,{"$f":"IF(AO139=\"\",\"\",AO139)","v":""},null,null,{"$f":"IF(AR139=\"\",\"\",AR139)","v":""},null,null,null,null,{"$f":"IF(AW139=\"\",\"\",AW139)","v":""}]
[]
[]
[]
[null,null,null,null,null,null,null,null,null,null,null,null,null,null,null,null,null,{"$f":"IF(R143=\"\",\"\",R143)","v":""},null,{"$f":"IF(T143=\"\",\"\",T143)","v":""},null,{"$f":"IF(V143=\"\",\"\",V143)","v":""},null,{"$f":"IF(X143=\"\",\"\",X143)","v":""},null,{"$f":"IF(Z143=\"\",\"\",Z143)","v":""},null,{"$f":"IF(AB143=\"\",\"\",AB143)","v":""},null,{"$f":"IF(AD143=\"\",\"\",AD143)","v":""},null,{"$f":"IF(AF143=\"\",\"\",AF143)","v":""},null,{"$f":"IF(AH143=\"\",\"\",AH143)","v":""},null,{"$f":"IF(AJ143=\"\",\"\",AJ143)","v":""},null,{"$f":"IF(AL143=\"\",\"\",AL143)","v":""},null,null,{"$f":"IF(AO143=\"\",\"\",AO143)","v":""},null,null,{"$f":"IF(AR143=\"\",\"\",AR143)","v":""},null,null,null,null,{"$f":"IF(AW143=\"\",\"\",AW143)","v":""}]
[]
[]
[]
[null,null,null,null,null,null,null,null,null,null,null,null,null,null,null,null,null,{"$f":"IF(R147=\"\",\"\",R147)","v":""},null,{"$f":"IF(T147=\"\",\"\",T147)","v":""},null,{"$f":"IF(V147=\"\",\"\",V147)","v":""},null,{"$f":"IF(X147=\"\",\"\",X147)","v":""},null,{"$f":"IF(Z147=\"\",\"\",Z147)","v":""},null,{"$f":"IF(AB147=\"\",\"\",AB147)","v":""},null,{"$f":"IF(AD147=\"\",\"\",AD147)","v":""},null,{"$f":"IF(AF147=\"\",\"\",AF147)","v":""},null,{"$f":"IF(AH147=\"\",\"\",AH147)","v":""},null,{"$f":"IF(AJ147=\"\",\"\",AJ147)","v":""},null,{"$f":"IF(AL147=\"\",\"\",AL147)","v":""},null,null,{"$f":"IF(AO147=\"\",\"\",AO147)","v":""},null,null,{"$f":"IF(AR147=\"\",\"\",AR147)","v":""},null,null,null,null,{"$f":"IF(AW147=\"\",\"\",AW147)","v":""}]
[]
[]
[]
[null,null,null,null,null,null,null,null,null,null,null,null,null,null,null,null,null,{"$f":"IF(R151=\"\",\"\",R151)","v":""},null,{"$f":"IF(T151=\"\",\"\",T151)","v":""},null,{"$f":"IF(V151=\"\",\"\",V151)","v":""},null,{"$f":"IF(X151=\"\",\"\",X151)","v":""},null,{"$f":"IF(Z151=\"\",\"\",Z151)","v":""},null,{"$f":"IF(AB151=\"\",\"\",AB151)","v":""},null,{"$f":"IF(AD151=\"\",\"\",AD151)","v":""},null,{"$f":"IF(AF151=\"\",\"\",AF151)","v":""},null,{"$f":"IF(AH151=\"\",\"\",AH151)","v":""},null,{"$f":"IF(AJ151=\"\",\"\",AJ151)","v":""},null,{"$f":"IF(AL151=\"\",\"\",AL151)","v":""},null,null,{"$f":"IF(AO151=\"\",\"\",AO151)","v":""},null,null,{"$f":"IF(AR151=\"\",\"\",AR151)","v":""},null,null,null,null,{"$f":"IF(AW151=\"\",\"\",AW151)","v":""}]
[]
[]
[]
[null,null,null,null,null,null,null,null,null,null,null,null,null,null,null,null,null,{"$f":"IF(R155=\"\",\"\",R155)","v":""},null,{"$f":"IF(T155=\"\",\"\",T155)","v":""},null,{"$f":"IF(V155=\"\",\"\",V155)","v":""},null,{"$f":"IF(X155=\"\",\"\",X155)","v":""},null,{"$f":"IF(Z155=\"\",\"\",Z155)","v":""},null,{"$f":"IF(AB155=\"\",\"\",AB155)","v":""},null,{"$f":"IF(AD155=\"\",\"\",AD155)","v":""},null,{"$f":"IF(AF155=\"\",\"\",AF155)","v":""},null,{"$f":"IF(AH155=\"\",\"\",AH155)","v":""},null,{"$f":"IF(AJ155=\"\",\"\",AJ155)","v":""},null,{"$f":"IF(AL155=\"\",\"\",AL155)","v":""},null,null,{"$f":"IF(AO155=\"\",\"\",AO155)","v":""},null,null,{"$f":"IF(AR155=\"\",\"\",AR155)","v":""},null,null,null,null,{"$f":"IF(AW155=\"\",\"\",AW155)","v":""}]
[]
[]
[]
[null,null,null,null,null,null,null,null,null,null,null,null,null,null,null,null,null,{"$f":"IF(R159=\"\",\"\",R159)","v":""},null,{"$f":"IF(T159=\"\",\"\",T159)","v":""},null,{"$f":"IF(V159=\"\",\"\",V159)","v":""},null,{"$f":"IF(X159=\"\",\"\",X159)","v":""},null,{"$f":"IF(Z159=\"\",\"\",Z159)","v":""},null,{"$f":"IF(AB159=\"\",\"\",AB159)","v":""},null,{"$f":"IF(AD159=\"\",\"\",AD159)","v":""},null,{"$f":"IF(AF159=\"\",\"\",AF159)","v":""},null,{"$f":"IF(AH159=\"\",\"\",AH159)","v":""},null,{"$f":"IF(AJ159=\"\",\"\",AJ159)","v":""},null,{"$f":"IF(AL159=\"\",\"\",AL159)","v":""},null,null,{"$f":"IF(AO159=\"\",\"\",AO159)","v":""},null,null,{"$f":"IF(AR159=\"\",\"\",AR159)","v":""},null,null,null,null,{"$f":"IF(AW159=\"\",\"\",AW159)","v":""}]
[]
[]
[]
[null,null,null,null,null,null,null,null,null,null,null,null,null,null,null,null,null,{"$f":"IF(R163=\"\",\"\",R163)","v":""},null,{"$f":"IF(T163=\"\",\"\",T163)","v":""},null,{"$f":"IF(V163=\"\",\"\",V163)","v":""},null,{"$f":"IF(X163=\"\",\"\",X163)","v":""},null,{"$f":"IF(Z163=\"\",\"\",Z163)","v":""},null,{"$f":"IF(AB163=\"\",\"\",AB163)","v":""},null,{"$f":"IF(AD163=\"\",\"\",AD163)","v":""},null,{"$f":"IF(AF163=\"\",\"\",AF163)","v":""},null,{"$f":"IF(AH163=\"\",\"\",AH163)","v":""},null,{"$f":"IF(AJ163=\"\",\"\",AJ163)","v":""},null,{"$f":"IF(AL163=\"\",\"\",AL163)","v":""},null,null,{"$f":"IF(AO163=\"\",\"\",AO163)","v":""},null,null,{"$f":"IF(AR163=\"\",\"\",AR163)","v":""},null,null,null,null,{"$f":"IF(AW163=\"\",\"\",AW163)","v":""}]
[]
[]
[]
[null,null,null,null,null,null,null,null,null,null,null,null,null,null,null,null,null,{"$f":"IF(R167=\"\",\"\",R167)","v":""},null,{"$f":"IF(T167=\"\",\"\",T167)","v":""},null,{"$f":"IF(V167=\"\",\"\",V167)","v":""},null,{"$f":"IF(X167=\"\",\"\",X167)","v":""},null,{"$f":"IF(Z167=\"\",\"\",Z167)","v":""},null,{"$f":"IF(AB167=\"\",\"\",AB167)","v":""},null,{"$f":"IF(AD167=\"\",\"\",AD167)","v":""},null,{"$f":"IF(AF167=\"\",\"\",AF167)","v":""},null,{"$f":"IF(AH167=\"\",\"\",AH167)","v":""},null,{"$f":"IF(AJ167=\"\",\"\",AJ167)","v":""},null,{"$f":"IF(AL167=\"\",\"\",AL167)","v":""},null,null,{"$f":"IF(AO167=\"\",\"\",AO167)","v":""},null,null,{"$f":"IF(AR167=\"\",\"\",AR167)","v":""},null,null,null,null,{"$f":"IF(AW167=\"\",\"\",AW167)","v":""}]
[]
[]
[]
[null,null,null,null,null,null,null,null,null,null,null,null,null,null,null,null,null,{"$f":"IF(R171=\"\",\"\",R171)","v":""},null,{"$f":"IF(T171=\"\",\"\",T171)","v":""},null,{"$f":"IF(V171=\"\",\"\",V171)","v":""},null,{"$f":"IF(X171=\"\",\"\",X171)","v":""},null,{"$f":"IF(Z171=\"\",\"\",Z171)","v":""},null,{"$f":"IF(AB171=\"\",\"\",AB171)","v":""},null,{"$f":"IF(AD171=\"\",\"\",AD171)","v":""},null,{"$f":"IF(AF171=\"\",\"\",AF171)","v":""},null,{"$f":"IF(AH171=\"\",\"\",AH171)","v":""},null,{"$f":"IF(AJ171=\"\",\"\",AJ171)","v":""},null,{"$f":"IF(AL171=\"\",\"\",AL171)","v":""},null,null,{"$f":"IF(AO171=\"\",\"\",AO171)","v":""},null,null,{"$f":"IF(AR171=\"\",\"\",AR171)","v":""},null,null,null,null,{"$f":"IF(AW171=\"\",\"\",AW171)","v":""}]
[]
[]
[]
[null,null,null,null,null,null,null,null,null,null,null,null,null,null,null,null,null,null,null,null,null,null,null,null,null,null,null,null,null,null,null,null,null,null,null,null,null,{"$f":"AL175","v":"金額(税抜)"},null,null,null,null,null,null,null,null,null,null,{"$f":"AW83","v":""}]
[]
[]
[]
[]
[null,null,null,null,null,null,null,null,null,null,null,null,null,null,null,null,null,null,null,null,null,null,null,null,null,null,null,null,null,null,null,null,null,null,null,null,null,{"$f":"AL180","v":"消費税"},null,null,null,null,null,"税率",null,null,"税調",null,{"$f":"AW88","v":""}]
[]
[null,null,null,null,null,null,null,null,null,null,null,null,null,null,null,null,null,null,null,null,null,null,null,null,null,null,null,null,null,null,null,null,null,null,null,null,null,null,null,null,null,null,null,{"$f":"AR90","v":0},null,{"$f":"AT90","v":""}]

{"sheet":"細3-1","index":28,"n_rows":274,"n_cols":53,"rows_kept":274,"cut":false,"hidden":false,"merged":[[266,37,269,47],[266,48,269,54],[271,48,274,54],[258,48,261,54],[262,17,265,18],[262,19,265,20],[262,21,265,36],[262,37,265,39],[262,40,265,42],[262,43,265,47],[262,48,265,54],[258,17,261,18],[258,19,261,20],[258,21,261,36],[258,37,261,39],[258,40,261,42],[258,43,261,47],[271,37,274,42],[271,43,272,45],[273,43,274,44],[273,45,274,45],[273,46,274,47],[271,46,272,47],[250,48,253,54],[254,17,257,18],[254,19,257,20],[254,21,257,36],[254,37,257,39],[254,40,257,42],[254,43,257,47],[254,48,257,54],[250,17,253,18],[250,19,253,20],[250,21,253,36],[250,37,253,39],[250,40,253,42],[250,43,253,47],[242,48,245,54],[246,17,249,18],[246,19,249,20],[246,21,249,36],[246,37,249,39],[246,40,249,42],[246,43,249,47],[246,48,249,54],[242,17,245,18],[242,19,245,20],[242,21,245,36],[242,37,245,39],[242,40,245,42],[242,43,245,47],[234,48,237,54],[238,17,241,18],[238,19,241,20],[238,21,241,36],[238,37,241,39],[238,40,241,42],[238,43,241,47],[238,48,241,54],[234,17,237,18],[234,19,237,20],[234,21,237,36],[234,37,237,39],[234,40,237,42],[234,43,237,47],[222,17,225,18],[222,19,225,20],[222,21,225,36],[222,37,225,39],[222,40,225,42],[222,43,225,47],[222,48,225,54],[226,48,229,54],[230,17,233,18],[230,19,233,20],[230,21,233,36],[230,37,233,39],[230,40,233,42],[230,43,233,47],[230,48,233,54],[226,17,229,18],[226,19,229,20],[226,21,229,36],[226,37,229,39],[226,40,229,42],[226,43,229,47],[218,1,221,5],[218,6,221,15],[218,17,221,18],[218,19,221,20],[218,21,221,36],[218,37,221,39],[218,40,221,42],[218,43,221,47],[218,48,221,54],[210,40,213,42],[210,43,213,47],[210,48,213,54],[214,1,217,3],[214,4,217,5],[214,6,217,15],[214,17,217,18],[214,19,217,20],[214,21,217,36],[214,37,217,39],[210,1,213,5],[210,6,213,15],[210,17,213,18],[210,19,213,20],[210,21,213,36],[210,37,213,39],[214,40,217,42],[214,43,217,47],[214,48,217,54],[206,1,209,5],[206,6,209,15],[206,17,209,18],[206,19,209,20],[206,21,209,36],[206,37,209,39],[206,40,209,42],[206,43,209,47],[206,48,209,54],[198,43,201,47],[198,48,201,54],[202,1,205,5],[202,6,205,15],[202,17,205,18],[202,19,205,20],[202,21,205,36],[202,37,205,39],[202,40,205,42],[202,43,205,47],[198,1,201,5],[198,6,201,15],[198,17,201,20],[198,21,201,36],[198,37,201,39],[198,40,201,42],[202,48,205,54],[187,52,189,54],[192,1,195,5],[192,6,195,11],[192,12,195,15],[192,16,195,35],[192,37,195,40],[192,41,195,54],[174,37,177,47],[174,48,177,54],[179,48,182,54],[185,19,188,32],[186,1,189,11],[186,12,189,13],[187,40,189,44],[187,45,189,48],[187,49,189,51],[179,37,182,42],[179,43,180,45],[179,46,180,47],[181,43,182,44],[181,45,182,45],[181,46,182,47],[166,48,169,54],[170,17,173,18],[170,19,173,20],[170,21,173,36],[170,37,173,39],[170,40,173,42],[170,43,173,47],[170,48,173,54],[166,17,169,18],[166,19,169,20],[166,21,169,36],[166,37,169,39],[166,40,169,42],[166,43,169,47],[158,48,161,54],[162,17,165,18],[162,19,165,20],[162,21,165,36],[162,37,165,39],[162,40,165,42],[162,43,165,47],[162,48,165,54],[158,17,161,18],[158,19,161,20],[158,21,161,36],[158,37,161,39],[158,40,161,42],[158,43,161,47],[150,48,153,54],[154,17,157,18],[154,19,157,20],[154,21,157,36],[154,37,157,39],[154,40,157,42],[154,43,157,47],[154,48,157,54],[150,17,153,18],[150,19,153,20],[150,21,153,36],[150,37,153,39],[150,40,153,42],[150,43,153,47],[142,48,145,54],[146,17,149,18],[146,19,149,20],[146,21,149,36],[146,37,149,39],[146,40,149,42],[146,43,149,47],[146,48,149,54],[142,17,145,18],[142,19,145,20],[142,21,145,36],[142,37,145,39],[142,40,145,42],[142,43,145,47],[130,17,133,18],[130,19,133,20],[130,21,133,36],[130,37,133,39],[130,40,133,42],[130,43,133,47],[130,48,133,54],[134,48,137,54],[138,17,141,18],[138,19,141,20],[138,21,141,36],[138,37,141,39],[138,40,141,42],[138,43,141,47],[138,48,141,54],[134,17,137,18],[134,19,137,20],[134,21,137,36],[134,37,137,39],[134,40,137,42],[134,43,137,47],[126,1,129,5],[126,6,129,15],[126,17,129,18],[126,19,129,20],[126,21,129,36],[126,37,129,39],[126,40,129,42],[126,43,129,47],[126,48,129,54],[118,40,121,42],[118,43,121,47],[118,48,121,54],[122,1,125,3],[122,4,125,5],[122,6,125,15],[122,17,125,18],[122,19,125,20],[122,21,125,36],[122,37,125,39],[118,1,121,5],[118,6,121,15],[118,17,121,18],[118,19,121,20],[118,21,121,36],[118,37,121,39],[122,40,125,42],[122,43,125,47],[122,48,125,54],[114,1,117,5],[114,6,117,15],[114,17,117,18],[114,19,117,20],[114,21,117,36],[114,37,117,39],[114,40,117,42],[114,43,117,47],[114,48,117,54],[106,43,109,47],[106,48,109,54],[110,1,113,5],[110,6,113,15],[110,17,113,18],[110,19,113,20],[110,21,113,36],[110,37,113,39],[110,40,113,42],[110,43,113,47],[106,1,109,5],[106,6,109,15],[106,17,109,20],[106,21,109,36],[106,37,109,39],[106,40,109,42],[110,48,113,54],[95,52,97,54],[100,1,103,5],[100,6,103,11],[100,12,103,15],[100,16,103,35],[100,37,103,40],[100,41,103,54],[93,19,96,32],[94,1,97,11],[94,12,97,13],[95,40,97,44],[95,45,97,48],[95,49,97,51],[85,11,90,16],[85,17,90,25],[85,26,90,30],[85,31,90,35],[87,48,90,54],[82,37,85,47],[82,48,85,54],[83,1,84,4],[83,5,84,10],[83,11,84,16],[83,17,84,25],[83,26,84,30],[83,31,84,35],[85,1,90,4],[85,5,90,10],[87,37,90,42],[87,43,88,45],[89,43,90,44],[89,45,90,45],[89,46,90,47],[87,46,88,47],[74,48,77,54],[78,17,81,18],[78,19,81,20],[78,21,81,36],[78,37,81,39],[78,40,81,42],[78,43,81,47],[78,48,81,54],[74,17,77,18],[74,19,77,20],[74,21,77,36],[74,37,77,39],[74,40,77,42],[74,43,77,47],[66,48,69,54],[70,17,73,18],[70,19,73,20],[70,21,73,36],[70,37,73,39],[70,40,73,42],[70,43,73,47],[70,48,73,54],[66,17,69,18],[66,19,69,20],[66,21,69,36],[66,37,69,39],[66,40,69,42],[66,43,69,47],[58,48,61,54],[62,17,65,18],[62,19,65,20],[62,21,65,36],[62,37,65,39],[62,40,65,42],[62,43,65,47],[62,48,65,54],[58,17,61,18],[58,19,61,20],[58,21,61,36],[58,37,61,39],[58,40,61,42],[58,43,61,47],[50,48,53,54],[54,17,57,18],[54,19,57,20],[54,21,57,36],[54,37,57,39],[54,40,57,42],[54,43,57,47],[54,48,57,54],[50,17,53,18],[50,19,53,20],[50,21,53,36],[50,37,53,39],[50,40,53,42],[50,43,53,47],[38,17,41,18],[38,19,41,20],[38,21,41,36],[38,37,41,39],[38,40,41,42],[38,43,41,47],[38,48,41,54],[42,48,45,54],[46,17,49,18],[46,19,49,20],[46,21,49,36],[46,37,49,39],[46,40,49,42],[46,43,49,47],[46,48,49,54],[42,17,45,18],[42,19,45,20],[42,21,45,36],[42,37,45,39],[42,40,45,42],[42,43,45,47],[34,1,37,5],[34,6,37,15],[34,17,37,18],[34,19,37,20],[34,21,37,36],[34,37,37,39],[34,40,37,42],[34,43,37,47],[34,48,37,54],[26,40,29,42],[26,43,29,47],[26,48,29,54],[30,1,33,3],[30,4,33,5],[30,6,33,15],[30,17,33,18],[30,19,33,20],[30,21,33,36],[30,37,33,39],[26,1,29,5],[26,6,29,15],[26,17,29,18],[26,19,29,20],[26,21,29,36],[26,37,29,39],[30,40,33,42],[30,43,33,47],[30,48,33,54],[22,1,25,5],[22,6,25,15],[22,17,25,18],[22,19,25,20],[22,21,25,36],[22,37,25,39],[22,40,25,42],[22,43,25,47],[22,48,25,54],[14,43,17,47],[14,48,17,54],[18,1,21,5],[18,6,21,15],[18,17,21,18],[18,19,21,20],[18,21,21,36],[18,37,21,39],[18,40,21,42],[18,43,21,47],[14,1,17,5],[14,6,17,15],[14,17,17,20],[14,21,17,36],[14,37,17,39],[14,40,17,42],[18,48,21,54],[3,52,5,54],[8,1,11,5],[8,6,11,11],[8,12,11,15],[8,16,11,35],[8,37,11,40],[8,41,11,54],[1,19,4,32],[2,1,5,11],[2,12,5,13],[3,40,5,44],[3,45,5,48],[3,49,5,51]]}
[]
[null,null,null,null,null,null,null,null,null,null,null,null,null,null,null,null,null,null,null,"請求書明細書 (正)"]
[null,"株 式 会 社 種 村 建 設",null,null,null,null,null,null,null,null,null,null,"御中"]
[null,null,null,null,null,null,null,null,null,null,null,null,null,null,null,null,null,null,null,null,null,null,null,null,null,null,null,null,null,null,null,null,null,null,null,null,null,null,null,null,"請求年月日",null,null,null,null,{"$f":"IF(年=\"\",\"\",年)","v":""},null,null,null,{"$f":"IF(月=\"\",\"\",月)","v":""},null,null,{"$f":"IF(日=\"\",\"\",日)","v":""}]
[]
[]
[]
[]
[null,"工事番号",null,null,null,null,null,null,null,null,null,null,"工事名",null,null,null,null,null,null,null,null,null,null,null,null,null,null,null,null,null,null,null,null,null,null,null,null,"業者名",null,null,null,{"$f":"IF(社名=\"\",\"\",社名)","v":""}]
[]
[]
[]
[]
[]
[null,"注文番号",null,null,null,null,null,null,null,null,null,null,null,null,null,null,null,"月　日",null,null,null,"品　名・内　訳",null,null,null,null,null,null,null,null,null,null,null,null,null,null,null,"数 量",null,null,"単位",null,null,"単価",null,null,null,null,{"$f":"表紙①!P35","v":"金額(税抜)"}]
[]
[]
[]
[null,"契約金額",null,null,null,null,null,null,null,null,null,null,null,null,null,null,null,null,null,null,null,null,null,null,null,null,null,null,null,null,null,null,null,null,null,null,null,null,null,null,null,null,null,null,null,null,null,null,{"$f":"IF(V19=\"\",\"\",ROUND(AL19*AR19,0))","v":""}]
[]
[]
[]
[null,"増減額",null,null,null,null,null,null,null,null,null,null,null,null,null,null,null,null,null,null,null,null,null,null,null,null,null,null,null,null,null,null,null,null,null,null,null,null,null,null,null,null,null,null,null,null,null,null,{"$f":"IF(V23=\"\",\"\",ROUND(AL23*AR23,0))","v":""}]
[]
[]
[]
[null,"前回までの\n請求額",null,null,null,null,null,null,null,null,null,null,null,null,null,null,null,null,null,null,null,null,null,null,null,null,null,null,null,null,null,null,null,null,null,null,null,null,null,null,null,null,null,null,null,null,null,null,{"$f":"IF(V27=\"\",\"\",ROUND(AL27*AR27,0))","v":""}]
[]
[]
[]
[null,"今回\n請求額",null,null,null,null,null,null,null,null,null,null,null,null,null,null,null,null,null,null,null,null,null,null,null,null,null,null,null,null,null,null,null,null,null,null,null,null,null,null,null,null,null,null,null,null,null,null,{"$f":"IF(V31=\"\",\"\",ROUND(AL31*AR31,0))","v":""}]
[]
[]
[]
[null,"差引残高",null,null,null,null,{"$f":"IF(G19=\"\",\"\",G19+G23-G27-G31)","v":""},null,null,null,null,null,null,null,null,null,null,null,null,null,null,null,null,null,null,null,null,null,null,null,null,null,null,null,null,null,null,null,null,null,null,null,null,null,null,null,null,null,{"$f":"IF(V35=\"\",\"\",ROUND(AL35*AR35,0))","v":""}]
[]
[]
[]
[null,null,null,null,null,null,null,null,null,null,null,null,null,null,null,null,null,null,null,null,null,null,null,null,null,null,null,null,null,null,null,null,null,null,null,null,null,null,null,null,null,null,null,null,null,null,null,null,{"$f":"IF(V39=\"\",\"\",ROUND(AL39*AR39,0))","v":""}]
[]
[]
[]
[null,null,null,null,null,null,null,null,null,null,null,null,null,null,null,null,null,null,null,null,null,null,null,null,null,null,null,null,null,null,null,null,null,null,null,null,null,null,null,null,null,null,null,null,null,null,null,null,{"$f":"IF(V43=\"\",\"\",ROUND(AL43*AR43,0))","v":""}]
[]
[]
[]
[null,null,null,null,null,null,null,null,null,null,null,null,null,null,null,null,null,null,null,null,null,null,null,null,null,null,null,null,null,null,null,null,null,null,null,null,null,null,null,null,null,null,null,null,null,null,null,null,{"$f":"IF(V47=\"\",\"\",ROUND(AL47*AR47,0))","v":""}]
[]
[]
[]
[null,null,null,null,null,null,null,null,null,null,null,null,null,null,null,null,null,null,null,null,null,null,null,null,null,null,null,null,null,null,null,null,null,null,null,null,null,null,null,null,null,null,null,null,null,null,null,null,{"$f":"IF(V51=\"\",\"\",ROUND(AL51*AR51,0))","v":""}]
[]
[]
[]
[null,null,null,null,null,null,null,null,null,null,null,null,null,null,null,null,null,null,null,null,null,null,null,null,null,null,null,null,null,null,null,null,null,null,null,null,null,null,null,null,null,null,null,null,null,null,null,null,{"$f":"IF(V55=\"\",\"\",ROUND(AL55*AR55,0))","v":""}]
[]
[]
[]
[null,null,null,null,null,null,null,null,null,null,null,null,null,null,null,null,null,null,null,null,null,null,null,null,null,null,null,null,null,null,null,null,null,null,null,null,null,null,null,null,null,null,null,null,null,null,null,null,{"$f":"IF(V59=\"\",\"\",ROUND(AL59*AR59,0))","v":""}]
[]
[]
[]
[null,null,null,null,null,null,null,null,null,null,null,null,null,null,null,null,null,null,null,null,null,null,null,null,null,null,null,null,null,null,null,null,null,null,null,null,null,null,null,null,null,null,null,null,null,null,null,null,{"$f":"IF(V63=\"\",\"\",ROUND(AL63*AR63,0))","v":""}]
[]
[]
[]
[null,null,null,null,null,null,null,null,null,null,null,null,null,null,null,null,null,null,null,null,null,null,null,null,null,null,null,null,null,null,null,null,null,null,null,null,null,null,null,null,null,null,null,null,null,null,null,null,{"$f":"IF(V67=\"\",\"\",ROUND(AL67*AR67,0))","v":""}]
[]
[]
[]
[null,null,null,null,null,null,null,null,null,null,null,null,null,null,null,null,null,null,null,null,null,null,null,null,null,null,null,null,null,null,null,null,null,null,null,null,null,null,null,null,null,null,null,null,null,null,null,null,{"$f":"IF(V71=\"\",\"\",ROUND(AL71*AR71,0))","v":""}]
[]
[]
[]
[null,null,null,null,null,null,null,null,null,null,null,null,null,null,null,null,null,null,null,null,null,null,null,null,null,null,null,null,null,null,null,null,null,null,null,null,null,null,null,null,null,null,null,null,null,null,null,null,{"$f":"IF(V75=\"\",\"\",ROUND(AL75*AR75,0))","v":""}]
[]
[]
[]
[null,null,null,null,null,null,null,null,null,null,null,null,null,null,null,null,null,null,null,null,null,null,null,null,null,null,null,null,null,null,null,null,null,null,null,null,null,null,null,null,null,null,null,null,null,null,null,null,{"$f":"IF(V79=\"\",\"\",ROUND(AL79*AR79,0))","v":""}]
[]
[]
[]
[null,null,null,null,null,null,null,null,null,null,null,null,null,null,null,null,null,null,null,null,null,null,null,null,null,null,null,null,null,null,null,null,null,null,null,null,null,"金額(税抜)",null,null,null,null,null,null,null,null,null,null,{"$f":"IF(AW19=\"\",\"\",SUM(AW19:AW79))","v":""}]
[null,"社長",null,null,null,"専務",null,null,null,null,null,"常務",null,null,null,null,null,"部長･工場長",null,null,null,null,null,null,null,null,"担当者",null,null,null,null,"受付"]
[]
[]
[]
[null,null,null,null,null,null,null,null,null,null,null,null,null,null,null,null,null,null,null,null,null,null,null,null,null,null,null,null,null,null,null,null,null,null,null,null,null,"消費税",null,null,null,null,null,"税率",null,null,"税調",null,{"$f":"IF(AW83=\"\",\"\",IF(AR90=\"\",\"\",IF(AR90=8.1,ROUND(AW83*8/100,0)+AU90,ROUND(AW83*AR90/100,0)+AU90)))","v":""}]
[]
[null,null,null,null,null,null,null,null,null,null,null,null,null,null,null,null,null,null,null,null,null,null,null,null,null,null,null,null,null,null,null,null,null,null,null,null,null,null,null,null,null,null,null,null,null,{"$f":"IF(AR90=\"\",\"\",IF(AR90=8.1,\"旧\",IF(AR90=8,\"軽\",IF(AR90=0,\"非\",\"\"))))","v":""}]
[]
[]
[]
[null,null,null,null,null,null,null,null,null,null,null,null,null,null,null,null,null,null,null,"請求明細書 (現場控)"]
[null,"株 式 会 社 種 村 建 設",null,null,null,null,null,null,null,null,null,null,"御中"]
[null,null,null,null,null,null,null,null,null,null,null,null,null,null,null,null,null,null,null,null,null,null,null,null,null,null,null,null,null,null,null,null,null,null,null,null,null,null,null,null,"請求年月日",null,null,null,null,{"$f":"IF(AT4=\"\",\"\",AT4)","v":""},null,null,null,{"$f":"IF(AX4=\"\",\"\",AX4)","v":""},null,null,{"$f":"IF(BA4=\"\",\"\",BA4)","v":""}]
[]
[]
[]
[]
[null,"工事番号",null,null,null,null,{"$f":"IF(G9=\"\",\"\",G9)","v":""},null,null,null,null,null,"工事名",null,null,null,{"$f":"IF(Q9=\"\",\"\",Q9)","v":""},null,null,null,null,null,null,null,null,null,null,null,null,null,null,null,null,null,null,null,null,"業者名",null,null,null,{"$f":"IF(AP9=\"\",\"\",AP9)","v":""}]
[]
[]
[]
[]
[]
[null,"注文番号",null,null,null,null,{"$f":"IF(G15=\"\",\"\",G15)","v":""},null,null,null,null,null,null,null,null,null,null,"月　日",null,null,null,"品　名・内　訳",null,null,null,null,null,null,null,null,null,null,null,null,null,null,null,"数 量",null,null,"単位",null,null,"単価",null,null,null,null,{"$f":"AW15","v":"金額(税抜)"}]
[]
[]
[]
[null,"契約金額",null,null,null,null,{"$f":"IF(G19=\"\",\"\",G19)","v":""},null,null,null,null,null,null,null,null,null,null,{"$f":"IF(R19=\"\",\"\",R19)","v":""},null,{"$f":"IF(T19=\"\",\"\",T19)","v":""},null,{"$f":"IF(V19=\"\",\"\",V19)","v":""},null,{"$f":"IF(X19=\"\",\"\",X19)","v":""},null,{"$f":"IF(Z19=\"\",\"\",Z19)","v":""},null,{"$f":"IF(AB19=\"\",\"\",AB19)","v":""},null,{"$f":"IF(AD19=\"\",\"\",AD19)","v":""},null,{"$f":"IF(AF19=\"\",\"\",AF19)","v":""},null,{"$f":"IF(AH19=\"\",\"\",AH19)","v":""},null,{"$f":"IF(AJ19=\"\",\"\",AJ19)","v":""},null,{"$f":"IF(AL19=\"\",\"\",AL19)","v":""},null,null,{"$f":"IF(AO19=\"\",\"\",AO19)","v":""},null,null,{"$f":"IF(AR19=\"\",\"\",AR19)","v":""},null,null,null,null,{"$f":"IF(AW19=\"\",\"\",AW19)","v":""}]
[]
[]
[]
[null,"増減額",null,null,null,null,{"$f":"IF(G23=\"\",\"\",G23)","v":""},null,null,null,null,null,null,null,null,null,null,{"$f":"IF(R23=\"\",\"\",R23)","v":""},null,{"$f":"IF(T23=\"\",\"\",T23)","v":""},null,{"$f":"IF(V23=\"\",\"\",V23)","v":""},null,{"$f":"IF(X23=\"\",\"\",X23)","v":""},null,{"$f":"IF(Z23=\"\",\"\",Z23)","v":""},null,{"$f":"IF(AB23=\"\",\"\",AB23)","v":""},null,{"$f":"IF(AD23=\"\",\"\",AD23)","v":""},null,{"$f":"IF(AF23=\"\",\"\",AF23)","v":""},null,{"$f":"IF(AH23=\"\",\"\",AH23)","v":""},null,{"$f":"IF(AJ23=\"\",\"\",AJ23)","v":""},null,{"$f":"IF(AL23=\"\",\"\",AL23)","v":""},null,null,{"$f":"IF(AO23=\"\",\"\",AO23)","v":""},null,null,{"$f":"IF(AR23=\"\",\"\",AR23)","v":""},null,null,null,null,{"$f":"IF(AW23=\"\",\"\",AW23)","v":""}]
[]
[]
[]
[null,"前回までの\n請求額",null,null,null,null,{"$f":"IF(G27=\"\",\"\",G27)","v":""},null,null,null,null,null,null,null,null,null,null,{"$f":"IF(R27=\"\",\"\",R27)","v":""},null,{"$f":"IF(T27=\"\",\"\",T27)","v":""},null,{"$f":"IF(V27=\"\",\"\",V27)","v":""},null,{"$f":"IF(X27=\"\",\"\",X27)","v":""},null,{"$f":"IF(Z27=\"\",\"\",Z27)","v":""},null,{"$f":"IF(AB27=\"\",\"\",AB27)","v":""},null,{"$f":"IF(AD27=\"\",\"\",AD27)","v":""},null,{"$f":"IF(AF27=\"\",\"\",AF27)","v":""},null,{"$f":"IF(AH27=\"\",\"\",AH27)","v":""},null,{"$f":"IF(AJ27=\"\",\"\",AJ27)","v":""},null,{"$f":"IF(AL27=\"\",\"\",AL27)","v":""},null,null,{"$f":"IF(AO27=\"\",\"\",AO27)","v":""},null,null,{"$f":"IF(AR27=\"\",\"\",AR27)","v":""},null,null,null,null,{"$f":"IF(AW27=\"\",\"\",AW27)","v":""}]
[]
[]
[]
[null,"今回\n請求額",null,null,{"$f":"IF(E31=\"\",\"\",E31)","v":""},null,{"$f":"IF(G31=\"\",\"\",G31)","v":""},null,null,null,null,null,null,null,null,null,null,{"$f":"IF(R31=\"\",\"\",R31)","v":""},null,{"$f":"IF(T31=\"\",\"\",T31)","v":""},null,{"$f":"IF(V31=\"\",\"\",V31)","v":""},null,{"$f":"IF(X31=\"\",\"\",X31)","v":""},null,{"$f":"IF(Z31=\"\",\"\",Z31)","v":""},null,{"$f":"IF(AB31=\"\",\"\",AB31)","v":""},null,{"$f":"IF(AD31=\"\",\"\",AD31)","v":""},null,{"$f":"IF(AF31=\"\",\"\",AF31)","v":""},null,{"$f":"IF(AH31=\"\",\"\",AH31)","v":""},null,{"$f":"IF(AJ31=\"\",\"\",AJ31)","v":""},null,{"$f":"IF(AL31=\"\",\"\",AL31)","v":""},null,null,{"$f":"IF(AO31=\"\",\"\",AO31)","v":""},null,null,{"$f":"IF(AR31=\"\",\"\",AR31)","v":""},null,null,null,null,{"$f":"IF(AW31=\"\",\"\",AW31)","v":""}]
[]
[]
[]
[null,"差引残高",null,null,null,null,{"$f":"IF(G111=\"\",\"\",G111+G115-G119-G123)","v":""},null,null,null,null,null,null,null,null,null,null,{"$f":"IF(R35=\"\",\"\",R35)","v":""},null,{"$f":"IF(T35=\"\",\"\",T35)","v":""},null,{"$f":"IF(V35=\"\",\"\",V35)","v":""},null,{"$f":"IF(X35=\"\",\"\",X35)","v":""},null,{"$f":"IF(Z35=\"\",\"\",Z35)","v":""},null,{"$f":"IF(AB35=\"\",\"\",AB35)","v":""},null,{"$f":"IF(AD35=\"\",\"\",AD35)","v":""},null,{"$f":"IF(AF35=\"\",\"\",AF35)","v":""},null,{"$f":"IF(AH35=\"\",\"\",AH35)","v":""},null,{"$f":"IF(AJ35=\"\",\"\",AJ35)","v":""},null,{"$f":"IF(AL35=\"\",\"\",AL35)","v":""},null,null,{"$f":"IF(AO35=\"\",\"\",AO35)","v":""},null,null,{"$f":"IF(AR35=\"\",\"\",AR35)","v":""},null,null,null,null,{"$f":"IF(AW35=\"\",\"\",AW35)","v":""}]
[]
[]
[]
[null,null,null,null,null,null,null,null,null,null,null,null,null,null,null,null,null,{"$f":"IF(R39=\"\",\"\",R39)","v":""},null,{"$f":"IF(T39=\"\",\"\",T39)","v":""},null,{"$f":"IF(V39=\"\",\"\",V39)","v":""},null,{"$f":"IF(X39=\"\",\"\",X39)","v":""},null,{"$f":"IF(Z39=\"\",\"\",Z39)","v":""},null,{"$f":"IF(AB39=\"\",\"\",AB39)","v":""},null,{"$f":"IF(AD39=\"\",\"\",AD39)","v":""},null,{"$f":"IF(AF39=\"\",\"\",AF39)","v":""},null,{"$f":"IF(AH39=\"\",\"\",AH39)","v":""},null,{"$f":"IF(AJ39=\"\",\"\",AJ39)","v":""},null,{"$f":"IF(AL39=\"\",\"\",AL39)","v":""},null,null,{"$f":"IF(AO39=\"\",\"\",AO39)","v":""},null,null,{"$f":"IF(AR39=\"\",\"\",AR39)","v":""},null,null,null,null,{"$f":"IF(AW39=\"\",\"\",AW39)","v":""}]
[]
[]
[]
[null,null,null,null,null,null,null,null,null,null,null,null,null,null,null,null,null,{"$f":"IF(R43=\"\",\"\",R43)","v":""},null,{"$f":"IF(T43=\"\",\"\",T43)","v":""},null,{"$f":"IF(V43=\"\",\"\",V43)","v":""},null,{"$f":"IF(X43=\"\",\"\",X43)","v":""},null,{"$f":"IF(Z43=\"\",\"\",Z43)","v":""},null,{"$f":"IF(AB43=\"\",\"\",AB43)","v":""},null,{"$f":"IF(AD43=\"\",\"\",AD43)","v":""},null,{"$f":"IF(AF43=\"\",\"\",AF43)","v":""},null,{"$f":"IF(AH43=\"\",\"\",AH43)","v":""},null,{"$f":"IF(AJ43=\"\",\"\",AJ43)","v":""},null,{"$f":"IF(AL43=\"\",\"\",AL43)","v":""},null,null,{"$f":"IF(AO43=\"\",\"\",AO43)","v":""},null,null,{"$f":"IF(AR43=\"\",\"\",AR43)","v":""},null,null,null,null,{"$f":"IF(AW43=\"\",\"\",AW43)","v":""}]
[]
[]
[]
[null,null,null,null,null,null,null,null,null,null,null,null,null,null,null,null,null,{"$f":"IF(R47=\"\",\"\",R47)","v":""},null,{"$f":"IF(T47=\"\",\"\",T47)","v":""},null,{"$f":"IF(V47=\"\",\"\",V47)","v":""},null,{"$f":"IF(X47=\"\",\"\",X47)","v":""},null,{"$f":"IF(Z47=\"\",\"\",Z47)","v":""},null,{"$f":"IF(AB47=\"\",\"\",AB47)","v":""},null,{"$f":"IF(AD47=\"\",\"\",AD47)","v":""},null,{"$f":"IF(AF47=\"\",\"\",AF47)","v":""},null,{"$f":"IF(AH47=\"\",\"\",AH47)","v":""},null,{"$f":"IF(AJ47=\"\",\"\",AJ47)","v":""},null,{"$f":"IF(AL47=\"\",\"\",AL47)","v":""},null,null,{"$f":"IF(AO47=\"\",\"\",AO47)","v":""},null,null,{"$f":"IF(AR47=\"\",\"\",AR47)","v":""},null,null,null,null,{"$f":"IF(AW47=\"\",\"\",AW47)","v":""}]
[]
[]
[]
[null,null,null,null,null,null,null,null,null,null,null,null,null,null,null,null,null,{"$f":"IF(R51=\"\",\"\",R51)","v":""},null,{"$f":"IF(T51=\"\",\"\",T51)","v":""},null,{"$f":"IF(V51=\"\",\"\",V51)","v":""},null,{"$f":"IF(X51=\"\",\"\",X51)","v":""},null,{"$f":"IF(Z51=\"\",\"\",Z51)","v":""},null,{"$f":"IF(AB51=\"\",\"\",AB51)","v":""},null,{"$f":"IF(AD51=\"\",\"\",AD51)","v":""},null,{"$f":"IF(AF51=\"\",\"\",AF51)","v":""},null,{"$f":"IF(AH51=\"\",\"\",AH51)","v":""},null,{"$f":"IF(AJ51=\"\",\"\",AJ51)","v":""},null,{"$f":"IF(AL51=\"\",\"\",AL51)","v":""},null,null,{"$f":"IF(AO51=\"\",\"\",AO51)","v":""},null,null,{"$f":"IF(AR51=\"\",\"\",AR51)","v":""},null,null,null,null,{"$f":"IF(AW51=\"\",\"\",AW51)","v":""}]
[]
[]
[]
[null,null,null,null,null,null,null,null,null,null,null,null,null,null,null,null,null,{"$f":"IF(R55=\"\",\"\",R55)","v":""},null,{"$f":"IF(T55=\"\",\"\",T55)","v":""},null,{"$f":"IF(V55=\"\",\"\",V55)","v":""},null,{"$f":"IF(X55=\"\",\"\",X55)","v":""},null,{"$f":"IF(Z55=\"\",\"\",Z55)","v":""},null,{"$f":"IF(AB55=\"\",\"\",AB55)","v":""},null,{"$f":"IF(AD55=\"\",\"\",AD55)","v":""},null,{"$f":"IF(AF55=\"\",\"\",AF55)","v":""},null,{"$f":"IF(AH55=\"\",\"\",AH55)","v":""},null,{"$f":"IF(AJ55=\"\",\"\",AJ55)","v":""},null,{"$f":"IF(AL55=\"\",\"\",AL55)","v":""},null,null,{"$f":"IF(AO55=\"\",\"\",AO55)","v":""},null,null,{"$f":"IF(AR55=\"\",\"\",AR55)","v":""},null,null,null,null,{"$f":"IF(AW55=\"\",\"\",AW55)","v":""}]
[]
[]
[]
[null,null,null,null,null,null,null,null,null,null,null,null,null,null,null,null,null,{"$f":"IF(R59=\"\",\"\",R59)","v":""},null,{"$f":"IF(T59=\"\",\"\",T59)","v":""},null,{"$f":"IF(V59=\"\",\"\",V59)","v":""},null,{"$f":"IF(X59=\"\",\"\",X59)","v":""},null,{"$f":"IF(Z59=\"\",\"\",Z59)","v":""},null,{"$f":"IF(AB59=\"\",\"\",AB59)","v":""},null,{"$f":"IF(AD59=\"\",\"\",AD59)","v":""},null,{"$f":"IF(AF59=\"\",\"\",AF59)","v":""},null,{"$f":"IF(AH59=\"\",\"\",AH59)","v":""},null,{"$f":"IF(AJ59=\"\",\"\",AJ59)","v":""},null,{"$f":"IF(AL59=\"\",\"\",AL59)","v":""},null,null,{"$f":"IF(AO59=\"\",\"\",AO59)","v":""},null,null,{"$f":"IF(AR59=\"\",\"\",AR59)","v":""},null,null,null,null,{"$f":"IF(AW59=\"\",\"\",AW59)","v":""}]
[]
[]
[]
[null,null,null,null,null,null,null,null,null,null,null,null,null,null,null,null,null,{"$f":"IF(R63=\"\",\"\",R63)","v":""},null,{"$f":"IF(T63=\"\",\"\",T63)","v":""},null,{"$f":"IF(V63=\"\",\"\",V63)","v":""},null,{"$f":"IF(X63=\"\",\"\",X63)","v":""},null,{"$f":"IF(Z63=\"\",\"\",Z63)","v":""},null,{"$f":"IF(AB63=\"\",\"\",AB63)","v":""},null,{"$f":"IF(AD63=\"\",\"\",AD63)","v":""},null,{"$f":"IF(AF63=\"\",\"\",AF63)","v":""},null,{"$f":"IF(AH63=\"\",\"\",AH63)","v":""},null,{"$f":"IF(AJ63=\"\",\"\",AJ63)","v":""},null,{"$f":"IF(AL63=\"\",\"\",AL63)","v":""},null,null,{"$f":"IF(AO63=\"\",\"\",AO63)","v":""},null,null,{"$f":"IF(AR63=\"\",\"\",AR63)","v":""},null,null,null,null,{"$f":"IF(AW63=\"\",\"\",AW63)","v":""}]
[]
[]
[]
[null,null,null,null,null,null,null,null,null,null,null,null,null,null,null,null,null,{"$f":"IF(R67=\"\",\"\",R67)","v":""},null,{"$f":"IF(T67=\"\",\"\",T67)","v":""},null,{"$f":"IF(V67=\"\",\"\",V67)","v":""},null,{"$f":"IF(X67=\"\",\"\",X67)","v":""},null,{"$f":"IF(Z67=\"\",\"\",Z67)","v":""},null,{"$f":"IF(AB67=\"\",\"\",AB67)","v":""},null,{"$f":"IF(AD67=\"\",\"\",AD67)","v":""},null,{"$f":"IF(AF67=\"\",\"\",AF67)","v":""},null,{"$f":"IF(AH67=\"\",\"\",AH67)","v":""},null,{"$f":"IF(AJ67=\"\",\"\",AJ67)","v":""},null,{"$f":"IF(AL67=\"\",\"\",AL67)","v":""},null,null,{"$f":"IF(AO67=\"\",\"\",AO67)","v":""},null,null,{"$f":"IF(AR67=\"\",\"\",AR67)","v":""},null,null,null,null,{"$f":"IF(AW67=\"\",\"\",AW67)","v":""}]
[]
[]
[]
[null,null,null,null,null,null,null,null,null,null,null,null,null,null,null,null,null,{"$f":"IF(R71=\"\",\"\",R71)","v":""},null,{"$f":"IF(T71=\"\",\"\",T71)","v":""},null,{"$f":"IF(V71=\"\",\"\",V71)","v":""},null,{"$f":"IF(X71=\"\",\"\",X71)","v":""},null,{"$f":"IF(Z71=\"\",\"\",Z71)","v":""},null,{"$f":"IF(AB71=\"\",\"\",AB71)","v":""},null,{"$f":"IF(AD71=\"\",\"\",AD71)","v":""},null,{"$f":"IF(AF71=\"\",\"\",AF71)","v":""},null,{"$f":"IF(AH71=\"\",\"\",AH71)","v":""},null,{"$f":"IF(AJ71=\"\",\"\",AJ71)","v":""},null,{"$f":"IF(AL71=\"\",\"\",AL71)","v":""},null,null,{"$f":"IF(AO71=\"\",\"\",AO71)","v":""},null,null,{"$f":"IF(AR71=\"\",\"\",AR71)","v":""},null,null,null,null,{"$f":"IF(AW71=\"\",\"\",AW71)","v":""}]
[]
[]
[]
[null,null,null,null,null,null,null,null,null,null,null,null,null,null,null,null,null,{"$f":"IF(R75=\"\",\"\",R75)","v":""},null,{"$f":"IF(T75=\"\",\"\",T75)","v":""},null,{"$f":"IF(V75=\"\",\"\",V75)","v":""},null,{"$f":"IF(X75=\"\",\"\",X75)","v":""},null,{"$f":"IF(Z75=\"\",\"\",Z75)","v":""},null,{"$f":"IF(AB75=\"\",\"\",AB75)","v":""},null,{"$f":"IF(AD75=\"\",\"\",AD75)","v":""},null,{"$f":"IF(AF75=\"\",\"\",AF75)","v":""},null,{"$f":"IF(AH75=\"\",\"\",AH75)","v":""},null,{"$f":"IF(AJ75=\"\",\"\",AJ75)","v":""},null,{"$f":"IF(AL75=\"\",\"\",AL75)","v":""},null,null,{"$f":"IF(AO75=\"\",\"\",AO75)","v":""},null,null,{"$f":"IF(AR75=\"\",\"\",AR75)","v":""},null,null,null,null,{"$f":"IF(AW75=\"\",\"\",AW75)","v":""}]
[]
[]
[]
[null,null,null,null,null,null,null,null,null,null,null,null,null,null,null,null,null,{"$f":"IF(R79=\"\",\"\",R79)","v":""},null,{"$f":"IF(T79=\"\",\"\",T79)","v":""},null,{"$f":"IF(V79=\"\",\"\",V79)","v":""},null,{"$f":"IF(X79=\"\",\"\",X79)","v":""},null,{"$f":"IF(Z79=\"\",\"\",Z79)","v":""},null,{"$f":"IF(AB79=\"\",\"\",AB79)","v":""},null,{"$f":"IF(AD79=\"\",\"\",AD79)","v":""},null,{"$f":"IF(AF79=\"\",\"\",AF79)","v":""},null,{"$f":"IF(AH79=\"\",\"\",AH79)","v":""},null,{"$f":"IF(AJ79=\"\",\"\",AJ79)","v":""},null,{"$f":"IF(AL79=\"\",\"\",AL79)","v":""},null,null,{"$f":"IF(AO79=\"\",\"\",AO79)","v":""},null,null,{"$f":"IF(AR79=\"\",\"\",AR79)","v":""},null,null,null,null,{"$f":"IF(AW79=\"\",\"\",AW79)","v":""}]
[]
[]
[]
[null,null,null,null,null,null,null,null,null,null,null,null,null,null,null,null,null,null,null,null,null,null,null,null,null,null,null,null,null,null,null,null,null,null,null,null,null,{"$f":"AL83","v":"金額(税抜)"},null,null,null,null,null,null,null,null,null,null,{"$f":"AW83","v":""}]
[]
[]
[]
[]
[null,null,null,null,null,null,null,null,null,null,null,null,null,null,null,null,null,null,null,null,null,null,null,null,null,null,null,null,null,null,null,null,null,null,null,null,null,{"$f":"AL88","v":"消費税"},null,null,null,null,null,"税率",null,null,"税調",null,{"$f":"AW88","v":""}]
[]
[null,null,null,null,null,null,null,null,null,null,null,null,null,null,null,null,null,null,null,null,null,null,null,null,null,null,null,null,null,null,null,null,null,null,null,null,null,null,null,null,null,null,null,{"$f":"AR90","v":0},null,{"$f":"AT90","v":""}]
[]
[]
[]
[null,null,null,null,null,null,null,null,null,null,null,null,null,null,null,null,null,null,null,"請求明細書 (貴社控)"]
[null,"株 式 会 社 種 村 建 設",null,null,null,null,null,null,null,null,null,null,"御中"]
[null,null,null,null,null,null,null,null,null,null,null,null,null,null,null,null,null,null,null,null,null,null,null,null,null,null,null,null,null,null,null,null,null,null,null,null,null,null,null,null,"請求年月日",null,null,null,null,{"$f":"IF(AT4=\"\",\"\",AT4)","v":""},null,null,null,{"$f":"IF(AX96=\"\",\"\",AX96)","v":""},null,null,{"$f":"IF(BA96=\"\",\"\",BA96)","v":""}]
[]
[]
[]
[]
[null,"工事番号",null,null,null,null,{"$f":"IF(G101=\"\",\"\",G101)","v":""},null,null,null,null,null,"工事名",null,null,null,{"$f":"IF(Q101=\"\",\"\",Q101)","v":""},null,null,null,null,null,null,null,null,null,null,null,null,null,null,null,null,null,null,null,null,"業者名",null,null,null,{"$f":"IF(AP101=\"\",\"\",AP101)","v":""}]
[]
[]
[]
[]
[]
[null,"注文番号",null,null,null,null,{"$f":"IF(G107=\"\",\"\",G107)","v":""},null,null,null,null,null,null,null,null,null,null,"月　日",null,null,null,"品　名・内　訳",null,null,null,null,null,null,null,null,null,null,null,null,null,null,null,"数 量",null,null,"単位",null,null,"単価",null,null,null,null,{"$f":"AW15","v":"金額(税抜)"}]
[]
[]
[]
[null,"契約金額",null,null,null,null,{"$f":"IF(G111=\"\",\"\",G111)","v":""},null,null,null,null,null,null,null,null,null,null,{"$f":"IF(R111=\"\",\"\",R111)","v":""},null,{"$f":"IF(T111=\"\",\"\",T111)","v":""},null,{"$f":"IF(V111=\"\",\"\",V111)","v":""},null,{"$f":"IF(X111=\"\",\"\",X111)","v":""},null,{"$f":"IF(Z111=\"\",\"\",Z111)","v":""},null,{"$f":"IF(AB111=\"\",\"\",AB111)","v":""},null,{"$f":"IF(AD111=\"\",\"\",AD111)","v":""},null,{"$f":"IF(AF111=\"\",\"\",AF111)","v":""},null,{"$f":"IF(AH111=\"\",\"\",AH111)","v":""},null,{"$f":"IF(AJ111=\"\",\"\",AJ111)","v":""},null,{"$f":"IF(AL111=\"\",\"\",AL111)","v":""},null,null,{"$f":"IF(AO111=\"\",\"\",AO111)","v":""},null,null,{"$f":"IF(AR111=\"\",\"\",AR111)","v":""},null,null,null,null,{"$f":"IF(AW111=\"\",\"\",AW111)","v":""}]
[]
[]
[]
[null,"増減額",null,null,null,null,{"$f":"IF(G115=\"\",\"\",G115)","v":""},null,null,null,null,null,null,null,null,null,null,{"$f":"IF(R115=\"\",\"\",R115)","v":""},null,{"$f":"IF(T115=\"\",\"\",T115)","v":""},null,{"$f":"IF(V115=\"\",\"\",V115)","v":""},null,{"$f":"IF(X115=\"\",\"\",X115)","v":""},null,{"$f":"IF(Z115=\"\",\"\",Z115)","v":""},null,{"$f":"IF(AB115=\"\",\"\",AB115)","v":""},null,{"$f":"IF(AD115=\"\",\"\",AD115)","v":""},null,{"$f":"IF(AF115=\"\",\"\",AF115)","v":""},null,{"$f":"IF(AH115=\"\",\"\",AH115)","v":""},null,{"$f":"IF(AJ115=\"\",\"\",AJ115)","v":""},null,{"$f":"IF(AL115=\"\",\"\",AL115)","v":""},null,null,{"$f":"IF(AO115=\"\",\"\",AO115)","v":""},null,null,{"$f":"IF(AR115=\"\",\"\",AR115)","v":""},null,null,null,null,{"$f":"IF(AW115=\"\",\"\",AW115)","v":""}]
[]
[]
[]
[null,"前回までの\n請求額",null,null,null,null,{"$f":"IF(G119=\"\",\"\",G119)","v":""},null,null,null,null,null,null,null,null,null,null,{"$f":"IF(R119=\"\",\"\",R119)","v":""},null,{"$f":"IF(T119=\"\",\"\",T119)","v":""},null,{"$f":"IF(V119=\"\",\"\",V119)","v":""},null,{"$f":"IF(X119=\"\",\"\",X119)","v":""},null,{"$f":"IF(Z119=\"\",\"\",Z119)","v":""},null,{"$f":"IF(AB119=\"\",\"\",AB119)","v":""},null,{"$f":"IF(AD119=\"\",\"\",AD119)","v":""},null,{"$f":"IF(AF119=\"\",\"\",AF119)","v":""},null,{"$f":"IF(AH119=\"\",\"\",AH119)","v":""},null,{"$f":"IF(AJ119=\"\",\"\",AJ119)","v":""},null,{"$f":"IF(AL119=\"\",\"\",AL119)","v":""},null,null,{"$f":"IF(AO119=\"\",\"\",AO119)","v":""},null,null,{"$f":"IF(AR119=\"\",\"\",AR119)","v":""},null,null,null,null,{"$f":"IF(AW119=\"\",\"\",AW119)","v":""}]
[]
[]
[]
[null,"今回\n請求額",null,null,{"$f":"IF(E31=\"\",\"\",E31)","v":""},null,{"$f":"IF(G123=\"\",\"\",G123)","v":""},null,null,null,null,null,null,null,null,null,null,{"$f":"IF(R123=\"\",\"\",R123)","v":""},null,{"$f":"IF(T123=\"\",\"\",T123)","v":""},null,{"$f":"IF(V123=\"\",\"\",V123)","v":""},null,{"$f":"IF(X123=\"\",\"\",X123)","v":""},null,{"$f":"IF(Z123=\"\",\"\",Z123)","v":""},null,{"$f":"IF(AB123=\"\",\"\",AB123)","v":""},null,{"$f":"IF(AD123=\"\",\"\",AD123)","v":""},null,{"$f":"IF(AF123=\"\",\"\",AF123)","v":""},null,{"$f":"IF(AH123=\"\",\"\",AH123)","v":""},null,{"$f":"IF(AJ123=\"\",\"\",AJ123)","v":""},null,{"$f":"IF(AL123=\"\",\"\",AL123)","v":""},null,null,{"$f":"IF(AO123=\"\",\"\",AO123)","v":""},null,null,{"$f":"IF(AR123=\"\",\"\",AR123)","v":""},null,null,null,null,{"$f":"IF(AW123=\"\",\"\",AW123)","v":""}]
[]
[]
[]
[null,"差引残高",null,null,null,null,{"$f":"IF(G203=\"\",\"\",G203+G207-G211-G215)","v":""},null,null,null,null,null,null,null,null,null,null,{"$f":"IF(R127=\"\",\"\",R127)","v":""},null,{"$f":"IF(T127=\"\",\"\",T127)","v":""},null,{"$f":"IF(V127=\"\",\"\",V127)","v":""},null,{"$f":"IF(X127=\"\",\"\",X127)","v":""},null,{"$f":"IF(Z127=\"\",\"\",Z127)","v":""},null,{"$f":"IF(AB127=\"\",\"\",AB127)","v":""},null,{"$f":"IF(AD127=\"\",\"\",AD127)","v":""},null,{"$f":"IF(AF127=\"\",\"\",AF127)","v":""},null,{"$f":"IF(AH127=\"\",\"\",AH127)","v":""},null,{"$f":"IF(AJ127=\"\",\"\",AJ127)","v":""},null,{"$f":"IF(AL127=\"\",\"\",AL127)","v":""},null,null,{"$f":"IF(AO127=\"\",\"\",AO127)","v":""},null,null,{"$f":"IF(AR127=\"\",\"\",AR127)","v":""},null,null,null,null,{"$f":"IF(AW127=\"\",\"\",AW127)","v":""}]
[]
[]
[]
[null,null,null,null,null,null,null,null,null,null,null,null,null,null,null,null,null,{"$f":"IF(R131=\"\",\"\",R131)","v":""},null,{"$f":"IF(T131=\"\",\"\",T131)","v":""},null,{"$f":"IF(V131=\"\",\"\",V131)","v":""},null,{"$f":"IF(X131=\"\",\"\",X131)","v":""},null,{"$f":"IF(Z131=\"\",\"\",Z131)","v":""},null,{"$f":"IF(AB131=\"\",\"\",AB131)","v":""},null,{"$f":"IF(AD131=\"\",\"\",AD131)","v":""},null,{"$f":"IF(AF131=\"\",\"\",AF131)","v":""},null,{"$f":"IF(AH131=\"\",\"\",AH131)","v":""},null,{"$f":"IF(AJ131=\"\",\"\",AJ131)","v":""},null,{"$f":"IF(AL131=\"\",\"\",AL131)","v":""},null,null,{"$f":"IF(AO131=\"\",\"\",AO131)","v":""},null,null,{"$f":"IF(AR131=\"\",\"\",AR131)","v":""},null,null,null,null,{"$f":"IF(AW131=\"\",\"\",AW131)","v":""}]
[]
[]
[]
[null,null,null,null,null,null,null,null,null,null,null,null,null,null,null,null,null,{"$f":"IF(R135=\"\",\"\",R135)","v":""},null,{"$f":"IF(T135=\"\",\"\",T135)","v":""},null,{"$f":"IF(V135=\"\",\"\",V135)","v":""},null,{"$f":"IF(X135=\"\",\"\",X135)","v":""},null,{"$f":"IF(Z135=\"\",\"\",Z135)","v":""},null,{"$f":"IF(AB135=\"\",\"\",AB135)","v":""},null,{"$f":"IF(AD135=\"\",\"\",AD135)","v":""},null,{"$f":"IF(AF135=\"\",\"\",AF135)","v":""},null,{"$f":"IF(AH135=\"\",\"\",AH135)","v":""},null,{"$f":"IF(AJ135=\"\",\"\",AJ135)","v":""},null,{"$f":"IF(AL135=\"\",\"\",AL135)","v":""},null,null,{"$f":"IF(AO135=\"\",\"\",AO135)","v":""},null,null,{"$f":"IF(AR135=\"\",\"\",AR135)","v":""},null,null,null,null,{"$f":"IF(AW135=\"\",\"\",AW135)","v":""}]
[]
[]
[]
[null,null,null,null,null,null,null,null,null,null,null,null,null,null,null,null,null,{"$f":"IF(R139=\"\",\"\",R139)","v":""},null,{"$f":"IF(T139=\"\",\"\",T139)","v":""},null,{"$f":"IF(V139=\"\",\"\",V139)","v":""},null,{"$f":"IF(X139=\"\",\"\",X139)","v":""},null,{"$f":"IF(Z139=\"\",\"\",Z139)","v":""},null,{"$f":"IF(AB139=\"\",\"\",AB139)","v":""},null,{"$f":"IF(AD139=\"\",\"\",AD139)","v":""},null,{"$f":"IF(AF139=\"\",\"\",AF139)","v":""},null,{"$f":"IF(AH139=\"\",\"\",AH139)","v":""},null,{"$f":"IF(AJ139=\"\",\"\",AJ139)","v":""},null,{"$f":"IF(AL139=\"\",\"\",AL139)","v":""},null,null,{"$f":"IF(AO139=\"\",\"\",AO139)","v":""},null,null,{"$f":"IF(AR139=\"\",\"\",AR139)","v":""},null,null,null,null,{"$f":"IF(AW139=\"\",\"\",AW139)","v":""}]
[]
[]
[]
[null,null,null,null,null,null,null,null,null,null,null,null,null,null,null,null,null,{"$f":"IF(R143=\"\",\"\",R143)","v":""},null,{"$f":"IF(T143=\"\",\"\",T143)","v":""},null,{"$f":"IF(V143=\"\",\"\",V143)","v":""},null,{"$f":"IF(X143=\"\",\"\",X143)","v":""},null,{"$f":"IF(Z143=\"\",\"\",Z143)","v":""},null,{"$f":"IF(AB143=\"\",\"\",AB143)","v":""},null,{"$f":"IF(AD143=\"\",\"\",AD143)","v":""},null,{"$f":"IF(AF143=\"\",\"\",AF143)","v":""},null,{"$f":"IF(AH143=\"\",\"\",AH143)","v":""},null,{"$f":"IF(AJ143=\"\",\"\",AJ143)","v":""},null,{"$f":"IF(AL143=\"\",\"\",AL143)","v":""},null,null,{"$f":"IF(AO143=\"\",\"\",AO143)","v":""},null,null,{"$f":"IF(AR143=\"\",\"\",AR143)","v":""},null,null,null,null,{"$f":"IF(AW143=\"\",\"\",AW143)","v":""}]
[]
[]
[]
[null,null,null,null,null,null,null,null,null,null,null,null,null,null,null,null,null,{"$f":"IF(R147=\"\",\"\",R147)","v":""},null,{"$f":"IF(T147=\"\",\"\",T147)","v":""},null,{"$f":"IF(V147=\"\",\"\",V147)","v":""},null,{"$f":"IF(X147=\"\",\"\",X147)","v":""},null,{"$f":"IF(Z147=\"\",\"\",Z147)","v":""},null,{"$f":"IF(AB147=\"\",\"\",AB147)","v":""},null,{"$f":"IF(AD147=\"\",\"\",AD147)","v":""},null,{"$f":"IF(AF147=\"\",\"\",AF147)","v":""},null,{"$f":"IF(AH147=\"\",\"\",AH147)","v":""},null,{"$f":"IF(AJ147=\"\",\"\",AJ147)","v":""},null,{"$f":"IF(AL147=\"\",\"\",AL147)","v":""},null,null,{"$f":"IF(AO147=\"\",\"\",AO147)","v":""},null,null,{"$f":"IF(AR147=\"\",\"\",AR147)","v":""},null,null,null,null,{"$f":"IF(AW147=\"\",\"\",AW147)","v":""}]
[]
[]
[]
[null,null,null,null,null,null,null,null,null,null,null,null,null,null,null,null,null,{"$f":"IF(R151=\"\",\"\",R151)","v":""},null,{"$f":"IF(T151=\"\",\"\",T151)","v":""},null,{"$f":"IF(V151=\"\",\"\",V151)","v":""},null,{"$f":"IF(X151=\"\",\"\",X151)","v":""},null,{"$f":"IF(Z151=\"\",\"\",Z151)","v":""},null,{"$f":"IF(AB151=\"\",\"\",AB151)","v":""},null,{"$f":"IF(AD151=\"\",\"\",AD151)","v":""},null,{"$f":"IF(AF151=\"\",\"\",AF151)","v":""},null,{"$f":"IF(AH151=\"\",\"\",AH151)","v":""},null,{"$f":"IF(AJ151=\"\",\"\",AJ151)","v":""},null,{"$f":"IF(AL151=\"\",\"\",AL151)","v":""},null,null,{"$f":"IF(AO151=\"\",\"\",AO151)","v":""},null,null,{"$f":"IF(AR151=\"\",\"\",AR151)","v":""},null,null,null,null,{"$f":"IF(AW151=\"\",\"\",AW151)","v":""}]
[]
[]
[]
[null,null,null,null,null,null,null,null,null,null,null,null,null,null,null,null,null,{"$f":"IF(R155=\"\",\"\",R155)","v":""},null,{"$f":"IF(T155=\"\",\"\",T155)","v":""},null,{"$f":"IF(V155=\"\",\"\",V155)","v":""},null,{"$f":"IF(X155=\"\",\"\",X155)","v":""},null,{"$f":"IF(Z155=\"\",\"\",Z155)","v":""},null,{"$f":"IF(AB155=\"\",\"\",AB155)","v":""},null,{"$f":"IF(AD155=\"\",\"\",AD155)","v":""},null,{"$f":"IF(AF155=\"\",\"\",AF155)","v":""},null,{"$f":"IF(AH155=\"\",\"\",AH155)","v":""},null,{"$f":"IF(AJ155=\"\",\"\",AJ155)","v":""},null,{"$f":"IF(AL155=\"\",\"\",AL155)","v":""},null,null,{"$f":"IF(AO155=\"\",\"\",AO155)","v":""},null,null,{"$f":"IF(AR155=\"\",\"\",AR155)","v":""},null,null,null,null,{"$f":"IF(AW155=\"\",\"\",AW155)","v":""}]
[]
[]
[]
[null,null,null,null,null,null,null,null,null,null,null,null,null,null,null,null,null,{"$f":"IF(R159=\"\",\"\",R159)","v":""},null,{"$f":"IF(T159=\"\",\"\",T159)","v":""},null,{"$f":"IF(V159=\"\",\"\",V159)","v":""},null,{"$f":"IF(X159=\"\",\"\",X159)","v":""},null,{"$f":"IF(Z159=\"\",\"\",Z159)","v":""},null,{"$f":"IF(AB159=\"\",\"\",AB159)","v":""},null,{"$f":"IF(AD159=\"\",\"\",AD159)","v":""},null,{"$f":"IF(AF159=\"\",\"\",AF159)","v":""},null,{"$f":"IF(AH159=\"\",\"\",AH159)","v":""},null,{"$f":"IF(AJ159=\"\",\"\",AJ159)","v":""},null,{"$f":"IF(AL159=\"\",\"\",AL159)","v":""},null,null,{"$f":"IF(AO159=\"\",\"\",AO159)","v":""},null,null,{"$f":"IF(AR159=\"\",\"\",AR159)","v":""},null,null,null,null,{"$f":"IF(AW159=\"\",\"\",AW159)","v":""}]
[]
[]
[]
[null,null,null,null,null,null,null,null,null,null,null,null,null,null,null,null,null,{"$f":"IF(R163=\"\",\"\",R163)","v":""},null,{"$f":"IF(T163=\"\",\"\",T163)","v":""},null,{"$f":"IF(V163=\"\",\"\",V163)","v":""},null,{"$f":"IF(X163=\"\",\"\",X163)","v":""},null,{"$f":"IF(Z163=\"\",\"\",Z163)","v":""},null,{"$f":"IF(AB163=\"\",\"\",AB163)","v":""},null,{"$f":"IF(AD163=\"\",\"\",AD163)","v":""},null,{"$f":"IF(AF163=\"\",\"\",AF163)","v":""},null,{"$f":"IF(AH163=\"\",\"\",AH163)","v":""},null,{"$f":"IF(AJ163=\"\",\"\",AJ163)","v":""},null,{"$f":"IF(AL163=\"\",\"\",AL163)","v":""},null,null,{"$f":"IF(AO163=\"\",\"\",AO163)","v":""},null,null,{"$f":"IF(AR163=\"\",\"\",AR163)","v":""},null,null,null,null,{"$f":"IF(AW163=\"\",\"\",AW163)","v":""}]
[]
[]
[]
[null,null,null,null,null,null,null,null,null,null,null,null,null,null,null,null,null,{"$f":"IF(R167=\"\",\"\",R167)","v":""},null,{"$f":"IF(T167=\"\",\"\",T167)","v":""},null,{"$f":"IF(V167=\"\",\"\",V167)","v":""},null,{"$f":"IF(X167=\"\",\"\",X167)","v":""},null,{"$f":"IF(Z167=\"\",\"\",Z167)","v":""},null,{"$f":"IF(AB167=\"\",\"\",AB167)","v":""},null,{"$f":"IF(AD167=\"\",\"\",AD167)","v":""},null,{"$f":"IF(AF167=\"\",\"\",AF167)","v":""},null,{"$f":"IF(AH167=\"\",\"\",AH167)","v":""},null,{"$f":"IF(AJ167=\"\",\"\",AJ167)","v":""},null,{"$f":"IF(AL167=\"\",\"\",AL167)","v":""},null,null,{"$f":"IF(AO167=\"\",\"\",AO167)","v":""},null,null,{"$f":"IF(AR167=\"\",\"\",AR167)","v":""},null,null,null,null,{"$f":"IF(AW167=\"\",\"\",AW167)","v":""}]
[]
[]
[]
[null,null,null,null,null,null,null,null,null,null,null,null,null,null,null,null,null,{"$f":"IF(R171=\"\",\"\",R171)","v":""},null,{"$f":"IF(T171=\"\",\"\",T171)","v":""},null,{"$f":"IF(V171=\"\",\"\",V171)","v":""},null,{"$f":"IF(X171=\"\",\"\",X171)","v":""},null,{"$f":"IF(Z171=\"\",\"\",Z171)","v":""},null,{"$f":"IF(AB171=\"\",\"\",AB171)","v":""},null,{"$f":"IF(AD171=\"\",\"\",AD171)","v":""},null,{"$f":"IF(AF171=\"\",\"\",AF171)","v":""},null,{"$f":"IF(AH171=\"\",\"\",AH171)","v":""},null,{"$f":"IF(AJ171=\"\",\"\",AJ171)","v":""},null,{"$f":"IF(AL171=\"\",\"\",AL171)","v":""},null,null,{"$f":"IF(AO171=\"\",\"\",AO171)","v":""},null,null,{"$f":"IF(AR171=\"\",\"\",AR171)","v":""},null,null,null,null,{"$f":"IF(AW171=\"\",\"\",AW171)","v":""}]
[]
[]
[]
[null,null,null,null,null,null,null,null,null,null,null,null,null,null,null,null,null,null,null,null,null,null,null,null,null,null,null,null,null,null,null,null,null,null,null,null,null,{"$f":"AL175","v":"金額(税抜)"},null,null,null,null,null,null,null,null,null,null,{"$f":"AW83","v":""}]
[]
[]
[]
[]
[null,null,null,null,null,null,null,null,null,null,null,null,null,null,null,null,null,null,null,null,null,null,null,null,null,null,null,null,null,null,null,null,null,null,null,null,null,{"$f":"AL180","v":"消費税"},null,null,null,null,null,"税率",null,null,"税調",null,{"$f":"AW88","v":""}]
[]
[null,null,null,null,null,null,null,null,null,null,null,null,null,null,null,null,null,null,null,null,null,null,null,null,null,null,null,null,null,null,null,null,null,null,null,null,null,null,null,null,null,null,null,{"$f":"AR90","v":0},null,{"$f":"AT90","v":""}]

{"sheet":"細3-2","index":29,"n_rows":274,"n_cols":53,"rows_kept":274,"cut":false,"hidden":false,"merged":[[266,37,269,47],[266,48,269,54],[271,48,274,54],[258,48,261,54],[262,17,265,18],[262,19,265,20],[262,21,265,36],[262,37,265,39],[262,40,265,42],[262,43,265,47],[262,48,265,54],[258,17,261,18],[258,19,261,20],[258,21,261,36],[258,37,261,39],[258,40,261,42],[258,43,261,47],[271,37,274,42],[271,43,272,45],[273,43,274,44],[273,45,274,45],[273,46,274,47],[271,46,272,47],[250,48,253,54],[254,17,257,18],[254,19,257,20],[254,21,257,36],[254,37,257,39],[254,40,257,42],[254,43,257,47],[254,48,257,54],[250,17,253,18],[250,19,253,20],[250,21,253,36],[250,37,253,39],[250,40,253,42],[250,43,253,47],[242,48,245,54],[246,17,249,18],[246,19,249,20],[246,21,249,36],[246,37,249,39],[246,40,249,42],[246,43,249,47],[246,48,249,54],[242,17,245,18],[242,19,245,20],[242,21,245,36],[242,37,245,39],[242,40,245,42],[242,43,245,47],[234,48,237,54],[238,17,241,18],[238,19,241,20],[238,21,241,36],[238,37,241,39],[238,40,241,42],[238,43,241,47],[238,48,241,54],[234,17,237,18],[234,19,237,20],[234,21,237,36],[234,37,237,39],[234,40,237,42],[234,43,237,47],[222,17,225,18],[222,19,225,20],[222,21,225,36],[222,37,225,39],[222,40,225,42],[222,43,225,47],[222,48,225,54],[226,48,229,54],[230,17,233,18],[230,19,233,20],[230,21,233,36],[230,37,233,39],[230,40,233,42],[230,43,233,47],[230,48,233,54],[226,17,229,18],[226,19,229,20],[226,21,229,36],[226,37,229,39],[226,40,229,42],[226,43,229,47],[218,1,221,5],[218,6,221,15],[218,17,221,18],[218,19,221,20],[218,21,221,36],[218,37,221,39],[218,40,221,42],[218,43,221,47],[218,48,221,54],[210,40,213,42],[210,43,213,47],[210,48,213,54],[214,1,217,3],[214,4,217,5],[214,6,217,15],[214,17,217,18],[214,19,217,20],[214,21,217,36],[214,37,217,39],[210,1,213,5],[210,6,213,15],[210,17,213,18],[210,19,213,20],[210,21,213,36],[210,37,213,39],[214,40,217,42],[214,43,217,47],[214,48,217,54],[206,1,209,5],[206,6,209,15],[206,17,209,18],[206,19,209,20],[206,21,209,36],[206,37,209,39],[206,40,209,42],[206,43,209,47],[206,48,209,54],[198,43,201,47],[198,48,201,54],[202,1,205,5],[202,6,205,15],[202,17,205,18],[202,19,205,20],[202,21,205,36],[202,37,205,39],[202,40,205,42],[202,43,205,47],[198,1,201,5],[198,6,201,15],[198,17,201,20],[198,21,201,36],[198,37,201,39],[198,40,201,42],[202,48,205,54],[187,52,189,54],[192,1,195,5],[192,6,195,11],[192,12,195,15],[192,16,195,35],[192,37,195,40],[192,41,195,54],[174,37,177,47],[174,48,177,54],[179,48,182,54],[185,19,188,32],[186,1,189,11],[186,12,189,13],[187,40,189,44],[187,45,189,48],[187,49,189,51],[179,37,182,42],[179,43,180,45],[179,46,180,47],[181,43,182,44],[181,45,182,45],[181,46,182,47],[166,48,169,54],[170,17,173,18],[170,19,173,20],[170,21,173,36],[170,37,173,39],[170,40,173,42],[170,43,173,47],[170,48,173,54],[166,17,169,18],[166,19,169,20],[166,21,169,36],[166,37,169,39],[166,40,169,42],[166,43,169,47],[158,48,161,54],[162,17,165,18],[162,19,165,20],[162,21,165,36],[162,37,165,39],[162,40,165,42],[162,43,165,47],[162,48,165,54],[158,17,161,18],[158,19,161,20],[158,21,161,36],[158,37,161,39],[158,40,161,42],[158,43,161,47],[150,48,153,54],[154,17,157,18],[154,19,157,20],[154,21,157,36],[154,37,157,39],[154,40,157,42],[154,43,157,47],[154,48,157,54],[150,17,153,18],[150,19,153,20],[150,21,153,36],[150,37,153,39],[150,40,153,42],[150,43,153,47],[142,48,145,54],[146,17,149,18],[146,19,149,20],[146,21,149,36],[146,37,149,39],[146,40,149,42],[146,43,149,47],[146,48,149,54],[142,17,145,18],[142,19,145,20],[142,21,145,36],[142,37,145,39],[142,40,145,42],[142,43,145,47],[130,17,133,18],[130,19,133,20],[130,21,133,36],[130,37,133,39],[130,40,133,42],[130,43,133,47],[130,48,133,54],[134,48,137,54],[138,17,141,18],[138,19,141,20],[138,21,141,36],[138,37,141,39],[138,40,141,42],[138,43,141,47],[138,48,141,54],[134,17,137,18],[134,19,137,20],[134,21,137,36],[134,37,137,39],[134,40,137,42],[134,43,137,47],[126,1,129,5],[126,6,129,15],[126,17,129,18],[126,19,129,20],[126,21,129,36],[126,37,129,39],[126,40,129,42],[126,43,129,47],[126,48,129,54],[118,40,121,42],[118,43,121,47],[118,48,121,54],[122,1,125,3],[122,4,125,5],[122,6,125,15],[122,17,125,18],[122,19,125,20],[122,21,125,36],[122,37,125,39],[118,1,121,5],[118,6,121,15],[118,17,121,18],[118,19,121,20],[118,21,121,36],[118,37,121,39],[122,40,125,42],[122,43,125,47],[122,48,125,54],[114,1,117,5],[114,6,117,15],[114,17,117,18],[114,19,117,20],[114,21,117,36],[114,37,117,39],[114,40,117,42],[114,43,117,47],[114,48,117,54],[106,43,109,47],[106,48,109,54],[110,1,113,5],[110,6,113,15],[110,17,113,18],[110,19,113,20],[110,21,113,36],[110,37,113,39],[110,40,113,42],[110,43,113,47],[106,1,109,5],[106,6,109,15],[106,17,109,20],[106,21,109,36],[106,37,109,39],[106,40,109,42],[110,48,113,54],[95,52,97,54],[100,1,103,5],[100,6,103,11],[100,12,103,15],[100,16,103,35],[100,37,103,40],[100,41,103,54],[93,19,96,32],[94,1,97,11],[94,12,97,13],[95,40,97,44],[95,45,97,48],[95,49,97,51],[85,11,90,16],[85,17,90,25],[85,26,90,30],[85,31,90,35],[87,48,90,54],[82,37,85,47],[82,48,85,54],[83,1,84,4],[83,5,84,10],[83,11,84,16],[83,17,84,25],[83,26,84,30],[83,31,84,35],[85,1,90,4],[85,5,90,10],[87,37,90,42],[87,43,88,45],[89,43,90,44],[89,45,90,45],[89,46,90,47],[87,46,88,47],[74,48,77,54],[78,17,81,18],[78,19,81,20],[78,21,81,36],[78,37,81,39],[78,40,81,42],[78,43,81,47],[78,48,81,54],[74,17,77,18],[74,19,77,20],[74,21,77,36],[74,37,77,39],[74,40,77,42],[74,43,77,47],[66,48,69,54],[70,17,73,18],[70,19,73,20],[70,21,73,36],[70,37,73,39],[70,40,73,42],[70,43,73,47],[70,48,73,54],[66,17,69,18],[66,19,69,20],[66,21,69,36],[66,37,69,39],[66,40,69,42],[66,43,69,47],[58,48,61,54],[62,17,65,18],[62,19,65,20],[62,21,65,36],[62,37,65,39],[62,40,65,42],[62,43,65,47],[62,48,65,54],[58,17,61,18],[58,19,61,20],[58,21,61,36],[58,37,61,39],[58,40,61,42],[58,43,61,47],[50,48,53,54],[54,17,57,18],[54,19,57,20],[54,21,57,36],[54,37,57,39],[54,40,57,42],[54,43,57,47],[54,48,57,54],[50,17,53,18],[50,19,53,20],[50,21,53,36],[50,37,53,39],[50,40,53,42],[50,43,53,47],[38,17,41,18],[38,19,41,20],[38,21,41,36],[38,37,41,39],[38,40,41,42],[38,43,41,47],[38,48,41,54],[42,48,45,54],[46,17,49,18],[46,19,49,20],[46,21,49,36],[46,37,49,39],[46,40,49,42],[46,43,49,47],[46,48,49,54],[42,17,45,18],[42,19,45,20],[42,21,45,36],[42,37,45,39],[42,40,45,42],[42,43,45,47],[34,1,37,5],[34,6,37,15],[34,17,37,18],[34,19,37,20],[34,21,37,36],[34,37,37,39],[34,40,37,42],[34,43,37,47],[34,48,37,54],[26,40,29,42],[26,43,29,47],[26,48,29,54],[30,1,33,3],[30,4,33,5],[30,6,33,15],[30,17,33,18],[30,19,33,20],[30,21,33,36],[30,37,33,39],[26,1,29,5],[26,6,29,15],[26,17,29,18],[26,19,29,20],[26,21,29,36],[26,37,29,39],[30,40,33,42],[30,43,33,47],[30,48,33,54],[22,1,25,5],[22,6,25,15],[22,17,25,18],[22,19,25,20],[22,21,25,36],[22,37,25,39],[22,40,25,42],[22,43,25,47],[22,48,25,54],[14,43,17,47],[14,48,17,54],[18,1,21,5],[18,6,21,15],[18,17,21,18],[18,19,21,20],[18,21,21,36],[18,37,21,39],[18,40,21,42],[18,43,21,47],[14,1,17,5],[14,6,17,15],[14,17,17,20],[14,21,17,36],[14,37,17,39],[14,40,17,42],[18,48,21,54],[3,52,5,54],[8,1,11,5],[8,6,11,11],[8,12,11,15],[8,16,11,35],[8,37,11,40],[8,41,11,54],[1,19,4,32],[2,1,5,11],[2,12,5,13],[3,40,5,44],[3,45,5,48],[3,49,5,51]]}
[]
[null,null,null,null,null,null,null,null,null,null,null,null,null,null,null,null,null,null,null,"請求書明細書 (正)"]
[null,"株 式 会 社 種 村 建 設",null,null,null,null,null,null,null,null,null,null,"御中"]
[null,null,null,null,null,null,null,null,null,null,null,null,null,null,null,null,null,null,null,null,null,null,null,null,null,null,null,null,null,null,null,null,null,null,null,null,null,null,null,null,"請求年月日",null,null,null,null,{"$f":"IF(年=\"\",\"\",年)","v":""},null,null,null,{"$f":"IF(月=\"\",\"\",月)","v":""},null,null,{"$f":"IF(日=\"\",\"\",日)","v":""}]
[]
[]
[]
[]
[null,"工事番号",null,null,null,null,null,null,null,null,null,null,"工事名",null,null,null,null,null,null,null,null,null,null,null,null,null,null,null,null,null,null,null,null,null,null,null,null,"業者名",null,null,null,{"$f":"IF(社名=\"\",\"\",社名)","v":""}]
[]
[]
[]
[]
[]
[null,"注文番号",null,null,null,null,null,null,null,null,null,null,null,null,null,null,null,"月　日",null,null,null,"品　名・内　訳",null,null,null,null,null,null,null,null,null,null,null,null,null,null,null,"数 量",null,null,"単位",null,null,"単価",null,null,null,null,{"$f":"表紙①!P35","v":"金額(税抜)"}]
[]
[]
[]
[null,"契約金額",null,null,null,null,null,null,null,null,null,null,null,null,null,null,null,null,null,null,null,null,null,null,null,null,null,null,null,null,null,null,null,null,null,null,null,null,null,null,null,null,null,null,null,null,null,null,{"$f":"IF(V19=\"\",\"\",ROUND(AL19*AR19,0))","v":""}]
[]
[]
[]
[null,"増減額",null,null,null,null,null,null,null,null,null,null,null,null,null,null,null,null,null,null,null,null,null,null,null,null,null,null,null,null,null,null,null,null,null,null,null,null,null,null,null,null,null,null,null,null,null,null,{"$f":"IF(V23=\"\",\"\",ROUND(AL23*AR23,0))","v":""}]
[]
[]
[]
[null,"前回までの\n請求額",null,null,null,null,null,null,null,null,null,null,null,null,null,null,null,null,null,null,null,null,null,null,null,null,null,null,null,null,null,null,null,null,null,null,null,null,null,null,null,null,null,null,null,null,null,null,{"$f":"IF(V27=\"\",\"\",ROUND(AL27*AR27,0))","v":""}]
[]
[]
[]
[null,"今回\n請求額",null,null,null,null,null,null,null,null,null,null,null,null,null,null,null,null,null,null,null,null,null,null,null,null,null,null,null,null,null,null,null,null,null,null,null,null,null,null,null,null,null,null,null,null,null,null,{"$f":"IF(V31=\"\",\"\",ROUND(AL31*AR31,0))","v":""}]
[]
[]
[]
[null,"差引残高",null,null,null,null,{"$f":"IF(G19=\"\",\"\",G19+G23-G27-G31)","v":""},null,null,null,null,null,null,null,null,null,null,null,null,null,null,null,null,null,null,null,null,null,null,null,null,null,null,null,null,null,null,null,null,null,null,null,null,null,null,null,null,null,{"$f":"IF(V35=\"\",\"\",ROUND(AL35*AR35,0))","v":""}]
[]
[]
[]
[null,null,null,null,null,null,null,null,null,null,null,null,null,null,null,null,null,null,null,null,null,null,null,null,null,null,null,null,null,null,null,null,null,null,null,null,null,null,null,null,null,null,null,null,null,null,null,null,{"$f":"IF(V39=\"\",\"\",ROUND(AL39*AR39,0))","v":""}]
[]
[]
[]
[null,null,null,null,null,null,null,null,null,null,null,null,null,null,null,null,null,null,null,null,null,null,null,null,null,null,null,null,null,null,null,null,null,null,null,null,null,null,null,null,null,null,null,null,null,null,null,null,{"$f":"IF(V43=\"\",\"\",ROUND(AL43*AR43,0))","v":""}]
[]
[]
[]
[null,null,null,null,null,null,null,null,null,null,null,null,null,null,null,null,null,null,null,null,null,null,null,null,null,null,null,null,null,null,null,null,null,null,null,null,null,null,null,null,null,null,null,null,null,null,null,null,{"$f":"IF(V47=\"\",\"\",ROUND(AL47*AR47,0))","v":""}]
[]
[]
[]
[null,null,null,null,null,null,null,null,null,null,null,null,null,null,null,null,null,null,null,null,null,null,null,null,null,null,null,null,null,null,null,null,null,null,null,null,null,null,null,null,null,null,null,null,null,null,null,null,{"$f":"IF(V51=\"\",\"\",ROUND(AL51*AR51,0))","v":""}]
[]
[]
[]
[null,null,null,null,null,null,null,null,null,null,null,null,null,null,null,null,null,null,null,null,null,null,null,null,null,null,null,null,null,null,null,null,null,null,null,null,null,null,null,null,null,null,null,null,null,null,null,null,{"$f":"IF(V55=\"\",\"\",ROUND(AL55*AR55,0))","v":""}]
[]
[]
[]
[null,null,null,null,null,null,null,null,null,null,null,null,null,null,null,null,null,null,null,null,null,null,null,null,null,null,null,null,null,null,null,null,null,null,null,null,null,null,null,null,null,null,null,null,null,null,null,null,{"$f":"IF(V59=\"\",\"\",ROUND(AL59*AR59,0))","v":""}]
[]
[]
[]
[null,null,null,null,null,null,null,null,null,null,null,null,null,null,null,null,null,null,null,null,null,null,null,null,null,null,null,null,null,null,null,null,null,null,null,null,null,null,null,null,null,null,null,null,null,null,null,null,{"$f":"IF(V63=\"\",\"\",ROUND(AL63*AR63,0))","v":""}]
[]
[]
[]
[null,null,null,null,null,null,null,null,null,null,null,null,null,null,null,null,null,null,null,null,null,null,null,null,null,null,null,null,null,null,null,null,null,null,null,null,null,null,null,null,null,null,null,null,null,null,null,null,{"$f":"IF(V67=\"\",\"\",ROUND(AL67*AR67,0))","v":""}]
[]
[]
[]
[null,null,null,null,null,null,null,null,null,null,null,null,null,null,null,null,null,null,null,null,null,null,null,null,null,null,null,null,null,null,null,null,null,null,null,null,null,null,null,null,null,null,null,null,null,null,null,null,{"$f":"IF(V71=\"\",\"\",ROUND(AL71*AR71,0))","v":""}]
[]
[]
[]
[null,null,null,null,null,null,null,null,null,null,null,null,null,null,null,null,null,null,null,null,null,null,null,null,null,null,null,null,null,null,null,null,null,null,null,null,null,null,null,null,null,null,null,null,null,null,null,null,{"$f":"IF(V75=\"\",\"\",ROUND(AL75*AR75,0))","v":""}]
[]
[]
[]
[null,null,null,null,null,null,null,null,null,null,null,null,null,null,null,null,null,null,null,null,null,null,null,null,null,null,null,null,null,null,null,null,null,null,null,null,null,null,null,null,null,null,null,null,null,null,null,null,{"$f":"IF(V79=\"\",\"\",ROUND(AL79*AR79,0))","v":""}]
[]
[]
[]
[null,null,null,null,null,null,null,null,null,null,null,null,null,null,null,null,null,null,null,null,null,null,null,null,null,null,null,null,null,null,null,null,null,null,null,null,null,"金額(税抜)",null,null,null,null,null,null,null,null,null,null,{"$f":"IF(AW19=\"\",\"\",SUM(AW19:AW79))","v":""}]
[null,"社長",null,null,null,"専務",null,null,null,null,null,"常務",null,null,null,null,null,"部長･工場長",null,null,null,null,null,null,null,null,"担当者",null,null,null,null,"受付"]
[]
[]
[]
[null,null,null,null,null,null,null,null,null,null,null,null,null,null,null,null,null,null,null,null,null,null,null,null,null,null,null,null,null,null,null,null,null,null,null,null,null,"消費税",null,null,null,null,null,"税率",null,null,"税調",null,{"$f":"IF(AW83=\"\",\"\",IF(AR90=\"\",\"\",IF(AR90=8.1,ROUND(AW83*8/100,0)+AU90,ROUND(AW83*AR90/100,0)+AU90)))","v":""}]
[]
[null,null,null,null,null,null,null,null,null,null,null,null,null,null,null,null,null,null,null,null,null,null,null,null,null,null,null,null,null,null,null,null,null,null,null,null,null,null,null,null,null,null,null,null,null,{"$f":"IF(AR90=\"\",\"\",IF(AR90=8.1,\"旧\",IF(AR90=8,\"軽\",IF(AR90=0,\"非\",\"\"))))","v":""}]
[]
[]
[]
[null,null,null,null,null,null,null,null,null,null,null,null,null,null,null,null,null,null,null,"請求明細書 (現場控)"]
[null,"株 式 会 社 種 村 建 設",null,null,null,null,null,null,null,null,null,null,"御中"]
[null,null,null,null,null,null,null,null,null,null,null,null,null,null,null,null,null,null,null,null,null,null,null,null,null,null,null,null,null,null,null,null,null,null,null,null,null,null,null,null,"請求年月日",null,null,null,null,{"$f":"IF(AT4=\"\",\"\",AT4)","v":""},null,null,null,{"$f":"IF(AX4=\"\",\"\",AX4)","v":""},null,null,{"$f":"IF(BA4=\"\",\"\",BA4)","v":""}]
[]
[]
[]
[]
[null,"工事番号",null,null,null,null,{"$f":"IF(G9=\"\",\"\",G9)","v":""},null,null,null,null,null,"工事名",null,null,null,{"$f":"IF(Q9=\"\",\"\",Q9)","v":""},null,null,null,null,null,null,null,null,null,null,null,null,null,null,null,null,null,null,null,null,"業者名",null,null,null,{"$f":"IF(AP9=\"\",\"\",AP9)","v":""}]
[]
[]
[]
[]
[]
[null,"注文番号",null,null,null,null,{"$f":"IF(G15=\"\",\"\",G15)","v":""},null,null,null,null,null,null,null,null,null,null,"月　日",null,null,null,"品　名・内　訳",null,null,null,null,null,null,null,null,null,null,null,null,null,null,null,"数 量",null,null,"単位",null,null,"単価",null,null,null,null,{"$f":"AW15","v":"金額(税抜)"}]
[]
[]
[]
[null,"契約金額",null,null,null,null,{"$f":"IF(G19=\"\",\"\",G19)","v":""},null,null,null,null,null,null,null,null,null,null,{"$f":"IF(R19=\"\",\"\",R19)","v":""},null,{"$f":"IF(T19=\"\",\"\",T19)","v":""},null,{"$f":"IF(V19=\"\",\"\",V19)","v":""},null,{"$f":"IF(X19=\"\",\"\",X19)","v":""},null,{"$f":"IF(Z19=\"\",\"\",Z19)","v":""},null,{"$f":"IF(AB19=\"\",\"\",AB19)","v":""},null,{"$f":"IF(AD19=\"\",\"\",AD19)","v":""},null,{"$f":"IF(AF19=\"\",\"\",AF19)","v":""},null,{"$f":"IF(AH19=\"\",\"\",AH19)","v":""},null,{"$f":"IF(AJ19=\"\",\"\",AJ19)","v":""},null,{"$f":"IF(AL19=\"\",\"\",AL19)","v":""},null,null,{"$f":"IF(AO19=\"\",\"\",AO19)","v":""},null,null,{"$f":"IF(AR19=\"\",\"\",AR19)","v":""},null,null,null,null,{"$f":"IF(AW19=\"\",\"\",AW19)","v":""}]
[]
[]
[]
[null,"増減額",null,null,null,null,{"$f":"IF(G23=\"\",\"\",G23)","v":""},null,null,null,null,null,null,null,null,null,null,{"$f":"IF(R23=\"\",\"\",R23)","v":""},null,{"$f":"IF(T23=\"\",\"\",T23)","v":""},null,{"$f":"IF(V23=\"\",\"\",V23)","v":""},null,{"$f":"IF(X23=\"\",\"\",X23)","v":""},null,{"$f":"IF(Z23=\"\",\"\",Z23)","v":""},null,{"$f":"IF(AB23=\"\",\"\",AB23)","v":""},null,{"$f":"IF(AD23=\"\",\"\",AD23)","v":""},null,{"$f":"IF(AF23=\"\",\"\",AF23)","v":""},null,{"$f":"IF(AH23=\"\",\"\",AH23)","v":""},null,{"$f":"IF(AJ23=\"\",\"\",AJ23)","v":""},null,{"$f":"IF(AL23=\"\",\"\",AL23)","v":""},null,null,{"$f":"IF(AO23=\"\",\"\",AO23)","v":""},null,null,{"$f":"IF(AR23=\"\",\"\",AR23)","v":""},null,null,null,null,{"$f":"IF(AW23=\"\",\"\",AW23)","v":""}]
[]
[]
[]
[null,"前回までの\n請求額",null,null,null,null,{"$f":"IF(G27=\"\",\"\",G27)","v":""},null,null,null,null,null,null,null,null,null,null,{"$f":"IF(R27=\"\",\"\",R27)","v":""},null,{"$f":"IF(T27=\"\",\"\",T27)","v":""},null,{"$f":"IF(V27=\"\",\"\",V27)","v":""},null,{"$f":"IF(X27=\"\",\"\",X27)","v":""},null,{"$f":"IF(Z27=\"\",\"\",Z27)","v":""},null,{"$f":"IF(AB27=\"\",\"\",AB27)","v":""},null,{"$f":"IF(AD27=\"\",\"\",AD27)","v":""},null,{"$f":"IF(AF27=\"\",\"\",AF27)","v":""},null,{"$f":"IF(AH27=\"\",\"\",AH27)","v":""},null,{"$f":"IF(AJ27=\"\",\"\",AJ27)","v":""},null,{"$f":"IF(AL27=\"\",\"\",AL27)","v":""},null,null,{"$f":"IF(AO27=\"\",\"\",AO27)","v":""},null,null,{"$f":"IF(AR27=\"\",\"\",AR27)","v":""},null,null,null,null,{"$f":"IF(AW27=\"\",\"\",AW27)","v":""}]
[]
[]
[]
[null,"今回\n請求額",null,null,{"$f":"IF(E31=\"\",\"\",E31)","v":""},null,{"$f":"IF(G31=\"\",\"\",G31)","v":""},null,null,null,null,null,null,null,null,null,null,{"$f":"IF(R31=\"\",\"\",R31)","v":""},null,{"$f":"IF(T31=\"\",\"\",T31)","v":""},null,{"$f":"IF(V31=\"\",\"\",V31)","v":""},null,{"$f":"IF(X31=\"\",\"\",X31)","v":""},null,{"$f":"IF(Z31=\"\",\"\",Z31)","v":""},null,{"$f":"IF(AB31=\"\",\"\",AB31)","v":""},null,{"$f":"IF(AD31=\"\",\"\",AD31)","v":""},null,{"$f":"IF(AF31=\"\",\"\",AF31)","v":""},null,{"$f":"IF(AH31=\"\",\"\",AH31)","v":""},null,{"$f":"IF(AJ31=\"\",\"\",AJ31)","v":""},null,{"$f":"IF(AL31=\"\",\"\",AL31)","v":""},null,null,{"$f":"IF(AO31=\"\",\"\",AO31)","v":""},null,null,{"$f":"IF(AR31=\"\",\"\",AR31)","v":""},null,null,null,null,{"$f":"IF(AW31=\"\",\"\",AW31)","v":""}]
[]
[]
[]
[null,"差引残高",null,null,null,null,{"$f":"IF(G111=\"\",\"\",G111+G115-G119-G123)","v":""},null,null,null,null,null,null,null,null,null,null,{"$f":"IF(R35=\"\",\"\",R35)","v":""},null,{"$f":"IF(T35=\"\",\"\",T35)","v":""},null,{"$f":"IF(V35=\"\",\"\",V35)","v":""},null,{"$f":"IF(X35=\"\",\"\",X35)","v":""},null,{"$f":"IF(Z35=\"\",\"\",Z35)","v":""},null,{"$f":"IF(AB35=\"\",\"\",AB35)","v":""},null,{"$f":"IF(AD35=\"\",\"\",AD35)","v":""},null,{"$f":"IF(AF35=\"\",\"\",AF35)","v":""},null,{"$f":"IF(AH35=\"\",\"\",AH35)","v":""},null,{"$f":"IF(AJ35=\"\",\"\",AJ35)","v":""},null,{"$f":"IF(AL35=\"\",\"\",AL35)","v":""},null,null,{"$f":"IF(AO35=\"\",\"\",AO35)","v":""},null,null,{"$f":"IF(AR35=\"\",\"\",AR35)","v":""},null,null,null,null,{"$f":"IF(AW35=\"\",\"\",AW35)","v":""}]
[]
[]
[]
[null,null,null,null,null,null,null,null,null,null,null,null,null,null,null,null,null,{"$f":"IF(R39=\"\",\"\",R39)","v":""},null,{"$f":"IF(T39=\"\",\"\",T39)","v":""},null,{"$f":"IF(V39=\"\",\"\",V39)","v":""},null,{"$f":"IF(X39=\"\",\"\",X39)","v":""},null,{"$f":"IF(Z39=\"\",\"\",Z39)","v":""},null,{"$f":"IF(AB39=\"\",\"\",AB39)","v":""},null,{"$f":"IF(AD39=\"\",\"\",AD39)","v":""},null,{"$f":"IF(AF39=\"\",\"\",AF39)","v":""},null,{"$f":"IF(AH39=\"\",\"\",AH39)","v":""},null,{"$f":"IF(AJ39=\"\",\"\",AJ39)","v":""},null,{"$f":"IF(AL39=\"\",\"\",AL39)","v":""},null,null,{"$f":"IF(AO39=\"\",\"\",AO39)","v":""},null,null,{"$f":"IF(AR39=\"\",\"\",AR39)","v":""},null,null,null,null,{"$f":"IF(AW39=\"\",\"\",AW39)","v":""}]
[]
[]
[]
[null,null,null,null,null,null,null,null,null,null,null,null,null,null,null,null,null,{"$f":"IF(R43=\"\",\"\",R43)","v":""},null,{"$f":"IF(T43=\"\",\"\",T43)","v":""},null,{"$f":"IF(V43=\"\",\"\",V43)","v":""},null,{"$f":"IF(X43=\"\",\"\",X43)","v":""},null,{"$f":"IF(Z43=\"\",\"\",Z43)","v":""},null,{"$f":"IF(AB43=\"\",\"\",AB43)","v":""},null,{"$f":"IF(AD43=\"\",\"\",AD43)","v":""},null,{"$f":"IF(AF43=\"\",\"\",AF43)","v":""},null,{"$f":"IF(AH43=\"\",\"\",AH43)","v":""},null,{"$f":"IF(AJ43=\"\",\"\",AJ43)","v":""},null,{"$f":"IF(AL43=\"\",\"\",AL43)","v":""},null,null,{"$f":"IF(AO43=\"\",\"\",AO43)","v":""},null,null,{"$f":"IF(AR43=\"\",\"\",AR43)","v":""},null,null,null,null,{"$f":"IF(AW43=\"\",\"\",AW43)","v":""}]
[]
[]
[]
[null,null,null,null,null,null,null,null,null,null,null,null,null,null,null,null,null,{"$f":"IF(R47=\"\",\"\",R47)","v":""},null,{"$f":"IF(T47=\"\",\"\",T47)","v":""},null,{"$f":"IF(V47=\"\",\"\",V47)","v":""},null,{"$f":"IF(X47=\"\",\"\",X47)","v":""},null,{"$f":"IF(Z47=\"\",\"\",Z47)","v":""},null,{"$f":"IF(AB47=\"\",\"\",AB47)","v":""},null,{"$f":"IF(AD47=\"\",\"\",AD47)","v":""},null,{"$f":"IF(AF47=\"\",\"\",AF47)","v":""},null,{"$f":"IF(AH47=\"\",\"\",AH47)","v":""},null,{"$f":"IF(AJ47=\"\",\"\",AJ47)","v":""},null,{"$f":"IF(AL47=\"\",\"\",AL47)","v":""},null,null,{"$f":"IF(AO47=\"\",\"\",AO47)","v":""},null,null,{"$f":"IF(AR47=\"\",\"\",AR47)","v":""},null,null,null,null,{"$f":"IF(AW47=\"\",\"\",AW47)","v":""}]
[]
[]
[]
[null,null,null,null,null,null,null,null,null,null,null,null,null,null,null,null,null,{"$f":"IF(R51=\"\",\"\",R51)","v":""},null,{"$f":"IF(T51=\"\",\"\",T51)","v":""},null,{"$f":"IF(V51=\"\",\"\",V51)","v":""},null,{"$f":"IF(X51=\"\",\"\",X51)","v":""},null,{"$f":"IF(Z51=\"\",\"\",Z51)","v":""},null,{"$f":"IF(AB51=\"\",\"\",AB51)","v":""},null,{"$f":"IF(AD51=\"\",\"\",AD51)","v":""},null,{"$f":"IF(AF51=\"\",\"\",AF51)","v":""},null,{"$f":"IF(AH51=\"\",\"\",AH51)","v":""},null,{"$f":"IF(AJ51=\"\",\"\",AJ51)","v":""},null,{"$f":"IF(AL51=\"\",\"\",AL51)","v":""},null,null,{"$f":"IF(AO51=\"\",\"\",AO51)","v":""},null,null,{"$f":"IF(AR51=\"\",\"\",AR51)","v":""},null,null,null,null,{"$f":"IF(AW51=\"\",\"\",AW51)","v":""}]
[]
[]
[]
[null,null,null,null,null,null,null,null,null,null,null,null,null,null,null,null,null,{"$f":"IF(R55=\"\",\"\",R55)","v":""},null,{"$f":"IF(T55=\"\",\"\",T55)","v":""},null,{"$f":"IF(V55=\"\",\"\",V55)","v":""},null,{"$f":"IF(X55=\"\",\"\",X55)","v":""},null,{"$f":"IF(Z55=\"\",\"\",Z55)","v":""},null,{"$f":"IF(AB55=\"\",\"\",AB55)","v":""},null,{"$f":"IF(AD55=\"\",\"\",AD55)","v":""},null,{"$f":"IF(AF55=\"\",\"\",AF55)","v":""},null,{"$f":"IF(AH55=\"\",\"\",AH55)","v":""},null,{"$f":"IF(AJ55=\"\",\"\",AJ55)","v":""},null,{"$f":"IF(AL55=\"\",\"\",AL55)","v":""},null,null,{"$f":"IF(AO55=\"\",\"\",AO55)","v":""},null,null,{"$f":"IF(AR55=\"\",\"\",AR55)","v":""},null,null,null,null,{"$f":"IF(AW55=\"\",\"\",AW55)","v":""}]
[]
[]
[]
[null,null,null,null,null,null,null,null,null,null,null,null,null,null,null,null,null,{"$f":"IF(R59=\"\",\"\",R59)","v":""},null,{"$f":"IF(T59=\"\",\"\",T59)","v":""},null,{"$f":"IF(V59=\"\",\"\",V59)","v":""},null,{"$f":"IF(X59=\"\",\"\",X59)","v":""},null,{"$f":"IF(Z59=\"\",\"\",Z59)","v":""},null,{"$f":"IF(AB59=\"\",\"\",AB59)","v":""},null,{"$f":"IF(AD59=\"\",\"\",AD59)","v":""},null,{"$f":"IF(AF59=\"\",\"\",AF59)","v":""},null,{"$f":"IF(AH59=\"\",\"\",AH59)","v":""},null,{"$f":"IF(AJ59=\"\",\"\",AJ59)","v":""},null,{"$f":"IF(AL59=\"\",\"\",AL59)","v":""},null,null,{"$f":"IF(AO59=\"\",\"\",AO59)","v":""},null,null,{"$f":"IF(AR59=\"\",\"\",AR59)","v":""},null,null,null,null,{"$f":"IF(AW59=\"\",\"\",AW59)","v":""}]
[]
[]
[]
[null,null,null,null,null,null,null,null,null,null,null,null,null,null,null,null,null,{"$f":"IF(R63=\"\",\"\",R63)","v":""},null,{"$f":"IF(T63=\"\",\"\",T63)","v":""},null,{"$f":"IF(V63=\"\",\"\",V63)","v":""},null,{"$f":"IF(X63=\"\",\"\",X63)","v":""},null,{"$f":"IF(Z63=\"\",\"\",Z63)","v":""},null,{"$f":"IF(AB63=\"\",\"\",AB63)","v":""},null,{"$f":"IF(AD63=\"\",\"\",AD63)","v":""},null,{"$f":"IF(AF63=\"\",\"\",AF63)","v":""},null,{"$f":"IF(AH63=\"\",\"\",AH63)","v":""},null,{"$f":"IF(AJ63=\"\",\"\",AJ63)","v":""},null,{"$f":"IF(AL63=\"\",\"\",AL63)","v":""},null,null,{"$f":"IF(AO63=\"\",\"\",AO63)","v":""},null,null,{"$f":"IF(AR63=\"\",\"\",AR63)","v":""},null,null,null,null,{"$f":"IF(AW63=\"\",\"\",AW63)","v":""}]
[]
[]
[]
[null,null,null,null,null,null,null,null,null,null,null,null,null,null,null,null,null,{"$f":"IF(R67=\"\",\"\",R67)","v":""},null,{"$f":"IF(T67=\"\",\"\",T67)","v":""},null,{"$f":"IF(V67=\"\",\"\",V67)","v":""},null,{"$f":"IF(X67=\"\",\"\",X67)","v":""},null,{"$f":"IF(Z67=\"\",\"\",Z67)","v":""},null,{"$f":"IF(AB67=\"\",\"\",AB67)","v":""},null,{"$f":"IF(AD67=\"\",\"\",AD67)","v":""},null,{"$f":"IF(AF67=\"\",\"\",AF67)","v":""},null,{"$f":"IF(AH67=\"\",\"\",AH67)","v":""},null,{"$f":"IF(AJ67=\"\",\"\",AJ67)","v":""},null,{"$f":"IF(AL67=\"\",\"\",AL67)","v":""},null,null,{"$f":"IF(AO67=\"\",\"\",AO67)","v":""},null,null,{"$f":"IF(AR67=\"\",\"\",AR67)","v":""},null,null,null,null,{"$f":"IF(AW67=\"\",\"\",AW67)","v":""}]
[]
[]
[]
[null,null,null,null,null,null,null,null,null,null,null,null,null,null,null,null,null,{"$f":"IF(R71=\"\",\"\",R71)","v":""},null,{"$f":"IF(T71=\"\",\"\",T71)","v":""},null,{"$f":"IF(V71=\"\",\"\",V71)","v":""},null,{"$f":"IF(X71=\"\",\"\",X71)","v":""},null,{"$f":"IF(Z71=\"\",\"\",Z71)","v":""},null,{"$f":"IF(AB71=\"\",\"\",AB71)","v":""},null,{"$f":"IF(AD71=\"\",\"\",AD71)","v":""},null,{"$f":"IF(AF71=\"\",\"\",AF71)","v":""},null,{"$f":"IF(AH71=\"\",\"\",AH71)","v":""},null,{"$f":"IF(AJ71=\"\",\"\",AJ71)","v":""},null,{"$f":"IF(AL71=\"\",\"\",AL71)","v":""},null,null,{"$f":"IF(AO71=\"\",\"\",AO71)","v":""},null,null,{"$f":"IF(AR71=\"\",\"\",AR71)","v":""},null,null,null,null,{"$f":"IF(AW71=\"\",\"\",AW71)","v":""}]
[]
[]
[]
[null,null,null,null,null,null,null,null,null,null,null,null,null,null,null,null,null,{"$f":"IF(R75=\"\",\"\",R75)","v":""},null,{"$f":"IF(T75=\"\",\"\",T75)","v":""},null,{"$f":"IF(V75=\"\",\"\",V75)","v":""},null,{"$f":"IF(X75=\"\",\"\",X75)","v":""},null,{"$f":"IF(Z75=\"\",\"\",Z75)","v":""},null,{"$f":"IF(AB75=\"\",\"\",AB75)","v":""},null,{"$f":"IF(AD75=\"\",\"\",AD75)","v":""},null,{"$f":"IF(AF75=\"\",\"\",AF75)","v":""},null,{"$f":"IF(AH75=\"\",\"\",AH75)","v":""},null,{"$f":"IF(AJ75=\"\",\"\",AJ75)","v":""},null,{"$f":"IF(AL75=\"\",\"\",AL75)","v":""},null,null,{"$f":"IF(AO75=\"\",\"\",AO75)","v":""},null,null,{"$f":"IF(AR75=\"\",\"\",AR75)","v":""},null,null,null,null,{"$f":"IF(AW75=\"\",\"\",AW75)","v":""}]
[]
[]
[]
[null,null,null,null,null,null,null,null,null,null,null,null,null,null,null,null,null,{"$f":"IF(R79=\"\",\"\",R79)","v":""},null,{"$f":"IF(T79=\"\",\"\",T79)","v":""},null,{"$f":"IF(V79=\"\",\"\",V79)","v":""},null,{"$f":"IF(X79=\"\",\"\",X79)","v":""},null,{"$f":"IF(Z79=\"\",\"\",Z79)","v":""},null,{"$f":"IF(AB79=\"\",\"\",AB79)","v":""},null,{"$f":"IF(AD79=\"\",\"\",AD79)","v":""},null,{"$f":"IF(AF79=\"\",\"\",AF79)","v":""},null,{"$f":"IF(AH79=\"\",\"\",AH79)","v":""},null,{"$f":"IF(AJ79=\"\",\"\",AJ79)","v":""},null,{"$f":"IF(AL79=\"\",\"\",AL79)","v":""},null,null,{"$f":"IF(AO79=\"\",\"\",AO79)","v":""},null,null,{"$f":"IF(AR79=\"\",\"\",AR79)","v":""},null,null,null,null,{"$f":"IF(AW79=\"\",\"\",AW79)","v":""}]
[]
[]
[]
[null,null,null,null,null,null,null,null,null,null,null,null,null,null,null,null,null,null,null,null,null,null,null,null,null,null,null,null,null,null,null,null,null,null,null,null,null,{"$f":"AL83","v":"金額(税抜)"},null,null,null,null,null,null,null,null,null,null,{"$f":"AW83","v":""}]
[]
[]
[]
[]
[null,null,null,null,null,null,null,null,null,null,null,null,null,null,null,null,null,null,null,null,null,null,null,null,null,null,null,null,null,null,null,null,null,null,null,null,null,{"$f":"AL88","v":"消費税"},null,null,null,null,null,"税率",null,null,"税調",null,{"$f":"AW88","v":""}]
[]
[null,null,null,null,null,null,null,null,null,null,null,null,null,null,null,null,null,null,null,null,null,null,null,null,null,null,null,null,null,null,null,null,null,null,null,null,null,null,null,null,null,null,null,{"$f":"AR90","v":0},null,{"$f":"AT90","v":""}]
[]
[]
[]
[null,null,null,null,null,null,null,null,null,null,null,null,null,null,null,null,null,null,null,"請求明細書 (貴社控)"]
[null,"株 式 会 社 種 村 建 設",null,null,null,null,null,null,null,null,null,null,"御中"]
[null,null,null,null,null,null,null,null,null,null,null,null,null,null,null,null,null,null,null,null,null,null,null,null,null,null,null,null,null,null,null,null,null,null,null,null,null,null,null,null,"請求年月日",null,null,null,null,{"$f":"IF(AT4=\"\",\"\",AT4)","v":""},null,null,null,{"$f":"IF(AX96=\"\",\"\",AX96)","v":""},null,null,{"$f":"IF(BA96=\"\",\"\",BA96)","v":""}]
[]
[]
[]
[]
[null,"工事番号",null,null,null,null,{"$f":"IF(G101=\"\",\"\",G101)","v":""},null,null,null,null,null,"工事名",null,null,null,{"$f":"IF(Q101=\"\",\"\",Q101)","v":""},null,null,null,null,null,null,null,null,null,null,null,null,null,null,null,null,null,null,null,null,"業者名",null,null,null,{"$f":"IF(AP101=\"\",\"\",AP101)","v":""}]
[]
[]
[]
[]
[]
[null,"注文番号",null,null,null,null,{"$f":"IF(G107=\"\",\"\",G107)","v":""},null,null,null,null,null,null,null,null,null,null,"月　日",null,null,null,"品　名・内　訳",null,null,null,null,null,null,null,null,null,null,null,null,null,null,null,"数 量",null,null,"単位",null,null,"単価",null,null,null,null,{"$f":"AW15","v":"金額(税抜)"}]
[]
[]
[]
[null,"契約金額",null,null,null,null,{"$f":"IF(G111=\"\",\"\",G111)","v":""},null,null,null,null,null,null,null,null,null,null,{"$f":"IF(R111=\"\",\"\",R111)","v":""},null,{"$f":"IF(T111=\"\",\"\",T111)","v":""},null,{"$f":"IF(V111=\"\",\"\",V111)","v":""},null,{"$f":"IF(X111=\"\",\"\",X111)","v":""},null,{"$f":"IF(Z111=\"\",\"\",Z111)","v":""},null,{"$f":"IF(AB111=\"\",\"\",AB111)","v":""},null,{"$f":"IF(AD111=\"\",\"\",AD111)","v":""},null,{"$f":"IF(AF111=\"\",\"\",AF111)","v":""},null,{"$f":"IF(AH111=\"\",\"\",AH111)","v":""},null,{"$f":"IF(AJ111=\"\",\"\",AJ111)","v":""},null,{"$f":"IF(AL111=\"\",\"\",AL111)","v":""},null,null,{"$f":"IF(AO111=\"\",\"\",AO111)","v":""},null,null,{"$f":"IF(AR111=\"\",\"\",AR111)","v":""},null,null,null,null,{"$f":"IF(AW111=\"\",\"\",AW111)","v":""}]
[]
[]
[]
[null,"増減額",null,null,null,null,{"$f":"IF(G115=\"\",\"\",G115)","v":""},null,null,null,null,null,null,null,null,null,null,{"$f":"IF(R115=\"\",\"\",R115)","v":""},null,{"$f":"IF(T115=\"\",\"\",T115)","v":""},null,{"$f":"IF(V115=\"\",\"\",V115)","v":""},null,{"$f":"IF(X115=\"\",\"\",X115)","v":""},null,{"$f":"IF(Z115=\"\",\"\",Z115)","v":""},null,{"$f":"IF(AB115=\"\",\"\",AB115)","v":""},null,{"$f":"IF(AD115=\"\",\"\",AD115)","v":""},null,{"$f":"IF(AF115=\"\",\"\",AF115)","v":""},null,{"$f":"IF(AH115=\"\",\"\",AH115)","v":""},null,{"$f":"IF(AJ115=\"\",\"\",AJ115)","v":""},null,{"$f":"IF(AL115=\"\",\"\",AL115)","v":""},null,null,{"$f":"IF(AO115=\"\",\"\",AO115)","v":""},null,null,{"$f":"IF(AR115=\"\",\"\",AR115)","v":""},null,null,null,null,{"$f":"IF(AW115=\"\",\"\",AW115)","v":""}]
[]
[]
[]
[null,"前回までの\n請求額",null,null,null,null,{"$f":"IF(G119=\"\",\"\",G119)","v":""},null,null,null,null,null,null,null,null,null,null,{"$f":"IF(R119=\"\",\"\",R119)","v":""},null,{"$f":"IF(T119=\"\",\"\",T119)","v":""},null,{"$f":"IF(V119=\"\",\"\",V119)","v":""},null,{"$f":"IF(X119=\"\",\"\",X119)","v":""},null,{"$f":"IF(Z119=\"\",\"\",Z119)","v":""},null,{"$f":"IF(AB119=\"\",\"\",AB119)","v":""},null,{"$f":"IF(AD119=\"\",\"\",AD119)","v":""},null,{"$f":"IF(AF119=\"\",\"\",AF119)","v":""},null,{"$f":"IF(AH119=\"\",\"\",AH119)","v":""},null,{"$f":"IF(AJ119=\"\",\"\",AJ119)","v":""},null,{"$f":"IF(AL119=\"\",\"\",AL119)","v":""},null,null,{"$f":"IF(AO119=\"\",\"\",AO119)","v":""},null,null,{"$f":"IF(AR119=\"\",\"\",AR119)","v":""},null,null,null,null,{"$f":"IF(AW119=\"\",\"\",AW119)","v":""}]
[]
[]
[]
[null,"今回\n請求額",null,null,{"$f":"IF(E31=\"\",\"\",E31)","v":""},null,{"$f":"IF(G123=\"\",\"\",G123)","v":""},null,null,null,null,null,null,null,null,null,null,{"$f":"IF(R123=\"\",\"\",R123)","v":""},null,{"$f":"IF(T123=\"\",\"\",T123)","v":""},null,{"$f":"IF(V123=\"\",\"\",V123)","v":""},null,{"$f":"IF(X123=\"\",\"\",X123)","v":""},null,{"$f":"IF(Z123=\"\",\"\",Z123)","v":""},null,{"$f":"IF(AB123=\"\",\"\",AB123)","v":""},null,{"$f":"IF(AD123=\"\",\"\",AD123)","v":""},null,{"$f":"IF(AF123=\"\",\"\",AF123)","v":""},null,{"$f":"IF(AH123=\"\",\"\",AH123)","v":""},null,{"$f":"IF(AJ123=\"\",\"\",AJ123)","v":""},null,{"$f":"IF(AL123=\"\",\"\",AL123)","v":""},null,null,{"$f":"IF(AO123=\"\",\"\",AO123)","v":""},null,null,{"$f":"IF(AR123=\"\",\"\",AR123)","v":""},null,null,null,null,{"$f":"IF(AW123=\"\",\"\",AW123)","v":""}]
[]
[]
[]
[null,"差引残高",null,null,null,null,{"$f":"IF(G203=\"\",\"\",G203+G207-G211-G215)","v":""},null,null,null,null,null,null,null,null,null,null,{"$f":"IF(R127=\"\",\"\",R127)","v":""},null,{"$f":"IF(T127=\"\",\"\",T127)","v":""},null,{"$f":"IF(V127=\"\",\"\",V127)","v":""},null,{"$f":"IF(X127=\"\",\"\",X127)","v":""},null,{"$f":"IF(Z127=\"\",\"\",Z127)","v":""},null,{"$f":"IF(AB127=\"\",\"\",AB127)","v":""},null,{"$f":"IF(AD127=\"\",\"\",AD127)","v":""},null,{"$f":"IF(AF127=\"\",\"\",AF127)","v":""},null,{"$f":"IF(AH127=\"\",\"\",AH127)","v":""},null,{"$f":"IF(AJ127=\"\",\"\",AJ127)","v":""},null,{"$f":"IF(AL127=\"\",\"\",AL127)","v":""},null,null,{"$f":"IF(AO127=\"\",\"\",AO127)","v":""},null,null,{"$f":"IF(AR127=\"\",\"\",AR127)","v":""},null,null,null,null,{"$f":"IF(AW127=\"\",\"\",AW127)","v":""}]
[]
[]
[]
[null,null,null,null,null,null,null,null,null,null,null,null,null,null,null,null,null,{"$f":"IF(R131=\"\",\"\",R131)","v":""},null,{"$f":"IF(T131=\"\",\"\",T131)","v":""},null,{"$f":"IF(V131=\"\",\"\",V131)","v":""},null,{"$f":"IF(X131=\"\",\"\",X131)","v":""},null,{"$f":"IF(Z131=\"\",\"\",Z131)","v":""},null,{"$f":"IF(AB131=\"\",\"\",AB131)","v":""},null,{"$f":"IF(AD131=\"\",\"\",AD131)","v":""},null,{"$f":"IF(AF131=\"\",\"\",AF131)","v":""},null,{"$f":"IF(AH131=\"\",\"\",AH131)","v":""},null,{"$f":"IF(AJ131=\"\",\"\",AJ131)","v":""},null,{"$f":"IF(AL131=\"\",\"\",AL131)","v":""},null,null,{"$f":"IF(AO131=\"\",\"\",AO131)","v":""},null,null,{"$f":"IF(AR131=\"\",\"\",AR131)","v":""},null,null,null,null,{"$f":"IF(AW131=\"\",\"\",AW131)","v":""}]
[]
[]
[]
[null,null,null,null,null,null,null,null,null,null,null,null,null,null,null,null,null,{"$f":"IF(R135=\"\",\"\",R135)","v":""},null,{"$f":"IF(T135=\"\",\"\",T135)","v":""},null,{"$f":"IF(V135=\"\",\"\",V135)","v":""},null,{"$f":"IF(X135=\"\",\"\",X135)","v":""},null,{"$f":"IF(Z135=\"\",\"\",Z135)","v":""},null,{"$f":"IF(AB135=\"\",\"\",AB135)","v":""},null,{"$f":"IF(AD135=\"\",\"\",AD135)","v":""},null,{"$f":"IF(AF135=\"\",\"\",AF135)","v":""},null,{"$f":"IF(AH135=\"\",\"\",AH135)","v":""},null,{"$f":"IF(AJ135=\"\",\"\",AJ135)","v":""},null,{"$f":"IF(AL135=\"\",\"\",AL135)","v":""},null,null,{"$f":"IF(AO135=\"\",\"\",AO135)","v":""},null,null,{"$f":"IF(AR135=\"\",\"\",AR135)","v":""},null,null,null,null,{"$f":"IF(AW135=\"\",\"\",AW135)","v":""}]
[]
[]
[]
[null,null,null,null,null,null,null,null,null,null,null,null,null,null,null,null,null,{"$f":"IF(R139=\"\",\"\",R139)","v":""},null,{"$f":"IF(T139=\"\",\"\",T139)","v":""},null,{"$f":"IF(V139=\"\",\"\",V139)","v":""},null,{"$f":"IF(X139=\"\",\"\",X139)","v":""},null,{"$f":"IF(Z139=\"\",\"\",Z139)","v":""},null,{"$f":"IF(AB139=\"\",\"\",AB139)","v":""},null,{"$f":"IF(AD139=\"\",\"\",AD139)","v":""},null,{"$f":"IF(AF139=\"\",\"\",AF139)","v":""},null,{"$f":"IF(AH139=\"\",\"\",AH139)","v":""},null,{"$f":"IF(AJ139=\"\",\"\",AJ139)","v":""},null,{"$f":"IF(AL139=\"\",\"\",AL139)","v":""},null,null,{"$f":"IF(AO139=\"\",\"\",AO139)","v":""},null,null,{"$f":"IF(AR139=\"\",\"\",AR139)","v":""},null,null,null,null,{"$f":"IF(AW139=\"\",\"\",AW139)","v":""}]
[]
[]
[]
[null,null,null,null,null,null,null,null,null,null,null,null,null,null,null,null,null,{"$f":"IF(R143=\"\",\"\",R143)","v":""},null,{"$f":"IF(T143=\"\",\"\",T143)","v":""},null,{"$f":"IF(V143=\"\",\"\",V143)","v":""},null,{"$f":"IF(X143=\"\",\"\",X143)","v":""},null,{"$f":"IF(Z143=\"\",\"\",Z143)","v":""},null,{"$f":"IF(AB143=\"\",\"\",AB143)","v":""},null,{"$f":"IF(AD143=\"\",\"\",AD143)","v":""},null,{"$f":"IF(AF143=\"\",\"\",AF143)","v":""},null,{"$f":"IF(AH143=\"\",\"\",AH143)","v":""},null,{"$f":"IF(AJ143=\"\",\"\",AJ143)","v":""},null,{"$f":"IF(AL143=\"\",\"\",AL143)","v":""},null,null,{"$f":"IF(AO143=\"\",\"\",AO143)","v":""},null,null,{"$f":"IF(AR143=\"\",\"\",AR143)","v":""},null,null,null,null,{"$f":"IF(AW143=\"\",\"\",AW143)","v":""}]
[]
[]
[]
[null,null,null,null,null,null,null,null,null,null,null,null,null,null,null,null,null,{"$f":"IF(R147=\"\",\"\",R147)","v":""},null,{"$f":"IF(T147=\"\",\"\",T147)","v":""},null,{"$f":"IF(V147=\"\",\"\",V147)","v":""},null,{"$f":"IF(X147=\"\",\"\",X147)","v":""},null,{"$f":"IF(Z147=\"\",\"\",Z147)","v":""},null,{"$f":"IF(AB147=\"\",\"\",AB147)","v":""},null,{"$f":"IF(AD147=\"\",\"\",AD147)","v":""},null,{"$f":"IF(AF147=\"\",\"\",AF147)","v":""},null,{"$f":"IF(AH147=\"\",\"\",AH147)","v":""},null,{"$f":"IF(AJ147=\"\",\"\",AJ147)","v":""},null,{"$f":"IF(AL147=\"\",\"\",AL147)","v":""},null,null,{"$f":"IF(AO147=\"\",\"\",AO147)","v":""},null,null,{"$f":"IF(AR147=\"\",\"\",AR147)","v":""},null,null,null,null,{"$f":"IF(AW147=\"\",\"\",AW147)","v":""}]
[]
[]
[]
[null,null,null,null,null,null,null,null,null,null,null,null,null,null,null,null,null,{"$f":"IF(R151=\"\",\"\",R151)","v":""},null,{"$f":"IF(T151=\"\",\"\",T151)","v":""},null,{"$f":"IF(V151=\"\",\"\",V151)","v":""},null,{"$f":"IF(X151=\"\",\"\",X151)","v":""},null,{"$f":"IF(Z151=\"\",\"\",Z151)","v":""},null,{"$f":"IF(AB151=\"\",\"\",AB151)","v":""},null,{"$f":"IF(AD151=\"\",\"\",AD151)","v":""},null,{"$f":"IF(AF151=\"\",\"\",AF151)","v":""},null,{"$f":"IF(AH151=\"\",\"\",AH151)","v":""},null,{"$f":"IF(AJ151=\"\",\"\",AJ151)","v":""},null,{"$f":"IF(AL151=\"\",\"\",AL151)","v":""},null,null,{"$f":"IF(AO151=\"\",\"\",AO151)","v":""},null,null,{"$f":"IF(AR151=\"\",\"\",AR151)","v":""},null,null,null,null,{"$f":"IF(AW151=\"\",\"\",AW151)","v":""}]
[]
[]
[]
[null,null,null,null,null,null,null,null,null,null,null,null,null,null,null,null,null,{"$f":"IF(R155=\"\",\"\",R155)","v":""},null,{"$f":"IF(T155=\"\",\"\",T155)","v":""},null,{"$f":"IF(V155=\"\",\"\",V155)","v":""},null,{"$f":"IF(X155=\"\",\"\",X155)","v":""},null,{"$f":"IF(Z155=\"\",\"\",Z155)","v":""},null,{"$f":"IF(AB155=\"\",\"\",AB155)","v":""},null,{"$f":"IF(AD155=\"\",\"\",AD155)","v":""},null,{"$f":"IF(AF155=\"\",\"\",AF155)","v":""},null,{"$f":"IF(AH155=\"\",\"\",AH155)","v":""},null,{"$f":"IF(AJ155=\"\",\"\",AJ155)","v":""},null,{"$f":"IF(AL155=\"\",\"\",AL155)","v":""},null,null,{"$f":"IF(AO155=\"\",\"\",AO155)","v":""},null,null,{"$f":"IF(AR155=\"\",\"\",AR155)","v":""},null,null,null,null,{"$f":"IF(AW155=\"\",\"\",AW155)","v":""}]
[]
[]
[]
[null,null,null,null,null,null,null,null,null,null,null,null,null,null,null,null,null,{"$f":"IF(R159=\"\",\"\",R159)","v":""},null,{"$f":"IF(T159=\"\",\"\",T159)","v":""},null,{"$f":"IF(V159=\"\",\"\",V159)","v":""},null,{"$f":"IF(X159=\"\",\"\",X159)","v":""},null,{"$f":"IF(Z159=\"\",\"\",Z159)","v":""},null,{"$f":"IF(AB159=\"\",\"\",AB159)","v":""},null,{"$f":"IF(AD159=\"\",\"\",AD159)","v":""},null,{"$f":"IF(AF159=\"\",\"\",AF159)","v":""},null,{"$f":"IF(AH159=\"\",\"\",AH159)","v":""},null,{"$f":"IF(AJ159=\"\",\"\",AJ159)","v":""},null,{"$f":"IF(AL159=\"\",\"\",AL159)","v":""},null,null,{"$f":"IF(AO159=\"\",\"\",AO159)","v":""},null,null,{"$f":"IF(AR159=\"\",\"\",AR159)","v":""},null,null,null,null,{"$f":"IF(AW159=\"\",\"\",AW159)","v":""}]
[]
[]
[]
[null,null,null,null,null,null,null,null,null,null,null,null,null,null,null,null,null,{"$f":"IF(R163=\"\",\"\",R163)","v":""},null,{"$f":"IF(T163=\"\",\"\",T163)","v":""},null,{"$f":"IF(V163=\"\",\"\",V163)","v":""},null,{"$f":"IF(X163=\"\",\"\",X163)","v":""},null,{"$f":"IF(Z163=\"\",\"\",Z163)","v":""},null,{"$f":"IF(AB163=\"\",\"\",AB163)","v":""},null,{"$f":"IF(AD163=\"\",\"\",AD163)","v":""},null,{"$f":"IF(AF163=\"\",\"\",AF163)","v":""},null,{"$f":"IF(AH163=\"\",\"\",AH163)","v":""},null,{"$f":"IF(AJ163=\"\",\"\",AJ163)","v":""},null,{"$f":"IF(AL163=\"\",\"\",AL163)","v":""},null,null,{"$f":"IF(AO163=\"\",\"\",AO163)","v":""},null,null,{"$f":"IF(AR163=\"\",\"\",AR163)","v":""},null,null,null,null,{"$f":"IF(AW163=\"\",\"\",AW163)","v":""}]
[]
[]
[]
[null,null,null,null,null,null,null,null,null,null,null,null,null,null,null,null,null,{"$f":"IF(R167=\"\",\"\",R167)","v":""},null,{"$f":"IF(T167=\"\",\"\",T167)","v":""},null,{"$f":"IF(V167=\"\",\"\",V167)","v":""},null,{"$f":"IF(X167=\"\",\"\",X167)","v":""},null,{"$f":"IF(Z167=\"\",\"\",Z167)","v":""},null,{"$f":"IF(AB167=\"\",\"\",AB167)","v":""},null,{"$f":"IF(AD167=\"\",\"\",AD167)","v":""},null,{"$f":"IF(AF167=\"\",\"\",AF167)","v":""},null,{"$f":"IF(AH167=\"\",\"\",AH167)","v":""},null,{"$f":"IF(AJ167=\"\",\"\",AJ167)","v":""},null,{"$f":"IF(AL167=\"\",\"\",AL167)","v":""},null,null,{"$f":"IF(AO167=\"\",\"\",AO167)","v":""},null,null,{"$f":"IF(AR167=\"\",\"\",AR167)","v":""},null,null,null,null,{"$f":"IF(AW167=\"\",\"\",AW167)","v":""}]
[]
[]
[]
[null,null,null,null,null,null,null,null,null,null,null,null,null,null,null,null,null,{"$f":"IF(R171=\"\",\"\",R171)","v":""},null,{"$f":"IF(T171=\"\",\"\",T171)","v":""},null,{"$f":"IF(V171=\"\",\"\",V171)","v":""},null,{"$f":"IF(X171=\"\",\"\",X171)","v":""},null,{"$f":"IF(Z171=\"\",\"\",Z171)","v":""},null,{"$f":"IF(AB171=\"\",\"\",AB171)","v":""},null,{"$f":"IF(AD171=\"\",\"\",AD171)","v":""},null,{"$f":"IF(AF171=\"\",\"\",AF171)","v":""},null,{"$f":"IF(AH171=\"\",\"\",AH171)","v":""},null,{"$f":"IF(AJ171=\"\",\"\",AJ171)","v":""},null,{"$f":"IF(AL171=\"\",\"\",AL171)","v":""},null,null,{"$f":"IF(AO171=\"\",\"\",AO171)","v":""},null,null,{"$f":"IF(AR171=\"\",\"\",AR171)","v":""},null,null,null,null,{"$f":"IF(AW171=\"\",\"\",AW171)","v":""}]
[]
[]
[]
[null,null,null,null,null,null,null,null,null,null,null,null,null,null,null,null,null,null,null,null,null,null,null,null,null,null,null,null,null,null,null,null,null,null,null,null,null,{"$f":"AL175","v":"金額(税抜)"},null,null,null,null,null,null,null,null,null,null,{"$f":"AW83","v":""}]
[]
[]
[]
[]
[null,null,null,null,null,null,null,null,null,null,null,null,null,null,null,null,null,null,null,null,null,null,null,null,null,null,null,null,null,null,null,null,null,null,null,null,null,{"$f":"AL180","v":"消費税"},null,null,null,null,null,"税率",null,null,"税調",null,{"$f":"AW88","v":""}]
[]
[null,null,null,null,null,null,null,null,null,null,null,null,null,null,null,null,null,null,null,null,null,null,null,null,null,null,null,null,null,null,null,null,null,null,null,null,null,null,null,null,null,null,null,{"$f":"AR90","v":0},null,{"$f":"AT90","v":""}]

{"sheet":"細3-3","index":30,"n_rows":274,"n_cols":53,"rows_kept":274,"cut":false,"hidden":false,"merged":[[266,37,269,47],[266,48,269,54],[271,48,274,54],[258,48,261,54],[262,17,265,18],[262,19,265,20],[262,21,265,36],[262,37,265,39],[262,40,265,42],[262,43,265,47],[262,48,265,54],[258,17,261,18],[258,19,261,20],[258,21,261,36],[258,37,261,39],[258,40,261,42],[258,43,261,47],[271,37,274,42],[271,43,272,45],[273,43,274,44],[273,45,274,45],[273,46,274,47],[271,46,272,47],[250,48,253,54],[254,17,257,18],[254,19,257,20],[254,21,257,36],[254,37,257,39],[254,40,257,42],[254,43,257,47],[254,48,257,54],[250,17,253,18],[250,19,253,20],[250,21,253,36],[250,37,253,39],[250,40,253,42],[250,43,253,47],[242,48,245,54],[246,17,249,18],[246,19,249,20],[246,21,249,36],[246,37,249,39],[246,40,249,42],[246,43,249,47],[246,48,249,54],[242,17,245,18],[242,19,245,20],[242,21,245,36],[242,37,245,39],[242,40,245,42],[242,43,245,47],[234,48,237,54],[238,17,241,18],[238,19,241,20],[238,21,241,36],[238,37,241,39],[238,40,241,42],[238,43,241,47],[238,48,241,54],[234,17,237,18],[234,19,237,20],[234,21,237,36],[234,37,237,39],[234,40,237,42],[234,43,237,47],[222,17,225,18],[222,19,225,20],[222,21,225,36],[222,37,225,39],[222,40,225,42],[222,43,225,47],[222,48,225,54],[226,48,229,54],[230,17,233,18],[230,19,233,20],[230,21,233,36],[230,37,233,39],[230,40,233,42],[230,43,233,47],[230,48,233,54],[226,17,229,18],[226,19,229,20],[226,21,229,36],[226,37,229,39],[226,40,229,42],[226,43,229,47],[218,1,221,5],[218,6,221,15],[218,17,221,18],[218,19,221,20],[218,21,221,36],[218,37,221,39],[218,40,221,42],[218,43,221,47],[218,48,221,54],[210,40,213,42],[210,43,213,47],[210,48,213,54],[214,1,217,3],[214,4,217,5],[214,6,217,15],[214,17,217,18],[214,19,217,20],[214,21,217,36],[214,37,217,39],[210,1,213,5],[210,6,213,15],[210,17,213,18],[210,19,213,20],[210,21,213,36],[210,37,213,39],[214,40,217,42],[214,43,217,47],[214,48,217,54],[206,1,209,5],[206,6,209,15],[206,17,209,18],[206,19,209,20],[206,21,209,36],[206,37,209,39],[206,40,209,42],[206,43,209,47],[206,48,209,54],[198,43,201,47],[198,48,201,54],[202,1,205,5],[202,6,205,15],[202,17,205,18],[202,19,205,20],[202,21,205,36],[202,37,205,39],[202,40,205,42],[202,43,205,47],[198,1,201,5],[198,6,201,15],[198,17,201,20],[198,21,201,36],[198,37,201,39],[198,40,201,42],[202,48,205,54],[187,52,189,54],[192,1,195,5],[192,6,195,11],[192,12,195,15],[192,16,195,35],[192,37,195,40],[192,41,195,54],[174,37,177,47],[174,48,177,54],[179,48,182,54],[185,19,188,32],[186,1,189,11],[186,12,189,13],[187,40,189,44],[187,45,189,48],[187,49,189,51],[179,37,182,42],[179,43,180,45],[179,46,180,47],[181,43,182,44],[181,45,182,45],[181,46,182,47],[166,48,169,54],[170,17,173,18],[170,19,173,20],[170,21,173,36],[170,37,173,39],[170,40,173,42],[170,43,173,47],[170,48,173,54],[166,17,169,18],[166,19,169,20],[166,21,169,36],[166,37,169,39],[166,40,169,42],[166,43,169,47],[158,48,161,54],[162,17,165,18],[162,19,165,20],[162,21,165,36],[162,37,165,39],[162,40,165,42],[162,43,165,47],[162,48,165,54],[158,17,161,18],[158,19,161,20],[158,21,161,36],[158,37,161,39],[158,40,161,42],[158,43,161,47],[150,48,153,54],[154,17,157,18],[154,19,157,20],[154,21,157,36],[154,37,157,39],[154,40,157,42],[154,43,157,47],[154,48,157,54],[150,17,153,18],[150,19,153,20],[150,21,153,36],[150,37,153,39],[150,40,153,42],[150,43,153,47],[142,48,145,54],[146,17,149,18],[146,19,149,20],[146,21,149,36],[146,37,149,39],[146,40,149,42],[146,43,149,47],[146,48,149,54],[142,17,145,18],[142,19,145,20],[142,21,145,36],[142,37,145,39],[142,40,145,42],[142,43,145,47],[130,17,133,18],[130,19,133,20],[130,21,133,36],[130,37,133,39],[130,40,133,42],[130,43,133,47],[130,48,133,54],[134,48,137,54],[138,17,141,18],[138,19,141,20],[138,21,141,36],[138,37,141,39],[138,40,141,42],[138,43,141,47],[138,48,141,54],[134,17,137,18],[134,19,137,20],[134,21,137,36],[134,37,137,39],[134,40,137,42],[134,43,137,47],[126,1,129,5],[126,6,129,15],[126,17,129,18],[126,19,129,20],[126,21,129,36],[126,37,129,39],[126,40,129,42],[126,43,129,47],[126,48,129,54],[118,40,121,42],[118,43,121,47],[118,48,121,54],[122,1,125,3],[122,4,125,5],[122,6,125,15],[122,17,125,18],[122,19,125,20],[122,21,125,36],[122,37,125,39],[118,1,121,5],[118,6,121,15],[118,17,121,18],[118,19,121,20],[118,21,121,36],[118,37,121,39],[122,40,125,42],[122,43,125,47],[122,48,125,54],[114,1,117,5],[114,6,117,15],[114,17,117,18],[114,19,117,20],[114,21,117,36],[114,37,117,39],[114,40,117,42],[114,43,117,47],[114,48,117,54],[106,43,109,47],[106,48,109,54],[110,1,113,5],[110,6,113,15],[110,17,113,18],[110,19,113,20],[110,21,113,36],[110,37,113,39],[110,40,113,42],[110,43,113,47],[106,1,109,5],[106,6,109,15],[106,17,109,20],[106,21,109,36],[106,37,109,39],[106,40,109,42],[110,48,113,54],[95,52,97,54],[100,1,103,5],[100,6,103,11],[100,12,103,15],[100,16,103,35],[100,37,103,40],[100,41,103,54],[93,19,96,32],[94,1,97,11],[94,12,97,13],[95,40,97,44],[95,45,97,48],[95,49,97,51],[85,11,90,16],[85,17,90,25],[85,26,90,30],[85,31,90,35],[87,48,90,54],[82,37,85,47],[82,48,85,54],[83,1,84,4],[83,5,84,10],[83,11,84,16],[83,17,84,25],[83,26,84,30],[83,31,84,35],[85,1,90,4],[85,5,90,10],[87,37,90,42],[87,43,88,45],[89,43,90,44],[89,45,90,45],[89,46,90,47],[87,46,88,47],[74,48,77,54],[78,17,81,18],[78,19,81,20],[78,21,81,36],[78,37,81,39],[78,40,81,42],[78,43,81,47],[78,48,81,54],[74,17,77,18],[74,19,77,20],[74,21,77,36],[74,37,77,39],[74,40,77,42],[74,43,77,47],[66,48,69,54],[70,17,73,18],[70,19,73,20],[70,21,73,36],[70,37,73,39],[70,40,73,42],[70,43,73,47],[70,48,73,54],[66,17,69,18],[66,19,69,20],[66,21,69,36],[66,37,69,39],[66,40,69,42],[66,43,69,47],[58,48,61,54],[62,17,65,18],[62,19,65,20],[62,21,65,36],[62,37,65,39],[62,40,65,42],[62,43,65,47],[62,48,65,54],[58,17,61,18],[58,19,61,20],[58,21,61,36],[58,37,61,39],[58,40,61,42],[58,43,61,47],[50,48,53,54],[54,17,57,18],[54,19,57,20],[54,21,57,36],[54,37,57,39],[54,40,57,42],[54,43,57,47],[54,48,57,54],[50,17,53,18],[50,19,53,20],[50,21,53,36],[50,37,53,39],[50,40,53,42],[50,43,53,47],[38,17,41,18],[38,19,41,20],[38,21,41,36],[38,37,41,39],[38,40,41,42],[38,43,41,47],[38,48,41,54],[42,48,45,54],[46,17,49,18],[46,19,49,20],[46,21,49,36],[46,37,49,39],[46,40,49,42],[46,43,49,47],[46,48,49,54],[42,17,45,18],[42,19,45,20],[42,21,45,36],[42,37,45,39],[42,40,45,42],[42,43,45,47],[34,1,37,5],[34,6,37,15],[34,17,37,18],[34,19,37,20],[34,21,37,36],[34,37,37,39],[34,40,37,42],[34,43,37,47],[34,48,37,54],[26,40,29,42],[26,43,29,47],[26,48,29,54],[30,1,33,3],[30,4,33,5],[30,6,33,15],[30,17,33,18],[30,19,33,20],[30,21,33,36],[30,37,33,39],[26,1,29,5],[26,6,29,15],[26,17,29,18],[26,19,29,20],[26,21,29,36],[26,37,29,39],[30,40,33,42],[30,43,33,47],[30,48,33,54],[22,1,25,5],[22,6,25,15],[22,17,25,18],[22,19,25,20],[22,21,25,36],[22,37,25,39],[22,40,25,42],[22,43,25,47],[22,48,25,54],[14,43,17,47],[14,48,17,54],[18,1,21,5],[18,6,21,15],[18,17,21,18],[18,19,21,20],[18,21,21,36],[18,37,21,39],[18,40,21,42],[18,43,21,47],[14,1,17,5],[14,6,17,15],[14,17,17,20],[14,21,17,36],[14,37,17,39],[14,40,17,42],[18,48,21,54],[3,52,5,54],[8,1,11,5],[8,6,11,11],[8,12,11,15],[8,16,11,35],[8,37,11,40],[8,41,11,54],[1,19,4,32],[2,1,5,11],[2,12,5,13],[3,40,5,44],[3,45,5,48],[3,49,5,51]]}
[]
[null,null,null,null,null,null,null,null,null,null,null,null,null,null,null,null,null,null,null,"請求書明細書 (正)"]
[null,"株 式 会 社 種 村 建 設",null,null,null,null,null,null,null,null,null,null,"御中"]
[null,null,null,null,null,null,null,null,null,null,null,null,null,null,null,null,null,null,null,null,null,null,null,null,null,null,null,null,null,null,null,null,null,null,null,null,null,null,null,null,"請求年月日",null,null,null,null,{"$f":"IF(年=\"\",\"\",年)","v":""},null,null,null,{"$f":"IF(月=\"\",\"\",月)","v":""},null,null,{"$f":"IF(日=\"\",\"\",日)","v":""}]
[]
[]
[]
[]
[null,"工事番号",null,null,null,null,null,null,null,null,null,null,"工事名",null,null,null,null,null,null,null,null,null,null,null,null,null,null,null,null,null,null,null,null,null,null,null,null,"業者名",null,null,null,{"$f":"IF(社名=\"\",\"\",社名)","v":""}]
[]
[]
[]
[]
[]
[null,"注文番号",null,null,null,null,null,null,null,null,null,null,null,null,null,null,null,"月　日",null,null,null,"品　名・内　訳",null,null,null,null,null,null,null,null,null,null,null,null,null,null,null,"数 量",null,null,"単位",null,null,"単価",null,null,null,null,{"$f":"表紙①!P35","v":"金額(税抜)"}]
[]
[]
[]
[null,"契約金額",null,null,null,null,null,null,null,null,null,null,null,null,null,null,null,null,null,null,null,null,null,null,null,null,null,null,null,null,null,null,null,null,null,null,null,null,null,null,null,null,null,null,null,null,null,null,{"$f":"IF(V19=\"\",\"\",ROUND(AL19*AR19,0))","v":""}]
[]
[]
[]
[null,"増減額",null,null,null,null,null,null,null,null,null,null,null,null,null,null,null,null,null,null,null,null,null,null,null,null,null,null,null,null,null,null,null,null,null,null,null,null,null,null,null,null,null,null,null,null,null,null,{"$f":"IF(V23=\"\",\"\",ROUND(AL23*AR23,0))","v":""}]
[]
[]
[]
[null,"前回までの\n請求額",null,null,null,null,null,null,null,null,null,null,null,null,null,null,null,null,null,null,null,null,null,null,null,null,null,null,null,null,null,null,null,null,null,null,null,null,null,null,null,null,null,null,null,null,null,null,{"$f":"IF(V27=\"\",\"\",ROUND(AL27*AR27,0))","v":""}]
[]
[]
[]
[null,"今回\n請求額",null,null,null,null,null,null,null,null,null,null,null,null,null,null,null,null,null,null,null,null,null,null,null,null,null,null,null,null,null,null,null,null,null,null,null,null,null,null,null,null,null,null,null,null,null,null,{"$f":"IF(V31=\"\",\"\",ROUND(AL31*AR31,0))","v":""}]
[]
[]
[]
[null,"差引残高",null,null,null,null,{"$f":"IF(G19=\"\",\"\",G19+G23-G27-G31)","v":""},null,null,null,null,null,null,null,null,null,null,null,null,null,null,null,null,null,null,null,null,null,null,null,null,null,null,null,null,null,null,null,null,null,null,null,null,null,null,null,null,null,{"$f":"IF(V35=\"\",\"\",ROUND(AL35*AR35,0))","v":""}]
[]
[]
[]
[null,null,null,null,null,null,null,null,null,null,null,null,null,null,null,null,null,null,null,null,null,null,null,null,null,null,null,null,null,null,null,null,null,null,null,null,null,null,null,null,null,null,null,null,null,null,null,null,{"$f":"IF(V39=\"\",\"\",ROUND(AL39*AR39,0))","v":""}]
[]
[]
[]
[null,null,null,null,null,null,null,null,null,null,null,null,null,null,null,null,null,null,null,null,null,null,null,null,null,null,null,null,null,null,null,null,null,null,null,null,null,null,null,null,null,null,null,null,null,null,null,null,{"$f":"IF(V43=\"\",\"\",ROUND(AL43*AR43,0))","v":""}]
[]
[]
[]
[null,null,null,null,null,null,null,null,null,null,null,null,null,null,null,null,null,null,null,null,null,null,null,null,null,null,null,null,null,null,null,null,null,null,null,null,null,null,null,null,null,null,null,null,null,null,null,null,{"$f":"IF(V47=\"\",\"\",ROUND(AL47*AR47,0))","v":""}]
[]
[]
[]
[null,null,null,null,null,null,null,null,null,null,null,null,null,null,null,null,null,null,null,null,null,null,null,null,null,null,null,null,null,null,null,null,null,null,null,null,null,null,null,null,null,null,null,null,null,null,null,null,{"$f":"IF(V51=\"\",\"\",ROUND(AL51*AR51,0))","v":""}]
[]
[]
[]
[null,null,null,null,null,null,null,null,null,null,null,null,null,null,null,null,null,null,null,null,null,null,null,null,null,null,null,null,null,null,null,null,null,null,null,null,null,null,null,null,null,null,null,null,null,null,null,null,{"$f":"IF(V55=\"\",\"\",ROUND(AL55*AR55,0))","v":""}]
[]
[]
[]
[null,null,null,null,null,null,null,null,null,null,null,null,null,null,null,null,null,null,null,null,null,null,null,null,null,null,null,null,null,null,null,null,null,null,null,null,null,null,null,null,null,null,null,null,null,null,null,null,{"$f":"IF(V59=\"\",\"\",ROUND(AL59*AR59,0))","v":""}]
[]
[]
[]
[null,null,null,null,null,null,null,null,null,null,null,null,null,null,null,null,null,null,null,null,null,null,null,null,null,null,null,null,null,null,null,null,null,null,null,null,null,null,null,null,null,null,null,null,null,null,null,null,{"$f":"IF(V63=\"\",\"\",ROUND(AL63*AR63,0))","v":""}]
[]
[]
[]
[null,null,null,null,null,null,null,null,null,null,null,null,null,null,null,null,null,null,null,null,null,null,null,null,null,null,null,null,null,null,null,null,null,null,null,null,null,null,null,null,null,null,null,null,null,null,null,null,{"$f":"IF(V67=\"\",\"\",ROUND(AL67*AR67,0))","v":""}]
[]
[]
[]
[null,null,null,null,null,null,null,null,null,null,null,null,null,null,null,null,null,null,null,null,null,null,null,null,null,null,null,null,null,null,null,null,null,null,null,null,null,null,null,null,null,null,null,null,null,null,null,null,{"$f":"IF(V71=\"\",\"\",ROUND(AL71*AR71,0))","v":""}]
[]
[]
[]
[null,null,null,null,null,null,null,null,null,null,null,null,null,null,null,null,null,null,null,null,null,null,null,null,null,null,null,null,null,null,null,null,null,null,null,null,null,null,null,null,null,null,null,null,null,null,null,null,{"$f":"IF(V75=\"\",\"\",ROUND(AL75*AR75,0))","v":""}]
[]
[]
[]
[null,null,null,null,null,null,null,null,null,null,null,null,null,null,null,null,null,null,null,null,null,null,null,null,null,null,null,null,null,null,null,null,null,null,null,null,null,null,null,null,null,null,null,null,null,null,null,null,{"$f":"IF(V79=\"\",\"\",ROUND(AL79*AR79,0))","v":""}]
[]
[]
[]
[null,null,null,null,null,null,null,null,null,null,null,null,null,null,null,null,null,null,null,null,null,null,null,null,null,null,null,null,null,null,null,null,null,null,null,null,null,"金額(税抜)",null,null,null,null,null,null,null,null,null,null,{"$f":"IF(AW19=\"\",\"\",SUM(AW19:AW79))","v":""}]
[null,"社長",null,null,null,"専務",null,null,null,null,null,"常務",null,null,null,null,null,"部長･工場長",null,null,null,null,null,null,null,null,"担当者",null,null,null,null,"受付"]
[]
[]
[]
[null,null,null,null,null,null,null,null,null,null,null,null,null,null,null,null,null,null,null,null,null,null,null,null,null,null,null,null,null,null,null,null,null,null,null,null,null,"消費税",null,null,null,null,null,"税率",null,null,"税調",null,{"$f":"IF(AW83=\"\",\"\",IF(AR90=\"\",\"\",IF(AR90=8.1,ROUND(AW83*8/100,0)+AU90,ROUND(AW83*AR90/100,0)+AU90)))","v":""}]
[]
[null,null,null,null,null,null,null,null,null,null,null,null,null,null,null,null,null,null,null,null,null,null,null,null,null,null,null,null,null,null,null,null,null,null,null,null,null,null,null,null,null,null,null,null,null,{"$f":"IF(AR90=\"\",\"\",IF(AR90=8.1,\"旧\",IF(AR90=8,\"軽\",IF(AR90=0,\"非\",\"\"))))","v":""}]
[]
[]
[]
[null,null,null,null,null,null,null,null,null,null,null,null,null,null,null,null,null,null,null,"請求明細書 (現場控)"]
[null,"株 式 会 社 種 村 建 設",null,null,null,null,null,null,null,null,null,null,"御中"]
[null,null,null,null,null,null,null,null,null,null,null,null,null,null,null,null,null,null,null,null,null,null,null,null,null,null,null,null,null,null,null,null,null,null,null,null,null,null,null,null,"請求年月日",null,null,null,null,{"$f":"IF(AT4=\"\",\"\",AT4)","v":""},null,null,null,{"$f":"IF(AX4=\"\",\"\",AX4)","v":""},null,null,{"$f":"IF(BA4=\"\",\"\",BA4)","v":""}]
[]
[]
[]
[]
[null,"工事番号",null,null,null,null,{"$f":"IF(G9=\"\",\"\",G9)","v":""},null,null,null,null,null,"工事名",null,null,null,{"$f":"IF(Q9=\"\",\"\",Q9)","v":""},null,null,null,null,null,null,null,null,null,null,null,null,null,null,null,null,null,null,null,null,"業者名",null,null,null,{"$f":"IF(AP9=\"\",\"\",AP9)","v":""}]
[]
[]
[]
[]
[]
[null,"注文番号",null,null,null,null,{"$f":"IF(G15=\"\",\"\",G15)","v":""},null,null,null,null,null,null,null,null,null,null,"月　日",null,null,null,"品　名・内　訳",null,null,null,null,null,null,null,null,null,null,null,null,null,null,null,"数 量",null,null,"単位",null,null,"単価",null,null,null,null,{"$f":"AW15","v":"金額(税抜)"}]
[]
[]
[]
[null,"契約金額",null,null,null,null,{"$f":"IF(G19=\"\",\"\",G19)","v":""},null,null,null,null,null,null,null,null,null,null,{"$f":"IF(R19=\"\",\"\",R19)","v":""},null,{"$f":"IF(T19=\"\",\"\",T19)","v":""},null,{"$f":"IF(V19=\"\",\"\",V19)","v":""},null,{"$f":"IF(X19=\"\",\"\",X19)","v":""},null,{"$f":"IF(Z19=\"\",\"\",Z19)","v":""},null,{"$f":"IF(AB19=\"\",\"\",AB19)","v":""},null,{"$f":"IF(AD19=\"\",\"\",AD19)","v":""},null,{"$f":"IF(AF19=\"\",\"\",AF19)","v":""},null,{"$f":"IF(AH19=\"\",\"\",AH19)","v":""},null,{"$f":"IF(AJ19=\"\",\"\",AJ19)","v":""},null,{"$f":"IF(AL19=\"\",\"\",AL19)","v":""},null,null,{"$f":"IF(AO19=\"\",\"\",AO19)","v":""},null,null,{"$f":"IF(AR19=\"\",\"\",AR19)","v":""},null,null,null,null,{"$f":"IF(AW19=\"\",\"\",AW19)","v":""}]
[]
[]
[]
[null,"増減額",null,null,null,null,{"$f":"IF(G23=\"\",\"\",G23)","v":""},null,null,null,null,null,null,null,null,null,null,{"$f":"IF(R23=\"\",\"\",R23)","v":""},null,{"$f":"IF(T23=\"\",\"\",T23)","v":""},null,{"$f":"IF(V23=\"\",\"\",V23)","v":""},null,{"$f":"IF(X23=\"\",\"\",X23)","v":""},null,{"$f":"IF(Z23=\"\",\"\",Z23)","v":""},null,{"$f":"IF(AB23=\"\",\"\",AB23)","v":""},null,{"$f":"IF(AD23=\"\",\"\",AD23)","v":""},null,{"$f":"IF(AF23=\"\",\"\",AF23)","v":""},null,{"$f":"IF(AH23=\"\",\"\",AH23)","v":""},null,{"$f":"IF(AJ23=\"\",\"\",AJ23)","v":""},null,{"$f":"IF(AL23=\"\",\"\",AL23)","v":""},null,null,{"$f":"IF(AO23=\"\",\"\",AO23)","v":""},null,null,{"$f":"IF(AR23=\"\",\"\",AR23)","v":""},null,null,null,null,{"$f":"IF(AW23=\"\",\"\",AW23)","v":""}]
[]
[]
[]
[null,"前回までの\n請求額",null,null,null,null,{"$f":"IF(G27=\"\",\"\",G27)","v":""},null,null,null,null,null,null,null,null,null,null,{"$f":"IF(R27=\"\",\"\",R27)","v":""},null,{"$f":"IF(T27=\"\",\"\",T27)","v":""},null,{"$f":"IF(V27=\"\",\"\",V27)","v":""},null,{"$f":"IF(X27=\"\",\"\",X27)","v":""},null,{"$f":"IF(Z27=\"\",\"\",Z27)","v":""},null,{"$f":"IF(AB27=\"\",\"\",AB27)","v":""},null,{"$f":"IF(AD27=\"\",\"\",AD27)","v":""},null,{"$f":"IF(AF27=\"\",\"\",AF27)","v":""},null,{"$f":"IF(AH27=\"\",\"\",AH27)","v":""},null,{"$f":"IF(AJ27=\"\",\"\",AJ27)","v":""},null,{"$f":"IF(AL27=\"\",\"\",AL27)","v":""},null,null,{"$f":"IF(AO27=\"\",\"\",AO27)","v":""},null,null,{"$f":"IF(AR27=\"\",\"\",AR27)","v":""},null,null,null,null,{"$f":"IF(AW27=\"\",\"\",AW27)","v":""}]
[]
[]
[]
[null,"今回\n請求額",null,null,{"$f":"IF(E31=\"\",\"\",E31)","v":""},null,{"$f":"IF(G31=\"\",\"\",G31)","v":""},null,null,null,null,null,null,null,null,null,null,{"$f":"IF(R31=\"\",\"\",R31)","v":""},null,{"$f":"IF(T31=\"\",\"\",T31)","v":""},null,{"$f":"IF(V31=\"\",\"\",V31)","v":""},null,{"$f":"IF(X31=\"\",\"\",X31)","v":""},null,{"$f":"IF(Z31=\"\",\"\",Z31)","v":""},null,{"$f":"IF(AB31=\"\",\"\",AB31)","v":""},null,{"$f":"IF(AD31=\"\",\"\",AD31)","v":""},null,{"$f":"IF(AF31=\"\",\"\",AF31)","v":""},null,{"$f":"IF(AH31=\"\",\"\",AH31)","v":""},null,{"$f":"IF(AJ31=\"\",\"\",AJ31)","v":""},null,{"$f":"IF(AL31=\"\",\"\",AL31)","v":""},null,null,{"$f":"IF(AO31=\"\",\"\",AO31)","v":""},null,null,{"$f":"IF(AR31=\"\",\"\",AR31)","v":""},null,null,null,null,{"$f":"IF(AW31=\"\",\"\",AW31)","v":""}]
[]
[]
[]
[null,"差引残高",null,null,null,null,{"$f":"IF(G111=\"\",\"\",G111+G115-G119-G123)","v":""},null,null,null,null,null,null,null,null,null,null,{"$f":"IF(R35=\"\",\"\",R35)","v":""},null,{"$f":"IF(T35=\"\",\"\",T35)","v":""},null,{"$f":"IF(V35=\"\",\"\",V35)","v":""},null,{"$f":"IF(X35=\"\",\"\",X35)","v":""},null,{"$f":"IF(Z35=\"\",\"\",Z35)","v":""},null,{"$f":"IF(AB35=\"\",\"\",AB35)","v":""},null,{"$f":"IF(AD35=\"\",\"\",AD35)","v":""},null,{"$f":"IF(AF35=\"\",\"\",AF35)","v":""},null,{"$f":"IF(AH35=\"\",\"\",AH35)","v":""},null,{"$f":"IF(AJ35=\"\",\"\",AJ35)","v":""},null,{"$f":"IF(AL35=\"\",\"\",AL35)","v":""},null,null,{"$f":"IF(AO35=\"\",\"\",AO35)","v":""},null,null,{"$f":"IF(AR35=\"\",\"\",AR35)","v":""},null,null,null,null,{"$f":"IF(AW35=\"\",\"\",AW35)","v":""}]
[]
[]
[]
[null,null,null,null,null,null,null,null,null,null,null,null,null,null,null,null,null,{"$f":"IF(R39=\"\",\"\",R39)","v":""},null,{"$f":"IF(T39=\"\",\"\",T39)","v":""},null,{"$f":"IF(V39=\"\",\"\",V39)","v":""},null,{"$f":"IF(X39=\"\",\"\",X39)","v":""},null,{"$f":"IF(Z39=\"\",\"\",Z39)","v":""},null,{"$f":"IF(AB39=\"\",\"\",AB39)","v":""},null,{"$f":"IF(AD39=\"\",\"\",AD39)","v":""},null,{"$f":"IF(AF39=\"\",\"\",AF39)","v":""},null,{"$f":"IF(AH39=\"\",\"\",AH39)","v":""},null,{"$f":"IF(AJ39=\"\",\"\",AJ39)","v":""},null,{"$f":"IF(AL39=\"\",\"\",AL39)","v":""},null,null,{"$f":"IF(AO39=\"\",\"\",AO39)","v":""},null,null,{"$f":"IF(AR39=\"\",\"\",AR39)","v":""},null,null,null,null,{"$f":"IF(AW39=\"\",\"\",AW39)","v":""}]
[]
[]
[]
[null,null,null,null,null,null,null,null,null,null,null,null,null,null,null,null,null,{"$f":"IF(R43=\"\",\"\",R43)","v":""},null,{"$f":"IF(T43=\"\",\"\",T43)","v":""},null,{"$f":"IF(V43=\"\",\"\",V43)","v":""},null,{"$f":"IF(X43=\"\",\"\",X43)","v":""},null,{"$f":"IF(Z43=\"\",\"\",Z43)","v":""},null,{"$f":"IF(AB43=\"\",\"\",AB43)","v":""},null,{"$f":"IF(AD43=\"\",\"\",AD43)","v":""},null,{"$f":"IF(AF43=\"\",\"\",AF43)","v":""},null,{"$f":"IF(AH43=\"\",\"\",AH43)","v":""},null,{"$f":"IF(AJ43=\"\",\"\",AJ43)","v":""},null,{"$f":"IF(AL43=\"\",\"\",AL43)","v":""},null,null,{"$f":"IF(AO43=\"\",\"\",AO43)","v":""},null,null,{"$f":"IF(AR43=\"\",\"\",AR43)","v":""},null,null,null,null,{"$f":"IF(AW43=\"\",\"\",AW43)","v":""}]
[]
[]
[]
[null,null,null,null,null,null,null,null,null,null,null,null,null,null,null,null,null,{"$f":"IF(R47=\"\",\"\",R47)","v":""},null,{"$f":"IF(T47=\"\",\"\",T47)","v":""},null,{"$f":"IF(V47=\"\",\"\",V47)","v":""},null,{"$f":"IF(X47=\"\",\"\",X47)","v":""},null,{"$f":"IF(Z47=\"\",\"\",Z47)","v":""},null,{"$f":"IF(AB47=\"\",\"\",AB47)","v":""},null,{"$f":"IF(AD47=\"\",\"\",AD47)","v":""},null,{"$f":"IF(AF47=\"\",\"\",AF47)","v":""},null,{"$f":"IF(AH47=\"\",\"\",AH47)","v":""},null,{"$f":"IF(AJ47=\"\",\"\",AJ47)","v":""},null,{"$f":"IF(AL47=\"\",\"\",AL47)","v":""},null,null,{"$f":"IF(AO47=\"\",\"\",AO47)","v":""},null,null,{"$f":"IF(AR47=\"\",\"\",AR47)","v":""},null,null,null,null,{"$f":"IF(AW47=\"\",\"\",AW47)","v":""}]
[]
[]
[]
[null,null,null,null,null,null,null,null,null,null,null,null,null,null,null,null,null,{"$f":"IF(R51=\"\",\"\",R51)","v":""},null,{"$f":"IF(T51=\"\",\"\",T51)","v":""},null,{"$f":"IF(V51=\"\",\"\",V51)","v":""},null,{"$f":"IF(X51=\"\",\"\",X51)","v":""},null,{"$f":"IF(Z51=\"\",\"\",Z51)","v":""},null,{"$f":"IF(AB51=\"\",\"\",AB51)","v":""},null,{"$f":"IF(AD51=\"\",\"\",AD51)","v":""},null,{"$f":"IF(AF51=\"\",\"\",AF51)","v":""},null,{"$f":"IF(AH51=\"\",\"\",AH51)","v":""},null,{"$f":"IF(AJ51=\"\",\"\",AJ51)","v":""},null,{"$f":"IF(AL51=\"\",\"\",AL51)","v":""},null,null,{"$f":"IF(AO51=\"\",\"\",AO51)","v":""},null,null,{"$f":"IF(AR51=\"\",\"\",AR51)","v":""},null,null,null,null,{"$f":"IF(AW51=\"\",\"\",AW51)","v":""}]
[]
[]
[]
[null,null,null,null,null,null,null,null,null,null,null,null,null,null,null,null,null,{"$f":"IF(R55=\"\",\"\",R55)","v":""},null,{"$f":"IF(T55=\"\",\"\",T55)","v":""},null,{"$f":"IF(V55=\"\",\"\",V55)","v":""},null,{"$f":"IF(X55=\"\",\"\",X55)","v":""},null,{"$f":"IF(Z55=\"\",\"\",Z55)","v":""},null,{"$f":"IF(AB55=\"\",\"\",AB55)","v":""},null,{"$f":"IF(AD55=\"\",\"\",AD55)","v":""},null,{"$f":"IF(AF55=\"\",\"\",AF55)","v":""},null,{"$f":"IF(AH55=\"\",\"\",AH55)","v":""},null,{"$f":"IF(AJ55=\"\",\"\",AJ55)","v":""},null,{"$f":"IF(AL55=\"\",\"\",AL55)","v":""},null,null,{"$f":"IF(AO55=\"\",\"\",AO55)","v":""},null,null,{"$f":"IF(AR55=\"\",\"\",AR55)","v":""},null,null,null,null,{"$f":"IF(AW55=\"\",\"\",AW55)","v":""}]
[]
[]
[]
[null,null,null,null,null,null,null,null,null,null,null,null,null,null,null,null,null,{"$f":"IF(R59=\"\",\"\",R59)","v":""},null,{"$f":"IF(T59=\"\",\"\",T59)","v":""},null,{"$f":"IF(V59=\"\",\"\",V59)","v":""},null,{"$f":"IF(X59=\"\",\"\",X59)","v":""},null,{"$f":"IF(Z59=\"\",\"\",Z59)","v":""},null,{"$f":"IF(AB59=\"\",\"\",AB59)","v":""},null,{"$f":"IF(AD59=\"\",\"\",AD59)","v":""},null,{"$f":"IF(AF59=\"\",\"\",AF59)","v":""},null,{"$f":"IF(AH59=\"\",\"\",AH59)","v":""},null,{"$f":"IF(AJ59=\"\",\"\",AJ59)","v":""},null,{"$f":"IF(AL59=\"\",\"\",AL59)","v":""},null,null,{"$f":"IF(AO59=\"\",\"\",AO59)","v":""},null,null,{"$f":"IF(AR59=\"\",\"\",AR59)","v":""},null,null,null,null,{"$f":"IF(AW59=\"\",\"\",AW59)","v":""}]
[]
[]
[]
[null,null,null,null,null,null,null,null,null,null,null,null,null,null,null,null,null,{"$f":"IF(R63=\"\",\"\",R63)","v":""},null,{"$f":"IF(T63=\"\",\"\",T63)","v":""},null,{"$f":"IF(V63=\"\",\"\",V63)","v":""},null,{"$f":"IF(X63=\"\",\"\",X63)","v":""},null,{"$f":"IF(Z63=\"\",\"\",Z63)","v":""},null,{"$f":"IF(AB63=\"\",\"\",AB63)","v":""},null,{"$f":"IF(AD63=\"\",\"\",AD63)","v":""},null,{"$f":"IF(AF63=\"\",\"\",AF63)","v":""},null,{"$f":"IF(AH63=\"\",\"\",AH63)","v":""},null,{"$f":"IF(AJ63=\"\",\"\",AJ63)","v":""},null,{"$f":"IF(AL63=\"\",\"\",AL63)","v":""},null,null,{"$f":"IF(AO63=\"\",\"\",AO63)","v":""},null,null,{"$f":"IF(AR63=\"\",\"\",AR63)","v":""},null,null,null,null,{"$f":"IF(AW63=\"\",\"\",AW63)","v":""}]
[]
[]
[]
[null,null,null,null,null,null,null,null,null,null,null,null,null,null,null,null,null,{"$f":"IF(R67=\"\",\"\",R67)","v":""},null,{"$f":"IF(T67=\"\",\"\",T67)","v":""},null,{"$f":"IF(V67=\"\",\"\",V67)","v":""},null,{"$f":"IF(X67=\"\",\"\",X67)","v":""},null,{"$f":"IF(Z67=\"\",\"\",Z67)","v":""},null,{"$f":"IF(AB67=\"\",\"\",AB67)","v":""},null,{"$f":"IF(AD67=\"\",\"\",AD67)","v":""},null,{"$f":"IF(AF67=\"\",\"\",AF67)","v":""},null,{"$f":"IF(AH67=\"\",\"\",AH67)","v":""},null,{"$f":"IF(AJ67=\"\",\"\",AJ67)","v":""},null,{"$f":"IF(AL67=\"\",\"\",AL67)","v":""},null,null,{"$f":"IF(AO67=\"\",\"\",AO67)","v":""},null,null,{"$f":"IF(AR67=\"\",\"\",AR67)","v":""},null,null,null,null,{"$f":"IF(AW67=\"\",\"\",AW67)","v":""}]
[]
[]
[]
[null,null,null,null,null,null,null,null,null,null,null,null,null,null,null,null,null,{"$f":"IF(R71=\"\",\"\",R71)","v":""},null,{"$f":"IF(T71=\"\",\"\",T71)","v":""},null,{"$f":"IF(V71=\"\",\"\",V71)","v":""},null,{"$f":"IF(X71=\"\",\"\",X71)","v":""},null,{"$f":"IF(Z71=\"\",\"\",Z71)","v":""},null,{"$f":"IF(AB71=\"\",\"\",AB71)","v":""},null,{"$f":"IF(AD71=\"\",\"\",AD71)","v":""},null,{"$f":"IF(AF71=\"\",\"\",AF71)","v":""},null,{"$f":"IF(AH71=\"\",\"\",AH71)","v":""},null,{"$f":"IF(AJ71=\"\",\"\",AJ71)","v":""},null,{"$f":"IF(AL71=\"\",\"\",AL71)","v":""},null,null,{"$f":"IF(AO71=\"\",\"\",AO71)","v":""},null,null,{"$f":"IF(AR71=\"\",\"\",AR71)","v":""},null,null,null,null,{"$f":"IF(AW71=\"\",\"\",AW71)","v":""}]
[]
[]
[]
[null,null,null,null,null,null,null,null,null,null,null,null,null,null,null,null,null,{"$f":"IF(R75=\"\",\"\",R75)","v":""},null,{"$f":"IF(T75=\"\",\"\",T75)","v":""},null,{"$f":"IF(V75=\"\",\"\",V75)","v":""},null,{"$f":"IF(X75=\"\",\"\",X75)","v":""},null,{"$f":"IF(Z75=\"\",\"\",Z75)","v":""},null,{"$f":"IF(AB75=\"\",\"\",AB75)","v":""},null,{"$f":"IF(AD75=\"\",\"\",AD75)","v":""},null,{"$f":"IF(AF75=\"\",\"\",AF75)","v":""},null,{"$f":"IF(AH75=\"\",\"\",AH75)","v":""},null,{"$f":"IF(AJ75=\"\",\"\",AJ75)","v":""},null,{"$f":"IF(AL75=\"\",\"\",AL75)","v":""},null,null,{"$f":"IF(AO75=\"\",\"\",AO75)","v":""},null,null,{"$f":"IF(AR75=\"\",\"\",AR75)","v":""},null,null,null,null,{"$f":"IF(AW75=\"\",\"\",AW75)","v":""}]
[]
[]
[]
[null,null,null,null,null,null,null,null,null,null,null,null,null,null,null,null,null,{"$f":"IF(R79=\"\",\"\",R79)","v":""},null,{"$f":"IF(T79=\"\",\"\",T79)","v":""},null,{"$f":"IF(V79=\"\",\"\",V79)","v":""},null,{"$f":"IF(X79=\"\",\"\",X79)","v":""},null,{"$f":"IF(Z79=\"\",\"\",Z79)","v":""},null,{"$f":"IF(AB79=\"\",\"\",AB79)","v":""},null,{"$f":"IF(AD79=\"\",\"\",AD79)","v":""},null,{"$f":"IF(AF79=\"\",\"\",AF79)","v":""},null,{"$f":"IF(AH79=\"\",\"\",AH79)","v":""},null,{"$f":"IF(AJ79=\"\",\"\",AJ79)","v":""},null,{"$f":"IF(AL79=\"\",\"\",AL79)","v":""},null,null,{"$f":"IF(AO79=\"\",\"\",AO79)","v":""},null,null,{"$f":"IF(AR79=\"\",\"\",AR79)","v":""},null,null,null,null,{"$f":"IF(AW79=\"\",\"\",AW79)","v":""}]
[]
[]
[]
[null,null,null,null,null,null,null,null,null,null,null,null,null,null,null,null,null,null,null,null,null,null,null,null,null,null,null,null,null,null,null,null,null,null,null,null,null,{"$f":"AL83","v":"金額(税抜)"},null,null,null,null,null,null,null,null,null,null,{"$f":"AW83","v":""}]
[]
[]
[]
[]
[null,null,null,null,null,null,null,null,null,null,null,null,null,null,null,null,null,null,null,null,null,null,null,null,null,null,null,null,null,null,null,null,null,null,null,null,null,{"$f":"AL88","v":"消費税"},null,null,null,null,null,"税率",null,null,"税調",null,{"$f":"AW88","v":""}]
[]
[null,null,null,null,null,null,null,null,null,null,null,null,null,null,null,null,null,null,null,null,null,null,null,null,null,null,null,null,null,null,null,null,null,null,null,null,null,null,null,null,null,null,null,{"$f":"AR90","v":0},null,{"$f":"AT90","v":""}]
[]
[]
[]
[null,null,null,null,null,null,null,null,null,null,null,null,null,null,null,null,null,null,null,"請求明細書 (貴社控)"]
[null,"株 式 会 社 種 村 建 設",null,null,null,null,null,null,null,null,null,null,"御中"]
[null,null,null,null,null,null,null,null,null,null,null,null,null,null,null,null,null,null,null,null,null,null,null,null,null,null,null,null,null,null,null,null,null,null,null,null,null,null,null,null,"請求年月日",null,null,null,null,{"$f":"IF(AT4=\"\",\"\",AT4)","v":""},null,null,null,{"$f":"IF(AX96=\"\",\"\",AX96)","v":""},null,null,{"$f":"IF(BA96=\"\",\"\",BA96)","v":""}]
[]
[]
[]
[]
[null,"工事番号",null,null,null,null,{"$f":"IF(G101=\"\",\"\",G101)","v":""},null,null,null,null,null,"工事名",null,null,null,{"$f":"IF(Q101=\"\",\"\",Q101)","v":""},null,null,null,null,null,null,null,null,null,null,null,null,null,null,null,null,null,null,null,null,"業者名",null,null,null,{"$f":"IF(AP101=\"\",\"\",AP101)","v":""}]
[]
[]
[]
[]
[]
[null,"注文番号",null,null,null,null,{"$f":"IF(G107=\"\",\"\",G107)","v":""},null,null,null,null,null,null,null,null,null,null,"月　日",null,null,null,"品　名・内　訳",null,null,null,null,null,null,null,null,null,null,null,null,null,null,null,"数 量",null,null,"単位",null,null,"単価",null,null,null,null,{"$f":"AW15","v":"金額(税抜)"}]
[]
[]
[]
[null,"契約金額",null,null,null,null,{"$f":"IF(G111=\"\",\"\",G111)","v":""},null,null,null,null,null,null,null,null,null,null,{"$f":"IF(R111=\"\",\"\",R111)","v":""},null,{"$f":"IF(T111=\"\",\"\",T111)","v":""},null,{"$f":"IF(V111=\"\",\"\",V111)","v":""},null,{"$f":"IF(X111=\"\",\"\",X111)","v":""},null,{"$f":"IF(Z111=\"\",\"\",Z111)","v":""},null,{"$f":"IF(AB111=\"\",\"\",AB111)","v":""},null,{"$f":"IF(AD111=\"\",\"\",AD111)","v":""},null,{"$f":"IF(AF111=\"\",\"\",AF111)","v":""},null,{"$f":"IF(AH111=\"\",\"\",AH111)","v":""},null,{"$f":"IF(AJ111=\"\",\"\",AJ111)","v":""},null,{"$f":"IF(AL111=\"\",\"\",AL111)","v":""},null,null,{"$f":"IF(AO111=\"\",\"\",AO111)","v":""},null,null,{"$f":"IF(AR111=\"\",\"\",AR111)","v":""},null,null,null,null,{"$f":"IF(AW111=\"\",\"\",AW111)","v":""}]
[]
[]
[]
[null,"増減額",null,null,null,null,{"$f":"IF(G115=\"\",\"\",G115)","v":""},null,null,null,null,null,null,null,null,null,null,{"$f":"IF(R115=\"\",\"\",R115)","v":""},null,{"$f":"IF(T115=\"\",\"\",T115)","v":""},null,{"$f":"IF(V115=\"\",\"\",V115)","v":""},null,{"$f":"IF(X115=\"\",\"\",X115)","v":""},null,{"$f":"IF(Z115=\"\",\"\",Z115)","v":""},null,{"$f":"IF(AB115=\"\",\"\",AB115)","v":""},null,{"$f":"IF(AD115=\"\",\"\",AD115)","v":""},null,{"$f":"IF(AF115=\"\",\"\",AF115)","v":""},null,{"$f":"IF(AH115=\"\",\"\",AH115)","v":""},null,{"$f":"IF(AJ115=\"\",\"\",AJ115)","v":""},null,{"$f":"IF(AL115=\"\",\"\",AL115)","v":""},null,null,{"$f":"IF(AO115=\"\",\"\",AO115)","v":""},null,null,{"$f":"IF(AR115=\"\",\"\",AR115)","v":""},null,null,null,null,{"$f":"IF(AW115=\"\",\"\",AW115)","v":""}]
[]
[]
[]
[null,"前回までの\n請求額",null,null,null,null,{"$f":"IF(G119=\"\",\"\",G119)","v":""},null,null,null,null,null,null,null,null,null,null,{"$f":"IF(R119=\"\",\"\",R119)","v":""},null,{"$f":"IF(T119=\"\",\"\",T119)","v":""},null,{"$f":"IF(V119=\"\",\"\",V119)","v":""},null,{"$f":"IF(X119=\"\",\"\",X119)","v":""},null,{"$f":"IF(Z119=\"\",\"\",Z119)","v":""},null,{"$f":"IF(AB119=\"\",\"\",AB119)","v":""},null,{"$f":"IF(AD119=\"\",\"\",AD119)","v":""},null,{"$f":"IF(AF119=\"\",\"\",AF119)","v":""},null,{"$f":"IF(AH119=\"\",\"\",AH119)","v":""},null,{"$f":"IF(AJ119=\"\",\"\",AJ119)","v":""},null,{"$f":"IF(AL119=\"\",\"\",AL119)","v":""},null,null,{"$f":"IF(AO119=\"\",\"\",AO119)","v":""},null,null,{"$f":"IF(AR119=\"\",\"\",AR119)","v":""},null,null,null,null,{"$f":"IF(AW119=\"\",\"\",AW119)","v":""}]
[]
[]
[]
[null,"今回\n請求額",null,null,{"$f":"IF(E31=\"\",\"\",E31)","v":""},null,{"$f":"IF(G123=\"\",\"\",G123)","v":""},null,null,null,null,null,null,null,null,null,null,{"$f":"IF(R123=\"\",\"\",R123)","v":""},null,{"$f":"IF(T123=\"\",\"\",T123)","v":""},null,{"$f":"IF(V123=\"\",\"\",V123)","v":""},null,{"$f":"IF(X123=\"\",\"\",X123)","v":""},null,{"$f":"IF(Z123=\"\",\"\",Z123)","v":""},null,{"$f":"IF(AB123=\"\",\"\",AB123)","v":""},null,{"$f":"IF(AD123=\"\",\"\",AD123)","v":""},null,{"$f":"IF(AF123=\"\",\"\",AF123)","v":""},null,{"$f":"IF(AH123=\"\",\"\",AH123)","v":""},null,{"$f":"IF(AJ123=\"\",\"\",AJ123)","v":""},null,{"$f":"IF(AL123=\"\",\"\",AL123)","v":""},null,null,{"$f":"IF(AO123=\"\",\"\",AO123)","v":""},null,null,{"$f":"IF(AR123=\"\",\"\",AR123)","v":""},null,null,null,null,{"$f":"IF(AW123=\"\",\"\",AW123)","v":""}]
[]
[]
[]
[null,"差引残高",null,null,null,null,{"$f":"IF(G203=\"\",\"\",G203+G207-G211-G215)","v":""},null,null,null,null,null,null,null,null,null,null,{"$f":"IF(R127=\"\",\"\",R127)","v":""},null,{"$f":"IF(T127=\"\",\"\",T127)","v":""},null,{"$f":"IF(V127=\"\",\"\",V127)","v":""},null,{"$f":"IF(X127=\"\",\"\",X127)","v":""},null,{"$f":"IF(Z127=\"\",\"\",Z127)","v":""},null,{"$f":"IF(AB127=\"\",\"\",AB127)","v":""},null,{"$f":"IF(AD127=\"\",\"\",AD127)","v":""},null,{"$f":"IF(AF127=\"\",\"\",AF127)","v":""},null,{"$f":"IF(AH127=\"\",\"\",AH127)","v":""},null,{"$f":"IF(AJ127=\"\",\"\",AJ127)","v":""},null,{"$f":"IF(AL127=\"\",\"\",AL127)","v":""},null,null,{"$f":"IF(AO127=\"\",\"\",AO127)","v":""},null,null,{"$f":"IF(AR127=\"\",\"\",AR127)","v":""},null,null,null,null,{"$f":"IF(AW127=\"\",\"\",AW127)","v":""}]
[]
[]
[]
[null,null,null,null,null,null,null,null,null,null,null,null,null,null,null,null,null,{"$f":"IF(R131=\"\",\"\",R131)","v":""},null,{"$f":"IF(T131=\"\",\"\",T131)","v":""},null,{"$f":"IF(V131=\"\",\"\",V131)","v":""},null,{"$f":"IF(X131=\"\",\"\",X131)","v":""},null,{"$f":"IF(Z131=\"\",\"\",Z131)","v":""},null,{"$f":"IF(AB131=\"\",\"\",AB131)","v":""},null,{"$f":"IF(AD131=\"\",\"\",AD131)","v":""},null,{"$f":"IF(AF131=\"\",\"\",AF131)","v":""},null,{"$f":"IF(AH131=\"\",\"\",AH131)","v":""},null,{"$f":"IF(AJ131=\"\",\"\",AJ131)","v":""},null,{"$f":"IF(AL131=\"\",\"\",AL131)","v":""},null,null,{"$f":"IF(AO131=\"\",\"\",AO131)","v":""},null,null,{"$f":"IF(AR131=\"\",\"\",AR131)","v":""},null,null,null,null,{"$f":"IF(AW131=\"\",\"\",AW131)","v":""}]
[]
[]
[]
[null,null,null,null,null,null,null,null,null,null,null,null,null,null,null,null,null,{"$f":"IF(R135=\"\",\"\",R135)","v":""},null,{"$f":"IF(T135=\"\",\"\",T135)","v":""},null,{"$f":"IF(V135=\"\",\"\",V135)","v":""},null,{"$f":"IF(X135=\"\",\"\",X135)","v":""},null,{"$f":"IF(Z135=\"\",\"\",Z135)","v":""},null,{"$f":"IF(AB135=\"\",\"\",AB135)","v":""},null,{"$f":"IF(AD135=\"\",\"\",AD135)","v":""},null,{"$f":"IF(AF135=\"\",\"\",AF135)","v":""},null,{"$f":"IF(AH135=\"\",\"\",AH135)","v":""},null,{"$f":"IF(AJ135=\"\",\"\",AJ135)","v":""},null,{"$f":"IF(AL135=\"\",\"\",AL135)","v":""},null,null,{"$f":"IF(AO135=\"\",\"\",AO135)","v":""},null,null,{"$f":"IF(AR135=\"\",\"\",AR135)","v":""},null,null,null,null,{"$f":"IF(AW135=\"\",\"\",AW135)","v":""}]
[]
[]
[]
[null,null,null,null,null,null,null,null,null,null,null,null,null,null,null,null,null,{"$f":"IF(R139=\"\",\"\",R139)","v":""},null,{"$f":"IF(T139=\"\",\"\",T139)","v":""},null,{"$f":"IF(V139=\"\",\"\",V139)","v":""},null,{"$f":"IF(X139=\"\",\"\",X139)","v":""},null,{"$f":"IF(Z139=\"\",\"\",Z139)","v":""},null,{"$f":"IF(AB139=\"\",\"\",AB139)","v":""},null,{"$f":"IF(AD139=\"\",\"\",AD139)","v":""},null,{"$f":"IF(AF139=\"\",\"\",AF139)","v":""},null,{"$f":"IF(AH139=\"\",\"\",AH139)","v":""},null,{"$f":"IF(AJ139=\"\",\"\",AJ139)","v":""},null,{"$f":"IF(AL139=\"\",\"\",AL139)","v":""},null,null,{"$f":"IF(AO139=\"\",\"\",AO139)","v":""},null,null,{"$f":"IF(AR139=\"\",\"\",AR139)","v":""},null,null,null,null,{"$f":"IF(AW139=\"\",\"\",AW139)","v":""}]
[]
[]
[]
[null,null,null,null,null,null,null,null,null,null,null,null,null,null,null,null,null,{"$f":"IF(R143=\"\",\"\",R143)","v":""},null,{"$f":"IF(T143=\"\",\"\",T143)","v":""},null,{"$f":"IF(V143=\"\",\"\",V143)","v":""},null,{"$f":"IF(X143=\"\",\"\",X143)","v":""},null,{"$f":"IF(Z143=\"\",\"\",Z143)","v":""},null,{"$f":"IF(AB143=\"\",\"\",AB143)","v":""},null,{"$f":"IF(AD143=\"\",\"\",AD143)","v":""},null,{"$f":"IF(AF143=\"\",\"\",AF143)","v":""},null,{"$f":"IF(AH143=\"\",\"\",AH143)","v":""},null,{"$f":"IF(AJ143=\"\",\"\",AJ143)","v":""},null,{"$f":"IF(AL143=\"\",\"\",AL143)","v":""},null,null,{"$f":"IF(AO143=\"\",\"\",AO143)","v":""},null,null,{"$f":"IF(AR143=\"\",\"\",AR143)","v":""},null,null,null,null,{"$f":"IF(AW143=\"\",\"\",AW143)","v":""}]
[]
[]
[]
[null,null,null,null,null,null,null,null,null,null,null,null,null,null,null,null,null,{"$f":"IF(R147=\"\",\"\",R147)","v":""},null,{"$f":"IF(T147=\"\",\"\",T147)","v":""},null,{"$f":"IF(V147=\"\",\"\",V147)","v":""},null,{"$f":"IF(X147=\"\",\"\",X147)","v":""},null,{"$f":"IF(Z147=\"\",\"\",Z147)","v":""},null,{"$f":"IF(AB147=\"\",\"\",AB147)","v":""},null,{"$f":"IF(AD147=\"\",\"\",AD147)","v":""},null,{"$f":"IF(AF147=\"\",\"\",AF147)","v":""},null,{"$f":"IF(AH147=\"\",\"\",AH147)","v":""},null,{"$f":"IF(AJ147=\"\",\"\",AJ147)","v":""},null,{"$f":"IF(AL147=\"\",\"\",AL147)","v":""},null,null,{"$f":"IF(AO147=\"\",\"\",AO147)","v":""},null,null,{"$f":"IF(AR147=\"\",\"\",AR147)","v":""},null,null,null,null,{"$f":"IF(AW147=\"\",\"\",AW147)","v":""}]
[]
[]
[]
[null,null,null,null,null,null,null,null,null,null,null,null,null,null,null,null,null,{"$f":"IF(R151=\"\",\"\",R151)","v":""},null,{"$f":"IF(T151=\"\",\"\",T151)","v":""},null,{"$f":"IF(V151=\"\",\"\",V151)","v":""},null,{"$f":"IF(X151=\"\",\"\",X151)","v":""},null,{"$f":"IF(Z151=\"\",\"\",Z151)","v":""},null,{"$f":"IF(AB151=\"\",\"\",AB151)","v":""},null,{"$f":"IF(AD151=\"\",\"\",AD151)","v":""},null,{"$f":"IF(AF151=\"\",\"\",AF151)","v":""},null,{"$f":"IF(AH151=\"\",\"\",AH151)","v":""},null,{"$f":"IF(AJ151=\"\",\"\",AJ151)","v":""},null,{"$f":"IF(AL151=\"\",\"\",AL151)","v":""},null,null,{"$f":"IF(AO151=\"\",\"\",AO151)","v":""},null,null,{"$f":"IF(AR151=\"\",\"\",AR151)","v":""},null,null,null,null,{"$f":"IF(AW151=\"\",\"\",AW151)","v":""}]
[]
[]
[]
[null,null,null,null,null,null,null,null,null,null,null,null,null,null,null,null,null,{"$f":"IF(R155=\"\",\"\",R155)","v":""},null,{"$f":"IF(T155=\"\",\"\",T155)","v":""},null,{"$f":"IF(V155=\"\",\"\",V155)","v":""},null,{"$f":"IF(X155=\"\",\"\",X155)","v":""},null,{"$f":"IF(Z155=\"\",\"\",Z155)","v":""},null,{"$f":"IF(AB155=\"\",\"\",AB155)","v":""},null,{"$f":"IF(AD155=\"\",\"\",AD155)","v":""},null,{"$f":"IF(AF155=\"\",\"\",AF155)","v":""},null,{"$f":"IF(AH155=\"\",\"\",AH155)","v":""},null,{"$f":"IF(AJ155=\"\",\"\",AJ155)","v":""},null,{"$f":"IF(AL155=\"\",\"\",AL155)","v":""},null,null,{"$f":"IF(AO155=\"\",\"\",AO155)","v":""},null,null,{"$f":"IF(AR155=\"\",\"\",AR155)","v":""},null,null,null,null,{"$f":"IF(AW155=\"\",\"\",AW155)","v":""}]
[]
[]
[]
[null,null,null,null,null,null,null,null,null,null,null,null,null,null,null,null,null,{"$f":"IF(R159=\"\",\"\",R159)","v":""},null,{"$f":"IF(T159=\"\",\"\",T159)","v":""},null,{"$f":"IF(V159=\"\",\"\",V159)","v":""},null,{"$f":"IF(X159=\"\",\"\",X159)","v":""},null,{"$f":"IF(Z159=\"\",\"\",Z159)","v":""},null,{"$f":"IF(AB159=\"\",\"\",AB159)","v":""},null,{"$f":"IF(AD159=\"\",\"\",AD159)","v":""},null,{"$f":"IF(AF159=\"\",\"\",AF159)","v":""},null,{"$f":"IF(AH159=\"\",\"\",AH159)","v":""},null,{"$f":"IF(AJ159=\"\",\"\",AJ159)","v":""},null,{"$f":"IF(AL159=\"\",\"\",AL159)","v":""},null,null,{"$f":"IF(AO159=\"\",\"\",AO159)","v":""},null,null,{"$f":"IF(AR159=\"\",\"\",AR159)","v":""},null,null,null,null,{"$f":"IF(AW159=\"\",\"\",AW159)","v":""}]
[]
[]
[]
[null,null,null,null,null,null,null,null,null,null,null,null,null,null,null,null,null,{"$f":"IF(R163=\"\",\"\",R163)","v":""},null,{"$f":"IF(T163=\"\",\"\",T163)","v":""},null,{"$f":"IF(V163=\"\",\"\",V163)","v":""},null,{"$f":"IF(X163=\"\",\"\",X163)","v":""},null,{"$f":"IF(Z163=\"\",\"\",Z163)","v":""},null,{"$f":"IF(AB163=\"\",\"\",AB163)","v":""},null,{"$f":"IF(AD163=\"\",\"\",AD163)","v":""},null,{"$f":"IF(AF163=\"\",\"\",AF163)","v":""},null,{"$f":"IF(AH163=\"\",\"\",AH163)","v":""},null,{"$f":"IF(AJ163=\"\",\"\",AJ163)","v":""},null,{"$f":"IF(AL163=\"\",\"\",AL163)","v":""},null,null,{"$f":"IF(AO163=\"\",\"\",AO163)","v":""},null,null,{"$f":"IF(AR163=\"\",\"\",AR163)","v":""},null,null,null,null,{"$f":"IF(AW163=\"\",\"\",AW163)","v":""}]
[]
[]
[]
[null,null,null,null,null,null,null,null,null,null,null,null,null,null,null,null,null,{"$f":"IF(R167=\"\",\"\",R167)","v":""},null,{"$f":"IF(T167=\"\",\"\",T167)","v":""},null,{"$f":"IF(V167=\"\",\"\",V167)","v":""},null,{"$f":"IF(X167=\"\",\"\",X167)","v":""},null,{"$f":"IF(Z167=\"\",\"\",Z167)","v":""},null,{"$f":"IF(AB167=\"\",\"\",AB167)","v":""},null,{"$f":"IF(AD167=\"\",\"\",AD167)","v":""},null,{"$f":"IF(AF167=\"\",\"\",AF167)","v":""},null,{"$f":"IF(AH167=\"\",\"\",AH167)","v":""},null,{"$f":"IF(AJ167=\"\",\"\",AJ167)","v":""},null,{"$f":"IF(AL167=\"\",\"\",AL167)","v":""},null,null,{"$f":"IF(AO167=\"\",\"\",AO167)","v":""},null,null,{"$f":"IF(AR167=\"\",\"\",AR167)","v":""},null,null,null,null,{"$f":"IF(AW167=\"\",\"\",AW167)","v":""}]
[]
[]
[]
[null,null,null,null,null,null,null,null,null,null,null,null,null,null,null,null,null,{"$f":"IF(R171=\"\",\"\",R171)","v":""},null,{"$f":"IF(T171=\"\",\"\",T171)","v":""},null,{"$f":"IF(V171=\"\",\"\",V171)","v":""},null,{"$f":"IF(X171=\"\",\"\",X171)","v":""},null,{"$f":"IF(Z171=\"\",\"\",Z171)","v":""},null,{"$f":"IF(AB171=\"\",\"\",AB171)","v":""},null,{"$f":"IF(AD171=\"\",\"\",AD171)","v":""},null,{"$f":"IF(AF171=\"\",\"\",AF171)","v":""},null,{"$f":"IF(AH171=\"\",\"\",AH171)","v":""},null,{"$f":"IF(AJ171=\"\",\"\",AJ171)","v":""},null,{"$f":"IF(AL171=\"\",\"\",AL171)","v":""},null,null,{"$f":"IF(AO171=\"\",\"\",AO171)","v":""},null,null,{"$f":"IF(AR171=\"\",\"\",AR171)","v":""},null,null,null,null,{"$f":"IF(AW171=\"\",\"\",AW171)","v":""}]
[]
[]
[]
[null,null,null,null,null,null,null,null,null,null,null,null,null,null,null,null,null,null,null,null,null,null,null,null,null,null,null,null,null,null,null,null,null,null,null,null,null,{"$f":"AL175","v":"金額(税抜)"},null,null,null,null,null,null,null,null,null,null,{"$f":"AW83","v":""}]
[]
[]
[]
[]
[null,null,null,null,null,null,null,null,null,null,null,null,null,null,null,null,null,null,null,null,null,null,null,null,null,null,null,null,null,null,null,null,null,null,null,null,null,{"$f":"AL180","v":"消費税"},null,null,null,null,null,"税率",null,null,"税調",null,{"$f":"AW88","v":""}]
[]
[null,null,null,null,null,null,null,null,null,null,null,null,null,null,null,null,null,null,null,null,null,null,null,null,null,null,null,null,null,null,null,null,null,null,null,null,null,null,null,null,null,null,null,{"$f":"AR90","v":0},null,{"$f":"AT90","v":""}]

{"sheet":"細3-4","index":31,"n_rows":274,"n_cols":53,"rows_kept":274,"cut":false,"hidden":false,"merged":[[266,37,269,47],[266,48,269,54],[271,48,274,54],[258,48,261,54],[262,17,265,18],[262,19,265,20],[262,21,265,36],[262,37,265,39],[262,40,265,42],[262,43,265,47],[262,48,265,54],[258,17,261,18],[258,19,261,20],[258,21,261,36],[258,37,261,39],[258,40,261,42],[258,43,261,47],[271,37,274,42],[271,43,272,45],[273,43,274,44],[273,45,274,45],[273,46,274,47],[271,46,272,47],[250,48,253,54],[254,17,257,18],[254,19,257,20],[254,21,257,36],[254,37,257,39],[254,40,257,42],[254,43,257,47],[254,48,257,54],[250,17,253,18],[250,19,253,20],[250,21,253,36],[250,37,253,39],[250,40,253,42],[250,43,253,47],[242,48,245,54],[246,17,249,18],[246,19,249,20],[246,21,249,36],[246,37,249,39],[246,40,249,42],[246,43,249,47],[246,48,249,54],[242,17,245,18],[242,19,245,20],[242,21,245,36],[242,37,245,39],[242,40,245,42],[242,43,245,47],[234,48,237,54],[238,17,241,18],[238,19,241,20],[238,21,241,36],[238,37,241,39],[238,40,241,42],[238,43,241,47],[238,48,241,54],[234,17,237,18],[234,19,237,20],[234,21,237,36],[234,37,237,39],[234,40,237,42],[234,43,237,47],[222,17,225,18],[222,19,225,20],[222,21,225,36],[222,37,225,39],[222,40,225,42],[222,43,225,47],[222,48,225,54],[226,48,229,54],[230,17,233,18],[230,19,233,20],[230,21,233,36],[230,37,233,39],[230,40,233,42],[230,43,233,47],[230,48,233,54],[226,17,229,18],[226,19,229,20],[226,21,229,36],[226,37,229,39],[226,40,229,42],[226,43,229,47],[218,1,221,5],[218,6,221,15],[218,17,221,18],[218,19,221,20],[218,21,221,36],[218,37,221,39],[218,40,221,42],[218,43,221,47],[218,48,221,54],[210,40,213,42],[210,43,213,47],[210,48,213,54],[214,1,217,3],[214,4,217,5],[214,6,217,15],[214,17,217,18],[214,19,217,20],[214,21,217,36],[214,37,217,39],[210,1,213,5],[210,6,213,15],[210,17,213,18],[210,19,213,20],[210,21,213,36],[210,37,213,39],[214,40,217,42],[214,43,217,47],[214,48,217,54],[206,1,209,5],[206,6,209,15],[206,17,209,18],[206,19,209,20],[206,21,209,36],[206,37,209,39],[206,40,209,42],[206,43,209,47],[206,48,209,54],[198,43,201,47],[198,48,201,54],[202,1,205,5],[202,6,205,15],[202,17,205,18],[202,19,205,20],[202,21,205,36],[202,37,205,39],[202,40,205,42],[202,43,205,47],[198,1,201,5],[198,6,201,15],[198,17,201,20],[198,21,201,36],[198,37,201,39],[198,40,201,42],[202,48,205,54],[187,52,189,54],[192,1,195,5],[192,6,195,11],[192,12,195,15],[192,16,195,35],[192,37,195,40],[192,41,195,54],[174,37,177,47],[174,48,177,54],[179,48,182,54],[185,19,188,32],[186,1,189,11],[186,12,189,13],[187,40,189,44],[187,45,189,48],[187,49,189,51],[179,37,182,42],[179,43,180,45],[179,46,180,47],[181,43,182,44],[181,45,182,45],[181,46,182,47],[166,48,169,54],[170,17,173,18],[170,19,173,20],[170,21,173,36],[170,37,173,39],[170,40,173,42],[170,43,173,47],[170,48,173,54],[166,17,169,18],[166,19,169,20],[166,21,169,36],[166,37,169,39],[166,40,169,42],[166,43,169,47],[158,48,161,54],[162,17,165,18],[162,19,165,20],[162,21,165,36],[162,37,165,39],[162,40,165,42],[162,43,165,47],[162,48,165,54],[158,17,161,18],[158,19,161,20],[158,21,161,36],[158,37,161,39],[158,40,161,42],[158,43,161,47],[150,48,153,54],[154,17,157,18],[154,19,157,20],[154,21,157,36],[154,37,157,39],[154,40,157,42],[154,43,157,47],[154,48,157,54],[150,17,153,18],[150,19,153,20],[150,21,153,36],[150,37,153,39],[150,40,153,42],[150,43,153,47],[142,48,145,54],[146,17,149,18],[146,19,149,20],[146,21,149,36],[146,37,149,39],[146,40,149,42],[146,43,149,47],[146,48,149,54],[142,17,145,18],[142,19,145,20],[142,21,145,36],[142,37,145,39],[142,40,145,42],[142,43,145,47],[130,17,133,18],[130,19,133,20],[130,21,133,36],[130,37,133,39],[130,40,133,42],[130,43,133,47],[130,48,133,54],[134,48,137,54],[138,17,141,18],[138,19,141,20],[138,21,141,36],[138,37,141,39],[138,40,141,42],[138,43,141,47],[138,48,141,54],[134,17,137,18],[134,19,137,20],[134,21,137,36],[134,37,137,39],[134,40,137,42],[134,43,137,47],[126,1,129,5],[126,6,129,15],[126,17,129,18],[126,19,129,20],[126,21,129,36],[126,37,129,39],[126,40,129,42],[126,43,129,47],[126,48,129,54],[118,40,121,42],[118,43,121,47],[118,48,121,54],[122,1,125,3],[122,4,125,5],[122,6,125,15],[122,17,125,18],[122,19,125,20],[122,21,125,36],[122,37,125,39],[118,1,121,5],[118,6,121,15],[118,17,121,18],[118,19,121,20],[118,21,121,36],[118,37,121,39],[122,40,125,42],[122,43,125,47],[122,48,125,54],[114,1,117,5],[114,6,117,15],[114,17,117,18],[114,19,117,20],[114,21,117,36],[114,37,117,39],[114,40,117,42],[114,43,117,47],[114,48,117,54],[106,43,109,47],[106,48,109,54],[110,1,113,5],[110,6,113,15],[110,17,113,18],[110,19,113,20],[110,21,113,36],[110,37,113,39],[110,40,113,42],[110,43,113,47],[106,1,109,5],[106,6,109,15],[106,17,109,20],[106,21,109,36],[106,37,109,39],[106,40,109,42],[110,48,113,54],[95,52,97,54],[100,1,103,5],[100,6,103,11],[100,12,103,15],[100,16,103,35],[100,37,103,40],[100,41,103,54],[93,19,96,32],[94,1,97,11],[94,12,97,13],[95,40,97,44],[95,45,97,48],[95,49,97,51],[85,11,90,16],[85,17,90,25],[85,26,90,30],[85,31,90,35],[87,48,90,54],[82,37,85,47],[82,48,85,54],[83,1,84,4],[83,5,84,10],[83,11,84,16],[83,17,84,25],[83,26,84,30],[83,31,84,35],[85,1,90,4],[85,5,90,10],[87,37,90,42],[87,43,88,45],[89,43,90,44],[89,45,90,45],[89,46,90,47],[87,46,88,47],[74,48,77,54],[78,17,81,18],[78,19,81,20],[78,21,81,36],[78,37,81,39],[78,40,81,42],[78,43,81,47],[78,48,81,54],[74,17,77,18],[74,19,77,20],[74,21,77,36],[74,37,77,39],[74,40,77,42],[74,43,77,47],[66,48,69,54],[70,17,73,18],[70,19,73,20],[70,21,73,36],[70,37,73,39],[70,40,73,42],[70,43,73,47],[70,48,73,54],[66,17,69,18],[66,19,69,20],[66,21,69,36],[66,37,69,39],[66,40,69,42],[66,43,69,47],[58,48,61,54],[62,17,65,18],[62,19,65,20],[62,21,65,36],[62,37,65,39],[62,40,65,42],[62,43,65,47],[62,48,65,54],[58,17,61,18],[58,19,61,20],[58,21,61,36],[58,37,61,39],[58,40,61,42],[58,43,61,47],[50,48,53,54],[54,17,57,18],[54,19,57,20],[54,21,57,36],[54,37,57,39],[54,40,57,42],[54,43,57,47],[54,48,57,54],[50,17,53,18],[50,19,53,20],[50,21,53,36],[50,37,53,39],[50,40,53,42],[50,43,53,47],[38,17,41,18],[38,19,41,20],[38,21,41,36],[38,37,41,39],[38,40,41,42],[38,43,41,47],[38,48,41,54],[42,48,45,54],[46,17,49,18],[46,19,49,20],[46,21,49,36],[46,37,49,39],[46,40,49,42],[46,43,49,47],[46,48,49,54],[42,17,45,18],[42,19,45,20],[42,21,45,36],[42,37,45,39],[42,40,45,42],[42,43,45,47],[34,1,37,5],[34,6,37,15],[34,17,37,18],[34,19,37,20],[34,21,37,36],[34,37,37,39],[34,40,37,42],[34,43,37,47],[34,48,37,54],[26,40,29,42],[26,43,29,47],[26,48,29,54],[30,1,33,3],[30,4,33,5],[30,6,33,15],[30,17,33,18],[30,19,33,20],[30,21,33,36],[30,37,33,39],[26,1,29,5],[26,6,29,15],[26,17,29,18],[26,19,29,20],[26,21,29,36],[26,37,29,39],[30,40,33,42],[30,43,33,47],[30,48,33,54],[22,1,25,5],[22,6,25,15],[22,17,25,18],[22,19,25,20],[22,21,25,36],[22,37,25,39],[22,40,25,42],[22,43,25,47],[22,48,25,54],[14,43,17,47],[14,48,17,54],[18,1,21,5],[18,6,21,15],[18,17,21,18],[18,19,21,20],[18,21,21,36],[18,37,21,39],[18,40,21,42],[18,43,21,47],[14,1,17,5],[14,6,17,15],[14,17,17,20],[14,21,17,36],[14,37,17,39],[14,40,17,42],[18,48,21,54],[3,52,5,54],[8,1,11,5],[8,6,11,11],[8,12,11,15],[8,16,11,35],[8,37,11,40],[8,41,11,54],[1,19,4,32],[2,1,5,11],[2,12,5,13],[3,40,5,44],[3,45,5,48],[3,49,5,51]]}
[]
[null,null,null,null,null,null,null,null,null,null,null,null,null,null,null,null,null,null,null,"請求書明細書 (正)"]
[null,"株 式 会 社 種 村 建 設",null,null,null,null,null,null,null,null,null,null,"御中"]
[null,null,null,null,null,null,null,null,null,null,null,null,null,null,null,null,null,null,null,null,null,null,null,null,null,null,null,null,null,null,null,null,null,null,null,null,null,null,null,null,"請求年月日",null,null,null,null,{"$f":"IF(年=\"\",\"\",年)","v":""},null,null,null,{"$f":"IF(月=\"\",\"\",月)","v":""},null,null,{"$f":"IF(日=\"\",\"\",日)","v":""}]
[]
[]
[]
[]
[null,"工事番号",null,null,null,null,null,null,null,null,null,null,"工事名",null,null,null,null,null,null,null,null,null,null,null,null,null,null,null,null,null,null,null,null,null,null,null,null,"業者名",null,null,null,{"$f":"IF(社名=\"\",\"\",社名)","v":""}]
[]
[]
[]
[]
[]
[null,"注文番号",null,null,null,null,null,null,null,null,null,null,null,null,null,null,null,"月　日",null,null,null,"品　名・内　訳",null,null,null,null,null,null,null,null,null,null,null,null,null,null,null,"数 量",null,null,"単位",null,null,"単価",null,null,null,null,{"$f":"表紙①!P35","v":"金額(税抜)"}]
[]
[]
[]
[null,"契約金額",null,null,null,null,null,null,null,null,null,null,null,null,null,null,null,null,null,null,null,null,null,null,null,null,null,null,null,null,null,null,null,null,null,null,null,null,null,null,null,null,null,null,null,null,null,null,{"$f":"IF(V19=\"\",\"\",ROUND(AL19*AR19,0))","v":""}]
[]
[]
[]
[null,"増減額",null,null,null,null,null,null,null,null,null,null,null,null,null,null,null,null,null,null,null,null,null,null,null,null,null,null,null,null,null,null,null,null,null,null,null,null,null,null,null,null,null,null,null,null,null,null,{"$f":"IF(V23=\"\",\"\",ROUND(AL23*AR23,0))","v":""}]
[]
[]
[]
[null,"前回までの\n請求額",null,null,null,null,null,null,null,null,null,null,null,null,null,null,null,null,null,null,null,null,null,null,null,null,null,null,null,null,null,null,null,null,null,null,null,null,null,null,null,null,null,null,null,null,null,null,{"$f":"IF(V27=\"\",\"\",ROUND(AL27*AR27,0))","v":""}]
[]
[]
[]
[null,"今回\n請求額",null,null,null,null,null,null,null,null,null,null,null,null,null,null,null,null,null,null,null,null,null,null,null,null,null,null,null,null,null,null,null,null,null,null,null,null,null,null,null,null,null,null,null,null,null,null,{"$f":"IF(V31=\"\",\"\",ROUND(AL31*AR31,0))","v":""}]
[]
[]
[]
[null,"差引残高",null,null,null,null,{"$f":"IF(G19=\"\",\"\",G19+G23-G27-G31)","v":""},null,null,null,null,null,null,null,null,null,null,null,null,null,null,null,null,null,null,null,null,null,null,null,null,null,null,null,null,null,null,null,null,null,null,null,null,null,null,null,null,null,{"$f":"IF(V35=\"\",\"\",ROUND(AL35*AR35,0))","v":""}]
[]
[]
[]
[null,null,null,null,null,null,null,null,null,null,null,null,null,null,null,null,null,null,null,null,null,null,null,null,null,null,null,null,null,null,null,null,null,null,null,null,null,null,null,null,null,null,null,null,null,null,null,null,{"$f":"IF(V39=\"\",\"\",ROUND(AL39*AR39,0))","v":""}]
[]
[]
[]
[null,null,null,null,null,null,null,null,null,null,null,null,null,null,null,null,null,null,null,null,null,null,null,null,null,null,null,null,null,null,null,null,null,null,null,null,null,null,null,null,null,null,null,null,null,null,null,null,{"$f":"IF(V43=\"\",\"\",ROUND(AL43*AR43,0))","v":""}]
[]
[]
[]
[null,null,null,null,null,null,null,null,null,null,null,null,null,null,null,null,null,null,null,null,null,null,null,null,null,null,null,null,null,null,null,null,null,null,null,null,null,null,null,null,null,null,null,null,null,null,null,null,{"$f":"IF(V47=\"\",\"\",ROUND(AL47*AR47,0))","v":""}]
[]
[]
[]
[null,null,null,null,null,null,null,null,null,null,null,null,null,null,null,null,null,null,null,null,null,null,null,null,null,null,null,null,null,null,null,null,null,null,null,null,null,null,null,null,null,null,null,null,null,null,null,null,{"$f":"IF(V51=\"\",\"\",ROUND(AL51*AR51,0))","v":""}]
[]
[]
[]
[null,null,null,null,null,null,null,null,null,null,null,null,null,null,null,null,null,null,null,null,null,null,null,null,null,null,null,null,null,null,null,null,null,null,null,null,null,null,null,null,null,null,null,null,null,null,null,null,{"$f":"IF(V55=\"\",\"\",ROUND(AL55*AR55,0))","v":""}]
[]
[]
[]
[null,null,null,null,null,null,null,null,null,null,null,null,null,null,null,null,null,null,null,null,null,null,null,null,null,null,null,null,null,null,null,null,null,null,null,null,null,null,null,null,null,null,null,null,null,null,null,null,{"$f":"IF(V59=\"\",\"\",ROUND(AL59*AR59,0))","v":""}]
[]
[]
[]
[null,null,null,null,null,null,null,null,null,null,null,null,null,null,null,null,null,null,null,null,null,null,null,null,null,null,null,null,null,null,null,null,null,null,null,null,null,null,null,null,null,null,null,null,null,null,null,null,{"$f":"IF(V63=\"\",\"\",ROUND(AL63*AR63,0))","v":""}]
[]
[]
[]
[null,null,null,null,null,null,null,null,null,null,null,null,null,null,null,null,null,null,null,null,null,null,null,null,null,null,null,null,null,null,null,null,null,null,null,null,null,null,null,null,null,null,null,null,null,null,null,null,{"$f":"IF(V67=\"\",\"\",ROUND(AL67*AR67,0))","v":""}]
[]
[]
[]
[null,null,null,null,null,null,null,null,null,null,null,null,null,null,null,null,null,null,null,null,null,null,null,null,null,null,null,null,null,null,null,null,null,null,null,null,null,null,null,null,null,null,null,null,null,null,null,null,{"$f":"IF(V71=\"\",\"\",ROUND(AL71*AR71,0))","v":""}]
[]
[]
[]
[null,null,null,null,null,null,null,null,null,null,null,null,null,null,null,null,null,null,null,null,null,null,null,null,null,null,null,null,null,null,null,null,null,null,null,null,null,null,null,null,null,null,null,null,null,null,null,null,{"$f":"IF(V75=\"\",\"\",ROUND(AL75*AR75,0))","v":""}]
[]
[]
[]
[null,null,null,null,null,null,null,null,null,null,null,null,null,null,null,null,null,null,null,null,null,null,null,null,null,null,null,null,null,null,null,null,null,null,null,null,null,null,null,null,null,null,null,null,null,null,null,null,{"$f":"IF(V79=\"\",\"\",ROUND(AL79*AR79,0))","v":""}]
[]
[]
[]
[null,null,null,null,null,null,null,null,null,null,null,null,null,null,null,null,null,null,null,null,null,null,null,null,null,null,null,null,null,null,null,null,null,null,null,null,null,"金額(税抜)",null,null,null,null,null,null,null,null,null,null,{"$f":"IF(AW19=\"\",\"\",SUM(AW19:AW79))","v":""}]
[null,"社長",null,null,null,"専務",null,null,null,null,null,"常務",null,null,null,null,null,"部長･工場長",null,null,null,null,null,null,null,null,"担当者",null,null,null,null,"受付"]
[]
[]
[]
[null,null,null,null,null,null,null,null,null,null,null,null,null,null,null,null,null,null,null,null,null,null,null,null,null,null,null,null,null,null,null,null,null,null,null,null,null,"消費税",null,null,null,null,null,"税率",null,null,"税調",null,{"$f":"IF(AW83=\"\",\"\",IF(AR90=\"\",\"\",IF(AR90=8.1,ROUND(AW83*8/100,0)+AU90,ROUND(AW83*AR90/100,0)+AU90)))","v":""}]
[]
[null,null,null,null,null,null,null,null,null,null,null,null,null,null,null,null,null,null,null,null,null,null,null,null,null,null,null,null,null,null,null,null,null,null,null,null,null,null,null,null,null,null,null,null,null,{"$f":"IF(AR90=\"\",\"\",IF(AR90=8.1,\"旧\",IF(AR90=8,\"軽\",IF(AR90=0,\"非\",\"\"))))","v":""}]
[]
[]
[]
[null,null,null,null,null,null,null,null,null,null,null,null,null,null,null,null,null,null,null,"請求明細書 (現場控)"]
[null,"株 式 会 社 種 村 建 設",null,null,null,null,null,null,null,null,null,null,"御中"]
[null,null,null,null,null,null,null,null,null,null,null,null,null,null,null,null,null,null,null,null,null,null,null,null,null,null,null,null,null,null,null,null,null,null,null,null,null,null,null,null,"請求年月日",null,null,null,null,{"$f":"IF(AT4=\"\",\"\",AT4)","v":""},null,null,null,{"$f":"IF(AX4=\"\",\"\",AX4)","v":""},null,null,{"$f":"IF(BA4=\"\",\"\",BA4)","v":""}]
[]
[]
[]
[]
[null,"工事番号",null,null,null,null,{"$f":"IF(G9=\"\",\"\",G9)","v":""},null,null,null,null,null,"工事名",null,null,null,{"$f":"IF(Q9=\"\",\"\",Q9)","v":""},null,null,null,null,null,null,null,null,null,null,null,null,null,null,null,null,null,null,null,null,"業者名",null,null,null,{"$f":"IF(AP9=\"\",\"\",AP9)","v":""}]
[]
[]
[]
[]
[]
[null,"注文番号",null,null,null,null,{"$f":"IF(G15=\"\",\"\",G15)","v":""},null,null,null,null,null,null,null,null,null,null,"月　日",null,null,null,"品　名・内　訳",null,null,null,null,null,null,null,null,null,null,null,null,null,null,null,"数 量",null,null,"単位",null,null,"単価",null,null,null,null,{"$f":"AW15","v":"金額(税抜)"}]
[]
[]
[]
[null,"契約金額",null,null,null,null,{"$f":"IF(G19=\"\",\"\",G19)","v":""},null,null,null,null,null,null,null,null,null,null,{"$f":"IF(R19=\"\",\"\",R19)","v":""},null,{"$f":"IF(T19=\"\",\"\",T19)","v":""},null,{"$f":"IF(V19=\"\",\"\",V19)","v":""},null,{"$f":"IF(X19=\"\",\"\",X19)","v":""},null,{"$f":"IF(Z19=\"\",\"\",Z19)","v":""},null,{"$f":"IF(AB19=\"\",\"\",AB19)","v":""},null,{"$f":"IF(AD19=\"\",\"\",AD19)","v":""},null,{"$f":"IF(AF19=\"\",\"\",AF19)","v":""},null,{"$f":"IF(AH19=\"\",\"\",AH19)","v":""},null,{"$f":"IF(AJ19=\"\",\"\",AJ19)","v":""},null,{"$f":"IF(AL19=\"\",\"\",AL19)","v":""},null,null,{"$f":"IF(AO19=\"\",\"\",AO19)","v":""},null,null,{"$f":"IF(AR19=\"\",\"\",AR19)","v":""},null,null,null,null,{"$f":"IF(AW19=\"\",\"\",AW19)","v":""}]
[]
[]
[]
[null,"増減額",null,null,null,null,{"$f":"IF(G23=\"\",\"\",G23)","v":""},null,null,null,null,null,null,null,null,null,null,{"$f":"IF(R23=\"\",\"\",R23)","v":""},null,{"$f":"IF(T23=\"\",\"\",T23)","v":""},null,{"$f":"IF(V23=\"\",\"\",V23)","v":""},null,{"$f":"IF(X23=\"\",\"\",X23)","v":""},null,{"$f":"IF(Z23=\"\",\"\",Z23)","v":""},null,{"$f":"IF(AB23=\"\",\"\",AB23)","v":""},null,{"$f":"IF(AD23=\"\",\"\",AD23)","v":""},null,{"$f":"IF(AF23=\"\",\"\",AF23)","v":""},null,{"$f":"IF(AH23=\"\",\"\",AH23)","v":""},null,{"$f":"IF(AJ23=\"\",\"\",AJ23)","v":""},null,{"$f":"IF(AL23=\"\",\"\",AL23)","v":""},null,null,{"$f":"IF(AO23=\"\",\"\",AO23)","v":""},null,null,{"$f":"IF(AR23=\"\",\"\",AR23)","v":""},null,null,null,null,{"$f":"IF(AW23=\"\",\"\",AW23)","v":""}]
[]
[]
[]
[null,"前回までの\n請求額",null,null,null,null,{"$f":"IF(G27=\"\",\"\",G27)","v":""},null,null,null,null,null,null,null,null,null,null,{"$f":"IF(R27=\"\",\"\",R27)","v":""},null,{"$f":"IF(T27=\"\",\"\",T27)","v":""},null,{"$f":"IF(V27=\"\",\"\",V27)","v":""},null,{"$f":"IF(X27=\"\",\"\",X27)","v":""},null,{"$f":"IF(Z27=\"\",\"\",Z27)","v":""},null,{"$f":"IF(AB27=\"\",\"\",AB27)","v":""},null,{"$f":"IF(AD27=\"\",\"\",AD27)","v":""},null,{"$f":"IF(AF27=\"\",\"\",AF27)","v":""},null,{"$f":"IF(AH27=\"\",\"\",AH27)","v":""},null,{"$f":"IF(AJ27=\"\",\"\",AJ27)","v":""},null,{"$f":"IF(AL27=\"\",\"\",AL27)","v":""},null,null,{"$f":"IF(AO27=\"\",\"\",AO27)","v":""},null,null,{"$f":"IF(AR27=\"\",\"\",AR27)","v":""},null,null,null,null,{"$f":"IF(AW27=\"\",\"\",AW27)","v":""}]
[]
[]
[]
[null,"今回\n請求額",null,null,{"$f":"IF(E31=\"\",\"\",E31)","v":""},null,{"$f":"IF(G31=\"\",\"\",G31)","v":""},null,null,null,null,null,null,null,null,null,null,{"$f":"IF(R31=\"\",\"\",R31)","v":""},null,{"$f":"IF(T31=\"\",\"\",T31)","v":""},null,{"$f":"IF(V31=\"\",\"\",V31)","v":""},null,{"$f":"IF(X31=\"\",\"\",X31)","v":""},null,{"$f":"IF(Z31=\"\",\"\",Z31)","v":""},null,{"$f":"IF(AB31=\"\",\"\",AB31)","v":""},null,{"$f":"IF(AD31=\"\",\"\",AD31)","v":""},null,{"$f":"IF(AF31=\"\",\"\",AF31)","v":""},null,{"$f":"IF(AH31=\"\",\"\",AH31)","v":""},null,{"$f":"IF(AJ31=\"\",\"\",AJ31)","v":""},null,{"$f":"IF(AL31=\"\",\"\",AL31)","v":""},null,null,{"$f":"IF(AO31=\"\",\"\",AO31)","v":""},null,null,{"$f":"IF(AR31=\"\",\"\",AR31)","v":""},null,null,null,null,{"$f":"IF(AW31=\"\",\"\",AW31)","v":""}]
[]
[]
[]
[null,"差引残高",null,null,null,null,{"$f":"IF(G111=\"\",\"\",G111+G115-G119-G123)","v":""},null,null,null,null,null,null,null,null,null,null,{"$f":"IF(R35=\"\",\"\",R35)","v":""},null,{"$f":"IF(T35=\"\",\"\",T35)","v":""},null,{"$f":"IF(V35=\"\",\"\",V35)","v":""},null,{"$f":"IF(X35=\"\",\"\",X35)","v":""},null,{"$f":"IF(Z35=\"\",\"\",Z35)","v":""},null,{"$f":"IF(AB35=\"\",\"\",AB35)","v":""},null,{"$f":"IF(AD35=\"\",\"\",AD35)","v":""},null,{"$f":"IF(AF35=\"\",\"\",AF35)","v":""},null,{"$f":"IF(AH35=\"\",\"\",AH35)","v":""},null,{"$f":"IF(AJ35=\"\",\"\",AJ35)","v":""},null,{"$f":"IF(AL35=\"\",\"\",AL35)","v":""},null,null,{"$f":"IF(AO35=\"\",\"\",AO35)","v":""},null,null,{"$f":"IF(AR35=\"\",\"\",AR35)","v":""},null,null,null,null,{"$f":"IF(AW35=\"\",\"\",AW35)","v":""}]
[]
[]
[]
[null,null,null,null,null,null,null,null,null,null,null,null,null,null,null,null,null,{"$f":"IF(R39=\"\",\"\",R39)","v":""},null,{"$f":"IF(T39=\"\",\"\",T39)","v":""},null,{"$f":"IF(V39=\"\",\"\",V39)","v":""},null,{"$f":"IF(X39=\"\",\"\",X39)","v":""},null,{"$f":"IF(Z39=\"\",\"\",Z39)","v":""},null,{"$f":"IF(AB39=\"\",\"\",AB39)","v":""},null,{"$f":"IF(AD39=\"\",\"\",AD39)","v":""},null,{"$f":"IF(AF39=\"\",\"\",AF39)","v":""},null,{"$f":"IF(AH39=\"\",\"\",AH39)","v":""},null,{"$f":"IF(AJ39=\"\",\"\",AJ39)","v":""},null,{"$f":"IF(AL39=\"\",\"\",AL39)","v":""},null,null,{"$f":"IF(AO39=\"\",\"\",AO39)","v":""},null,null,{"$f":"IF(AR39=\"\",\"\",AR39)","v":""},null,null,null,null,{"$f":"IF(AW39=\"\",\"\",AW39)","v":""}]
[]
[]
[]
[null,null,null,null,null,null,null,null,null,null,null,null,null,null,null,null,null,{"$f":"IF(R43=\"\",\"\",R43)","v":""},null,{"$f":"IF(T43=\"\",\"\",T43)","v":""},null,{"$f":"IF(V43=\"\",\"\",V43)","v":""},null,{"$f":"IF(X43=\"\",\"\",X43)","v":""},null,{"$f":"IF(Z43=\"\",\"\",Z43)","v":""},null,{"$f":"IF(AB43=\"\",\"\",AB43)","v":""},null,{"$f":"IF(AD43=\"\",\"\",AD43)","v":""},null,{"$f":"IF(AF43=\"\",\"\",AF43)","v":""},null,{"$f":"IF(AH43=\"\",\"\",AH43)","v":""},null,{"$f":"IF(AJ43=\"\",\"\",AJ43)","v":""},null,{"$f":"IF(AL43=\"\",\"\",AL43)","v":""},null,null,{"$f":"IF(AO43=\"\",\"\",AO43)","v":""},null,null,{"$f":"IF(AR43=\"\",\"\",AR43)","v":""},null,null,null,null,{"$f":"IF(AW43=\"\",\"\",AW43)","v":""}]
[]
[]
[]
[null,null,null,null,null,null,null,null,null,null,null,null,null,null,null,null,null,{"$f":"IF(R47=\"\",\"\",R47)","v":""},null,{"$f":"IF(T47=\"\",\"\",T47)","v":""},null,{"$f":"IF(V47=\"\",\"\",V47)","v":""},null,{"$f":"IF(X47=\"\",\"\",X47)","v":""},null,{"$f":"IF(Z47=\"\",\"\",Z47)","v":""},null,{"$f":"IF(AB47=\"\",\"\",AB47)","v":""},null,{"$f":"IF(AD47=\"\",\"\",AD47)","v":""},null,{"$f":"IF(AF47=\"\",\"\",AF47)","v":""},null,{"$f":"IF(AH47=\"\",\"\",AH47)","v":""},null,{"$f":"IF(AJ47=\"\",\"\",AJ47)","v":""},null,{"$f":"IF(AL47=\"\",\"\",AL47)","v":""},null,null,{"$f":"IF(AO47=\"\",\"\",AO47)","v":""},null,null,{"$f":"IF(AR47=\"\",\"\",AR47)","v":""},null,null,null,null,{"$f":"IF(AW47=\"\",\"\",AW47)","v":""}]
[]
[]
[]
[null,null,null,null,null,null,null,null,null,null,null,null,null,null,null,null,null,{"$f":"IF(R51=\"\",\"\",R51)","v":""},null,{"$f":"IF(T51=\"\",\"\",T51)","v":""},null,{"$f":"IF(V51=\"\",\"\",V51)","v":""},null,{"$f":"IF(X51=\"\",\"\",X51)","v":""},null,{"$f":"IF(Z51=\"\",\"\",Z51)","v":""},null,{"$f":"IF(AB51=\"\",\"\",AB51)","v":""},null,{"$f":"IF(AD51=\"\",\"\",AD51)","v":""},null,{"$f":"IF(AF51=\"\",\"\",AF51)","v":""},null,{"$f":"IF(AH51=\"\",\"\",AH51)","v":""},null,{"$f":"IF(AJ51=\"\",\"\",AJ51)","v":""},null,{"$f":"IF(AL51=\"\",\"\",AL51)","v":""},null,null,{"$f":"IF(AO51=\"\",\"\",AO51)","v":""},null,null,{"$f":"IF(AR51=\"\",\"\",AR51)","v":""},null,null,null,null,{"$f":"IF(AW51=\"\",\"\",AW51)","v":""}]
[]
[]
[]
[null,null,null,null,null,null,null,null,null,null,null,null,null,null,null,null,null,{"$f":"IF(R55=\"\",\"\",R55)","v":""},null,{"$f":"IF(T55=\"\",\"\",T55)","v":""},null,{"$f":"IF(V55=\"\",\"\",V55)","v":""},null,{"$f":"IF(X55=\"\",\"\",X55)","v":""},null,{"$f":"IF(Z55=\"\",\"\",Z55)","v":""},null,{"$f":"IF(AB55=\"\",\"\",AB55)","v":""},null,{"$f":"IF(AD55=\"\",\"\",AD55)","v":""},null,{"$f":"IF(AF55=\"\",\"\",AF55)","v":""},null,{"$f":"IF(AH55=\"\",\"\",AH55)","v":""},null,{"$f":"IF(AJ55=\"\",\"\",AJ55)","v":""},null,{"$f":"IF(AL55=\"\",\"\",AL55)","v":""},null,null,{"$f":"IF(AO55=\"\",\"\",AO55)","v":""},null,null,{"$f":"IF(AR55=\"\",\"\",AR55)","v":""},null,null,null,null,{"$f":"IF(AW55=\"\",\"\",AW55)","v":""}]
[]
[]
[]
[null,null,null,null,null,null,null,null,null,null,null,null,null,null,null,null,null,{"$f":"IF(R59=\"\",\"\",R59)","v":""},null,{"$f":"IF(T59=\"\",\"\",T59)","v":""},null,{"$f":"IF(V59=\"\",\"\",V59)","v":""},null,{"$f":"IF(X59=\"\",\"\",X59)","v":""},null,{"$f":"IF(Z59=\"\",\"\",Z59)","v":""},null,{"$f":"IF(AB59=\"\",\"\",AB59)","v":""},null,{"$f":"IF(AD59=\"\",\"\",AD59)","v":""},null,{"$f":"IF(AF59=\"\",\"\",AF59)","v":""},null,{"$f":"IF(AH59=\"\",\"\",AH59)","v":""},null,{"$f":"IF(AJ59=\"\",\"\",AJ59)","v":""},null,{"$f":"IF(AL59=\"\",\"\",AL59)","v":""},null,null,{"$f":"IF(AO59=\"\",\"\",AO59)","v":""},null,null,{"$f":"IF(AR59=\"\",\"\",AR59)","v":""},null,null,null,null,{"$f":"IF(AW59=\"\",\"\",AW59)","v":""}]
[]
[]
[]
[null,null,null,null,null,null,null,null,null,null,null,null,null,null,null,null,null,{"$f":"IF(R63=\"\",\"\",R63)","v":""},null,{"$f":"IF(T63=\"\",\"\",T63)","v":""},null,{"$f":"IF(V63=\"\",\"\",V63)","v":""},null,{"$f":"IF(X63=\"\",\"\",X63)","v":""},null,{"$f":"IF(Z63=\"\",\"\",Z63)","v":""},null,{"$f":"IF(AB63=\"\",\"\",AB63)","v":""},null,{"$f":"IF(AD63=\"\",\"\",AD63)","v":""},null,{"$f":"IF(AF63=\"\",\"\",AF63)","v":""},null,{"$f":"IF(AH63=\"\",\"\",AH63)","v":""},null,{"$f":"IF(AJ63=\"\",\"\",AJ63)","v":""},null,{"$f":"IF(AL63=\"\",\"\",AL63)","v":""},null,null,{"$f":"IF(AO63=\"\",\"\",AO63)","v":""},null,null,{"$f":"IF(AR63=\"\",\"\",AR63)","v":""},null,null,null,null,{"$f":"IF(AW63=\"\",\"\",AW63)","v":""}]
[]
[]
[]
[null,null,null,null,null,null,null,null,null,null,null,null,null,null,null,null,null,{"$f":"IF(R67=\"\",\"\",R67)","v":""},null,{"$f":"IF(T67=\"\",\"\",T67)","v":""},null,{"$f":"IF(V67=\"\",\"\",V67)","v":""},null,{"$f":"IF(X67=\"\",\"\",X67)","v":""},null,{"$f":"IF(Z67=\"\",\"\",Z67)","v":""},null,{"$f":"IF(AB67=\"\",\"\",AB67)","v":""},null,{"$f":"IF(AD67=\"\",\"\",AD67)","v":""},null,{"$f":"IF(AF67=\"\",\"\",AF67)","v":""},null,{"$f":"IF(AH67=\"\",\"\",AH67)","v":""},null,{"$f":"IF(AJ67=\"\",\"\",AJ67)","v":""},null,{"$f":"IF(AL67=\"\",\"\",AL67)","v":""},null,null,{"$f":"IF(AO67=\"\",\"\",AO67)","v":""},null,null,{"$f":"IF(AR67=\"\",\"\",AR67)","v":""},null,null,null,null,{"$f":"IF(AW67=\"\",\"\",AW67)","v":""}]
[]
[]
[]
[null,null,null,null,null,null,null,null,null,null,null,null,null,null,null,null,null,{"$f":"IF(R71=\"\",\"\",R71)","v":""},null,{"$f":"IF(T71=\"\",\"\",T71)","v":""},null,{"$f":"IF(V71=\"\",\"\",V71)","v":""},null,{"$f":"IF(X71=\"\",\"\",X71)","v":""},null,{"$f":"IF(Z71=\"\",\"\",Z71)","v":""},null,{"$f":"IF(AB71=\"\",\"\",AB71)","v":""},null,{"$f":"IF(AD71=\"\",\"\",AD71)","v":""},null,{"$f":"IF(AF71=\"\",\"\",AF71)","v":""},null,{"$f":"IF(AH71=\"\",\"\",AH71)","v":""},null,{"$f":"IF(AJ71=\"\",\"\",AJ71)","v":""},null,{"$f":"IF(AL71=\"\",\"\",AL71)","v":""},null,null,{"$f":"IF(AO71=\"\",\"\",AO71)","v":""},null,null,{"$f":"IF(AR71=\"\",\"\",AR71)","v":""},null,null,null,null,{"$f":"IF(AW71=\"\",\"\",AW71)","v":""}]
[]
[]
[]
[null,null,null,null,null,null,null,null,null,null,null,null,null,null,null,null,null,{"$f":"IF(R75=\"\",\"\",R75)","v":""},null,{"$f":"IF(T75=\"\",\"\",T75)","v":""},null,{"$f":"IF(V75=\"\",\"\",V75)","v":""},null,{"$f":"IF(X75=\"\",\"\",X75)","v":""},null,{"$f":"IF(Z75=\"\",\"\",Z75)","v":""},null,{"$f":"IF(AB75=\"\",\"\",AB75)","v":""},null,{"$f":"IF(AD75=\"\",\"\",AD75)","v":""},null,{"$f":"IF(AF75=\"\",\"\",AF75)","v":""},null,{"$f":"IF(AH75=\"\",\"\",AH75)","v":""},null,{"$f":"IF(AJ75=\"\",\"\",AJ75)","v":""},null,{"$f":"IF(AL75=\"\",\"\",AL75)","v":""},null,null,{"$f":"IF(AO75=\"\",\"\",AO75)","v":""},null,null,{"$f":"IF(AR75=\"\",\"\",AR75)","v":""},null,null,null,null,{"$f":"IF(AW75=\"\",\"\",AW75)","v":""}]
[]
[]
[]
[null,null,null,null,null,null,null,null,null,null,null,null,null,null,null,null,null,{"$f":"IF(R79=\"\",\"\",R79)","v":""},null,{"$f":"IF(T79=\"\",\"\",T79)","v":""},null,{"$f":"IF(V79=\"\",\"\",V79)","v":""},null,{"$f":"IF(X79=\"\",\"\",X79)","v":""},null,{"$f":"IF(Z79=\"\",\"\",Z79)","v":""},null,{"$f":"IF(AB79=\"\",\"\",AB79)","v":""},null,{"$f":"IF(AD79=\"\",\"\",AD79)","v":""},null,{"$f":"IF(AF79=\"\",\"\",AF79)","v":""},null,{"$f":"IF(AH79=\"\",\"\",AH79)","v":""},null,{"$f":"IF(AJ79=\"\",\"\",AJ79)","v":""},null,{"$f":"IF(AL79=\"\",\"\",AL79)","v":""},null,null,{"$f":"IF(AO79=\"\",\"\",AO79)","v":""},null,null,{"$f":"IF(AR79=\"\",\"\",AR79)","v":""},null,null,null,null,{"$f":"IF(AW79=\"\",\"\",AW79)","v":""}]
[]
[]
[]
[null,null,null,null,null,null,null,null,null,null,null,null,null,null,null,null,null,null,null,null,null,null,null,null,null,null,null,null,null,null,null,null,null,null,null,null,null,{"$f":"AL83","v":"金額(税抜)"},null,null,null,null,null,null,null,null,null,null,{"$f":"AW83","v":""}]
[]
[]
[]
[]
[null,null,null,null,null,null,null,null,null,null,null,null,null,null,null,null,null,null,null,null,null,null,null,null,null,null,null,null,null,null,null,null,null,null,null,null,null,{"$f":"AL88","v":"消費税"},null,null,null,null,null,"税率",null,null,"税調",null,{"$f":"AW88","v":""}]
[]
[null,null,null,null,null,null,null,null,null,null,null,null,null,null,null,null,null,null,null,null,null,null,null,null,null,null,null,null,null,null,null,null,null,null,null,null,null,null,null,null,null,null,null,{"$f":"AR90","v":0},null,{"$f":"AT90","v":""}]
[]
[]
[]
[null,null,null,null,null,null,null,null,null,null,null,null,null,null,null,null,null,null,null,"請求明細書 (貴社控)"]
[null,"株 式 会 社 種 村 建 設",null,null,null,null,null,null,null,null,null,null,"御中"]
[null,null,null,null,null,null,null,null,null,null,null,null,null,null,null,null,null,null,null,null,null,null,null,null,null,null,null,null,null,null,null,null,null,null,null,null,null,null,null,null,"請求年月日",null,null,null,null,{"$f":"IF(AT4=\"\",\"\",AT4)","v":""},null,null,null,{"$f":"IF(AX96=\"\",\"\",AX96)","v":""},null,null,{"$f":"IF(BA96=\"\",\"\",BA96)","v":""}]
[]
[]
[]
[]
[null,"工事番号",null,null,null,null,{"$f":"IF(G101=\"\",\"\",G101)","v":""},null,null,null,null,null,"工事名",null,null,null,{"$f":"IF(Q101=\"\",\"\",Q101)","v":""},null,null,null,null,null,null,null,null,null,null,null,null,null,null,null,null,null,null,null,null,"業者名",null,null,null,{"$f":"IF(AP101=\"\",\"\",AP101)","v":""}]
[]
[]
[]
[]
[]
[null,"注文番号",null,null,null,null,{"$f":"IF(G107=\"\",\"\",G107)","v":""},null,null,null,null,null,null,null,null,null,null,"月　日",null,null,null,"品　名・内　訳",null,null,null,null,null,null,null,null,null,null,null,null,null,null,null,"数 量",null,null,"単位",null,null,"単価",null,null,null,null,{"$f":"AW15","v":"金額(税抜)"}]
[]
[]
[]
[null,"契約金額",null,null,null,null,{"$f":"IF(G111=\"\",\"\",G111)","v":""},null,null,null,null,null,null,null,null,null,null,{"$f":"IF(R111=\"\",\"\",R111)","v":""},null,{"$f":"IF(T111=\"\",\"\",T111)","v":""},null,{"$f":"IF(V111=\"\",\"\",V111)","v":""},null,{"$f":"IF(X111=\"\",\"\",X111)","v":""},null,{"$f":"IF(Z111=\"\",\"\",Z111)","v":""},null,{"$f":"IF(AB111=\"\",\"\",AB111)","v":""},null,{"$f":"IF(AD111=\"\",\"\",AD111)","v":""},null,{"$f":"IF(AF111=\"\",\"\",AF111)","v":""},null,{"$f":"IF(AH111=\"\",\"\",AH111)","v":""},null,{"$f":"IF(AJ111=\"\",\"\",AJ111)","v":""},null,{"$f":"IF(AL111=\"\",\"\",AL111)","v":""},null,null,{"$f":"IF(AO111=\"\",\"\",AO111)","v":""},null,null,{"$f":"IF(AR111=\"\",\"\",AR111)","v":""},null,null,null,null,{"$f":"IF(AW111=\"\",\"\",AW111)","v":""}]
[]
[]
[]
[null,"増減額",null,null,null,null,{"$f":"IF(G115=\"\",\"\",G115)","v":""},null,null,null,null,null,null,null,null,null,null,{"$f":"IF(R115=\"\",\"\",R115)","v":""},null,{"$f":"IF(T115=\"\",\"\",T115)","v":""},null,{"$f":"IF(V115=\"\",\"\",V115)","v":""},null,{"$f":"IF(X115=\"\",\"\",X115)","v":""},null,{"$f":"IF(Z115=\"\",\"\",Z115)","v":""},null,{"$f":"IF(AB115=\"\",\"\",AB115)","v":""},null,{"$f":"IF(AD115=\"\",\"\",AD115)","v":""},null,{"$f":"IF(AF115=\"\",\"\",AF115)","v":""},null,{"$f":"IF(AH115=\"\",\"\",AH115)","v":""},null,{"$f":"IF(AJ115=\"\",\"\",AJ115)","v":""},null,{"$f":"IF(AL115=\"\",\"\",AL115)","v":""},null,null,{"$f":"IF(AO115=\"\",\"\",AO115)","v":""},null,null,{"$f":"IF(AR115=\"\",\"\",AR115)","v":""},null,null,null,null,{"$f":"IF(AW115=\"\",\"\",AW115)","v":""}]
[]
[]
[]
[null,"前回までの\n請求額",null,null,null,null,{"$f":"IF(G119=\"\",\"\",G119)","v":""},null,null,null,null,null,null,null,null,null,null,{"$f":"IF(R119=\"\",\"\",R119)","v":""},null,{"$f":"IF(T119=\"\",\"\",T119)","v":""},null,{"$f":"IF(V119=\"\",\"\",V119)","v":""},null,{"$f":"IF(X119=\"\",\"\",X119)","v":""},null,{"$f":"IF(Z119=\"\",\"\",Z119)","v":""},null,{"$f":"IF(AB119=\"\",\"\",AB119)","v":""},null,{"$f":"IF(AD119=\"\",\"\",AD119)","v":""},null,{"$f":"IF(AF119=\"\",\"\",AF119)","v":""},null,{"$f":"IF(AH119=\"\",\"\",AH119)","v":""},null,{"$f":"IF(AJ119=\"\",\"\",AJ119)","v":""},null,{"$f":"IF(AL119=\"\",\"\",AL119)","v":""},null,null,{"$f":"IF(AO119=\"\",\"\",AO119)","v":""},null,null,{"$f":"IF(AR119=\"\",\"\",AR119)","v":""},null,null,null,null,{"$f":"IF(AW119=\"\",\"\",AW119)","v":""}]
[]
[]
[]
[null,"今回\n請求額",null,null,{"$f":"IF(E31=\"\",\"\",E31)","v":""},null,{"$f":"IF(G123=\"\",\"\",G123)","v":""},null,null,null,null,null,null,null,null,null,null,{"$f":"IF(R123=\"\",\"\",R123)","v":""},null,{"$f":"IF(T123=\"\",\"\",T123)","v":""},null,{"$f":"IF(V123=\"\",\"\",V123)","v":""},null,{"$f":"IF(X123=\"\",\"\",X123)","v":""},null,{"$f":"IF(Z123=\"\",\"\",Z123)","v":""},null,{"$f":"IF(AB123=\"\",\"\",AB123)","v":""},null,{"$f":"IF(AD123=\"\",\"\",AD123)","v":""},null,{"$f":"IF(AF123=\"\",\"\",AF123)","v":""},null,{"$f":"IF(AH123=\"\",\"\",AH123)","v":""},null,{"$f":"IF(AJ123=\"\",\"\",AJ123)","v":""},null,{"$f":"IF(AL123=\"\",\"\",AL123)","v":""},null,null,{"$f":"IF(AO123=\"\",\"\",AO123)","v":""},null,null,{"$f":"IF(AR123=\"\",\"\",AR123)","v":""},null,null,null,null,{"$f":"IF(AW123=\"\",\"\",AW123)","v":""}]
[]
[]
[]
[null,"差引残高",null,null,null,null,{"$f":"IF(G203=\"\",\"\",G203+G207-G211-G215)","v":""},null,null,null,null,null,null,null,null,null,null,{"$f":"IF(R127=\"\",\"\",R127)","v":""},null,{"$f":"IF(T127=\"\",\"\",T127)","v":""},null,{"$f":"IF(V127=\"\",\"\",V127)","v":""},null,{"$f":"IF(X127=\"\",\"\",X127)","v":""},null,{"$f":"IF(Z127=\"\",\"\",Z127)","v":""},null,{"$f":"IF(AB127=\"\",\"\",AB127)","v":""},null,{"$f":"IF(AD127=\"\",\"\",AD127)","v":""},null,{"$f":"IF(AF127=\"\",\"\",AF127)","v":""},null,{"$f":"IF(AH127=\"\",\"\",AH127)","v":""},null,{"$f":"IF(AJ127=\"\",\"\",AJ127)","v":""},null,{"$f":"IF(AL127=\"\",\"\",AL127)","v":""},null,null,{"$f":"IF(AO127=\"\",\"\",AO127)","v":""},null,null,{"$f":"IF(AR127=\"\",\"\",AR127)","v":""},null,null,null,null,{"$f":"IF(AW127=\"\",\"\",AW127)","v":""}]
[]
[]
[]
[null,null,null,null,null,null,null,null,null,null,null,null,null,null,null,null,null,{"$f":"IF(R131=\"\",\"\",R131)","v":""},null,{"$f":"IF(T131=\"\",\"\",T131)","v":""},null,{"$f":"IF(V131=\"\",\"\",V131)","v":""},null,{"$f":"IF(X131=\"\",\"\",X131)","v":""},null,{"$f":"IF(Z131=\"\",\"\",Z131)","v":""},null,{"$f":"IF(AB131=\"\",\"\",AB131)","v":""},null,{"$f":"IF(AD131=\"\",\"\",AD131)","v":""},null,{"$f":"IF(AF131=\"\",\"\",AF131)","v":""},null,{"$f":"IF(AH131=\"\",\"\",AH131)","v":""},null,{"$f":"IF(AJ131=\"\",\"\",AJ131)","v":""},null,{"$f":"IF(AL131=\"\",\"\",AL131)","v":""},null,null,{"$f":"IF(AO131=\"\",\"\",AO131)","v":""},null,null,{"$f":"IF(AR131=\"\",\"\",AR131)","v":""},null,null,null,null,{"$f":"IF(AW131=\"\",\"\",AW131)","v":""}]
[]
[]
[]
[null,null,null,null,null,null,null,null,null,null,null,null,null,null,null,null,null,{"$f":"IF(R135=\"\",\"\",R135)","v":""},null,{"$f":"IF(T135=\"\",\"\",T135)","v":""},null,{"$f":"IF(V135=\"\",\"\",V135)","v":""},null,{"$f":"IF(X135=\"\",\"\",X135)","v":""},null,{"$f":"IF(Z135=\"\",\"\",Z135)","v":""},null,{"$f":"IF(AB135=\"\",\"\",AB135)","v":""},null,{"$f":"IF(AD135=\"\",\"\",AD135)","v":""},null,{"$f":"IF(AF135=\"\",\"\",AF135)","v":""},null,{"$f":"IF(AH135=\"\",\"\",AH135)","v":""},null,{"$f":"IF(AJ135=\"\",\"\",AJ135)","v":""},null,{"$f":"IF(AL135=\"\",\"\",AL135)","v":""},null,null,{"$f":"IF(AO135=\"\",\"\",AO135)","v":""},null,null,{"$f":"IF(AR135=\"\",\"\",AR135)","v":""},null,null,null,null,{"$f":"IF(AW135=\"\",\"\",AW135)","v":""}]
[]
[]
[]
[null,null,null,null,null,null,null,null,null,null,null,null,null,null,null,null,null,{"$f":"IF(R139=\"\",\"\",R139)","v":""},null,{"$f":"IF(T139=\"\",\"\",T139)","v":""},null,{"$f":"IF(V139=\"\",\"\",V139)","v":""},null,{"$f":"IF(X139=\"\",\"\",X139)","v":""},null,{"$f":"IF(Z139=\"\",\"\",Z139)","v":""},null,{"$f":"IF(AB139=\"\",\"\",AB139)","v":""},null,{"$f":"IF(AD139=\"\",\"\",AD139)","v":""},null,{"$f":"IF(AF139=\"\",\"\",AF139)","v":""},null,{"$f":"IF(AH139=\"\",\"\",AH139)","v":""},null,{"$f":"IF(AJ139=\"\",\"\",AJ139)","v":""},null,{"$f":"IF(AL139=\"\",\"\",AL139)","v":""},null,null,{"$f":"IF(AO139=\"\",\"\",AO139)","v":""},null,null,{"$f":"IF(AR139=\"\",\"\",AR139)","v":""},null,null,null,null,{"$f":"IF(AW139=\"\",\"\",AW139)","v":""}]
[]
[]
[]
[null,null,null,null,null,null,null,null,null,null,null,null,null,null,null,null,null,{"$f":"IF(R143=\"\",\"\",R143)","v":""},null,{"$f":"IF(T143=\"\",\"\",T143)","v":""},null,{"$f":"IF(V143=\"\",\"\",V143)","v":""},null,{"$f":"IF(X143=\"\",\"\",X143)","v":""},null,{"$f":"IF(Z143=\"\",\"\",Z143)","v":""},null,{"$f":"IF(AB143=\"\",\"\",AB143)","v":""},null,{"$f":"IF(AD143=\"\",\"\",AD143)","v":""},null,{"$f":"IF(AF143=\"\",\"\",AF143)","v":""},null,{"$f":"IF(AH143=\"\",\"\",AH143)","v":""},null,{"$f":"IF(AJ143=\"\",\"\",AJ143)","v":""},null,{"$f":"IF(AL143=\"\",\"\",AL143)","v":""},null,null,{"$f":"IF(AO143=\"\",\"\",AO143)","v":""},null,null,{"$f":"IF(AR143=\"\",\"\",AR143)","v":""},null,null,null,null,{"$f":"IF(AW143=\"\",\"\",AW143)","v":""}]
[]
[]
[]
[null,null,null,null,null,null,null,null,null,null,null,null,null,null,null,null,null,{"$f":"IF(R147=\"\",\"\",R147)","v":""},null,{"$f":"IF(T147=\"\",\"\",T147)","v":""},null,{"$f":"IF(V147=\"\",\"\",V147)","v":""},null,{"$f":"IF(X147=\"\",\"\",X147)","v":""},null,{"$f":"IF(Z147=\"\",\"\",Z147)","v":""},null,{"$f":"IF(AB147=\"\",\"\",AB147)","v":""},null,{"$f":"IF(AD147=\"\",\"\",AD147)","v":""},null,{"$f":"IF(AF147=\"\",\"\",AF147)","v":""},null,{"$f":"IF(AH147=\"\",\"\",AH147)","v":""},null,{"$f":"IF(AJ147=\"\",\"\",AJ147)","v":""},null,{"$f":"IF(AL147=\"\",\"\",AL147)","v":""},null,null,{"$f":"IF(AO147=\"\",\"\",AO147)","v":""},null,null,{"$f":"IF(AR147=\"\",\"\",AR147)","v":""},null,null,null,null,{"$f":"IF(AW147=\"\",\"\",AW147)","v":""}]
[]
[]
[]
[null,null,null,null,null,null,null,null,null,null,null,null,null,null,null,null,null,{"$f":"IF(R151=\"\",\"\",R151)","v":""},null,{"$f":"IF(T151=\"\",\"\",T151)","v":""},null,{"$f":"IF(V151=\"\",\"\",V151)","v":""},null,{"$f":"IF(X151=\"\",\"\",X151)","v":""},null,{"$f":"IF(Z151=\"\",\"\",Z151)","v":""},null,{"$f":"IF(AB151=\"\",\"\",AB151)","v":""},null,{"$f":"IF(AD151=\"\",\"\",AD151)","v":""},null,{"$f":"IF(AF151=\"\",\"\",AF151)","v":""},null,{"$f":"IF(AH151=\"\",\"\",AH151)","v":""},null,{"$f":"IF(AJ151=\"\",\"\",AJ151)","v":""},null,{"$f":"IF(AL151=\"\",\"\",AL151)","v":""},null,null,{"$f":"IF(AO151=\"\",\"\",AO151)","v":""},null,null,{"$f":"IF(AR151=\"\",\"\",AR151)","v":""},null,null,null,null,{"$f":"IF(AW151=\"\",\"\",AW151)","v":""}]
[]
[]
[]
[null,null,null,null,null,null,null,null,null,null,null,null,null,null,null,null,null,{"$f":"IF(R155=\"\",\"\",R155)","v":""},null,{"$f":"IF(T155=\"\",\"\",T155)","v":""},null,{"$f":"IF(V155=\"\",\"\",V155)","v":""},null,{"$f":"IF(X155=\"\",\"\",X155)","v":""},null,{"$f":"IF(Z155=\"\",\"\",Z155)","v":""},null,{"$f":"IF(AB155=\"\",\"\",AB155)","v":""},null,{"$f":"IF(AD155=\"\",\"\",AD155)","v":""},null,{"$f":"IF(AF155=\"\",\"\",AF155)","v":""},null,{"$f":"IF(AH155=\"\",\"\",AH155)","v":""},null,{"$f":"IF(AJ155=\"\",\"\",AJ155)","v":""},null,{"$f":"IF(AL155=\"\",\"\",AL155)","v":""},null,null,{"$f":"IF(AO155=\"\",\"\",AO155)","v":""},null,null,{"$f":"IF(AR155=\"\",\"\",AR155)","v":""},null,null,null,null,{"$f":"IF(AW155=\"\",\"\",AW155)","v":""}]
[]
[]
[]
[null,null,null,null,null,null,null,null,null,null,null,null,null,null,null,null,null,{"$f":"IF(R159=\"\",\"\",R159)","v":""},null,{"$f":"IF(T159=\"\",\"\",T159)","v":""},null,{"$f":"IF(V159=\"\",\"\",V159)","v":""},null,{"$f":"IF(X159=\"\",\"\",X159)","v":""},null,{"$f":"IF(Z159=\"\",\"\",Z159)","v":""},null,{"$f":"IF(AB159=\"\",\"\",AB159)","v":""},null,{"$f":"IF(AD159=\"\",\"\",AD159)","v":""},null,{"$f":"IF(AF159=\"\",\"\",AF159)","v":""},null,{"$f":"IF(AH159=\"\",\"\",AH159)","v":""},null,{"$f":"IF(AJ159=\"\",\"\",AJ159)","v":""},null,{"$f":"IF(AL159=\"\",\"\",AL159)","v":""},null,null,{"$f":"IF(AO159=\"\",\"\",AO159)","v":""},null,null,{"$f":"IF(AR159=\"\",\"\",AR159)","v":""},null,null,null,null,{"$f":"IF(AW159=\"\",\"\",AW159)","v":""}]
[]
[]
[]
[null,null,null,null,null,null,null,null,null,null,null,null,null,null,null,null,null,{"$f":"IF(R163=\"\",\"\",R163)","v":""},null,{"$f":"IF(T163=\"\",\"\",T163)","v":""},null,{"$f":"IF(V163=\"\",\"\",V163)","v":""},null,{"$f":"IF(X163=\"\",\"\",X163)","v":""},null,{"$f":"IF(Z163=\"\",\"\",Z163)","v":""},null,{"$f":"IF(AB163=\"\",\"\",AB163)","v":""},null,{"$f":"IF(AD163=\"\",\"\",AD163)","v":""},null,{"$f":"IF(AF163=\"\",\"\",AF163)","v":""},null,{"$f":"IF(AH163=\"\",\"\",AH163)","v":""},null,{"$f":"IF(AJ163=\"\",\"\",AJ163)","v":""},null,{"$f":"IF(AL163=\"\",\"\",AL163)","v":""},null,null,{"$f":"IF(AO163=\"\",\"\",AO163)","v":""},null,null,{"$f":"IF(AR163=\"\",\"\",AR163)","v":""},null,null,null,null,{"$f":"IF(AW163=\"\",\"\",AW163)","v":""}]
[]
[]
[]
[null,null,null,null,null,null,null,null,null,null,null,null,null,null,null,null,null,{"$f":"IF(R167=\"\",\"\",R167)","v":""},null,{"$f":"IF(T167=\"\",\"\",T167)","v":""},null,{"$f":"IF(V167=\"\",\"\",V167)","v":""},null,{"$f":"IF(X167=\"\",\"\",X167)","v":""},null,{"$f":"IF(Z167=\"\",\"\",Z167)","v":""},null,{"$f":"IF(AB167=\"\",\"\",AB167)","v":""},null,{"$f":"IF(AD167=\"\",\"\",AD167)","v":""},null,{"$f":"IF(AF167=\"\",\"\",AF167)","v":""},null,{"$f":"IF(AH167=\"\",\"\",AH167)","v":""},null,{"$f":"IF(AJ167=\"\",\"\",AJ167)","v":""},null,{"$f":"IF(AL167=\"\",\"\",AL167)","v":""},null,null,{"$f":"IF(AO167=\"\",\"\",AO167)","v":""},null,null,{"$f":"IF(AR167=\"\",\"\",AR167)","v":""},null,null,null,null,{"$f":"IF(AW167=\"\",\"\",AW167)","v":""}]
[]
[]
[]
[null,null,null,null,null,null,null,null,null,null,null,null,null,null,null,null,null,{"$f":"IF(R171=\"\",\"\",R171)","v":""},null,{"$f":"IF(T171=\"\",\"\",T171)","v":""},null,{"$f":"IF(V171=\"\",\"\",V171)","v":""},null,{"$f":"IF(X171=\"\",\"\",X171)","v":""},null,{"$f":"IF(Z171=\"\",\"\",Z171)","v":""},null,{"$f":"IF(AB171=\"\",\"\",AB171)","v":""},null,{"$f":"IF(AD171=\"\",\"\",AD171)","v":""},null,{"$f":"IF(AF171=\"\",\"\",AF171)","v":""},null,{"$f":"IF(AH171=\"\",\"\",AH171)","v":""},null,{"$f":"IF(AJ171=\"\",\"\",AJ171)","v":""},null,{"$f":"IF(AL171=\"\",\"\",AL171)","v":""},null,null,{"$f":"IF(AO171=\"\",\"\",AO171)","v":""},null,null,{"$f":"IF(AR171=\"\",\"\",AR171)","v":""},null,null,null,null,{"$f":"IF(AW171=\"\",\"\",AW171)","v":""}]
[]
[]
[]
[null,null,null,null,null,null,null,null,null,null,null,null,null,null,null,null,null,null,null,null,null,null,null,null,null,null,null,null,null,null,null,null,null,null,null,null,null,{"$f":"AL175","v":"金額(税抜)"},null,null,null,null,null,null,null,null,null,null,{"$f":"AW83","v":""}]
[]
[]
[]
[]
[null,null,null,null,null,null,null,null,null,null,null,null,null,null,null,null,null,null,null,null,null,null,null,null,null,null,null,null,null,null,null,null,null,null,null,null,null,{"$f":"AL180","v":"消費税"},null,null,null,null,null,"税率",null,null,"税調",null,{"$f":"AW88","v":""}]
[]
[null,null,null,null,null,null,null,null,null,null,null,null,null,null,null,null,null,null,null,null,null,null,null,null,null,null,null,null,null,null,null,null,null,null,null,null,null,null,null,null,null,null,null,{"$f":"AR90","v":0},null,{"$f":"AT90","v":""}]

{"sheet":"細3-5","index":32,"n_rows":274,"n_cols":53,"rows_kept":274,"cut":false,"hidden":false,"merged":[[266,37,269,47],[266,48,269,54],[271,48,274,54],[258,48,261,54],[262,17,265,18],[262,19,265,20],[262,21,265,36],[262,37,265,39],[262,40,265,42],[262,43,265,47],[262,48,265,54],[258,17,261,18],[258,19,261,20],[258,21,261,36],[258,37,261,39],[258,40,261,42],[258,43,261,47],[271,37,274,42],[271,43,272,45],[273,43,274,44],[273,45,274,45],[273,46,274,47],[271,46,272,47],[250,48,253,54],[254,17,257,18],[254,19,257,20],[254,21,257,36],[254,37,257,39],[254,40,257,42],[254,43,257,47],[254,48,257,54],[250,17,253,18],[250,19,253,20],[250,21,253,36],[250,37,253,39],[250,40,253,42],[250,43,253,47],[242,48,245,54],[246,17,249,18],[246,19,249,20],[246,21,249,36],[246,37,249,39],[246,40,249,42],[246,43,249,47],[246,48,249,54],[242,17,245,18],[242,19,245,20],[242,21,245,36],[242,37,245,39],[242,40,245,42],[242,43,245,47],[234,48,237,54],[238,17,241,18],[238,19,241,20],[238,21,241,36],[238,37,241,39],[238,40,241,42],[238,43,241,47],[238,48,241,54],[234,17,237,18],[234,19,237,20],[234,21,237,36],[234,37,237,39],[234,40,237,42],[234,43,237,47],[222,17,225,18],[222,19,225,20],[222,21,225,36],[222,37,225,39],[222,40,225,42],[222,43,225,47],[222,48,225,54],[226,48,229,54],[230,17,233,18],[230,19,233,20],[230,21,233,36],[230,37,233,39],[230,40,233,42],[230,43,233,47],[230,48,233,54],[226,17,229,18],[226,19,229,20],[226,21,229,36],[226,37,229,39],[226,40,229,42],[226,43,229,47],[218,1,221,5],[218,6,221,15],[218,17,221,18],[218,19,221,20],[218,21,221,36],[218,37,221,39],[218,40,221,42],[218,43,221,47],[218,48,221,54],[210,40,213,42],[210,43,213,47],[210,48,213,54],[214,1,217,3],[214,4,217,5],[214,6,217,15],[214,17,217,18],[214,19,217,20],[214,21,217,36],[214,37,217,39],[210,1,213,5],[210,6,213,15],[210,17,213,18],[210,19,213,20],[210,21,213,36],[210,37,213,39],[214,40,217,42],[214,43,217,47],[214,48,217,54],[206,1,209,5],[206,6,209,15],[206,17,209,18],[206,19,209,20],[206,21,209,36],[206,37,209,39],[206,40,209,42],[206,43,209,47],[206,48,209,54],[198,43,201,47],[198,48,201,54],[202,1,205,5],[202,6,205,15],[202,17,205,18],[202,19,205,20],[202,21,205,36],[202,37,205,39],[202,40,205,42],[202,43,205,47],[198,1,201,5],[198,6,201,15],[198,17,201,20],[198,21,201,36],[198,37,201,39],[198,40,201,42],[202,48,205,54],[187,52,189,54],[192,1,195,5],[192,6,195,11],[192,12,195,15],[192,16,195,35],[192,37,195,40],[192,41,195,54],[174,37,177,47],[174,48,177,54],[179,48,182,54],[185,19,188,32],[186,1,189,11],[186,12,189,13],[187,40,189,44],[187,45,189,48],[187,49,189,51],[179,37,182,42],[179,43,180,45],[179,46,180,47],[181,43,182,44],[181,45,182,45],[181,46,182,47],[166,48,169,54],[170,17,173,18],[170,19,173,20],[170,21,173,36],[170,37,173,39],[170,40,173,42],[170,43,173,47],[170,48,173,54],[166,17,169,18],[166,19,169,20],[166,21,169,36],[166,37,169,39],[166,40,169,42],[166,43,169,47],[158,48,161,54],[162,17,165,18],[162,19,165,20],[162,21,165,36],[162,37,165,39],[162,40,165,42],[162,43,165,47],[162,48,165,54],[158,17,161,18],[158,19,161,20],[158,21,161,36],[158,37,161,39],[158,40,161,42],[158,43,161,47],[150,48,153,54],[154,17,157,18],[154,19,157,20],[154,21,157,36],[154,37,157,39],[154,40,157,42],[154,43,157,47],[154,48,157,54],[150,17,153,18],[150,19,153,20],[150,21,153,36],[150,37,153,39],[150,40,153,42],[150,43,153,47],[142,48,145,54],[146,17,149,18],[146,19,149,20],[146,21,149,36],[146,37,149,39],[146,40,149,42],[146,43,149,47],[146,48,149,54],[142,17,145,18],[142,19,145,20],[142,21,145,36],[142,37,145,39],[142,40,145,42],[142,43,145,47],[130,17,133,18],[130,19,133,20],[130,21,133,36],[130,37,133,39],[130,40,133,42],[130,43,133,47],[130,48,133,54],[134,48,137,54],[138,17,141,18],[138,19,141,20],[138,21,141,36],[138,37,141,39],[138,40,141,42],[138,43,141,47],[138,48,141,54],[134,17,137,18],[134,19,137,20],[134,21,137,36],[134,37,137,39],[134,40,137,42],[134,43,137,47],[126,1,129,5],[126,6,129,15],[126,17,129,18],[126,19,129,20],[126,21,129,36],[126,37,129,39],[126,40,129,42],[126,43,129,47],[126,48,129,54],[118,40,121,42],[118,43,121,47],[118,48,121,54],[122,1,125,3],[122,4,125,5],[122,6,125,15],[122,17,125,18],[122,19,125,20],[122,21,125,36],[122,37,125,39],[118,1,121,5],[118,6,121,15],[118,17,121,18],[118,19,121,20],[118,21,121,36],[118,37,121,39],[122,40,125,42],[122,43,125,47],[122,48,125,54],[114,1,117,5],[114,6,117,15],[114,17,117,18],[114,19,117,20],[114,21,117,36],[114,37,117,39],[114,40,117,42],[114,43,117,47],[114,48,117,54],[106,43,109,47],[106,48,109,54],[110,1,113,5],[110,6,113,15],[110,17,113,18],[110,19,113,20],[110,21,113,36],[110,37,113,39],[110,40,113,42],[110,43,113,47],[106,1,109,5],[106,6,109,15],[106,17,109,20],[106,21,109,36],[106,37,109,39],[106,40,109,42],[110,48,113,54],[95,52,97,54],[100,1,103,5],[100,6,103,11],[100,12,103,15],[100,16,103,35],[100,37,103,40],[100,41,103,54],[93,19,96,32],[94,1,97,11],[94,12,97,13],[95,40,97,44],[95,45,97,48],[95,49,97,51],[85,11,90,16],[85,17,90,25],[85,26,90,30],[85,31,90,35],[87,48,90,54],[82,37,85,47],[82,48,85,54],[83,1,84,4],[83,5,84,10],[83,11,84,16],[83,17,84,25],[83,26,84,30],[83,31,84,35],[85,1,90,4],[85,5,90,10],[87,37,90,42],[87,43,88,45],[89,43,90,44],[89,45,90,45],[89,46,90,47],[87,46,88,47],[74,48,77,54],[78,17,81,18],[78,19,81,20],[78,21,81,36],[78,37,81,39],[78,40,81,42],[78,43,81,47],[78,48,81,54],[74,17,77,18],[74,19,77,20],[74,21,77,36],[74,37,77,39],[74,40,77,42],[74,43,77,47],[66,48,69,54],[70,17,73,18],[70,19,73,20],[70,21,73,36],[70,37,73,39],[70,40,73,42],[70,43,73,47],[70,48,73,54],[66,17,69,18],[66,19,69,20],[66,21,69,36],[66,37,69,39],[66,40,69,42],[66,43,69,47],[58,48,61,54],[62,17,65,18],[62,19,65,20],[62,21,65,36],[62,37,65,39],[62,40,65,42],[62,43,65,47],[62,48,65,54],[58,17,61,18],[58,19,61,20],[58,21,61,36],[58,37,61,39],[58,40,61,42],[58,43,61,47],[50,48,53,54],[54,17,57,18],[54,19,57,20],[54,21,57,36],[54,37,57,39],[54,40,57,42],[54,43,57,47],[54,48,57,54],[50,17,53,18],[50,19,53,20],[50,21,53,36],[50,37,53,39],[50,40,53,42],[50,43,53,47],[38,17,41,18],[38,19,41,20],[38,21,41,36],[38,37,41,39],[38,40,41,42],[38,43,41,47],[38,48,41,54],[42,48,45,54],[46,17,49,18],[46,19,49,20],[46,21,49,36],[46,37,49,39],[46,40,49,42],[46,43,49,47],[46,48,49,54],[42,17,45,18],[42,19,45,20],[42,21,45,36],[42,37,45,39],[42,40,45,42],[42,43,45,47],[34,1,37,5],[34,6,37,15],[34,17,37,18],[34,19,37,20],[34,21,37,36],[34,37,37,39],[34,40,37,42],[34,43,37,47],[34,48,37,54],[26,40,29,42],[26,43,29,47],[26,48,29,54],[30,1,33,3],[30,4,33,5],[30,6,33,15],[30,17,33,18],[30,19,33,20],[30,21,33,36],[30,37,33,39],[26,1,29,5],[26,6,29,15],[26,17,29,18],[26,19,29,20],[26,21,29,36],[26,37,29,39],[30,40,33,42],[30,43,33,47],[30,48,33,54],[22,1,25,5],[22,6,25,15],[22,17,25,18],[22,19,25,20],[22,21,25,36],[22,37,25,39],[22,40,25,42],[22,43,25,47],[22,48,25,54],[14,43,17,47],[14,48,17,54],[18,1,21,5],[18,6,21,15],[18,17,21,18],[18,19,21,20],[18,21,21,36],[18,37,21,39],[18,40,21,42],[18,43,21,47],[14,1,17,5],[14,6,17,15],[14,17,17,20],[14,21,17,36],[14,37,17,39],[14,40,17,42],[18,48,21,54],[3,52,5,54],[8,1,11,5],[8,6,11,11],[8,12,11,15],[8,16,11,35],[8,37,11,40],[8,41,11,54],[1,19,4,32],[2,1,5,11],[2,12,5,13],[3,40,5,44],[3,45,5,48],[3,49,5,51]]}
[]
[null,null,null,null,null,null,null,null,null,null,null,null,null,null,null,null,null,null,null,"請求書明細書 (正)"]
[null,"株 式 会 社 種 村 建 設",null,null,null,null,null,null,null,null,null,null,"御中"]
[null,null,null,null,null,null,null,null,null,null,null,null,null,null,null,null,null,null,null,null,null,null,null,null,null,null,null,null,null,null,null,null,null,null,null,null,null,null,null,null,"請求年月日",null,null,null,null,{"$f":"IF(年=\"\",\"\",年)","v":""},null,null,null,{"$f":"IF(月=\"\",\"\",月)","v":""},null,null,{"$f":"IF(日=\"\",\"\",日)","v":""}]
[]
[]
[]
[]
[null,"工事番号",null,null,null,null,null,null,null,null,null,null,"工事名",null,null,null,null,null,null,null,null,null,null,null,null,null,null,null,null,null,null,null,null,null,null,null,null,"業者名",null,null,null,{"$f":"IF(社名=\"\",\"\",社名)","v":""}]
[]
[]
[]
[]
[]
[null,"注文番号",null,null,null,null,null,null,null,null,null,null,null,null,null,null,null,"月　日",null,null,null,"品　名・内　訳",null,null,null,null,null,null,null,null,null,null,null,null,null,null,null,"数 量",null,null,"単位",null,null,"単価",null,null,null,null,{"$f":"表紙①!P35","v":"金額(税抜)"}]
[]
[]
[]
[null,"契約金額",null,null,null,null,null,null,null,null,null,null,null,null,null,null,null,null,null,null,null,null,null,null,null,null,null,null,null,null,null,null,null,null,null,null,null,null,null,null,null,null,null,null,null,null,null,null,{"$f":"IF(V19=\"\",\"\",ROUND(AL19*AR19,0))","v":""}]
[]
[]
[]
[null,"増減額",null,null,null,null,null,null,null,null,null,null,null,null,null,null,null,null,null,null,null,null,null,null,null,null,null,null,null,null,null,null,null,null,null,null,null,null,null,null,null,null,null,null,null,null,null,null,{"$f":"IF(V23=\"\",\"\",ROUND(AL23*AR23,0))","v":""}]
[]
[]
[]
[null,"前回までの\n請求額",null,null,null,null,null,null,null,null,null,null,null,null,null,null,null,null,null,null,null,null,null,null,null,null,null,null,null,null,null,null,null,null,null,null,null,null,null,null,null,null,null,null,null,null,null,null,{"$f":"IF(V27=\"\",\"\",ROUND(AL27*AR27,0))","v":""}]
[]
[]
[]
[null,"今回\n請求額",null,null,null,null,null,null,null,null,null,null,null,null,null,null,null,null,null,null,null,null,null,null,null,null,null,null,null,null,null,null,null,null,null,null,null,null,null,null,null,null,null,null,null,null,null,null,{"$f":"IF(V31=\"\",\"\",ROUND(AL31*AR31,0))","v":""}]
[]
[]
[]
[null,"差引残高",null,null,null,null,{"$f":"IF(G19=\"\",\"\",G19+G23-G27-G31)","v":""},null,null,null,null,null,null,null,null,null,null,null,null,null,null,null,null,null,null,null,null,null,null,null,null,null,null,null,null,null,null,null,null,null,null,null,null,null,null,null,null,null,{"$f":"IF(V35=\"\",\"\",ROUND(AL35*AR35,0))","v":""}]
[]
[]
[]
[null,null,null,null,null,null,null,null,null,null,null,null,null,null,null,null,null,null,null,null,null,null,null,null,null,null,null,null,null,null,null,null,null,null,null,null,null,null,null,null,null,null,null,null,null,null,null,null,{"$f":"IF(V39=\"\",\"\",ROUND(AL39*AR39,0))","v":""}]
[]
[]
[]
[null,null,null,null,null,null,null,null,null,null,null,null,null,null,null,null,null,null,null,null,null,null,null,null,null,null,null,null,null,null,null,null,null,null,null,null,null,null,null,null,null,null,null,null,null,null,null,null,{"$f":"IF(V43=\"\",\"\",ROUND(AL43*AR43,0))","v":""}]
[]
[]
[]
[null,null,null,null,null,null,null,null,null,null,null,null,null,null,null,null,null,null,null,null,null,null,null,null,null,null,null,null,null,null,null,null,null,null,null,null,null,null,null,null,null,null,null,null,null,null,null,null,{"$f":"IF(V47=\"\",\"\",ROUND(AL47*AR47,0))","v":""}]
[]
[]
[]
[null,null,null,null,null,null,null,null,null,null,null,null,null,null,null,null,null,null,null,null,null,null,null,null,null,null,null,null,null,null,null,null,null,null,null,null,null,null,null,null,null,null,null,null,null,null,null,null,{"$f":"IF(V51=\"\",\"\",ROUND(AL51*AR51,0))","v":""}]
[]
[]
[]
[null,null,null,null,null,null,null,null,null,null,null,null,null,null,null,null,null,null,null,null,null,null,null,null,null,null,null,null,null,null,null,null,null,null,null,null,null,null,null,null,null,null,null,null,null,null,null,null,{"$f":"IF(V55=\"\",\"\",ROUND(AL55*AR55,0))","v":""}]
[]
[]
[]
[null,null,null,null,null,null,null,null,null,null,null,null,null,null,null,null,null,null,null,null,null,null,null,null,null,null,null,null,null,null,null,null,null,null,null,null,null,null,null,null,null,null,null,null,null,null,null,null,{"$f":"IF(V59=\"\",\"\",ROUND(AL59*AR59,0))","v":""}]
[]
[]
[]
[null,null,null,null,null,null,null,null,null,null,null,null,null,null,null,null,null,null,null,null,null,null,null,null,null,null,null,null,null,null,null,null,null,null,null,null,null,null,null,null,null,null,null,null,null,null,null,null,{"$f":"IF(V63=\"\",\"\",ROUND(AL63*AR63,0))","v":""}]
[]
[]
[]
[null,null,null,null,null,null,null,null,null,null,null,null,null,null,null,null,null,null,null,null,null,null,null,null,null,null,null,null,null,null,null,null,null,null,null,null,null,null,null,null,null,null,null,null,null,null,null,null,{"$f":"IF(V67=\"\",\"\",ROUND(AL67*AR67,0))","v":""}]
[]
[]
[]
[null,null,null,null,null,null,null,null,null,null,null,null,null,null,null,null,null,null,null,null,null,null,null,null,null,null,null,null,null,null,null,null,null,null,null,null,null,null,null,null,null,null,null,null,null,null,null,null,{"$f":"IF(V71=\"\",\"\",ROUND(AL71*AR71,0))","v":""}]
[]
[]
[]
[null,null,null,null,null,null,null,null,null,null,null,null,null,null,null,null,null,null,null,null,null,null,null,null,null,null,null,null,null,null,null,null,null,null,null,null,null,null,null,null,null,null,null,null,null,null,null,null,{"$f":"IF(V75=\"\",\"\",ROUND(AL75*AR75,0))","v":""}]
[]
[]
[]
[null,null,null,null,null,null,null,null,null,null,null,null,null,null,null,null,null,null,null,null,null,null,null,null,null,null,null,null,null,null,null,null,null,null,null,null,null,null,null,null,null,null,null,null,null,null,null,null,{"$f":"IF(V79=\"\",\"\",ROUND(AL79*AR79,0))","v":""}]
[]
[]
[]
[null,null,null,null,null,null,null,null,null,null,null,null,null,null,null,null,null,null,null,null,null,null,null,null,null,null,null,null,null,null,null,null,null,null,null,null,null,"金額(税抜)",null,null,null,null,null,null,null,null,null,null,{"$f":"IF(AW19=\"\",\"\",SUM(AW19:AW79))","v":""}]
[null,"社長",null,null,null,"専務",null,null,null,null,null,"常務",null,null,null,null,null,"部長･工場長",null,null,null,null,null,null,null,null,"担当者",null,null,null,null,"受付"]
[]
[]
[]
[null,null,null,null,null,null,null,null,null,null,null,null,null,null,null,null,null,null,null,null,null,null,null,null,null,null,null,null,null,null,null,null,null,null,null,null,null,"消費税",null,null,null,null,null,"税率",null,null,"税調",null,{"$f":"IF(AW83=\"\",\"\",IF(AR90=\"\",\"\",IF(AR90=8.1,ROUND(AW83*8/100,0)+AU90,ROUND(AW83*AR90/100,0)+AU90)))","v":""}]
[]
[null,null,null,null,null,null,null,null,null,null,null,null,null,null,null,null,null,null,null,null,null,null,null,null,null,null,null,null,null,null,null,null,null,null,null,null,null,null,null,null,null,null,null,null,null,{"$f":"IF(AR90=\"\",\"\",IF(AR90=8.1,\"旧\",IF(AR90=8,\"軽\",IF(AR90=0,\"非\",\"\"))))","v":""}]
[]
[]
[]
[null,null,null,null,null,null,null,null,null,null,null,null,null,null,null,null,null,null,null,"請求明細書 (現場控)"]
[null,"株 式 会 社 種 村 建 設",null,null,null,null,null,null,null,null,null,null,"御中"]
[null,null,null,null,null,null,null,null,null,null,null,null,null,null,null,null,null,null,null,null,null,null,null,null,null,null,null,null,null,null,null,null,null,null,null,null,null,null,null,null,"請求年月日",null,null,null,null,{"$f":"IF(AT4=\"\",\"\",AT4)","v":""},null,null,null,{"$f":"IF(AX4=\"\",\"\",AX4)","v":""},null,null,{"$f":"IF(BA4=\"\",\"\",BA4)","v":""}]
[]
[]
[]
[]
[null,"工事番号",null,null,null,null,{"$f":"IF(G9=\"\",\"\",G9)","v":""},null,null,null,null,null,"工事名",null,null,null,{"$f":"IF(Q9=\"\",\"\",Q9)","v":""},null,null,null,null,null,null,null,null,null,null,null,null,null,null,null,null,null,null,null,null,"業者名",null,null,null,{"$f":"IF(AP9=\"\",\"\",AP9)","v":""}]
[]
[]
[]
[]
[]
[null,"注文番号",null,null,null,null,{"$f":"IF(G15=\"\",\"\",G15)","v":""},null,null,null,null,null,null,null,null,null,null,"月　日",null,null,null,"品　名・内　訳",null,null,null,null,null,null,null,null,null,null,null,null,null,null,null,"数 量",null,null,"単位",null,null,"単価",null,null,null,null,{"$f":"AW15","v":"金額(税抜)"}]
[]
[]
[]
[null,"契約金額",null,null,null,null,{"$f":"IF(G19=\"\",\"\",G19)","v":""},null,null,null,null,null,null,null,null,null,null,{"$f":"IF(R19=\"\",\"\",R19)","v":""},null,{"$f":"IF(T19=\"\",\"\",T19)","v":""},null,{"$f":"IF(V19=\"\",\"\",V19)","v":""},null,{"$f":"IF(X19=\"\",\"\",X19)","v":""},null,{"$f":"IF(Z19=\"\",\"\",Z19)","v":""},null,{"$f":"IF(AB19=\"\",\"\",AB19)","v":""},null,{"$f":"IF(AD19=\"\",\"\",AD19)","v":""},null,{"$f":"IF(AF19=\"\",\"\",AF19)","v":""},null,{"$f":"IF(AH19=\"\",\"\",AH19)","v":""},null,{"$f":"IF(AJ19=\"\",\"\",AJ19)","v":""},null,{"$f":"IF(AL19=\"\",\"\",AL19)","v":""},null,null,{"$f":"IF(AO19=\"\",\"\",AO19)","v":""},null,null,{"$f":"IF(AR19=\"\",\"\",AR19)","v":""},null,null,null,null,{"$f":"IF(AW19=\"\",\"\",AW19)","v":""}]
[]
[]
[]
[null,"増減額",null,null,null,null,{"$f":"IF(G23=\"\",\"\",G23)","v":""},null,null,null,null,null,null,null,null,null,null,{"$f":"IF(R23=\"\",\"\",R23)","v":""},null,{"$f":"IF(T23=\"\",\"\",T23)","v":""},null,{"$f":"IF(V23=\"\",\"\",V23)","v":""},null,{"$f":"IF(X23=\"\",\"\",X23)","v":""},null,{"$f":"IF(Z23=\"\",\"\",Z23)","v":""},null,{"$f":"IF(AB23=\"\",\"\",AB23)","v":""},null,{"$f":"IF(AD23=\"\",\"\",AD23)","v":""},null,{"$f":"IF(AF23=\"\",\"\",AF23)","v":""},null,{"$f":"IF(AH23=\"\",\"\",AH23)","v":""},null,{"$f":"IF(AJ23=\"\",\"\",AJ23)","v":""},null,{"$f":"IF(AL23=\"\",\"\",AL23)","v":""},null,null,{"$f":"IF(AO23=\"\",\"\",AO23)","v":""},null,null,{"$f":"IF(AR23=\"\",\"\",AR23)","v":""},null,null,null,null,{"$f":"IF(AW23=\"\",\"\",AW23)","v":""}]
[]
[]
[]
[null,"前回までの\n請求額",null,null,null,null,{"$f":"IF(G27=\"\",\"\",G27)","v":""},null,null,null,null,null,null,null,null,null,null,{"$f":"IF(R27=\"\",\"\",R27)","v":""},null,{"$f":"IF(T27=\"\",\"\",T27)","v":""},null,{"$f":"IF(V27=\"\",\"\",V27)","v":""},null,{"$f":"IF(X27=\"\",\"\",X27)","v":""},null,{"$f":"IF(Z27=\"\",\"\",Z27)","v":""},null,{"$f":"IF(AB27=\"\",\"\",AB27)","v":""},null,{"$f":"IF(AD27=\"\",\"\",AD27)","v":""},null,{"$f":"IF(AF27=\"\",\"\",AF27)","v":""},null,{"$f":"IF(AH27=\"\",\"\",AH27)","v":""},null,{"$f":"IF(AJ27=\"\",\"\",AJ27)","v":""},null,{"$f":"IF(AL27=\"\",\"\",AL27)","v":""},null,null,{"$f":"IF(AO27=\"\",\"\",AO27)","v":""},null,null,{"$f":"IF(AR27=\"\",\"\",AR27)","v":""},null,null,null,null,{"$f":"IF(AW27=\"\",\"\",AW27)","v":""}]
[]
[]
[]
[null,"今回\n請求額",null,null,{"$f":"IF(E31=\"\",\"\",E31)","v":""},null,{"$f":"IF(G31=\"\",\"\",G31)","v":""},null,null,null,null,null,null,null,null,null,null,{"$f":"IF(R31=\"\",\"\",R31)","v":""},null,{"$f":"IF(T31=\"\",\"\",T31)","v":""},null,{"$f":"IF(V31=\"\",\"\",V31)","v":""},null,{"$f":"IF(X31=\"\",\"\",X31)","v":""},null,{"$f":"IF(Z31=\"\",\"\",Z31)","v":""},null,{"$f":"IF(AB31=\"\",\"\",AB31)","v":""},null,{"$f":"IF(AD31=\"\",\"\",AD31)","v":""},null,{"$f":"IF(AF31=\"\",\"\",AF31)","v":""},null,{"$f":"IF(AH31=\"\",\"\",AH31)","v":""},null,{"$f":"IF(AJ31=\"\",\"\",AJ31)","v":""},null,{"$f":"IF(AL31=\"\",\"\",AL31)","v":""},null,null,{"$f":"IF(AO31=\"\",\"\",AO31)","v":""},null,null,{"$f":"IF(AR31=\"\",\"\",AR31)","v":""},null,null,null,null,{"$f":"IF(AW31=\"\",\"\",AW31)","v":""}]
[]
[]
[]
[null,"差引残高",null,null,null,null,{"$f":"IF(G111=\"\",\"\",G111+G115-G119-G123)","v":""},null,null,null,null,null,null,null,null,null,null,{"$f":"IF(R35=\"\",\"\",R35)","v":""},null,{"$f":"IF(T35=\"\",\"\",T35)","v":""},null,{"$f":"IF(V35=\"\",\"\",V35)","v":""},null,{"$f":"IF(X35=\"\",\"\",X35)","v":""},null,{"$f":"IF(Z35=\"\",\"\",Z35)","v":""},null,{"$f":"IF(AB35=\"\",\"\",AB35)","v":""},null,{"$f":"IF(AD35=\"\",\"\",AD35)","v":""},null,{"$f":"IF(AF35=\"\",\"\",AF35)","v":""},null,{"$f":"IF(AH35=\"\",\"\",AH35)","v":""},null,{"$f":"IF(AJ35=\"\",\"\",AJ35)","v":""},null,{"$f":"IF(AL35=\"\",\"\",AL35)","v":""},null,null,{"$f":"IF(AO35=\"\",\"\",AO35)","v":""},null,null,{"$f":"IF(AR35=\"\",\"\",AR35)","v":""},null,null,null,null,{"$f":"IF(AW35=\"\",\"\",AW35)","v":""}]
[]
[]
[]
[null,null,null,null,null,null,null,null,null,null,null,null,null,null,null,null,null,{"$f":"IF(R39=\"\",\"\",R39)","v":""},null,{"$f":"IF(T39=\"\",\"\",T39)","v":""},null,{"$f":"IF(V39=\"\",\"\",V39)","v":""},null,{"$f":"IF(X39=\"\",\"\",X39)","v":""},null,{"$f":"IF(Z39=\"\",\"\",Z39)","v":""},null,{"$f":"IF(AB39=\"\",\"\",AB39)","v":""},null,{"$f":"IF(AD39=\"\",\"\",AD39)","v":""},null,{"$f":"IF(AF39=\"\",\"\",AF39)","v":""},null,{"$f":"IF(AH39=\"\",\"\",AH39)","v":""},null,{"$f":"IF(AJ39=\"\",\"\",AJ39)","v":""},null,{"$f":"IF(AL39=\"\",\"\",AL39)","v":""},null,null,{"$f":"IF(AO39=\"\",\"\",AO39)","v":""},null,null,{"$f":"IF(AR39=\"\",\"\",AR39)","v":""},null,null,null,null,{"$f":"IF(AW39=\"\",\"\",AW39)","v":""}]
[]
[]
[]
[null,null,null,null,null,null,null,null,null,null,null,null,null,null,null,null,null,{"$f":"IF(R43=\"\",\"\",R43)","v":""},null,{"$f":"IF(T43=\"\",\"\",T43)","v":""},null,{"$f":"IF(V43=\"\",\"\",V43)","v":""},null,{"$f":"IF(X43=\"\",\"\",X43)","v":""},null,{"$f":"IF(Z43=\"\",\"\",Z43)","v":""},null,{"$f":"IF(AB43=\"\",\"\",AB43)","v":""},null,{"$f":"IF(AD43=\"\",\"\",AD43)","v":""},null,{"$f":"IF(AF43=\"\",\"\",AF43)","v":""},null,{"$f":"IF(AH43=\"\",\"\",AH43)","v":""},null,{"$f":"IF(AJ43=\"\",\"\",AJ43)","v":""},null,{"$f":"IF(AL43=\"\",\"\",AL43)","v":""},null,null,{"$f":"IF(AO43=\"\",\"\",AO43)","v":""},null,null,{"$f":"IF(AR43=\"\",\"\",AR43)","v":""},null,null,null,null,{"$f":"IF(AW43=\"\",\"\",AW43)","v":""}]
[]
[]
[]
[null,null,null,null,null,null,null,null,null,null,null,null,null,null,null,null,null,{"$f":"IF(R47=\"\",\"\",R47)","v":""},null,{"$f":"IF(T47=\"\",\"\",T47)","v":""},null,{"$f":"IF(V47=\"\",\"\",V47)","v":""},null,{"$f":"IF(X47=\"\",\"\",X47)","v":""},null,{"$f":"IF(Z47=\"\",\"\",Z47)","v":""},null,{"$f":"IF(AB47=\"\",\"\",AB47)","v":""},null,{"$f":"IF(AD47=\"\",\"\",AD47)","v":""},null,{"$f":"IF(AF47=\"\",\"\",AF47)","v":""},null,{"$f":"IF(AH47=\"\",\"\",AH47)","v":""},null,{"$f":"IF(AJ47=\"\",\"\",AJ47)","v":""},null,{"$f":"IF(AL47=\"\",\"\",AL47)","v":""},null,null,{"$f":"IF(AO47=\"\",\"\",AO47)","v":""},null,null,{"$f":"IF(AR47=\"\",\"\",AR47)","v":""},null,null,null,null,{"$f":"IF(AW47=\"\",\"\",AW47)","v":""}]
[]
[]
[]
[null,null,null,null,null,null,null,null,null,null,null,null,null,null,null,null,null,{"$f":"IF(R51=\"\",\"\",R51)","v":""},null,{"$f":"IF(T51=\"\",\"\",T51)","v":""},null,{"$f":"IF(V51=\"\",\"\",V51)","v":""},null,{"$f":"IF(X51=\"\",\"\",X51)","v":""},null,{"$f":"IF(Z51=\"\",\"\",Z51)","v":""},null,{"$f":"IF(AB51=\"\",\"\",AB51)","v":""},null,{"$f":"IF(AD51=\"\",\"\",AD51)","v":""},null,{"$f":"IF(AF51=\"\",\"\",AF51)","v":""},null,{"$f":"IF(AH51=\"\",\"\",AH51)","v":""},null,{"$f":"IF(AJ51=\"\",\"\",AJ51)","v":""},null,{"$f":"IF(AL51=\"\",\"\",AL51)","v":""},null,null,{"$f":"IF(AO51=\"\",\"\",AO51)","v":""},null,null,{"$f":"IF(AR51=\"\",\"\",AR51)","v":""},null,null,null,null,{"$f":"IF(AW51=\"\",\"\",AW51)","v":""}]
[]
[]
[]
[null,null,null,null,null,null,null,null,null,null,null,null,null,null,null,null,null,{"$f":"IF(R55=\"\",\"\",R55)","v":""},null,{"$f":"IF(T55=\"\",\"\",T55)","v":""},null,{"$f":"IF(V55=\"\",\"\",V55)","v":""},null,{"$f":"IF(X55=\"\",\"\",X55)","v":""},null,{"$f":"IF(Z55=\"\",\"\",Z55)","v":""},null,{"$f":"IF(AB55=\"\",\"\",AB55)","v":""},null,{"$f":"IF(AD55=\"\",\"\",AD55)","v":""},null,{"$f":"IF(AF55=\"\",\"\",AF55)","v":""},null,{"$f":"IF(AH55=\"\",\"\",AH55)","v":""},null,{"$f":"IF(AJ55=\"\",\"\",AJ55)","v":""},null,{"$f":"IF(AL55=\"\",\"\",AL55)","v":""},null,null,{"$f":"IF(AO55=\"\",\"\",AO55)","v":""},null,null,{"$f":"IF(AR55=\"\",\"\",AR55)","v":""},null,null,null,null,{"$f":"IF(AW55=\"\",\"\",AW55)","v":""}]
[]
[]
[]
[null,null,null,null,null,null,null,null,null,null,null,null,null,null,null,null,null,{"$f":"IF(R59=\"\",\"\",R59)","v":""},null,{"$f":"IF(T59=\"\",\"\",T59)","v":""},null,{"$f":"IF(V59=\"\",\"\",V59)","v":""},null,{"$f":"IF(X59=\"\",\"\",X59)","v":""},null,{"$f":"IF(Z59=\"\",\"\",Z59)","v":""},null,{"$f":"IF(AB59=\"\",\"\",AB59)","v":""},null,{"$f":"IF(AD59=\"\",\"\",AD59)","v":""},null,{"$f":"IF(AF59=\"\",\"\",AF59)","v":""},null,{"$f":"IF(AH59=\"\",\"\",AH59)","v":""},null,{"$f":"IF(AJ59=\"\",\"\",AJ59)","v":""},null,{"$f":"IF(AL59=\"\",\"\",AL59)","v":""},null,null,{"$f":"IF(AO59=\"\",\"\",AO59)","v":""},null,null,{"$f":"IF(AR59=\"\",\"\",AR59)","v":""},null,null,null,null,{"$f":"IF(AW59=\"\",\"\",AW59)","v":""}]
[]
[]
[]
[null,null,null,null,null,null,null,null,null,null,null,null,null,null,null,null,null,{"$f":"IF(R63=\"\",\"\",R63)","v":""},null,{"$f":"IF(T63=\"\",\"\",T63)","v":""},null,{"$f":"IF(V63=\"\",\"\",V63)","v":""},null,{"$f":"IF(X63=\"\",\"\",X63)","v":""},null,{"$f":"IF(Z63=\"\",\"\",Z63)","v":""},null,{"$f":"IF(AB63=\"\",\"\",AB63)","v":""},null,{"$f":"IF(AD63=\"\",\"\",AD63)","v":""},null,{"$f":"IF(AF63=\"\",\"\",AF63)","v":""},null,{"$f":"IF(AH63=\"\",\"\",AH63)","v":""},null,{"$f":"IF(AJ63=\"\",\"\",AJ63)","v":""},null,{"$f":"IF(AL63=\"\",\"\",AL63)","v":""},null,null,{"$f":"IF(AO63=\"\",\"\",AO63)","v":""},null,null,{"$f":"IF(AR63=\"\",\"\",AR63)","v":""},null,null,null,null,{"$f":"IF(AW63=\"\",\"\",AW63)","v":""}]
[]
[]
[]
[null,null,null,null,null,null,null,null,null,null,null,null,null,null,null,null,null,{"$f":"IF(R67=\"\",\"\",R67)","v":""},null,{"$f":"IF(T67=\"\",\"\",T67)","v":""},null,{"$f":"IF(V67=\"\",\"\",V67)","v":""},null,{"$f":"IF(X67=\"\",\"\",X67)","v":""},null,{"$f":"IF(Z67=\"\",\"\",Z67)","v":""},null,{"$f":"IF(AB67=\"\",\"\",AB67)","v":""},null,{"$f":"IF(AD67=\"\",\"\",AD67)","v":""},null,{"$f":"IF(AF67=\"\",\"\",AF67)","v":""},null,{"$f":"IF(AH67=\"\",\"\",AH67)","v":""},null,{"$f":"IF(AJ67=\"\",\"\",AJ67)","v":""},null,{"$f":"IF(AL67=\"\",\"\",AL67)","v":""},null,null,{"$f":"IF(AO67=\"\",\"\",AO67)","v":""},null,null,{"$f":"IF(AR67=\"\",\"\",AR67)","v":""},null,null,null,null,{"$f":"IF(AW67=\"\",\"\",AW67)","v":""}]
[]
[]
[]
[null,null,null,null,null,null,null,null,null,null,null,null,null,null,null,null,null,{"$f":"IF(R71=\"\",\"\",R71)","v":""},null,{"$f":"IF(T71=\"\",\"\",T71)","v":""},null,{"$f":"IF(V71=\"\",\"\",V71)","v":""},null,{"$f":"IF(X71=\"\",\"\",X71)","v":""},null,{"$f":"IF(Z71=\"\",\"\",Z71)","v":""},null,{"$f":"IF(AB71=\"\",\"\",AB71)","v":""},null,{"$f":"IF(AD71=\"\",\"\",AD71)","v":""},null,{"$f":"IF(AF71=\"\",\"\",AF71)","v":""},null,{"$f":"IF(AH71=\"\",\"\",AH71)","v":""},null,{"$f":"IF(AJ71=\"\",\"\",AJ71)","v":""},null,{"$f":"IF(AL71=\"\",\"\",AL71)","v":""},null,null,{"$f":"IF(AO71=\"\",\"\",AO71)","v":""},null,null,{"$f":"IF(AR71=\"\",\"\",AR71)","v":""},null,null,null,null,{"$f":"IF(AW71=\"\",\"\",AW71)","v":""}]
[]
[]
[]
[null,null,null,null,null,null,null,null,null,null,null,null,null,null,null,null,null,{"$f":"IF(R75=\"\",\"\",R75)","v":""},null,{"$f":"IF(T75=\"\",\"\",T75)","v":""},null,{"$f":"IF(V75=\"\",\"\",V75)","v":""},null,{"$f":"IF(X75=\"\",\"\",X75)","v":""},null,{"$f":"IF(Z75=\"\",\"\",Z75)","v":""},null,{"$f":"IF(AB75=\"\",\"\",AB75)","v":""},null,{"$f":"IF(AD75=\"\",\"\",AD75)","v":""},null,{"$f":"IF(AF75=\"\",\"\",AF75)","v":""},null,{"$f":"IF(AH75=\"\",\"\",AH75)","v":""},null,{"$f":"IF(AJ75=\"\",\"\",AJ75)","v":""},null,{"$f":"IF(AL75=\"\",\"\",AL75)","v":""},null,null,{"$f":"IF(AO75=\"\",\"\",AO75)","v":""},null,null,{"$f":"IF(AR75=\"\",\"\",AR75)","v":""},null,null,null,null,{"$f":"IF(AW75=\"\",\"\",AW75)","v":""}]
[]
[]
[]
[null,null,null,null,null,null,null,null,null,null,null,null,null,null,null,null,null,{"$f":"IF(R79=\"\",\"\",R79)","v":""},null,{"$f":"IF(T79=\"\",\"\",T79)","v":""},null,{"$f":"IF(V79=\"\",\"\",V79)","v":""},null,{"$f":"IF(X79=\"\",\"\",X79)","v":""},null,{"$f":"IF(Z79=\"\",\"\",Z79)","v":""},null,{"$f":"IF(AB79=\"\",\"\",AB79)","v":""},null,{"$f":"IF(AD79=\"\",\"\",AD79)","v":""},null,{"$f":"IF(AF79=\"\",\"\",AF79)","v":""},null,{"$f":"IF(AH79=\"\",\"\",AH79)","v":""},null,{"$f":"IF(AJ79=\"\",\"\",AJ79)","v":""},null,{"$f":"IF(AL79=\"\",\"\",AL79)","v":""},null,null,{"$f":"IF(AO79=\"\",\"\",AO79)","v":""},null,null,{"$f":"IF(AR79=\"\",\"\",AR79)","v":""},null,null,null,null,{"$f":"IF(AW79=\"\",\"\",AW79)","v":""}]
[]
[]
[]
[null,null,null,null,null,null,null,null,null,null,null,null,null,null,null,null,null,null,null,null,null,null,null,null,null,null,null,null,null,null,null,null,null,null,null,null,null,{"$f":"AL83","v":"金額(税抜)"},null,null,null,null,null,null,null,null,null,null,{"$f":"AW83","v":""}]
[]
[]
[]
[]
[null,null,null,null,null,null,null,null,null,null,null,null,null,null,null,null,null,null,null,null,null,null,null,null,null,null,null,null,null,null,null,null,null,null,null,null,null,{"$f":"AL88","v":"消費税"},null,null,null,null,null,"税率",null,null,"税調",null,{"$f":"AW88","v":""}]
[]
[null,null,null,null,null,null,null,null,null,null,null,null,null,null,null,null,null,null,null,null,null,null,null,null,null,null,null,null,null,null,null,null,null,null,null,null,null,null,null,null,null,null,null,{"$f":"AR90","v":0},null,{"$f":"AT90","v":""}]
[]
[]
[]
[null,null,null,null,null,null,null,null,null,null,null,null,null,null,null,null,null,null,null,"請求明細書 (貴社控)"]
[null,"株 式 会 社 種 村 建 設",null,null,null,null,null,null,null,null,null,null,"御中"]
[null,null,null,null,null,null,null,null,null,null,null,null,null,null,null,null,null,null,null,null,null,null,null,null,null,null,null,null,null,null,null,null,null,null,null,null,null,null,null,null,"請求年月日",null,null,null,null,{"$f":"IF(AT4=\"\",\"\",AT4)","v":""},null,null,null,{"$f":"IF(AX96=\"\",\"\",AX96)","v":""},null,null,{"$f":"IF(BA96=\"\",\"\",BA96)","v":""}]
[]
[]
[]
[]
[null,"工事番号",null,null,null,null,{"$f":"IF(G101=\"\",\"\",G101)","v":""},null,null,null,null,null,"工事名",null,null,null,{"$f":"IF(Q101=\"\",\"\",Q101)","v":""},null,null,null,null,null,null,null,null,null,null,null,null,null,null,null,null,null,null,null,null,"業者名",null,null,null,{"$f":"IF(AP101=\"\",\"\",AP101)","v":""}]
[]
[]
[]
[]
[]
[null,"注文番号",null,null,null,null,{"$f":"IF(G107=\"\",\"\",G107)","v":""},null,null,null,null,null,null,null,null,null,null,"月　日",null,null,null,"品　名・内　訳",null,null,null,null,null,null,null,null,null,null,null,null,null,null,null,"数 量",null,null,"単位",null,null,"単価",null,null,null,null,{"$f":"AW15","v":"金額(税抜)"}]
[]
[]
[]
[null,"契約金額",null,null,null,null,{"$f":"IF(G111=\"\",\"\",G111)","v":""},null,null,null,null,null,null,null,null,null,null,{"$f":"IF(R111=\"\",\"\",R111)","v":""},null,{"$f":"IF(T111=\"\",\"\",T111)","v":""},null,{"$f":"IF(V111=\"\",\"\",V111)","v":""},null,{"$f":"IF(X111=\"\",\"\",X111)","v":""},null,{"$f":"IF(Z111=\"\",\"\",Z111)","v":""},null,{"$f":"IF(AB111=\"\",\"\",AB111)","v":""},null,{"$f":"IF(AD111=\"\",\"\",AD111)","v":""},null,{"$f":"IF(AF111=\"\",\"\",AF111)","v":""},null,{"$f":"IF(AH111=\"\",\"\",AH111)","v":""},null,{"$f":"IF(AJ111=\"\",\"\",AJ111)","v":""},null,{"$f":"IF(AL111=\"\",\"\",AL111)","v":""},null,null,{"$f":"IF(AO111=\"\",\"\",AO111)","v":""},null,null,{"$f":"IF(AR111=\"\",\"\",AR111)","v":""},null,null,null,null,{"$f":"IF(AW111=\"\",\"\",AW111)","v":""}]
[]
[]
[]
[null,"増減額",null,null,null,null,{"$f":"IF(G115=\"\",\"\",G115)","v":""},null,null,null,null,null,null,null,null,null,null,{"$f":"IF(R115=\"\",\"\",R115)","v":""},null,{"$f":"IF(T115=\"\",\"\",T115)","v":""},null,{"$f":"IF(V115=\"\",\"\",V115)","v":""},null,{"$f":"IF(X115=\"\",\"\",X115)","v":""},null,{"$f":"IF(Z115=\"\",\"\",Z115)","v":""},null,{"$f":"IF(AB115=\"\",\"\",AB115)","v":""},null,{"$f":"IF(AD115=\"\",\"\",AD115)","v":""},null,{"$f":"IF(AF115=\"\",\"\",AF115)","v":""},null,{"$f":"IF(AH115=\"\",\"\",AH115)","v":""},null,{"$f":"IF(AJ115=\"\",\"\",AJ115)","v":""},null,{"$f":"IF(AL115=\"\",\"\",AL115)","v":""},null,null,{"$f":"IF(AO115=\"\",\"\",AO115)","v":""},null,null,{"$f":"IF(AR115=\"\",\"\",AR115)","v":""},null,null,null,null,{"$f":"IF(AW115=\"\",\"\",AW115)","v":""}]
[]
[]
[]
[null,"前回までの\n請求額",null,null,null,null,{"$f":"IF(G119=\"\",\"\",G119)","v":""},null,null,null,null,null,null,null,null,null,null,{"$f":"IF(R119=\"\",\"\",R119)","v":""},null,{"$f":"IF(T119=\"\",\"\",T119)","v":""},null,{"$f":"IF(V119=\"\",\"\",V119)","v":""},null,{"$f":"IF(X119=\"\",\"\",X119)","v":""},null,{"$f":"IF(Z119=\"\",\"\",Z119)","v":""},null,{"$f":"IF(AB119=\"\",\"\",AB119)","v":""},null,{"$f":"IF(AD119=\"\",\"\",AD119)","v":""},null,{"$f":"IF(AF119=\"\",\"\",AF119)","v":""},null,{"$f":"IF(AH119=\"\",\"\",AH119)","v":""},null,{"$f":"IF(AJ119=\"\",\"\",AJ119)","v":""},null,{"$f":"IF(AL119=\"\",\"\",AL119)","v":""},null,null,{"$f":"IF(AO119=\"\",\"\",AO119)","v":""},null,null,{"$f":"IF(AR119=\"\",\"\",AR119)","v":""},null,null,null,null,{"$f":"IF(AW119=\"\",\"\",AW119)","v":""}]
[]
[]
[]
[null,"今回\n請求額",null,null,{"$f":"IF(E31=\"\",\"\",E31)","v":""},null,{"$f":"IF(G123=\"\",\"\",G123)","v":""},null,null,null,null,null,null,null,null,null,null,{"$f":"IF(R123=\"\",\"\",R123)","v":""},null,{"$f":"IF(T123=\"\",\"\",T123)","v":""},null,{"$f":"IF(V123=\"\",\"\",V123)","v":""},null,{"$f":"IF(X123=\"\",\"\",X123)","v":""},null,{"$f":"IF(Z123=\"\",\"\",Z123)","v":""},null,{"$f":"IF(AB123=\"\",\"\",AB123)","v":""},null,{"$f":"IF(AD123=\"\",\"\",AD123)","v":""},null,{"$f":"IF(AF123=\"\",\"\",AF123)","v":""},null,{"$f":"IF(AH123=\"\",\"\",AH123)","v":""},null,{"$f":"IF(AJ123=\"\",\"\",AJ123)","v":""},null,{"$f":"IF(AL123=\"\",\"\",AL123)","v":""},null,null,{"$f":"IF(AO123=\"\",\"\",AO123)","v":""},null,null,{"$f":"IF(AR123=\"\",\"\",AR123)","v":""},null,null,null,null,{"$f":"IF(AW123=\"\",\"\",AW123)","v":""}]
[]
[]
[]
[null,"差引残高",null,null,null,null,{"$f":"IF(G203=\"\",\"\",G203+G207-G211-G215)","v":""},null,null,null,null,null,null,null,null,null,null,{"$f":"IF(R127=\"\",\"\",R127)","v":""},null,{"$f":"IF(T127=\"\",\"\",T127)","v":""},null,{"$f":"IF(V127=\"\",\"\",V127)","v":""},null,{"$f":"IF(X127=\"\",\"\",X127)","v":""},null,{"$f":"IF(Z127=\"\",\"\",Z127)","v":""},null,{"$f":"IF(AB127=\"\",\"\",AB127)","v":""},null,{"$f":"IF(AD127=\"\",\"\",AD127)","v":""},null,{"$f":"IF(AF127=\"\",\"\",AF127)","v":""},null,{"$f":"IF(AH127=\"\",\"\",AH127)","v":""},null,{"$f":"IF(AJ127=\"\",\"\",AJ127)","v":""},null,{"$f":"IF(AL127=\"\",\"\",AL127)","v":""},null,null,{"$f":"IF(AO127=\"\",\"\",AO127)","v":""},null,null,{"$f":"IF(AR127=\"\",\"\",AR127)","v":""},null,null,null,null,{"$f":"IF(AW127=\"\",\"\",AW127)","v":""}]
[]
[]
[]
[null,null,null,null,null,null,null,null,null,null,null,null,null,null,null,null,null,{"$f":"IF(R131=\"\",\"\",R131)","v":""},null,{"$f":"IF(T131=\"\",\"\",T131)","v":""},null,{"$f":"IF(V131=\"\",\"\",V131)","v":""},null,{"$f":"IF(X131=\"\",\"\",X131)","v":""},null,{"$f":"IF(Z131=\"\",\"\",Z131)","v":""},null,{"$f":"IF(AB131=\"\",\"\",AB131)","v":""},null,{"$f":"IF(AD131=\"\",\"\",AD131)","v":""},null,{"$f":"IF(AF131=\"\",\"\",AF131)","v":""},null,{"$f":"IF(AH131=\"\",\"\",AH131)","v":""},null,{"$f":"IF(AJ131=\"\",\"\",AJ131)","v":""},null,{"$f":"IF(AL131=\"\",\"\",AL131)","v":""},null,null,{"$f":"IF(AO131=\"\",\"\",AO131)","v":""},null,null,{"$f":"IF(AR131=\"\",\"\",AR131)","v":""},null,null,null,null,{"$f":"IF(AW131=\"\",\"\",AW131)","v":""}]
[]
[]
[]
[null,null,null,null,null,null,null,null,null,null,null,null,null,null,null,null,null,{"$f":"IF(R135=\"\",\"\",R135)","v":""},null,{"$f":"IF(T135=\"\",\"\",T135)","v":""},null,{"$f":"IF(V135=\"\",\"\",V135)","v":""},null,{"$f":"IF(X135=\"\",\"\",X135)","v":""},null,{"$f":"IF(Z135=\"\",\"\",Z135)","v":""},null,{"$f":"IF(AB135=\"\",\"\",AB135)","v":""},null,{"$f":"IF(AD135=\"\",\"\",AD135)","v":""},null,{"$f":"IF(AF135=\"\",\"\",AF135)","v":""},null,{"$f":"IF(AH135=\"\",\"\",AH135)","v":""},null,{"$f":"IF(AJ135=\"\",\"\",AJ135)","v":""},null,{"$f":"IF(AL135=\"\",\"\",AL135)","v":""},null,null,{"$f":"IF(AO135=\"\",\"\",AO135)","v":""},null,null,{"$f":"IF(AR135=\"\",\"\",AR135)","v":""},null,null,null,null,{"$f":"IF(AW135=\"\",\"\",AW135)","v":""}]
[]
[]
[]
[null,null,null,null,null,null,null,null,null,null,null,null,null,null,null,null,null,{"$f":"IF(R139=\"\",\"\",R139)","v":""},null,{"$f":"IF(T139=\"\",\"\",T139)","v":""},null,{"$f":"IF(V139=\"\",\"\",V139)","v":""},null,{"$f":"IF(X139=\"\",\"\",X139)","v":""},null,{"$f":"IF(Z139=\"\",\"\",Z139)","v":""},null,{"$f":"IF(AB139=\"\",\"\",AB139)","v":""},null,{"$f":"IF(AD139=\"\",\"\",AD139)","v":""},null,{"$f":"IF(AF139=\"\",\"\",AF139)","v":""},null,{"$f":"IF(AH139=\"\",\"\",AH139)","v":""},null,{"$f":"IF(AJ139=\"\",\"\",AJ139)","v":""},null,{"$f":"IF(AL139=\"\",\"\",AL139)","v":""},null,null,{"$f":"IF(AO139=\"\",\"\",AO139)","v":""},null,null,{"$f":"IF(AR139=\"\",\"\",AR139)","v":""},null,null,null,null,{"$f":"IF(AW139=\"\",\"\",AW139)","v":""}]
[]
[]
[]
[null,null,null,null,null,null,null,null,null,null,null,null,null,null,null,null,null,{"$f":"IF(R143=\"\",\"\",R143)","v":""},null,{"$f":"IF(T143=\"\",\"\",T143)","v":""},null,{"$f":"IF(V143=\"\",\"\",V143)","v":""},null,{"$f":"IF(X143=\"\",\"\",X143)","v":""},null,{"$f":"IF(Z143=\"\",\"\",Z143)","v":""},null,{"$f":"IF(AB143=\"\",\"\",AB143)","v":""},null,{"$f":"IF(AD143=\"\",\"\",AD143)","v":""},null,{"$f":"IF(AF143=\"\",\"\",AF143)","v":""},null,{"$f":"IF(AH143=\"\",\"\",AH143)","v":""},null,{"$f":"IF(AJ143=\"\",\"\",AJ143)","v":""},null,{"$f":"IF(AL143=\"\",\"\",AL143)","v":""},null,null,{"$f":"IF(AO143=\"\",\"\",AO143)","v":""},null,null,{"$f":"IF(AR143=\"\",\"\",AR143)","v":""},null,null,null,null,{"$f":"IF(AW143=\"\",\"\",AW143)","v":""}]
[]
[]
[]
[null,null,null,null,null,null,null,null,null,null,null,null,null,null,null,null,null,{"$f":"IF(R147=\"\",\"\",R147)","v":""},null,{"$f":"IF(T147=\"\",\"\",T147)","v":""},null,{"$f":"IF(V147=\"\",\"\",V147)","v":""},null,{"$f":"IF(X147=\"\",\"\",X147)","v":""},null,{"$f":"IF(Z147=\"\",\"\",Z147)","v":""},null,{"$f":"IF(AB147=\"\",\"\",AB147)","v":""},null,{"$f":"IF(AD147=\"\",\"\",AD147)","v":""},null,{"$f":"IF(AF147=\"\",\"\",AF147)","v":""},null,{"$f":"IF(AH147=\"\",\"\",AH147)","v":""},null,{"$f":"IF(AJ147=\"\",\"\",AJ147)","v":""},null,{"$f":"IF(AL147=\"\",\"\",AL147)","v":""},null,null,{"$f":"IF(AO147=\"\",\"\",AO147)","v":""},null,null,{"$f":"IF(AR147=\"\",\"\",AR147)","v":""},null,null,null,null,{"$f":"IF(AW147=\"\",\"\",AW147)","v":""}]
[]
[]
[]
[null,null,null,null,null,null,null,null,null,null,null,null,null,null,null,null,null,{"$f":"IF(R151=\"\",\"\",R151)","v":""},null,{"$f":"IF(T151=\"\",\"\",T151)","v":""},null,{"$f":"IF(V151=\"\",\"\",V151)","v":""},null,{"$f":"IF(X151=\"\",\"\",X151)","v":""},null,{"$f":"IF(Z151=\"\",\"\",Z151)","v":""},null,{"$f":"IF(AB151=\"\",\"\",AB151)","v":""},null,{"$f":"IF(AD151=\"\",\"\",AD151)","v":""},null,{"$f":"IF(AF151=\"\",\"\",AF151)","v":""},null,{"$f":"IF(AH151=\"\",\"\",AH151)","v":""},null,{"$f":"IF(AJ151=\"\",\"\",AJ151)","v":""},null,{"$f":"IF(AL151=\"\",\"\",AL151)","v":""},null,null,{"$f":"IF(AO151=\"\",\"\",AO151)","v":""},null,null,{"$f":"IF(AR151=\"\",\"\",AR151)","v":""},null,null,null,null,{"$f":"IF(AW151=\"\",\"\",AW151)","v":""}]
[]
[]
[]
[null,null,null,null,null,null,null,null,null,null,null,null,null,null,null,null,null,{"$f":"IF(R155=\"\",\"\",R155)","v":""},null,{"$f":"IF(T155=\"\",\"\",T155)","v":""},null,{"$f":"IF(V155=\"\",\"\",V155)","v":""},null,{"$f":"IF(X155=\"\",\"\",X155)","v":""},null,{"$f":"IF(Z155=\"\",\"\",Z155)","v":""},null,{"$f":"IF(AB155=\"\",\"\",AB155)","v":""},null,{"$f":"IF(AD155=\"\",\"\",AD155)","v":""},null,{"$f":"IF(AF155=\"\",\"\",AF155)","v":""},null,{"$f":"IF(AH155=\"\",\"\",AH155)","v":""},null,{"$f":"IF(AJ155=\"\",\"\",AJ155)","v":""},null,{"$f":"IF(AL155=\"\",\"\",AL155)","v":""},null,null,{"$f":"IF(AO155=\"\",\"\",AO155)","v":""},null,null,{"$f":"IF(AR155=\"\",\"\",AR155)","v":""},null,null,null,null,{"$f":"IF(AW155=\"\",\"\",AW155)","v":""}]
[]
[]
[]
[null,null,null,null,null,null,null,null,null,null,null,null,null,null,null,null,null,{"$f":"IF(R159=\"\",\"\",R159)","v":""},null,{"$f":"IF(T159=\"\",\"\",T159)","v":""},null,{"$f":"IF(V159=\"\",\"\",V159)","v":""},null,{"$f":"IF(X159=\"\",\"\",X159)","v":""},null,{"$f":"IF(Z159=\"\",\"\",Z159)","v":""},null,{"$f":"IF(AB159=\"\",\"\",AB159)","v":""},null,{"$f":"IF(AD159=\"\",\"\",AD159)","v":""},null,{"$f":"IF(AF159=\"\",\"\",AF159)","v":""},null,{"$f":"IF(AH159=\"\",\"\",AH159)","v":""},null,{"$f":"IF(AJ159=\"\",\"\",AJ159)","v":""},null,{"$f":"IF(AL159=\"\",\"\",AL159)","v":""},null,null,{"$f":"IF(AO159=\"\",\"\",AO159)","v":""},null,null,{"$f":"IF(AR159=\"\",\"\",AR159)","v":""},null,null,null,null,{"$f":"IF(AW159=\"\",\"\",AW159)","v":""}]
[]
[]
[]
[null,null,null,null,null,null,null,null,null,null,null,null,null,null,null,null,null,{"$f":"IF(R163=\"\",\"\",R163)","v":""},null,{"$f":"IF(T163=\"\",\"\",T163)","v":""},null,{"$f":"IF(V163=\"\",\"\",V163)","v":""},null,{"$f":"IF(X163=\"\",\"\",X163)","v":""},null,{"$f":"IF(Z163=\"\",\"\",Z163)","v":""},null,{"$f":"IF(AB163=\"\",\"\",AB163)","v":""},null,{"$f":"IF(AD163=\"\",\"\",AD163)","v":""},null,{"$f":"IF(AF163=\"\",\"\",AF163)","v":""},null,{"$f":"IF(AH163=\"\",\"\",AH163)","v":""},null,{"$f":"IF(AJ163=\"\",\"\",AJ163)","v":""},null,{"$f":"IF(AL163=\"\",\"\",AL163)","v":""},null,null,{"$f":"IF(AO163=\"\",\"\",AO163)","v":""},null,null,{"$f":"IF(AR163=\"\",\"\",AR163)","v":""},null,null,null,null,{"$f":"IF(AW163=\"\",\"\",AW163)","v":""}]
[]
[]
[]
[null,null,null,null,null,null,null,null,null,null,null,null,null,null,null,null,null,{"$f":"IF(R167=\"\",\"\",R167)","v":""},null,{"$f":"IF(T167=\"\",\"\",T167)","v":""},null,{"$f":"IF(V167=\"\",\"\",V167)","v":""},null,{"$f":"IF(X167=\"\",\"\",X167)","v":""},null,{"$f":"IF(Z167=\"\",\"\",Z167)","v":""},null,{"$f":"IF(AB167=\"\",\"\",AB167)","v":""},null,{"$f":"IF(AD167=\"\",\"\",AD167)","v":""},null,{"$f":"IF(AF167=\"\",\"\",AF167)","v":""},null,{"$f":"IF(AH167=\"\",\"\",AH167)","v":""},null,{"$f":"IF(AJ167=\"\",\"\",AJ167)","v":""},null,{"$f":"IF(AL167=\"\",\"\",AL167)","v":""},null,null,{"$f":"IF(AO167=\"\",\"\",AO167)","v":""},null,null,{"$f":"IF(AR167=\"\",\"\",AR167)","v":""},null,null,null,null,{"$f":"IF(AW167=\"\",\"\",AW167)","v":""}]
[]
[]
[]
[null,null,null,null,null,null,null,null,null,null,null,null,null,null,null,null,null,{"$f":"IF(R171=\"\",\"\",R171)","v":""},null,{"$f":"IF(T171=\"\",\"\",T171)","v":""},null,{"$f":"IF(V171=\"\",\"\",V171)","v":""},null,{"$f":"IF(X171=\"\",\"\",X171)","v":""},null,{"$f":"IF(Z171=\"\",\"\",Z171)","v":""},null,{"$f":"IF(AB171=\"\",\"\",AB171)","v":""},null,{"$f":"IF(AD171=\"\",\"\",AD171)","v":""},null,{"$f":"IF(AF171=\"\",\"\",AF171)","v":""},null,{"$f":"IF(AH171=\"\",\"\",AH171)","v":""},null,{"$f":"IF(AJ171=\"\",\"\",AJ171)","v":""},null,{"$f":"IF(AL171=\"\",\"\",AL171)","v":""},null,null,{"$f":"IF(AO171=\"\",\"\",AO171)","v":""},null,null,{"$f":"IF(AR171=\"\",\"\",AR171)","v":""},null,null,null,null,{"$f":"IF(AW171=\"\",\"\",AW171)","v":""}]
[]
[]
[]
[null,null,null,null,null,null,null,null,null,null,null,null,null,null,null,null,null,null,null,null,null,null,null,null,null,null,null,null,null,null,null,null,null,null,null,null,null,{"$f":"AL175","v":"金額(税抜)"},null,null,null,null,null,null,null,null,null,null,{"$f":"AW83","v":""}]
[]
[]
[]
[]
[null,null,null,null,null,null,null,null,null,null,null,null,null,null,null,null,null,null,null,null,null,null,null,null,null,null,null,null,null,null,null,null,null,null,null,null,null,{"$f":"AL180","v":"消費税"},null,null,null,null,null,"税率",null,null,"税調",null,{"$f":"AW88","v":""}]
[]
[null,null,null,null,null,null,null,null,null,null,null,null,null,null,null,null,null,null,null,null,null,null,null,null,null,null,null,null,null,null,null,null,null,null,null,null,null,null,null,null,null,null,null,{"$f":"AR90","v":0},null,{"$f":"AT90","v":""}]

{"sheet":"細3-6","index":33,"n_rows":274,"n_cols":53,"rows_kept":274,"cut":false,"hidden":false,"merged":[[266,37,269,47],[266,48,269,54],[271,48,274,54],[258,48,261,54],[262,17,265,18],[262,19,265,20],[262,21,265,36],[262,37,265,39],[262,40,265,42],[262,43,265,47],[262,48,265,54],[258,17,261,18],[258,19,261,20],[258,21,261,36],[258,37,261,39],[258,40,261,42],[258,43,261,47],[271,37,274,42],[271,43,272,45],[273,43,274,44],[273,45,274,45],[273,46,274,47],[271,46,272,47],[250,48,253,54],[254,17,257,18],[254,19,257,20],[254,21,257,36],[254,37,257,39],[254,40,257,42],[254,43,257,47],[254,48,257,54],[250,17,253,18],[250,19,253,20],[250,21,253,36],[250,37,253,39],[250,40,253,42],[250,43,253,47],[242,48,245,54],[246,17,249,18],[246,19,249,20],[246,21,249,36],[246,37,249,39],[246,40,249,42],[246,43,249,47],[246,48,249,54],[242,17,245,18],[242,19,245,20],[242,21,245,36],[242,37,245,39],[242,40,245,42],[242,43,245,47],[234,48,237,54],[238,17,241,18],[238,19,241,20],[238,21,241,36],[238,37,241,39],[238,40,241,42],[238,43,241,47],[238,48,241,54],[234,17,237,18],[234,19,237,20],[234,21,237,36],[234,37,237,39],[234,40,237,42],[234,43,237,47],[222,17,225,18],[222,19,225,20],[222,21,225,36],[222,37,225,39],[222,40,225,42],[222,43,225,47],[222,48,225,54],[226,48,229,54],[230,17,233,18],[230,19,233,20],[230,21,233,36],[230,37,233,39],[230,40,233,42],[230,43,233,47],[230,48,233,54],[226,17,229,18],[226,19,229,20],[226,21,229,36],[226,37,229,39],[226,40,229,42],[226,43,229,47],[218,1,221,5],[218,6,221,15],[218,17,221,18],[218,19,221,20],[218,21,221,36],[218,37,221,39],[218,40,221,42],[218,43,221,47],[218,48,221,54],[210,40,213,42],[210,43,213,47],[210,48,213,54],[214,1,217,3],[214,4,217,5],[214,6,217,15],[214,17,217,18],[214,19,217,20],[214,21,217,36],[214,37,217,39],[210,1,213,5],[210,6,213,15],[210,17,213,18],[210,19,213,20],[210,21,213,36],[210,37,213,39],[214,40,217,42],[214,43,217,47],[214,48,217,54],[206,1,209,5],[206,6,209,15],[206,17,209,18],[206,19,209,20],[206,21,209,36],[206,37,209,39],[206,40,209,42],[206,43,209,47],[206,48,209,54],[198,43,201,47],[198,48,201,54],[202,1,205,5],[202,6,205,15],[202,17,205,18],[202,19,205,20],[202,21,205,36],[202,37,205,39],[202,40,205,42],[202,43,205,47],[198,1,201,5],[198,6,201,15],[198,17,201,20],[198,21,201,36],[198,37,201,39],[198,40,201,42],[202,48,205,54],[187,52,189,54],[192,1,195,5],[192,6,195,11],[192,12,195,15],[192,16,195,35],[192,37,195,40],[192,41,195,54],[174,37,177,47],[174,48,177,54],[179,48,182,54],[185,19,188,32],[186,1,189,11],[186,12,189,13],[187,40,189,44],[187,45,189,48],[187,49,189,51],[179,37,182,42],[179,43,180,45],[179,46,180,47],[181,43,182,44],[181,45,182,45],[181,46,182,47],[166,48,169,54],[170,17,173,18],[170,19,173,20],[170,21,173,36],[170,37,173,39],[170,40,173,42],[170,43,173,47],[170,48,173,54],[166,17,169,18],[166,19,169,20],[166,21,169,36],[166,37,169,39],[166,40,169,42],[166,43,169,47],[158,48,161,54],[162,17,165,18],[162,19,165,20],[162,21,165,36],[162,37,165,39],[162,40,165,42],[162,43,165,47],[162,48,165,54],[158,17,161,18],[158,19,161,20],[158,21,161,36],[158,37,161,39],[158,40,161,42],[158,43,161,47],[150,48,153,54],[154,17,157,18],[154,19,157,20],[154,21,157,36],[154,37,157,39],[154,40,157,42],[154,43,157,47],[154,48,157,54],[150,17,153,18],[150,19,153,20],[150,21,153,36],[150,37,153,39],[150,40,153,42],[150,43,153,47],[142,48,145,54],[146,17,149,18],[146,19,149,20],[146,21,149,36],[146,37,149,39],[146,40,149,42],[146,43,149,47],[146,48,149,54],[142,17,145,18],[142,19,145,20],[142,21,145,36],[142,37,145,39],[142,40,145,42],[142,43,145,47],[130,17,133,18],[130,19,133,20],[130,21,133,36],[130,37,133,39],[130,40,133,42],[130,43,133,47],[130,48,133,54],[134,48,137,54],[138,17,141,18],[138,19,141,20],[138,21,141,36],[138,37,141,39],[138,40,141,42],[138,43,141,47],[138,48,141,54],[134,17,137,18],[134,19,137,20],[134,21,137,36],[134,37,137,39],[134,40,137,42],[134,43,137,47],[126,1,129,5],[126,6,129,15],[126,17,129,18],[126,19,129,20],[126,21,129,36],[126,37,129,39],[126,40,129,42],[126,43,129,47],[126,48,129,54],[118,40,121,42],[118,43,121,47],[118,48,121,54],[122,1,125,3],[122,4,125,5],[122,6,125,15],[122,17,125,18],[122,19,125,20],[122,21,125,36],[122,37,125,39],[118,1,121,5],[118,6,121,15],[118,17,121,18],[118,19,121,20],[118,21,121,36],[118,37,121,39],[122,40,125,42],[122,43,125,47],[122,48,125,54],[114,1,117,5],[114,6,117,15],[114,17,117,18],[114,19,117,20],[114,21,117,36],[114,37,117,39],[114,40,117,42],[114,43,117,47],[114,48,117,54],[106,43,109,47],[106,48,109,54],[110,1,113,5],[110,6,113,15],[110,17,113,18],[110,19,113,20],[110,21,113,36],[110,37,113,39],[110,40,113,42],[110,43,113,47],[106,1,109,5],[106,6,109,15],[106,17,109,20],[106,21,109,36],[106,37,109,39],[106,40,109,42],[110,48,113,54],[95,52,97,54],[100,1,103,5],[100,6,103,11],[100,12,103,15],[100,16,103,35],[100,37,103,40],[100,41,103,54],[93,19,96,32],[94,1,97,11],[94,12,97,13],[95,40,97,44],[95,45,97,48],[95,49,97,51],[85,11,90,16],[85,17,90,25],[85,26,90,30],[85,31,90,35],[87,48,90,54],[82,37,85,47],[82,48,85,54],[83,1,84,4],[83,5,84,10],[83,11,84,16],[83,17,84,25],[83,26,84,30],[83,31,84,35],[85,1,90,4],[85,5,90,10],[87,37,90,42],[87,43,88,45],[89,43,90,44],[89,45,90,45],[89,46,90,47],[87,46,88,47],[74,48,77,54],[78,17,81,18],[78,19,81,20],[78,21,81,36],[78,37,81,39],[78,40,81,42],[78,43,81,47],[78,48,81,54],[74,17,77,18],[74,19,77,20],[74,21,77,36],[74,37,77,39],[74,40,77,42],[74,43,77,47],[66,48,69,54],[70,17,73,18],[70,19,73,20],[70,21,73,36],[70,37,73,39],[70,40,73,42],[70,43,73,47],[70,48,73,54],[66,17,69,18],[66,19,69,20],[66,21,69,36],[66,37,69,39],[66,40,69,42],[66,43,69,47],[58,48,61,54],[62,17,65,18],[62,19,65,20],[62,21,65,36],[62,37,65,39],[62,40,65,42],[62,43,65,47],[62,48,65,54],[58,17,61,18],[58,19,61,20],[58,21,61,36],[58,37,61,39],[58,40,61,42],[58,43,61,47],[50,48,53,54],[54,17,57,18],[54,19,57,20],[54,21,57,36],[54,37,57,39],[54,40,57,42],[54,43,57,47],[54,48,57,54],[50,17,53,18],[50,19,53,20],[50,21,53,36],[50,37,53,39],[50,40,53,42],[50,43,53,47],[38,17,41,18],[38,19,41,20],[38,21,41,36],[38,37,41,39],[38,40,41,42],[38,43,41,47],[38,48,41,54],[42,48,45,54],[46,17,49,18],[46,19,49,20],[46,21,49,36],[46,37,49,39],[46,40,49,42],[46,43,49,47],[46,48,49,54],[42,17,45,18],[42,19,45,20],[42,21,45,36],[42,37,45,39],[42,40,45,42],[42,43,45,47],[34,1,37,5],[34,6,37,15],[34,17,37,18],[34,19,37,20],[34,21,37,36],[34,37,37,39],[34,40,37,42],[34,43,37,47],[34,48,37,54],[26,40,29,42],[26,43,29,47],[26,48,29,54],[30,1,33,3],[30,4,33,5],[30,6,33,15],[30,17,33,18],[30,19,33,20],[30,21,33,36],[30,37,33,39],[26,1,29,5],[26,6,29,15],[26,17,29,18],[26,19,29,20],[26,21,29,36],[26,37,29,39],[30,40,33,42],[30,43,33,47],[30,48,33,54],[22,1,25,5],[22,6,25,15],[22,17,25,18],[22,19,25,20],[22,21,25,36],[22,37,25,39],[22,40,25,42],[22,43,25,47],[22,48,25,54],[14,43,17,47],[14,48,17,54],[18,1,21,5],[18,6,21,15],[18,17,21,18],[18,19,21,20],[18,21,21,36],[18,37,21,39],[18,40,21,42],[18,43,21,47],[14,1,17,5],[14,6,17,15],[14,17,17,20],[14,21,17,36],[14,37,17,39],[14,40,17,42],[18,48,21,54],[3,52,5,54],[8,1,11,5],[8,6,11,11],[8,12,11,15],[8,16,11,35],[8,37,11,40],[8,41,11,54],[1,19,4,32],[2,1,5,11],[2,12,5,13],[3,40,5,44],[3,45,5,48],[3,49,5,51]]}
[]
[null,null,null,null,null,null,null,null,null,null,null,null,null,null,null,null,null,null,null,"請求書明細書 (正)"]
[null,"株 式 会 社 種 村 建 設",null,null,null,null,null,null,null,null,null,null,"御中"]
[null,null,null,null,null,null,null,null,null,null,null,null,null,null,null,null,null,null,null,null,null,null,null,null,null,null,null,null,null,null,null,null,null,null,null,null,null,null,null,null,"請求年月日",null,null,null,null,{"$f":"IF(年=\"\",\"\",年)","v":""},null,null,null,{"$f":"IF(月=\"\",\"\",月)","v":""},null,null,{"$f":"IF(日=\"\",\"\",日)","v":""}]
[]
[]
[]
[]
[null,"工事番号",null,null,null,null,null,null,null,null,null,null,"工事名",null,null,null,null,null,null,null,null,null,null,null,null,null,null,null,null,null,null,null,null,null,null,null,null,"業者名",null,null,null,{"$f":"IF(社名=\"\",\"\",社名)","v":""}]
[]
[]
[]
[]
[]
[null,"注文番号",null,null,null,null,null,null,null,null,null,null,null,null,null,null,null,"月　日",null,null,null,"品　名・内　訳",null,null,null,null,null,null,null,null,null,null,null,null,null,null,null,"数 量",null,null,"単位",null,null,"単価",null,null,null,null,{"$f":"表紙①!P35","v":"金額(税抜)"}]
[]
[]
[]
[null,"契約金額",null,null,null,null,null,null,null,null,null,null,null,null,null,null,null,null,null,null,null,null,null,null,null,null,null,null,null,null,null,null,null,null,null,null,null,null,null,null,null,null,null,null,null,null,null,null,{"$f":"IF(V19=\"\",\"\",ROUND(AL19*AR19,0))","v":""}]
[]
[]
[]
[null,"増減額",null,null,null,null,null,null,null,null,null,null,null,null,null,null,null,null,null,null,null,null,null,null,null,null,null,null,null,null,null,null,null,null,null,null,null,null,null,null,null,null,null,null,null,null,null,null,{"$f":"IF(V23=\"\",\"\",ROUND(AL23*AR23,0))","v":""}]
[]
[]
[]
[null,"前回までの\n請求額",null,null,null,null,null,null,null,null,null,null,null,null,null,null,null,null,null,null,null,null,null,null,null,null,null,null,null,null,null,null,null,null,null,null,null,null,null,null,null,null,null,null,null,null,null,null,{"$f":"IF(V27=\"\",\"\",ROUND(AL27*AR27,0))","v":""}]
[]
[]
[]
[null,"今回\n請求額",null,null,null,null,null,null,null,null,null,null,null,null,null,null,null,null,null,null,null,null,null,null,null,null,null,null,null,null,null,null,null,null,null,null,null,null,null,null,null,null,null,null,null,null,null,null,{"$f":"IF(V31=\"\",\"\",ROUND(AL31*AR31,0))","v":""}]
[]
[]
[]
[null,"差引残高",null,null,null,null,{"$f":"IF(G19=\"\",\"\",G19+G23-G27-G31)","v":""},null,null,null,null,null,null,null,null,null,null,null,null,null,null,null,null,null,null,null,null,null,null,null,null,null,null,null,null,null,null,null,null,null,null,null,null,null,null,null,null,null,{"$f":"IF(V35=\"\",\"\",ROUND(AL35*AR35,0))","v":""}]
[]
[]
[]
[null,null,null,null,null,null,null,null,null,null,null,null,null,null,null,null,null,null,null,null,null,null,null,null,null,null,null,null,null,null,null,null,null,null,null,null,null,null,null,null,null,null,null,null,null,null,null,null,{"$f":"IF(V39=\"\",\"\",ROUND(AL39*AR39,0))","v":""}]
[]
[]
[]
[null,null,null,null,null,null,null,null,null,null,null,null,null,null,null,null,null,null,null,null,null,null,null,null,null,null,null,null,null,null,null,null,null,null,null,null,null,null,null,null,null,null,null,null,null,null,null,null,{"$f":"IF(V43=\"\",\"\",ROUND(AL43*AR43,0))","v":""}]
[]
[]
[]
[null,null,null,null,null,null,null,null,null,null,null,null,null,null,null,null,null,null,null,null,null,null,null,null,null,null,null,null,null,null,null,null,null,null,null,null,null,null,null,null,null,null,null,null,null,null,null,null,{"$f":"IF(V47=\"\",\"\",ROUND(AL47*AR47,0))","v":""}]
[]
[]
[]
[null,null,null,null,null,null,null,null,null,null,null,null,null,null,null,null,null,null,null,null,null,null,null,null,null,null,null,null,null,null,null,null,null,null,null,null,null,null,null,null,null,null,null,null,null,null,null,null,{"$f":"IF(V51=\"\",\"\",ROUND(AL51*AR51,0))","v":""}]
[]
[]
[]
[null,null,null,null,null,null,null,null,null,null,null,null,null,null,null,null,null,null,null,null,null,null,null,null,null,null,null,null,null,null,null,null,null,null,null,null,null,null,null,null,null,null,null,null,null,null,null,null,{"$f":"IF(V55=\"\",\"\",ROUND(AL55*AR55,0))","v":""}]
[]
[]
[]
[null,null,null,null,null,null,null,null,null,null,null,null,null,null,null,null,null,null,null,null,null,null,null,null,null,null,null,null,null,null,null,null,null,null,null,null,null,null,null,null,null,null,null,null,null,null,null,null,{"$f":"IF(V59=\"\",\"\",ROUND(AL59*AR59,0))","v":""}]
[]
[]
[]
[null,null,null,null,null,null,null,null,null,null,null,null,null,null,null,null,null,null,null,null,null,null,null,null,null,null,null,null,null,null,null,null,null,null,null,null,null,null,null,null,null,null,null,null,null,null,null,null,{"$f":"IF(V63=\"\",\"\",ROUND(AL63*AR63,0))","v":""}]
[]
[]
[]
[null,null,null,null,null,null,null,null,null,null,null,null,null,null,null,null,null,null,null,null,null,null,null,null,null,null,null,null,null,null,null,null,null,null,null,null,null,null,null,null,null,null,null,null,null,null,null,null,{"$f":"IF(V67=\"\",\"\",ROUND(AL67*AR67,0))","v":""}]
[]
[]
[]
[null,null,null,null,null,null,null,null,null,null,null,null,null,null,null,null,null,null,null,null,null,null,null,null,null,null,null,null,null,null,null,null,null,null,null,null,null,null,null,null,null,null,null,null,null,null,null,null,{"$f":"IF(V71=\"\",\"\",ROUND(AL71*AR71,0))","v":""}]
[]
[]
[]
[null,null,null,null,null,null,null,null,null,null,null,null,null,null,null,null,null,null,null,null,null,null,null,null,null,null,null,null,null,null,null,null,null,null,null,null,null,null,null,null,null,null,null,null,null,null,null,null,{"$f":"IF(V75=\"\",\"\",ROUND(AL75*AR75,0))","v":""}]
[]
[]
[]
[null,null,null,null,null,null,null,null,null,null,null,null,null,null,null,null,null,null,null,null,null,null,null,null,null,null,null,null,null,null,null,null,null,null,null,null,null,null,null,null,null,null,null,null,null,null,null,null,{"$f":"IF(V79=\"\",\"\",ROUND(AL79*AR79,0))","v":""}]
[]
[]
[]
[null,null,null,null,null,null,null,null,null,null,null,null,null,null,null,null,null,null,null,null,null,null,null,null,null,null,null,null,null,null,null,null,null,null,null,null,null,"金額(税抜)",null,null,null,null,null,null,null,null,null,null,{"$f":"IF(AW19=\"\",\"\",SUM(AW19:AW79))","v":""}]
[null,"社長",null,null,null,"専務",null,null,null,null,null,"常務",null,null,null,null,null,"部長･工場長",null,null,null,null,null,null,null,null,"担当者",null,null,null,null,"受付"]
[]
[]
[]
[null,null,null,null,null,null,null,null,null,null,null,null,null,null,null,null,null,null,null,null,null,null,null,null,null,null,null,null,null,null,null,null,null,null,null,null,null,"消費税",null,null,null,null,null,"税率",null,null,"税調",null,{"$f":"IF(AW83=\"\",\"\",IF(AR90=\"\",\"\",IF(AR90=8.1,ROUND(AW83*8/100,0)+AU90,ROUND(AW83*AR90/100,0)+AU90)))","v":""}]
[]
[null,null,null,null,null,null,null,null,null,null,null,null,null,null,null,null,null,null,null,null,null,null,null,null,null,null,null,null,null,null,null,null,null,null,null,null,null,null,null,null,null,null,null,null,null,{"$f":"IF(AR90=\"\",\"\",IF(AR90=8.1,\"旧\",IF(AR90=8,\"軽\",IF(AR90=0,\"非\",\"\"))))","v":""}]
[]
[]
[]
[null,null,null,null,null,null,null,null,null,null,null,null,null,null,null,null,null,null,null,"請求明細書 (現場控)"]
[null,"株 式 会 社 種 村 建 設",null,null,null,null,null,null,null,null,null,null,"御中"]
[null,null,null,null,null,null,null,null,null,null,null,null,null,null,null,null,null,null,null,null,null,null,null,null,null,null,null,null,null,null,null,null,null,null,null,null,null,null,null,null,"請求年月日",null,null,null,null,{"$f":"IF(AT4=\"\",\"\",AT4)","v":""},null,null,null,{"$f":"IF(AX4=\"\",\"\",AX4)","v":""},null,null,{"$f":"IF(BA4=\"\",\"\",BA4)","v":""}]
[]
[]
[]
[]
[null,"工事番号",null,null,null,null,{"$f":"IF(G9=\"\",\"\",G9)","v":""},null,null,null,null,null,"工事名",null,null,null,{"$f":"IF(Q9=\"\",\"\",Q9)","v":""},null,null,null,null,null,null,null,null,null,null,null,null,null,null,null,null,null,null,null,null,"業者名",null,null,null,{"$f":"IF(AP9=\"\",\"\",AP9)","v":""}]
[]
[]
[]
[]
[]
[null,"注文番号",null,null,null,null,{"$f":"IF(G15=\"\",\"\",G15)","v":""},null,null,null,null,null,null,null,null,null,null,"月　日",null,null,null,"品　名・内　訳",null,null,null,null,null,null,null,null,null,null,null,null,null,null,null,"数 量",null,null,"単位",null,null,"単価",null,null,null,null,{"$f":"AW15","v":"金額(税抜)"}]
[]
[]
[]
[null,"契約金額",null,null,null,null,{"$f":"IF(G19=\"\",\"\",G19)","v":""},null,null,null,null,null,null,null,null,null,null,{"$f":"IF(R19=\"\",\"\",R19)","v":""},null,{"$f":"IF(T19=\"\",\"\",T19)","v":""},null,{"$f":"IF(V19=\"\",\"\",V19)","v":""},null,{"$f":"IF(X19=\"\",\"\",X19)","v":""},null,{"$f":"IF(Z19=\"\",\"\",Z19)","v":""},null,{"$f":"IF(AB19=\"\",\"\",AB19)","v":""},null,{"$f":"IF(AD19=\"\",\"\",AD19)","v":""},null,{"$f":"IF(AF19=\"\",\"\",AF19)","v":""},null,{"$f":"IF(AH19=\"\",\"\",AH19)","v":""},null,{"$f":"IF(AJ19=\"\",\"\",AJ19)","v":""},null,{"$f":"IF(AL19=\"\",\"\",AL19)","v":""},null,null,{"$f":"IF(AO19=\"\",\"\",AO19)","v":""},null,null,{"$f":"IF(AR19=\"\",\"\",AR19)","v":""},null,null,null,null,{"$f":"IF(AW19=\"\",\"\",AW19)","v":""}]
[]
[]
[]
[null,"増減額",null,null,null,null,{"$f":"IF(G23=\"\",\"\",G23)","v":""},null,null,null,null,null,null,null,null,null,null,{"$f":"IF(R23=\"\",\"\",R23)","v":""},null,{"$f":"IF(T23=\"\",\"\",T23)","v":""},null,{"$f":"IF(V23=\"\",\"\",V23)","v":""},null,{"$f":"IF(X23=\"\",\"\",X23)","v":""},null,{"$f":"IF(Z23=\"\",\"\",Z23)","v":""},null,{"$f":"IF(AB23=\"\",\"\",AB23)","v":""},null,{"$f":"IF(AD23=\"\",\"\",AD23)","v":""},null,{"$f":"IF(AF23=\"\",\"\",AF23)","v":""},null,{"$f":"IF(AH23=\"\",\"\",AH23)","v":""},null,{"$f":"IF(AJ23=\"\",\"\",AJ23)","v":""},null,{"$f":"IF(AL23=\"\",\"\",AL23)","v":""},null,null,{"$f":"IF(AO23=\"\",\"\",AO23)","v":""},null,null,{"$f":"IF(AR23=\"\",\"\",AR23)","v":""},null,null,null,null,{"$f":"IF(AW23=\"\",\"\",AW23)","v":""}]
[]
[]
[]
[null,"前回までの\n請求額",null,null,null,null,{"$f":"IF(G27=\"\",\"\",G27)","v":""},null,null,null,null,null,null,null,null,null,null,{"$f":"IF(R27=\"\",\"\",R27)","v":""},null,{"$f":"IF(T27=\"\",\"\",T27)","v":""},null,{"$f":"IF(V27=\"\",\"\",V27)","v":""},null,{"$f":"IF(X27=\"\",\"\",X27)","v":""},null,{"$f":"IF(Z27=\"\",\"\",Z27)","v":""},null,{"$f":"IF(AB27=\"\",\"\",AB27)","v":""},null,{"$f":"IF(AD27=\"\",\"\",AD27)","v":""},null,{"$f":"IF(AF27=\"\",\"\",AF27)","v":""},null,{"$f":"IF(AH27=\"\",\"\",AH27)","v":""},null,{"$f":"IF(AJ27=\"\",\"\",AJ27)","v":""},null,{"$f":"IF(AL27=\"\",\"\",AL27)","v":""},null,null,{"$f":"IF(AO27=\"\",\"\",AO27)","v":""},null,null,{"$f":"IF(AR27=\"\",\"\",AR27)","v":""},null,null,null,null,{"$f":"IF(AW27=\"\",\"\",AW27)","v":""}]
[]
[]
[]
[null,"今回\n請求額",null,null,{"$f":"IF(E31=\"\",\"\",E31)","v":""},null,{"$f":"IF(G31=\"\",\"\",G31)","v":""},null,null,null,null,null,null,null,null,null,null,{"$f":"IF(R31=\"\",\"\",R31)","v":""},null,{"$f":"IF(T31=\"\",\"\",T31)","v":""},null,{"$f":"IF(V31=\"\",\"\",V31)","v":""},null,{"$f":"IF(X31=\"\",\"\",X31)","v":""},null,{"$f":"IF(Z31=\"\",\"\",Z31)","v":""},null,{"$f":"IF(AB31=\"\",\"\",AB31)","v":""},null,{"$f":"IF(AD31=\"\",\"\",AD31)","v":""},null,{"$f":"IF(AF31=\"\",\"\",AF31)","v":""},null,{"$f":"IF(AH31=\"\",\"\",AH31)","v":""},null,{"$f":"IF(AJ31=\"\",\"\",AJ31)","v":""},null,{"$f":"IF(AL31=\"\",\"\",AL31)","v":""},null,null,{"$f":"IF(AO31=\"\",\"\",AO31)","v":""},null,null,{"$f":"IF(AR31=\"\",\"\",AR31)","v":""},null,null,null,null,{"$f":"IF(AW31=\"\",\"\",AW31)","v":""}]
[]
[]
[]
[null,"差引残高",null,null,null,null,{"$f":"IF(G111=\"\",\"\",G111+G115-G119-G123)","v":""},null,null,null,null,null,null,null,null,null,null,{"$f":"IF(R35=\"\",\"\",R35)","v":""},null,{"$f":"IF(T35=\"\",\"\",T35)","v":""},null,{"$f":"IF(V35=\"\",\"\",V35)","v":""},null,{"$f":"IF(X35=\"\",\"\",X35)","v":""},null,{"$f":"IF(Z35=\"\",\"\",Z35)","v":""},null,{"$f":"IF(AB35=\"\",\"\",AB35)","v":""},null,{"$f":"IF(AD35=\"\",\"\",AD35)","v":""},null,{"$f":"IF(AF35=\"\",\"\",AF35)","v":""},null,{"$f":"IF(AH35=\"\",\"\",AH35)","v":""},null,{"$f":"IF(AJ35=\"\",\"\",AJ35)","v":""},null,{"$f":"IF(AL35=\"\",\"\",AL35)","v":""},null,null,{"$f":"IF(AO35=\"\",\"\",AO35)","v":""},null,null,{"$f":"IF(AR35=\"\",\"\",AR35)","v":""},null,null,null,null,{"$f":"IF(AW35=\"\",\"\",AW35)","v":""}]
[]
[]
[]
[null,null,null,null,null,null,null,null,null,null,null,null,null,null,null,null,null,{"$f":"IF(R39=\"\",\"\",R39)","v":""},null,{"$f":"IF(T39=\"\",\"\",T39)","v":""},null,{"$f":"IF(V39=\"\",\"\",V39)","v":""},null,{"$f":"IF(X39=\"\",\"\",X39)","v":""},null,{"$f":"IF(Z39=\"\",\"\",Z39)","v":""},null,{"$f":"IF(AB39=\"\",\"\",AB39)","v":""},null,{"$f":"IF(AD39=\"\",\"\",AD39)","v":""},null,{"$f":"IF(AF39=\"\",\"\",AF39)","v":""},null,{"$f":"IF(AH39=\"\",\"\",AH39)","v":""},null,{"$f":"IF(AJ39=\"\",\"\",AJ39)","v":""},null,{"$f":"IF(AL39=\"\",\"\",AL39)","v":""},null,null,{"$f":"IF(AO39=\"\",\"\",AO39)","v":""},null,null,{"$f":"IF(AR39=\"\",\"\",AR39)","v":""},null,null,null,null,{"$f":"IF(AW39=\"\",\"\",AW39)","v":""}]
[]
[]
[]
[null,null,null,null,null,null,null,null,null,null,null,null,null,null,null,null,null,{"$f":"IF(R43=\"\",\"\",R43)","v":""},null,{"$f":"IF(T43=\"\",\"\",T43)","v":""},null,{"$f":"IF(V43=\"\",\"\",V43)","v":""},null,{"$f":"IF(X43=\"\",\"\",X43)","v":""},null,{"$f":"IF(Z43=\"\",\"\",Z43)","v":""},null,{"$f":"IF(AB43=\"\",\"\",AB43)","v":""},null,{"$f":"IF(AD43=\"\",\"\",AD43)","v":""},null,{"$f":"IF(AF43=\"\",\"\",AF43)","v":""},null,{"$f":"IF(AH43=\"\",\"\",AH43)","v":""},null,{"$f":"IF(AJ43=\"\",\"\",AJ43)","v":""},null,{"$f":"IF(AL43=\"\",\"\",AL43)","v":""},null,null,{"$f":"IF(AO43=\"\",\"\",AO43)","v":""},null,null,{"$f":"IF(AR43=\"\",\"\",AR43)","v":""},null,null,null,null,{"$f":"IF(AW43=\"\",\"\",AW43)","v":""}]
[]
[]
[]
[null,null,null,null,null,null,null,null,null,null,null,null,null,null,null,null,null,{"$f":"IF(R47=\"\",\"\",R47)","v":""},null,{"$f":"IF(T47=\"\",\"\",T47)","v":""},null,{"$f":"IF(V47=\"\",\"\",V47)","v":""},null,{"$f":"IF(X47=\"\",\"\",X47)","v":""},null,{"$f":"IF(Z47=\"\",\"\",Z47)","v":""},null,{"$f":"IF(AB47=\"\",\"\",AB47)","v":""},null,{"$f":"IF(AD47=\"\",\"\",AD47)","v":""},null,{"$f":"IF(AF47=\"\",\"\",AF47)","v":""},null,{"$f":"IF(AH47=\"\",\"\",AH47)","v":""},null,{"$f":"IF(AJ47=\"\",\"\",AJ47)","v":""},null,{"$f":"IF(AL47=\"\",\"\",AL47)","v":""},null,null,{"$f":"IF(AO47=\"\",\"\",AO47)","v":""},null,null,{"$f":"IF(AR47=\"\",\"\",AR47)","v":""},null,null,null,null,{"$f":"IF(AW47=\"\",\"\",AW47)","v":""}]
[]
[]
[]
[null,null,null,null,null,null,null,null,null,null,null,null,null,null,null,null,null,{"$f":"IF(R51=\"\",\"\",R51)","v":""},null,{"$f":"IF(T51=\"\",\"\",T51)","v":""},null,{"$f":"IF(V51=\"\",\"\",V51)","v":""},null,{"$f":"IF(X51=\"\",\"\",X51)","v":""},null,{"$f":"IF(Z51=\"\",\"\",Z51)","v":""},null,{"$f":"IF(AB51=\"\",\"\",AB51)","v":""},null,{"$f":"IF(AD51=\"\",\"\",AD51)","v":""},null,{"$f":"IF(AF51=\"\",\"\",AF51)","v":""},null,{"$f":"IF(AH51=\"\",\"\",AH51)","v":""},null,{"$f":"IF(AJ51=\"\",\"\",AJ51)","v":""},null,{"$f":"IF(AL51=\"\",\"\",AL51)","v":""},null,null,{"$f":"IF(AO51=\"\",\"\",AO51)","v":""},null,null,{"$f":"IF(AR51=\"\",\"\",AR51)","v":""},null,null,null,null,{"$f":"IF(AW51=\"\",\"\",AW51)","v":""}]
[]
[]
[]
[null,null,null,null,null,null,null,null,null,null,null,null,null,null,null,null,null,{"$f":"IF(R55=\"\",\"\",R55)","v":""},null,{"$f":"IF(T55=\"\",\"\",T55)","v":""},null,{"$f":"IF(V55=\"\",\"\",V55)","v":""},null,{"$f":"IF(X55=\"\",\"\",X55)","v":""},null,{"$f":"IF(Z55=\"\",\"\",Z55)","v":""},null,{"$f":"IF(AB55=\"\",\"\",AB55)","v":""},null,{"$f":"IF(AD55=\"\",\"\",AD55)","v":""},null,{"$f":"IF(AF55=\"\",\"\",AF55)","v":""},null,{"$f":"IF(AH55=\"\",\"\",AH55)","v":""},null,{"$f":"IF(AJ55=\"\",\"\",AJ55)","v":""},null,{"$f":"IF(AL55=\"\",\"\",AL55)","v":""},null,null,{"$f":"IF(AO55=\"\",\"\",AO55)","v":""},null,null,{"$f":"IF(AR55=\"\",\"\",AR55)","v":""},null,null,null,null,{"$f":"IF(AW55=\"\",\"\",AW55)","v":""}]
[]
[]
[]
[null,null,null,null,null,null,null,null,null,null,null,null,null,null,null,null,null,{"$f":"IF(R59=\"\",\"\",R59)","v":""},null,{"$f":"IF(T59=\"\",\"\",T59)","v":""},null,{"$f":"IF(V59=\"\",\"\",V59)","v":""},null,{"$f":"IF(X59=\"\",\"\",X59)","v":""},null,{"$f":"IF(Z59=\"\",\"\",Z59)","v":""},null,{"$f":"IF(AB59=\"\",\"\",AB59)","v":""},null,{"$f":"IF(AD59=\"\",\"\",AD59)","v":""},null,{"$f":"IF(AF59=\"\",\"\",AF59)","v":""},null,{"$f":"IF(AH59=\"\",\"\",AH59)","v":""},null,{"$f":"IF(AJ59=\"\",\"\",AJ59)","v":""},null,{"$f":"IF(AL59=\"\",\"\",AL59)","v":""},null,null,{"$f":"IF(AO59=\"\",\"\",AO59)","v":""},null,null,{"$f":"IF(AR59=\"\",\"\",AR59)","v":""},null,null,null,null,{"$f":"IF(AW59=\"\",\"\",AW59)","v":""}]
[]
[]
[]
[null,null,null,null,null,null,null,null,null,null,null,null,null,null,null,null,null,{"$f":"IF(R63=\"\",\"\",R63)","v":""},null,{"$f":"IF(T63=\"\",\"\",T63)","v":""},null,{"$f":"IF(V63=\"\",\"\",V63)","v":""},null,{"$f":"IF(X63=\"\",\"\",X63)","v":""},null,{"$f":"IF(Z63=\"\",\"\",Z63)","v":""},null,{"$f":"IF(AB63=\"\",\"\",AB63)","v":""},null,{"$f":"IF(AD63=\"\",\"\",AD63)","v":""},null,{"$f":"IF(AF63=\"\",\"\",AF63)","v":""},null,{"$f":"IF(AH63=\"\",\"\",AH63)","v":""},null,{"$f":"IF(AJ63=\"\",\"\",AJ63)","v":""},null,{"$f":"IF(AL63=\"\",\"\",AL63)","v":""},null,null,{"$f":"IF(AO63=\"\",\"\",AO63)","v":""},null,null,{"$f":"IF(AR63=\"\",\"\",AR63)","v":""},null,null,null,null,{"$f":"IF(AW63=\"\",\"\",AW63)","v":""}]
[]
[]
[]
[null,null,null,null,null,null,null,null,null,null,null,null,null,null,null,null,null,{"$f":"IF(R67=\"\",\"\",R67)","v":""},null,{"$f":"IF(T67=\"\",\"\",T67)","v":""},null,{"$f":"IF(V67=\"\",\"\",V67)","v":""},null,{"$f":"IF(X67=\"\",\"\",X67)","v":""},null,{"$f":"IF(Z67=\"\",\"\",Z67)","v":""},null,{"$f":"IF(AB67=\"\",\"\",AB67)","v":""},null,{"$f":"IF(AD67=\"\",\"\",AD67)","v":""},null,{"$f":"IF(AF67=\"\",\"\",AF67)","v":""},null,{"$f":"IF(AH67=\"\",\"\",AH67)","v":""},null,{"$f":"IF(AJ67=\"\",\"\",AJ67)","v":""},null,{"$f":"IF(AL67=\"\",\"\",AL67)","v":""},null,null,{"$f":"IF(AO67=\"\",\"\",AO67)","v":""},null,null,{"$f":"IF(AR67=\"\",\"\",AR67)","v":""},null,null,null,null,{"$f":"IF(AW67=\"\",\"\",AW67)","v":""}]
[]
[]
[]
[null,null,null,null,null,null,null,null,null,null,null,null,null,null,null,null,null,{"$f":"IF(R71=\"\",\"\",R71)","v":""},null,{"$f":"IF(T71=\"\",\"\",T71)","v":""},null,{"$f":"IF(V71=\"\",\"\",V71)","v":""},null,{"$f":"IF(X71=\"\",\"\",X71)","v":""},null,{"$f":"IF(Z71=\"\",\"\",Z71)","v":""},null,{"$f":"IF(AB71=\"\",\"\",AB71)","v":""},null,{"$f":"IF(AD71=\"\",\"\",AD71)","v":""},null,{"$f":"IF(AF71=\"\",\"\",AF71)","v":""},null,{"$f":"IF(AH71=\"\",\"\",AH71)","v":""},null,{"$f":"IF(AJ71=\"\",\"\",AJ71)","v":""},null,{"$f":"IF(AL71=\"\",\"\",AL71)","v":""},null,null,{"$f":"IF(AO71=\"\",\"\",AO71)","v":""},null,null,{"$f":"IF(AR71=\"\",\"\",AR71)","v":""},null,null,null,null,{"$f":"IF(AW71=\"\",\"\",AW71)","v":""}]
[]
[]
[]
[null,null,null,null,null,null,null,null,null,null,null,null,null,null,null,null,null,{"$f":"IF(R75=\"\",\"\",R75)","v":""},null,{"$f":"IF(T75=\"\",\"\",T75)","v":""},null,{"$f":"IF(V75=\"\",\"\",V75)","v":""},null,{"$f":"IF(X75=\"\",\"\",X75)","v":""},null,{"$f":"IF(Z75=\"\",\"\",Z75)","v":""},null,{"$f":"IF(AB75=\"\",\"\",AB75)","v":""},null,{"$f":"IF(AD75=\"\",\"\",AD75)","v":""},null,{"$f":"IF(AF75=\"\",\"\",AF75)","v":""},null,{"$f":"IF(AH75=\"\",\"\",AH75)","v":""},null,{"$f":"IF(AJ75=\"\",\"\",AJ75)","v":""},null,{"$f":"IF(AL75=\"\",\"\",AL75)","v":""},null,null,{"$f":"IF(AO75=\"\",\"\",AO75)","v":""},null,null,{"$f":"IF(AR75=\"\",\"\",AR75)","v":""},null,null,null,null,{"$f":"IF(AW75=\"\",\"\",AW75)","v":""}]
[]
[]
[]
[null,null,null,null,null,null,null,null,null,null,null,null,null,null,null,null,null,{"$f":"IF(R79=\"\",\"\",R79)","v":""},null,{"$f":"IF(T79=\"\",\"\",T79)","v":""},null,{"$f":"IF(V79=\"\",\"\",V79)","v":""},null,{"$f":"IF(X79=\"\",\"\",X79)","v":""},null,{"$f":"IF(Z79=\"\",\"\",Z79)","v":""},null,{"$f":"IF(AB79=\"\",\"\",AB79)","v":""},null,{"$f":"IF(AD79=\"\",\"\",AD79)","v":""},null,{"$f":"IF(AF79=\"\",\"\",AF79)","v":""},null,{"$f":"IF(AH79=\"\",\"\",AH79)","v":""},null,{"$f":"IF(AJ79=\"\",\"\",AJ79)","v":""},null,{"$f":"IF(AL79=\"\",\"\",AL79)","v":""},null,null,{"$f":"IF(AO79=\"\",\"\",AO79)","v":""},null,null,{"$f":"IF(AR79=\"\",\"\",AR79)","v":""},null,null,null,null,{"$f":"IF(AW79=\"\",\"\",AW79)","v":""}]
[]
[]
[]
[null,null,null,null,null,null,null,null,null,null,null,null,null,null,null,null,null,null,null,null,null,null,null,null,null,null,null,null,null,null,null,null,null,null,null,null,null,{"$f":"AL83","v":"金額(税抜)"},null,null,null,null,null,null,null,null,null,null,{"$f":"AW83","v":""}]
[]
[]
[]
[]
[null,null,null,null,null,null,null,null,null,null,null,null,null,null,null,null,null,null,null,null,null,null,null,null,null,null,null,null,null,null,null,null,null,null,null,null,null,{"$f":"AL88","v":"消費税"},null,null,null,null,null,"税率",null,null,"税調",null,{"$f":"AW88","v":""}]
[]
[null,null,null,null,null,null,null,null,null,null,null,null,null,null,null,null,null,null,null,null,null,null,null,null,null,null,null,null,null,null,null,null,null,null,null,null,null,null,null,null,null,null,null,{"$f":"AR90","v":0},null,{"$f":"AT90","v":""}]
[]
[]
[]
[null,null,null,null,null,null,null,null,null,null,null,null,null,null,null,null,null,null,null,"請求明細書 (貴社控)"]
[null,"株 式 会 社 種 村 建 設",null,null,null,null,null,null,null,null,null,null,"御中"]
[null,null,null,null,null,null,null,null,null,null,null,null,null,null,null,null,null,null,null,null,null,null,null,null,null,null,null,null,null,null,null,null,null,null,null,null,null,null,null,null,"請求年月日",null,null,null,null,{"$f":"IF(AT4=\"\",\"\",AT4)","v":""},null,null,null,{"$f":"IF(AX96=\"\",\"\",AX96)","v":""},null,null,{"$f":"IF(BA96=\"\",\"\",BA96)","v":""}]
[]
[]
[]
[]
[null,"工事番号",null,null,null,null,{"$f":"IF(G101=\"\",\"\",G101)","v":""},null,null,null,null,null,"工事名",null,null,null,{"$f":"IF(Q101=\"\",\"\",Q101)","v":""},null,null,null,null,null,null,null,null,null,null,null,null,null,null,null,null,null,null,null,null,"業者名",null,null,null,{"$f":"IF(AP101=\"\",\"\",AP101)","v":""}]
[]
[]
[]
[]
[]
[null,"注文番号",null,null,null,null,{"$f":"IF(G107=\"\",\"\",G107)","v":""},null,null,null,null,null,null,null,null,null,null,"月　日",null,null,null,"品　名・内　訳",null,null,null,null,null,null,null,null,null,null,null,null,null,null,null,"数 量",null,null,"単位",null,null,"単価",null,null,null,null,{"$f":"AW15","v":"金額(税抜)"}]
[]
[]
[]
[null,"契約金額",null,null,null,null,{"$f":"IF(G111=\"\",\"\",G111)","v":""},null,null,null,null,null,null,null,null,null,null,{"$f":"IF(R111=\"\",\"\",R111)","v":""},null,{"$f":"IF(T111=\"\",\"\",T111)","v":""},null,{"$f":"IF(V111=\"\",\"\",V111)","v":""},null,{"$f":"IF(X111=\"\",\"\",X111)","v":""},null,{"$f":"IF(Z111=\"\",\"\",Z111)","v":""},null,{"$f":"IF(AB111=\"\",\"\",AB111)","v":""},null,{"$f":"IF(AD111=\"\",\"\",AD111)","v":""},null,{"$f":"IF(AF111=\"\",\"\",AF111)","v":""},null,{"$f":"IF(AH111=\"\",\"\",AH111)","v":""},null,{"$f":"IF(AJ111=\"\",\"\",AJ111)","v":""},null,{"$f":"IF(AL111=\"\",\"\",AL111)","v":""},null,null,{"$f":"IF(AO111=\"\",\"\",AO111)","v":""},null,null,{"$f":"IF(AR111=\"\",\"\",AR111)","v":""},null,null,null,null,{"$f":"IF(AW111=\"\",\"\",AW111)","v":""}]
[]
[]
[]
[null,"増減額",null,null,null,null,{"$f":"IF(G115=\"\",\"\",G115)","v":""},null,null,null,null,null,null,null,null,null,null,{"$f":"IF(R115=\"\",\"\",R115)","v":""},null,{"$f":"IF(T115=\"\",\"\",T115)","v":""},null,{"$f":"IF(V115=\"\",\"\",V115)","v":""},null,{"$f":"IF(X115=\"\",\"\",X115)","v":""},null,{"$f":"IF(Z115=\"\",\"\",Z115)","v":""},null,{"$f":"IF(AB115=\"\",\"\",AB115)","v":""},null,{"$f":"IF(AD115=\"\",\"\",AD115)","v":""},null,{"$f":"IF(AF115=\"\",\"\",AF115)","v":""},null,{"$f":"IF(AH115=\"\",\"\",AH115)","v":""},null,{"$f":"IF(AJ115=\"\",\"\",AJ115)","v":""},null,{"$f":"IF(AL115=\"\",\"\",AL115)","v":""},null,null,{"$f":"IF(AO115=\"\",\"\",AO115)","v":""},null,null,{"$f":"IF(AR115=\"\",\"\",AR115)","v":""},null,null,null,null,{"$f":"IF(AW115=\"\",\"\",AW115)","v":""}]
[]
[]
[]
[null,"前回までの\n請求額",null,null,null,null,{"$f":"IF(G119=\"\",\"\",G119)","v":""},null,null,null,null,null,null,null,null,null,null,{"$f":"IF(R119=\"\",\"\",R119)","v":""},null,{"$f":"IF(T119=\"\",\"\",T119)","v":""},null,{"$f":"IF(V119=\"\",\"\",V119)","v":""},null,{"$f":"IF(X119=\"\",\"\",X119)","v":""},null,{"$f":"IF(Z119=\"\",\"\",Z119)","v":""},null,{"$f":"IF(AB119=\"\",\"\",AB119)","v":""},null,{"$f":"IF(AD119=\"\",\"\",AD119)","v":""},null,{"$f":"IF(AF119=\"\",\"\",AF119)","v":""},null,{"$f":"IF(AH119=\"\",\"\",AH119)","v":""},null,{"$f":"IF(AJ119=\"\",\"\",AJ119)","v":""},null,{"$f":"IF(AL119=\"\",\"\",AL119)","v":""},null,null,{"$f":"IF(AO119=\"\",\"\",AO119)","v":""},null,null,{"$f":"IF(AR119=\"\",\"\",AR119)","v":""},null,null,null,null,{"$f":"IF(AW119=\"\",\"\",AW119)","v":""}]
[]
[]
[]
[null,"今回\n請求額",null,null,{"$f":"IF(E31=\"\",\"\",E31)","v":""},null,{"$f":"IF(G123=\"\",\"\",G123)","v":""},null,null,null,null,null,null,null,null,null,null,{"$f":"IF(R123=\"\",\"\",R123)","v":""},null,{"$f":"IF(T123=\"\",\"\",T123)","v":""},null,{"$f":"IF(V123=\"\",\"\",V123)","v":""},null,{"$f":"IF(X123=\"\",\"\",X123)","v":""},null,{"$f":"IF(Z123=\"\",\"\",Z123)","v":""},null,{"$f":"IF(AB123=\"\",\"\",AB123)","v":""},null,{"$f":"IF(AD123=\"\",\"\",AD123)","v":""},null,{"$f":"IF(AF123=\"\",\"\",AF123)","v":""},null,{"$f":"IF(AH123=\"\",\"\",AH123)","v":""},null,{"$f":"IF(AJ123=\"\",\"\",AJ123)","v":""},null,{"$f":"IF(AL123=\"\",\"\",AL123)","v":""},null,null,{"$f":"IF(AO123=\"\",\"\",AO123)","v":""},null,null,{"$f":"IF(AR123=\"\",\"\",AR123)","v":""},null,null,null,null,{"$f":"IF(AW123=\"\",\"\",AW123)","v":""}]
[]
[]
[]
[null,"差引残高",null,null,null,null,{"$f":"IF(G203=\"\",\"\",G203+G207-G211-G215)","v":""},null,null,null,null,null,null,null,null,null,null,{"$f":"IF(R127=\"\",\"\",R127)","v":""},null,{"$f":"IF(T127=\"\",\"\",T127)","v":""},null,{"$f":"IF(V127=\"\",\"\",V127)","v":""},null,{"$f":"IF(X127=\"\",\"\",X127)","v":""},null,{"$f":"IF(Z127=\"\",\"\",Z127)","v":""},null,{"$f":"IF(AB127=\"\",\"\",AB127)","v":""},null,{"$f":"IF(AD127=\"\",\"\",AD127)","v":""},null,{"$f":"IF(AF127=\"\",\"\",AF127)","v":""},null,{"$f":"IF(AH127=\"\",\"\",AH127)","v":""},null,{"$f":"IF(AJ127=\"\",\"\",AJ127)","v":""},null,{"$f":"IF(AL127=\"\",\"\",AL127)","v":""},null,null,{"$f":"IF(AO127=\"\",\"\",AO127)","v":""},null,null,{"$f":"IF(AR127=\"\",\"\",AR127)","v":""},null,null,null,null,{"$f":"IF(AW127=\"\",\"\",AW127)","v":""}]
[]
[]
[]
[null,null,null,null,null,null,null,null,null,null,null,null,null,null,null,null,null,{"$f":"IF(R131=\"\",\"\",R131)","v":""},null,{"$f":"IF(T131=\"\",\"\",T131)","v":""},null,{"$f":"IF(V131=\"\",\"\",V131)","v":""},null,{"$f":"IF(X131=\"\",\"\",X131)","v":""},null,{"$f":"IF(Z131=\"\",\"\",Z131)","v":""},null,{"$f":"IF(AB131=\"\",\"\",AB131)","v":""},null,{"$f":"IF(AD131=\"\",\"\",AD131)","v":""},null,{"$f":"IF(AF131=\"\",\"\",AF131)","v":""},null,{"$f":"IF(AH131=\"\",\"\",AH131)","v":""},null,{"$f":"IF(AJ131=\"\",\"\",AJ131)","v":""},null,{"$f":"IF(AL131=\"\",\"\",AL131)","v":""},null,null,{"$f":"IF(AO131=\"\",\"\",AO131)","v":""},null,null,{"$f":"IF(AR131=\"\",\"\",AR131)","v":""},null,null,null,null,{"$f":"IF(AW131=\"\",\"\",AW131)","v":""}]
[]
[]
[]
[null,null,null,null,null,null,null,null,null,null,null,null,null,null,null,null,null,{"$f":"IF(R135=\"\",\"\",R135)","v":""},null,{"$f":"IF(T135=\"\",\"\",T135)","v":""},null,{"$f":"IF(V135=\"\",\"\",V135)","v":""},null,{"$f":"IF(X135=\"\",\"\",X135)","v":""},null,{"$f":"IF(Z135=\"\",\"\",Z135)","v":""},null,{"$f":"IF(AB135=\"\",\"\",AB135)","v":""},null,{"$f":"IF(AD135=\"\",\"\",AD135)","v":""},null,{"$f":"IF(AF135=\"\",\"\",AF135)","v":""},null,{"$f":"IF(AH135=\"\",\"\",AH135)","v":""},null,{"$f":"IF(AJ135=\"\",\"\",AJ135)","v":""},null,{"$f":"IF(AL135=\"\",\"\",AL135)","v":""},null,null,{"$f":"IF(AO135=\"\",\"\",AO135)","v":""},null,null,{"$f":"IF(AR135=\"\",\"\",AR135)","v":""},null,null,null,null,{"$f":"IF(AW135=\"\",\"\",AW135)","v":""}]
[]
[]
[]
[null,null,null,null,null,null,null,null,null,null,null,null,null,null,null,null,null,{"$f":"IF(R139=\"\",\"\",R139)","v":""},null,{"$f":"IF(T139=\"\",\"\",T139)","v":""},null,{"$f":"IF(V139=\"\",\"\",V139)","v":""},null,{"$f":"IF(X139=\"\",\"\",X139)","v":""},null,{"$f":"IF(Z139=\"\",\"\",Z139)","v":""},null,{"$f":"IF(AB139=\"\",\"\",AB139)","v":""},null,{"$f":"IF(AD139=\"\",\"\",AD139)","v":""},null,{"$f":"IF(AF139=\"\",\"\",AF139)","v":""},null,{"$f":"IF(AH139=\"\",\"\",AH139)","v":""},null,{"$f":"IF(AJ139=\"\",\"\",AJ139)","v":""},null,{"$f":"IF(AL139=\"\",\"\",AL139)","v":""},null,null,{"$f":"IF(AO139=\"\",\"\",AO139)","v":""},null,null,{"$f":"IF(AR139=\"\",\"\",AR139)","v":""},null,null,null,null,{"$f":"IF(AW139=\"\",\"\",AW139)","v":""}]
[]
[]
[]
[null,null,null,null,null,null,null,null,null,null,null,null,null,null,null,null,null,{"$f":"IF(R143=\"\",\"\",R143)","v":""},null,{"$f":"IF(T143=\"\",\"\",T143)","v":""},null,{"$f":"IF(V143=\"\",\"\",V143)","v":""},null,{"$f":"IF(X143=\"\",\"\",X143)","v":""},null,{"$f":"IF(Z143=\"\",\"\",Z143)","v":""},null,{"$f":"IF(AB143=\"\",\"\",AB143)","v":""},null,{"$f":"IF(AD143=\"\",\"\",AD143)","v":""},null,{"$f":"IF(AF143=\"\",\"\",AF143)","v":""},null,{"$f":"IF(AH143=\"\",\"\",AH143)","v":""},null,{"$f":"IF(AJ143=\"\",\"\",AJ143)","v":""},null,{"$f":"IF(AL143=\"\",\"\",AL143)","v":""},null,null,{"$f":"IF(AO143=\"\",\"\",AO143)","v":""},null,null,{"$f":"IF(AR143=\"\",\"\",AR143)","v":""},null,null,null,null,{"$f":"IF(AW143=\"\",\"\",AW143)","v":""}]
[]
[]
[]
[null,null,null,null,null,null,null,null,null,null,null,null,null,null,null,null,null,{"$f":"IF(R147=\"\",\"\",R147)","v":""},null,{"$f":"IF(T147=\"\",\"\",T147)","v":""},null,{"$f":"IF(V147=\"\",\"\",V147)","v":""},null,{"$f":"IF(X147=\"\",\"\",X147)","v":""},null,{"$f":"IF(Z147=\"\",\"\",Z147)","v":""},null,{"$f":"IF(AB147=\"\",\"\",AB147)","v":""},null,{"$f":"IF(AD147=\"\",\"\",AD147)","v":""},null,{"$f":"IF(AF147=\"\",\"\",AF147)","v":""},null,{"$f":"IF(AH147=\"\",\"\",AH147)","v":""},null,{"$f":"IF(AJ147=\"\",\"\",AJ147)","v":""},null,{"$f":"IF(AL147=\"\",\"\",AL147)","v":""},null,null,{"$f":"IF(AO147=\"\",\"\",AO147)","v":""},null,null,{"$f":"IF(AR147=\"\",\"\",AR147)","v":""},null,null,null,null,{"$f":"IF(AW147=\"\",\"\",AW147)","v":""}]
[]
[]
[]
[null,null,null,null,null,null,null,null,null,null,null,null,null,null,null,null,null,{"$f":"IF(R151=\"\",\"\",R151)","v":""},null,{"$f":"IF(T151=\"\",\"\",T151)","v":""},null,{"$f":"IF(V151=\"\",\"\",V151)","v":""},null,{"$f":"IF(X151=\"\",\"\",X151)","v":""},null,{"$f":"IF(Z151=\"\",\"\",Z151)","v":""},null,{"$f":"IF(AB151=\"\",\"\",AB151)","v":""},null,{"$f":"IF(AD151=\"\",\"\",AD151)","v":""},null,{"$f":"IF(AF151=\"\",\"\",AF151)","v":""},null,{"$f":"IF(AH151=\"\",\"\",AH151)","v":""},null,{"$f":"IF(AJ151=\"\",\"\",AJ151)","v":""},null,{"$f":"IF(AL151=\"\",\"\",AL151)","v":""},null,null,{"$f":"IF(AO151=\"\",\"\",AO151)","v":""},null,null,{"$f":"IF(AR151=\"\",\"\",AR151)","v":""},null,null,null,null,{"$f":"IF(AW151=\"\",\"\",AW151)","v":""}]
[]
[]
[]
[null,null,null,null,null,null,null,null,null,null,null,null,null,null,null,null,null,{"$f":"IF(R155=\"\",\"\",R155)","v":""},null,{"$f":"IF(T155=\"\",\"\",T155)","v":""},null,{"$f":"IF(V155=\"\",\"\",V155)","v":""},null,{"$f":"IF(X155=\"\",\"\",X155)","v":""},null,{"$f":"IF(Z155=\"\",\"\",Z155)","v":""},null,{"$f":"IF(AB155=\"\",\"\",AB155)","v":""},null,{"$f":"IF(AD155=\"\",\"\",AD155)","v":""},null,{"$f":"IF(AF155=\"\",\"\",AF155)","v":""},null,{"$f":"IF(AH155=\"\",\"\",AH155)","v":""},null,{"$f":"IF(AJ155=\"\",\"\",AJ155)","v":""},null,{"$f":"IF(AL155=\"\",\"\",AL155)","v":""},null,null,{"$f":"IF(AO155=\"\",\"\",AO155)","v":""},null,null,{"$f":"IF(AR155=\"\",\"\",AR155)","v":""},null,null,null,null,{"$f":"IF(AW155=\"\",\"\",AW155)","v":""}]
[]
[]
[]
[null,null,null,null,null,null,null,null,null,null,null,null,null,null,null,null,null,{"$f":"IF(R159=\"\",\"\",R159)","v":""},null,{"$f":"IF(T159=\"\",\"\",T159)","v":""},null,{"$f":"IF(V159=\"\",\"\",V159)","v":""},null,{"$f":"IF(X159=\"\",\"\",X159)","v":""},null,{"$f":"IF(Z159=\"\",\"\",Z159)","v":""},null,{"$f":"IF(AB159=\"\",\"\",AB159)","v":""},null,{"$f":"IF(AD159=\"\",\"\",AD159)","v":""},null,{"$f":"IF(AF159=\"\",\"\",AF159)","v":""},null,{"$f":"IF(AH159=\"\",\"\",AH159)","v":""},null,{"$f":"IF(AJ159=\"\",\"\",AJ159)","v":""},null,{"$f":"IF(AL159=\"\",\"\",AL159)","v":""},null,null,{"$f":"IF(AO159=\"\",\"\",AO159)","v":""},null,null,{"$f":"IF(AR159=\"\",\"\",AR159)","v":""},null,null,null,null,{"$f":"IF(AW159=\"\",\"\",AW159)","v":""}]
[]
[]
[]
[null,null,null,null,null,null,null,null,null,null,null,null,null,null,null,null,null,{"$f":"IF(R163=\"\",\"\",R163)","v":""},null,{"$f":"IF(T163=\"\",\"\",T163)","v":""},null,{"$f":"IF(V163=\"\",\"\",V163)","v":""},null,{"$f":"IF(X163=\"\",\"\",X163)","v":""},null,{"$f":"IF(Z163=\"\",\"\",Z163)","v":""},null,{"$f":"IF(AB163=\"\",\"\",AB163)","v":""},null,{"$f":"IF(AD163=\"\",\"\",AD163)","v":""},null,{"$f":"IF(AF163=\"\",\"\",AF163)","v":""},null,{"$f":"IF(AH163=\"\",\"\",AH163)","v":""},null,{"$f":"IF(AJ163=\"\",\"\",AJ163)","v":""},null,{"$f":"IF(AL163=\"\",\"\",AL163)","v":""},null,null,{"$f":"IF(AO163=\"\",\"\",AO163)","v":""},null,null,{"$f":"IF(AR163=\"\",\"\",AR163)","v":""},null,null,null,null,{"$f":"IF(AW163=\"\",\"\",AW163)","v":""}]
[]
[]
[]
[null,null,null,null,null,null,null,null,null,null,null,null,null,null,null,null,null,{"$f":"IF(R167=\"\",\"\",R167)","v":""},null,{"$f":"IF(T167=\"\",\"\",T167)","v":""},null,{"$f":"IF(V167=\"\",\"\",V167)","v":""},null,{"$f":"IF(X167=\"\",\"\",X167)","v":""},null,{"$f":"IF(Z167=\"\",\"\",Z167)","v":""},null,{"$f":"IF(AB167=\"\",\"\",AB167)","v":""},null,{"$f":"IF(AD167=\"\",\"\",AD167)","v":""},null,{"$f":"IF(AF167=\"\",\"\",AF167)","v":""},null,{"$f":"IF(AH167=\"\",\"\",AH167)","v":""},null,{"$f":"IF(AJ167=\"\",\"\",AJ167)","v":""},null,{"$f":"IF(AL167=\"\",\"\",AL167)","v":""},null,null,{"$f":"IF(AO167=\"\",\"\",AO167)","v":""},null,null,{"$f":"IF(AR167=\"\",\"\",AR167)","v":""},null,null,null,null,{"$f":"IF(AW167=\"\",\"\",AW167)","v":""}]
[]
[]
[]
[null,null,null,null,null,null,null,null,null,null,null,null,null,null,null,null,null,{"$f":"IF(R171=\"\",\"\",R171)","v":""},null,{"$f":"IF(T171=\"\",\"\",T171)","v":""},null,{"$f":"IF(V171=\"\",\"\",V171)","v":""},null,{"$f":"IF(X171=\"\",\"\",X171)","v":""},null,{"$f":"IF(Z171=\"\",\"\",Z171)","v":""},null,{"$f":"IF(AB171=\"\",\"\",AB171)","v":""},null,{"$f":"IF(AD171=\"\",\"\",AD171)","v":""},null,{"$f":"IF(AF171=\"\",\"\",AF171)","v":""},null,{"$f":"IF(AH171=\"\",\"\",AH171)","v":""},null,{"$f":"IF(AJ171=\"\",\"\",AJ171)","v":""},null,{"$f":"IF(AL171=\"\",\"\",AL171)","v":""},null,null,{"$f":"IF(AO171=\"\",\"\",AO171)","v":""},null,null,{"$f":"IF(AR171=\"\",\"\",AR171)","v":""},null,null,null,null,{"$f":"IF(AW171=\"\",\"\",AW171)","v":""}]
[]
[]
[]
[null,null,null,null,null,null,null,null,null,null,null,null,null,null,null,null,null,null,null,null,null,null,null,null,null,null,null,null,null,null,null,null,null,null,null,null,null,{"$f":"AL175","v":"金額(税抜)"},null,null,null,null,null,null,null,null,null,null,{"$f":"AW83","v":""}]
[]
[]
[]
[]
[null,null,null,null,null,null,null,null,null,null,null,null,null,null,null,null,null,null,null,null,null,null,null,null,null,null,null,null,null,null,null,null,null,null,null,null,null,{"$f":"AL180","v":"消費税"},null,null,null,null,null,"税率",null,null,"税調",null,{"$f":"AW88","v":""}]
[]
[null,null,null,null,null,null,null,null,null,null,null,null,null,null,null,null,null,null,null,null,null,null,null,null,null,null,null,null,null,null,null,null,null,null,null,null,null,null,null,null,null,null,null,{"$f":"AR90","v":0},null,{"$f":"AT90","v":""}]

{"sheet":"細3-7","index":34,"n_rows":274,"n_cols":53,"rows_kept":274,"cut":false,"hidden":false,"merged":[[266,37,269,47],[266,48,269,54],[271,48,274,54],[258,48,261,54],[262,17,265,18],[262,19,265,20],[262,21,265,36],[262,37,265,39],[262,40,265,42],[262,43,265,47],[262,48,265,54],[258,17,261,18],[258,19,261,20],[258,21,261,36],[258,37,261,39],[258,40,261,42],[258,43,261,47],[271,37,274,42],[271,43,272,45],[273,43,274,44],[273,45,274,45],[273,46,274,47],[271,46,272,47],[250,48,253,54],[254,17,257,18],[254,19,257,20],[254,21,257,36],[254,37,257,39],[254,40,257,42],[254,43,257,47],[254,48,257,54],[250,17,253,18],[250,19,253,20],[250,21,253,36],[250,37,253,39],[250,40,253,42],[250,43,253,47],[242,48,245,54],[246,17,249,18],[246,19,249,20],[246,21,249,36],[246,37,249,39],[246,40,249,42],[246,43,249,47],[246,48,249,54],[242,17,245,18],[242,19,245,20],[242,21,245,36],[242,37,245,39],[242,40,245,42],[242,43,245,47],[234,48,237,54],[238,17,241,18],[238,19,241,20],[238,21,241,36],[238,37,241,39],[238,40,241,42],[238,43,241,47],[238,48,241,54],[234,17,237,18],[234,19,237,20],[234,21,237,36],[234,37,237,39],[234,40,237,42],[234,43,237,47],[222,17,225,18],[222,19,225,20],[222,21,225,36],[222,37,225,39],[222,40,225,42],[222,43,225,47],[222,48,225,54],[226,48,229,54],[230,17,233,18],[230,19,233,20],[230,21,233,36],[230,37,233,39],[230,40,233,42],[230,43,233,47],[230,48,233,54],[226,17,229,18],[226,19,229,20],[226,21,229,36],[226,37,229,39],[226,40,229,42],[226,43,229,47],[218,1,221,5],[218,6,221,15],[218,17,221,18],[218,19,221,20],[218,21,221,36],[218,37,221,39],[218,40,221,42],[218,43,221,47],[218,48,221,54],[210,40,213,42],[210,43,213,47],[210,48,213,54],[214,1,217,3],[214,4,217,5],[214,6,217,15],[214,17,217,18],[214,19,217,20],[214,21,217,36],[214,37,217,39],[210,1,213,5],[210,6,213,15],[210,17,213,18],[210,19,213,20],[210,21,213,36],[210,37,213,39],[214,40,217,42],[214,43,217,47],[214,48,217,54],[206,1,209,5],[206,6,209,15],[206,17,209,18],[206,19,209,20],[206,21,209,36],[206,37,209,39],[206,40,209,42],[206,43,209,47],[206,48,209,54],[198,43,201,47],[198,48,201,54],[202,1,205,5],[202,6,205,15],[202,17,205,18],[202,19,205,20],[202,21,205,36],[202,37,205,39],[202,40,205,42],[202,43,205,47],[198,1,201,5],[198,6,201,15],[198,17,201,20],[198,21,201,36],[198,37,201,39],[198,40,201,42],[202,48,205,54],[187,52,189,54],[192,1,195,5],[192,6,195,11],[192,12,195,15],[192,16,195,35],[192,37,195,40],[192,41,195,54],[174,37,177,47],[174,48,177,54],[179,48,182,54],[185,19,188,32],[186,1,189,11],[186,12,189,13],[187,40,189,44],[187,45,189,48],[187,49,189,51],[179,37,182,42],[179,43,180,45],[179,46,180,47],[181,43,182,44],[181,45,182,45],[181,46,182,47],[166,48,169,54],[170,17,173,18],[170,19,173,20],[170,21,173,36],[170,37,173,39],[170,40,173,42],[170,43,173,47],[170,48,173,54],[166,17,169,18],[166,19,169,20],[166,21,169,36],[166,37,169,39],[166,40,169,42],[166,43,169,47],[158,48,161,54],[162,17,165,18],[162,19,165,20],[162,21,165,36],[162,37,165,39],[162,40,165,42],[162,43,165,47],[162,48,165,54],[158,17,161,18],[158,19,161,20],[158,21,161,36],[158,37,161,39],[158,40,161,42],[158,43,161,47],[150,48,153,54],[154,17,157,18],[154,19,157,20],[154,21,157,36],[154,37,157,39],[154,40,157,42],[154,43,157,47],[154,48,157,54],[150,17,153,18],[150,19,153,20],[150,21,153,36],[150,37,153,39],[150,40,153,42],[150,43,153,47],[142,48,145,54],[146,17,149,18],[146,19,149,20],[146,21,149,36],[146,37,149,39],[146,40,149,42],[146,43,149,47],[146,48,149,54],[142,17,145,18],[142,19,145,20],[142,21,145,36],[142,37,145,39],[142,40,145,42],[142,43,145,47],[130,17,133,18],[130,19,133,20],[130,21,133,36],[130,37,133,39],[130,40,133,42],[130,43,133,47],[130,48,133,54],[134,48,137,54],[138,17,141,18],[138,19,141,20],[138,21,141,36],[138,37,141,39],[138,40,141,42],[138,43,141,47],[138,48,141,54],[134,17,137,18],[134,19,137,20],[134,21,137,36],[134,37,137,39],[134,40,137,42],[134,43,137,47],[126,1,129,5],[126,6,129,15],[126,17,129,18],[126,19,129,20],[126,21,129,36],[126,37,129,39],[126,40,129,42],[126,43,129,47],[126,48,129,54],[118,40,121,42],[118,43,121,47],[118,48,121,54],[122,1,125,3],[122,4,125,5],[122,6,125,15],[122,17,125,18],[122,19,125,20],[122,21,125,36],[122,37,125,39],[118,1,121,5],[118,6,121,15],[118,17,121,18],[118,19,121,20],[118,21,121,36],[118,37,121,39],[122,40,125,42],[122,43,125,47],[122,48,125,54],[114,1,117,5],[114,6,117,15],[114,17,117,18],[114,19,117,20],[114,21,117,36],[114,37,117,39],[114,40,117,42],[114,43,117,47],[114,48,117,54],[106,43,109,47],[106,48,109,54],[110,1,113,5],[110,6,113,15],[110,17,113,18],[110,19,113,20],[110,21,113,36],[110,37,113,39],[110,40,113,42],[110,43,113,47],[106,1,109,5],[106,6,109,15],[106,17,109,20],[106,21,109,36],[106,37,109,39],[106,40,109,42],[110,48,113,54],[95,52,97,54],[100,1,103,5],[100,6,103,11],[100,12,103,15],[100,16,103,35],[100,37,103,40],[100,41,103,54],[93,19,96,32],[94,1,97,11],[94,12,97,13],[95,40,97,44],[95,45,97,48],[95,49,97,51],[85,11,90,16],[85,17,90,25],[85,26,90,30],[85,31,90,35],[87,48,90,54],[82,37,85,47],[82,48,85,54],[83,1,84,4],[83,5,84,10],[83,11,84,16],[83,17,84,25],[83,26,84,30],[83,31,84,35],[85,1,90,4],[85,5,90,10],[87,37,90,42],[87,43,88,45],[89,43,90,44],[89,45,90,45],[89,46,90,47],[87,46,88,47],[74,48,77,54],[78,17,81,18],[78,19,81,20],[78,21,81,36],[78,37,81,39],[78,40,81,42],[78,43,81,47],[78,48,81,54],[74,17,77,18],[74,19,77,20],[74,21,77,36],[74,37,77,39],[74,40,77,42],[74,43,77,47],[66,48,69,54],[70,17,73,18],[70,19,73,20],[70,21,73,36],[70,37,73,39],[70,40,73,42],[70,43,73,47],[70,48,73,54],[66,17,69,18],[66,19,69,20],[66,21,69,36],[66,37,69,39],[66,40,69,42],[66,43,69,47],[58,48,61,54],[62,17,65,18],[62,19,65,20],[62,21,65,36],[62,37,65,39],[62,40,65,42],[62,43,65,47],[62,48,65,54],[58,17,61,18],[58,19,61,20],[58,21,61,36],[58,37,61,39],[58,40,61,42],[58,43,61,47],[50,48,53,54],[54,17,57,18],[54,19,57,20],[54,21,57,36],[54,37,57,39],[54,40,57,42],[54,43,57,47],[54,48,57,54],[50,17,53,18],[50,19,53,20],[50,21,53,36],[50,37,53,39],[50,40,53,42],[50,43,53,47],[38,17,41,18],[38,19,41,20],[38,21,41,36],[38,37,41,39],[38,40,41,42],[38,43,41,47],[38,48,41,54],[42,48,45,54],[46,17,49,18],[46,19,49,20],[46,21,49,36],[46,37,49,39],[46,40,49,42],[46,43,49,47],[46,48,49,54],[42,17,45,18],[42,19,45,20],[42,21,45,36],[42,37,45,39],[42,40,45,42],[42,43,45,47],[34,1,37,5],[34,6,37,15],[34,17,37,18],[34,19,37,20],[34,21,37,36],[34,37,37,39],[34,40,37,42],[34,43,37,47],[34,48,37,54],[26,40,29,42],[26,43,29,47],[26,48,29,54],[30,1,33,3],[30,4,33,5],[30,6,33,15],[30,17,33,18],[30,19,33,20],[30,21,33,36],[30,37,33,39],[26,1,29,5],[26,6,29,15],[26,17,29,18],[26,19,29,20],[26,21,29,36],[26,37,29,39],[30,40,33,42],[30,43,33,47],[30,48,33,54],[22,1,25,5],[22,6,25,15],[22,17,25,18],[22,19,25,20],[22,21,25,36],[22,37,25,39],[22,40,25,42],[22,43,25,47],[22,48,25,54],[14,43,17,47],[14,48,17,54],[18,1,21,5],[18,6,21,15],[18,17,21,18],[18,19,21,20],[18,21,21,36],[18,37,21,39],[18,40,21,42],[18,43,21,47],[14,1,17,5],[14,6,17,15],[14,17,17,20],[14,21,17,36],[14,37,17,39],[14,40,17,42],[18,48,21,54],[3,52,5,54],[8,1,11,5],[8,6,11,11],[8,12,11,15],[8,16,11,35],[8,37,11,40],[8,41,11,54],[1,19,4,32],[2,1,5,11],[2,12,5,13],[3,40,5,44],[3,45,5,48],[3,49,5,51]]}
[]
[null,null,null,null,null,null,null,null,null,null,null,null,null,null,null,null,null,null,null,"請求書明細書 (正)"]
[null,"株 式 会 社 種 村 建 設",null,null,null,null,null,null,null,null,null,null,"御中"]
[null,null,null,null,null,null,null,null,null,null,null,null,null,null,null,null,null,null,null,null,null,null,null,null,null,null,null,null,null,null,null,null,null,null,null,null,null,null,null,null,"請求年月日",null,null,null,null,{"$f":"IF(年=\"\",\"\",年)","v":""},null,null,null,{"$f":"IF(月=\"\",\"\",月)","v":""},null,null,{"$f":"IF(日=\"\",\"\",日)","v":""}]
[]
[]
[]
[]
[null,"工事番号",null,null,null,null,null,null,null,null,null,null,"工事名",null,null,null,null,null,null,null,null,null,null,null,null,null,null,null,null,null,null,null,null,null,null,null,null,"業者名",null,null,null,{"$f":"IF(社名=\"\",\"\",社名)","v":""}]
[]
[]
[]
[]
[]
[null,"注文番号",null,null,null,null,null,null,null,null,null,null,null,null,null,null,null,"月　日",null,null,null,"品　名・内　訳",null,null,null,null,null,null,null,null,null,null,null,null,null,null,null,"数 量",null,null,"単位",null,null,"単価",null,null,null,null,{"$f":"表紙①!P35","v":"金額(税抜)"}]
[]
[]
[]
[null,"契約金額",null,null,null,null,null,null,null,null,null,null,null,null,null,null,null,null,null,null,null,null,null,null,null,null,null,null,null,null,null,null,null,null,null,null,null,null,null,null,null,null,null,null,null,null,null,null,{"$f":"IF(V19=\"\",\"\",ROUND(AL19*AR19,0))","v":""}]
[]
[]
[]
[null,"増減額",null,null,null,null,null,null,null,null,null,null,null,null,null,null,null,null,null,null,null,null,null,null,null,null,null,null,null,null,null,null,null,null,null,null,null,null,null,null,null,null,null,null,null,null,null,null,{"$f":"IF(V23=\"\",\"\",ROUND(AL23*AR23,0))","v":""}]
[]
[]
[]
[null,"前回までの\n請求額",null,null,null,null,null,null,null,null,null,null,null,null,null,null,null,null,null,null,null,null,null,null,null,null,null,null,null,null,null,null,null,null,null,null,null,null,null,null,null,null,null,null,null,null,null,null,{"$f":"IF(V27=\"\",\"\",ROUND(AL27*AR27,0))","v":""}]
[]
[]
[]
[null,"今回\n請求額",null,null,null,null,null,null,null,null,null,null,null,null,null,null,null,null,null,null,null,null,null,null,null,null,null,null,null,null,null,null,null,null,null,null,null,null,null,null,null,null,null,null,null,null,null,null,{"$f":"IF(V31=\"\",\"\",ROUND(AL31*AR31,0))","v":""}]
[]
[]
[]
[null,"差引残高",null,null,null,null,{"$f":"IF(G19=\"\",\"\",G19+G23-G27-G31)","v":""},null,null,null,null,null,null,null,null,null,null,null,null,null,null,null,null,null,null,null,null,null,null,null,null,null,null,null,null,null,null,null,null,null,null,null,null,null,null,null,null,null,{"$f":"IF(V35=\"\",\"\",ROUND(AL35*AR35,0))","v":""}]
[]
[]
[]
[null,null,null,null,null,null,null,null,null,null,null,null,null,null,null,null,null,null,null,null,null,null,null,null,null,null,null,null,null,null,null,null,null,null,null,null,null,null,null,null,null,null,null,null,null,null,null,null,{"$f":"IF(V39=\"\",\"\",ROUND(AL39*AR39,0))","v":""}]
[]
[]
[]
[null,null,null,null,null,null,null,null,null,null,null,null,null,null,null,null,null,null,null,null,null,null,null,null,null,null,null,null,null,null,null,null,null,null,null,null,null,null,null,null,null,null,null,null,null,null,null,null,{"$f":"IF(V43=\"\",\"\",ROUND(AL43*AR43,0))","v":""}]
[]
[]
[]
[null,null,null,null,null,null,null,null,null,null,null,null,null,null,null,null,null,null,null,null,null,null,null,null,null,null,null,null,null,null,null,null,null,null,null,null,null,null,null,null,null,null,null,null,null,null,null,null,{"$f":"IF(V47=\"\",\"\",ROUND(AL47*AR47,0))","v":""}]
[]
[]
[]
[null,null,null,null,null,null,null,null,null,null,null,null,null,null,null,null,null,null,null,null,null,null,null,null,null,null,null,null,null,null,null,null,null,null,null,null,null,null,null,null,null,null,null,null,null,null,null,null,{"$f":"IF(V51=\"\",\"\",ROUND(AL51*AR51,0))","v":""}]
[]
[]
[]
[null,null,null,null,null,null,null,null,null,null,null,null,null,null,null,null,null,null,null,null,null,null,null,null,null,null,null,null,null,null,null,null,null,null,null,null,null,null,null,null,null,null,null,null,null,null,null,null,{"$f":"IF(V55=\"\",\"\",ROUND(AL55*AR55,0))","v":""}]
[]
[]
[]
[null,null,null,null,null,null,null,null,null,null,null,null,null,null,null,null,null,null,null,null,null,null,null,null,null,null,null,null,null,null,null,null,null,null,null,null,null,null,null,null,null,null,null,null,null,null,null,null,{"$f":"IF(V59=\"\",\"\",ROUND(AL59*AR59,0))","v":""}]
[]
[]
[]
[null,null,null,null,null,null,null,null,null,null,null,null,null,null,null,null,null,null,null,null,null,null,null,null,null,null,null,null,null,null,null,null,null,null,null,null,null,null,null,null,null,null,null,null,null,null,null,null,{"$f":"IF(V63=\"\",\"\",ROUND(AL63*AR63,0))","v":""}]
[]
[]
[]
[null,null,null,null,null,null,null,null,null,null,null,null,null,null,null,null,null,null,null,null,null,null,null,null,null,null,null,null,null,null,null,null,null,null,null,null,null,null,null,null,null,null,null,null,null,null,null,null,{"$f":"IF(V67=\"\",\"\",ROUND(AL67*AR67,0))","v":""}]
[]
[]
[]
[null,null,null,null,null,null,null,null,null,null,null,null,null,null,null,null,null,null,null,null,null,null,null,null,null,null,null,null,null,null,null,null,null,null,null,null,null,null,null,null,null,null,null,null,null,null,null,null,{"$f":"IF(V71=\"\",\"\",ROUND(AL71*AR71,0))","v":""}]
[]
[]
[]
[null,null,null,null,null,null,null,null,null,null,null,null,null,null,null,null,null,null,null,null,null,null,null,null,null,null,null,null,null,null,null,null,null,null,null,null,null,null,null,null,null,null,null,null,null,null,null,null,{"$f":"IF(V75=\"\",\"\",ROUND(AL75*AR75,0))","v":""}]
[]
[]
[]
[null,null,null,null,null,null,null,null,null,null,null,null,null,null,null,null,null,null,null,null,null,null,null,null,null,null,null,null,null,null,null,null,null,null,null,null,null,null,null,null,null,null,null,null,null,null,null,null,{"$f":"IF(V79=\"\",\"\",ROUND(AL79*AR79,0))","v":""}]
[]
[]
[]
[null,null,null,null,null,null,null,null,null,null,null,null,null,null,null,null,null,null,null,null,null,null,null,null,null,null,null,null,null,null,null,null,null,null,null,null,null,"金額(税抜)",null,null,null,null,null,null,null,null,null,null,{"$f":"IF(AW19=\"\",\"\",SUM(AW19:AW79))","v":""}]
[null,"社長",null,null,null,"専務",null,null,null,null,null,"常務",null,null,null,null,null,"部長･工場長",null,null,null,null,null,null,null,null,"担当者",null,null,null,null,"受付"]
[]
[]
[]
[null,null,null,null,null,null,null,null,null,null,null,null,null,null,null,null,null,null,null,null,null,null,null,null,null,null,null,null,null,null,null,null,null,null,null,null,null,"消費税",null,null,null,null,null,"税率",null,null,"税調",null,{"$f":"IF(AW83=\"\",\"\",IF(AR90=\"\",\"\",IF(AR90=8.1,ROUND(AW83*8/100,0)+AU90,ROUND(AW83*AR90/100,0)+AU90)))","v":""}]
[]
[null,null,null,null,null,null,null,null,null,null,null,null,null,null,null,null,null,null,null,null,null,null,null,null,null,null,null,null,null,null,null,null,null,null,null,null,null,null,null,null,null,null,null,null,null,{"$f":"IF(AR90=\"\",\"\",IF(AR90=8.1,\"旧\",IF(AR90=8,\"軽\",IF(AR90=0,\"非\",\"\"))))","v":""}]
[]
[]
[]
[null,null,null,null,null,null,null,null,null,null,null,null,null,null,null,null,null,null,null,"請求明細書 (現場控)"]
[null,"株 式 会 社 種 村 建 設",null,null,null,null,null,null,null,null,null,null,"御中"]
[null,null,null,null,null,null,null,null,null,null,null,null,null,null,null,null,null,null,null,null,null,null,null,null,null,null,null,null,null,null,null,null,null,null,null,null,null,null,null,null,"請求年月日",null,null,null,null,{"$f":"IF(AT4=\"\",\"\",AT4)","v":""},null,null,null,{"$f":"IF(AX4=\"\",\"\",AX4)","v":""},null,null,{"$f":"IF(BA4=\"\",\"\",BA4)","v":""}]
[]
[]
[]
[]
[null,"工事番号",null,null,null,null,{"$f":"IF(G9=\"\",\"\",G9)","v":""},null,null,null,null,null,"工事名",null,null,null,{"$f":"IF(Q9=\"\",\"\",Q9)","v":""},null,null,null,null,null,null,null,null,null,null,null,null,null,null,null,null,null,null,null,null,"業者名",null,null,null,{"$f":"IF(AP9=\"\",\"\",AP9)","v":""}]
[]
[]
[]
[]
[]
[null,"注文番号",null,null,null,null,{"$f":"IF(G15=\"\",\"\",G15)","v":""},null,null,null,null,null,null,null,null,null,null,"月　日",null,null,null,"品　名・内　訳",null,null,null,null,null,null,null,null,null,null,null,null,null,null,null,"数 量",null,null,"単位",null,null,"単価",null,null,null,null,{"$f":"AW15","v":"金額(税抜)"}]
[]
[]
[]
[null,"契約金額",null,null,null,null,{"$f":"IF(G19=\"\",\"\",G19)","v":""},null,null,null,null,null,null,null,null,null,null,{"$f":"IF(R19=\"\",\"\",R19)","v":""},null,{"$f":"IF(T19=\"\",\"\",T19)","v":""},null,{"$f":"IF(V19=\"\",\"\",V19)","v":""},null,{"$f":"IF(X19=\"\",\"\",X19)","v":""},null,{"$f":"IF(Z19=\"\",\"\",Z19)","v":""},null,{"$f":"IF(AB19=\"\",\"\",AB19)","v":""},null,{"$f":"IF(AD19=\"\",\"\",AD19)","v":""},null,{"$f":"IF(AF19=\"\",\"\",AF19)","v":""},null,{"$f":"IF(AH19=\"\",\"\",AH19)","v":""},null,{"$f":"IF(AJ19=\"\",\"\",AJ19)","v":""},null,{"$f":"IF(AL19=\"\",\"\",AL19)","v":""},null,null,{"$f":"IF(AO19=\"\",\"\",AO19)","v":""},null,null,{"$f":"IF(AR19=\"\",\"\",AR19)","v":""},null,null,null,null,{"$f":"IF(AW19=\"\",\"\",AW19)","v":""}]
[]
[]
[]
[null,"増減額",null,null,null,null,{"$f":"IF(G23=\"\",\"\",G23)","v":""},null,null,null,null,null,null,null,null,null,null,{"$f":"IF(R23=\"\",\"\",R23)","v":""},null,{"$f":"IF(T23=\"\",\"\",T23)","v":""},null,{"$f":"IF(V23=\"\",\"\",V23)","v":""},null,{"$f":"IF(X23=\"\",\"\",X23)","v":""},null,{"$f":"IF(Z23=\"\",\"\",Z23)","v":""},null,{"$f":"IF(AB23=\"\",\"\",AB23)","v":""},null,{"$f":"IF(AD23=\"\",\"\",AD23)","v":""},null,{"$f":"IF(AF23=\"\",\"\",AF23)","v":""},null,{"$f":"IF(AH23=\"\",\"\",AH23)","v":""},null,{"$f":"IF(AJ23=\"\",\"\",AJ23)","v":""},null,{"$f":"IF(AL23=\"\",\"\",AL23)","v":""},null,null,{"$f":"IF(AO23=\"\",\"\",AO23)","v":""},null,null,{"$f":"IF(AR23=\"\",\"\",AR23)","v":""},null,null,null,null,{"$f":"IF(AW23=\"\",\"\",AW23)","v":""}]
[]
[]
[]
[null,"前回までの\n請求額",null,null,null,null,{"$f":"IF(G27=\"\",\"\",G27)","v":""},null,null,null,null,null,null,null,null,null,null,{"$f":"IF(R27=\"\",\"\",R27)","v":""},null,{"$f":"IF(T27=\"\",\"\",T27)","v":""},null,{"$f":"IF(V27=\"\",\"\",V27)","v":""},null,{"$f":"IF(X27=\"\",\"\",X27)","v":""},null,{"$f":"IF(Z27=\"\",\"\",Z27)","v":""},null,{"$f":"IF(AB27=\"\",\"\",AB27)","v":""},null,{"$f":"IF(AD27=\"\",\"\",AD27)","v":""},null,{"$f":"IF(AF27=\"\",\"\",AF27)","v":""},null,{"$f":"IF(AH27=\"\",\"\",AH27)","v":""},null,{"$f":"IF(AJ27=\"\",\"\",AJ27)","v":""},null,{"$f":"IF(AL27=\"\",\"\",AL27)","v":""},null,null,{"$f":"IF(AO27=\"\",\"\",AO27)","v":""},null,null,{"$f":"IF(AR27=\"\",\"\",AR27)","v":""},null,null,null,null,{"$f":"IF(AW27=\"\",\"\",AW27)","v":""}]
[]
[]
[]
[null,"今回\n請求額",null,null,{"$f":"IF(E31=\"\",\"\",E31)","v":""},null,{"$f":"IF(G31=\"\",\"\",G31)","v":""},null,null,null,null,null,null,null,null,null,null,{"$f":"IF(R31=\"\",\"\",R31)","v":""},null,{"$f":"IF(T31=\"\",\"\",T31)","v":""},null,{"$f":"IF(V31=\"\",\"\",V31)","v":""},null,{"$f":"IF(X31=\"\",\"\",X31)","v":""},null,{"$f":"IF(Z31=\"\",\"\",Z31)","v":""},null,{"$f":"IF(AB31=\"\",\"\",AB31)","v":""},null,{"$f":"IF(AD31=\"\",\"\",AD31)","v":""},null,{"$f":"IF(AF31=\"\",\"\",AF31)","v":""},null,{"$f":"IF(AH31=\"\",\"\",AH31)","v":""},null,{"$f":"IF(AJ31=\"\",\"\",AJ31)","v":""},null,{"$f":"IF(AL31=\"\",\"\",AL31)","v":""},null,null,{"$f":"IF(AO31=\"\",\"\",AO31)","v":""},null,null,{"$f":"IF(AR31=\"\",\"\",AR31)","v":""},null,null,null,null,{"$f":"IF(AW31=\"\",\"\",AW31)","v":""}]
[]
[]
[]
[null,"差引残高",null,null,null,null,{"$f":"IF(G111=\"\",\"\",G111+G115-G119-G123)","v":""},null,null,null,null,null,null,null,null,null,null,{"$f":"IF(R35=\"\",\"\",R35)","v":""},null,{"$f":"IF(T35=\"\",\"\",T35)","v":""},null,{"$f":"IF(V35=\"\",\"\",V35)","v":""},null,{"$f":"IF(X35=\"\",\"\",X35)","v":""},null,{"$f":"IF(Z35=\"\",\"\",Z35)","v":""},null,{"$f":"IF(AB35=\"\",\"\",AB35)","v":""},null,{"$f":"IF(AD35=\"\",\"\",AD35)","v":""},null,{"$f":"IF(AF35=\"\",\"\",AF35)","v":""},null,{"$f":"IF(AH35=\"\",\"\",AH35)","v":""},null,{"$f":"IF(AJ35=\"\",\"\",AJ35)","v":""},null,{"$f":"IF(AL35=\"\",\"\",AL35)","v":""},null,null,{"$f":"IF(AO35=\"\",\"\",AO35)","v":""},null,null,{"$f":"IF(AR35=\"\",\"\",AR35)","v":""},null,null,null,null,{"$f":"IF(AW35=\"\",\"\",AW35)","v":""}]
[]
[]
[]
[null,null,null,null,null,null,null,null,null,null,null,null,null,null,null,null,null,{"$f":"IF(R39=\"\",\"\",R39)","v":""},null,{"$f":"IF(T39=\"\",\"\",T39)","v":""},null,{"$f":"IF(V39=\"\",\"\",V39)","v":""},null,{"$f":"IF(X39=\"\",\"\",X39)","v":""},null,{"$f":"IF(Z39=\"\",\"\",Z39)","v":""},null,{"$f":"IF(AB39=\"\",\"\",AB39)","v":""},null,{"$f":"IF(AD39=\"\",\"\",AD39)","v":""},null,{"$f":"IF(AF39=\"\",\"\",AF39)","v":""},null,{"$f":"IF(AH39=\"\",\"\",AH39)","v":""},null,{"$f":"IF(AJ39=\"\",\"\",AJ39)","v":""},null,{"$f":"IF(AL39=\"\",\"\",AL39)","v":""},null,null,{"$f":"IF(AO39=\"\",\"\",AO39)","v":""},null,null,{"$f":"IF(AR39=\"\",\"\",AR39)","v":""},null,null,null,null,{"$f":"IF(AW39=\"\",\"\",AW39)","v":""}]
[]
[]
[]
[null,null,null,null,null,null,null,null,null,null,null,null,null,null,null,null,null,{"$f":"IF(R43=\"\",\"\",R43)","v":""},null,{"$f":"IF(T43=\"\",\"\",T43)","v":""},null,{"$f":"IF(V43=\"\",\"\",V43)","v":""},null,{"$f":"IF(X43=\"\",\"\",X43)","v":""},null,{"$f":"IF(Z43=\"\",\"\",Z43)","v":""},null,{"$f":"IF(AB43=\"\",\"\",AB43)","v":""},null,{"$f":"IF(AD43=\"\",\"\",AD43)","v":""},null,{"$f":"IF(AF43=\"\",\"\",AF43)","v":""},null,{"$f":"IF(AH43=\"\",\"\",AH43)","v":""},null,{"$f":"IF(AJ43=\"\",\"\",AJ43)","v":""},null,{"$f":"IF(AL43=\"\",\"\",AL43)","v":""},null,null,{"$f":"IF(AO43=\"\",\"\",AO43)","v":""},null,null,{"$f":"IF(AR43=\"\",\"\",AR43)","v":""},null,null,null,null,{"$f":"IF(AW43=\"\",\"\",AW43)","v":""}]
[]
[]
[]
[null,null,null,null,null,null,null,null,null,null,null,null,null,null,null,null,null,{"$f":"IF(R47=\"\",\"\",R47)","v":""},null,{"$f":"IF(T47=\"\",\"\",T47)","v":""},null,{"$f":"IF(V47=\"\",\"\",V47)","v":""},null,{"$f":"IF(X47=\"\",\"\",X47)","v":""},null,{"$f":"IF(Z47=\"\",\"\",Z47)","v":""},null,{"$f":"IF(AB47=\"\",\"\",AB47)","v":""},null,{"$f":"IF(AD47=\"\",\"\",AD47)","v":""},null,{"$f":"IF(AF47=\"\",\"\",AF47)","v":""},null,{"$f":"IF(AH47=\"\",\"\",AH47)","v":""},null,{"$f":"IF(AJ47=\"\",\"\",AJ47)","v":""},null,{"$f":"IF(AL47=\"\",\"\",AL47)","v":""},null,null,{"$f":"IF(AO47=\"\",\"\",AO47)","v":""},null,null,{"$f":"IF(AR47=\"\",\"\",AR47)","v":""},null,null,null,null,{"$f":"IF(AW47=\"\",\"\",AW47)","v":""}]
[]
[]
[]
[null,null,null,null,null,null,null,null,null,null,null,null,null,null,null,null,null,{"$f":"IF(R51=\"\",\"\",R51)","v":""},null,{"$f":"IF(T51=\"\",\"\",T51)","v":""},null,{"$f":"IF(V51=\"\",\"\",V51)","v":""},null,{"$f":"IF(X51=\"\",\"\",X51)","v":""},null,{"$f":"IF(Z51=\"\",\"\",Z51)","v":""},null,{"$f":"IF(AB51=\"\",\"\",AB51)","v":""},null,{"$f":"IF(AD51=\"\",\"\",AD51)","v":""},null,{"$f":"IF(AF51=\"\",\"\",AF51)","v":""},null,{"$f":"IF(AH51=\"\",\"\",AH51)","v":""},null,{"$f":"IF(AJ51=\"\",\"\",AJ51)","v":""},null,{"$f":"IF(AL51=\"\",\"\",AL51)","v":""},null,null,{"$f":"IF(AO51=\"\",\"\",AO51)","v":""},null,null,{"$f":"IF(AR51=\"\",\"\",AR51)","v":""},null,null,null,null,{"$f":"IF(AW51=\"\",\"\",AW51)","v":""}]
[]
[]
[]
[null,null,null,null,null,null,null,null,null,null,null,null,null,null,null,null,null,{"$f":"IF(R55=\"\",\"\",R55)","v":""},null,{"$f":"IF(T55=\"\",\"\",T55)","v":""},null,{"$f":"IF(V55=\"\",\"\",V55)","v":""},null,{"$f":"IF(X55=\"\",\"\",X55)","v":""},null,{"$f":"IF(Z55=\"\",\"\",Z55)","v":""},null,{"$f":"IF(AB55=\"\",\"\",AB55)","v":""},null,{"$f":"IF(AD55=\"\",\"\",AD55)","v":""},null,{"$f":"IF(AF55=\"\",\"\",AF55)","v":""},null,{"$f":"IF(AH55=\"\",\"\",AH55)","v":""},null,{"$f":"IF(AJ55=\"\",\"\",AJ55)","v":""},null,{"$f":"IF(AL55=\"\",\"\",AL55)","v":""},null,null,{"$f":"IF(AO55=\"\",\"\",AO55)","v":""},null,null,{"$f":"IF(AR55=\"\",\"\",AR55)","v":""},null,null,null,null,{"$f":"IF(AW55=\"\",\"\",AW55)","v":""}]
[]
[]
[]
[null,null,null,null,null,null,null,null,null,null,null,null,null,null,null,null,null,{"$f":"IF(R59=\"\",\"\",R59)","v":""},null,{"$f":"IF(T59=\"\",\"\",T59)","v":""},null,{"$f":"IF(V59=\"\",\"\",V59)","v":""},null,{"$f":"IF(X59=\"\",\"\",X59)","v":""},null,{"$f":"IF(Z59=\"\",\"\",Z59)","v":""},null,{"$f":"IF(AB59=\"\",\"\",AB59)","v":""},null,{"$f":"IF(AD59=\"\",\"\",AD59)","v":""},null,{"$f":"IF(AF59=\"\",\"\",AF59)","v":""},null,{"$f":"IF(AH59=\"\",\"\",AH59)","v":""},null,{"$f":"IF(AJ59=\"\",\"\",AJ59)","v":""},null,{"$f":"IF(AL59=\"\",\"\",AL59)","v":""},null,null,{"$f":"IF(AO59=\"\",\"\",AO59)","v":""},null,null,{"$f":"IF(AR59=\"\",\"\",AR59)","v":""},null,null,null,null,{"$f":"IF(AW59=\"\",\"\",AW59)","v":""}]
[]
[]
[]
[null,null,null,null,null,null,null,null,null,null,null,null,null,null,null,null,null,{"$f":"IF(R63=\"\",\"\",R63)","v":""},null,{"$f":"IF(T63=\"\",\"\",T63)","v":""},null,{"$f":"IF(V63=\"\",\"\",V63)","v":""},null,{"$f":"IF(X63=\"\",\"\",X63)","v":""},null,{"$f":"IF(Z63=\"\",\"\",Z63)","v":""},null,{"$f":"IF(AB63=\"\",\"\",AB63)","v":""},null,{"$f":"IF(AD63=\"\",\"\",AD63)","v":""},null,{"$f":"IF(AF63=\"\",\"\",AF63)","v":""},null,{"$f":"IF(AH63=\"\",\"\",AH63)","v":""},null,{"$f":"IF(AJ63=\"\",\"\",AJ63)","v":""},null,{"$f":"IF(AL63=\"\",\"\",AL63)","v":""},null,null,{"$f":"IF(AO63=\"\",\"\",AO63)","v":""},null,null,{"$f":"IF(AR63=\"\",\"\",AR63)","v":""},null,null,null,null,{"$f":"IF(AW63=\"\",\"\",AW63)","v":""}]
[]
[]
[]
[null,null,null,null,null,null,null,null,null,null,null,null,null,null,null,null,null,{"$f":"IF(R67=\"\",\"\",R67)","v":""},null,{"$f":"IF(T67=\"\",\"\",T67)","v":""},null,{"$f":"IF(V67=\"\",\"\",V67)","v":""},null,{"$f":"IF(X67=\"\",\"\",X67)","v":""},null,{"$f":"IF(Z67=\"\",\"\",Z67)","v":""},null,{"$f":"IF(AB67=\"\",\"\",AB67)","v":""},null,{"$f":"IF(AD67=\"\",\"\",AD67)","v":""},null,{"$f":"IF(AF67=\"\",\"\",AF67)","v":""},null,{"$f":"IF(AH67=\"\",\"\",AH67)","v":""},null,{"$f":"IF(AJ67=\"\",\"\",AJ67)","v":""},null,{"$f":"IF(AL67=\"\",\"\",AL67)","v":""},null,null,{"$f":"IF(AO67=\"\",\"\",AO67)","v":""},null,null,{"$f":"IF(AR67=\"\",\"\",AR67)","v":""},null,null,null,null,{"$f":"IF(AW67=\"\",\"\",AW67)","v":""}]
[]
[]
[]
[null,null,null,null,null,null,null,null,null,null,null,null,null,null,null,null,null,{"$f":"IF(R71=\"\",\"\",R71)","v":""},null,{"$f":"IF(T71=\"\",\"\",T71)","v":""},null,{"$f":"IF(V71=\"\",\"\",V71)","v":""},null,{"$f":"IF(X71=\"\",\"\",X71)","v":""},null,{"$f":"IF(Z71=\"\",\"\",Z71)","v":""},null,{"$f":"IF(AB71=\"\",\"\",AB71)","v":""},null,{"$f":"IF(AD71=\"\",\"\",AD71)","v":""},null,{"$f":"IF(AF71=\"\",\"\",AF71)","v":""},null,{"$f":"IF(AH71=\"\",\"\",AH71)","v":""},null,{"$f":"IF(AJ71=\"\",\"\",AJ71)","v":""},null,{"$f":"IF(AL71=\"\",\"\",AL71)","v":""},null,null,{"$f":"IF(AO71=\"\",\"\",AO71)","v":""},null,null,{"$f":"IF(AR71=\"\",\"\",AR71)","v":""},null,null,null,null,{"$f":"IF(AW71=\"\",\"\",AW71)","v":""}]
[]
[]
[]
[null,null,null,null,null,null,null,null,null,null,null,null,null,null,null,null,null,{"$f":"IF(R75=\"\",\"\",R75)","v":""},null,{"$f":"IF(T75=\"\",\"\",T75)","v":""},null,{"$f":"IF(V75=\"\",\"\",V75)","v":""},null,{"$f":"IF(X75=\"\",\"\",X75)","v":""},null,{"$f":"IF(Z75=\"\",\"\",Z75)","v":""},null,{"$f":"IF(AB75=\"\",\"\",AB75)","v":""},null,{"$f":"IF(AD75=\"\",\"\",AD75)","v":""},null,{"$f":"IF(AF75=\"\",\"\",AF75)","v":""},null,{"$f":"IF(AH75=\"\",\"\",AH75)","v":""},null,{"$f":"IF(AJ75=\"\",\"\",AJ75)","v":""},null,{"$f":"IF(AL75=\"\",\"\",AL75)","v":""},null,null,{"$f":"IF(AO75=\"\",\"\",AO75)","v":""},null,null,{"$f":"IF(AR75=\"\",\"\",AR75)","v":""},null,null,null,null,{"$f":"IF(AW75=\"\",\"\",AW75)","v":""}]
[]
[]
[]
[null,null,null,null,null,null,null,null,null,null,null,null,null,null,null,null,null,{"$f":"IF(R79=\"\",\"\",R79)","v":""},null,{"$f":"IF(T79=\"\",\"\",T79)","v":""},null,{"$f":"IF(V79=\"\",\"\",V79)","v":""},null,{"$f":"IF(X79=\"\",\"\",X79)","v":""},null,{"$f":"IF(Z79=\"\",\"\",Z79)","v":""},null,{"$f":"IF(AB79=\"\",\"\",AB79)","v":""},null,{"$f":"IF(AD79=\"\",\"\",AD79)","v":""},null,{"$f":"IF(AF79=\"\",\"\",AF79)","v":""},null,{"$f":"IF(AH79=\"\",\"\",AH79)","v":""},null,{"$f":"IF(AJ79=\"\",\"\",AJ79)","v":""},null,{"$f":"IF(AL79=\"\",\"\",AL79)","v":""},null,null,{"$f":"IF(AO79=\"\",\"\",AO79)","v":""},null,null,{"$f":"IF(AR79=\"\",\"\",AR79)","v":""},null,null,null,null,{"$f":"IF(AW79=\"\",\"\",AW79)","v":""}]
[]
[]
[]
[null,null,null,null,null,null,null,null,null,null,null,null,null,null,null,null,null,null,null,null,null,null,null,null,null,null,null,null,null,null,null,null,null,null,null,null,null,{"$f":"AL83","v":"金額(税抜)"},null,null,null,null,null,null,null,null,null,null,{"$f":"AW83","v":""}]
[]
[]
[]
[]
[null,null,null,null,null,null,null,null,null,null,null,null,null,null,null,null,null,null,null,null,null,null,null,null,null,null,null,null,null,null,null,null,null,null,null,null,null,{"$f":"AL88","v":"消費税"},null,null,null,null,null,"税率",null,null,"税調",null,{"$f":"AW88","v":""}]
[]
[null,null,null,null,null,null,null,null,null,null,null,null,null,null,null,null,null,null,null,null,null,null,null,null,null,null,null,null,null,null,null,null,null,null,null,null,null,null,null,null,null,null,null,{"$f":"AR90","v":0},null,{"$f":"AT90","v":""}]
[]
[]
[]
[null,null,null,null,null,null,null,null,null,null,null,null,null,null,null,null,null,null,null,"請求明細書 (貴社控)"]
[null,"株 式 会 社 種 村 建 設",null,null,null,null,null,null,null,null,null,null,"御中"]
[null,null,null,null,null,null,null,null,null,null,null,null,null,null,null,null,null,null,null,null,null,null,null,null,null,null,null,null,null,null,null,null,null,null,null,null,null,null,null,null,"請求年月日",null,null,null,null,{"$f":"IF(AT4=\"\",\"\",AT4)","v":""},null,null,null,{"$f":"IF(AX96=\"\",\"\",AX96)","v":""},null,null,{"$f":"IF(BA96=\"\",\"\",BA96)","v":""}]
[]
[]
[]
[]
[null,"工事番号",null,null,null,null,{"$f":"IF(G101=\"\",\"\",G101)","v":""},null,null,null,null,null,"工事名",null,null,null,{"$f":"IF(Q101=\"\",\"\",Q101)","v":""},null,null,null,null,null,null,null,null,null,null,null,null,null,null,null,null,null,null,null,null,"業者名",null,null,null,{"$f":"IF(AP101=\"\",\"\",AP101)","v":""}]
[]
[]
[]
[]
[]
[null,"注文番号",null,null,null,null,{"$f":"IF(G107=\"\",\"\",G107)","v":""},null,null,null,null,null,null,null,null,null,null,"月　日",null,null,null,"品　名・内　訳",null,null,null,null,null,null,null,null,null,null,null,null,null,null,null,"数 量",null,null,"単位",null,null,"単価",null,null,null,null,{"$f":"AW15","v":"金額(税抜)"}]
[]
[]
[]
[null,"契約金額",null,null,null,null,{"$f":"IF(G111=\"\",\"\",G111)","v":""},null,null,null,null,null,null,null,null,null,null,{"$f":"IF(R111=\"\",\"\",R111)","v":""},null,{"$f":"IF(T111=\"\",\"\",T111)","v":""},null,{"$f":"IF(V111=\"\",\"\",V111)","v":""},null,{"$f":"IF(X111=\"\",\"\",X111)","v":""},null,{"$f":"IF(Z111=\"\",\"\",Z111)","v":""},null,{"$f":"IF(AB111=\"\",\"\",AB111)","v":""},null,{"$f":"IF(AD111=\"\",\"\",AD111)","v":""},null,{"$f":"IF(AF111=\"\",\"\",AF111)","v":""},null,{"$f":"IF(AH111=\"\",\"\",AH111)","v":""},null,{"$f":"IF(AJ111=\"\",\"\",AJ111)","v":""},null,{"$f":"IF(AL111=\"\",\"\",AL111)","v":""},null,null,{"$f":"IF(AO111=\"\",\"\",AO111)","v":""},null,null,{"$f":"IF(AR111=\"\",\"\",AR111)","v":""},null,null,null,null,{"$f":"IF(AW111=\"\",\"\",AW111)","v":""}]
[]
[]
[]
[null,"増減額",null,null,null,null,{"$f":"IF(G115=\"\",\"\",G115)","v":""},null,null,null,null,null,null,null,null,null,null,{"$f":"IF(R115=\"\",\"\",R115)","v":""},null,{"$f":"IF(T115=\"\",\"\",T115)","v":""},null,{"$f":"IF(V115=\"\",\"\",V115)","v":""},null,{"$f":"IF(X115=\"\",\"\",X115)","v":""},null,{"$f":"IF(Z115=\"\",\"\",Z115)","v":""},null,{"$f":"IF(AB115=\"\",\"\",AB115)","v":""},null,{"$f":"IF(AD115=\"\",\"\",AD115)","v":""},null,{"$f":"IF(AF115=\"\",\"\",AF115)","v":""},null,{"$f":"IF(AH115=\"\",\"\",AH115)","v":""},null,{"$f":"IF(AJ115=\"\",\"\",AJ115)","v":""},null,{"$f":"IF(AL115=\"\",\"\",AL115)","v":""},null,null,{"$f":"IF(AO115=\"\",\"\",AO115)","v":""},null,null,{"$f":"IF(AR115=\"\",\"\",AR115)","v":""},null,null,null,null,{"$f":"IF(AW115=\"\",\"\",AW115)","v":""}]
[]
[]
[]
[null,"前回までの\n請求額",null,null,null,null,{"$f":"IF(G119=\"\",\"\",G119)","v":""},null,null,null,null,null,null,null,null,null,null,{"$f":"IF(R119=\"\",\"\",R119)","v":""},null,{"$f":"IF(T119=\"\",\"\",T119)","v":""},null,{"$f":"IF(V119=\"\",\"\",V119)","v":""},null,{"$f":"IF(X119=\"\",\"\",X119)","v":""},null,{"$f":"IF(Z119=\"\",\"\",Z119)","v":""},null,{"$f":"IF(AB119=\"\",\"\",AB119)","v":""},null,{"$f":"IF(AD119=\"\",\"\",AD119)","v":""},null,{"$f":"IF(AF119=\"\",\"\",AF119)","v":""},null,{"$f":"IF(AH119=\"\",\"\",AH119)","v":""},null,{"$f":"IF(AJ119=\"\",\"\",AJ119)","v":""},null,{"$f":"IF(AL119=\"\",\"\",AL119)","v":""},null,null,{"$f":"IF(AO119=\"\",\"\",AO119)","v":""},null,null,{"$f":"IF(AR119=\"\",\"\",AR119)","v":""},null,null,null,null,{"$f":"IF(AW119=\"\",\"\",AW119)","v":""}]
[]
[]
[]
[null,"今回\n請求額",null,null,{"$f":"IF(E31=\"\",\"\",E31)","v":""},null,{"$f":"IF(G123=\"\",\"\",G123)","v":""},null,null,null,null,null,null,null,null,null,null,{"$f":"IF(R123=\"\",\"\",R123)","v":""},null,{"$f":"IF(T123=\"\",\"\",T123)","v":""},null,{"$f":"IF(V123=\"\",\"\",V123)","v":""},null,{"$f":"IF(X123=\"\",\"\",X123)","v":""},null,{"$f":"IF(Z123=\"\",\"\",Z123)","v":""},null,{"$f":"IF(AB123=\"\",\"\",AB123)","v":""},null,{"$f":"IF(AD123=\"\",\"\",AD123)","v":""},null,{"$f":"IF(AF123=\"\",\"\",AF123)","v":""},null,{"$f":"IF(AH123=\"\",\"\",AH123)","v":""},null,{"$f":"IF(AJ123=\"\",\"\",AJ123)","v":""},null,{"$f":"IF(AL123=\"\",\"\",AL123)","v":""},null,null,{"$f":"IF(AO123=\"\",\"\",AO123)","v":""},null,null,{"$f":"IF(AR123=\"\",\"\",AR123)","v":""},null,null,null,null,{"$f":"IF(AW123=\"\",\"\",AW123)","v":""}]
[]
[]
[]
[null,"差引残高",null,null,null,null,{"$f":"IF(G203=\"\",\"\",G203+G207-G211-G215)","v":""},null,null,null,null,null,null,null,null,null,null,{"$f":"IF(R127=\"\",\"\",R127)","v":""},null,{"$f":"IF(T127=\"\",\"\",T127)","v":""},null,{"$f":"IF(V127=\"\",\"\",V127)","v":""},null,{"$f":"IF(X127=\"\",\"\",X127)","v":""},null,{"$f":"IF(Z127=\"\",\"\",Z127)","v":""},null,{"$f":"IF(AB127=\"\",\"\",AB127)","v":""},null,{"$f":"IF(AD127=\"\",\"\",AD127)","v":""},null,{"$f":"IF(AF127=\"\",\"\",AF127)","v":""},null,{"$f":"IF(AH127=\"\",\"\",AH127)","v":""},null,{"$f":"IF(AJ127=\"\",\"\",AJ127)","v":""},null,{"$f":"IF(AL127=\"\",\"\",AL127)","v":""},null,null,{"$f":"IF(AO127=\"\",\"\",AO127)","v":""},null,null,{"$f":"IF(AR127=\"\",\"\",AR127)","v":""},null,null,null,null,{"$f":"IF(AW127=\"\",\"\",AW127)","v":""}]
[]
[]
[]
[null,null,null,null,null,null,null,null,null,null,null,null,null,null,null,null,null,{"$f":"IF(R131=\"\",\"\",R131)","v":""},null,{"$f":"IF(T131=\"\",\"\",T131)","v":""},null,{"$f":"IF(V131=\"\",\"\",V131)","v":""},null,{"$f":"IF(X131=\"\",\"\",X131)","v":""},null,{"$f":"IF(Z131=\"\",\"\",Z131)","v":""},null,{"$f":"IF(AB131=\"\",\"\",AB131)","v":""},null,{"$f":"IF(AD131=\"\",\"\",AD131)","v":""},null,{"$f":"IF(AF131=\"\",\"\",AF131)","v":""},null,{"$f":"IF(AH131=\"\",\"\",AH131)","v":""},null,{"$f":"IF(AJ131=\"\",\"\",AJ131)","v":""},null,{"$f":"IF(AL131=\"\",\"\",AL131)","v":""},null,null,{"$f":"IF(AO131=\"\",\"\",AO131)","v":""},null,null,{"$f":"IF(AR131=\"\",\"\",AR131)","v":""},null,null,null,null,{"$f":"IF(AW131=\"\",\"\",AW131)","v":""}]
[]
[]
[]
[null,null,null,null,null,null,null,null,null,null,null,null,null,null,null,null,null,{"$f":"IF(R135=\"\",\"\",R135)","v":""},null,{"$f":"IF(T135=\"\",\"\",T135)","v":""},null,{"$f":"IF(V135=\"\",\"\",V135)","v":""},null,{"$f":"IF(X135=\"\",\"\",X135)","v":""},null,{"$f":"IF(Z135=\"\",\"\",Z135)","v":""},null,{"$f":"IF(AB135=\"\",\"\",AB135)","v":""},null,{"$f":"IF(AD135=\"\",\"\",AD135)","v":""},null,{"$f":"IF(AF135=\"\",\"\",AF135)","v":""},null,{"$f":"IF(AH135=\"\",\"\",AH135)","v":""},null,{"$f":"IF(AJ135=\"\",\"\",AJ135)","v":""},null,{"$f":"IF(AL135=\"\",\"\",AL135)","v":""},null,null,{"$f":"IF(AO135=\"\",\"\",AO135)","v":""},null,null,{"$f":"IF(AR135=\"\",\"\",AR135)","v":""},null,null,null,null,{"$f":"IF(AW135=\"\",\"\",AW135)","v":""}]
[]
[]
[]
[null,null,null,null,null,null,null,null,null,null,null,null,null,null,null,null,null,{"$f":"IF(R139=\"\",\"\",R139)","v":""},null,{"$f":"IF(T139=\"\",\"\",T139)","v":""},null,{"$f":"IF(V139=\"\",\"\",V139)","v":""},null,{"$f":"IF(X139=\"\",\"\",X139)","v":""},null,{"$f":"IF(Z139=\"\",\"\",Z139)","v":""},null,{"$f":"IF(AB139=\"\",\"\",AB139)","v":""},null,{"$f":"IF(AD139=\"\",\"\",AD139)","v":""},null,{"$f":"IF(AF139=\"\",\"\",AF139)","v":""},null,{"$f":"IF(AH139=\"\",\"\",AH139)","v":""},null,{"$f":"IF(AJ139=\"\",\"\",AJ139)","v":""},null,{"$f":"IF(AL139=\"\",\"\",AL139)","v":""},null,null,{"$f":"IF(AO139=\"\",\"\",AO139)","v":""},null,null,{"$f":"IF(AR139=\"\",\"\",AR139)","v":""},null,null,null,null,{"$f":"IF(AW139=\"\",\"\",AW139)","v":""}]
[]
[]
[]
[null,null,null,null,null,null,null,null,null,null,null,null,null,null,null,null,null,{"$f":"IF(R143=\"\",\"\",R143)","v":""},null,{"$f":"IF(T143=\"\",\"\",T143)","v":""},null,{"$f":"IF(V143=\"\",\"\",V143)","v":""},null,{"$f":"IF(X143=\"\",\"\",X143)","v":""},null,{"$f":"IF(Z143=\"\",\"\",Z143)","v":""},null,{"$f":"IF(AB143=\"\",\"\",AB143)","v":""},null,{"$f":"IF(AD143=\"\",\"\",AD143)","v":""},null,{"$f":"IF(AF143=\"\",\"\",AF143)","v":""},null,{"$f":"IF(AH143=\"\",\"\",AH143)","v":""},null,{"$f":"IF(AJ143=\"\",\"\",AJ143)","v":""},null,{"$f":"IF(AL143=\"\",\"\",AL143)","v":""},null,null,{"$f":"IF(AO143=\"\",\"\",AO143)","v":""},null,null,{"$f":"IF(AR143=\"\",\"\",AR143)","v":""},null,null,null,null,{"$f":"IF(AW143=\"\",\"\",AW143)","v":""}]
[]
[]
[]
[null,null,null,null,null,null,null,null,null,null,null,null,null,null,null,null,null,{"$f":"IF(R147=\"\",\"\",R147)","v":""},null,{"$f":"IF(T147=\"\",\"\",T147)","v":""},null,{"$f":"IF(V147=\"\",\"\",V147)","v":""},null,{"$f":"IF(X147=\"\",\"\",X147)","v":""},null,{"$f":"IF(Z147=\"\",\"\",Z147)","v":""},null,{"$f":"IF(AB147=\"\",\"\",AB147)","v":""},null,{"$f":"IF(AD147=\"\",\"\",AD147)","v":""},null,{"$f":"IF(AF147=\"\",\"\",AF147)","v":""},null,{"$f":"IF(AH147=\"\",\"\",AH147)","v":""},null,{"$f":"IF(AJ147=\"\",\"\",AJ147)","v":""},null,{"$f":"IF(AL147=\"\",\"\",AL147)","v":""},null,null,{"$f":"IF(AO147=\"\",\"\",AO147)","v":""},null,null,{"$f":"IF(AR147=\"\",\"\",AR147)","v":""},null,null,null,null,{"$f":"IF(AW147=\"\",\"\",AW147)","v":""}]
[]
[]
[]
[null,null,null,null,null,null,null,null,null,null,null,null,null,null,null,null,null,{"$f":"IF(R151=\"\",\"\",R151)","v":""},null,{"$f":"IF(T151=\"\",\"\",T151)","v":""},null,{"$f":"IF(V151=\"\",\"\",V151)","v":""},null,{"$f":"IF(X151=\"\",\"\",X151)","v":""},null,{"$f":"IF(Z151=\"\",\"\",Z151)","v":""},null,{"$f":"IF(AB151=\"\",\"\",AB151)","v":""},null,{"$f":"IF(AD151=\"\",\"\",AD151)","v":""},null,{"$f":"IF(AF151=\"\",\"\",AF151)","v":""},null,{"$f":"IF(AH151=\"\",\"\",AH151)","v":""},null,{"$f":"IF(AJ151=\"\",\"\",AJ151)","v":""},null,{"$f":"IF(AL151=\"\",\"\",AL151)","v":""},null,null,{"$f":"IF(AO151=\"\",\"\",AO151)","v":""},null,null,{"$f":"IF(AR151=\"\",\"\",AR151)","v":""},null,null,null,null,{"$f":"IF(AW151=\"\",\"\",AW151)","v":""}]
[]
[]
[]
[null,null,null,null,null,null,null,null,null,null,null,null,null,null,null,null,null,{"$f":"IF(R155=\"\",\"\",R155)","v":""},null,{"$f":"IF(T155=\"\",\"\",T155)","v":""},null,{"$f":"IF(V155=\"\",\"\",V155)","v":""},null,{"$f":"IF(X155=\"\",\"\",X155)","v":""},null,{"$f":"IF(Z155=\"\",\"\",Z155)","v":""},null,{"$f":"IF(AB155=\"\",\"\",AB155)","v":""},null,{"$f":"IF(AD155=\"\",\"\",AD155)","v":""},null,{"$f":"IF(AF155=\"\",\"\",AF155)","v":""},null,{"$f":"IF(AH155=\"\",\"\",AH155)","v":""},null,{"$f":"IF(AJ155=\"\",\"\",AJ155)","v":""},null,{"$f":"IF(AL155=\"\",\"\",AL155)","v":""},null,null,{"$f":"IF(AO155=\"\",\"\",AO155)","v":""},null,null,{"$f":"IF(AR155=\"\",\"\",AR155)","v":""},null,null,null,null,{"$f":"IF(AW155=\"\",\"\",AW155)","v":""}]
[]
[]
[]
[null,null,null,null,null,null,null,null,null,null,null,null,null,null,null,null,null,{"$f":"IF(R159=\"\",\"\",R159)","v":""},null,{"$f":"IF(T159=\"\",\"\",T159)","v":""},null,{"$f":"IF(V159=\"\",\"\",V159)","v":""},null,{"$f":"IF(X159=\"\",\"\",X159)","v":""},null,{"$f":"IF(Z159=\"\",\"\",Z159)","v":""},null,{"$f":"IF(AB159=\"\",\"\",AB159)","v":""},null,{"$f":"IF(AD159=\"\",\"\",AD159)","v":""},null,{"$f":"IF(AF159=\"\",\"\",AF159)","v":""},null,{"$f":"IF(AH159=\"\",\"\",AH159)","v":""},null,{"$f":"IF(AJ159=\"\",\"\",AJ159)","v":""},null,{"$f":"IF(AL159=\"\",\"\",AL159)","v":""},null,null,{"$f":"IF(AO159=\"\",\"\",AO159)","v":""},null,null,{"$f":"IF(AR159=\"\",\"\",AR159)","v":""},null,null,null,null,{"$f":"IF(AW159=\"\",\"\",AW159)","v":""}]
[]
[]
[]
[null,null,null,null,null,null,null,null,null,null,null,null,null,null,null,null,null,{"$f":"IF(R163=\"\",\"\",R163)","v":""},null,{"$f":"IF(T163=\"\",\"\",T163)","v":""},null,{"$f":"IF(V163=\"\",\"\",V163)","v":""},null,{"$f":"IF(X163=\"\",\"\",X163)","v":""},null,{"$f":"IF(Z163=\"\",\"\",Z163)","v":""},null,{"$f":"IF(AB163=\"\",\"\",AB163)","v":""},null,{"$f":"IF(AD163=\"\",\"\",AD163)","v":""},null,{"$f":"IF(AF163=\"\",\"\",AF163)","v":""},null,{"$f":"IF(AH163=\"\",\"\",AH163)","v":""},null,{"$f":"IF(AJ163=\"\",\"\",AJ163)","v":""},null,{"$f":"IF(AL163=\"\",\"\",AL163)","v":""},null,null,{"$f":"IF(AO163=\"\",\"\",AO163)","v":""},null,null,{"$f":"IF(AR163=\"\",\"\",AR163)","v":""},null,null,null,null,{"$f":"IF(AW163=\"\",\"\",AW163)","v":""}]
[]
[]
[]
[null,null,null,null,null,null,null,null,null,null,null,null,null,null,null,null,null,{"$f":"IF(R167=\"\",\"\",R167)","v":""},null,{"$f":"IF(T167=\"\",\"\",T167)","v":""},null,{"$f":"IF(V167=\"\",\"\",V167)","v":""},null,{"$f":"IF(X167=\"\",\"\",X167)","v":""},null,{"$f":"IF(Z167=\"\",\"\",Z167)","v":""},null,{"$f":"IF(AB167=\"\",\"\",AB167)","v":""},null,{"$f":"IF(AD167=\"\",\"\",AD167)","v":""},null,{"$f":"IF(AF167=\"\",\"\",AF167)","v":""},null,{"$f":"IF(AH167=\"\",\"\",AH167)","v":""},null,{"$f":"IF(AJ167=\"\",\"\",AJ167)","v":""},null,{"$f":"IF(AL167=\"\",\"\",AL167)","v":""},null,null,{"$f":"IF(AO167=\"\",\"\",AO167)","v":""},null,null,{"$f":"IF(AR167=\"\",\"\",AR167)","v":""},null,null,null,null,{"$f":"IF(AW167=\"\",\"\",AW167)","v":""}]
[]
[]
[]
[null,null,null,null,null,null,null,null,null,null,null,null,null,null,null,null,null,{"$f":"IF(R171=\"\",\"\",R171)","v":""},null,{"$f":"IF(T171=\"\",\"\",T171)","v":""},null,{"$f":"IF(V171=\"\",\"\",V171)","v":""},null,{"$f":"IF(X171=\"\",\"\",X171)","v":""},null,{"$f":"IF(Z171=\"\",\"\",Z171)","v":""},null,{"$f":"IF(AB171=\"\",\"\",AB171)","v":""},null,{"$f":"IF(AD171=\"\",\"\",AD171)","v":""},null,{"$f":"IF(AF171=\"\",\"\",AF171)","v":""},null,{"$f":"IF(AH171=\"\",\"\",AH171)","v":""},null,{"$f":"IF(AJ171=\"\",\"\",AJ171)","v":""},null,{"$f":"IF(AL171=\"\",\"\",AL171)","v":""},null,null,{"$f":"IF(AO171=\"\",\"\",AO171)","v":""},null,null,{"$f":"IF(AR171=\"\",\"\",AR171)","v":""},null,null,null,null,{"$f":"IF(AW171=\"\",\"\",AW171)","v":""}]
[]
[]
[]
[null,null,null,null,null,null,null,null,null,null,null,null,null,null,null,null,null,null,null,null,null,null,null,null,null,null,null,null,null,null,null,null,null,null,null,null,null,{"$f":"AL175","v":"金額(税抜)"},null,null,null,null,null,null,null,null,null,null,{"$f":"AW83","v":""}]
[]
[]
[]
[]
[null,null,null,null,null,null,null,null,null,null,null,null,null,null,null,null,null,null,null,null,null,null,null,null,null,null,null,null,null,null,null,null,null,null,null,null,null,{"$f":"AL180","v":"消費税"},null,null,null,null,null,"税率",null,null,"税調",null,{"$f":"AW88","v":""}]
[]
[null,null,null,null,null,null,null,null,null,null,null,null,null,null,null,null,null,null,null,null,null,null,null,null,null,null,null,null,null,null,null,null,null,null,null,null,null,null,null,null,null,null,null,{"$f":"AR90","v":0},null,{"$f":"AT90","v":""}]

{"sheet":"細3-8","index":35,"n_rows":274,"n_cols":53,"rows_kept":274,"cut":false,"hidden":false,"merged":[[266,37,269,47],[266,48,269,54],[271,48,274,54],[258,48,261,54],[262,17,265,18],[262,19,265,20],[262,21,265,36],[262,37,265,39],[262,40,265,42],[262,43,265,47],[262,48,265,54],[258,17,261,18],[258,19,261,20],[258,21,261,36],[258,37,261,39],[258,40,261,42],[258,43,261,47],[271,37,274,42],[271,43,272,45],[273,43,274,44],[273,45,274,45],[273,46,274,47],[271,46,272,47],[250,48,253,54],[254,17,257,18],[254,19,257,20],[254,21,257,36],[254,37,257,39],[254,40,257,42],[254,43,257,47],[254,48,257,54],[250,17,253,18],[250,19,253,20],[250,21,253,36],[250,37,253,39],[250,40,253,42],[250,43,253,47],[242,48,245,54],[246,17,249,18],[246,19,249,20],[246,21,249,36],[246,37,249,39],[246,40,249,42],[246,43,249,47],[246,48,249,54],[242,17,245,18],[242,19,245,20],[242,21,245,36],[242,37,245,39],[242,40,245,42],[242,43,245,47],[234,48,237,54],[238,17,241,18],[238,19,241,20],[238,21,241,36],[238,37,241,39],[238,40,241,42],[238,43,241,47],[238,48,241,54],[234,17,237,18],[234,19,237,20],[234,21,237,36],[234,37,237,39],[234,40,237,42],[234,43,237,47],[222,17,225,18],[222,19,225,20],[222,21,225,36],[222,37,225,39],[222,40,225,42],[222,43,225,47],[222,48,225,54],[226,48,229,54],[230,17,233,18],[230,19,233,20],[230,21,233,36],[230,37,233,39],[230,40,233,42],[230,43,233,47],[230,48,233,54],[226,17,229,18],[226,19,229,20],[226,21,229,36],[226,37,229,39],[226,40,229,42],[226,43,229,47],[218,1,221,5],[218,6,221,15],[218,17,221,18],[218,19,221,20],[218,21,221,36],[218,37,221,39],[218,40,221,42],[218,43,221,47],[218,48,221,54],[210,40,213,42],[210,43,213,47],[210,48,213,54],[214,1,217,3],[214,4,217,5],[214,6,217,15],[214,17,217,18],[214,19,217,20],[214,21,217,36],[214,37,217,39],[210,1,213,5],[210,6,213,15],[210,17,213,18],[210,19,213,20],[210,21,213,36],[210,37,213,39],[214,40,217,42],[214,43,217,47],[214,48,217,54],[206,1,209,5],[206,6,209,15],[206,17,209,18],[206,19,209,20],[206,21,209,36],[206,37,209,39],[206,40,209,42],[206,43,209,47],[206,48,209,54],[198,43,201,47],[198,48,201,54],[202,1,205,5],[202,6,205,15],[202,17,205,18],[202,19,205,20],[202,21,205,36],[202,37,205,39],[202,40,205,42],[202,43,205,47],[198,1,201,5],[198,6,201,15],[198,17,201,20],[198,21,201,36],[198,37,201,39],[198,40,201,42],[202,48,205,54],[187,52,189,54],[192,1,195,5],[192,6,195,11],[192,12,195,15],[192,16,195,35],[192,37,195,40],[192,41,195,54],[174,37,177,47],[174,48,177,54],[179,48,182,54],[185,19,188,32],[186,1,189,11],[186,12,189,13],[187,40,189,44],[187,45,189,48],[187,49,189,51],[179,37,182,42],[179,43,180,45],[179,46,180,47],[181,43,182,44],[181,45,182,45],[181,46,182,47],[166,48,169,54],[170,17,173,18],[170,19,173,20],[170,21,173,36],[170,37,173,39],[170,40,173,42],[170,43,173,47],[170,48,173,54],[166,17,169,18],[166,19,169,20],[166,21,169,36],[166,37,169,39],[166,40,169,42],[166,43,169,47],[158,48,161,54],[162,17,165,18],[162,19,165,20],[162,21,165,36],[162,37,165,39],[162,40,165,42],[162,43,165,47],[162,48,165,54],[158,17,161,18],[158,19,161,20],[158,21,161,36],[158,37,161,39],[158,40,161,42],[158,43,161,47],[150,48,153,54],[154,17,157,18],[154,19,157,20],[154,21,157,36],[154,37,157,39],[154,40,157,42],[154,43,157,47],[154,48,157,54],[150,17,153,18],[150,19,153,20],[150,21,153,36],[150,37,153,39],[150,40,153,42],[150,43,153,47],[142,48,145,54],[146,17,149,18],[146,19,149,20],[146,21,149,36],[146,37,149,39],[146,40,149,42],[146,43,149,47],[146,48,149,54],[142,17,145,18],[142,19,145,20],[142,21,145,36],[142,37,145,39],[142,40,145,42],[142,43,145,47],[130,17,133,18],[130,19,133,20],[130,21,133,36],[130,37,133,39],[130,40,133,42],[130,43,133,47],[130,48,133,54],[134,48,137,54],[138,17,141,18],[138,19,141,20],[138,21,141,36],[138,37,141,39],[138,40,141,42],[138,43,141,47],[138,48,141,54],[134,17,137,18],[134,19,137,20],[134,21,137,36],[134,37,137,39],[134,40,137,42],[134,43,137,47],[126,1,129,5],[126,6,129,15],[126,17,129,18],[126,19,129,20],[126,21,129,36],[126,37,129,39],[126,40,129,42],[126,43,129,47],[126,48,129,54],[118,40,121,42],[118,43,121,47],[118,48,121,54],[122,1,125,3],[122,4,125,5],[122,6,125,15],[122,17,125,18],[122,19,125,20],[122,21,125,36],[122,37,125,39],[118,1,121,5],[118,6,121,15],[118,17,121,18],[118,19,121,20],[118,21,121,36],[118,37,121,39],[122,40,125,42],[122,43,125,47],[122,48,125,54],[114,1,117,5],[114,6,117,15],[114,17,117,18],[114,19,117,20],[114,21,117,36],[114,37,117,39],[114,40,117,42],[114,43,117,47],[114,48,117,54],[106,43,109,47],[106,48,109,54],[110,1,113,5],[110,6,113,15],[110,17,113,18],[110,19,113,20],[110,21,113,36],[110,37,113,39],[110,40,113,42],[110,43,113,47],[106,1,109,5],[106,6,109,15],[106,17,109,20],[106,21,109,36],[106,37,109,39],[106,40,109,42],[110,48,113,54],[95,52,97,54],[100,1,103,5],[100,6,103,11],[100,12,103,15],[100,16,103,35],[100,37,103,40],[100,41,103,54],[93,19,96,32],[94,1,97,11],[94,12,97,13],[95,40,97,44],[95,45,97,48],[95,49,97,51],[85,11,90,16],[85,17,90,25],[85,26,90,30],[85,31,90,35],[87,48,90,54],[82,37,85,47],[82,48,85,54],[83,1,84,4],[83,5,84,10],[83,11,84,16],[83,17,84,25],[83,26,84,30],[83,31,84,35],[85,1,90,4],[85,5,90,10],[87,37,90,42],[87,43,88,45],[89,43,90,44],[89,45,90,45],[89,46,90,47],[87,46,88,47],[74,48,77,54],[78,17,81,18],[78,19,81,20],[78,21,81,36],[78,37,81,39],[78,40,81,42],[78,43,81,47],[78,48,81,54],[74,17,77,18],[74,19,77,20],[74,21,77,36],[74,37,77,39],[74,40,77,42],[74,43,77,47],[66,48,69,54],[70,17,73,18],[70,19,73,20],[70,21,73,36],[70,37,73,39],[70,40,73,42],[70,43,73,47],[70,48,73,54],[66,17,69,18],[66,19,69,20],[66,21,69,36],[66,37,69,39],[66,40,69,42],[66,43,69,47],[58,48,61,54],[62,17,65,18],[62,19,65,20],[62,21,65,36],[62,37,65,39],[62,40,65,42],[62,43,65,47],[62,48,65,54],[58,17,61,18],[58,19,61,20],[58,21,61,36],[58,37,61,39],[58,40,61,42],[58,43,61,47],[50,48,53,54],[54,17,57,18],[54,19,57,20],[54,21,57,36],[54,37,57,39],[54,40,57,42],[54,43,57,47],[54,48,57,54],[50,17,53,18],[50,19,53,20],[50,21,53,36],[50,37,53,39],[50,40,53,42],[50,43,53,47],[38,17,41,18],[38,19,41,20],[38,21,41,36],[38,37,41,39],[38,40,41,42],[38,43,41,47],[38,48,41,54],[42,48,45,54],[46,17,49,18],[46,19,49,20],[46,21,49,36],[46,37,49,39],[46,40,49,42],[46,43,49,47],[46,48,49,54],[42,17,45,18],[42,19,45,20],[42,21,45,36],[42,37,45,39],[42,40,45,42],[42,43,45,47],[34,1,37,5],[34,6,37,15],[34,17,37,18],[34,19,37,20],[34,21,37,36],[34,37,37,39],[34,40,37,42],[34,43,37,47],[34,48,37,54],[26,40,29,42],[26,43,29,47],[26,48,29,54],[30,1,33,3],[30,4,33,5],[30,6,33,15],[30,17,33,18],[30,19,33,20],[30,21,33,36],[30,37,33,39],[26,1,29,5],[26,6,29,15],[26,17,29,18],[26,19,29,20],[26,21,29,36],[26,37,29,39],[30,40,33,42],[30,43,33,47],[30,48,33,54],[22,1,25,5],[22,6,25,15],[22,17,25,18],[22,19,25,20],[22,21,25,36],[22,37,25,39],[22,40,25,42],[22,43,25,47],[22,48,25,54],[14,43,17,47],[14,48,17,54],[18,1,21,5],[18,6,21,15],[18,17,21,18],[18,19,21,20],[18,21,21,36],[18,37,21,39],[18,40,21,42],[18,43,21,47],[14,1,17,5],[14,6,17,15],[14,17,17,20],[14,21,17,36],[14,37,17,39],[14,40,17,42],[18,48,21,54],[3,52,5,54],[8,1,11,5],[8,6,11,11],[8,12,11,15],[8,16,11,35],[8,37,11,40],[8,41,11,54],[1,19,4,32],[2,1,5,11],[2,12,5,13],[3,40,5,44],[3,45,5,48],[3,49,5,51]]}
[]
[null,null,null,null,null,null,null,null,null,null,null,null,null,null,null,null,null,null,null,"請求書明細書 (正)"]
[null,"株 式 会 社 種 村 建 設",null,null,null,null,null,null,null,null,null,null,"御中"]
[null,null,null,null,null,null,null,null,null,null,null,null,null,null,null,null,null,null,null,null,null,null,null,null,null,null,null,null,null,null,null,null,null,null,null,null,null,null,null,null,"請求年月日",null,null,null,null,{"$f":"IF(年=\"\",\"\",年)","v":""},null,null,null,{"$f":"IF(月=\"\",\"\",月)","v":""},null,null,{"$f":"IF(日=\"\",\"\",日)","v":""}]
[]
[]
[]
[]
[null,"工事番号",null,null,null,null,null,null,null,null,null,null,"工事名",null,null,null,null,null,null,null,null,null,null,null,null,null,null,null,null,null,null,null,null,null,null,null,null,"業者名",null,null,null,{"$f":"IF(社名=\"\",\"\",社名)","v":""}]
[]
[]
[]
[]
[]
[null,"注文番号",null,null,null,null,null,null,null,null,null,null,null,null,null,null,null,"月　日",null,null,null,"品　名・内　訳",null,null,null,null,null,null,null,null,null,null,null,null,null,null,null,"数 量",null,null,"単位",null,null,"単価",null,null,null,null,{"$f":"表紙①!P35","v":"金額(税抜)"}]
[]
[]
[]
[null,"契約金額",null,null,null,null,null,null,null,null,null,null,null,null,null,null,null,null,null,null,null,null,null,null,null,null,null,null,null,null,null,null,null,null,null,null,null,null,null,null,null,null,null,null,null,null,null,null,{"$f":"IF(V19=\"\",\"\",ROUND(AL19*AR19,0))","v":""}]
[]
[]
[]
[null,"増減額",null,null,null,null,null,null,null,null,null,null,null,null,null,null,null,null,null,null,null,null,null,null,null,null,null,null,null,null,null,null,null,null,null,null,null,null,null,null,null,null,null,null,null,null,null,null,{"$f":"IF(V23=\"\",\"\",ROUND(AL23*AR23,0))","v":""}]
[]
[]
[]
[null,"前回までの\n請求額",null,null,null,null,null,null,null,null,null,null,null,null,null,null,null,null,null,null,null,null,null,null,null,null,null,null,null,null,null,null,null,null,null,null,null,null,null,null,null,null,null,null,null,null,null,null,{"$f":"IF(V27=\"\",\"\",ROUND(AL27*AR27,0))","v":""}]
[]
[]
[]
[null,"今回\n請求額",null,null,null,null,null,null,null,null,null,null,null,null,null,null,null,null,null,null,null,null,null,null,null,null,null,null,null,null,null,null,null,null,null,null,null,null,null,null,null,null,null,null,null,null,null,null,{"$f":"IF(V31=\"\",\"\",ROUND(AL31*AR31,0))","v":""}]
[]
[]
[]
[null,"差引残高",null,null,null,null,{"$f":"IF(G19=\"\",\"\",G19+G23-G27-G31)","v":""},null,null,null,null,null,null,null,null,null,null,null,null,null,null,null,null,null,null,null,null,null,null,null,null,null,null,null,null,null,null,null,null,null,null,null,null,null,null,null,null,null,{"$f":"IF(V35=\"\",\"\",ROUND(AL35*AR35,0))","v":""}]
[]
[]
[]
[null,null,null,null,null,null,null,null,null,null,null,null,null,null,null,null,null,null,null,null,null,null,null,null,null,null,null,null,null,null,null,null,null,null,null,null,null,null,null,null,null,null,null,null,null,null,null,null,{"$f":"IF(V39=\"\",\"\",ROUND(AL39*AR39,0))","v":""}]
[]
[]
[]
[null,null,null,null,null,null,null,null,null,null,null,null,null,null,null,null,null,null,null,null,null,null,null,null,null,null,null,null,null,null,null,null,null,null,null,null,null,null,null,null,null,null,null,null,null,null,null,null,{"$f":"IF(V43=\"\",\"\",ROUND(AL43*AR43,0))","v":""}]
[]
[]
[]
[null,null,null,null,null,null,null,null,null,null,null,null,null,null,null,null,null,null,null,null,null,null,null,null,null,null,null,null,null,null,null,null,null,null,null,null,null,null,null,null,null,null,null,null,null,null,null,null,{"$f":"IF(V47=\"\",\"\",ROUND(AL47*AR47,0))","v":""}]
[]
[]
[]
[null,null,null,null,null,null,null,null,null,null,null,null,null,null,null,null,null,null,null,null,null,null,null,null,null,null,null,null,null,null,null,null,null,null,null,null,null,null,null,null,null,null,null,null,null,null,null,null,{"$f":"IF(V51=\"\",\"\",ROUND(AL51*AR51,0))","v":""}]
[]
[]
[]
[null,null,null,null,null,null,null,null,null,null,null,null,null,null,null,null,null,null,null,null,null,null,null,null,null,null,null,null,null,null,null,null,null,null,null,null,null,null,null,null,null,null,null,null,null,null,null,null,{"$f":"IF(V55=\"\",\"\",ROUND(AL55*AR55,0))","v":""}]
[]
[]
[]
[null,null,null,null,null,null,null,null,null,null,null,null,null,null,null,null,null,null,null,null,null,null,null,null,null,null,null,null,null,null,null,null,null,null,null,null,null,null,null,null,null,null,null,null,null,null,null,null,{"$f":"IF(V59=\"\",\"\",ROUND(AL59*AR59,0))","v":""}]
[]
[]
[]
[null,null,null,null,null,null,null,null,null,null,null,null,null,null,null,null,null,null,null,null,null,null,null,null,null,null,null,null,null,null,null,null,null,null,null,null,null,null,null,null,null,null,null,null,null,null,null,null,{"$f":"IF(V63=\"\",\"\",ROUND(AL63*AR63,0))","v":""}]
[]
[]
[]
[null,null,null,null,null,null,null,null,null,null,null,null,null,null,null,null,null,null,null,null,null,null,null,null,null,null,null,null,null,null,null,null,null,null,null,null,null,null,null,null,null,null,null,null,null,null,null,null,{"$f":"IF(V67=\"\",\"\",ROUND(AL67*AR67,0))","v":""}]
[]
[]
[]
[null,null,null,null,null,null,null,null,null,null,null,null,null,null,null,null,null,null,null,null,null,null,null,null,null,null,null,null,null,null,null,null,null,null,null,null,null,null,null,null,null,null,null,null,null,null,null,null,{"$f":"IF(V71=\"\",\"\",ROUND(AL71*AR71,0))","v":""}]
[]
[]
[]
[null,null,null,null,null,null,null,null,null,null,null,null,null,null,null,null,null,null,null,null,null,null,null,null,null,null,null,null,null,null,null,null,null,null,null,null,null,null,null,null,null,null,null,null,null,null,null,null,{"$f":"IF(V75=\"\",\"\",ROUND(AL75*AR75,0))","v":""}]
[]
[]
[]
[null,null,null,null,null,null,null,null,null,null,null,null,null,null,null,null,null,null,null,null,null,null,null,null,null,null,null,null,null,null,null,null,null,null,null,null,null,null,null,null,null,null,null,null,null,null,null,null,{"$f":"IF(V79=\"\",\"\",ROUND(AL79*AR79,0))","v":""}]
[]
[]
[]
[null,null,null,null,null,null,null,null,null,null,null,null,null,null,null,null,null,null,null,null,null,null,null,null,null,null,null,null,null,null,null,null,null,null,null,null,null,"金額(税抜)",null,null,null,null,null,null,null,null,null,null,{"$f":"IF(AW19=\"\",\"\",SUM(AW19:AW79))","v":""}]
[null,"社長",null,null,null,"専務",null,null,null,null,null,"常務",null,null,null,null,null,"部長･工場長",null,null,null,null,null,null,null,null,"担当者",null,null,null,null,"受付"]
[]
[]
[]
[null,null,null,null,null,null,null,null,null,null,null,null,null,null,null,null,null,null,null,null,null,null,null,null,null,null,null,null,null,null,null,null,null,null,null,null,null,"消費税",null,null,null,null,null,"税率",null,null,"税調",null,{"$f":"IF(AW83=\"\",\"\",IF(AR90=\"\",\"\",IF(AR90=8.1,ROUND(AW83*8/100,0)+AU90,ROUND(AW83*AR90/100,0)+AU90)))","v":""}]
[]
[null,null,null,null,null,null,null,null,null,null,null,null,null,null,null,null,null,null,null,null,null,null,null,null,null,null,null,null,null,null,null,null,null,null,null,null,null,null,null,null,null,null,null,null,null,{"$f":"IF(AR90=\"\",\"\",IF(AR90=8.1,\"旧\",IF(AR90=8,\"軽\",IF(AR90=0,\"非\",\"\"))))","v":""}]
[]
[]
[]
[null,null,null,null,null,null,null,null,null,null,null,null,null,null,null,null,null,null,null,"請求明細書 (現場控)"]
[null,"株 式 会 社 種 村 建 設",null,null,null,null,null,null,null,null,null,null,"御中"]
[null,null,null,null,null,null,null,null,null,null,null,null,null,null,null,null,null,null,null,null,null,null,null,null,null,null,null,null,null,null,null,null,null,null,null,null,null,null,null,null,"請求年月日",null,null,null,null,{"$f":"IF(AT4=\"\",\"\",AT4)","v":""},null,null,null,{"$f":"IF(AX4=\"\",\"\",AX4)","v":""},null,null,{"$f":"IF(BA4=\"\",\"\",BA4)","v":""}]
[]
[]
[]
[]
[null,"工事番号",null,null,null,null,{"$f":"IF(G9=\"\",\"\",G9)","v":""},null,null,null,null,null,"工事名",null,null,null,{"$f":"IF(Q9=\"\",\"\",Q9)","v":""},null,null,null,null,null,null,null,null,null,null,null,null,null,null,null,null,null,null,null,null,"業者名",null,null,null,{"$f":"IF(AP9=\"\",\"\",AP9)","v":""}]
[]
[]
[]
[]
[]
[null,"注文番号",null,null,null,null,{"$f":"IF(G15=\"\",\"\",G15)","v":""},null,null,null,null,null,null,null,null,null,null,"月　日",null,null,null,"品　名・内　訳",null,null,null,null,null,null,null,null,null,null,null,null,null,null,null,"数 量",null,null,"単位",null,null,"単価",null,null,null,null,{"$f":"AW15","v":"金額(税抜)"}]
[]
[]
[]
[null,"契約金額",null,null,null,null,{"$f":"IF(G19=\"\",\"\",G19)","v":""},null,null,null,null,null,null,null,null,null,null,{"$f":"IF(R19=\"\",\"\",R19)","v":""},null,{"$f":"IF(T19=\"\",\"\",T19)","v":""},null,{"$f":"IF(V19=\"\",\"\",V19)","v":""},null,{"$f":"IF(X19=\"\",\"\",X19)","v":""},null,{"$f":"IF(Z19=\"\",\"\",Z19)","v":""},null,{"$f":"IF(AB19=\"\",\"\",AB19)","v":""},null,{"$f":"IF(AD19=\"\",\"\",AD19)","v":""},null,{"$f":"IF(AF19=\"\",\"\",AF19)","v":""},null,{"$f":"IF(AH19=\"\",\"\",AH19)","v":""},null,{"$f":"IF(AJ19=\"\",\"\",AJ19)","v":""},null,{"$f":"IF(AL19=\"\",\"\",AL19)","v":""},null,null,{"$f":"IF(AO19=\"\",\"\",AO19)","v":""},null,null,{"$f":"IF(AR19=\"\",\"\",AR19)","v":""},null,null,null,null,{"$f":"IF(AW19=\"\",\"\",AW19)","v":""}]
[]
[]
[]
[null,"増減額",null,null,null,null,{"$f":"IF(G23=\"\",\"\",G23)","v":""},null,null,null,null,null,null,null,null,null,null,{"$f":"IF(R23=\"\",\"\",R23)","v":""},null,{"$f":"IF(T23=\"\",\"\",T23)","v":""},null,{"$f":"IF(V23=\"\",\"\",V23)","v":""},null,{"$f":"IF(X23=\"\",\"\",X23)","v":""},null,{"$f":"IF(Z23=\"\",\"\",Z23)","v":""},null,{"$f":"IF(AB23=\"\",\"\",AB23)","v":""},null,{"$f":"IF(AD23=\"\",\"\",AD23)","v":""},null,{"$f":"IF(AF23=\"\",\"\",AF23)","v":""},null,{"$f":"IF(AH23=\"\",\"\",AH23)","v":""},null,{"$f":"IF(AJ23=\"\",\"\",AJ23)","v":""},null,{"$f":"IF(AL23=\"\",\"\",AL23)","v":""},null,null,{"$f":"IF(AO23=\"\",\"\",AO23)","v":""},null,null,{"$f":"IF(AR23=\"\",\"\",AR23)","v":""},null,null,null,null,{"$f":"IF(AW23=\"\",\"\",AW23)","v":""}]
[]
[]
[]
[null,"前回までの\n請求額",null,null,null,null,{"$f":"IF(G27=\"\",\"\",G27)","v":""},null,null,null,null,null,null,null,null,null,null,{"$f":"IF(R27=\"\",\"\",R27)","v":""},null,{"$f":"IF(T27=\"\",\"\",T27)","v":""},null,{"$f":"IF(V27=\"\",\"\",V27)","v":""},null,{"$f":"IF(X27=\"\",\"\",X27)","v":""},null,{"$f":"IF(Z27=\"\",\"\",Z27)","v":""},null,{"$f":"IF(AB27=\"\",\"\",AB27)","v":""},null,{"$f":"IF(AD27=\"\",\"\",AD27)","v":""},null,{"$f":"IF(AF27=\"\",\"\",AF27)","v":""},null,{"$f":"IF(AH27=\"\",\"\",AH27)","v":""},null,{"$f":"IF(AJ27=\"\",\"\",AJ27)","v":""},null,{"$f":"IF(AL27=\"\",\"\",AL27)","v":""},null,null,{"$f":"IF(AO27=\"\",\"\",AO27)","v":""},null,null,{"$f":"IF(AR27=\"\",\"\",AR27)","v":""},null,null,null,null,{"$f":"IF(AW27=\"\",\"\",AW27)","v":""}]
[]
[]
[]
[null,"今回\n請求額",null,null,{"$f":"IF(E31=\"\",\"\",E31)","v":""},null,{"$f":"IF(G31=\"\",\"\",G31)","v":""},null,null,null,null,null,null,null,null,null,null,{"$f":"IF(R31=\"\",\"\",R31)","v":""},null,{"$f":"IF(T31=\"\",\"\",T31)","v":""},null,{"$f":"IF(V31=\"\",\"\",V31)","v":""},null,{"$f":"IF(X31=\"\",\"\",X31)","v":""},null,{"$f":"IF(Z31=\"\",\"\",Z31)","v":""},null,{"$f":"IF(AB31=\"\",\"\",AB31)","v":""},null,{"$f":"IF(AD31=\"\",\"\",AD31)","v":""},null,{"$f":"IF(AF31=\"\",\"\",AF31)","v":""},null,{"$f":"IF(AH31=\"\",\"\",AH31)","v":""},null,{"$f":"IF(AJ31=\"\",\"\",AJ31)","v":""},null,{"$f":"IF(AL31=\"\",\"\",AL31)","v":""},null,null,{"$f":"IF(AO31=\"\",\"\",AO31)","v":""},null,null,{"$f":"IF(AR31=\"\",\"\",AR31)","v":""},null,null,null,null,{"$f":"IF(AW31=\"\",\"\",AW31)","v":""}]
[]
[]
[]
[null,"差引残高",null,null,null,null,{"$f":"IF(G111=\"\",\"\",G111+G115-G119-G123)","v":""},null,null,null,null,null,null,null,null,null,null,{"$f":"IF(R35=\"\",\"\",R35)","v":""},null,{"$f":"IF(T35=\"\",\"\",T35)","v":""},null,{"$f":"IF(V35=\"\",\"\",V35)","v":""},null,{"$f":"IF(X35=\"\",\"\",X35)","v":""},null,{"$f":"IF(Z35=\"\",\"\",Z35)","v":""},null,{"$f":"IF(AB35=\"\",\"\",AB35)","v":""},null,{"$f":"IF(AD35=\"\",\"\",AD35)","v":""},null,{"$f":"IF(AF35=\"\",\"\",AF35)","v":""},null,{"$f":"IF(AH35=\"\",\"\",AH35)","v":""},null,{"$f":"IF(AJ35=\"\",\"\",AJ35)","v":""},null,{"$f":"IF(AL35=\"\",\"\",AL35)","v":""},null,null,{"$f":"IF(AO35=\"\",\"\",AO35)","v":""},null,null,{"$f":"IF(AR35=\"\",\"\",AR35)","v":""},null,null,null,null,{"$f":"IF(AW35=\"\",\"\",AW35)","v":""}]
[]
[]
[]
[null,null,null,null,null,null,null,null,null,null,null,null,null,null,null,null,null,{"$f":"IF(R39=\"\",\"\",R39)","v":""},null,{"$f":"IF(T39=\"\",\"\",T39)","v":""},null,{"$f":"IF(V39=\"\",\"\",V39)","v":""},null,{"$f":"IF(X39=\"\",\"\",X39)","v":""},null,{"$f":"IF(Z39=\"\",\"\",Z39)","v":""},null,{"$f":"IF(AB39=\"\",\"\",AB39)","v":""},null,{"$f":"IF(AD39=\"\",\"\",AD39)","v":""},null,{"$f":"IF(AF39=\"\",\"\",AF39)","v":""},null,{"$f":"IF(AH39=\"\",\"\",AH39)","v":""},null,{"$f":"IF(AJ39=\"\",\"\",AJ39)","v":""},null,{"$f":"IF(AL39=\"\",\"\",AL39)","v":""},null,null,{"$f":"IF(AO39=\"\",\"\",AO39)","v":""},null,null,{"$f":"IF(AR39=\"\",\"\",AR39)","v":""},null,null,null,null,{"$f":"IF(AW39=\"\",\"\",AW39)","v":""}]
[]
[]
[]
[null,null,null,null,null,null,null,null,null,null,null,null,null,null,null,null,null,{"$f":"IF(R43=\"\",\"\",R43)","v":""},null,{"$f":"IF(T43=\"\",\"\",T43)","v":""},null,{"$f":"IF(V43=\"\",\"\",V43)","v":""},null,{"$f":"IF(X43=\"\",\"\",X43)","v":""},null,{"$f":"IF(Z43=\"\",\"\",Z43)","v":""},null,{"$f":"IF(AB43=\"\",\"\",AB43)","v":""},null,{"$f":"IF(AD43=\"\",\"\",AD43)","v":""},null,{"$f":"IF(AF43=\"\",\"\",AF43)","v":""},null,{"$f":"IF(AH43=\"\",\"\",AH43)","v":""},null,{"$f":"IF(AJ43=\"\",\"\",AJ43)","v":""},null,{"$f":"IF(AL43=\"\",\"\",AL43)","v":""},null,null,{"$f":"IF(AO43=\"\",\"\",AO43)","v":""},null,null,{"$f":"IF(AR43=\"\",\"\",AR43)","v":""},null,null,null,null,{"$f":"IF(AW43=\"\",\"\",AW43)","v":""}]
[]
[]
[]
[null,null,null,null,null,null,null,null,null,null,null,null,null,null,null,null,null,{"$f":"IF(R47=\"\",\"\",R47)","v":""},null,{"$f":"IF(T47=\"\",\"\",T47)","v":""},null,{"$f":"IF(V47=\"\",\"\",V47)","v":""},null,{"$f":"IF(X47=\"\",\"\",X47)","v":""},null,{"$f":"IF(Z47=\"\",\"\",Z47)","v":""},null,{"$f":"IF(AB47=\"\",\"\",AB47)","v":""},null,{"$f":"IF(AD47=\"\",\"\",AD47)","v":""},null,{"$f":"IF(AF47=\"\",\"\",AF47)","v":""},null,{"$f":"IF(AH47=\"\",\"\",AH47)","v":""},null,{"$f":"IF(AJ47=\"\",\"\",AJ47)","v":""},null,{"$f":"IF(AL47=\"\",\"\",AL47)","v":""},null,null,{"$f":"IF(AO47=\"\",\"\",AO47)","v":""},null,null,{"$f":"IF(AR47=\"\",\"\",AR47)","v":""},null,null,null,null,{"$f":"IF(AW47=\"\",\"\",AW47)","v":""}]
[]
[]
[]
[null,null,null,null,null,null,null,null,null,null,null,null,null,null,null,null,null,{"$f":"IF(R51=\"\",\"\",R51)","v":""},null,{"$f":"IF(T51=\"\",\"\",T51)","v":""},null,{"$f":"IF(V51=\"\",\"\",V51)","v":""},null,{"$f":"IF(X51=\"\",\"\",X51)","v":""},null,{"$f":"IF(Z51=\"\",\"\",Z51)","v":""},null,{"$f":"IF(AB51=\"\",\"\",AB51)","v":""},null,{"$f":"IF(AD51=\"\",\"\",AD51)","v":""},null,{"$f":"IF(AF51=\"\",\"\",AF51)","v":""},null,{"$f":"IF(AH51=\"\",\"\",AH51)","v":""},null,{"$f":"IF(AJ51=\"\",\"\",AJ51)","v":""},null,{"$f":"IF(AL51=\"\",\"\",AL51)","v":""},null,null,{"$f":"IF(AO51=\"\",\"\",AO51)","v":""},null,null,{"$f":"IF(AR51=\"\",\"\",AR51)","v":""},null,null,null,null,{"$f":"IF(AW51=\"\",\"\",AW51)","v":""}]
[]
[]
[]
[null,null,null,null,null,null,null,null,null,null,null,null,null,null,null,null,null,{"$f":"IF(R55=\"\",\"\",R55)","v":""},null,{"$f":"IF(T55=\"\",\"\",T55)","v":""},null,{"$f":"IF(V55=\"\",\"\",V55)","v":""},null,{"$f":"IF(X55=\"\",\"\",X55)","v":""},null,{"$f":"IF(Z55=\"\",\"\",Z55)","v":""},null,{"$f":"IF(AB55=\"\",\"\",AB55)","v":""},null,{"$f":"IF(AD55=\"\",\"\",AD55)","v":""},null,{"$f":"IF(AF55=\"\",\"\",AF55)","v":""},null,{"$f":"IF(AH55=\"\",\"\",AH55)","v":""},null,{"$f":"IF(AJ55=\"\",\"\",AJ55)","v":""},null,{"$f":"IF(AL55=\"\",\"\",AL55)","v":""},null,null,{"$f":"IF(AO55=\"\",\"\",AO55)","v":""},null,null,{"$f":"IF(AR55=\"\",\"\",AR55)","v":""},null,null,null,null,{"$f":"IF(AW55=\"\",\"\",AW55)","v":""}]
[]
[]
[]
[null,null,null,null,null,null,null,null,null,null,null,null,null,null,null,null,null,{"$f":"IF(R59=\"\",\"\",R59)","v":""},null,{"$f":"IF(T59=\"\",\"\",T59)","v":""},null,{"$f":"IF(V59=\"\",\"\",V59)","v":""},null,{"$f":"IF(X59=\"\",\"\",X59)","v":""},null,{"$f":"IF(Z59=\"\",\"\",Z59)","v":""},null,{"$f":"IF(AB59=\"\",\"\",AB59)","v":""},null,{"$f":"IF(AD59=\"\",\"\",AD59)","v":""},null,{"$f":"IF(AF59=\"\",\"\",AF59)","v":""},null,{"$f":"IF(AH59=\"\",\"\",AH59)","v":""},null,{"$f":"IF(AJ59=\"\",\"\",AJ59)","v":""},null,{"$f":"IF(AL59=\"\",\"\",AL59)","v":""},null,null,{"$f":"IF(AO59=\"\",\"\",AO59)","v":""},null,null,{"$f":"IF(AR59=\"\",\"\",AR59)","v":""},null,null,null,null,{"$f":"IF(AW59=\"\",\"\",AW59)","v":""}]
[]
[]
[]
[null,null,null,null,null,null,null,null,null,null,null,null,null,null,null,null,null,{"$f":"IF(R63=\"\",\"\",R63)","v":""},null,{"$f":"IF(T63=\"\",\"\",T63)","v":""},null,{"$f":"IF(V63=\"\",\"\",V63)","v":""},null,{"$f":"IF(X63=\"\",\"\",X63)","v":""},null,{"$f":"IF(Z63=\"\",\"\",Z63)","v":""},null,{"$f":"IF(AB63=\"\",\"\",AB63)","v":""},null,{"$f":"IF(AD63=\"\",\"\",AD63)","v":""},null,{"$f":"IF(AF63=\"\",\"\",AF63)","v":""},null,{"$f":"IF(AH63=\"\",\"\",AH63)","v":""},null,{"$f":"IF(AJ63=\"\",\"\",AJ63)","v":""},null,{"$f":"IF(AL63=\"\",\"\",AL63)","v":""},null,null,{"$f":"IF(AO63=\"\",\"\",AO63)","v":""},null,null,{"$f":"IF(AR63=\"\",\"\",AR63)","v":""},null,null,null,null,{"$f":"IF(AW63=\"\",\"\",AW63)","v":""}]
[]
[]
[]
[null,null,null,null,null,null,null,null,null,null,null,null,null,null,null,null,null,{"$f":"IF(R67=\"\",\"\",R67)","v":""},null,{"$f":"IF(T67=\"\",\"\",T67)","v":""},null,{"$f":"IF(V67=\"\",\"\",V67)","v":""},null,{"$f":"IF(X67=\"\",\"\",X67)","v":""},null,{"$f":"IF(Z67=\"\",\"\",Z67)","v":""},null,{"$f":"IF(AB67=\"\",\"\",AB67)","v":""},null,{"$f":"IF(AD67=\"\",\"\",AD67)","v":""},null,{"$f":"IF(AF67=\"\",\"\",AF67)","v":""},null,{"$f":"IF(AH67=\"\",\"\",AH67)","v":""},null,{"$f":"IF(AJ67=\"\",\"\",AJ67)","v":""},null,{"$f":"IF(AL67=\"\",\"\",AL67)","v":""},null,null,{"$f":"IF(AO67=\"\",\"\",AO67)","v":""},null,null,{"$f":"IF(AR67=\"\",\"\",AR67)","v":""},null,null,null,null,{"$f":"IF(AW67=\"\",\"\",AW67)","v":""}]
[]
[]
[]
[null,null,null,null,null,null,null,null,null,null,null,null,null,null,null,null,null,{"$f":"IF(R71=\"\",\"\",R71)","v":""},null,{"$f":"IF(T71=\"\",\"\",T71)","v":""},null,{"$f":"IF(V71=\"\",\"\",V71)","v":""},null,{"$f":"IF(X71=\"\",\"\",X71)","v":""},null,{"$f":"IF(Z71=\"\",\"\",Z71)","v":""},null,{"$f":"IF(AB71=\"\",\"\",AB71)","v":""},null,{"$f":"IF(AD71=\"\",\"\",AD71)","v":""},null,{"$f":"IF(AF71=\"\",\"\",AF71)","v":""},null,{"$f":"IF(AH71=\"\",\"\",AH71)","v":""},null,{"$f":"IF(AJ71=\"\",\"\",AJ71)","v":""},null,{"$f":"IF(AL71=\"\",\"\",AL71)","v":""},null,null,{"$f":"IF(AO71=\"\",\"\",AO71)","v":""},null,null,{"$f":"IF(AR71=\"\",\"\",AR71)","v":""},null,null,null,null,{"$f":"IF(AW71=\"\",\"\",AW71)","v":""}]
[]
[]
[]
[null,null,null,null,null,null,null,null,null,null,null,null,null,null,null,null,null,{"$f":"IF(R75=\"\",\"\",R75)","v":""},null,{"$f":"IF(T75=\"\",\"\",T75)","v":""},null,{"$f":"IF(V75=\"\",\"\",V75)","v":""},null,{"$f":"IF(X75=\"\",\"\",X75)","v":""},null,{"$f":"IF(Z75=\"\",\"\",Z75)","v":""},null,{"$f":"IF(AB75=\"\",\"\",AB75)","v":""},null,{"$f":"IF(AD75=\"\",\"\",AD75)","v":""},null,{"$f":"IF(AF75=\"\",\"\",AF75)","v":""},null,{"$f":"IF(AH75=\"\",\"\",AH75)","v":""},null,{"$f":"IF(AJ75=\"\",\"\",AJ75)","v":""},null,{"$f":"IF(AL75=\"\",\"\",AL75)","v":""},null,null,{"$f":"IF(AO75=\"\",\"\",AO75)","v":""},null,null,{"$f":"IF(AR75=\"\",\"\",AR75)","v":""},null,null,null,null,{"$f":"IF(AW75=\"\",\"\",AW75)","v":""}]
[]
[]
[]
[null,null,null,null,null,null,null,null,null,null,null,null,null,null,null,null,null,{"$f":"IF(R79=\"\",\"\",R79)","v":""},null,{"$f":"IF(T79=\"\",\"\",T79)","v":""},null,{"$f":"IF(V79=\"\",\"\",V79)","v":""},null,{"$f":"IF(X79=\"\",\"\",X79)","v":""},null,{"$f":"IF(Z79=\"\",\"\",Z79)","v":""},null,{"$f":"IF(AB79=\"\",\"\",AB79)","v":""},null,{"$f":"IF(AD79=\"\",\"\",AD79)","v":""},null,{"$f":"IF(AF79=\"\",\"\",AF79)","v":""},null,{"$f":"IF(AH79=\"\",\"\",AH79)","v":""},null,{"$f":"IF(AJ79=\"\",\"\",AJ79)","v":""},null,{"$f":"IF(AL79=\"\",\"\",AL79)","v":""},null,null,{"$f":"IF(AO79=\"\",\"\",AO79)","v":""},null,null,{"$f":"IF(AR79=\"\",\"\",AR79)","v":""},null,null,null,null,{"$f":"IF(AW79=\"\",\"\",AW79)","v":""}]
[]
[]
[]
[null,null,null,null,null,null,null,null,null,null,null,null,null,null,null,null,null,null,null,null,null,null,null,null,null,null,null,null,null,null,null,null,null,null,null,null,null,{"$f":"AL83","v":"金額(税抜)"},null,null,null,null,null,null,null,null,null,null,{"$f":"AW83","v":""}]
[]
[]
[]
[]
[null,null,null,null,null,null,null,null,null,null,null,null,null,null,null,null,null,null,null,null,null,null,null,null,null,null,null,null,null,null,null,null,null,null,null,null,null,{"$f":"AL88","v":"消費税"},null,null,null,null,null,"税率",null,null,"税調",null,{"$f":"AW88","v":""}]
[]
[null,null,null,null,null,null,null,null,null,null,null,null,null,null,null,null,null,null,null,null,null,null,null,null,null,null,null,null,null,null,null,null,null,null,null,null,null,null,null,null,null,null,null,{"$f":"AR90","v":0},null,{"$f":"AT90","v":""}]
[]
[]
[]
[null,null,null,null,null,null,null,null,null,null,null,null,null,null,null,null,null,null,null,"請求明細書 (貴社控)"]
[null,"株 式 会 社 種 村 建 設",null,null,null,null,null,null,null,null,null,null,"御中"]
[null,null,null,null,null,null,null,null,null,null,null,null,null,null,null,null,null,null,null,null,null,null,null,null,null,null,null,null,null,null,null,null,null,null,null,null,null,null,null,null,"請求年月日",null,null,null,null,{"$f":"IF(AT4=\"\",\"\",AT4)","v":""},null,null,null,{"$f":"IF(AX96=\"\",\"\",AX96)","v":""},null,null,{"$f":"IF(BA96=\"\",\"\",BA96)","v":""}]
[]
[]
[]
[]
[null,"工事番号",null,null,null,null,{"$f":"IF(G101=\"\",\"\",G101)","v":""},null,null,null,null,null,"工事名",null,null,null,{"$f":"IF(Q101=\"\",\"\",Q101)","v":""},null,null,null,null,null,null,null,null,null,null,null,null,null,null,null,null,null,null,null,null,"業者名",null,null,null,{"$f":"IF(AP101=\"\",\"\",AP101)","v":""}]
[]
[]
[]
[]
[]
[null,"注文番号",null,null,null,null,{"$f":"IF(G107=\"\",\"\",G107)","v":""},null,null,null,null,null,null,null,null,null,null,"月　日",null,null,null,"品　名・内　訳",null,null,null,null,null,null,null,null,null,null,null,null,null,null,null,"数 量",null,null,"単位",null,null,"単価",null,null,null,null,{"$f":"AW15","v":"金額(税抜)"}]
[]
[]
[]
[null,"契約金額",null,null,null,null,{"$f":"IF(G111=\"\",\"\",G111)","v":""},null,null,null,null,null,null,null,null,null,null,{"$f":"IF(R111=\"\",\"\",R111)","v":""},null,{"$f":"IF(T111=\"\",\"\",T111)","v":""},null,{"$f":"IF(V111=\"\",\"\",V111)","v":""},null,{"$f":"IF(X111=\"\",\"\",X111)","v":""},null,{"$f":"IF(Z111=\"\",\"\",Z111)","v":""},null,{"$f":"IF(AB111=\"\",\"\",AB111)","v":""},null,{"$f":"IF(AD111=\"\",\"\",AD111)","v":""},null,{"$f":"IF(AF111=\"\",\"\",AF111)","v":""},null,{"$f":"IF(AH111=\"\",\"\",AH111)","v":""},null,{"$f":"IF(AJ111=\"\",\"\",AJ111)","v":""},null,{"$f":"IF(AL111=\"\",\"\",AL111)","v":""},null,null,{"$f":"IF(AO111=\"\",\"\",AO111)","v":""},null,null,{"$f":"IF(AR111=\"\",\"\",AR111)","v":""},null,null,null,null,{"$f":"IF(AW111=\"\",\"\",AW111)","v":""}]
[]
[]
[]
[null,"増減額",null,null,null,null,{"$f":"IF(G115=\"\",\"\",G115)","v":""},null,null,null,null,null,null,null,null,null,null,{"$f":"IF(R115=\"\",\"\",R115)","v":""},null,{"$f":"IF(T115=\"\",\"\",T115)","v":""},null,{"$f":"IF(V115=\"\",\"\",V115)","v":""},null,{"$f":"IF(X115=\"\",\"\",X115)","v":""},null,{"$f":"IF(Z115=\"\",\"\",Z115)","v":""},null,{"$f":"IF(AB115=\"\",\"\",AB115)","v":""},null,{"$f":"IF(AD115=\"\",\"\",AD115)","v":""},null,{"$f":"IF(AF115=\"\",\"\",AF115)","v":""},null,{"$f":"IF(AH115=\"\",\"\",AH115)","v":""},null,{"$f":"IF(AJ115=\"\",\"\",AJ115)","v":""},null,{"$f":"IF(AL115=\"\",\"\",AL115)","v":""},null,null,{"$f":"IF(AO115=\"\",\"\",AO115)","v":""},null,null,{"$f":"IF(AR115=\"\",\"\",AR115)","v":""},null,null,null,null,{"$f":"IF(AW115=\"\",\"\",AW115)","v":""}]
[]
[]
[]
[null,"前回までの\n請求額",null,null,null,null,{"$f":"IF(G119=\"\",\"\",G119)","v":""},null,null,null,null,null,null,null,null,null,null,{"$f":"IF(R119=\"\",\"\",R119)","v":""},null,{"$f":"IF(T119=\"\",\"\",T119)","v":""},null,{"$f":"IF(V119=\"\",\"\",V119)","v":""},null,{"$f":"IF(X119=\"\",\"\",X119)","v":""},null,{"$f":"IF(Z119=\"\",\"\",Z119)","v":""},null,{"$f":"IF(AB119=\"\",\"\",AB119)","v":""},null,{"$f":"IF(AD119=\"\",\"\",AD119)","v":""},null,{"$f":"IF(AF119=\"\",\"\",AF119)","v":""},null,{"$f":"IF(AH119=\"\",\"\",AH119)","v":""},null,{"$f":"IF(AJ119=\"\",\"\",AJ119)","v":""},null,{"$f":"IF(AL119=\"\",\"\",AL119)","v":""},null,null,{"$f":"IF(AO119=\"\",\"\",AO119)","v":""},null,null,{"$f":"IF(AR119=\"\",\"\",AR119)","v":""},null,null,null,null,{"$f":"IF(AW119=\"\",\"\",AW119)","v":""}]
[]
[]
[]
[null,"今回\n請求額",null,null,{"$f":"IF(E31=\"\",\"\",E31)","v":""},null,{"$f":"IF(G123=\"\",\"\",G123)","v":""},null,null,null,null,null,null,null,null,null,null,{"$f":"IF(R123=\"\",\"\",R123)","v":""},null,{"$f":"IF(T123=\"\",\"\",T123)","v":""},null,{"$f":"IF(V123=\"\",\"\",V123)","v":""},null,{"$f":"IF(X123=\"\",\"\",X123)","v":""},null,{"$f":"IF(Z123=\"\",\"\",Z123)","v":""},null,{"$f":"IF(AB123=\"\",\"\",AB123)","v":""},null,{"$f":"IF(AD123=\"\",\"\",AD123)","v":""},null,{"$f":"IF(AF123=\"\",\"\",AF123)","v":""},null,{"$f":"IF(AH123=\"\",\"\",AH123)","v":""},null,{"$f":"IF(AJ123=\"\",\"\",AJ123)","v":""},null,{"$f":"IF(AL123=\"\",\"\",AL123)","v":""},null,null,{"$f":"IF(AO123=\"\",\"\",AO123)","v":""},null,null,{"$f":"IF(AR123=\"\",\"\",AR123)","v":""},null,null,null,null,{"$f":"IF(AW123=\"\",\"\",AW123)","v":""}]
[]
[]
[]
[null,"差引残高",null,null,null,null,{"$f":"IF(G203=\"\",\"\",G203+G207-G211-G215)","v":""},null,null,null,null,null,null,null,null,null,null,{"$f":"IF(R127=\"\",\"\",R127)","v":""},null,{"$f":"IF(T127=\"\",\"\",T127)","v":""},null,{"$f":"IF(V127=\"\",\"\",V127)","v":""},null,{"$f":"IF(X127=\"\",\"\",X127)","v":""},null,{"$f":"IF(Z127=\"\",\"\",Z127)","v":""},null,{"$f":"IF(AB127=\"\",\"\",AB127)","v":""},null,{"$f":"IF(AD127=\"\",\"\",AD127)","v":""},null,{"$f":"IF(AF127=\"\",\"\",AF127)","v":""},null,{"$f":"IF(AH127=\"\",\"\",AH127)","v":""},null,{"$f":"IF(AJ127=\"\",\"\",AJ127)","v":""},null,{"$f":"IF(AL127=\"\",\"\",AL127)","v":""},null,null,{"$f":"IF(AO127=\"\",\"\",AO127)","v":""},null,null,{"$f":"IF(AR127=\"\",\"\",AR127)","v":""},null,null,null,null,{"$f":"IF(AW127=\"\",\"\",AW127)","v":""}]
[]
[]
[]
[null,null,null,null,null,null,null,null,null,null,null,null,null,null,null,null,null,{"$f":"IF(R131=\"\",\"\",R131)","v":""},null,{"$f":"IF(T131=\"\",\"\",T131)","v":""},null,{"$f":"IF(V131=\"\",\"\",V131)","v":""},null,{"$f":"IF(X131=\"\",\"\",X131)","v":""},null,{"$f":"IF(Z131=\"\",\"\",Z131)","v":""},null,{"$f":"IF(AB131=\"\",\"\",AB131)","v":""},null,{"$f":"IF(AD131=\"\",\"\",AD131)","v":""},null,{"$f":"IF(AF131=\"\",\"\",AF131)","v":""},null,{"$f":"IF(AH131=\"\",\"\",AH131)","v":""},null,{"$f":"IF(AJ131=\"\",\"\",AJ131)","v":""},null,{"$f":"IF(AL131=\"\",\"\",AL131)","v":""},null,null,{"$f":"IF(AO131=\"\",\"\",AO131)","v":""},null,null,{"$f":"IF(AR131=\"\",\"\",AR131)","v":""},null,null,null,null,{"$f":"IF(AW131=\"\",\"\",AW131)","v":""}]
[]
[]
[]
[null,null,null,null,null,null,null,null,null,null,null,null,null,null,null,null,null,{"$f":"IF(R135=\"\",\"\",R135)","v":""},null,{"$f":"IF(T135=\"\",\"\",T135)","v":""},null,{"$f":"IF(V135=\"\",\"\",V135)","v":""},null,{"$f":"IF(X135=\"\",\"\",X135)","v":""},null,{"$f":"IF(Z135=\"\",\"\",Z135)","v":""},null,{"$f":"IF(AB135=\"\",\"\",AB135)","v":""},null,{"$f":"IF(AD135=\"\",\"\",AD135)","v":""},null,{"$f":"IF(AF135=\"\",\"\",AF135)","v":""},null,{"$f":"IF(AH135=\"\",\"\",AH135)","v":""},null,{"$f":"IF(AJ135=\"\",\"\",AJ135)","v":""},null,{"$f":"IF(AL135=\"\",\"\",AL135)","v":""},null,null,{"$f":"IF(AO135=\"\",\"\",AO135)","v":""},null,null,{"$f":"IF(AR135=\"\",\"\",AR135)","v":""},null,null,null,null,{"$f":"IF(AW135=\"\",\"\",AW135)","v":""}]
[]
[]
[]
[null,null,null,null,null,null,null,null,null,null,null,null,null,null,null,null,null,{"$f":"IF(R139=\"\",\"\",R139)","v":""},null,{"$f":"IF(T139=\"\",\"\",T139)","v":""},null,{"$f":"IF(V139=\"\",\"\",V139)","v":""},null,{"$f":"IF(X139=\"\",\"\",X139)","v":""},null,{"$f":"IF(Z139=\"\",\"\",Z139)","v":""},null,{"$f":"IF(AB139=\"\",\"\",AB139)","v":""},null,{"$f":"IF(AD139=\"\",\"\",AD139)","v":""},null,{"$f":"IF(AF139=\"\",\"\",AF139)","v":""},null,{"$f":"IF(AH139=\"\",\"\",AH139)","v":""},null,{"$f":"IF(AJ139=\"\",\"\",AJ139)","v":""},null,{"$f":"IF(AL139=\"\",\"\",AL139)","v":""},null,null,{"$f":"IF(AO139=\"\",\"\",AO139)","v":""},null,null,{"$f":"IF(AR139=\"\",\"\",AR139)","v":""},null,null,null,null,{"$f":"IF(AW139=\"\",\"\",AW139)","v":""}]
[]
[]
[]
[null,null,null,null,null,null,null,null,null,null,null,null,null,null,null,null,null,{"$f":"IF(R143=\"\",\"\",R143)","v":""},null,{"$f":"IF(T143=\"\",\"\",T143)","v":""},null,{"$f":"IF(V143=\"\",\"\",V143)","v":""},null,{"$f":"IF(X143=\"\",\"\",X143)","v":""},null,{"$f":"IF(Z143=\"\",\"\",Z143)","v":""},null,{"$f":"IF(AB143=\"\",\"\",AB143)","v":""},null,{"$f":"IF(AD143=\"\",\"\",AD143)","v":""},null,{"$f":"IF(AF143=\"\",\"\",AF143)","v":""},null,{"$f":"IF(AH143=\"\",\"\",AH143)","v":""},null,{"$f":"IF(AJ143=\"\",\"\",AJ143)","v":""},null,{"$f":"IF(AL143=\"\",\"\",AL143)","v":""},null,null,{"$f":"IF(AO143=\"\",\"\",AO143)","v":""},null,null,{"$f":"IF(AR143=\"\",\"\",AR143)","v":""},null,null,null,null,{"$f":"IF(AW143=\"\",\"\",AW143)","v":""}]
[]
[]
[]
[null,null,null,null,null,null,null,null,null,null,null,null,null,null,null,null,null,{"$f":"IF(R147=\"\",\"\",R147)","v":""},null,{"$f":"IF(T147=\"\",\"\",T147)","v":""},null,{"$f":"IF(V147=\"\",\"\",V147)","v":""},null,{"$f":"IF(X147=\"\",\"\",X147)","v":""},null,{"$f":"IF(Z147=\"\",\"\",Z147)","v":""},null,{"$f":"IF(AB147=\"\",\"\",AB147)","v":""},null,{"$f":"IF(AD147=\"\",\"\",AD147)","v":""},null,{"$f":"IF(AF147=\"\",\"\",AF147)","v":""},null,{"$f":"IF(AH147=\"\",\"\",AH147)","v":""},null,{"$f":"IF(AJ147=\"\",\"\",AJ147)","v":""},null,{"$f":"IF(AL147=\"\",\"\",AL147)","v":""},null,null,{"$f":"IF(AO147=\"\",\"\",AO147)","v":""},null,null,{"$f":"IF(AR147=\"\",\"\",AR147)","v":""},null,null,null,null,{"$f":"IF(AW147=\"\",\"\",AW147)","v":""}]
[]
[]
[]
[null,null,null,null,null,null,null,null,null,null,null,null,null,null,null,null,null,{"$f":"IF(R151=\"\",\"\",R151)","v":""},null,{"$f":"IF(T151=\"\",\"\",T151)","v":""},null,{"$f":"IF(V151=\"\",\"\",V151)","v":""},null,{"$f":"IF(X151=\"\",\"\",X151)","v":""},null,{"$f":"IF(Z151=\"\",\"\",Z151)","v":""},null,{"$f":"IF(AB151=\"\",\"\",AB151)","v":""},null,{"$f":"IF(AD151=\"\",\"\",AD151)","v":""},null,{"$f":"IF(AF151=\"\",\"\",AF151)","v":""},null,{"$f":"IF(AH151=\"\",\"\",AH151)","v":""},null,{"$f":"IF(AJ151=\"\",\"\",AJ151)","v":""},null,{"$f":"IF(AL151=\"\",\"\",AL151)","v":""},null,null,{"$f":"IF(AO151=\"\",\"\",AO151)","v":""},null,null,{"$f":"IF(AR151=\"\",\"\",AR151)","v":""},null,null,null,null,{"$f":"IF(AW151=\"\",\"\",AW151)","v":""}]
[]
[]
[]
[null,null,null,null,null,null,null,null,null,null,null,null,null,null,null,null,null,{"$f":"IF(R155=\"\",\"\",R155)","v":""},null,{"$f":"IF(T155=\"\",\"\",T155)","v":""},null,{"$f":"IF(V155=\"\",\"\",V155)","v":""},null,{"$f":"IF(X155=\"\",\"\",X155)","v":""},null,{"$f":"IF(Z155=\"\",\"\",Z155)","v":""},null,{"$f":"IF(AB155=\"\",\"\",AB155)","v":""},null,{"$f":"IF(AD155=\"\",\"\",AD155)","v":""},null,{"$f":"IF(AF155=\"\",\"\",AF155)","v":""},null,{"$f":"IF(AH155=\"\",\"\",AH155)","v":""},null,{"$f":"IF(AJ155=\"\",\"\",AJ155)","v":""},null,{"$f":"IF(AL155=\"\",\"\",AL155)","v":""},null,null,{"$f":"IF(AO155=\"\",\"\",AO155)","v":""},null,null,{"$f":"IF(AR155=\"\",\"\",AR155)","v":""},null,null,null,null,{"$f":"IF(AW155=\"\",\"\",AW155)","v":""}]
[]
[]
[]
[null,null,null,null,null,null,null,null,null,null,null,null,null,null,null,null,null,{"$f":"IF(R159=\"\",\"\",R159)","v":""},null,{"$f":"IF(T159=\"\",\"\",T159)","v":""},null,{"$f":"IF(V159=\"\",\"\",V159)","v":""},null,{"$f":"IF(X159=\"\",\"\",X159)","v":""},null,{"$f":"IF(Z159=\"\",\"\",Z159)","v":""},null,{"$f":"IF(AB159=\"\",\"\",AB159)","v":""},null,{"$f":"IF(AD159=\"\",\"\",AD159)","v":""},null,{"$f":"IF(AF159=\"\",\"\",AF159)","v":""},null,{"$f":"IF(AH159=\"\",\"\",AH159)","v":""},null,{"$f":"IF(AJ159=\"\",\"\",AJ159)","v":""},null,{"$f":"IF(AL159=\"\",\"\",AL159)","v":""},null,null,{"$f":"IF(AO159=\"\",\"\",AO159)","v":""},null,null,{"$f":"IF(AR159=\"\",\"\",AR159)","v":""},null,null,null,null,{"$f":"IF(AW159=\"\",\"\",AW159)","v":""}]
[]
[]
[]
[null,null,null,null,null,null,null,null,null,null,null,null,null,null,null,null,null,{"$f":"IF(R163=\"\",\"\",R163)","v":""},null,{"$f":"IF(T163=\"\",\"\",T163)","v":""},null,{"$f":"IF(V163=\"\",\"\",V163)","v":""},null,{"$f":"IF(X163=\"\",\"\",X163)","v":""},null,{"$f":"IF(Z163=\"\",\"\",Z163)","v":""},null,{"$f":"IF(AB163=\"\",\"\",AB163)","v":""},null,{"$f":"IF(AD163=\"\",\"\",AD163)","v":""},null,{"$f":"IF(AF163=\"\",\"\",AF163)","v":""},null,{"$f":"IF(AH163=\"\",\"\",AH163)","v":""},null,{"$f":"IF(AJ163=\"\",\"\",AJ163)","v":""},null,{"$f":"IF(AL163=\"\",\"\",AL163)","v":""},null,null,{"$f":"IF(AO163=\"\",\"\",AO163)","v":""},null,null,{"$f":"IF(AR163=\"\",\"\",AR163)","v":""},null,null,null,null,{"$f":"IF(AW163=\"\",\"\",AW163)","v":""}]
[]
[]
[]
[null,null,null,null,null,null,null,null,null,null,null,null,null,null,null,null,null,{"$f":"IF(R167=\"\",\"\",R167)","v":""},null,{"$f":"IF(T167=\"\",\"\",T167)","v":""},null,{"$f":"IF(V167=\"\",\"\",V167)","v":""},null,{"$f":"IF(X167=\"\",\"\",X167)","v":""},null,{"$f":"IF(Z167=\"\",\"\",Z167)","v":""},null,{"$f":"IF(AB167=\"\",\"\",AB167)","v":""},null,{"$f":"IF(AD167=\"\",\"\",AD167)","v":""},null,{"$f":"IF(AF167=\"\",\"\",AF167)","v":""},null,{"$f":"IF(AH167=\"\",\"\",AH167)","v":""},null,{"$f":"IF(AJ167=\"\",\"\",AJ167)","v":""},null,{"$f":"IF(AL167=\"\",\"\",AL167)","v":""},null,null,{"$f":"IF(AO167=\"\",\"\",AO167)","v":""},null,null,{"$f":"IF(AR167=\"\",\"\",AR167)","v":""},null,null,null,null,{"$f":"IF(AW167=\"\",\"\",AW167)","v":""}]
[]
[]
[]
[null,null,null,null,null,null,null,null,null,null,null,null,null,null,null,null,null,{"$f":"IF(R171=\"\",\"\",R171)","v":""},null,{"$f":"IF(T171=\"\",\"\",T171)","v":""},null,{"$f":"IF(V171=\"\",\"\",V171)","v":""},null,{"$f":"IF(X171=\"\",\"\",X171)","v":""},null,{"$f":"IF(Z171=\"\",\"\",Z171)","v":""},null,{"$f":"IF(AB171=\"\",\"\",AB171)","v":""},null,{"$f":"IF(AD171=\"\",\"\",AD171)","v":""},null,{"$f":"IF(AF171=\"\",\"\",AF171)","v":""},null,{"$f":"IF(AH171=\"\",\"\",AH171)","v":""},null,{"$f":"IF(AJ171=\"\",\"\",AJ171)","v":""},null,{"$f":"IF(AL171=\"\",\"\",AL171)","v":""},null,null,{"$f":"IF(AO171=\"\",\"\",AO171)","v":""},null,null,{"$f":"IF(AR171=\"\",\"\",AR171)","v":""},null,null,null,null,{"$f":"IF(AW171=\"\",\"\",AW171)","v":""}]
[]
[]
[]
[null,null,null,null,null,null,null,null,null,null,null,null,null,null,null,null,null,null,null,null,null,null,null,null,null,null,null,null,null,null,null,null,null,null,null,null,null,{"$f":"AL175","v":"金額(税抜)"},null,null,null,null,null,null,null,null,null,null,{"$f":"AW83","v":""}]
[]
[]
[]
[]
[null,null,null,null,null,null,null,null,null,null,null,null,null,null,null,null,null,null,null,null,null,null,null,null,null,null,null,null,null,null,null,null,null,null,null,null,null,{"$f":"AL180","v":"消費税"},null,null,null,null,null,"税率",null,null,"税調",null,{"$f":"AW88","v":""}]
[]
[null,null,null,null,null,null,null,null,null,null,null,null,null,null,null,null,null,null,null,null,null,null,null,null,null,null,null,null,null,null,null,null,null,null,null,null,null,null,null,null,null,null,null,{"$f":"AR90","v":0},null,{"$f":"AT90","v":""}]

{"sheet":"細3-9","index":36,"n_rows":274,"n_cols":53,"rows_kept":274,"cut":false,"hidden":false,"merged":[[266,37,269,47],[266,48,269,54],[271,48,274,54],[258,48,261,54],[262,17,265,18],[262,19,265,20],[262,21,265,36],[262,37,265,39],[262,40,265,42],[262,43,265,47],[262,48,265,54],[258,17,261,18],[258,19,261,20],[258,21,261,36],[258,37,261,39],[258,40,261,42],[258,43,261,47],[271,37,274,42],[271,43,272,45],[273,43,274,44],[273,45,274,45],[273,46,274,47],[271,46,272,47],[250,48,253,54],[254,17,257,18],[254,19,257,20],[254,21,257,36],[254,37,257,39],[254,40,257,42],[254,43,257,47],[254,48,257,54],[250,17,253,18],[250,19,253,20],[250,21,253,36],[250,37,253,39],[250,40,253,42],[250,43,253,47],[242,48,245,54],[246,17,249,18],[246,19,249,20],[246,21,249,36],[246,37,249,39],[246,40,249,42],[246,43,249,47],[246,48,249,54],[242,17,245,18],[242,19,245,20],[242,21,245,36],[242,37,245,39],[242,40,245,42],[242,43,245,47],[234,48,237,54],[238,17,241,18],[238,19,241,20],[238,21,241,36],[238,37,241,39],[238,40,241,42],[238,43,241,47],[238,48,241,54],[234,17,237,18],[234,19,237,20],[234,21,237,36],[234,37,237,39],[234,40,237,42],[234,43,237,47],[222,17,225,18],[222,19,225,20],[222,21,225,36],[222,37,225,39],[222,40,225,42],[222,43,225,47],[222,48,225,54],[226,48,229,54],[230,17,233,18],[230,19,233,20],[230,21,233,36],[230,37,233,39],[230,40,233,42],[230,43,233,47],[230,48,233,54],[226,17,229,18],[226,19,229,20],[226,21,229,36],[226,37,229,39],[226,40,229,42],[226,43,229,47],[218,1,221,5],[218,6,221,15],[218,17,221,18],[218,19,221,20],[218,21,221,36],[218,37,221,39],[218,40,221,42],[218,43,221,47],[218,48,221,54],[210,40,213,42],[210,43,213,47],[210,48,213,54],[214,1,217,3],[214,4,217,5],[214,6,217,15],[214,17,217,18],[214,19,217,20],[214,21,217,36],[214,37,217,39],[210,1,213,5],[210,6,213,15],[210,17,213,18],[210,19,213,20],[210,21,213,36],[210,37,213,39],[214,40,217,42],[214,43,217,47],[214,48,217,54],[206,1,209,5],[206,6,209,15],[206,17,209,18],[206,19,209,20],[206,21,209,36],[206,37,209,39],[206,40,209,42],[206,43,209,47],[206,48,209,54],[198,43,201,47],[198,48,201,54],[202,1,205,5],[202,6,205,15],[202,17,205,18],[202,19,205,20],[202,21,205,36],[202,37,205,39],[202,40,205,42],[202,43,205,47],[198,1,201,5],[198,6,201,15],[198,17,201,20],[198,21,201,36],[198,37,201,39],[198,40,201,42],[202,48,205,54],[187,52,189,54],[192,1,195,5],[192,6,195,11],[192,12,195,15],[192,16,195,35],[192,37,195,40],[192,41,195,54],[174,37,177,47],[174,48,177,54],[179,48,182,54],[185,19,188,32],[186,1,189,11],[186,12,189,13],[187,40,189,44],[187,45,189,48],[187,49,189,51],[179,37,182,42],[179,43,180,45],[179,46,180,47],[181,43,182,44],[181,45,182,45],[181,46,182,47],[166,48,169,54],[170,17,173,18],[170,19,173,20],[170,21,173,36],[170,37,173,39],[170,40,173,42],[170,43,173,47],[170,48,173,54],[166,17,169,18],[166,19,169,20],[166,21,169,36],[166,37,169,39],[166,40,169,42],[166,43,169,47],[158,48,161,54],[162,17,165,18],[162,19,165,20],[162,21,165,36],[162,37,165,39],[162,40,165,42],[162,43,165,47],[162,48,165,54],[158,17,161,18],[158,19,161,20],[158,21,161,36],[158,37,161,39],[158,40,161,42],[158,43,161,47],[150,48,153,54],[154,17,157,18],[154,19,157,20],[154,21,157,36],[154,37,157,39],[154,40,157,42],[154,43,157,47],[154,48,157,54],[150,17,153,18],[150,19,153,20],[150,21,153,36],[150,37,153,39],[150,40,153,42],[150,43,153,47],[142,48,145,54],[146,17,149,18],[146,19,149,20],[146,21,149,36],[146,37,149,39],[146,40,149,42],[146,43,149,47],[146,48,149,54],[142,17,145,18],[142,19,145,20],[142,21,145,36],[142,37,145,39],[142,40,145,42],[142,43,145,47],[130,17,133,18],[130,19,133,20],[130,21,133,36],[130,37,133,39],[130,40,133,42],[130,43,133,47],[130,48,133,54],[134,48,137,54],[138,17,141,18],[138,19,141,20],[138,21,141,36],[138,37,141,39],[138,40,141,42],[138,43,141,47],[138,48,141,54],[134,17,137,18],[134,19,137,20],[134,21,137,36],[134,37,137,39],[134,40,137,42],[134,43,137,47],[126,1,129,5],[126,6,129,15],[126,17,129,18],[126,19,129,20],[126,21,129,36],[126,37,129,39],[126,40,129,42],[126,43,129,47],[126,48,129,54],[118,40,121,42],[118,43,121,47],[118,48,121,54],[122,1,125,3],[122,4,125,5],[122,6,125,15],[122,17,125,18],[122,19,125,20],[122,21,125,36],[122,37,125,39],[118,1,121,5],[118,6,121,15],[118,17,121,18],[118,19,121,20],[118,21,121,36],[118,37,121,39],[122,40,125,42],[122,43,125,47],[122,48,125,54],[114,1,117,5],[114,6,117,15],[114,17,117,18],[114,19,117,20],[114,21,117,36],[114,37,117,39],[114,40,117,42],[114,43,117,47],[114,48,117,54],[106,43,109,47],[106,48,109,54],[110,1,113,5],[110,6,113,15],[110,17,113,18],[110,19,113,20],[110,21,113,36],[110,37,113,39],[110,40,113,42],[110,43,113,47],[106,1,109,5],[106,6,109,15],[106,17,109,20],[106,21,109,36],[106,37,109,39],[106,40,109,42],[110,48,113,54],[95,52,97,54],[100,1,103,5],[100,6,103,11],[100,12,103,15],[100,16,103,35],[100,37,103,40],[100,41,103,54],[93,19,96,32],[94,1,97,11],[94,12,97,13],[95,40,97,44],[95,45,97,48],[95,49,97,51],[85,11,90,16],[85,17,90,25],[85,26,90,30],[85,31,90,35],[87,48,90,54],[82,37,85,47],[82,48,85,54],[83,1,84,4],[83,5,84,10],[83,11,84,16],[83,17,84,25],[83,26,84,30],[83,31,84,35],[85,1,90,4],[85,5,90,10],[87,37,90,42],[87,43,88,45],[89,43,90,44],[89,45,90,45],[89,46,90,47],[87,46,88,47],[74,48,77,54],[78,17,81,18],[78,19,81,20],[78,21,81,36],[78,37,81,39],[78,40,81,42],[78,43,81,47],[78,48,81,54],[74,17,77,18],[74,19,77,20],[74,21,77,36],[74,37,77,39],[74,40,77,42],[74,43,77,47],[66,48,69,54],[70,17,73,18],[70,19,73,20],[70,21,73,36],[70,37,73,39],[70,40,73,42],[70,43,73,47],[70,48,73,54],[66,17,69,18],[66,19,69,20],[66,21,69,36],[66,37,69,39],[66,40,69,42],[66,43,69,47],[58,48,61,54],[62,17,65,18],[62,19,65,20],[62,21,65,36],[62,37,65,39],[62,40,65,42],[62,43,65,47],[62,48,65,54],[58,17,61,18],[58,19,61,20],[58,21,61,36],[58,37,61,39],[58,40,61,42],[58,43,61,47],[50,48,53,54],[54,17,57,18],[54,19,57,20],[54,21,57,36],[54,37,57,39],[54,40,57,42],[54,43,57,47],[54,48,57,54],[50,17,53,18],[50,19,53,20],[50,21,53,36],[50,37,53,39],[50,40,53,42],[50,43,53,47],[38,17,41,18],[38,19,41,20],[38,21,41,36],[38,37,41,39],[38,40,41,42],[38,43,41,47],[38,48,41,54],[42,48,45,54],[46,17,49,18],[46,19,49,20],[46,21,49,36],[46,37,49,39],[46,40,49,42],[46,43,49,47],[46,48,49,54],[42,17,45,18],[42,19,45,20],[42,21,45,36],[42,37,45,39],[42,40,45,42],[42,43,45,47],[34,1,37,5],[34,6,37,15],[34,17,37,18],[34,19,37,20],[34,21,37,36],[34,37,37,39],[34,40,37,42],[34,43,37,47],[34,48,37,54],[26,40,29,42],[26,43,29,47],[26,48,29,54],[30,1,33,3],[30,4,33,5],[30,6,33,15],[30,17,33,18],[30,19,33,20],[30,21,33,36],[30,37,33,39],[26,1,29,5],[26,6,29,15],[26,17,29,18],[26,19,29,20],[26,21,29,36],[26,37,29,39],[30,40,33,42],[30,43,33,47],[30,48,33,54],[22,1,25,5],[22,6,25,15],[22,17,25,18],[22,19,25,20],[22,21,25,36],[22,37,25,39],[22,40,25,42],[22,43,25,47],[22,48,25,54],[14,43,17,47],[14,48,17,54],[18,1,21,5],[18,6,21,15],[18,17,21,18],[18,19,21,20],[18,21,21,36],[18,37,21,39],[18,40,21,42],[18,43,21,47],[14,1,17,5],[14,6,17,15],[14,17,17,20],[14,21,17,36],[14,37,17,39],[14,40,17,42],[18,48,21,54],[3,52,5,54],[8,1,11,5],[8,6,11,11],[8,12,11,15],[8,16,11,35],[8,37,11,40],[8,41,11,54],[1,19,4,32],[2,1,5,11],[2,12,5,13],[3,40,5,44],[3,45,5,48],[3,49,5,51]]}
[]
[null,null,null,null,null,null,null,null,null,null,null,null,null,null,null,null,null,null,null,"請求書明細書 (正)"]
[null,"株 式 会 社 種 村 建 設",null,null,null,null,null,null,null,null,null,null,"御中"]
[null,null,null,null,null,null,null,null,null,null,null,null,null,null,null,null,null,null,null,null,null,null,null,null,null,null,null,null,null,null,null,null,null,null,null,null,null,null,null,null,"請求年月日",null,null,null,null,{"$f":"IF(年=\"\",\"\",年)","v":""},null,null,null,{"$f":"IF(月=\"\",\"\",月)","v":""},null,null,{"$f":"IF(日=\"\",\"\",日)","v":""}]
[]
[]
[]
[]
[null,"工事番号",null,null,null,null,null,null,null,null,null,null,"工事名",null,null,null,null,null,null,null,null,null,null,null,null,null,null,null,null,null,null,null,null,null,null,null,null,"業者名",null,null,null,{"$f":"IF(社名=\"\",\"\",社名)","v":""}]
[]
[]
[]
[]
[]
[null,"注文番号",null,null,null,null,null,null,null,null,null,null,null,null,null,null,null,"月　日",null,null,null,"品　名・内　訳",null,null,null,null,null,null,null,null,null,null,null,null,null,null,null,"数 量",null,null,"単位",null,null,"単価",null,null,null,null,{"$f":"表紙①!P35","v":"金額(税抜)"}]
[]
[]
[]
[null,"契約金額",null,null,null,null,null,null,null,null,null,null,null,null,null,null,null,null,null,null,null,null,null,null,null,null,null,null,null,null,null,null,null,null,null,null,null,null,null,null,null,null,null,null,null,null,null,null,{"$f":"IF(V19=\"\",\"\",ROUND(AL19*AR19,0))","v":""}]
[]
[]
[]
[null,"増減額",null,null,null,null,null,null,null,null,null,null,null,null,null,null,null,null,null,null,null,null,null,null,null,null,null,null,null,null,null,null,null,null,null,null,null,null,null,null,null,null,null,null,null,null,null,null,{"$f":"IF(V23=\"\",\"\",ROUND(AL23*AR23,0))","v":""}]
[]
[]
[]
[null,"前回までの\n請求額",null,null,null,null,null,null,null,null,null,null,null,null,null,null,null,null,null,null,null,null,null,null,null,null,null,null,null,null,null,null,null,null,null,null,null,null,null,null,null,null,null,null,null,null,null,null,{"$f":"IF(V27=\"\",\"\",ROUND(AL27*AR27,0))","v":""}]
[]
[]
[]
[null,"今回\n請求額",null,null,null,null,null,null,null,null,null,null,null,null,null,null,null,null,null,null,null,null,null,null,null,null,null,null,null,null,null,null,null,null,null,null,null,null,null,null,null,null,null,null,null,null,null,null,{"$f":"IF(V31=\"\",\"\",ROUND(AL31*AR31,0))","v":""}]
[]
[]
[]
[null,"差引残高",null,null,null,null,{"$f":"IF(G19=\"\",\"\",G19+G23-G27-G31)","v":""},null,null,null,null,null,null,null,null,null,null,null,null,null,null,null,null,null,null,null,null,null,null,null,null,null,null,null,null,null,null,null,null,null,null,null,null,null,null,null,null,null,{"$f":"IF(V35=\"\",\"\",ROUND(AL35*AR35,0))","v":""}]
[]
[]
[]
[null,null,null,null,null,null,null,null,null,null,null,null,null,null,null,null,null,null,null,null,null,null,null,null,null,null,null,null,null,null,null,null,null,null,null,null,null,null,null,null,null,null,null,null,null,null,null,null,{"$f":"IF(V39=\"\",\"\",ROUND(AL39*AR39,0))","v":""}]
[]
[]
[]
[null,null,null,null,null,null,null,null,null,null,null,null,null,null,null,null,null,null,null,null,null,null,null,null,null,null,null,null,null,null,null,null,null,null,null,null,null,null,null,null,null,null,null,null,null,null,null,null,{"$f":"IF(V43=\"\",\"\",ROUND(AL43*AR43,0))","v":""}]
[]
[]
[]
[null,null,null,null,null,null,null,null,null,null,null,null,null,null,null,null,null,null,null,null,null,null,null,null,null,null,null,null,null,null,null,null,null,null,null,null,null,null,null,null,null,null,null,null,null,null,null,null,{"$f":"IF(V47=\"\",\"\",ROUND(AL47*AR47,0))","v":""}]
[]
[]
[]
[null,null,null,null,null,null,null,null,null,null,null,null,null,null,null,null,null,null,null,null,null,null,null,null,null,null,null,null,null,null,null,null,null,null,null,null,null,null,null,null,null,null,null,null,null,null,null,null,{"$f":"IF(V51=\"\",\"\",ROUND(AL51*AR51,0))","v":""}]
[]
[]
[]
[null,null,null,null,null,null,null,null,null,null,null,null,null,null,null,null,null,null,null,null,null,null,null,null,null,null,null,null,null,null,null,null,null,null,null,null,null,null,null,null,null,null,null,null,null,null,null,null,{"$f":"IF(V55=\"\",\"\",ROUND(AL55*AR55,0))","v":""}]
[]
[]
[]
[null,null,null,null,null,null,null,null,null,null,null,null,null,null,null,null,null,null,null,null,null,null,null,null,null,null,null,null,null,null,null,null,null,null,null,null,null,null,null,null,null,null,null,null,null,null,null,null,{"$f":"IF(V59=\"\",\"\",ROUND(AL59*AR59,0))","v":""}]
[]
[]
[]
[null,null,null,null,null,null,null,null,null,null,null,null,null,null,null,null,null,null,null,null,null,null,null,null,null,null,null,null,null,null,null,null,null,null,null,null,null,null,null,null,null,null,null,null,null,null,null,null,{"$f":"IF(V63=\"\",\"\",ROUND(AL63*AR63,0))","v":""}]
[]
[]
[]
[null,null,null,null,null,null,null,null,null,null,null,null,null,null,null,null,null,null,null,null,null,null,null,null,null,null,null,null,null,null,null,null,null,null,null,null,null,null,null,null,null,null,null,null,null,null,null,null,{"$f":"IF(V67=\"\",\"\",ROUND(AL67*AR67,0))","v":""}]
[]
[]
[]
[null,null,null,null,null,null,null,null,null,null,null,null,null,null,null,null,null,null,null,null,null,null,null,null,null,null,null,null,null,null,null,null,null,null,null,null,null,null,null,null,null,null,null,null,null,null,null,null,{"$f":"IF(V71=\"\",\"\",ROUND(AL71*AR71,0))","v":""}]
[]
[]
[]
[null,null,null,null,null,null,null,null,null,null,null,null,null,null,null,null,null,null,null,null,null,null,null,null,null,null,null,null,null,null,null,null,null,null,null,null,null,null,null,null,null,null,null,null,null,null,null,null,{"$f":"IF(V75=\"\",\"\",ROUND(AL75*AR75,0))","v":""}]
[]
[]
[]
[null,null,null,null,null,null,null,null,null,null,null,null,null,null,null,null,null,null,null,null,null,null,null,null,null,null,null,null,null,null,null,null,null,null,null,null,null,null,null,null,null,null,null,null,null,null,null,null,{"$f":"IF(V79=\"\",\"\",ROUND(AL79*AR79,0))","v":""}]
[]
[]
[]
[null,null,null,null,null,null,null,null,null,null,null,null,null,null,null,null,null,null,null,null,null,null,null,null,null,null,null,null,null,null,null,null,null,null,null,null,null,"金額(税抜)",null,null,null,null,null,null,null,null,null,null,{"$f":"IF(AW19=\"\",\"\",SUM(AW19:AW79))","v":""}]
[null,"社長",null,null,null,"専務",null,null,null,null,null,"常務",null,null,null,null,null,"部長･工場長",null,null,null,null,null,null,null,null,"担当者",null,null,null,null,"受付"]
[]
[]
[]
[null,null,null,null,null,null,null,null,null,null,null,null,null,null,null,null,null,null,null,null,null,null,null,null,null,null,null,null,null,null,null,null,null,null,null,null,null,"消費税",null,null,null,null,null,"税率",null,null,"税調",null,{"$f":"IF(AW83=\"\",\"\",IF(AR90=\"\",\"\",IF(AR90=8.1,ROUND(AW83*8/100,0)+AU90,ROUND(AW83*AR90/100,0)+AU90)))","v":""}]
[]
[null,null,null,null,null,null,null,null,null,null,null,null,null,null,null,null,null,null,null,null,null,null,null,null,null,null,null,null,null,null,null,null,null,null,null,null,null,null,null,null,null,null,null,null,null,{"$f":"IF(AR90=\"\",\"\",IF(AR90=8.1,\"旧\",IF(AR90=8,\"軽\",IF(AR90=0,\"非\",\"\"))))","v":""}]
[]
[]
[]
[null,null,null,null,null,null,null,null,null,null,null,null,null,null,null,null,null,null,null,"請求明細書 (現場控)"]
[null,"株 式 会 社 種 村 建 設",null,null,null,null,null,null,null,null,null,null,"御中"]
[null,null,null,null,null,null,null,null,null,null,null,null,null,null,null,null,null,null,null,null,null,null,null,null,null,null,null,null,null,null,null,null,null,null,null,null,null,null,null,null,"請求年月日",null,null,null,null,{"$f":"IF(AT4=\"\",\"\",AT4)","v":""},null,null,null,{"$f":"IF(AX4=\"\",\"\",AX4)","v":""},null,null,{"$f":"IF(BA4=\"\",\"\",BA4)","v":""}]
[]
[]
[]
[]
[null,"工事番号",null,null,null,null,{"$f":"IF(G9=\"\",\"\",G9)","v":""},null,null,null,null,null,"工事名",null,null,null,{"$f":"IF(Q9=\"\",\"\",Q9)","v":""},null,null,null,null,null,null,null,null,null,null,null,null,null,null,null,null,null,null,null,null,"業者名",null,null,null,{"$f":"IF(AP9=\"\",\"\",AP9)","v":""}]
[]
[]
[]
[]
[]
[null,"注文番号",null,null,null,null,{"$f":"IF(G15=\"\",\"\",G15)","v":""},null,null,null,null,null,null,null,null,null,null,"月　日",null,null,null,"品　名・内　訳",null,null,null,null,null,null,null,null,null,null,null,null,null,null,null,"数 量",null,null,"単位",null,null,"単価",null,null,null,null,{"$f":"AW15","v":"金額(税抜)"}]
[]
[]
[]
[null,"契約金額",null,null,null,null,{"$f":"IF(G19=\"\",\"\",G19)","v":""},null,null,null,null,null,null,null,null,null,null,{"$f":"IF(R19=\"\",\"\",R19)","v":""},null,{"$f":"IF(T19=\"\",\"\",T19)","v":""},null,{"$f":"IF(V19=\"\",\"\",V19)","v":""},null,{"$f":"IF(X19=\"\",\"\",X19)","v":""},null,{"$f":"IF(Z19=\"\",\"\",Z19)","v":""},null,{"$f":"IF(AB19=\"\",\"\",AB19)","v":""},null,{"$f":"IF(AD19=\"\",\"\",AD19)","v":""},null,{"$f":"IF(AF19=\"\",\"\",AF19)","v":""},null,{"$f":"IF(AH19=\"\",\"\",AH19)","v":""},null,{"$f":"IF(AJ19=\"\",\"\",AJ19)","v":""},null,{"$f":"IF(AL19=\"\",\"\",AL19)","v":""},null,null,{"$f":"IF(AO19=\"\",\"\",AO19)","v":""},null,null,{"$f":"IF(AR19=\"\",\"\",AR19)","v":""},null,null,null,null,{"$f":"IF(AW19=\"\",\"\",AW19)","v":""}]
[]
[]
[]
[null,"増減額",null,null,null,null,{"$f":"IF(G23=\"\",\"\",G23)","v":""},null,null,null,null,null,null,null,null,null,null,{"$f":"IF(R23=\"\",\"\",R23)","v":""},null,{"$f":"IF(T23=\"\",\"\",T23)","v":""},null,{"$f":"IF(V23=\"\",\"\",V23)","v":""},null,{"$f":"IF(X23=\"\",\"\",X23)","v":""},null,{"$f":"IF(Z23=\"\",\"\",Z23)","v":""},null,{"$f":"IF(AB23=\"\",\"\",AB23)","v":""},null,{"$f":"IF(AD23=\"\",\"\",AD23)","v":""},null,{"$f":"IF(AF23=\"\",\"\",AF23)","v":""},null,{"$f":"IF(AH23=\"\",\"\",AH23)","v":""},null,{"$f":"IF(AJ23=\"\",\"\",AJ23)","v":""},null,{"$f":"IF(AL23=\"\",\"\",AL23)","v":""},null,null,{"$f":"IF(AO23=\"\",\"\",AO23)","v":""},null,null,{"$f":"IF(AR23=\"\",\"\",AR23)","v":""},null,null,null,null,{"$f":"IF(AW23=\"\",\"\",AW23)","v":""}]
[]
[]
[]
[null,"前回までの\n請求額",null,null,null,null,{"$f":"IF(G27=\"\",\"\",G27)","v":""},null,null,null,null,null,null,null,null,null,null,{"$f":"IF(R27=\"\",\"\",R27)","v":""},null,{"$f":"IF(T27=\"\",\"\",T27)","v":""},null,{"$f":"IF(V27=\"\",\"\",V27)","v":""},null,{"$f":"IF(X27=\"\",\"\",X27)","v":""},null,{"$f":"IF(Z27=\"\",\"\",Z27)","v":""},null,{"$f":"IF(AB27=\"\",\"\",AB27)","v":""},null,{"$f":"IF(AD27=\"\",\"\",AD27)","v":""},null,{"$f":"IF(AF27=\"\",\"\",AF27)","v":""},null,{"$f":"IF(AH27=\"\",\"\",AH27)","v":""},null,{"$f":"IF(AJ27=\"\",\"\",AJ27)","v":""},null,{"$f":"IF(AL27=\"\",\"\",AL27)","v":""},null,null,{"$f":"IF(AO27=\"\",\"\",AO27)","v":""},null,null,{"$f":"IF(AR27=\"\",\"\",AR27)","v":""},null,null,null,null,{"$f":"IF(AW27=\"\",\"\",AW27)","v":""}]
[]
[]
[]
[null,"今回\n請求額",null,null,{"$f":"IF(E31=\"\",\"\",E31)","v":""},null,{"$f":"IF(G31=\"\",\"\",G31)","v":""},null,null,null,null,null,null,null,null,null,null,{"$f":"IF(R31=\"\",\"\",R31)","v":""},null,{"$f":"IF(T31=\"\",\"\",T31)","v":""},null,{"$f":"IF(V31=\"\",\"\",V31)","v":""},null,{"$f":"IF(X31=\"\",\"\",X31)","v":""},null,{"$f":"IF(Z31=\"\",\"\",Z31)","v":""},null,{"$f":"IF(AB31=\"\",\"\",AB31)","v":""},null,{"$f":"IF(AD31=\"\",\"\",AD31)","v":""},null,{"$f":"IF(AF31=\"\",\"\",AF31)","v":""},null,{"$f":"IF(AH31=\"\",\"\",AH31)","v":""},null,{"$f":"IF(AJ31=\"\",\"\",AJ31)","v":""},null,{"$f":"IF(AL31=\"\",\"\",AL31)","v":""},null,null,{"$f":"IF(AO31=\"\",\"\",AO31)","v":""},null,null,{"$f":"IF(AR31=\"\",\"\",AR31)","v":""},null,null,null,null,{"$f":"IF(AW31=\"\",\"\",AW31)","v":""}]
[]
[]
[]
[null,"差引残高",null,null,null,null,{"$f":"IF(G111=\"\",\"\",G111+G115-G119-G123)","v":""},null,null,null,null,null,null,null,null,null,null,{"$f":"IF(R35=\"\",\"\",R35)","v":""},null,{"$f":"IF(T35=\"\",\"\",T35)","v":""},null,{"$f":"IF(V35=\"\",\"\",V35)","v":""},null,{"$f":"IF(X35=\"\",\"\",X35)","v":""},null,{"$f":"IF(Z35=\"\",\"\",Z35)","v":""},null,{"$f":"IF(AB35=\"\",\"\",AB35)","v":""},null,{"$f":"IF(AD35=\"\",\"\",AD35)","v":""},null,{"$f":"IF(AF35=\"\",\"\",AF35)","v":""},null,{"$f":"IF(AH35=\"\",\"\",AH35)","v":""},null,{"$f":"IF(AJ35=\"\",\"\",AJ35)","v":""},null,{"$f":"IF(AL35=\"\",\"\",AL35)","v":""},null,null,{"$f":"IF(AO35=\"\",\"\",AO35)","v":""},null,null,{"$f":"IF(AR35=\"\",\"\",AR35)","v":""},null,null,null,null,{"$f":"IF(AW35=\"\",\"\",AW35)","v":""}]
[]
[]
[]
[null,null,null,null,null,null,null,null,null,null,null,null,null,null,null,null,null,{"$f":"IF(R39=\"\",\"\",R39)","v":""},null,{"$f":"IF(T39=\"\",\"\",T39)","v":""},null,{"$f":"IF(V39=\"\",\"\",V39)","v":""},null,{"$f":"IF(X39=\"\",\"\",X39)","v":""},null,{"$f":"IF(Z39=\"\",\"\",Z39)","v":""},null,{"$f":"IF(AB39=\"\",\"\",AB39)","v":""},null,{"$f":"IF(AD39=\"\",\"\",AD39)","v":""},null,{"$f":"IF(AF39=\"\",\"\",AF39)","v":""},null,{"$f":"IF(AH39=\"\",\"\",AH39)","v":""},null,{"$f":"IF(AJ39=\"\",\"\",AJ39)","v":""},null,{"$f":"IF(AL39=\"\",\"\",AL39)","v":""},null,null,{"$f":"IF(AO39=\"\",\"\",AO39)","v":""},null,null,{"$f":"IF(AR39=\"\",\"\",AR39)","v":""},null,null,null,null,{"$f":"IF(AW39=\"\",\"\",AW39)","v":""}]
[]
[]
[]
[null,null,null,null,null,null,null,null,null,null,null,null,null,null,null,null,null,{"$f":"IF(R43=\"\",\"\",R43)","v":""},null,{"$f":"IF(T43=\"\",\"\",T43)","v":""},null,{"$f":"IF(V43=\"\",\"\",V43)","v":""},null,{"$f":"IF(X43=\"\",\"\",X43)","v":""},null,{"$f":"IF(Z43=\"\",\"\",Z43)","v":""},null,{"$f":"IF(AB43=\"\",\"\",AB43)","v":""},null,{"$f":"IF(AD43=\"\",\"\",AD43)","v":""},null,{"$f":"IF(AF43=\"\",\"\",AF43)","v":""},null,{"$f":"IF(AH43=\"\",\"\",AH43)","v":""},null,{"$f":"IF(AJ43=\"\",\"\",AJ43)","v":""},null,{"$f":"IF(AL43=\"\",\"\",AL43)","v":""},null,null,{"$f":"IF(AO43=\"\",\"\",AO43)","v":""},null,null,{"$f":"IF(AR43=\"\",\"\",AR43)","v":""},null,null,null,null,{"$f":"IF(AW43=\"\",\"\",AW43)","v":""}]
[]
[]
[]
[null,null,null,null,null,null,null,null,null,null,null,null,null,null,null,null,null,{"$f":"IF(R47=\"\",\"\",R47)","v":""},null,{"$f":"IF(T47=\"\",\"\",T47)","v":""},null,{"$f":"IF(V47=\"\",\"\",V47)","v":""},null,{"$f":"IF(X47=\"\",\"\",X47)","v":""},null,{"$f":"IF(Z47=\"\",\"\",Z47)","v":""},null,{"$f":"IF(AB47=\"\",\"\",AB47)","v":""},null,{"$f":"IF(AD47=\"\",\"\",AD47)","v":""},null,{"$f":"IF(AF47=\"\",\"\",AF47)","v":""},null,{"$f":"IF(AH47=\"\",\"\",AH47)","v":""},null,{"$f":"IF(AJ47=\"\",\"\",AJ47)","v":""},null,{"$f":"IF(AL47=\"\",\"\",AL47)","v":""},null,null,{"$f":"IF(AO47=\"\",\"\",AO47)","v":""},null,null,{"$f":"IF(AR47=\"\",\"\",AR47)","v":""},null,null,null,null,{"$f":"IF(AW47=\"\",\"\",AW47)","v":""}]
[]
[]
[]
[null,null,null,null,null,null,null,null,null,null,null,null,null,null,null,null,null,{"$f":"IF(R51=\"\",\"\",R51)","v":""},null,{"$f":"IF(T51=\"\",\"\",T51)","v":""},null,{"$f":"IF(V51=\"\",\"\",V51)","v":""},null,{"$f":"IF(X51=\"\",\"\",X51)","v":""},null,{"$f":"IF(Z51=\"\",\"\",Z51)","v":""},null,{"$f":"IF(AB51=\"\",\"\",AB51)","v":""},null,{"$f":"IF(AD51=\"\",\"\",AD51)","v":""},null,{"$f":"IF(AF51=\"\",\"\",AF51)","v":""},null,{"$f":"IF(AH51=\"\",\"\",AH51)","v":""},null,{"$f":"IF(AJ51=\"\",\"\",AJ51)","v":""},null,{"$f":"IF(AL51=\"\",\"\",AL51)","v":""},null,null,{"$f":"IF(AO51=\"\",\"\",AO51)","v":""},null,null,{"$f":"IF(AR51=\"\",\"\",AR51)","v":""},null,null,null,null,{"$f":"IF(AW51=\"\",\"\",AW51)","v":""}]
[]
[]
[]
[null,null,null,null,null,null,null,null,null,null,null,null,null,null,null,null,null,{"$f":"IF(R55=\"\",\"\",R55)","v":""},null,{"$f":"IF(T55=\"\",\"\",T55)","v":""},null,{"$f":"IF(V55=\"\",\"\",V55)","v":""},null,{"$f":"IF(X55=\"\",\"\",X55)","v":""},null,{"$f":"IF(Z55=\"\",\"\",Z55)","v":""},null,{"$f":"IF(AB55=\"\",\"\",AB55)","v":""},null,{"$f":"IF(AD55=\"\",\"\",AD55)","v":""},null,{"$f":"IF(AF55=\"\",\"\",AF55)","v":""},null,{"$f":"IF(AH55=\"\",\"\",AH55)","v":""},null,{"$f":"IF(AJ55=\"\",\"\",AJ55)","v":""},null,{"$f":"IF(AL55=\"\",\"\",AL55)","v":""},null,null,{"$f":"IF(AO55=\"\",\"\",AO55)","v":""},null,null,{"$f":"IF(AR55=\"\",\"\",AR55)","v":""},null,null,null,null,{"$f":"IF(AW55=\"\",\"\",AW55)","v":""}]
[]
[]
[]
[null,null,null,null,null,null,null,null,null,null,null,null,null,null,null,null,null,{"$f":"IF(R59=\"\",\"\",R59)","v":""},null,{"$f":"IF(T59=\"\",\"\",T59)","v":""},null,{"$f":"IF(V59=\"\",\"\",V59)","v":""},null,{"$f":"IF(X59=\"\",\"\",X59)","v":""},null,{"$f":"IF(Z59=\"\",\"\",Z59)","v":""},null,{"$f":"IF(AB59=\"\",\"\",AB59)","v":""},null,{"$f":"IF(AD59=\"\",\"\",AD59)","v":""},null,{"$f":"IF(AF59=\"\",\"\",AF59)","v":""},null,{"$f":"IF(AH59=\"\",\"\",AH59)","v":""},null,{"$f":"IF(AJ59=\"\",\"\",AJ59)","v":""},null,{"$f":"IF(AL59=\"\",\"\",AL59)","v":""},null,null,{"$f":"IF(AO59=\"\",\"\",AO59)","v":""},null,null,{"$f":"IF(AR59=\"\",\"\",AR59)","v":""},null,null,null,null,{"$f":"IF(AW59=\"\",\"\",AW59)","v":""}]
[]
[]
[]
[null,null,null,null,null,null,null,null,null,null,null,null,null,null,null,null,null,{"$f":"IF(R63=\"\",\"\",R63)","v":""},null,{"$f":"IF(T63=\"\",\"\",T63)","v":""},null,{"$f":"IF(V63=\"\",\"\",V63)","v":""},null,{"$f":"IF(X63=\"\",\"\",X63)","v":""},null,{"$f":"IF(Z63=\"\",\"\",Z63)","v":""},null,{"$f":"IF(AB63=\"\",\"\",AB63)","v":""},null,{"$f":"IF(AD63=\"\",\"\",AD63)","v":""},null,{"$f":"IF(AF63=\"\",\"\",AF63)","v":""},null,{"$f":"IF(AH63=\"\",\"\",AH63)","v":""},null,{"$f":"IF(AJ63=\"\",\"\",AJ63)","v":""},null,{"$f":"IF(AL63=\"\",\"\",AL63)","v":""},null,null,{"$f":"IF(AO63=\"\",\"\",AO63)","v":""},null,null,{"$f":"IF(AR63=\"\",\"\",AR63)","v":""},null,null,null,null,{"$f":"IF(AW63=\"\",\"\",AW63)","v":""}]
[]
[]
[]
[null,null,null,null,null,null,null,null,null,null,null,null,null,null,null,null,null,{"$f":"IF(R67=\"\",\"\",R67)","v":""},null,{"$f":"IF(T67=\"\",\"\",T67)","v":""},null,{"$f":"IF(V67=\"\",\"\",V67)","v":""},null,{"$f":"IF(X67=\"\",\"\",X67)","v":""},null,{"$f":"IF(Z67=\"\",\"\",Z67)","v":""},null,{"$f":"IF(AB67=\"\",\"\",AB67)","v":""},null,{"$f":"IF(AD67=\"\",\"\",AD67)","v":""},null,{"$f":"IF(AF67=\"\",\"\",AF67)","v":""},null,{"$f":"IF(AH67=\"\",\"\",AH67)","v":""},null,{"$f":"IF(AJ67=\"\",\"\",AJ67)","v":""},null,{"$f":"IF(AL67=\"\",\"\",AL67)","v":""},null,null,{"$f":"IF(AO67=\"\",\"\",AO67)","v":""},null,null,{"$f":"IF(AR67=\"\",\"\",AR67)","v":""},null,null,null,null,{"$f":"IF(AW67=\"\",\"\",AW67)","v":""}]
[]
[]
[]
[null,null,null,null,null,null,null,null,null,null,null,null,null,null,null,null,null,{"$f":"IF(R71=\"\",\"\",R71)","v":""},null,{"$f":"IF(T71=\"\",\"\",T71)","v":""},null,{"$f":"IF(V71=\"\",\"\",V71)","v":""},null,{"$f":"IF(X71=\"\",\"\",X71)","v":""},null,{"$f":"IF(Z71=\"\",\"\",Z71)","v":""},null,{"$f":"IF(AB71=\"\",\"\",AB71)","v":""},null,{"$f":"IF(AD71=\"\",\"\",AD71)","v":""},null,{"$f":"IF(AF71=\"\",\"\",AF71)","v":""},null,{"$f":"IF(AH71=\"\",\"\",AH71)","v":""},null,{"$f":"IF(AJ71=\"\",\"\",AJ71)","v":""},null,{"$f":"IF(AL71=\"\",\"\",AL71)","v":""},null,null,{"$f":"IF(AO71=\"\",\"\",AO71)","v":""},null,null,{"$f":"IF(AR71=\"\",\"\",AR71)","v":""},null,null,null,null,{"$f":"IF(AW71=\"\",\"\",AW71)","v":""}]
[]
[]
[]
[null,null,null,null,null,null,null,null,null,null,null,null,null,null,null,null,null,{"$f":"IF(R75=\"\",\"\",R75)","v":""},null,{"$f":"IF(T75=\"\",\"\",T75)","v":""},null,{"$f":"IF(V75=\"\",\"\",V75)","v":""},null,{"$f":"IF(X75=\"\",\"\",X75)","v":""},null,{"$f":"IF(Z75=\"\",\"\",Z75)","v":""},null,{"$f":"IF(AB75=\"\",\"\",AB75)","v":""},null,{"$f":"IF(AD75=\"\",\"\",AD75)","v":""},null,{"$f":"IF(AF75=\"\",\"\",AF75)","v":""},null,{"$f":"IF(AH75=\"\",\"\",AH75)","v":""},null,{"$f":"IF(AJ75=\"\",\"\",AJ75)","v":""},null,{"$f":"IF(AL75=\"\",\"\",AL75)","v":""},null,null,{"$f":"IF(AO75=\"\",\"\",AO75)","v":""},null,null,{"$f":"IF(AR75=\"\",\"\",AR75)","v":""},null,null,null,null,{"$f":"IF(AW75=\"\",\"\",AW75)","v":""}]
[]
[]
[]
[null,null,null,null,null,null,null,null,null,null,null,null,null,null,null,null,null,{"$f":"IF(R79=\"\",\"\",R79)","v":""},null,{"$f":"IF(T79=\"\",\"\",T79)","v":""},null,{"$f":"IF(V79=\"\",\"\",V79)","v":""},null,{"$f":"IF(X79=\"\",\"\",X79)","v":""},null,{"$f":"IF(Z79=\"\",\"\",Z79)","v":""},null,{"$f":"IF(AB79=\"\",\"\",AB79)","v":""},null,{"$f":"IF(AD79=\"\",\"\",AD79)","v":""},null,{"$f":"IF(AF79=\"\",\"\",AF79)","v":""},null,{"$f":"IF(AH79=\"\",\"\",AH79)","v":""},null,{"$f":"IF(AJ79=\"\",\"\",AJ79)","v":""},null,{"$f":"IF(AL79=\"\",\"\",AL79)","v":""},null,null,{"$f":"IF(AO79=\"\",\"\",AO79)","v":""},null,null,{"$f":"IF(AR79=\"\",\"\",AR79)","v":""},null,null,null,null,{"$f":"IF(AW79=\"\",\"\",AW79)","v":""}]
[]
[]
[]
[null,null,null,null,null,null,null,null,null,null,null,null,null,null,null,null,null,null,null,null,null,null,null,null,null,null,null,null,null,null,null,null,null,null,null,null,null,{"$f":"AL83","v":"金額(税抜)"},null,null,null,null,null,null,null,null,null,null,{"$f":"AW83","v":""}]
[]
[]
[]
[]
[null,null,null,null,null,null,null,null,null,null,null,null,null,null,null,null,null,null,null,null,null,null,null,null,null,null,null,null,null,null,null,null,null,null,null,null,null,{"$f":"AL88","v":"消費税"},null,null,null,null,null,"税率",null,null,"税調",null,{"$f":"AW88","v":""}]
[]
[null,null,null,null,null,null,null,null,null,null,null,null,null,null,null,null,null,null,null,null,null,null,null,null,null,null,null,null,null,null,null,null,null,null,null,null,null,null,null,null,null,null,null,{"$f":"AR90","v":0},null,{"$f":"AT90","v":""}]
[]
[]
[]
[null,null,null,null,null,null,null,null,null,null,null,null,null,null,null,null,null,null,null,"請求明細書 (貴社控)"]
[null,"株 式 会 社 種 村 建 設",null,null,null,null,null,null,null,null,null,null,"御中"]
[null,null,null,null,null,null,null,null,null,null,null,null,null,null,null,null,null,null,null,null,null,null,null,null,null,null,null,null,null,null,null,null,null,null,null,null,null,null,null,null,"請求年月日",null,null,null,null,{"$f":"IF(AT4=\"\",\"\",AT4)","v":""},null,null,null,{"$f":"IF(AX96=\"\",\"\",AX96)","v":""},null,null,{"$f":"IF(BA96=\"\",\"\",BA96)","v":""}]
[]
[]
[]
[]
[null,"工事番号",null,null,null,null,{"$f":"IF(G101=\"\",\"\",G101)","v":""},null,null,null,null,null,"工事名",null,null,null,{"$f":"IF(Q101=\"\",\"\",Q101)","v":""},null,null,null,null,null,null,null,null,null,null,null,null,null,null,null,null,null,null,null,null,"業者名",null,null,null,{"$f":"IF(AP101=\"\",\"\",AP101)","v":""}]
[]
[]
[]
[]
[]
[null,"注文番号",null,null,null,null,{"$f":"IF(G107=\"\",\"\",G107)","v":""},null,null,null,null,null,null,null,null,null,null,"月　日",null,null,null,"品　名・内　訳",null,null,null,null,null,null,null,null,null,null,null,null,null,null,null,"数 量",null,null,"単位",null,null,"単価",null,null,null,null,{"$f":"AW15","v":"金額(税抜)"}]
[]
[]
[]
[null,"契約金額",null,null,null,null,{"$f":"IF(G111=\"\",\"\",G111)","v":""},null,null,null,null,null,null,null,null,null,null,{"$f":"IF(R111=\"\",\"\",R111)","v":""},null,{"$f":"IF(T111=\"\",\"\",T111)","v":""},null,{"$f":"IF(V111=\"\",\"\",V111)","v":""},null,{"$f":"IF(X111=\"\",\"\",X111)","v":""},null,{"$f":"IF(Z111=\"\",\"\",Z111)","v":""},null,{"$f":"IF(AB111=\"\",\"\",AB111)","v":""},null,{"$f":"IF(AD111=\"\",\"\",AD111)","v":""},null,{"$f":"IF(AF111=\"\",\"\",AF111)","v":""},null,{"$f":"IF(AH111=\"\",\"\",AH111)","v":""},null,{"$f":"IF(AJ111=\"\",\"\",AJ111)","v":""},null,{"$f":"IF(AL111=\"\",\"\",AL111)","v":""},null,null,{"$f":"IF(AO111=\"\",\"\",AO111)","v":""},null,null,{"$f":"IF(AR111=\"\",\"\",AR111)","v":""},null,null,null,null,{"$f":"IF(AW111=\"\",\"\",AW111)","v":""}]
[]
[]
[]
[null,"増減額",null,null,null,null,{"$f":"IF(G115=\"\",\"\",G115)","v":""},null,null,null,null,null,null,null,null,null,null,{"$f":"IF(R115=\"\",\"\",R115)","v":""},null,{"$f":"IF(T115=\"\",\"\",T115)","v":""},null,{"$f":"IF(V115=\"\",\"\",V115)","v":""},null,{"$f":"IF(X115=\"\",\"\",X115)","v":""},null,{"$f":"IF(Z115=\"\",\"\",Z115)","v":""},null,{"$f":"IF(AB115=\"\",\"\",AB115)","v":""},null,{"$f":"IF(AD115=\"\",\"\",AD115)","v":""},null,{"$f":"IF(AF115=\"\",\"\",AF115)","v":""},null,{"$f":"IF(AH115=\"\",\"\",AH115)","v":""},null,{"$f":"IF(AJ115=\"\",\"\",AJ115)","v":""},null,{"$f":"IF(AL115=\"\",\"\",AL115)","v":""},null,null,{"$f":"IF(AO115=\"\",\"\",AO115)","v":""},null,null,{"$f":"IF(AR115=\"\",\"\",AR115)","v":""},null,null,null,null,{"$f":"IF(AW115=\"\",\"\",AW115)","v":""}]
[]
[]
[]
[null,"前回までの\n請求額",null,null,null,null,{"$f":"IF(G119=\"\",\"\",G119)","v":""},null,null,null,null,null,null,null,null,null,null,{"$f":"IF(R119=\"\",\"\",R119)","v":""},null,{"$f":"IF(T119=\"\",\"\",T119)","v":""},null,{"$f":"IF(V119=\"\",\"\",V119)","v":""},null,{"$f":"IF(X119=\"\",\"\",X119)","v":""},null,{"$f":"IF(Z119=\"\",\"\",Z119)","v":""},null,{"$f":"IF(AB119=\"\",\"\",AB119)","v":""},null,{"$f":"IF(AD119=\"\",\"\",AD119)","v":""},null,{"$f":"IF(AF119=\"\",\"\",AF119)","v":""},null,{"$f":"IF(AH119=\"\",\"\",AH119)","v":""},null,{"$f":"IF(AJ119=\"\",\"\",AJ119)","v":""},null,{"$f":"IF(AL119=\"\",\"\",AL119)","v":""},null,null,{"$f":"IF(AO119=\"\",\"\",AO119)","v":""},null,null,{"$f":"IF(AR119=\"\",\"\",AR119)","v":""},null,null,null,null,{"$f":"IF(AW119=\"\",\"\",AW119)","v":""}]
[]
[]
[]
[null,"今回\n請求額",null,null,{"$f":"IF(E31=\"\",\"\",E31)","v":""},null,{"$f":"IF(G123=\"\",\"\",G123)","v":""},null,null,null,null,null,null,null,null,null,null,{"$f":"IF(R123=\"\",\"\",R123)","v":""},null,{"$f":"IF(T123=\"\",\"\",T123)","v":""},null,{"$f":"IF(V123=\"\",\"\",V123)","v":""},null,{"$f":"IF(X123=\"\",\"\",X123)","v":""},null,{"$f":"IF(Z123=\"\",\"\",Z123)","v":""},null,{"$f":"IF(AB123=\"\",\"\",AB123)","v":""},null,{"$f":"IF(AD123=\"\",\"\",AD123)","v":""},null,{"$f":"IF(AF123=\"\",\"\",AF123)","v":""},null,{"$f":"IF(AH123=\"\",\"\",AH123)","v":""},null,{"$f":"IF(AJ123=\"\",\"\",AJ123)","v":""},null,{"$f":"IF(AL123=\"\",\"\",AL123)","v":""},null,null,{"$f":"IF(AO123=\"\",\"\",AO123)","v":""},null,null,{"$f":"IF(AR123=\"\",\"\",AR123)","v":""},null,null,null,null,{"$f":"IF(AW123=\"\",\"\",AW123)","v":""}]
[]
[]
[]
[null,"差引残高",null,null,null,null,{"$f":"IF(G203=\"\",\"\",G203+G207-G211-G215)","v":""},null,null,null,null,null,null,null,null,null,null,{"$f":"IF(R127=\"\",\"\",R127)","v":""},null,{"$f":"IF(T127=\"\",\"\",T127)","v":""},null,{"$f":"IF(V127=\"\",\"\",V127)","v":""},null,{"$f":"IF(X127=\"\",\"\",X127)","v":""},null,{"$f":"IF(Z127=\"\",\"\",Z127)","v":""},null,{"$f":"IF(AB127=\"\",\"\",AB127)","v":""},null,{"$f":"IF(AD127=\"\",\"\",AD127)","v":""},null,{"$f":"IF(AF127=\"\",\"\",AF127)","v":""},null,{"$f":"IF(AH127=\"\",\"\",AH127)","v":""},null,{"$f":"IF(AJ127=\"\",\"\",AJ127)","v":""},null,{"$f":"IF(AL127=\"\",\"\",AL127)","v":""},null,null,{"$f":"IF(AO127=\"\",\"\",AO127)","v":""},null,null,{"$f":"IF(AR127=\"\",\"\",AR127)","v":""},null,null,null,null,{"$f":"IF(AW127=\"\",\"\",AW127)","v":""}]
[]
[]
[]
[null,null,null,null,null,null,null,null,null,null,null,null,null,null,null,null,null,{"$f":"IF(R131=\"\",\"\",R131)","v":""},null,{"$f":"IF(T131=\"\",\"\",T131)","v":""},null,{"$f":"IF(V131=\"\",\"\",V131)","v":""},null,{"$f":"IF(X131=\"\",\"\",X131)","v":""},null,{"$f":"IF(Z131=\"\",\"\",Z131)","v":""},null,{"$f":"IF(AB131=\"\",\"\",AB131)","v":""},null,{"$f":"IF(AD131=\"\",\"\",AD131)","v":""},null,{"$f":"IF(AF131=\"\",\"\",AF131)","v":""},null,{"$f":"IF(AH131=\"\",\"\",AH131)","v":""},null,{"$f":"IF(AJ131=\"\",\"\",AJ131)","v":""},null,{"$f":"IF(AL131=\"\",\"\",AL131)","v":""},null,null,{"$f":"IF(AO131=\"\",\"\",AO131)","v":""},null,null,{"$f":"IF(AR131=\"\",\"\",AR131)","v":""},null,null,null,null,{"$f":"IF(AW131=\"\",\"\",AW131)","v":""}]
[]
[]
[]
[null,null,null,null,null,null,null,null,null,null,null,null,null,null,null,null,null,{"$f":"IF(R135=\"\",\"\",R135)","v":""},null,{"$f":"IF(T135=\"\",\"\",T135)","v":""},null,{"$f":"IF(V135=\"\",\"\",V135)","v":""},null,{"$f":"IF(X135=\"\",\"\",X135)","v":""},null,{"$f":"IF(Z135=\"\",\"\",Z135)","v":""},null,{"$f":"IF(AB135=\"\",\"\",AB135)","v":""},null,{"$f":"IF(AD135=\"\",\"\",AD135)","v":""},null,{"$f":"IF(AF135=\"\",\"\",AF135)","v":""},null,{"$f":"IF(AH135=\"\",\"\",AH135)","v":""},null,{"$f":"IF(AJ135=\"\",\"\",AJ135)","v":""},null,{"$f":"IF(AL135=\"\",\"\",AL135)","v":""},null,null,{"$f":"IF(AO135=\"\",\"\",AO135)","v":""},null,null,{"$f":"IF(AR135=\"\",\"\",AR135)","v":""},null,null,null,null,{"$f":"IF(AW135=\"\",\"\",AW135)","v":""}]
[]
[]
[]
[null,null,null,null,null,null,null,null,null,null,null,null,null,null,null,null,null,{"$f":"IF(R139=\"\",\"\",R139)","v":""},null,{"$f":"IF(T139=\"\",\"\",T139)","v":""},null,{"$f":"IF(V139=\"\",\"\",V139)","v":""},null,{"$f":"IF(X139=\"\",\"\",X139)","v":""},null,{"$f":"IF(Z139=\"\",\"\",Z139)","v":""},null,{"$f":"IF(AB139=\"\",\"\",AB139)","v":""},null,{"$f":"IF(AD139=\"\",\"\",AD139)","v":""},null,{"$f":"IF(AF139=\"\",\"\",AF139)","v":""},null,{"$f":"IF(AH139=\"\",\"\",AH139)","v":""},null,{"$f":"IF(AJ139=\"\",\"\",AJ139)","v":""},null,{"$f":"IF(AL139=\"\",\"\",AL139)","v":""},null,null,{"$f":"IF(AO139=\"\",\"\",AO139)","v":""},null,null,{"$f":"IF(AR139=\"\",\"\",AR139)","v":""},null,null,null,null,{"$f":"IF(AW139=\"\",\"\",AW139)","v":""}]
[]
[]
[]
[null,null,null,null,null,null,null,null,null,null,null,null,null,null,null,null,null,{"$f":"IF(R143=\"\",\"\",R143)","v":""},null,{"$f":"IF(T143=\"\",\"\",T143)","v":""},null,{"$f":"IF(V143=\"\",\"\",V143)","v":""},null,{"$f":"IF(X143=\"\",\"\",X143)","v":""},null,{"$f":"IF(Z143=\"\",\"\",Z143)","v":""},null,{"$f":"IF(AB143=\"\",\"\",AB143)","v":""},null,{"$f":"IF(AD143=\"\",\"\",AD143)","v":""},null,{"$f":"IF(AF143=\"\",\"\",AF143)","v":""},null,{"$f":"IF(AH143=\"\",\"\",AH143)","v":""},null,{"$f":"IF(AJ143=\"\",\"\",AJ143)","v":""},null,{"$f":"IF(AL143=\"\",\"\",AL143)","v":""},null,null,{"$f":"IF(AO143=\"\",\"\",AO143)","v":""},null,null,{"$f":"IF(AR143=\"\",\"\",AR143)","v":""},null,null,null,null,{"$f":"IF(AW143=\"\",\"\",AW143)","v":""}]
[]
[]
[]
[null,null,null,null,null,null,null,null,null,null,null,null,null,null,null,null,null,{"$f":"IF(R147=\"\",\"\",R147)","v":""},null,{"$f":"IF(T147=\"\",\"\",T147)","v":""},null,{"$f":"IF(V147=\"\",\"\",V147)","v":""},null,{"$f":"IF(X147=\"\",\"\",X147)","v":""},null,{"$f":"IF(Z147=\"\",\"\",Z147)","v":""},null,{"$f":"IF(AB147=\"\",\"\",AB147)","v":""},null,{"$f":"IF(AD147=\"\",\"\",AD147)","v":""},null,{"$f":"IF(AF147=\"\",\"\",AF147)","v":""},null,{"$f":"IF(AH147=\"\",\"\",AH147)","v":""},null,{"$f":"IF(AJ147=\"\",\"\",AJ147)","v":""},null,{"$f":"IF(AL147=\"\",\"\",AL147)","v":""},null,null,{"$f":"IF(AO147=\"\",\"\",AO147)","v":""},null,null,{"$f":"IF(AR147=\"\",\"\",AR147)","v":""},null,null,null,null,{"$f":"IF(AW147=\"\",\"\",AW147)","v":""}]
[]
[]
[]
[null,null,null,null,null,null,null,null,null,null,null,null,null,null,null,null,null,{"$f":"IF(R151=\"\",\"\",R151)","v":""},null,{"$f":"IF(T151=\"\",\"\",T151)","v":""},null,{"$f":"IF(V151=\"\",\"\",V151)","v":""},null,{"$f":"IF(X151=\"\",\"\",X151)","v":""},null,{"$f":"IF(Z151=\"\",\"\",Z151)","v":""},null,{"$f":"IF(AB151=\"\",\"\",AB151)","v":""},null,{"$f":"IF(AD151=\"\",\"\",AD151)","v":""},null,{"$f":"IF(AF151=\"\",\"\",AF151)","v":""},null,{"$f":"IF(AH151=\"\",\"\",AH151)","v":""},null,{"$f":"IF(AJ151=\"\",\"\",AJ151)","v":""},null,{"$f":"IF(AL151=\"\",\"\",AL151)","v":""},null,null,{"$f":"IF(AO151=\"\",\"\",AO151)","v":""},null,null,{"$f":"IF(AR151=\"\",\"\",AR151)","v":""},null,null,null,null,{"$f":"IF(AW151=\"\",\"\",AW151)","v":""}]
[]
[]
[]
[null,null,null,null,null,null,null,null,null,null,null,null,null,null,null,null,null,{"$f":"IF(R155=\"\",\"\",R155)","v":""},null,{"$f":"IF(T155=\"\",\"\",T155)","v":""},null,{"$f":"IF(V155=\"\",\"\",V155)","v":""},null,{"$f":"IF(X155=\"\",\"\",X155)","v":""},null,{"$f":"IF(Z155=\"\",\"\",Z155)","v":""},null,{"$f":"IF(AB155=\"\",\"\",AB155)","v":""},null,{"$f":"IF(AD155=\"\",\"\",AD155)","v":""},null,{"$f":"IF(AF155=\"\",\"\",AF155)","v":""},null,{"$f":"IF(AH155=\"\",\"\",AH155)","v":""},null,{"$f":"IF(AJ155=\"\",\"\",AJ155)","v":""},null,{"$f":"IF(AL155=\"\",\"\",AL155)","v":""},null,null,{"$f":"IF(AO155=\"\",\"\",AO155)","v":""},null,null,{"$f":"IF(AR155=\"\",\"\",AR155)","v":""},null,null,null,null,{"$f":"IF(AW155=\"\",\"\",AW155)","v":""}]
[]
[]
[]
[null,null,null,null,null,null,null,null,null,null,null,null,null,null,null,null,null,{"$f":"IF(R159=\"\",\"\",R159)","v":""},null,{"$f":"IF(T159=\"\",\"\",T159)","v":""},null,{"$f":"IF(V159=\"\",\"\",V159)","v":""},null,{"$f":"IF(X159=\"\",\"\",X159)","v":""},null,{"$f":"IF(Z159=\"\",\"\",Z159)","v":""},null,{"$f":"IF(AB159=\"\",\"\",AB159)","v":""},null,{"$f":"IF(AD159=\"\",\"\",AD159)","v":""},null,{"$f":"IF(AF159=\"\",\"\",AF159)","v":""},null,{"$f":"IF(AH159=\"\",\"\",AH159)","v":""},null,{"$f":"IF(AJ159=\"\",\"\",AJ159)","v":""},null,{"$f":"IF(AL159=\"\",\"\",AL159)","v":""},null,null,{"$f":"IF(AO159=\"\",\"\",AO159)","v":""},null,null,{"$f":"IF(AR159=\"\",\"\",AR159)","v":""},null,null,null,null,{"$f":"IF(AW159=\"\",\"\",AW159)","v":""}]
[]
[]
[]
[null,null,null,null,null,null,null,null,null,null,null,null,null,null,null,null,null,{"$f":"IF(R163=\"\",\"\",R163)","v":""},null,{"$f":"IF(T163=\"\",\"\",T163)","v":""},null,{"$f":"IF(V163=\"\",\"\",V163)","v":""},null,{"$f":"IF(X163=\"\",\"\",X163)","v":""},null,{"$f":"IF(Z163=\"\",\"\",Z163)","v":""},null,{"$f":"IF(AB163=\"\",\"\",AB163)","v":""},null,{"$f":"IF(AD163=\"\",\"\",AD163)","v":""},null,{"$f":"IF(AF163=\"\",\"\",AF163)","v":""},null,{"$f":"IF(AH163=\"\",\"\",AH163)","v":""},null,{"$f":"IF(AJ163=\"\",\"\",AJ163)","v":""},null,{"$f":"IF(AL163=\"\",\"\",AL163)","v":""},null,null,{"$f":"IF(AO163=\"\",\"\",AO163)","v":""},null,null,{"$f":"IF(AR163=\"\",\"\",AR163)","v":""},null,null,null,null,{"$f":"IF(AW163=\"\",\"\",AW163)","v":""}]
[]
[]
[]
[null,null,null,null,null,null,null,null,null,null,null,null,null,null,null,null,null,{"$f":"IF(R167=\"\",\"\",R167)","v":""},null,{"$f":"IF(T167=\"\",\"\",T167)","v":""},null,{"$f":"IF(V167=\"\",\"\",V167)","v":""},null,{"$f":"IF(X167=\"\",\"\",X167)","v":""},null,{"$f":"IF(Z167=\"\",\"\",Z167)","v":""},null,{"$f":"IF(AB167=\"\",\"\",AB167)","v":""},null,{"$f":"IF(AD167=\"\",\"\",AD167)","v":""},null,{"$f":"IF(AF167=\"\",\"\",AF167)","v":""},null,{"$f":"IF(AH167=\"\",\"\",AH167)","v":""},null,{"$f":"IF(AJ167=\"\",\"\",AJ167)","v":""},null,{"$f":"IF(AL167=\"\",\"\",AL167)","v":""},null,null,{"$f":"IF(AO167=\"\",\"\",AO167)","v":""},null,null,{"$f":"IF(AR167=\"\",\"\",AR167)","v":""},null,null,null,null,{"$f":"IF(AW167=\"\",\"\",AW167)","v":""}]
[]
[]
[]
[null,null,null,null,null,null,null,null,null,null,null,null,null,null,null,null,null,{"$f":"IF(R171=\"\",\"\",R171)","v":""},null,{"$f":"IF(T171=\"\",\"\",T171)","v":""},null,{"$f":"IF(V171=\"\",\"\",V171)","v":""},null,{"$f":"IF(X171=\"\",\"\",X171)","v":""},null,{"$f":"IF(Z171=\"\",\"\",Z171)","v":""},null,{"$f":"IF(AB171=\"\",\"\",AB171)","v":""},null,{"$f":"IF(AD171=\"\",\"\",AD171)","v":""},null,{"$f":"IF(AF171=\"\",\"\",AF171)","v":""},null,{"$f":"IF(AH171=\"\",\"\",AH171)","v":""},null,{"$f":"IF(AJ171=\"\",\"\",AJ171)","v":""},null,{"$f":"IF(AL171=\"\",\"\",AL171)","v":""},null,null,{"$f":"IF(AO171=\"\",\"\",AO171)","v":""},null,null,{"$f":"IF(AR171=\"\",\"\",AR171)","v":""},null,null,null,null,{"$f":"IF(AW171=\"\",\"\",AW171)","v":""}]
[]
[]
[]
[null,null,null,null,null,null,null,null,null,null,null,null,null,null,null,null,null,null,null,null,null,null,null,null,null,null,null,null,null,null,null,null,null,null,null,null,null,{"$f":"AL175","v":"金額(税抜)"},null,null,null,null,null,null,null,null,null,null,{"$f":"AW83","v":""}]
[]
[]
[]
[]
[null,null,null,null,null,null,null,null,null,null,null,null,null,null,null,null,null,null,null,null,null,null,null,null,null,null,null,null,null,null,null,null,null,null,null,null,null,{"$f":"AL180","v":"消費税"},null,null,null,null,null,"税率",null,null,"税調",null,{"$f":"AW88","v":""}]
[]
[null,null,null,null,null,null,null,null,null,null,null,null,null,null,null,null,null,null,null,null,null,null,null,null,null,null,null,null,null,null,null,null,null,null,null,null,null,null,null,null,null,null,null,{"$f":"AR90","v":0},null,{"$f":"AT90","v":""}]

{"sheet":"細3-10","index":37,"n_rows":274,"n_cols":53,"rows_kept":274,"cut":false,"hidden":false,"merged":[[266,37,269,47],[266,48,269,54],[271,48,274,54],[258,48,261,54],[262,17,265,18],[262,19,265,20],[262,21,265,36],[262,37,265,39],[262,40,265,42],[262,43,265,47],[262,48,265,54],[258,17,261,18],[258,19,261,20],[258,21,261,36],[258,37,261,39],[258,40,261,42],[258,43,261,47],[271,37,274,42],[271,43,272,45],[273,43,274,44],[273,45,274,45],[273,46,274,47],[271,46,272,47],[250,48,253,54],[254,17,257,18],[254,19,257,20],[254,21,257,36],[254,37,257,39],[254,40,257,42],[254,43,257,47],[254,48,257,54],[250,17,253,18],[250,19,253,20],[250,21,253,36],[250,37,253,39],[250,40,253,42],[250,43,253,47],[242,48,245,54],[246,17,249,18],[246,19,249,20],[246,21,249,36],[246,37,249,39],[246,40,249,42],[246,43,249,47],[246,48,249,54],[242,17,245,18],[242,19,245,20],[242,21,245,36],[242,37,245,39],[242,40,245,42],[242,43,245,47],[234,48,237,54],[238,17,241,18],[238,19,241,20],[238,21,241,36],[238,37,241,39],[238,40,241,42],[238,43,241,47],[238,48,241,54],[234,17,237,18],[234,19,237,20],[234,21,237,36],[234,37,237,39],[234,40,237,42],[234,43,237,47],[222,17,225,18],[222,19,225,20],[222,21,225,36],[222,37,225,39],[222,40,225,42],[222,43,225,47],[222,48,225,54],[226,48,229,54],[230,17,233,18],[230,19,233,20],[230,21,233,36],[230,37,233,39],[230,40,233,42],[230,43,233,47],[230,48,233,54],[226,17,229,18],[226,19,229,20],[226,21,229,36],[226,37,229,39],[226,40,229,42],[226,43,229,47],[218,1,221,5],[218,6,221,15],[218,17,221,18],[218,19,221,20],[218,21,221,36],[218,37,221,39],[218,40,221,42],[218,43,221,47],[218,48,221,54],[210,40,213,42],[210,43,213,47],[210,48,213,54],[214,1,217,3],[214,4,217,5],[214,6,217,15],[214,17,217,18],[214,19,217,20],[214,21,217,36],[214,37,217,39],[210,1,213,5],[210,6,213,15],[210,17,213,18],[210,19,213,20],[210,21,213,36],[210,37,213,39],[214,40,217,42],[214,43,217,47],[214,48,217,54],[206,1,209,5],[206,6,209,15],[206,17,209,18],[206,19,209,20],[206,21,209,36],[206,37,209,39],[206,40,209,42],[206,43,209,47],[206,48,209,54],[198,43,201,47],[198,48,201,54],[202,1,205,5],[202,6,205,15],[202,17,205,18],[202,19,205,20],[202,21,205,36],[202,37,205,39],[202,40,205,42],[202,43,205,47],[198,1,201,5],[198,6,201,15],[198,17,201,20],[198,21,201,36],[198,37,201,39],[198,40,201,42],[202,48,205,54],[187,52,189,54],[192,1,195,5],[192,6,195,11],[192,12,195,15],[192,16,195,35],[192,37,195,40],[192,41,195,54],[174,37,177,47],[174,48,177,54],[179,48,182,54],[185,19,188,32],[186,1,189,11],[186,12,189,13],[187,40,189,44],[187,45,189,48],[187,49,189,51],[179,37,182,42],[179,43,180,45],[179,46,180,47],[181,43,182,44],[181,45,182,45],[181,46,182,47],[166,48,169,54],[170,17,173,18],[170,19,173,20],[170,21,173,36],[170,37,173,39],[170,40,173,42],[170,43,173,47],[170,48,173,54],[166,17,169,18],[166,19,169,20],[166,21,169,36],[166,37,169,39],[166,40,169,42],[166,43,169,47],[158,48,161,54],[162,17,165,18],[162,19,165,20],[162,21,165,36],[162,37,165,39],[162,40,165,42],[162,43,165,47],[162,48,165,54],[158,17,161,18],[158,19,161,20],[158,21,161,36],[158,37,161,39],[158,40,161,42],[158,43,161,47],[150,48,153,54],[154,17,157,18],[154,19,157,20],[154,21,157,36],[154,37,157,39],[154,40,157,42],[154,43,157,47],[154,48,157,54],[150,17,153,18],[150,19,153,20],[150,21,153,36],[150,37,153,39],[150,40,153,42],[150,43,153,47],[142,48,145,54],[146,17,149,18],[146,19,149,20],[146,21,149,36],[146,37,149,39],[146,40,149,42],[146,43,149,47],[146,48,149,54],[142,17,145,18],[142,19,145,20],[142,21,145,36],[142,37,145,39],[142,40,145,42],[142,43,145,47],[130,17,133,18],[130,19,133,20],[130,21,133,36],[130,37,133,39],[130,40,133,42],[130,43,133,47],[130,48,133,54],[134,48,137,54],[138,17,141,18],[138,19,141,20],[138,21,141,36],[138,37,141,39],[138,40,141,42],[138,43,141,47],[138,48,141,54],[134,17,137,18],[134,19,137,20],[134,21,137,36],[134,37,137,39],[134,40,137,42],[134,43,137,47],[126,1,129,5],[126,6,129,15],[126,17,129,18],[126,19,129,20],[126,21,129,36],[126,37,129,39],[126,40,129,42],[126,43,129,47],[126,48,129,54],[118,40,121,42],[118,43,121,47],[118,48,121,54],[122,1,125,3],[122,4,125,5],[122,6,125,15],[122,17,125,18],[122,19,125,20],[122,21,125,36],[122,37,125,39],[118,1,121,5],[118,6,121,15],[118,17,121,18],[118,19,121,20],[118,21,121,36],[118,37,121,39],[122,40,125,42],[122,43,125,47],[122,48,125,54],[114,1,117,5],[114,6,117,15],[114,17,117,18],[114,19,117,20],[114,21,117,36],[114,37,117,39],[114,40,117,42],[114,43,117,47],[114,48,117,54],[106,43,109,47],[106,48,109,54],[110,1,113,5],[110,6,113,15],[110,17,113,18],[110,19,113,20],[110,21,113,36],[110,37,113,39],[110,40,113,42],[110,43,113,47],[106,1,109,5],[106,6,109,15],[106,17,109,20],[106,21,109,36],[106,37,109,39],[106,40,109,42],[110,48,113,54],[95,52,97,54],[100,1,103,5],[100,6,103,11],[100,12,103,15],[100,16,103,35],[100,37,103,40],[100,41,103,54],[93,19,96,32],[94,1,97,11],[94,12,97,13],[95,40,97,44],[95,45,97,48],[95,49,97,51],[85,11,90,16],[85,17,90,25],[85,26,90,30],[85,31,90,35],[87,48,90,54],[82,37,85,47],[82,48,85,54],[83,1,84,4],[83,5,84,10],[83,11,84,16],[83,17,84,25],[83,26,84,30],[83,31,84,35],[85,1,90,4],[85,5,90,10],[87,37,90,42],[87,43,88,45],[89,43,90,44],[89,45,90,45],[89,46,90,47],[87,46,88,47],[74,48,77,54],[78,17,81,18],[78,19,81,20],[78,21,81,36],[78,37,81,39],[78,40,81,42],[78,43,81,47],[78,48,81,54],[74,17,77,18],[74,19,77,20],[74,21,77,36],[74,37,77,39],[74,40,77,42],[74,43,77,47],[66,48,69,54],[70,17,73,18],[70,19,73,20],[70,21,73,36],[70,37,73,39],[70,40,73,42],[70,43,73,47],[70,48,73,54],[66,17,69,18],[66,19,69,20],[66,21,69,36],[66,37,69,39],[66,40,69,42],[66,43,69,47],[58,48,61,54],[62,17,65,18],[62,19,65,20],[62,21,65,36],[62,37,65,39],[62,40,65,42],[62,43,65,47],[62,48,65,54],[58,17,61,18],[58,19,61,20],[58,21,61,36],[58,37,61,39],[58,40,61,42],[58,43,61,47],[50,48,53,54],[54,17,57,18],[54,19,57,20],[54,21,57,36],[54,37,57,39],[54,40,57,42],[54,43,57,47],[54,48,57,54],[50,17,53,18],[50,19,53,20],[50,21,53,36],[50,37,53,39],[50,40,53,42],[50,43,53,47],[38,17,41,18],[38,19,41,20],[38,21,41,36],[38,37,41,39],[38,40,41,42],[38,43,41,47],[38,48,41,54],[42,48,45,54],[46,17,49,18],[46,19,49,20],[46,21,49,36],[46,37,49,39],[46,40,49,42],[46,43,49,47],[46,48,49,54],[42,17,45,18],[42,19,45,20],[42,21,45,36],[42,37,45,39],[42,40,45,42],[42,43,45,47],[34,1,37,5],[34,6,37,15],[34,17,37,18],[34,19,37,20],[34,21,37,36],[34,37,37,39],[34,40,37,42],[34,43,37,47],[34,48,37,54],[26,40,29,42],[26,43,29,47],[26,48,29,54],[30,1,33,3],[30,4,33,5],[30,6,33,15],[30,17,33,18],[30,19,33,20],[30,21,33,36],[30,37,33,39],[26,1,29,5],[26,6,29,15],[26,17,29,18],[26,19,29,20],[26,21,29,36],[26,37,29,39],[30,40,33,42],[30,43,33,47],[30,48,33,54],[22,1,25,5],[22,6,25,15],[22,17,25,18],[22,19,25,20],[22,21,25,36],[22,37,25,39],[22,40,25,42],[22,43,25,47],[22,48,25,54],[14,43,17,47],[14,48,17,54],[18,1,21,5],[18,6,21,15],[18,17,21,18],[18,19,21,20],[18,21,21,36],[18,37,21,39],[18,40,21,42],[18,43,21,47],[14,1,17,5],[14,6,17,15],[14,17,17,20],[14,21,17,36],[14,37,17,39],[14,40,17,42],[18,48,21,54],[3,52,5,54],[8,1,11,5],[8,6,11,11],[8,12,11,15],[8,16,11,35],[8,37,11,40],[8,41,11,54],[1,19,4,32],[2,1,5,11],[2,12,5,13],[3,40,5,44],[3,45,5,48],[3,49,5,51]]}
[]
[null,null,null,null,null,null,null,null,null,null,null,null,null,null,null,null,null,null,null,"請求書明細書 (正)"]
[null,"株 式 会 社 種 村 建 設",null,null,null,null,null,null,null,null,null,null,"御中"]
[null,null,null,null,null,null,null,null,null,null,null,null,null,null,null,null,null,null,null,null,null,null,null,null,null,null,null,null,null,null,null,null,null,null,null,null,null,null,null,null,"請求年月日",null,null,null,null,{"$f":"IF(年=\"\",\"\",年)","v":""},null,null,null,{"$f":"IF(月=\"\",\"\",月)","v":""},null,null,{"$f":"IF(日=\"\",\"\",日)","v":""}]
[]
[]
[]
[]
[null,"工事番号",null,null,null,null,null,null,null,null,null,null,"工事名",null,null,null,null,null,null,null,null,null,null,null,null,null,null,null,null,null,null,null,null,null,null,null,null,"業者名",null,null,null,{"$f":"IF(社名=\"\",\"\",社名)","v":""}]
[]
[]
[]
[]
[]
[null,"注文番号",null,null,null,null,null,null,null,null,null,null,null,null,null,null,null,"月　日",null,null,null,"品　名・内　訳",null,null,null,null,null,null,null,null,null,null,null,null,null,null,null,"数 量",null,null,"単位",null,null,"単価",null,null,null,null,{"$f":"表紙①!P35","v":"金額(税抜)"}]
[]
[]
[]
[null,"契約金額",null,null,null,null,null,null,null,null,null,null,null,null,null,null,null,null,null,null,null,null,null,null,null,null,null,null,null,null,null,null,null,null,null,null,null,null,null,null,null,null,null,null,null,null,null,null,{"$f":"IF(V19=\"\",\"\",ROUND(AL19*AR19,0))","v":""}]
[]
[]
[]
[null,"増減額",null,null,null,null,null,null,null,null,null,null,null,null,null,null,null,null,null,null,null,null,null,null,null,null,null,null,null,null,null,null,null,null,null,null,null,null,null,null,null,null,null,null,null,null,null,null,{"$f":"IF(V23=\"\",\"\",ROUND(AL23*AR23,0))","v":""}]
[]
[]
[]
[null,"前回までの\n請求額",null,null,null,null,null,null,null,null,null,null,null,null,null,null,null,null,null,null,null,null,null,null,null,null,null,null,null,null,null,null,null,null,null,null,null,null,null,null,null,null,null,null,null,null,null,null,{"$f":"IF(V27=\"\",\"\",ROUND(AL27*AR27,0))","v":""}]
[]
[]
[]
[null,"今回\n請求額",null,null,null,null,null,null,null,null,null,null,null,null,null,null,null,null,null,null,null,null,null,null,null,null,null,null,null,null,null,null,null,null,null,null,null,null,null,null,null,null,null,null,null,null,null,null,{"$f":"IF(V31=\"\",\"\",ROUND(AL31*AR31,0))","v":""}]
[]
[]
[]
[null,"差引残高",null,null,null,null,{"$f":"IF(G19=\"\",\"\",G19+G23-G27-G31)","v":""},null,null,null,null,null,null,null,null,null,null,null,null,null,null,null,null,null,null,null,null,null,null,null,null,null,null,null,null,null,null,null,null,null,null,null,null,null,null,null,null,null,{"$f":"IF(V35=\"\",\"\",ROUND(AL35*AR35,0))","v":""}]
[]
[]
[]
[null,null,null,null,null,null,null,null,null,null,null,null,null,null,null,null,null,null,null,null,null,null,null,null,null,null,null,null,null,null,null,null,null,null,null,null,null,null,null,null,null,null,null,null,null,null,null,null,{"$f":"IF(V39=\"\",\"\",ROUND(AL39*AR39,0))","v":""}]
[]
[]
[]
[null,null,null,null,null,null,null,null,null,null,null,null,null,null,null,null,null,null,null,null,null,null,null,null,null,null,null,null,null,null,null,null,null,null,null,null,null,null,null,null,null,null,null,null,null,null,null,null,{"$f":"IF(V43=\"\",\"\",ROUND(AL43*AR43,0))","v":""}]
[]
[]
[]
[null,null,null,null,null,null,null,null,null,null,null,null,null,null,null,null,null,null,null,null,null,null,null,null,null,null,null,null,null,null,null,null,null,null,null,null,null,null,null,null,null,null,null,null,null,null,null,null,{"$f":"IF(V47=\"\",\"\",ROUND(AL47*AR47,0))","v":""}]
[]
[]
[]
[null,null,null,null,null,null,null,null,null,null,null,null,null,null,null,null,null,null,null,null,null,null,null,null,null,null,null,null,null,null,null,null,null,null,null,null,null,null,null,null,null,null,null,null,null,null,null,null,{"$f":"IF(V51=\"\",\"\",ROUND(AL51*AR51,0))","v":""}]
[]
[]
[]
[null,null,null,null,null,null,null,null,null,null,null,null,null,null,null,null,null,null,null,null,null,null,null,null,null,null,null,null,null,null,null,null,null,null,null,null,null,null,null,null,null,null,null,null,null,null,null,null,{"$f":"IF(V55=\"\",\"\",ROUND(AL55*AR55,0))","v":""}]
[]
[]
[]
[null,null,null,null,null,null,null,null,null,null,null,null,null,null,null,null,null,null,null,null,null,null,null,null,null,null,null,null,null,null,null,null,null,null,null,null,null,null,null,null,null,null,null,null,null,null,null,null,{"$f":"IF(V59=\"\",\"\",ROUND(AL59*AR59,0))","v":""}]
[]
[]
[]
[null,null,null,null,null,null,null,null,null,null,null,null,null,null,null,null,null,null,null,null,null,null,null,null,null,null,null,null,null,null,null,null,null,null,null,null,null,null,null,null,null,null,null,null,null,null,null,null,{"$f":"IF(V63=\"\",\"\",ROUND(AL63*AR63,0))","v":""}]
[]
[]
[]
[null,null,null,null,null,null,null,null,null,null,null,null,null,null,null,null,null,null,null,null,null,null,null,null,null,null,null,null,null,null,null,null,null,null,null,null,null,null,null,null,null,null,null,null,null,null,null,null,{"$f":"IF(V67=\"\",\"\",ROUND(AL67*AR67,0))","v":""}]
[]
[]
[]
[null,null,null,null,null,null,null,null,null,null,null,null,null,null,null,null,null,null,null,null,null,null,null,null,null,null,null,null,null,null,null,null,null,null,null,null,null,null,null,null,null,null,null,null,null,null,null,null,{"$f":"IF(V71=\"\",\"\",ROUND(AL71*AR71,0))","v":""}]
[]
[]
[]
[null,null,null,null,null,null,null,null,null,null,null,null,null,null,null,null,null,null,null,null,null,null,null,null,null,null,null,null,null,null,null,null,null,null,null,null,null,null,null,null,null,null,null,null,null,null,null,null,{"$f":"IF(V75=\"\",\"\",ROUND(AL75*AR75,0))","v":""}]
[]
[]
[]
[null,null,null,null,null,null,null,null,null,null,null,null,null,null,null,null,null,null,null,null,null,null,null,null,null,null,null,null,null,null,null,null,null,null,null,null,null,null,null,null,null,null,null,null,null,null,null,null,{"$f":"IF(V79=\"\",\"\",ROUND(AL79*AR79,0))","v":""}]
[]
[]
[]
[null,null,null,null,null,null,null,null,null,null,null,null,null,null,null,null,null,null,null,null,null,null,null,null,null,null,null,null,null,null,null,null,null,null,null,null,null,"金額(税抜)",null,null,null,null,null,null,null,null,null,null,{"$f":"IF(AW19=\"\",\"\",SUM(AW19:AW79))","v":""}]
[null,"社長",null,null,null,"専務",null,null,null,null,null,"常務",null,null,null,null,null,"部長･工場長",null,null,null,null,null,null,null,null,"担当者",null,null,null,null,"受付"]
[]
[]
[]
[null,null,null,null,null,null,null,null,null,null,null,null,null,null,null,null,null,null,null,null,null,null,null,null,null,null,null,null,null,null,null,null,null,null,null,null,null,"消費税",null,null,null,null,null,"税率",null,null,"税調",null,{"$f":"IF(AW83=\"\",\"\",IF(AR90=\"\",\"\",IF(AR90=8.1,ROUND(AW83*8/100,0)+AU90,ROUND(AW83*AR90/100,0)+AU90)))","v":""}]
[]
[null,null,null,null,null,null,null,null,null,null,null,null,null,null,null,null,null,null,null,null,null,null,null,null,null,null,null,null,null,null,null,null,null,null,null,null,null,null,null,null,null,null,null,null,null,{"$f":"IF(AR90=\"\",\"\",IF(AR90=8.1,\"旧\",IF(AR90=8,\"軽\",IF(AR90=0,\"非\",\"\"))))","v":""}]
[]
[]
[]
[null,null,null,null,null,null,null,null,null,null,null,null,null,null,null,null,null,null,null,"請求明細書 (現場控)"]
[null,"株 式 会 社 種 村 建 設",null,null,null,null,null,null,null,null,null,null,"御中"]
[null,null,null,null,null,null,null,null,null,null,null,null,null,null,null,null,null,null,null,null,null,null,null,null,null,null,null,null,null,null,null,null,null,null,null,null,null,null,null,null,"請求年月日",null,null,null,null,{"$f":"IF(AT4=\"\",\"\",AT4)","v":""},null,null,null,{"$f":"IF(AX4=\"\",\"\",AX4)","v":""},null,null,{"$f":"IF(BA4=\"\",\"\",BA4)","v":""}]
[]
[]
[]
[]
[null,"工事番号",null,null,null,null,{"$f":"IF(G9=\"\",\"\",G9)","v":""},null,null,null,null,null,"工事名",null,null,null,{"$f":"IF(Q9=\"\",\"\",Q9)","v":""},null,null,null,null,null,null,null,null,null,null,null,null,null,null,null,null,null,null,null,null,"業者名",null,null,null,{"$f":"IF(AP9=\"\",\"\",AP9)","v":""}]
[]
[]
[]
[]
[]
[null,"注文番号",null,null,null,null,{"$f":"IF(G15=\"\",\"\",G15)","v":""},null,null,null,null,null,null,null,null,null,null,"月　日",null,null,null,"品　名・内　訳",null,null,null,null,null,null,null,null,null,null,null,null,null,null,null,"数 量",null,null,"単位",null,null,"単価",null,null,null,null,{"$f":"AW15","v":"金額(税抜)"}]
[]
[]
[]
[null,"契約金額",null,null,null,null,{"$f":"IF(G19=\"\",\"\",G19)","v":""},null,null,null,null,null,null,null,null,null,null,{"$f":"IF(R19=\"\",\"\",R19)","v":""},null,{"$f":"IF(T19=\"\",\"\",T19)","v":""},null,{"$f":"IF(V19=\"\",\"\",V19)","v":""},null,{"$f":"IF(X19=\"\",\"\",X19)","v":""},null,{"$f":"IF(Z19=\"\",\"\",Z19)","v":""},null,{"$f":"IF(AB19=\"\",\"\",AB19)","v":""},null,{"$f":"IF(AD19=\"\",\"\",AD19)","v":""},null,{"$f":"IF(AF19=\"\",\"\",AF19)","v":""},null,{"$f":"IF(AH19=\"\",\"\",AH19)","v":""},null,{"$f":"IF(AJ19=\"\",\"\",AJ19)","v":""},null,{"$f":"IF(AL19=\"\",\"\",AL19)","v":""},null,null,{"$f":"IF(AO19=\"\",\"\",AO19)","v":""},null,null,{"$f":"IF(AR19=\"\",\"\",AR19)","v":""},null,null,null,null,{"$f":"IF(AW19=\"\",\"\",AW19)","v":""}]
[]
[]
[]
[null,"増減額",null,null,null,null,{"$f":"IF(G23=\"\",\"\",G23)","v":""},null,null,null,null,null,null,null,null,null,null,{"$f":"IF(R23=\"\",\"\",R23)","v":""},null,{"$f":"IF(T23=\"\",\"\",T23)","v":""},null,{"$f":"IF(V23=\"\",\"\",V23)","v":""},null,{"$f":"IF(X23=\"\",\"\",X23)","v":""},null,{"$f":"IF(Z23=\"\",\"\",Z23)","v":""},null,{"$f":"IF(AB23=\"\",\"\",AB23)","v":""},null,{"$f":"IF(AD23=\"\",\"\",AD23)","v":""},null,{"$f":"IF(AF23=\"\",\"\",AF23)","v":""},null,{"$f":"IF(AH23=\"\",\"\",AH23)","v":""},null,{"$f":"IF(AJ23=\"\",\"\",AJ23)","v":""},null,{"$f":"IF(AL23=\"\",\"\",AL23)","v":""},null,null,{"$f":"IF(AO23=\"\",\"\",AO23)","v":""},null,null,{"$f":"IF(AR23=\"\",\"\",AR23)","v":""},null,null,null,null,{"$f":"IF(AW23=\"\",\"\",AW23)","v":""}]
[]
[]
[]
[null,"前回までの\n請求額",null,null,null,null,{"$f":"IF(G27=\"\",\"\",G27)","v":""},null,null,null,null,null,null,null,null,null,null,{"$f":"IF(R27=\"\",\"\",R27)","v":""},null,{"$f":"IF(T27=\"\",\"\",T27)","v":""},null,{"$f":"IF(V27=\"\",\"\",V27)","v":""},null,{"$f":"IF(X27=\"\",\"\",X27)","v":""},null,{"$f":"IF(Z27=\"\",\"\",Z27)","v":""},null,{"$f":"IF(AB27=\"\",\"\",AB27)","v":""},null,{"$f":"IF(AD27=\"\",\"\",AD27)","v":""},null,{"$f":"IF(AF27=\"\",\"\",AF27)","v":""},null,{"$f":"IF(AH27=\"\",\"\",AH27)","v":""},null,{"$f":"IF(AJ27=\"\",\"\",AJ27)","v":""},null,{"$f":"IF(AL27=\"\",\"\",AL27)","v":""},null,null,{"$f":"IF(AO27=\"\",\"\",AO27)","v":""},null,null,{"$f":"IF(AR27=\"\",\"\",AR27)","v":""},null,null,null,null,{"$f":"IF(AW27=\"\",\"\",AW27)","v":""}]
[]
[]
[]
[null,"今回\n請求額",null,null,{"$f":"IF(E31=\"\",\"\",E31)","v":""},null,{"$f":"IF(G31=\"\",\"\",G31)","v":""},null,null,null,null,null,null,null,null,null,null,{"$f":"IF(R31=\"\",\"\",R31)","v":""},null,{"$f":"IF(T31=\"\",\"\",T31)","v":""},null,{"$f":"IF(V31=\"\",\"\",V31)","v":""},null,{"$f":"IF(X31=\"\",\"\",X31)","v":""},null,{"$f":"IF(Z31=\"\",\"\",Z31)","v":""},null,{"$f":"IF(AB31=\"\",\"\",AB31)","v":""},null,{"$f":"IF(AD31=\"\",\"\",AD31)","v":""},null,{"$f":"IF(AF31=\"\",\"\",AF31)","v":""},null,{"$f":"IF(AH31=\"\",\"\",AH31)","v":""},null,{"$f":"IF(AJ31=\"\",\"\",AJ31)","v":""},null,{"$f":"IF(AL31=\"\",\"\",AL31)","v":""},null,null,{"$f":"IF(AO31=\"\",\"\",AO31)","v":""},null,null,{"$f":"IF(AR31=\"\",\"\",AR31)","v":""},null,null,null,null,{"$f":"IF(AW31=\"\",\"\",AW31)","v":""}]
[]
[]
[]
[null,"差引残高",null,null,null,null,{"$f":"IF(G111=\"\",\"\",G111+G115-G119-G123)","v":""},null,null,null,null,null,null,null,null,null,null,{"$f":"IF(R35=\"\",\"\",R35)","v":""},null,{"$f":"IF(T35=\"\",\"\",T35)","v":""},null,{"$f":"IF(V35=\"\",\"\",V35)","v":""},null,{"$f":"IF(X35=\"\",\"\",X35)","v":""},null,{"$f":"IF(Z35=\"\",\"\",Z35)","v":""},null,{"$f":"IF(AB35=\"\",\"\",AB35)","v":""},null,{"$f":"IF(AD35=\"\",\"\",AD35)","v":""},null,{"$f":"IF(AF35=\"\",\"\",AF35)","v":""},null,{"$f":"IF(AH35=\"\",\"\",AH35)","v":""},null,{"$f":"IF(AJ35=\"\",\"\",AJ35)","v":""},null,{"$f":"IF(AL35=\"\",\"\",AL35)","v":""},null,null,{"$f":"IF(AO35=\"\",\"\",AO35)","v":""},null,null,{"$f":"IF(AR35=\"\",\"\",AR35)","v":""},null,null,null,null,{"$f":"IF(AW35=\"\",\"\",AW35)","v":""}]
[]
[]
[]
[null,null,null,null,null,null,null,null,null,null,null,null,null,null,null,null,null,{"$f":"IF(R39=\"\",\"\",R39)","v":""},null,{"$f":"IF(T39=\"\",\"\",T39)","v":""},null,{"$f":"IF(V39=\"\",\"\",V39)","v":""},null,{"$f":"IF(X39=\"\",\"\",X39)","v":""},null,{"$f":"IF(Z39=\"\",\"\",Z39)","v":""},null,{"$f":"IF(AB39=\"\",\"\",AB39)","v":""},null,{"$f":"IF(AD39=\"\",\"\",AD39)","v":""},null,{"$f":"IF(AF39=\"\",\"\",AF39)","v":""},null,{"$f":"IF(AH39=\"\",\"\",AH39)","v":""},null,{"$f":"IF(AJ39=\"\",\"\",AJ39)","v":""},null,{"$f":"IF(AL39=\"\",\"\",AL39)","v":""},null,null,{"$f":"IF(AO39=\"\",\"\",AO39)","v":""},null,null,{"$f":"IF(AR39=\"\",\"\",AR39)","v":""},null,null,null,null,{"$f":"IF(AW39=\"\",\"\",AW39)","v":""}]
[]
[]
[]
[null,null,null,null,null,null,null,null,null,null,null,null,null,null,null,null,null,{"$f":"IF(R43=\"\",\"\",R43)","v":""},null,{"$f":"IF(T43=\"\",\"\",T43)","v":""},null,{"$f":"IF(V43=\"\",\"\",V43)","v":""},null,{"$f":"IF(X43=\"\",\"\",X43)","v":""},null,{"$f":"IF(Z43=\"\",\"\",Z43)","v":""},null,{"$f":"IF(AB43=\"\",\"\",AB43)","v":""},null,{"$f":"IF(AD43=\"\",\"\",AD43)","v":""},null,{"$f":"IF(AF43=\"\",\"\",AF43)","v":""},null,{"$f":"IF(AH43=\"\",\"\",AH43)","v":""},null,{"$f":"IF(AJ43=\"\",\"\",AJ43)","v":""},null,{"$f":"IF(AL43=\"\",\"\",AL43)","v":""},null,null,{"$f":"IF(AO43=\"\",\"\",AO43)","v":""},null,null,{"$f":"IF(AR43=\"\",\"\",AR43)","v":""},null,null,null,null,{"$f":"IF(AW43=\"\",\"\",AW43)","v":""}]
[]
[]
[]
[null,null,null,null,null,null,null,null,null,null,null,null,null,null,null,null,null,{"$f":"IF(R47=\"\",\"\",R47)","v":""},null,{"$f":"IF(T47=\"\",\"\",T47)","v":""},null,{"$f":"IF(V47=\"\",\"\",V47)","v":""},null,{"$f":"IF(X47=\"\",\"\",X47)","v":""},null,{"$f":"IF(Z47=\"\",\"\",Z47)","v":""},null,{"$f":"IF(AB47=\"\",\"\",AB47)","v":""},null,{"$f":"IF(AD47=\"\",\"\",AD47)","v":""},null,{"$f":"IF(AF47=\"\",\"\",AF47)","v":""},null,{"$f":"IF(AH47=\"\",\"\",AH47)","v":""},null,{"$f":"IF(AJ47=\"\",\"\",AJ47)","v":""},null,{"$f":"IF(AL47=\"\",\"\",AL47)","v":""},null,null,{"$f":"IF(AO47=\"\",\"\",AO47)","v":""},null,null,{"$f":"IF(AR47=\"\",\"\",AR47)","v":""},null,null,null,null,{"$f":"IF(AW47=\"\",\"\",AW47)","v":""}]
[]
[]
[]
[null,null,null,null,null,null,null,null,null,null,null,null,null,null,null,null,null,{"$f":"IF(R51=\"\",\"\",R51)","v":""},null,{"$f":"IF(T51=\"\",\"\",T51)","v":""},null,{"$f":"IF(V51=\"\",\"\",V51)","v":""},null,{"$f":"IF(X51=\"\",\"\",X51)","v":""},null,{"$f":"IF(Z51=\"\",\"\",Z51)","v":""},null,{"$f":"IF(AB51=\"\",\"\",AB51)","v":""},null,{"$f":"IF(AD51=\"\",\"\",AD51)","v":""},null,{"$f":"IF(AF51=\"\",\"\",AF51)","v":""},null,{"$f":"IF(AH51=\"\",\"\",AH51)","v":""},null,{"$f":"IF(AJ51=\"\",\"\",AJ51)","v":""},null,{"$f":"IF(AL51=\"\",\"\",AL51)","v":""},null,null,{"$f":"IF(AO51=\"\",\"\",AO51)","v":""},null,null,{"$f":"IF(AR51=\"\",\"\",AR51)","v":""},null,null,null,null,{"$f":"IF(AW51=\"\",\"\",AW51)","v":""}]
[]
[]
[]
[null,null,null,null,null,null,null,null,null,null,null,null,null,null,null,null,null,{"$f":"IF(R55=\"\",\"\",R55)","v":""},null,{"$f":"IF(T55=\"\",\"\",T55)","v":""},null,{"$f":"IF(V55=\"\",\"\",V55)","v":""},null,{"$f":"IF(X55=\"\",\"\",X55)","v":""},null,{"$f":"IF(Z55=\"\",\"\",Z55)","v":""},null,{"$f":"IF(AB55=\"\",\"\",AB55)","v":""},null,{"$f":"IF(AD55=\"\",\"\",AD55)","v":""},null,{"$f":"IF(AF55=\"\",\"\",AF55)","v":""},null,{"$f":"IF(AH55=\"\",\"\",AH55)","v":""},null,{"$f":"IF(AJ55=\"\",\"\",AJ55)","v":""},null,{"$f":"IF(AL55=\"\",\"\",AL55)","v":""},null,null,{"$f":"IF(AO55=\"\",\"\",AO55)","v":""},null,null,{"$f":"IF(AR55=\"\",\"\",AR55)","v":""},null,null,null,null,{"$f":"IF(AW55=\"\",\"\",AW55)","v":""}]
[]
[]
[]
[null,null,null,null,null,null,null,null,null,null,null,null,null,null,null,null,null,{"$f":"IF(R59=\"\",\"\",R59)","v":""},null,{"$f":"IF(T59=\"\",\"\",T59)","v":""},null,{"$f":"IF(V59=\"\",\"\",V59)","v":""},null,{"$f":"IF(X59=\"\",\"\",X59)","v":""},null,{"$f":"IF(Z59=\"\",\"\",Z59)","v":""},null,{"$f":"IF(AB59=\"\",\"\",AB59)","v":""},null,{"$f":"IF(AD59=\"\",\"\",AD59)","v":""},null,{"$f":"IF(AF59=\"\",\"\",AF59)","v":""},null,{"$f":"IF(AH59=\"\",\"\",AH59)","v":""},null,{"$f":"IF(AJ59=\"\",\"\",AJ59)","v":""},null,{"$f":"IF(AL59=\"\",\"\",AL59)","v":""},null,null,{"$f":"IF(AO59=\"\",\"\",AO59)","v":""},null,null,{"$f":"IF(AR59=\"\",\"\",AR59)","v":""},null,null,null,null,{"$f":"IF(AW59=\"\",\"\",AW59)","v":""}]
[]
[]
[]
[null,null,null,null,null,null,null,null,null,null,null,null,null,null,null,null,null,{"$f":"IF(R63=\"\",\"\",R63)","v":""},null,{"$f":"IF(T63=\"\",\"\",T63)","v":""},null,{"$f":"IF(V63=\"\",\"\",V63)","v":""},null,{"$f":"IF(X63=\"\",\"\",X63)","v":""},null,{"$f":"IF(Z63=\"\",\"\",Z63)","v":""},null,{"$f":"IF(AB63=\"\",\"\",AB63)","v":""},null,{"$f":"IF(AD63=\"\",\"\",AD63)","v":""},null,{"$f":"IF(AF63=\"\",\"\",AF63)","v":""},null,{"$f":"IF(AH63=\"\",\"\",AH63)","v":""},null,{"$f":"IF(AJ63=\"\",\"\",AJ63)","v":""},null,{"$f":"IF(AL63=\"\",\"\",AL63)","v":""},null,null,{"$f":"IF(AO63=\"\",\"\",AO63)","v":""},null,null,{"$f":"IF(AR63=\"\",\"\",AR63)","v":""},null,null,null,null,{"$f":"IF(AW63=\"\",\"\",AW63)","v":""}]
[]
[]
[]
[null,null,null,null,null,null,null,null,null,null,null,null,null,null,null,null,null,{"$f":"IF(R67=\"\",\"\",R67)","v":""},null,{"$f":"IF(T67=\"\",\"\",T67)","v":""},null,{"$f":"IF(V67=\"\",\"\",V67)","v":""},null,{"$f":"IF(X67=\"\",\"\",X67)","v":""},null,{"$f":"IF(Z67=\"\",\"\",Z67)","v":""},null,{"$f":"IF(AB67=\"\",\"\",AB67)","v":""},null,{"$f":"IF(AD67=\"\",\"\",AD67)","v":""},null,{"$f":"IF(AF67=\"\",\"\",AF67)","v":""},null,{"$f":"IF(AH67=\"\",\"\",AH67)","v":""},null,{"$f":"IF(AJ67=\"\",\"\",AJ67)","v":""},null,{"$f":"IF(AL67=\"\",\"\",AL67)","v":""},null,null,{"$f":"IF(AO67=\"\",\"\",AO67)","v":""},null,null,{"$f":"IF(AR67=\"\",\"\",AR67)","v":""},null,null,null,null,{"$f":"IF(AW67=\"\",\"\",AW67)","v":""}]
[]
[]
[]
[null,null,null,null,null,null,null,null,null,null,null,null,null,null,null,null,null,{"$f":"IF(R71=\"\",\"\",R71)","v":""},null,{"$f":"IF(T71=\"\",\"\",T71)","v":""},null,{"$f":"IF(V71=\"\",\"\",V71)","v":""},null,{"$f":"IF(X71=\"\",\"\",X71)","v":""},null,{"$f":"IF(Z71=\"\",\"\",Z71)","v":""},null,{"$f":"IF(AB71=\"\",\"\",AB71)","v":""},null,{"$f":"IF(AD71=\"\",\"\",AD71)","v":""},null,{"$f":"IF(AF71=\"\",\"\",AF71)","v":""},null,{"$f":"IF(AH71=\"\",\"\",AH71)","v":""},null,{"$f":"IF(AJ71=\"\",\"\",AJ71)","v":""},null,{"$f":"IF(AL71=\"\",\"\",AL71)","v":""},null,null,{"$f":"IF(AO71=\"\",\"\",AO71)","v":""},null,null,{"$f":"IF(AR71=\"\",\"\",AR71)","v":""},null,null,null,null,{"$f":"IF(AW71=\"\",\"\",AW71)","v":""}]
[]
[]
[]
[null,null,null,null,null,null,null,null,null,null,null,null,null,null,null,null,null,{"$f":"IF(R75=\"\",\"\",R75)","v":""},null,{"$f":"IF(T75=\"\",\"\",T75)","v":""},null,{"$f":"IF(V75=\"\",\"\",V75)","v":""},null,{"$f":"IF(X75=\"\",\"\",X75)","v":""},null,{"$f":"IF(Z75=\"\",\"\",Z75)","v":""},null,{"$f":"IF(AB75=\"\",\"\",AB75)","v":""},null,{"$f":"IF(AD75=\"\",\"\",AD75)","v":""},null,{"$f":"IF(AF75=\"\",\"\",AF75)","v":""},null,{"$f":"IF(AH75=\"\",\"\",AH75)","v":""},null,{"$f":"IF(AJ75=\"\",\"\",AJ75)","v":""},null,{"$f":"IF(AL75=\"\",\"\",AL75)","v":""},null,null,{"$f":"IF(AO75=\"\",\"\",AO75)","v":""},null,null,{"$f":"IF(AR75=\"\",\"\",AR75)","v":""},null,null,null,null,{"$f":"IF(AW75=\"\",\"\",AW75)","v":""}]
[]
[]
[]
[null,null,null,null,null,null,null,null,null,null,null,null,null,null,null,null,null,{"$f":"IF(R79=\"\",\"\",R79)","v":""},null,{"$f":"IF(T79=\"\",\"\",T79)","v":""},null,{"$f":"IF(V79=\"\",\"\",V79)","v":""},null,{"$f":"IF(X79=\"\",\"\",X79)","v":""},null,{"$f":"IF(Z79=\"\",\"\",Z79)","v":""},null,{"$f":"IF(AB79=\"\",\"\",AB79)","v":""},null,{"$f":"IF(AD79=\"\",\"\",AD79)","v":""},null,{"$f":"IF(AF79=\"\",\"\",AF79)","v":""},null,{"$f":"IF(AH79=\"\",\"\",AH79)","v":""},null,{"$f":"IF(AJ79=\"\",\"\",AJ79)","v":""},null,{"$f":"IF(AL79=\"\",\"\",AL79)","v":""},null,null,{"$f":"IF(AO79=\"\",\"\",AO79)","v":""},null,null,{"$f":"IF(AR79=\"\",\"\",AR79)","v":""},null,null,null,null,{"$f":"IF(AW79=\"\",\"\",AW79)","v":""}]
[]
[]
[]
[null,null,null,null,null,null,null,null,null,null,null,null,null,null,null,null,null,null,null,null,null,null,null,null,null,null,null,null,null,null,null,null,null,null,null,null,null,{"$f":"AL83","v":"金額(税抜)"},null,null,null,null,null,null,null,null,null,null,{"$f":"AW83","v":""}]
[]
[]
[]
[]
[null,null,null,null,null,null,null,null,null,null,null,null,null,null,null,null,null,null,null,null,null,null,null,null,null,null,null,null,null,null,null,null,null,null,null,null,null,{"$f":"AL88","v":"消費税"},null,null,null,null,null,"税率",null,null,"税調",null,{"$f":"AW88","v":""}]
[]
[null,null,null,null,null,null,null,null,null,null,null,null,null,null,null,null,null,null,null,null,null,null,null,null,null,null,null,null,null,null,null,null,null,null,null,null,null,null,null,null,null,null,null,{"$f":"AR90","v":0},null,{"$f":"AT90","v":""}]
[]
[]
[]
[null,null,null,null,null,null,null,null,null,null,null,null,null,null,null,null,null,null,null,"請求明細書 (貴社控)"]
[null,"株 式 会 社 種 村 建 設",null,null,null,null,null,null,null,null,null,null,"御中"]
[null,null,null,null,null,null,null,null,null,null,null,null,null,null,null,null,null,null,null,null,null,null,null,null,null,null,null,null,null,null,null,null,null,null,null,null,null,null,null,null,"請求年月日",null,null,null,null,{"$f":"IF(AT4=\"\",\"\",AT4)","v":""},null,null,null,{"$f":"IF(AX96=\"\",\"\",AX96)","v":""},null,null,{"$f":"IF(BA96=\"\",\"\",BA96)","v":""}]
[]
[]
[]
[]
[null,"工事番号",null,null,null,null,{"$f":"IF(G101=\"\",\"\",G101)","v":""},null,null,null,null,null,"工事名",null,null,null,{"$f":"IF(Q101=\"\",\"\",Q101)","v":""},null,null,null,null,null,null,null,null,null,null,null,null,null,null,null,null,null,null,null,null,"業者名",null,null,null,{"$f":"IF(AP101=\"\",\"\",AP101)","v":""}]
[]
[]
[]
[]
[]
[null,"注文番号",null,null,null,null,{"$f":"IF(G107=\"\",\"\",G107)","v":""},null,null,null,null,null,null,null,null,null,null,"月　日",null,null,null,"品　名・内　訳",null,null,null,null,null,null,null,null,null,null,null,null,null,null,null,"数 量",null,null,"単位",null,null,"単価",null,null,null,null,{"$f":"AW15","v":"金額(税抜)"}]
[]
[]
[]
[null,"契約金額",null,null,null,null,{"$f":"IF(G111=\"\",\"\",G111)","v":""},null,null,null,null,null,null,null,null,null,null,{"$f":"IF(R111=\"\",\"\",R111)","v":""},null,{"$f":"IF(T111=\"\",\"\",T111)","v":""},null,{"$f":"IF(V111=\"\",\"\",V111)","v":""},null,{"$f":"IF(X111=\"\",\"\",X111)","v":""},null,{"$f":"IF(Z111=\"\",\"\",Z111)","v":""},null,{"$f":"IF(AB111=\"\",\"\",AB111)","v":""},null,{"$f":"IF(AD111=\"\",\"\",AD111)","v":""},null,{"$f":"IF(AF111=\"\",\"\",AF111)","v":""},null,{"$f":"IF(AH111=\"\",\"\",AH111)","v":""},null,{"$f":"IF(AJ111=\"\",\"\",AJ111)","v":""},null,{"$f":"IF(AL111=\"\",\"\",AL111)","v":""},null,null,{"$f":"IF(AO111=\"\",\"\",AO111)","v":""},null,null,{"$f":"IF(AR111=\"\",\"\",AR111)","v":""},null,null,null,null,{"$f":"IF(AW111=\"\",\"\",AW111)","v":""}]
[]
[]
[]
[null,"増減額",null,null,null,null,{"$f":"IF(G115=\"\",\"\",G115)","v":""},null,null,null,null,null,null,null,null,null,null,{"$f":"IF(R115=\"\",\"\",R115)","v":""},null,{"$f":"IF(T115=\"\",\"\",T115)","v":""},null,{"$f":"IF(V115=\"\",\"\",V115)","v":""},null,{"$f":"IF(X115=\"\",\"\",X115)","v":""},null,{"$f":"IF(Z115=\"\",\"\",Z115)","v":""},null,{"$f":"IF(AB115=\"\",\"\",AB115)","v":""},null,{"$f":"IF(AD115=\"\",\"\",AD115)","v":""},null,{"$f":"IF(AF115=\"\",\"\",AF115)","v":""},null,{"$f":"IF(AH115=\"\",\"\",AH115)","v":""},null,{"$f":"IF(AJ115=\"\",\"\",AJ115)","v":""},null,{"$f":"IF(AL115=\"\",\"\",AL115)","v":""},null,null,{"$f":"IF(AO115=\"\",\"\",AO115)","v":""},null,null,{"$f":"IF(AR115=\"\",\"\",AR115)","v":""},null,null,null,null,{"$f":"IF(AW115=\"\",\"\",AW115)","v":""}]
[]
[]
[]
[null,"前回までの\n請求額",null,null,null,null,{"$f":"IF(G119=\"\",\"\",G119)","v":""},null,null,null,null,null,null,null,null,null,null,{"$f":"IF(R119=\"\",\"\",R119)","v":""},null,{"$f":"IF(T119=\"\",\"\",T119)","v":""},null,{"$f":"IF(V119=\"\",\"\",V119)","v":""},null,{"$f":"IF(X119=\"\",\"\",X119)","v":""},null,{"$f":"IF(Z119=\"\",\"\",Z119)","v":""},null,{"$f":"IF(AB119=\"\",\"\",AB119)","v":""},null,{"$f":"IF(AD119=\"\",\"\",AD119)","v":""},null,{"$f":"IF(AF119=\"\",\"\",AF119)","v":""},null,{"$f":"IF(AH119=\"\",\"\",AH119)","v":""},null,{"$f":"IF(AJ119=\"\",\"\",AJ119)","v":""},null,{"$f":"IF(AL119=\"\",\"\",AL119)","v":""},null,null,{"$f":"IF(AO119=\"\",\"\",AO119)","v":""},null,null,{"$f":"IF(AR119=\"\",\"\",AR119)","v":""},null,null,null,null,{"$f":"IF(AW119=\"\",\"\",AW119)","v":""}]
[]
[]
[]
[null,"今回\n請求額",null,null,{"$f":"IF(E31=\"\",\"\",E31)","v":""},null,{"$f":"IF(G123=\"\",\"\",G123)","v":""},null,null,null,null,null,null,null,null,null,null,{"$f":"IF(R123=\"\",\"\",R123)","v":""},null,{"$f":"IF(T123=\"\",\"\",T123)","v":""},null,{"$f":"IF(V123=\"\",\"\",V123)","v":""},null,{"$f":"IF(X123=\"\",\"\",X123)","v":""},null,{"$f":"IF(Z123=\"\",\"\",Z123)","v":""},null,{"$f":"IF(AB123=\"\",\"\",AB123)","v":""},null,{"$f":"IF(AD123=\"\",\"\",AD123)","v":""},null,{"$f":"IF(AF123=\"\",\"\",AF123)","v":""},null,{"$f":"IF(AH123=\"\",\"\",AH123)","v":""},null,{"$f":"IF(AJ123=\"\",\"\",AJ123)","v":""},null,{"$f":"IF(AL123=\"\",\"\",AL123)","v":""},null,null,{"$f":"IF(AO123=\"\",\"\",AO123)","v":""},null,null,{"$f":"IF(AR123=\"\",\"\",AR123)","v":""},null,null,null,null,{"$f":"IF(AW123=\"\",\"\",AW123)","v":""}]
[]
[]
[]
[null,"差引残高",null,null,null,null,{"$f":"IF(G203=\"\",\"\",G203+G207-G211-G215)","v":""},null,null,null,null,null,null,null,null,null,null,{"$f":"IF(R127=\"\",\"\",R127)","v":""},null,{"$f":"IF(T127=\"\",\"\",T127)","v":""},null,{"$f":"IF(V127=\"\",\"\",V127)","v":""},null,{"$f":"IF(X127=\"\",\"\",X127)","v":""},null,{"$f":"IF(Z127=\"\",\"\",Z127)","v":""},null,{"$f":"IF(AB127=\"\",\"\",AB127)","v":""},null,{"$f":"IF(AD127=\"\",\"\",AD127)","v":""},null,{"$f":"IF(AF127=\"\",\"\",AF127)","v":""},null,{"$f":"IF(AH127=\"\",\"\",AH127)","v":""},null,{"$f":"IF(AJ127=\"\",\"\",AJ127)","v":""},null,{"$f":"IF(AL127=\"\",\"\",AL127)","v":""},null,null,{"$f":"IF(AO127=\"\",\"\",AO127)","v":""},null,null,{"$f":"IF(AR127=\"\",\"\",AR127)","v":""},null,null,null,null,{"$f":"IF(AW127=\"\",\"\",AW127)","v":""}]
[]
[]
[]
[null,null,null,null,null,null,null,null,null,null,null,null,null,null,null,null,null,{"$f":"IF(R131=\"\",\"\",R131)","v":""},null,{"$f":"IF(T131=\"\",\"\",T131)","v":""},null,{"$f":"IF(V131=\"\",\"\",V131)","v":""},null,{"$f":"IF(X131=\"\",\"\",X131)","v":""},null,{"$f":"IF(Z131=\"\",\"\",Z131)","v":""},null,{"$f":"IF(AB131=\"\",\"\",AB131)","v":""},null,{"$f":"IF(AD131=\"\",\"\",AD131)","v":""},null,{"$f":"IF(AF131=\"\",\"\",AF131)","v":""},null,{"$f":"IF(AH131=\"\",\"\",AH131)","v":""},null,{"$f":"IF(AJ131=\"\",\"\",AJ131)","v":""},null,{"$f":"IF(AL131=\"\",\"\",AL131)","v":""},null,null,{"$f":"IF(AO131=\"\",\"\",AO131)","v":""},null,null,{"$f":"IF(AR131=\"\",\"\",AR131)","v":""},null,null,null,null,{"$f":"IF(AW131=\"\",\"\",AW131)","v":""}]
[]
[]
[]
[null,null,null,null,null,null,null,null,null,null,null,null,null,null,null,null,null,{"$f":"IF(R135=\"\",\"\",R135)","v":""},null,{"$f":"IF(T135=\"\",\"\",T135)","v":""},null,{"$f":"IF(V135=\"\",\"\",V135)","v":""},null,{"$f":"IF(X135=\"\",\"\",X135)","v":""},null,{"$f":"IF(Z135=\"\",\"\",Z135)","v":""},null,{"$f":"IF(AB135=\"\",\"\",AB135)","v":""},null,{"$f":"IF(AD135=\"\",\"\",AD135)","v":""},null,{"$f":"IF(AF135=\"\",\"\",AF135)","v":""},null,{"$f":"IF(AH135=\"\",\"\",AH135)","v":""},null,{"$f":"IF(AJ135=\"\",\"\",AJ135)","v":""},null,{"$f":"IF(AL135=\"\",\"\",AL135)","v":""},null,null,{"$f":"IF(AO135=\"\",\"\",AO135)","v":""},null,null,{"$f":"IF(AR135=\"\",\"\",AR135)","v":""},null,null,null,null,{"$f":"IF(AW135=\"\",\"\",AW135)","v":""}]
[]
[]
[]
[null,null,null,null,null,null,null,null,null,null,null,null,null,null,null,null,null,{"$f":"IF(R139=\"\",\"\",R139)","v":""},null,{"$f":"IF(T139=\"\",\"\",T139)","v":""},null,{"$f":"IF(V139=\"\",\"\",V139)","v":""},null,{"$f":"IF(X139=\"\",\"\",X139)","v":""},null,{"$f":"IF(Z139=\"\",\"\",Z139)","v":""},null,{"$f":"IF(AB139=\"\",\"\",AB139)","v":""},null,{"$f":"IF(AD139=\"\",\"\",AD139)","v":""},null,{"$f":"IF(AF139=\"\",\"\",AF139)","v":""},null,{"$f":"IF(AH139=\"\",\"\",AH139)","v":""},null,{"$f":"IF(AJ139=\"\",\"\",AJ139)","v":""},null,{"$f":"IF(AL139=\"\",\"\",AL139)","v":""},null,null,{"$f":"IF(AO139=\"\",\"\",AO139)","v":""},null,null,{"$f":"IF(AR139=\"\",\"\",AR139)","v":""},null,null,null,null,{"$f":"IF(AW139=\"\",\"\",AW139)","v":""}]
[]
[]
[]
[null,null,null,null,null,null,null,null,null,null,null,null,null,null,null,null,null,{"$f":"IF(R143=\"\",\"\",R143)","v":""},null,{"$f":"IF(T143=\"\",\"\",T143)","v":""},null,{"$f":"IF(V143=\"\",\"\",V143)","v":""},null,{"$f":"IF(X143=\"\",\"\",X143)","v":""},null,{"$f":"IF(Z143=\"\",\"\",Z143)","v":""},null,{"$f":"IF(AB143=\"\",\"\",AB143)","v":""},null,{"$f":"IF(AD143=\"\",\"\",AD143)","v":""},null,{"$f":"IF(AF143=\"\",\"\",AF143)","v":""},null,{"$f":"IF(AH143=\"\",\"\",AH143)","v":""},null,{"$f":"IF(AJ143=\"\",\"\",AJ143)","v":""},null,{"$f":"IF(AL143=\"\",\"\",AL143)","v":""},null,null,{"$f":"IF(AO143=\"\",\"\",AO143)","v":""},null,null,{"$f":"IF(AR143=\"\",\"\",AR143)","v":""},null,null,null,null,{"$f":"IF(AW143=\"\",\"\",AW143)","v":""}]
[]
[]
[]
[null,null,null,null,null,null,null,null,null,null,null,null,null,null,null,null,null,{"$f":"IF(R147=\"\",\"\",R147)","v":""},null,{"$f":"IF(T147=\"\",\"\",T147)","v":""},null,{"$f":"IF(V147=\"\",\"\",V147)","v":""},null,{"$f":"IF(X147=\"\",\"\",X147)","v":""},null,{"$f":"IF(Z147=\"\",\"\",Z147)","v":""},null,{"$f":"IF(AB147=\"\",\"\",AB147)","v":""},null,{"$f":"IF(AD147=\"\",\"\",AD147)","v":""},null,{"$f":"IF(AF147=\"\",\"\",AF147)","v":""},null,{"$f":"IF(AH147=\"\",\"\",AH147)","v":""},null,{"$f":"IF(AJ147=\"\",\"\",AJ147)","v":""},null,{"$f":"IF(AL147=\"\",\"\",AL147)","v":""},null,null,{"$f":"IF(AO147=\"\",\"\",AO147)","v":""},null,null,{"$f":"IF(AR147=\"\",\"\",AR147)","v":""},null,null,null,null,{"$f":"IF(AW147=\"\",\"\",AW147)","v":""}]
[]
[]
[]
[null,null,null,null,null,null,null,null,null,null,null,null,null,null,null,null,null,{"$f":"IF(R151=\"\",\"\",R151)","v":""},null,{"$f":"IF(T151=\"\",\"\",T151)","v":""},null,{"$f":"IF(V151=\"\",\"\",V151)","v":""},null,{"$f":"IF(X151=\"\",\"\",X151)","v":""},null,{"$f":"IF(Z151=\"\",\"\",Z151)","v":""},null,{"$f":"IF(AB151=\"\",\"\",AB151)","v":""},null,{"$f":"IF(AD151=\"\",\"\",AD151)","v":""},null,{"$f":"IF(AF151=\"\",\"\",AF151)","v":""},null,{"$f":"IF(AH151=\"\",\"\",AH151)","v":""},null,{"$f":"IF(AJ151=\"\",\"\",AJ151)","v":""},null,{"$f":"IF(AL151=\"\",\"\",AL151)","v":""},null,null,{"$f":"IF(AO151=\"\",\"\",AO151)","v":""},null,null,{"$f":"IF(AR151=\"\",\"\",AR151)","v":""},null,null,null,null,{"$f":"IF(AW151=\"\",\"\",AW151)","v":""}]
[]
[]
[]
[null,null,null,null,null,null,null,null,null,null,null,null,null,null,null,null,null,{"$f":"IF(R155=\"\",\"\",R155)","v":""},null,{"$f":"IF(T155=\"\",\"\",T155)","v":""},null,{"$f":"IF(V155=\"\",\"\",V155)","v":""},null,{"$f":"IF(X155=\"\",\"\",X155)","v":""},null,{"$f":"IF(Z155=\"\",\"\",Z155)","v":""},null,{"$f":"IF(AB155=\"\",\"\",AB155)","v":""},null,{"$f":"IF(AD155=\"\",\"\",AD155)","v":""},null,{"$f":"IF(AF155=\"\",\"\",AF155)","v":""},null,{"$f":"IF(AH155=\"\",\"\",AH155)","v":""},null,{"$f":"IF(AJ155=\"\",\"\",AJ155)","v":""},null,{"$f":"IF(AL155=\"\",\"\",AL155)","v":""},null,null,{"$f":"IF(AO155=\"\",\"\",AO155)","v":""},null,null,{"$f":"IF(AR155=\"\",\"\",AR155)","v":""},null,null,null,null,{"$f":"IF(AW155=\"\",\"\",AW155)","v":""}]
[]
[]
[]
[null,null,null,null,null,null,null,null,null,null,null,null,null,null,null,null,null,{"$f":"IF(R159=\"\",\"\",R159)","v":""},null,{"$f":"IF(T159=\"\",\"\",T159)","v":""},null,{"$f":"IF(V159=\"\",\"\",V159)","v":""},null,{"$f":"IF(X159=\"\",\"\",X159)","v":""},null,{"$f":"IF(Z159=\"\",\"\",Z159)","v":""},null,{"$f":"IF(AB159=\"\",\"\",AB159)","v":""},null,{"$f":"IF(AD159=\"\",\"\",AD159)","v":""},null,{"$f":"IF(AF159=\"\",\"\",AF159)","v":""},null,{"$f":"IF(AH159=\"\",\"\",AH159)","v":""},null,{"$f":"IF(AJ159=\"\",\"\",AJ159)","v":""},null,{"$f":"IF(AL159=\"\",\"\",AL159)","v":""},null,null,{"$f":"IF(AO159=\"\",\"\",AO159)","v":""},null,null,{"$f":"IF(AR159=\"\",\"\",AR159)","v":""},null,null,null,null,{"$f":"IF(AW159=\"\",\"\",AW159)","v":""}]
[]
[]
[]
[null,null,null,null,null,null,null,null,null,null,null,null,null,null,null,null,null,{"$f":"IF(R163=\"\",\"\",R163)","v":""},null,{"$f":"IF(T163=\"\",\"\",T163)","v":""},null,{"$f":"IF(V163=\"\",\"\",V163)","v":""},null,{"$f":"IF(X163=\"\",\"\",X163)","v":""},null,{"$f":"IF(Z163=\"\",\"\",Z163)","v":""},null,{"$f":"IF(AB163=\"\",\"\",AB163)","v":""},null,{"$f":"IF(AD163=\"\",\"\",AD163)","v":""},null,{"$f":"IF(AF163=\"\",\"\",AF163)","v":""},null,{"$f":"IF(AH163=\"\",\"\",AH163)","v":""},null,{"$f":"IF(AJ163=\"\",\"\",AJ163)","v":""},null,{"$f":"IF(AL163=\"\",\"\",AL163)","v":""},null,null,{"$f":"IF(AO163=\"\",\"\",AO163)","v":""},null,null,{"$f":"IF(AR163=\"\",\"\",AR163)","v":""},null,null,null,null,{"$f":"IF(AW163=\"\",\"\",AW163)","v":""}]
[]
[]
[]
[null,null,null,null,null,null,null,null,null,null,null,null,null,null,null,null,null,{"$f":"IF(R167=\"\",\"\",R167)","v":""},null,{"$f":"IF(T167=\"\",\"\",T167)","v":""},null,{"$f":"IF(V167=\"\",\"\",V167)","v":""},null,{"$f":"IF(X167=\"\",\"\",X167)","v":""},null,{"$f":"IF(Z167=\"\",\"\",Z167)","v":""},null,{"$f":"IF(AB167=\"\",\"\",AB167)","v":""},null,{"$f":"IF(AD167=\"\",\"\",AD167)","v":""},null,{"$f":"IF(AF167=\"\",\"\",AF167)","v":""},null,{"$f":"IF(AH167=\"\",\"\",AH167)","v":""},null,{"$f":"IF(AJ167=\"\",\"\",AJ167)","v":""},null,{"$f":"IF(AL167=\"\",\"\",AL167)","v":""},null,null,{"$f":"IF(AO167=\"\",\"\",AO167)","v":""},null,null,{"$f":"IF(AR167=\"\",\"\",AR167)","v":""},null,null,null,null,{"$f":"IF(AW167=\"\",\"\",AW167)","v":""}]
[]
[]
[]
[null,null,null,null,null,null,null,null,null,null,null,null,null,null,null,null,null,{"$f":"IF(R171=\"\",\"\",R171)","v":""},null,{"$f":"IF(T171=\"\",\"\",T171)","v":""},null,{"$f":"IF(V171=\"\",\"\",V171)","v":""},null,{"$f":"IF(X171=\"\",\"\",X171)","v":""},null,{"$f":"IF(Z171=\"\",\"\",Z171)","v":""},null,{"$f":"IF(AB171=\"\",\"\",AB171)","v":""},null,{"$f":"IF(AD171=\"\",\"\",AD171)","v":""},null,{"$f":"IF(AF171=\"\",\"\",AF171)","v":""},null,{"$f":"IF(AH171=\"\",\"\",AH171)","v":""},null,{"$f":"IF(AJ171=\"\",\"\",AJ171)","v":""},null,{"$f":"IF(AL171=\"\",\"\",AL171)","v":""},null,null,{"$f":"IF(AO171=\"\",\"\",AO171)","v":""},null,null,{"$f":"IF(AR171=\"\",\"\",AR171)","v":""},null,null,null,null,{"$f":"IF(AW171=\"\",\"\",AW171)","v":""}]
[]
[]
[]
[null,null,null,null,null,null,null,null,null,null,null,null,null,null,null,null,null,null,null,null,null,null,null,null,null,null,null,null,null,null,null,null,null,null,null,null,null,{"$f":"AL175","v":"金額(税抜)"},null,null,null,null,null,null,null,null,null,null,{"$f":"AW83","v":""}]
[]
[]
[]
[]
[null,null,null,null,null,null,null,null,null,null,null,null,null,null,null,null,null,null,null,null,null,null,null,null,null,null,null,null,null,null,null,null,null,null,null,null,null,{"$f":"AL180","v":"消費税"},null,null,null,null,null,"税率",null,null,"税調",null,{"$f":"AW88","v":""}]
[]
[null,null,null,null,null,null,null,null,null,null,null,null,null,null,null,null,null,null,null,null,null,null,null,null,null,null,null,null,null,null,null,null,null,null,null,null,null,null,null,null,null,null,null,{"$f":"AR90","v":0},null,{"$f":"AT90","v":""}]

{"sheet":"細3-11","index":38,"n_rows":274,"n_cols":53,"rows_kept":274,"cut":false,"hidden":false,"merged":[[266,37,269,47],[266,48,269,54],[271,48,274,54],[258,48,261,54],[262,17,265,18],[262,19,265,20],[262,21,265,36],[262,37,265,39],[262,40,265,42],[262,43,265,47],[262,48,265,54],[258,17,261,18],[258,19,261,20],[258,21,261,36],[258,37,261,39],[258,40,261,42],[258,43,261,47],[271,37,274,42],[271,43,272,45],[273,43,274,44],[273,45,274,45],[273,46,274,47],[271,46,272,47],[250,48,253,54],[254,17,257,18],[254,19,257,20],[254,21,257,36],[254,37,257,39],[254,40,257,42],[254,43,257,47],[254,48,257,54],[250,17,253,18],[250,19,253,20],[250,21,253,36],[250,37,253,39],[250,40,253,42],[250,43,253,47],[242,48,245,54],[246,17,249,18],[246,19,249,20],[246,21,249,36],[246,37,249,39],[246,40,249,42],[246,43,249,47],[246,48,249,54],[242,17,245,18],[242,19,245,20],[242,21,245,36],[242,37,245,39],[242,40,245,42],[242,43,245,47],[234,48,237,54],[238,17,241,18],[238,19,241,20],[238,21,241,36],[238,37,241,39],[238,40,241,42],[238,43,241,47],[238,48,241,54],[234,17,237,18],[234,19,237,20],[234,21,237,36],[234,37,237,39],[234,40,237,42],[234,43,237,47],[222,17,225,18],[222,19,225,20],[222,21,225,36],[222,37,225,39],[222,40,225,42],[222,43,225,47],[222,48,225,54],[226,48,229,54],[230,17,233,18],[230,19,233,20],[230,21,233,36],[230,37,233,39],[230,40,233,42],[230,43,233,47],[230,48,233,54],[226,17,229,18],[226,19,229,20],[226,21,229,36],[226,37,229,39],[226,40,229,42],[226,43,229,47],[218,1,221,5],[218,6,221,15],[218,17,221,18],[218,19,221,20],[218,21,221,36],[218,37,221,39],[218,40,221,42],[218,43,221,47],[218,48,221,54],[210,40,213,42],[210,43,213,47],[210,48,213,54],[214,1,217,3],[214,4,217,5],[214,6,217,15],[214,17,217,18],[214,19,217,20],[214,21,217,36],[214,37,217,39],[210,1,213,5],[210,6,213,15],[210,17,213,18],[210,19,213,20],[210,21,213,36],[210,37,213,39],[214,40,217,42],[214,43,217,47],[214,48,217,54],[206,1,209,5],[206,6,209,15],[206,17,209,18],[206,19,209,20],[206,21,209,36],[206,37,209,39],[206,40,209,42],[206,43,209,47],[206,48,209,54],[198,43,201,47],[198,48,201,54],[202,1,205,5],[202,6,205,15],[202,17,205,18],[202,19,205,20],[202,21,205,36],[202,37,205,39],[202,40,205,42],[202,43,205,47],[198,1,201,5],[198,6,201,15],[198,17,201,20],[198,21,201,36],[198,37,201,39],[198,40,201,42],[202,48,205,54],[187,52,189,54],[192,1,195,5],[192,6,195,11],[192,12,195,15],[192,16,195,35],[192,37,195,40],[192,41,195,54],[174,37,177,47],[174,48,177,54],[179,48,182,54],[185,19,188,32],[186,1,189,11],[186,12,189,13],[187,40,189,44],[187,45,189,48],[187,49,189,51],[179,37,182,42],[179,43,180,45],[179,46,180,47],[181,43,182,44],[181,45,182,45],[181,46,182,47],[166,48,169,54],[170,17,173,18],[170,19,173,20],[170,21,173,36],[170,37,173,39],[170,40,173,42],[170,43,173,47],[170,48,173,54],[166,17,169,18],[166,19,169,20],[166,21,169,36],[166,37,169,39],[166,40,169,42],[166,43,169,47],[158,48,161,54],[162,17,165,18],[162,19,165,20],[162,21,165,36],[162,37,165,39],[162,40,165,42],[162,43,165,47],[162,48,165,54],[158,17,161,18],[158,19,161,20],[158,21,161,36],[158,37,161,39],[158,40,161,42],[158,43,161,47],[150,48,153,54],[154,17,157,18],[154,19,157,20],[154,21,157,36],[154,37,157,39],[154,40,157,42],[154,43,157,47],[154,48,157,54],[150,17,153,18],[150,19,153,20],[150,21,153,36],[150,37,153,39],[150,40,153,42],[150,43,153,47],[142,48,145,54],[146,17,149,18],[146,19,149,20],[146,21,149,36],[146,37,149,39],[146,40,149,42],[146,43,149,47],[146,48,149,54],[142,17,145,18],[142,19,145,20],[142,21,145,36],[142,37,145,39],[142,40,145,42],[142,43,145,47],[130,17,133,18],[130,19,133,20],[130,21,133,36],[130,37,133,39],[130,40,133,42],[130,43,133,47],[130,48,133,54],[134,48,137,54],[138,17,141,18],[138,19,141,20],[138,21,141,36],[138,37,141,39],[138,40,141,42],[138,43,141,47],[138,48,141,54],[134,17,137,18],[134,19,137,20],[134,21,137,36],[134,37,137,39],[134,40,137,42],[134,43,137,47],[126,1,129,5],[126,6,129,15],[126,17,129,18],[126,19,129,20],[126,21,129,36],[126,37,129,39],[126,40,129,42],[126,43,129,47],[126,48,129,54],[118,40,121,42],[118,43,121,47],[118,48,121,54],[122,1,125,3],[122,4,125,5],[122,6,125,15],[122,17,125,18],[122,19,125,20],[122,21,125,36],[122,37,125,39],[118,1,121,5],[118,6,121,15],[118,17,121,18],[118,19,121,20],[118,21,121,36],[118,37,121,39],[122,40,125,42],[122,43,125,47],[122,48,125,54],[114,1,117,5],[114,6,117,15],[114,17,117,18],[114,19,117,20],[114,21,117,36],[114,37,117,39],[114,40,117,42],[114,43,117,47],[114,48,117,54],[106,43,109,47],[106,48,109,54],[110,1,113,5],[110,6,113,15],[110,17,113,18],[110,19,113,20],[110,21,113,36],[110,37,113,39],[110,40,113,42],[110,43,113,47],[106,1,109,5],[106,6,109,15],[106,17,109,20],[106,21,109,36],[106,37,109,39],[106,40,109,42],[110,48,113,54],[95,52,97,54],[100,1,103,5],[100,6,103,11],[100,12,103,15],[100,16,103,35],[100,37,103,40],[100,41,103,54],[93,19,96,32],[94,1,97,11],[94,12,97,13],[95,40,97,44],[95,45,97,48],[95,49,97,51],[85,11,90,16],[85,17,90,25],[85,26,90,30],[85,31,90,35],[87,48,90,54],[82,37,85,47],[82,48,85,54],[83,1,84,4],[83,5,84,10],[83,11,84,16],[83,17,84,25],[83,26,84,30],[83,31,84,35],[85,1,90,4],[85,5,90,10],[87,37,90,42],[87,43,88,45],[89,43,90,44],[89,45,90,45],[89,46,90,47],[87,46,88,47],[74,48,77,54],[78,17,81,18],[78,19,81,20],[78,21,81,36],[78,37,81,39],[78,40,81,42],[78,43,81,47],[78,48,81,54],[74,17,77,18],[74,19,77,20],[74,21,77,36],[74,37,77,39],[74,40,77,42],[74,43,77,47],[66,48,69,54],[70,17,73,18],[70,19,73,20],[70,21,73,36],[70,37,73,39],[70,40,73,42],[70,43,73,47],[70,48,73,54],[66,17,69,18],[66,19,69,20],[66,21,69,36],[66,37,69,39],[66,40,69,42],[66,43,69,47],[58,48,61,54],[62,17,65,18],[62,19,65,20],[62,21,65,36],[62,37,65,39],[62,40,65,42],[62,43,65,47],[62,48,65,54],[58,17,61,18],[58,19,61,20],[58,21,61,36],[58,37,61,39],[58,40,61,42],[58,43,61,47],[50,48,53,54],[54,17,57,18],[54,19,57,20],[54,21,57,36],[54,37,57,39],[54,40,57,42],[54,43,57,47],[54,48,57,54],[50,17,53,18],[50,19,53,20],[50,21,53,36],[50,37,53,39],[50,40,53,42],[50,43,53,47],[38,17,41,18],[38,19,41,20],[38,21,41,36],[38,37,41,39],[38,40,41,42],[38,43,41,47],[38,48,41,54],[42,48,45,54],[46,17,49,18],[46,19,49,20],[46,21,49,36],[46,37,49,39],[46,40,49,42],[46,43,49,47],[46,48,49,54],[42,17,45,18],[42,19,45,20],[42,21,45,36],[42,37,45,39],[42,40,45,42],[42,43,45,47],[34,1,37,5],[34,6,37,15],[34,17,37,18],[34,19,37,20],[34,21,37,36],[34,37,37,39],[34,40,37,42],[34,43,37,47],[34,48,37,54],[26,40,29,42],[26,43,29,47],[26,48,29,54],[30,1,33,3],[30,4,33,5],[30,6,33,15],[30,17,33,18],[30,19,33,20],[30,21,33,36],[30,37,33,39],[26,1,29,5],[26,6,29,15],[26,17,29,18],[26,19,29,20],[26,21,29,36],[26,37,29,39],[30,40,33,42],[30,43,33,47],[30,48,33,54],[22,1,25,5],[22,6,25,15],[22,17,25,18],[22,19,25,20],[22,21,25,36],[22,37,25,39],[22,40,25,42],[22,43,25,47],[22,48,25,54],[14,43,17,47],[14,48,17,54],[18,1,21,5],[18,6,21,15],[18,17,21,18],[18,19,21,20],[18,21,21,36],[18,37,21,39],[18,40,21,42],[18,43,21,47],[14,1,17,5],[14,6,17,15],[14,17,17,20],[14,21,17,36],[14,37,17,39],[14,40,17,42],[18,48,21,54],[3,52,5,54],[8,1,11,5],[8,6,11,11],[8,12,11,15],[8,16,11,35],[8,37,11,40],[8,41,11,54],[1,19,4,32],[2,1,5,11],[2,12,5,13],[3,40,5,44],[3,45,5,48],[3,49,5,51]]}
[]
[null,null,null,null,null,null,null,null,null,null,null,null,null,null,null,null,null,null,null,"請求書明細書 (正)"]
[null,"株 式 会 社 種 村 建 設",null,null,null,null,null,null,null,null,null,null,"御中"]
[null,null,null,null,null,null,null,null,null,null,null,null,null,null,null,null,null,null,null,null,null,null,null,null,null,null,null,null,null,null,null,null,null,null,null,null,null,null,null,null,"請求年月日",null,null,null,null,{"$f":"IF(年=\"\",\"\",年)","v":""},null,null,null,{"$f":"IF(月=\"\",\"\",月)","v":""},null,null,{"$f":"IF(日=\"\",\"\",日)","v":""}]
[]
[]
[]
[]
[null,"工事番号",null,null,null,null,null,null,null,null,null,null,"工事名",null,null,null,null,null,null,null,null,null,null,null,null,null,null,null,null,null,null,null,null,null,null,null,null,"業者名",null,null,null,{"$f":"IF(社名=\"\",\"\",社名)","v":""}]
[]
[]
[]
[]
[]
[null,"注文番号",null,null,null,null,null,null,null,null,null,null,null,null,null,null,null,"月　日",null,null,null,"品　名・内　訳",null,null,null,null,null,null,null,null,null,null,null,null,null,null,null,"数 量",null,null,"単位",null,null,"単価",null,null,null,null,{"$f":"表紙①!P35","v":"金額(税抜)"}]
[]
[]
[]
[null,"契約金額",null,null,null,null,null,null,null,null,null,null,null,null,null,null,null,null,null,null,null,null,null,null,null,null,null,null,null,null,null,null,null,null,null,null,null,null,null,null,null,null,null,null,null,null,null,null,{"$f":"IF(V19=\"\",\"\",ROUND(AL19*AR19,0))","v":""}]
[]
[]
[]
[null,"増減額",null,null,null,null,null,null,null,null,null,null,null,null,null,null,null,null,null,null,null,null,null,null,null,null,null,null,null,null,null,null,null,null,null,null,null,null,null,null,null,null,null,null,null,null,null,null,{"$f":"IF(V23=\"\",\"\",ROUND(AL23*AR23,0))","v":""}]
[]
[]
[]
[null,"前回までの\n請求額",null,null,null,null,null,null,null,null,null,null,null,null,null,null,null,null,null,null,null,null,null,null,null,null,null,null,null,null,null,null,null,null,null,null,null,null,null,null,null,null,null,null,null,null,null,null,{"$f":"IF(V27=\"\",\"\",ROUND(AL27*AR27,0))","v":""}]
[]
[]
[]
[null,"今回\n請求額",null,null,null,null,null,null,null,null,null,null,null,null,null,null,null,null,null,null,null,null,null,null,null,null,null,null,null,null,null,null,null,null,null,null,null,null,null,null,null,null,null,null,null,null,null,null,{"$f":"IF(V31=\"\",\"\",ROUND(AL31*AR31,0))","v":""}]
[]
[]
[]
[null,"差引残高",null,null,null,null,{"$f":"IF(G19=\"\",\"\",G19+G23-G27-G31)","v":""},null,null,null,null,null,null,null,null,null,null,null,null,null,null,null,null,null,null,null,null,null,null,null,null,null,null,null,null,null,null,null,null,null,null,null,null,null,null,null,null,null,{"$f":"IF(V35=\"\",\"\",ROUND(AL35*AR35,0))","v":""}]
[]
[]
[]
[null,null,null,null,null,null,null,null,null,null,null,null,null,null,null,null,null,null,null,null,null,null,null,null,null,null,null,null,null,null,null,null,null,null,null,null,null,null,null,null,null,null,null,null,null,null,null,null,{"$f":"IF(V39=\"\",\"\",ROUND(AL39*AR39,0))","v":""}]
[]
[]
[]
[null,null,null,null,null,null,null,null,null,null,null,null,null,null,null,null,null,null,null,null,null,null,null,null,null,null,null,null,null,null,null,null,null,null,null,null,null,null,null,null,null,null,null,null,null,null,null,null,{"$f":"IF(V43=\"\",\"\",ROUND(AL43*AR43,0))","v":""}]
[]
[]
[]
[null,null,null,null,null,null,null,null,null,null,null,null,null,null,null,null,null,null,null,null,null,null,null,null,null,null,null,null,null,null,null,null,null,null,null,null,null,null,null,null,null,null,null,null,null,null,null,null,{"$f":"IF(V47=\"\",\"\",ROUND(AL47*AR47,0))","v":""}]
[]
[]
[]
[null,null,null,null,null,null,null,null,null,null,null,null,null,null,null,null,null,null,null,null,null,null,null,null,null,null,null,null,null,null,null,null,null,null,null,null,null,null,null,null,null,null,null,null,null,null,null,null,{"$f":"IF(V51=\"\",\"\",ROUND(AL51*AR51,0))","v":""}]
[]
[]
[]
[null,null,null,null,null,null,null,null,null,null,null,null,null,null,null,null,null,null,null,null,null,null,null,null,null,null,null,null,null,null,null,null,null,null,null,null,null,null,null,null,null,null,null,null,null,null,null,null,{"$f":"IF(V55=\"\",\"\",ROUND(AL55*AR55,0))","v":""}]
[]
[]
[]
[null,null,null,null,null,null,null,null,null,null,null,null,null,null,null,null,null,null,null,null,null,null,null,null,null,null,null,null,null,null,null,null,null,null,null,null,null,null,null,null,null,null,null,null,null,null,null,null,{"$f":"IF(V59=\"\",\"\",ROUND(AL59*AR59,0))","v":""}]
[]
[]
[]
[null,null,null,null,null,null,null,null,null,null,null,null,null,null,null,null,null,null,null,null,null,null,null,null,null,null,null,null,null,null,null,null,null,null,null,null,null,null,null,null,null,null,null,null,null,null,null,null,{"$f":"IF(V63=\"\",\"\",ROUND(AL63*AR63,0))","v":""}]
[]
[]
[]
[null,null,null,null,null,null,null,null,null,null,null,null,null,null,null,null,null,null,null,null,null,null,null,null,null,null,null,null,null,null,null,null,null,null,null,null,null,null,null,null,null,null,null,null,null,null,null,null,{"$f":"IF(V67=\"\",\"\",ROUND(AL67*AR67,0))","v":""}]
[]
[]
[]
[null,null,null,null,null,null,null,null,null,null,null,null,null,null,null,null,null,null,null,null,null,null,null,null,null,null,null,null,null,null,null,null,null,null,null,null,null,null,null,null,null,null,null,null,null,null,null,null,{"$f":"IF(V71=\"\",\"\",ROUND(AL71*AR71,0))","v":""}]
[]
[]
[]
[null,null,null,null,null,null,null,null,null,null,null,null,null,null,null,null,null,null,null,null,null,null,null,null,null,null,null,null,null,null,null,null,null,null,null,null,null,null,null,null,null,null,null,null,null,null,null,null,{"$f":"IF(V75=\"\",\"\",ROUND(AL75*AR75,0))","v":""}]
[]
[]
[]
[null,null,null,null,null,null,null,null,null,null,null,null,null,null,null,null,null,null,null,null,null,null,null,null,null,null,null,null,null,null,null,null,null,null,null,null,null,null,null,null,null,null,null,null,null,null,null,null,{"$f":"IF(V79=\"\",\"\",ROUND(AL79*AR79,0))","v":""}]
[]
[]
[]
[null,null,null,null,null,null,null,null,null,null,null,null,null,null,null,null,null,null,null,null,null,null,null,null,null,null,null,null,null,null,null,null,null,null,null,null,null,"金額(税抜)",null,null,null,null,null,null,null,null,null,null,{"$f":"IF(AW19=\"\",\"\",SUM(AW19:AW79))","v":""}]
[null,"社長",null,null,null,"専務",null,null,null,null,null,"常務",null,null,null,null,null,"部長･工場長",null,null,null,null,null,null,null,null,"担当者",null,null,null,null,"受付"]
[]
[]
[]
[null,null,null,null,null,null,null,null,null,null,null,null,null,null,null,null,null,null,null,null,null,null,null,null,null,null,null,null,null,null,null,null,null,null,null,null,null,"消費税",null,null,null,null,null,"税率",null,null,"税調",null,{"$f":"IF(AW83=\"\",\"\",IF(AR90=\"\",\"\",IF(AR90=8.1,ROUND(AW83*8/100,0)+AU90,ROUND(AW83*AR90/100,0)+AU90)))","v":""}]
[]
[null,null,null,null,null,null,null,null,null,null,null,null,null,null,null,null,null,null,null,null,null,null,null,null,null,null,null,null,null,null,null,null,null,null,null,null,null,null,null,null,null,null,null,null,null,{"$f":"IF(AR90=\"\",\"\",IF(AR90=8.1,\"旧\",IF(AR90=8,\"軽\",IF(AR90=0,\"非\",\"\"))))","v":""}]
[]
[]
[]
[null,null,null,null,null,null,null,null,null,null,null,null,null,null,null,null,null,null,null,"請求明細書 (現場控)"]
[null,"株 式 会 社 種 村 建 設",null,null,null,null,null,null,null,null,null,null,"御中"]
[null,null,null,null,null,null,null,null,null,null,null,null,null,null,null,null,null,null,null,null,null,null,null,null,null,null,null,null,null,null,null,null,null,null,null,null,null,null,null,null,"請求年月日",null,null,null,null,{"$f":"IF(AT4=\"\",\"\",AT4)","v":""},null,null,null,{"$f":"IF(AX4=\"\",\"\",AX4)","v":""},null,null,{"$f":"IF(BA4=\"\",\"\",BA4)","v":""}]
[]
[]
[]
[]
[null,"工事番号",null,null,null,null,{"$f":"IF(G9=\"\",\"\",G9)","v":""},null,null,null,null,null,"工事名",null,null,null,{"$f":"IF(Q9=\"\",\"\",Q9)","v":""},null,null,null,null,null,null,null,null,null,null,null,null,null,null,null,null,null,null,null,null,"業者名",null,null,null,{"$f":"IF(AP9=\"\",\"\",AP9)","v":""}]
[]
[]
[]
[]
[]
[null,"注文番号",null,null,null,null,{"$f":"IF(G15=\"\",\"\",G15)","v":""},null,null,null,null,null,null,null,null,null,null,"月　日",null,null,null,"品　名・内　訳",null,null,null,null,null,null,null,null,null,null,null,null,null,null,null,"数 量",null,null,"単位",null,null,"単価",null,null,null,null,{"$f":"AW15","v":"金額(税抜)"}]
[]
[]
[]
[null,"契約金額",null,null,null,null,{"$f":"IF(G19=\"\",\"\",G19)","v":""},null,null,null,null,null,null,null,null,null,null,{"$f":"IF(R19=\"\",\"\",R19)","v":""},null,{"$f":"IF(T19=\"\",\"\",T19)","v":""},null,{"$f":"IF(V19=\"\",\"\",V19)","v":""},null,{"$f":"IF(X19=\"\",\"\",X19)","v":""},null,{"$f":"IF(Z19=\"\",\"\",Z19)","v":""},null,{"$f":"IF(AB19=\"\",\"\",AB19)","v":""},null,{"$f":"IF(AD19=\"\",\"\",AD19)","v":""},null,{"$f":"IF(AF19=\"\",\"\",AF19)","v":""},null,{"$f":"IF(AH19=\"\",\"\",AH19)","v":""},null,{"$f":"IF(AJ19=\"\",\"\",AJ19)","v":""},null,{"$f":"IF(AL19=\"\",\"\",AL19)","v":""},null,null,{"$f":"IF(AO19=\"\",\"\",AO19)","v":""},null,null,{"$f":"IF(AR19=\"\",\"\",AR19)","v":""},null,null,null,null,{"$f":"IF(AW19=\"\",\"\",AW19)","v":""}]
[]
[]
[]
[null,"増減額",null,null,null,null,{"$f":"IF(G23=\"\",\"\",G23)","v":""},null,null,null,null,null,null,null,null,null,null,{"$f":"IF(R23=\"\",\"\",R23)","v":""},null,{"$f":"IF(T23=\"\",\"\",T23)","v":""},null,{"$f":"IF(V23=\"\",\"\",V23)","v":""},null,{"$f":"IF(X23=\"\",\"\",X23)","v":""},null,{"$f":"IF(Z23=\"\",\"\",Z23)","v":""},null,{"$f":"IF(AB23=\"\",\"\",AB23)","v":""},null,{"$f":"IF(AD23=\"\",\"\",AD23)","v":""},null,{"$f":"IF(AF23=\"\",\"\",AF23)","v":""},null,{"$f":"IF(AH23=\"\",\"\",AH23)","v":""},null,{"$f":"IF(AJ23=\"\",\"\",AJ23)","v":""},null,{"$f":"IF(AL23=\"\",\"\",AL23)","v":""},null,null,{"$f":"IF(AO23=\"\",\"\",AO23)","v":""},null,null,{"$f":"IF(AR23=\"\",\"\",AR23)","v":""},null,null,null,null,{"$f":"IF(AW23=\"\",\"\",AW23)","v":""}]
[]
[]
[]
[null,"前回までの\n請求額",null,null,null,null,{"$f":"IF(G27=\"\",\"\",G27)","v":""},null,null,null,null,null,null,null,null,null,null,{"$f":"IF(R27=\"\",\"\",R27)","v":""},null,{"$f":"IF(T27=\"\",\"\",T27)","v":""},null,{"$f":"IF(V27=\"\",\"\",V27)","v":""},null,{"$f":"IF(X27=\"\",\"\",X27)","v":""},null,{"$f":"IF(Z27=\"\",\"\",Z27)","v":""},null,{"$f":"IF(AB27=\"\",\"\",AB27)","v":""},null,{"$f":"IF(AD27=\"\",\"\",AD27)","v":""},null,{"$f":"IF(AF27=\"\",\"\",AF27)","v":""},null,{"$f":"IF(AH27=\"\",\"\",AH27)","v":""},null,{"$f":"IF(AJ27=\"\",\"\",AJ27)","v":""},null,{"$f":"IF(AL27=\"\",\"\",AL27)","v":""},null,null,{"$f":"IF(AO27=\"\",\"\",AO27)","v":""},null,null,{"$f":"IF(AR27=\"\",\"\",AR27)","v":""},null,null,null,null,{"$f":"IF(AW27=\"\",\"\",AW27)","v":""}]
[]
[]
[]
[null,"今回\n請求額",null,null,{"$f":"IF(E31=\"\",\"\",E31)","v":""},null,{"$f":"IF(G31=\"\",\"\",G31)","v":""},null,null,null,null,null,null,null,null,null,null,{"$f":"IF(R31=\"\",\"\",R31)","v":""},null,{"$f":"IF(T31=\"\",\"\",T31)","v":""},null,{"$f":"IF(V31=\"\",\"\",V31)","v":""},null,{"$f":"IF(X31=\"\",\"\",X31)","v":""},null,{"$f":"IF(Z31=\"\",\"\",Z31)","v":""},null,{"$f":"IF(AB31=\"\",\"\",AB31)","v":""},null,{"$f":"IF(AD31=\"\",\"\",AD31)","v":""},null,{"$f":"IF(AF31=\"\",\"\",AF31)","v":""},null,{"$f":"IF(AH31=\"\",\"\",AH31)","v":""},null,{"$f":"IF(AJ31=\"\",\"\",AJ31)","v":""},null,{"$f":"IF(AL31=\"\",\"\",AL31)","v":""},null,null,{"$f":"IF(AO31=\"\",\"\",AO31)","v":""},null,null,{"$f":"IF(AR31=\"\",\"\",AR31)","v":""},null,null,null,null,{"$f":"IF(AW31=\"\",\"\",AW31)","v":""}]
[]
[]
[]
[null,"差引残高",null,null,null,null,{"$f":"IF(G111=\"\",\"\",G111+G115-G119-G123)","v":""},null,null,null,null,null,null,null,null,null,null,{"$f":"IF(R35=\"\",\"\",R35)","v":""},null,{"$f":"IF(T35=\"\",\"\",T35)","v":""},null,{"$f":"IF(V35=\"\",\"\",V35)","v":""},null,{"$f":"IF(X35=\"\",\"\",X35)","v":""},null,{"$f":"IF(Z35=\"\",\"\",Z35)","v":""},null,{"$f":"IF(AB35=\"\",\"\",AB35)","v":""},null,{"$f":"IF(AD35=\"\",\"\",AD35)","v":""},null,{"$f":"IF(AF35=\"\",\"\",AF35)","v":""},null,{"$f":"IF(AH35=\"\",\"\",AH35)","v":""},null,{"$f":"IF(AJ35=\"\",\"\",AJ35)","v":""},null,{"$f":"IF(AL35=\"\",\"\",AL35)","v":""},null,null,{"$f":"IF(AO35=\"\",\"\",AO35)","v":""},null,null,{"$f":"IF(AR35=\"\",\"\",AR35)","v":""},null,null,null,null,{"$f":"IF(AW35=\"\",\"\",AW35)","v":""}]
[]
[]
[]
[null,null,null,null,null,null,null,null,null,null,null,null,null,null,null,null,null,{"$f":"IF(R39=\"\",\"\",R39)","v":""},null,{"$f":"IF(T39=\"\",\"\",T39)","v":""},null,{"$f":"IF(V39=\"\",\"\",V39)","v":""},null,{"$f":"IF(X39=\"\",\"\",X39)","v":""},null,{"$f":"IF(Z39=\"\",\"\",Z39)","v":""},null,{"$f":"IF(AB39=\"\",\"\",AB39)","v":""},null,{"$f":"IF(AD39=\"\",\"\",AD39)","v":""},null,{"$f":"IF(AF39=\"\",\"\",AF39)","v":""},null,{"$f":"IF(AH39=\"\",\"\",AH39)","v":""},null,{"$f":"IF(AJ39=\"\",\"\",AJ39)","v":""},null,{"$f":"IF(AL39=\"\",\"\",AL39)","v":""},null,null,{"$f":"IF(AO39=\"\",\"\",AO39)","v":""},null,null,{"$f":"IF(AR39=\"\",\"\",AR39)","v":""},null,null,null,null,{"$f":"IF(AW39=\"\",\"\",AW39)","v":""}]
[]
[]
[]
[null,null,null,null,null,null,null,null,null,null,null,null,null,null,null,null,null,{"$f":"IF(R43=\"\",\"\",R43)","v":""},null,{"$f":"IF(T43=\"\",\"\",T43)","v":""},null,{"$f":"IF(V43=\"\",\"\",V43)","v":""},null,{"$f":"IF(X43=\"\",\"\",X43)","v":""},null,{"$f":"IF(Z43=\"\",\"\",Z43)","v":""},null,{"$f":"IF(AB43=\"\",\"\",AB43)","v":""},null,{"$f":"IF(AD43=\"\",\"\",AD43)","v":""},null,{"$f":"IF(AF43=\"\",\"\",AF43)","v":""},null,{"$f":"IF(AH43=\"\",\"\",AH43)","v":""},null,{"$f":"IF(AJ43=\"\",\"\",AJ43)","v":""},null,{"$f":"IF(AL43=\"\",\"\",AL43)","v":""},null,null,{"$f":"IF(AO43=\"\",\"\",AO43)","v":""},null,null,{"$f":"IF(AR43=\"\",\"\",AR43)","v":""},null,null,null,null,{"$f":"IF(AW43=\"\",\"\",AW43)","v":""}]
[]
[]
[]
[null,null,null,null,null,null,null,null,null,null,null,null,null,null,null,null,null,{"$f":"IF(R47=\"\",\"\",R47)","v":""},null,{"$f":"IF(T47=\"\",\"\",T47)","v":""},null,{"$f":"IF(V47=\"\",\"\",V47)","v":""},null,{"$f":"IF(X47=\"\",\"\",X47)","v":""},null,{"$f":"IF(Z47=\"\",\"\",Z47)","v":""},null,{"$f":"IF(AB47=\"\",\"\",AB47)","v":""},null,{"$f":"IF(AD47=\"\",\"\",AD47)","v":""},null,{"$f":"IF(AF47=\"\",\"\",AF47)","v":""},null,{"$f":"IF(AH47=\"\",\"\",AH47)","v":""},null,{"$f":"IF(AJ47=\"\",\"\",AJ47)","v":""},null,{"$f":"IF(AL47=\"\",\"\",AL47)","v":""},null,null,{"$f":"IF(AO47=\"\",\"\",AO47)","v":""},null,null,{"$f":"IF(AR47=\"\",\"\",AR47)","v":""},null,null,null,null,{"$f":"IF(AW47=\"\",\"\",AW47)","v":""}]
[]
[]
[]
[null,null,null,null,null,null,null,null,null,null,null,null,null,null,null,null,null,{"$f":"IF(R51=\"\",\"\",R51)","v":""},null,{"$f":"IF(T51=\"\",\"\",T51)","v":""},null,{"$f":"IF(V51=\"\",\"\",V51)","v":""},null,{"$f":"IF(X51=\"\",\"\",X51)","v":""},null,{"$f":"IF(Z51=\"\",\"\",Z51)","v":""},null,{"$f":"IF(AB51=\"\",\"\",AB51)","v":""},null,{"$f":"IF(AD51=\"\",\"\",AD51)","v":""},null,{"$f":"IF(AF51=\"\",\"\",AF51)","v":""},null,{"$f":"IF(AH51=\"\",\"\",AH51)","v":""},null,{"$f":"IF(AJ51=\"\",\"\",AJ51)","v":""},null,{"$f":"IF(AL51=\"\",\"\",AL51)","v":""},null,null,{"$f":"IF(AO51=\"\",\"\",AO51)","v":""},null,null,{"$f":"IF(AR51=\"\",\"\",AR51)","v":""},null,null,null,null,{"$f":"IF(AW51=\"\",\"\",AW51)","v":""}]
[]
[]
[]
[null,null,null,null,null,null,null,null,null,null,null,null,null,null,null,null,null,{"$f":"IF(R55=\"\",\"\",R55)","v":""},null,{"$f":"IF(T55=\"\",\"\",T55)","v":""},null,{"$f":"IF(V55=\"\",\"\",V55)","v":""},null,{"$f":"IF(X55=\"\",\"\",X55)","v":""},null,{"$f":"IF(Z55=\"\",\"\",Z55)","v":""},null,{"$f":"IF(AB55=\"\",\"\",AB55)","v":""},null,{"$f":"IF(AD55=\"\",\"\",AD55)","v":""},null,{"$f":"IF(AF55=\"\",\"\",AF55)","v":""},null,{"$f":"IF(AH55=\"\",\"\",AH55)","v":""},null,{"$f":"IF(AJ55=\"\",\"\",AJ55)","v":""},null,{"$f":"IF(AL55=\"\",\"\",AL55)","v":""},null,null,{"$f":"IF(AO55=\"\",\"\",AO55)","v":""},null,null,{"$f":"IF(AR55=\"\",\"\",AR55)","v":""},null,null,null,null,{"$f":"IF(AW55=\"\",\"\",AW55)","v":""}]
[]
[]
[]
[null,null,null,null,null,null,null,null,null,null,null,null,null,null,null,null,null,{"$f":"IF(R59=\"\",\"\",R59)","v":""},null,{"$f":"IF(T59=\"\",\"\",T59)","v":""},null,{"$f":"IF(V59=\"\",\"\",V59)","v":""},null,{"$f":"IF(X59=\"\",\"\",X59)","v":""},null,{"$f":"IF(Z59=\"\",\"\",Z59)","v":""},null,{"$f":"IF(AB59=\"\",\"\",AB59)","v":""},null,{"$f":"IF(AD59=\"\",\"\",AD59)","v":""},null,{"$f":"IF(AF59=\"\",\"\",AF59)","v":""},null,{"$f":"IF(AH59=\"\",\"\",AH59)","v":""},null,{"$f":"IF(AJ59=\"\",\"\",AJ59)","v":""},null,{"$f":"IF(AL59=\"\",\"\",AL59)","v":""},null,null,{"$f":"IF(AO59=\"\",\"\",AO59)","v":""},null,null,{"$f":"IF(AR59=\"\",\"\",AR59)","v":""},null,null,null,null,{"$f":"IF(AW59=\"\",\"\",AW59)","v":""}]
[]
[]
[]
[null,null,null,null,null,null,null,null,null,null,null,null,null,null,null,null,null,{"$f":"IF(R63=\"\",\"\",R63)","v":""},null,{"$f":"IF(T63=\"\",\"\",T63)","v":""},null,{"$f":"IF(V63=\"\",\"\",V63)","v":""},null,{"$f":"IF(X63=\"\",\"\",X63)","v":""},null,{"$f":"IF(Z63=\"\",\"\",Z63)","v":""},null,{"$f":"IF(AB63=\"\",\"\",AB63)","v":""},null,{"$f":"IF(AD63=\"\",\"\",AD63)","v":""},null,{"$f":"IF(AF63=\"\",\"\",AF63)","v":""},null,{"$f":"IF(AH63=\"\",\"\",AH63)","v":""},null,{"$f":"IF(AJ63=\"\",\"\",AJ63)","v":""},null,{"$f":"IF(AL63=\"\",\"\",AL63)","v":""},null,null,{"$f":"IF(AO63=\"\",\"\",AO63)","v":""},null,null,{"$f":"IF(AR63=\"\",\"\",AR63)","v":""},null,null,null,null,{"$f":"IF(AW63=\"\",\"\",AW63)","v":""}]
[]
[]
[]
[null,null,null,null,null,null,null,null,null,null,null,null,null,null,null,null,null,{"$f":"IF(R67=\"\",\"\",R67)","v":""},null,{"$f":"IF(T67=\"\",\"\",T67)","v":""},null,{"$f":"IF(V67=\"\",\"\",V67)","v":""},null,{"$f":"IF(X67=\"\",\"\",X67)","v":""},null,{"$f":"IF(Z67=\"\",\"\",Z67)","v":""},null,{"$f":"IF(AB67=\"\",\"\",AB67)","v":""},null,{"$f":"IF(AD67=\"\",\"\",AD67)","v":""},null,{"$f":"IF(AF67=\"\",\"\",AF67)","v":""},null,{"$f":"IF(AH67=\"\",\"\",AH67)","v":""},null,{"$f":"IF(AJ67=\"\",\"\",AJ67)","v":""},null,{"$f":"IF(AL67=\"\",\"\",AL67)","v":""},null,null,{"$f":"IF(AO67=\"\",\"\",AO67)","v":""},null,null,{"$f":"IF(AR67=\"\",\"\",AR67)","v":""},null,null,null,null,{"$f":"IF(AW67=\"\",\"\",AW67)","v":""}]
[]
[]
[]
[null,null,null,null,null,null,null,null,null,null,null,null,null,null,null,null,null,{"$f":"IF(R71=\"\",\"\",R71)","v":""},null,{"$f":"IF(T71=\"\",\"\",T71)","v":""},null,{"$f":"IF(V71=\"\",\"\",V71)","v":""},null,{"$f":"IF(X71=\"\",\"\",X71)","v":""},null,{"$f":"IF(Z71=\"\",\"\",Z71)","v":""},null,{"$f":"IF(AB71=\"\",\"\",AB71)","v":""},null,{"$f":"IF(AD71=\"\",\"\",AD71)","v":""},null,{"$f":"IF(AF71=\"\",\"\",AF71)","v":""},null,{"$f":"IF(AH71=\"\",\"\",AH71)","v":""},null,{"$f":"IF(AJ71=\"\",\"\",AJ71)","v":""},null,{"$f":"IF(AL71=\"\",\"\",AL71)","v":""},null,null,{"$f":"IF(AO71=\"\",\"\",AO71)","v":""},null,null,{"$f":"IF(AR71=\"\",\"\",AR71)","v":""},null,null,null,null,{"$f":"IF(AW71=\"\",\"\",AW71)","v":""}]
[]
[]
[]
[null,null,null,null,null,null,null,null,null,null,null,null,null,null,null,null,null,{"$f":"IF(R75=\"\",\"\",R75)","v":""},null,{"$f":"IF(T75=\"\",\"\",T75)","v":""},null,{"$f":"IF(V75=\"\",\"\",V75)","v":""},null,{"$f":"IF(X75=\"\",\"\",X75)","v":""},null,{"$f":"IF(Z75=\"\",\"\",Z75)","v":""},null,{"$f":"IF(AB75=\"\",\"\",AB75)","v":""},null,{"$f":"IF(AD75=\"\",\"\",AD75)","v":""},null,{"$f":"IF(AF75=\"\",\"\",AF75)","v":""},null,{"$f":"IF(AH75=\"\",\"\",AH75)","v":""},null,{"$f":"IF(AJ75=\"\",\"\",AJ75)","v":""},null,{"$f":"IF(AL75=\"\",\"\",AL75)","v":""},null,null,{"$f":"IF(AO75=\"\",\"\",AO75)","v":""},null,null,{"$f":"IF(AR75=\"\",\"\",AR75)","v":""},null,null,null,null,{"$f":"IF(AW75=\"\",\"\",AW75)","v":""}]
[]
[]
[]
[null,null,null,null,null,null,null,null,null,null,null,null,null,null,null,null,null,{"$f":"IF(R79=\"\",\"\",R79)","v":""},null,{"$f":"IF(T79=\"\",\"\",T79)","v":""},null,{"$f":"IF(V79=\"\",\"\",V79)","v":""},null,{"$f":"IF(X79=\"\",\"\",X79)","v":""},null,{"$f":"IF(Z79=\"\",\"\",Z79)","v":""},null,{"$f":"IF(AB79=\"\",\"\",AB79)","v":""},null,{"$f":"IF(AD79=\"\",\"\",AD79)","v":""},null,{"$f":"IF(AF79=\"\",\"\",AF79)","v":""},null,{"$f":"IF(AH79=\"\",\"\",AH79)","v":""},null,{"$f":"IF(AJ79=\"\",\"\",AJ79)","v":""},null,{"$f":"IF(AL79=\"\",\"\",AL79)","v":""},null,null,{"$f":"IF(AO79=\"\",\"\",AO79)","v":""},null,null,{"$f":"IF(AR79=\"\",\"\",AR79)","v":""},null,null,null,null,{"$f":"IF(AW79=\"\",\"\",AW79)","v":""}]
[]
[]
[]
[null,null,null,null,null,null,null,null,null,null,null,null,null,null,null,null,null,null,null,null,null,null,null,null,null,null,null,null,null,null,null,null,null,null,null,null,null,{"$f":"AL83","v":"金額(税抜)"},null,null,null,null,null,null,null,null,null,null,{"$f":"AW83","v":""}]
[]
[]
[]
[]
[null,null,null,null,null,null,null,null,null,null,null,null,null,null,null,null,null,null,null,null,null,null,null,null,null,null,null,null,null,null,null,null,null,null,null,null,null,{"$f":"AL88","v":"消費税"},null,null,null,null,null,"税率",null,null,"税調",null,{"$f":"AW88","v":""}]
[]
[null,null,null,null,null,null,null,null,null,null,null,null,null,null,null,null,null,null,null,null,null,null,null,null,null,null,null,null,null,null,null,null,null,null,null,null,null,null,null,null,null,null,null,{"$f":"AR90","v":0},null,{"$f":"AT90","v":""}]
[]
[]
[]
[null,null,null,null,null,null,null,null,null,null,null,null,null,null,null,null,null,null,null,"請求明細書 (貴社控)"]
[null,"株 式 会 社 種 村 建 設",null,null,null,null,null,null,null,null,null,null,"御中"]
[null,null,null,null,null,null,null,null,null,null,null,null,null,null,null,null,null,null,null,null,null,null,null,null,null,null,null,null,null,null,null,null,null,null,null,null,null,null,null,null,"請求年月日",null,null,null,null,{"$f":"IF(AT4=\"\",\"\",AT4)","v":""},null,null,null,{"$f":"IF(AX96=\"\",\"\",AX96)","v":""},null,null,{"$f":"IF(BA96=\"\",\"\",BA96)","v":""}]
[]
[]
[]
[]
[null,"工事番号",null,null,null,null,{"$f":"IF(G101=\"\",\"\",G101)","v":""},null,null,null,null,null,"工事名",null,null,null,{"$f":"IF(Q101=\"\",\"\",Q101)","v":""},null,null,null,null,null,null,null,null,null,null,null,null,null,null,null,null,null,null,null,null,"業者名",null,null,null,{"$f":"IF(AP101=\"\",\"\",AP101)","v":""}]
[]
[]
[]
[]
[]
[null,"注文番号",null,null,null,null,{"$f":"IF(G107=\"\",\"\",G107)","v":""},null,null,null,null,null,null,null,null,null,null,"月　日",null,null,null,"品　名・内　訳",null,null,null,null,null,null,null,null,null,null,null,null,null,null,null,"数 量",null,null,"単位",null,null,"単価",null,null,null,null,{"$f":"AW15","v":"金額(税抜)"}]
[]
[]
[]
[null,"契約金額",null,null,null,null,{"$f":"IF(G111=\"\",\"\",G111)","v":""},null,null,null,null,null,null,null,null,null,null,{"$f":"IF(R111=\"\",\"\",R111)","v":""},null,{"$f":"IF(T111=\"\",\"\",T111)","v":""},null,{"$f":"IF(V111=\"\",\"\",V111)","v":""},null,{"$f":"IF(X111=\"\",\"\",X111)","v":""},null,{"$f":"IF(Z111=\"\",\"\",Z111)","v":""},null,{"$f":"IF(AB111=\"\",\"\",AB111)","v":""},null,{"$f":"IF(AD111=\"\",\"\",AD111)","v":""},null,{"$f":"IF(AF111=\"\",\"\",AF111)","v":""},null,{"$f":"IF(AH111=\"\",\"\",AH111)","v":""},null,{"$f":"IF(AJ111=\"\",\"\",AJ111)","v":""},null,{"$f":"IF(AL111=\"\",\"\",AL111)","v":""},null,null,{"$f":"IF(AO111=\"\",\"\",AO111)","v":""},null,null,{"$f":"IF(AR111=\"\",\"\",AR111)","v":""},null,null,null,null,{"$f":"IF(AW111=\"\",\"\",AW111)","v":""}]
[]
[]
[]
[null,"増減額",null,null,null,null,{"$f":"IF(G115=\"\",\"\",G115)","v":""},null,null,null,null,null,null,null,null,null,null,{"$f":"IF(R115=\"\",\"\",R115)","v":""},null,{"$f":"IF(T115=\"\",\"\",T115)","v":""},null,{"$f":"IF(V115=\"\",\"\",V115)","v":""},null,{"$f":"IF(X115=\"\",\"\",X115)","v":""},null,{"$f":"IF(Z115=\"\",\"\",Z115)","v":""},null,{"$f":"IF(AB115=\"\",\"\",AB115)","v":""},null,{"$f":"IF(AD115=\"\",\"\",AD115)","v":""},null,{"$f":"IF(AF115=\"\",\"\",AF115)","v":""},null,{"$f":"IF(AH115=\"\",\"\",AH115)","v":""},null,{"$f":"IF(AJ115=\"\",\"\",AJ115)","v":""},null,{"$f":"IF(AL115=\"\",\"\",AL115)","v":""},null,null,{"$f":"IF(AO115=\"\",\"\",AO115)","v":""},null,null,{"$f":"IF(AR115=\"\",\"\",AR115)","v":""},null,null,null,null,{"$f":"IF(AW115=\"\",\"\",AW115)","v":""}]
[]
[]
[]
[null,"前回までの\n請求額",null,null,null,null,{"$f":"IF(G119=\"\",\"\",G119)","v":""},null,null,null,null,null,null,null,null,null,null,{"$f":"IF(R119=\"\",\"\",R119)","v":""},null,{"$f":"IF(T119=\"\",\"\",T119)","v":""},null,{"$f":"IF(V119=\"\",\"\",V119)","v":""},null,{"$f":"IF(X119=\"\",\"\",X119)","v":""},null,{"$f":"IF(Z119=\"\",\"\",Z119)","v":""},null,{"$f":"IF(AB119=\"\",\"\",AB119)","v":""},null,{"$f":"IF(AD119=\"\",\"\",AD119)","v":""},null,{"$f":"IF(AF119=\"\",\"\",AF119)","v":""},null,{"$f":"IF(AH119=\"\",\"\",AH119)","v":""},null,{"$f":"IF(AJ119=\"\",\"\",AJ119)","v":""},null,{"$f":"IF(AL119=\"\",\"\",AL119)","v":""},null,null,{"$f":"IF(AO119=\"\",\"\",AO119)","v":""},null,null,{"$f":"IF(AR119=\"\",\"\",AR119)","v":""},null,null,null,null,{"$f":"IF(AW119=\"\",\"\",AW119)","v":""}]
[]
[]
[]
[null,"今回\n請求額",null,null,{"$f":"IF(E31=\"\",\"\",E31)","v":""},null,{"$f":"IF(G123=\"\",\"\",G123)","v":""},null,null,null,null,null,null,null,null,null,null,{"$f":"IF(R123=\"\",\"\",R123)","v":""},null,{"$f":"IF(T123=\"\",\"\",T123)","v":""},null,{"$f":"IF(V123=\"\",\"\",V123)","v":""},null,{"$f":"IF(X123=\"\",\"\",X123)","v":""},null,{"$f":"IF(Z123=\"\",\"\",Z123)","v":""},null,{"$f":"IF(AB123=\"\",\"\",AB123)","v":""},null,{"$f":"IF(AD123=\"\",\"\",AD123)","v":""},null,{"$f":"IF(AF123=\"\",\"\",AF123)","v":""},null,{"$f":"IF(AH123=\"\",\"\",AH123)","v":""},null,{"$f":"IF(AJ123=\"\",\"\",AJ123)","v":""},null,{"$f":"IF(AL123=\"\",\"\",AL123)","v":""},null,null,{"$f":"IF(AO123=\"\",\"\",AO123)","v":""},null,null,{"$f":"IF(AR123=\"\",\"\",AR123)","v":""},null,null,null,null,{"$f":"IF(AW123=\"\",\"\",AW123)","v":""}]
[]
[]
[]
[null,"差引残高",null,null,null,null,{"$f":"IF(G203=\"\",\"\",G203+G207-G211-G215)","v":""},null,null,null,null,null,null,null,null,null,null,{"$f":"IF(R127=\"\",\"\",R127)","v":""},null,{"$f":"IF(T127=\"\",\"\",T127)","v":""},null,{"$f":"IF(V127=\"\",\"\",V127)","v":""},null,{"$f":"IF(X127=\"\",\"\",X127)","v":""},null,{"$f":"IF(Z127=\"\",\"\",Z127)","v":""},null,{"$f":"IF(AB127=\"\",\"\",AB127)","v":""},null,{"$f":"IF(AD127=\"\",\"\",AD127)","v":""},null,{"$f":"IF(AF127=\"\",\"\",AF127)","v":""},null,{"$f":"IF(AH127=\"\",\"\",AH127)","v":""},null,{"$f":"IF(AJ127=\"\",\"\",AJ127)","v":""},null,{"$f":"IF(AL127=\"\",\"\",AL127)","v":""},null,null,{"$f":"IF(AO127=\"\",\"\",AO127)","v":""},null,null,{"$f":"IF(AR127=\"\",\"\",AR127)","v":""},null,null,null,null,{"$f":"IF(AW127=\"\",\"\",AW127)","v":""}]
[]
[]
[]
[null,null,null,null,null,null,null,null,null,null,null,null,null,null,null,null,null,{"$f":"IF(R131=\"\",\"\",R131)","v":""},null,{"$f":"IF(T131=\"\",\"\",T131)","v":""},null,{"$f":"IF(V131=\"\",\"\",V131)","v":""},null,{"$f":"IF(X131=\"\",\"\",X131)","v":""},null,{"$f":"IF(Z131=\"\",\"\",Z131)","v":""},null,{"$f":"IF(AB131=\"\",\"\",AB131)","v":""},null,{"$f":"IF(AD131=\"\",\"\",AD131)","v":""},null,{"$f":"IF(AF131=\"\",\"\",AF131)","v":""},null,{"$f":"IF(AH131=\"\",\"\",AH131)","v":""},null,{"$f":"IF(AJ131=\"\",\"\",AJ131)","v":""},null,{"$f":"IF(AL131=\"\",\"\",AL131)","v":""},null,null,{"$f":"IF(AO131=\"\",\"\",AO131)","v":""},null,null,{"$f":"IF(AR131=\"\",\"\",AR131)","v":""},null,null,null,null,{"$f":"IF(AW131=\"\",\"\",AW131)","v":""}]
[]
[]
[]
[null,null,null,null,null,null,null,null,null,null,null,null,null,null,null,null,null,{"$f":"IF(R135=\"\",\"\",R135)","v":""},null,{"$f":"IF(T135=\"\",\"\",T135)","v":""},null,{"$f":"IF(V135=\"\",\"\",V135)","v":""},null,{"$f":"IF(X135=\"\",\"\",X135)","v":""},null,{"$f":"IF(Z135=\"\",\"\",Z135)","v":""},null,{"$f":"IF(AB135=\"\",\"\",AB135)","v":""},null,{"$f":"IF(AD135=\"\",\"\",AD135)","v":""},null,{"$f":"IF(AF135=\"\",\"\",AF135)","v":""},null,{"$f":"IF(AH135=\"\",\"\",AH135)","v":""},null,{"$f":"IF(AJ135=\"\",\"\",AJ135)","v":""},null,{"$f":"IF(AL135=\"\",\"\",AL135)","v":""},null,null,{"$f":"IF(AO135=\"\",\"\",AO135)","v":""},null,null,{"$f":"IF(AR135=\"\",\"\",AR135)","v":""},null,null,null,null,{"$f":"IF(AW135=\"\",\"\",AW135)","v":""}]
[]
[]
[]
[null,null,null,null,null,null,null,null,null,null,null,null,null,null,null,null,null,{"$f":"IF(R139=\"\",\"\",R139)","v":""},null,{"$f":"IF(T139=\"\",\"\",T139)","v":""},null,{"$f":"IF(V139=\"\",\"\",V139)","v":""},null,{"$f":"IF(X139=\"\",\"\",X139)","v":""},null,{"$f":"IF(Z139=\"\",\"\",Z139)","v":""},null,{"$f":"IF(AB139=\"\",\"\",AB139)","v":""},null,{"$f":"IF(AD139=\"\",\"\",AD139)","v":""},null,{"$f":"IF(AF139=\"\",\"\",AF139)","v":""},null,{"$f":"IF(AH139=\"\",\"\",AH139)","v":""},null,{"$f":"IF(AJ139=\"\",\"\",AJ139)","v":""},null,{"$f":"IF(AL139=\"\",\"\",AL139)","v":""},null,null,{"$f":"IF(AO139=\"\",\"\",AO139)","v":""},null,null,{"$f":"IF(AR139=\"\",\"\",AR139)","v":""},null,null,null,null,{"$f":"IF(AW139=\"\",\"\",AW139)","v":""}]
[]
[]
[]
[null,null,null,null,null,null,null,null,null,null,null,null,null,null,null,null,null,{"$f":"IF(R143=\"\",\"\",R143)","v":""},null,{"$f":"IF(T143=\"\",\"\",T143)","v":""},null,{"$f":"IF(V143=\"\",\"\",V143)","v":""},null,{"$f":"IF(X143=\"\",\"\",X143)","v":""},null,{"$f":"IF(Z143=\"\",\"\",Z143)","v":""},null,{"$f":"IF(AB143=\"\",\"\",AB143)","v":""},null,{"$f":"IF(AD143=\"\",\"\",AD143)","v":""},null,{"$f":"IF(AF143=\"\",\"\",AF143)","v":""},null,{"$f":"IF(AH143=\"\",\"\",AH143)","v":""},null,{"$f":"IF(AJ143=\"\",\"\",AJ143)","v":""},null,{"$f":"IF(AL143=\"\",\"\",AL143)","v":""},null,null,{"$f":"IF(AO143=\"\",\"\",AO143)","v":""},null,null,{"$f":"IF(AR143=\"\",\"\",AR143)","v":""},null,null,null,null,{"$f":"IF(AW143=\"\",\"\",AW143)","v":""}]
[]
[]
[]
[null,null,null,null,null,null,null,null,null,null,null,null,null,null,null,null,null,{"$f":"IF(R147=\"\",\"\",R147)","v":""},null,{"$f":"IF(T147=\"\",\"\",T147)","v":""},null,{"$f":"IF(V147=\"\",\"\",V147)","v":""},null,{"$f":"IF(X147=\"\",\"\",X147)","v":""},null,{"$f":"IF(Z147=\"\",\"\",Z147)","v":""},null,{"$f":"IF(AB147=\"\",\"\",AB147)","v":""},null,{"$f":"IF(AD147=\"\",\"\",AD147)","v":""},null,{"$f":"IF(AF147=\"\",\"\",AF147)","v":""},null,{"$f":"IF(AH147=\"\",\"\",AH147)","v":""},null,{"$f":"IF(AJ147=\"\",\"\",AJ147)","v":""},null,{"$f":"IF(AL147=\"\",\"\",AL147)","v":""},null,null,{"$f":"IF(AO147=\"\",\"\",AO147)","v":""},null,null,{"$f":"IF(AR147=\"\",\"\",AR147)","v":""},null,null,null,null,{"$f":"IF(AW147=\"\",\"\",AW147)","v":""}]
[]
[]
[]
[null,null,null,null,null,null,null,null,null,null,null,null,null,null,null,null,null,{"$f":"IF(R151=\"\",\"\",R151)","v":""},null,{"$f":"IF(T151=\"\",\"\",T151)","v":""},null,{"$f":"IF(V151=\"\",\"\",V151)","v":""},null,{"$f":"IF(X151=\"\",\"\",X151)","v":""},null,{"$f":"IF(Z151=\"\",\"\",Z151)","v":""},null,{"$f":"IF(AB151=\"\",\"\",AB151)","v":""},null,{"$f":"IF(AD151=\"\",\"\",AD151)","v":""},null,{"$f":"IF(AF151=\"\",\"\",AF151)","v":""},null,{"$f":"IF(AH151=\"\",\"\",AH151)","v":""},null,{"$f":"IF(AJ151=\"\",\"\",AJ151)","v":""},null,{"$f":"IF(AL151=\"\",\"\",AL151)","v":""},null,null,{"$f":"IF(AO151=\"\",\"\",AO151)","v":""},null,null,{"$f":"IF(AR151=\"\",\"\",AR151)","v":""},null,null,null,null,{"$f":"IF(AW151=\"\",\"\",AW151)","v":""}]
[]
[]
[]
[null,null,null,null,null,null,null,null,null,null,null,null,null,null,null,null,null,{"$f":"IF(R155=\"\",\"\",R155)","v":""},null,{"$f":"IF(T155=\"\",\"\",T155)","v":""},null,{"$f":"IF(V155=\"\",\"\",V155)","v":""},null,{"$f":"IF(X155=\"\",\"\",X155)","v":""},null,{"$f":"IF(Z155=\"\",\"\",Z155)","v":""},null,{"$f":"IF(AB155=\"\",\"\",AB155)","v":""},null,{"$f":"IF(AD155=\"\",\"\",AD155)","v":""},null,{"$f":"IF(AF155=\"\",\"\",AF155)","v":""},null,{"$f":"IF(AH155=\"\",\"\",AH155)","v":""},null,{"$f":"IF(AJ155=\"\",\"\",AJ155)","v":""},null,{"$f":"IF(AL155=\"\",\"\",AL155)","v":""},null,null,{"$f":"IF(AO155=\"\",\"\",AO155)","v":""},null,null,{"$f":"IF(AR155=\"\",\"\",AR155)","v":""},null,null,null,null,{"$f":"IF(AW155=\"\",\"\",AW155)","v":""}]
[]
[]
[]
[null,null,null,null,null,null,null,null,null,null,null,null,null,null,null,null,null,{"$f":"IF(R159=\"\",\"\",R159)","v":""},null,{"$f":"IF(T159=\"\",\"\",T159)","v":""},null,{"$f":"IF(V159=\"\",\"\",V159)","v":""},null,{"$f":"IF(X159=\"\",\"\",X159)","v":""},null,{"$f":"IF(Z159=\"\",\"\",Z159)","v":""},null,{"$f":"IF(AB159=\"\",\"\",AB159)","v":""},null,{"$f":"IF(AD159=\"\",\"\",AD159)","v":""},null,{"$f":"IF(AF159=\"\",\"\",AF159)","v":""},null,{"$f":"IF(AH159=\"\",\"\",AH159)","v":""},null,{"$f":"IF(AJ159=\"\",\"\",AJ159)","v":""},null,{"$f":"IF(AL159=\"\",\"\",AL159)","v":""},null,null,{"$f":"IF(AO159=\"\",\"\",AO159)","v":""},null,null,{"$f":"IF(AR159=\"\",\"\",AR159)","v":""},null,null,null,null,{"$f":"IF(AW159=\"\",\"\",AW159)","v":""}]
[]
[]
[]
[null,null,null,null,null,null,null,null,null,null,null,null,null,null,null,null,null,{"$f":"IF(R163=\"\",\"\",R163)","v":""},null,{"$f":"IF(T163=\"\",\"\",T163)","v":""},null,{"$f":"IF(V163=\"\",\"\",V163)","v":""},null,{"$f":"IF(X163=\"\",\"\",X163)","v":""},null,{"$f":"IF(Z163=\"\",\"\",Z163)","v":""},null,{"$f":"IF(AB163=\"\",\"\",AB163)","v":""},null,{"$f":"IF(AD163=\"\",\"\",AD163)","v":""},null,{"$f":"IF(AF163=\"\",\"\",AF163)","v":""},null,{"$f":"IF(AH163=\"\",\"\",AH163)","v":""},null,{"$f":"IF(AJ163=\"\",\"\",AJ163)","v":""},null,{"$f":"IF(AL163=\"\",\"\",AL163)","v":""},null,null,{"$f":"IF(AO163=\"\",\"\",AO163)","v":""},null,null,{"$f":"IF(AR163=\"\",\"\",AR163)","v":""},null,null,null,null,{"$f":"IF(AW163=\"\",\"\",AW163)","v":""}]
[]
[]
[]
[null,null,null,null,null,null,null,null,null,null,null,null,null,null,null,null,null,{"$f":"IF(R167=\"\",\"\",R167)","v":""},null,{"$f":"IF(T167=\"\",\"\",T167)","v":""},null,{"$f":"IF(V167=\"\",\"\",V167)","v":""},null,{"$f":"IF(X167=\"\",\"\",X167)","v":""},null,{"$f":"IF(Z167=\"\",\"\",Z167)","v":""},null,{"$f":"IF(AB167=\"\",\"\",AB167)","v":""},null,{"$f":"IF(AD167=\"\",\"\",AD167)","v":""},null,{"$f":"IF(AF167=\"\",\"\",AF167)","v":""},null,{"$f":"IF(AH167=\"\",\"\",AH167)","v":""},null,{"$f":"IF(AJ167=\"\",\"\",AJ167)","v":""},null,{"$f":"IF(AL167=\"\",\"\",AL167)","v":""},null,null,{"$f":"IF(AO167=\"\",\"\",AO167)","v":""},null,null,{"$f":"IF(AR167=\"\",\"\",AR167)","v":""},null,null,null,null,{"$f":"IF(AW167=\"\",\"\",AW167)","v":""}]
[]
[]
[]
[null,null,null,null,null,null,null,null,null,null,null,null,null,null,null,null,null,{"$f":"IF(R171=\"\",\"\",R171)","v":""},null,{"$f":"IF(T171=\"\",\"\",T171)","v":""},null,{"$f":"IF(V171=\"\",\"\",V171)","v":""},null,{"$f":"IF(X171=\"\",\"\",X171)","v":""},null,{"$f":"IF(Z171=\"\",\"\",Z171)","v":""},null,{"$f":"IF(AB171=\"\",\"\",AB171)","v":""},null,{"$f":"IF(AD171=\"\",\"\",AD171)","v":""},null,{"$f":"IF(AF171=\"\",\"\",AF171)","v":""},null,{"$f":"IF(AH171=\"\",\"\",AH171)","v":""},null,{"$f":"IF(AJ171=\"\",\"\",AJ171)","v":""},null,{"$f":"IF(AL171=\"\",\"\",AL171)","v":""},null,null,{"$f":"IF(AO171=\"\",\"\",AO171)","v":""},null,null,{"$f":"IF(AR171=\"\",\"\",AR171)","v":""},null,null,null,null,{"$f":"IF(AW171=\"\",\"\",AW171)","v":""}]
[]
[]
[]
[null,null,null,null,null,null,null,null,null,null,null,null,null,null,null,null,null,null,null,null,null,null,null,null,null,null,null,null,null,null,null,null,null,null,null,null,null,{"$f":"AL175","v":"金額(税抜)"},null,null,null,null,null,null,null,null,null,null,{"$f":"AW83","v":""}]
[]
[]
[]
[]
[null,null,null,null,null,null,null,null,null,null,null,null,null,null,null,null,null,null,null,null,null,null,null,null,null,null,null,null,null,null,null,null,null,null,null,null,null,{"$f":"AL180","v":"消費税"},null,null,null,null,null,"税率",null,null,"税調",null,{"$f":"AW88","v":""}]
[]
[null,null,null,null,null,null,null,null,null,null,null,null,null,null,null,null,null,null,null,null,null,null,null,null,null,null,null,null,null,null,null,null,null,null,null,null,null,null,null,null,null,null,null,{"$f":"AR90","v":0},null,{"$f":"AT90","v":""}]

{"sheet":"細3-12","index":39,"n_rows":274,"n_cols":53,"rows_kept":274,"cut":false,"hidden":false,"merged":[[266,37,269,47],[266,48,269,54],[271,48,274,54],[258,48,261,54],[262,17,265,18],[262,19,265,20],[262,21,265,36],[262,37,265,39],[262,40,265,42],[262,43,265,47],[262,48,265,54],[258,17,261,18],[258,19,261,20],[258,21,261,36],[258,37,261,39],[258,40,261,42],[258,43,261,47],[271,37,274,42],[271,43,272,45],[273,43,274,44],[273,45,274,45],[273,46,274,47],[271,46,272,47],[250,48,253,54],[254,17,257,18],[254,19,257,20],[254,21,257,36],[254,37,257,39],[254,40,257,42],[254,43,257,47],[254,48,257,54],[250,17,253,18],[250,19,253,20],[250,21,253,36],[250,37,253,39],[250,40,253,42],[250,43,253,47],[242,48,245,54],[246,17,249,18],[246,19,249,20],[246,21,249,36],[246,37,249,39],[246,40,249,42],[246,43,249,47],[246,48,249,54],[242,17,245,18],[242,19,245,20],[242,21,245,36],[242,37,245,39],[242,40,245,42],[242,43,245,47],[234,48,237,54],[238,17,241,18],[238,19,241,20],[238,21,241,36],[238,37,241,39],[238,40,241,42],[238,43,241,47],[238,48,241,54],[234,17,237,18],[234,19,237,20],[234,21,237,36],[234,37,237,39],[234,40,237,42],[234,43,237,47],[222,17,225,18],[222,19,225,20],[222,21,225,36],[222,37,225,39],[222,40,225,42],[222,43,225,47],[222,48,225,54],[226,48,229,54],[230,17,233,18],[230,19,233,20],[230,21,233,36],[230,37,233,39],[230,40,233,42],[230,43,233,47],[230,48,233,54],[226,17,229,18],[226,19,229,20],[226,21,229,36],[226,37,229,39],[226,40,229,42],[226,43,229,47],[218,1,221,5],[218,6,221,15],[218,17,221,18],[218,19,221,20],[218,21,221,36],[218,37,221,39],[218,40,221,42],[218,43,221,47],[218,48,221,54],[210,40,213,42],[210,43,213,47],[210,48,213,54],[214,1,217,3],[214,4,217,5],[214,6,217,15],[214,17,217,18],[214,19,217,20],[214,21,217,36],[214,37,217,39],[210,1,213,5],[210,6,213,15],[210,17,213,18],[210,19,213,20],[210,21,213,36],[210,37,213,39],[214,40,217,42],[214,43,217,47],[214,48,217,54],[206,1,209,5],[206,6,209,15],[206,17,209,18],[206,19,209,20],[206,21,209,36],[206,37,209,39],[206,40,209,42],[206,43,209,47],[206,48,209,54],[198,43,201,47],[198,48,201,54],[202,1,205,5],[202,6,205,15],[202,17,205,18],[202,19,205,20],[202,21,205,36],[202,37,205,39],[202,40,205,42],[202,43,205,47],[198,1,201,5],[198,6,201,15],[198,17,201,20],[198,21,201,36],[198,37,201,39],[198,40,201,42],[202,48,205,54],[187,52,189,54],[192,1,195,5],[192,6,195,11],[192,12,195,15],[192,16,195,35],[192,37,195,40],[192,41,195,54],[174,37,177,47],[174,48,177,54],[179,48,182,54],[185,19,188,32],[186,1,189,11],[186,12,189,13],[187,40,189,44],[187,45,189,48],[187,49,189,51],[179,37,182,42],[179,43,180,45],[179,46,180,47],[181,43,182,44],[181,45,182,45],[181,46,182,47],[166,48,169,54],[170,17,173,18],[170,19,173,20],[170,21,173,36],[170,37,173,39],[170,40,173,42],[170,43,173,47],[170,48,173,54],[166,17,169,18],[166,19,169,20],[166,21,169,36],[166,37,169,39],[166,40,169,42],[166,43,169,47],[158,48,161,54],[162,17,165,18],[162,19,165,20],[162,21,165,36],[162,37,165,39],[162,40,165,42],[162,43,165,47],[162,48,165,54],[158,17,161,18],[158,19,161,20],[158,21,161,36],[158,37,161,39],[158,40,161,42],[158,43,161,47],[150,48,153,54],[154,17,157,18],[154,19,157,20],[154,21,157,36],[154,37,157,39],[154,40,157,42],[154,43,157,47],[154,48,157,54],[150,17,153,18],[150,19,153,20],[150,21,153,36],[150,37,153,39],[150,40,153,42],[150,43,153,47],[142,48,145,54],[146,17,149,18],[146,19,149,20],[146,21,149,36],[146,37,149,39],[146,40,149,42],[146,43,149,47],[146,48,149,54],[142,17,145,18],[142,19,145,20],[142,21,145,36],[142,37,145,39],[142,40,145,42],[142,43,145,47],[130,17,133,18],[130,19,133,20],[130,21,133,36],[130,37,133,39],[130,40,133,42],[130,43,133,47],[130,48,133,54],[134,48,137,54],[138,17,141,18],[138,19,141,20],[138,21,141,36],[138,37,141,39],[138,40,141,42],[138,43,141,47],[138,48,141,54],[134,17,137,18],[134,19,137,20],[134,21,137,36],[134,37,137,39],[134,40,137,42],[134,43,137,47],[126,1,129,5],[126,6,129,15],[126,17,129,18],[126,19,129,20],[126,21,129,36],[126,37,129,39],[126,40,129,42],[126,43,129,47],[126,48,129,54],[118,40,121,42],[118,43,121,47],[118,48,121,54],[122,1,125,3],[122,4,125,5],[122,6,125,15],[122,17,125,18],[122,19,125,20],[122,21,125,36],[122,37,125,39],[118,1,121,5],[118,6,121,15],[118,17,121,18],[118,19,121,20],[118,21,121,36],[118,37,121,39],[122,40,125,42],[122,43,125,47],[122,48,125,54],[114,1,117,5],[114,6,117,15],[114,17,117,18],[114,19,117,20],[114,21,117,36],[114,37,117,39],[114,40,117,42],[114,43,117,47],[114,48,117,54],[106,43,109,47],[106,48,109,54],[110,1,113,5],[110,6,113,15],[110,17,113,18],[110,19,113,20],[110,21,113,36],[110,37,113,39],[110,40,113,42],[110,43,113,47],[106,1,109,5],[106,6,109,15],[106,17,109,20],[106,21,109,36],[106,37,109,39],[106,40,109,42],[110,48,113,54],[95,52,97,54],[100,1,103,5],[100,6,103,11],[100,12,103,15],[100,16,103,35],[100,37,103,40],[100,41,103,54],[93,19,96,32],[94,1,97,11],[94,12,97,13],[95,40,97,44],[95,45,97,48],[95,49,97,51],[85,11,90,16],[85,17,90,25],[85,26,90,30],[85,31,90,35],[87,48,90,54],[82,37,85,47],[82,48,85,54],[83,1,84,4],[83,5,84,10],[83,11,84,16],[83,17,84,25],[83,26,84,30],[83,31,84,35],[85,1,90,4],[85,5,90,10],[87,37,90,42],[87,43,88,45],[89,43,90,44],[89,45,90,45],[89,46,90,47],[87,46,88,47],[74,48,77,54],[78,17,81,18],[78,19,81,20],[78,21,81,36],[78,37,81,39],[78,40,81,42],[78,43,81,47],[78,48,81,54],[74,17,77,18],[74,19,77,20],[74,21,77,36],[74,37,77,39],[74,40,77,42],[74,43,77,47],[66,48,69,54],[70,17,73,18],[70,19,73,20],[70,21,73,36],[70,37,73,39],[70,40,73,42],[70,43,73,47],[70,48,73,54],[66,17,69,18],[66,19,69,20],[66,21,69,36],[66,37,69,39],[66,40,69,42],[66,43,69,47],[58,48,61,54],[62,17,65,18],[62,19,65,20],[62,21,65,36],[62,37,65,39],[62,40,65,42],[62,43,65,47],[62,48,65,54],[58,17,61,18],[58,19,61,20],[58,21,61,36],[58,37,61,39],[58,40,61,42],[58,43,61,47],[50,48,53,54],[54,17,57,18],[54,19,57,20],[54,21,57,36],[54,37,57,39],[54,40,57,42],[54,43,57,47],[54,48,57,54],[50,17,53,18],[50,19,53,20],[50,21,53,36],[50,37,53,39],[50,40,53,42],[50,43,53,47],[38,17,41,18],[38,19,41,20],[38,21,41,36],[38,37,41,39],[38,40,41,42],[38,43,41,47],[38,48,41,54],[42,48,45,54],[46,17,49,18],[46,19,49,20],[46,21,49,36],[46,37,49,39],[46,40,49,42],[46,43,49,47],[46,48,49,54],[42,17,45,18],[42,19,45,20],[42,21,45,36],[42,37,45,39],[42,40,45,42],[42,43,45,47],[34,1,37,5],[34,6,37,15],[34,17,37,18],[34,19,37,20],[34,21,37,36],[34,37,37,39],[34,40,37,42],[34,43,37,47],[34,48,37,54],[26,40,29,42],[26,43,29,47],[26,48,29,54],[30,1,33,3],[30,4,33,5],[30,6,33,15],[30,17,33,18],[30,19,33,20],[30,21,33,36],[30,37,33,39],[26,1,29,5],[26,6,29,15],[26,17,29,18],[26,19,29,20],[26,21,29,36],[26,37,29,39],[30,40,33,42],[30,43,33,47],[30,48,33,54],[22,1,25,5],[22,6,25,15],[22,17,25,18],[22,19,25,20],[22,21,25,36],[22,37,25,39],[22,40,25,42],[22,43,25,47],[22,48,25,54],[14,43,17,47],[14,48,17,54],[18,1,21,5],[18,6,21,15],[18,17,21,18],[18,19,21,20],[18,21,21,36],[18,37,21,39],[18,40,21,42],[18,43,21,47],[14,1,17,5],[14,6,17,15],[14,17,17,20],[14,21,17,36],[14,37,17,39],[14,40,17,42],[18,48,21,54],[3,52,5,54],[8,1,11,5],[8,6,11,11],[8,12,11,15],[8,16,11,35],[8,37,11,40],[8,41,11,54],[1,19,4,32],[2,1,5,11],[2,12,5,13],[3,40,5,44],[3,45,5,48],[3,49,5,51]]}
[]
[null,null,null,null,null,null,null,null,null,null,null,null,null,null,null,null,null,null,null,"請求書明細書 (正)"]
[null,"株 式 会 社 種 村 建 設",null,null,null,null,null,null,null,null,null,null,"御中"]
[null,null,null,null,null,null,null,null,null,null,null,null,null,null,null,null,null,null,null,null,null,null,null,null,null,null,null,null,null,null,null,null,null,null,null,null,null,null,null,null,"請求年月日",null,null,null,null,{"$f":"IF(年=\"\",\"\",年)","v":""},null,null,null,{"$f":"IF(月=\"\",\"\",月)","v":""},null,null,{"$f":"IF(日=\"\",\"\",日)","v":""}]
[]
[]
[]
[]
[null,"工事番号",null,null,null,null,null,null,null,null,null,null,"工事名",null,null,null,null,null,null,null,null,null,null,null,null,null,null,null,null,null,null,null,null,null,null,null,null,"業者名",null,null,null,{"$f":"IF(社名=\"\",\"\",社名)","v":""}]
[]
[]
[]
[]
[]
[null,"注文番号",null,null,null,null,null,null,null,null,null,null,null,null,null,null,null,"月　日",null,null,null,"品　名・内　訳",null,null,null,null,null,null,null,null,null,null,null,null,null,null,null,"数 量",null,null,"単位",null,null,"単価",null,null,null,null,{"$f":"表紙①!P35","v":"金額(税抜)"}]
[]
[]
[]
[null,"契約金額",null,null,null,null,null,null,null,null,null,null,null,null,null,null,null,null,null,null,null,null,null,null,null,null,null,null,null,null,null,null,null,null,null,null,null,null,null,null,null,null,null,null,null,null,null,null,{"$f":"IF(V19=\"\",\"\",ROUND(AL19*AR19,0))","v":""}]
[]
[]
[]
[null,"増減額",null,null,null,null,null,null,null,null,null,null,null,null,null,null,null,null,null,null,null,null,null,null,null,null,null,null,null,null,null,null,null,null,null,null,null,null,null,null,null,null,null,null,null,null,null,null,{"$f":"IF(V23=\"\",\"\",ROUND(AL23*AR23,0))","v":""}]
[]
[]
[]
[null,"前回までの\n請求額",null,null,null,null,null,null,null,null,null,null,null,null,null,null,null,null,null,null,null,null,null,null,null,null,null,null,null,null,null,null,null,null,null,null,null,null,null,null,null,null,null,null,null,null,null,null,{"$f":"IF(V27=\"\",\"\",ROUND(AL27*AR27,0))","v":""}]
[]
[]
[]
[null,"今回\n請求額",null,null,null,null,null,null,null,null,null,null,null,null,null,null,null,null,null,null,null,null,null,null,null,null,null,null,null,null,null,null,null,null,null,null,null,null,null,null,null,null,null,null,null,null,null,null,{"$f":"IF(V31=\"\",\"\",ROUND(AL31*AR31,0))","v":""}]
[]
[]
[]
[null,"差引残高",null,null,null,null,{"$f":"IF(G19=\"\",\"\",G19+G23-G27-G31)","v":""},null,null,null,null,null,null,null,null,null,null,null,null,null,null,null,null,null,null,null,null,null,null,null,null,null,null,null,null,null,null,null,null,null,null,null,null,null,null,null,null,null,{"$f":"IF(V35=\"\",\"\",ROUND(AL35*AR35,0))","v":""}]
[]
[]
[]
[null,null,null,null,null,null,null,null,null,null,null,null,null,null,null,null,null,null,null,null,null,null,null,null,null,null,null,null,null,null,null,null,null,null,null,null,null,null,null,null,null,null,null,null,null,null,null,null,{"$f":"IF(V39=\"\",\"\",ROUND(AL39*AR39,0))","v":""}]
[]
[]
[]
[null,null,null,null,null,null,null,null,null,null,null,null,null,null,null,null,null,null,null,null,null,null,null,null,null,null,null,null,null,null,null,null,null,null,null,null,null,null,null,null,null,null,null,null,null,null,null,null,{"$f":"IF(V43=\"\",\"\",ROUND(AL43*AR43,0))","v":""}]
[]
[]
[]
[null,null,null,null,null,null,null,null,null,null,null,null,null,null,null,null,null,null,null,null,null,null,null,null,null,null,null,null,null,null,null,null,null,null,null,null,null,null,null,null,null,null,null,null,null,null,null,null,{"$f":"IF(V47=\"\",\"\",ROUND(AL47*AR47,0))","v":""}]
[]
[]
[]
[null,null,null,null,null,null,null,null,null,null,null,null,null,null,null,null,null,null,null,null,null,null,null,null,null,null,null,null,null,null,null,null,null,null,null,null,null,null,null,null,null,null,null,null,null,null,null,null,{"$f":"IF(V51=\"\",\"\",ROUND(AL51*AR51,0))","v":""}]
[]
[]
[]
[null,null,null,null,null,null,null,null,null,null,null,null,null,null,null,null,null,null,null,null,null,null,null,null,null,null,null,null,null,null,null,null,null,null,null,null,null,null,null,null,null,null,null,null,null,null,null,null,{"$f":"IF(V55=\"\",\"\",ROUND(AL55*AR55,0))","v":""}]
[]
[]
[]
[null,null,null,null,null,null,null,null,null,null,null,null,null,null,null,null,null,null,null,null,null,null,null,null,null,null,null,null,null,null,null,null,null,null,null,null,null,null,null,null,null,null,null,null,null,null,null,null,{"$f":"IF(V59=\"\",\"\",ROUND(AL59*AR59,0))","v":""}]
[]
[]
[]
[null,null,null,null,null,null,null,null,null,null,null,null,null,null,null,null,null,null,null,null,null,null,null,null,null,null,null,null,null,null,null,null,null,null,null,null,null,null,null,null,null,null,null,null,null,null,null,null,{"$f":"IF(V63=\"\",\"\",ROUND(AL63*AR63,0))","v":""}]
[]
[]
[]
[null,null,null,null,null,null,null,null,null,null,null,null,null,null,null,null,null,null,null,null,null,null,null,null,null,null,null,null,null,null,null,null,null,null,null,null,null,null,null,null,null,null,null,null,null,null,null,null,{"$f":"IF(V67=\"\",\"\",ROUND(AL67*AR67,0))","v":""}]
[]
[]
[]
[null,null,null,null,null,null,null,null,null,null,null,null,null,null,null,null,null,null,null,null,null,null,null,null,null,null,null,null,null,null,null,null,null,null,null,null,null,null,null,null,null,null,null,null,null,null,null,null,{"$f":"IF(V71=\"\",\"\",ROUND(AL71*AR71,0))","v":""}]
[]
[]
[]
[null,null,null,null,null,null,null,null,null,null,null,null,null,null,null,null,null,null,null,null,null,null,null,null,null,null,null,null,null,null,null,null,null,null,null,null,null,null,null,null,null,null,null,null,null,null,null,null,{"$f":"IF(V75=\"\",\"\",ROUND(AL75*AR75,0))","v":""}]
[]
[]
[]
[null,null,null,null,null,null,null,null,null,null,null,null,null,null,null,null,null,null,null,null,null,null,null,null,null,null,null,null,null,null,null,null,null,null,null,null,null,null,null,null,null,null,null,null,null,null,null,null,{"$f":"IF(V79=\"\",\"\",ROUND(AL79*AR79,0))","v":""}]
[]
[]
[]
[null,null,null,null,null,null,null,null,null,null,null,null,null,null,null,null,null,null,null,null,null,null,null,null,null,null,null,null,null,null,null,null,null,null,null,null,null,"金額(税抜)",null,null,null,null,null,null,null,null,null,null,{"$f":"IF(AW19=\"\",\"\",SUM(AW19:AW79))","v":""}]
[null,"社長",null,null,null,"専務",null,null,null,null,null,"常務",null,null,null,null,null,"部長･工場長",null,null,null,null,null,null,null,null,"担当者",null,null,null,null,"受付"]
[]
[]
[]
[null,null,null,null,null,null,null,null,null,null,null,null,null,null,null,null,null,null,null,null,null,null,null,null,null,null,null,null,null,null,null,null,null,null,null,null,null,"消費税",null,null,null,null,null,"税率",null,null,"税調",null,{"$f":"IF(AW83=\"\",\"\",IF(AR90=\"\",\"\",IF(AR90=8.1,ROUND(AW83*8/100,0)+AU90,ROUND(AW83*AR90/100,0)+AU90)))","v":""}]
[]
[null,null,null,null,null,null,null,null,null,null,null,null,null,null,null,null,null,null,null,null,null,null,null,null,null,null,null,null,null,null,null,null,null,null,null,null,null,null,null,null,null,null,null,null,null,{"$f":"IF(AR90=\"\",\"\",IF(AR90=8.1,\"旧\",IF(AR90=8,\"軽\",IF(AR90=0,\"非\",\"\"))))","v":""}]
[]
[]
[]
[null,null,null,null,null,null,null,null,null,null,null,null,null,null,null,null,null,null,null,"請求明細書 (現場控)"]
[null,"株 式 会 社 種 村 建 設",null,null,null,null,null,null,null,null,null,null,"御中"]
[null,null,null,null,null,null,null,null,null,null,null,null,null,null,null,null,null,null,null,null,null,null,null,null,null,null,null,null,null,null,null,null,null,null,null,null,null,null,null,null,"請求年月日",null,null,null,null,{"$f":"IF(AT4=\"\",\"\",AT4)","v":""},null,null,null,{"$f":"IF(AX4=\"\",\"\",AX4)","v":""},null,null,{"$f":"IF(BA4=\"\",\"\",BA4)","v":""}]
[]
[]
[]
[]
[null,"工事番号",null,null,null,null,{"$f":"IF(G9=\"\",\"\",G9)","v":""},null,null,null,null,null,"工事名",null,null,null,{"$f":"IF(Q9=\"\",\"\",Q9)","v":""},null,null,null,null,null,null,null,null,null,null,null,null,null,null,null,null,null,null,null,null,"業者名",null,null,null,{"$f":"IF(AP9=\"\",\"\",AP9)","v":""}]
[]
[]
[]
[]
[]
[null,"注文番号",null,null,null,null,{"$f":"IF(G15=\"\",\"\",G15)","v":""},null,null,null,null,null,null,null,null,null,null,"月　日",null,null,null,"品　名・内　訳",null,null,null,null,null,null,null,null,null,null,null,null,null,null,null,"数 量",null,null,"単位",null,null,"単価",null,null,null,null,{"$f":"AW15","v":"金額(税抜)"}]
[]
[]
[]
[null,"契約金額",null,null,null,null,{"$f":"IF(G19=\"\",\"\",G19)","v":""},null,null,null,null,null,null,null,null,null,null,{"$f":"IF(R19=\"\",\"\",R19)","v":""},null,{"$f":"IF(T19=\"\",\"\",T19)","v":""},null,{"$f":"IF(V19=\"\",\"\",V19)","v":""},null,{"$f":"IF(X19=\"\",\"\",X19)","v":""},null,{"$f":"IF(Z19=\"\",\"\",Z19)","v":""},null,{"$f":"IF(AB19=\"\",\"\",AB19)","v":""},null,{"$f":"IF(AD19=\"\",\"\",AD19)","v":""},null,{"$f":"IF(AF19=\"\",\"\",AF19)","v":""},null,{"$f":"IF(AH19=\"\",\"\",AH19)","v":""},null,{"$f":"IF(AJ19=\"\",\"\",AJ19)","v":""},null,{"$f":"IF(AL19=\"\",\"\",AL19)","v":""},null,null,{"$f":"IF(AO19=\"\",\"\",AO19)","v":""},null,null,{"$f":"IF(AR19=\"\",\"\",AR19)","v":""},null,null,null,null,{"$f":"IF(AW19=\"\",\"\",AW19)","v":""}]
[]
[]
[]
[null,"増減額",null,null,null,null,{"$f":"IF(G23=\"\",\"\",G23)","v":""},null,null,null,null,null,null,null,null,null,null,{"$f":"IF(R23=\"\",\"\",R23)","v":""},null,{"$f":"IF(T23=\"\",\"\",T23)","v":""},null,{"$f":"IF(V23=\"\",\"\",V23)","v":""},null,{"$f":"IF(X23=\"\",\"\",X23)","v":""},null,{"$f":"IF(Z23=\"\",\"\",Z23)","v":""},null,{"$f":"IF(AB23=\"\",\"\",AB23)","v":""},null,{"$f":"IF(AD23=\"\",\"\",AD23)","v":""},null,{"$f":"IF(AF23=\"\",\"\",AF23)","v":""},null,{"$f":"IF(AH23=\"\",\"\",AH23)","v":""},null,{"$f":"IF(AJ23=\"\",\"\",AJ23)","v":""},null,{"$f":"IF(AL23=\"\",\"\",AL23)","v":""},null,null,{"$f":"IF(AO23=\"\",\"\",AO23)","v":""},null,null,{"$f":"IF(AR23=\"\",\"\",AR23)","v":""},null,null,null,null,{"$f":"IF(AW23=\"\",\"\",AW23)","v":""}]
[]
[]
[]
[null,"前回までの\n請求額",null,null,null,null,{"$f":"IF(G27=\"\",\"\",G27)","v":""},null,null,null,null,null,null,null,null,null,null,{"$f":"IF(R27=\"\",\"\",R27)","v":""},null,{"$f":"IF(T27=\"\",\"\",T27)","v":""},null,{"$f":"IF(V27=\"\",\"\",V27)","v":""},null,{"$f":"IF(X27=\"\",\"\",X27)","v":""},null,{"$f":"IF(Z27=\"\",\"\",Z27)","v":""},null,{"$f":"IF(AB27=\"\",\"\",AB27)","v":""},null,{"$f":"IF(AD27=\"\",\"\",AD27)","v":""},null,{"$f":"IF(AF27=\"\",\"\",AF27)","v":""},null,{"$f":"IF(AH27=\"\",\"\",AH27)","v":""},null,{"$f":"IF(AJ27=\"\",\"\",AJ27)","v":""},null,{"$f":"IF(AL27=\"\",\"\",AL27)","v":""},null,null,{"$f":"IF(AO27=\"\",\"\",AO27)","v":""},null,null,{"$f":"IF(AR27=\"\",\"\",AR27)","v":""},null,null,null,null,{"$f":"IF(AW27=\"\",\"\",AW27)","v":""}]
[]
[]
[]
[null,"今回\n請求額",null,null,{"$f":"IF(E31=\"\",\"\",E31)","v":""},null,{"$f":"IF(G31=\"\",\"\",G31)","v":""},null,null,null,null,null,null,null,null,null,null,{"$f":"IF(R31=\"\",\"\",R31)","v":""},null,{"$f":"IF(T31=\"\",\"\",T31)","v":""},null,{"$f":"IF(V31=\"\",\"\",V31)","v":""},null,{"$f":"IF(X31=\"\",\"\",X31)","v":""},null,{"$f":"IF(Z31=\"\",\"\",Z31)","v":""},null,{"$f":"IF(AB31=\"\",\"\",AB31)","v":""},null,{"$f":"IF(AD31=\"\",\"\",AD31)","v":""},null,{"$f":"IF(AF31=\"\",\"\",AF31)","v":""},null,{"$f":"IF(AH31=\"\",\"\",AH31)","v":""},null,{"$f":"IF(AJ31=\"\",\"\",AJ31)","v":""},null,{"$f":"IF(AL31=\"\",\"\",AL31)","v":""},null,null,{"$f":"IF(AO31=\"\",\"\",AO31)","v":""},null,null,{"$f":"IF(AR31=\"\",\"\",AR31)","v":""},null,null,null,null,{"$f":"IF(AW31=\"\",\"\",AW31)","v":""}]
[]
[]
[]
[null,"差引残高",null,null,null,null,{"$f":"IF(G111=\"\",\"\",G111+G115-G119-G123)","v":""},null,null,null,null,null,null,null,null,null,null,{"$f":"IF(R35=\"\",\"\",R35)","v":""},null,{"$f":"IF(T35=\"\",\"\",T35)","v":""},null,{"$f":"IF(V35=\"\",\"\",V35)","v":""},null,{"$f":"IF(X35=\"\",\"\",X35)","v":""},null,{"$f":"IF(Z35=\"\",\"\",Z35)","v":""},null,{"$f":"IF(AB35=\"\",\"\",AB35)","v":""},null,{"$f":"IF(AD35=\"\",\"\",AD35)","v":""},null,{"$f":"IF(AF35=\"\",\"\",AF35)","v":""},null,{"$f":"IF(AH35=\"\",\"\",AH35)","v":""},null,{"$f":"IF(AJ35=\"\",\"\",AJ35)","v":""},null,{"$f":"IF(AL35=\"\",\"\",AL35)","v":""},null,null,{"$f":"IF(AO35=\"\",\"\",AO35)","v":""},null,null,{"$f":"IF(AR35=\"\",\"\",AR35)","v":""},null,null,null,null,{"$f":"IF(AW35=\"\",\"\",AW35)","v":""}]
[]
[]
[]
[null,null,null,null,null,null,null,null,null,null,null,null,null,null,null,null,null,{"$f":"IF(R39=\"\",\"\",R39)","v":""},null,{"$f":"IF(T39=\"\",\"\",T39)","v":""},null,{"$f":"IF(V39=\"\",\"\",V39)","v":""},null,{"$f":"IF(X39=\"\",\"\",X39)","v":""},null,{"$f":"IF(Z39=\"\",\"\",Z39)","v":""},null,{"$f":"IF(AB39=\"\",\"\",AB39)","v":""},null,{"$f":"IF(AD39=\"\",\"\",AD39)","v":""},null,{"$f":"IF(AF39=\"\",\"\",AF39)","v":""},null,{"$f":"IF(AH39=\"\",\"\",AH39)","v":""},null,{"$f":"IF(AJ39=\"\",\"\",AJ39)","v":""},null,{"$f":"IF(AL39=\"\",\"\",AL39)","v":""},null,null,{"$f":"IF(AO39=\"\",\"\",AO39)","v":""},null,null,{"$f":"IF(AR39=\"\",\"\",AR39)","v":""},null,null,null,null,{"$f":"IF(AW39=\"\",\"\",AW39)","v":""}]
[]
[]
[]
[null,null,null,null,null,null,null,null,null,null,null,null,null,null,null,null,null,{"$f":"IF(R43=\"\",\"\",R43)","v":""},null,{"$f":"IF(T43=\"\",\"\",T43)","v":""},null,{"$f":"IF(V43=\"\",\"\",V43)","v":""},null,{"$f":"IF(X43=\"\",\"\",X43)","v":""},null,{"$f":"IF(Z43=\"\",\"\",Z43)","v":""},null,{"$f":"IF(AB43=\"\",\"\",AB43)","v":""},null,{"$f":"IF(AD43=\"\",\"\",AD43)","v":""},null,{"$f":"IF(AF43=\"\",\"\",AF43)","v":""},null,{"$f":"IF(AH43=\"\",\"\",AH43)","v":""},null,{"$f":"IF(AJ43=\"\",\"\",AJ43)","v":""},null,{"$f":"IF(AL43=\"\",\"\",AL43)","v":""},null,null,{"$f":"IF(AO43=\"\",\"\",AO43)","v":""},null,null,{"$f":"IF(AR43=\"\",\"\",AR43)","v":""},null,null,null,null,{"$f":"IF(AW43=\"\",\"\",AW43)","v":""}]
[]
[]
[]
[null,null,null,null,null,null,null,null,null,null,null,null,null,null,null,null,null,{"$f":"IF(R47=\"\",\"\",R47)","v":""},null,{"$f":"IF(T47=\"\",\"\",T47)","v":""},null,{"$f":"IF(V47=\"\",\"\",V47)","v":""},null,{"$f":"IF(X47=\"\",\"\",X47)","v":""},null,{"$f":"IF(Z47=\"\",\"\",Z47)","v":""},null,{"$f":"IF(AB47=\"\",\"\",AB47)","v":""},null,{"$f":"IF(AD47=\"\",\"\",AD47)","v":""},null,{"$f":"IF(AF47=\"\",\"\",AF47)","v":""},null,{"$f":"IF(AH47=\"\",\"\",AH47)","v":""},null,{"$f":"IF(AJ47=\"\",\"\",AJ47)","v":""},null,{"$f":"IF(AL47=\"\",\"\",AL47)","v":""},null,null,{"$f":"IF(AO47=\"\",\"\",AO47)","v":""},null,null,{"$f":"IF(AR47=\"\",\"\",AR47)","v":""},null,null,null,null,{"$f":"IF(AW47=\"\",\"\",AW47)","v":""}]
[]
[]
[]
[null,null,null,null,null,null,null,null,null,null,null,null,null,null,null,null,null,{"$f":"IF(R51=\"\",\"\",R51)","v":""},null,{"$f":"IF(T51=\"\",\"\",T51)","v":""},null,{"$f":"IF(V51=\"\",\"\",V51)","v":""},null,{"$f":"IF(X51=\"\",\"\",X51)","v":""},null,{"$f":"IF(Z51=\"\",\"\",Z51)","v":""},null,{"$f":"IF(AB51=\"\",\"\",AB51)","v":""},null,{"$f":"IF(AD51=\"\",\"\",AD51)","v":""},null,{"$f":"IF(AF51=\"\",\"\",AF51)","v":""},null,{"$f":"IF(AH51=\"\",\"\",AH51)","v":""},null,{"$f":"IF(AJ51=\"\",\"\",AJ51)","v":""},null,{"$f":"IF(AL51=\"\",\"\",AL51)","v":""},null,null,{"$f":"IF(AO51=\"\",\"\",AO51)","v":""},null,null,{"$f":"IF(AR51=\"\",\"\",AR51)","v":""},null,null,null,null,{"$f":"IF(AW51=\"\",\"\",AW51)","v":""}]
[]
[]
[]
[null,null,null,null,null,null,null,null,null,null,null,null,null,null,null,null,null,{"$f":"IF(R55=\"\",\"\",R55)","v":""},null,{"$f":"IF(T55=\"\",\"\",T55)","v":""},null,{"$f":"IF(V55=\"\",\"\",V55)","v":""},null,{"$f":"IF(X55=\"\",\"\",X55)","v":""},null,{"$f":"IF(Z55=\"\",\"\",Z55)","v":""},null,{"$f":"IF(AB55=\"\",\"\",AB55)","v":""},null,{"$f":"IF(AD55=\"\",\"\",AD55)","v":""},null,{"$f":"IF(AF55=\"\",\"\",AF55)","v":""},null,{"$f":"IF(AH55=\"\",\"\",AH55)","v":""},null,{"$f":"IF(AJ55=\"\",\"\",AJ55)","v":""},null,{"$f":"IF(AL55=\"\",\"\",AL55)","v":""},null,null,{"$f":"IF(AO55=\"\",\"\",AO55)","v":""},null,null,{"$f":"IF(AR55=\"\",\"\",AR55)","v":""},null,null,null,null,{"$f":"IF(AW55=\"\",\"\",AW55)","v":""}]
[]
[]
[]
[null,null,null,null,null,null,null,null,null,null,null,null,null,null,null,null,null,{"$f":"IF(R59=\"\",\"\",R59)","v":""},null,{"$f":"IF(T59=\"\",\"\",T59)","v":""},null,{"$f":"IF(V59=\"\",\"\",V59)","v":""},null,{"$f":"IF(X59=\"\",\"\",X59)","v":""},null,{"$f":"IF(Z59=\"\",\"\",Z59)","v":""},null,{"$f":"IF(AB59=\"\",\"\",AB59)","v":""},null,{"$f":"IF(AD59=\"\",\"\",AD59)","v":""},null,{"$f":"IF(AF59=\"\",\"\",AF59)","v":""},null,{"$f":"IF(AH59=\"\",\"\",AH59)","v":""},null,{"$f":"IF(AJ59=\"\",\"\",AJ59)","v":""},null,{"$f":"IF(AL59=\"\",\"\",AL59)","v":""},null,null,{"$f":"IF(AO59=\"\",\"\",AO59)","v":""},null,null,{"$f":"IF(AR59=\"\",\"\",AR59)","v":""},null,null,null,null,{"$f":"IF(AW59=\"\",\"\",AW59)","v":""}]
[]
[]
[]
[null,null,null,null,null,null,null,null,null,null,null,null,null,null,null,null,null,{"$f":"IF(R63=\"\",\"\",R63)","v":""},null,{"$f":"IF(T63=\"\",\"\",T63)","v":""},null,{"$f":"IF(V63=\"\",\"\",V63)","v":""},null,{"$f":"IF(X63=\"\",\"\",X63)","v":""},null,{"$f":"IF(Z63=\"\",\"\",Z63)","v":""},null,{"$f":"IF(AB63=\"\",\"\",AB63)","v":""},null,{"$f":"IF(AD63=\"\",\"\",AD63)","v":""},null,{"$f":"IF(AF63=\"\",\"\",AF63)","v":""},null,{"$f":"IF(AH63=\"\",\"\",AH63)","v":""},null,{"$f":"IF(AJ63=\"\",\"\",AJ63)","v":""},null,{"$f":"IF(AL63=\"\",\"\",AL63)","v":""},null,null,{"$f":"IF(AO63=\"\",\"\",AO63)","v":""},null,null,{"$f":"IF(AR63=\"\",\"\",AR63)","v":""},null,null,null,null,{"$f":"IF(AW63=\"\",\"\",AW63)","v":""}]
[]
[]
[]
[null,null,null,null,null,null,null,null,null,null,null,null,null,null,null,null,null,{"$f":"IF(R67=\"\",\"\",R67)","v":""},null,{"$f":"IF(T67=\"\",\"\",T67)","v":""},null,{"$f":"IF(V67=\"\",\"\",V67)","v":""},null,{"$f":"IF(X67=\"\",\"\",X67)","v":""},null,{"$f":"IF(Z67=\"\",\"\",Z67)","v":""},null,{"$f":"IF(AB67=\"\",\"\",AB67)","v":""},null,{"$f":"IF(AD67=\"\",\"\",AD67)","v":""},null,{"$f":"IF(AF67=\"\",\"\",AF67)","v":""},null,{"$f":"IF(AH67=\"\",\"\",AH67)","v":""},null,{"$f":"IF(AJ67=\"\",\"\",AJ67)","v":""},null,{"$f":"IF(AL67=\"\",\"\",AL67)","v":""},null,null,{"$f":"IF(AO67=\"\",\"\",AO67)","v":""},null,null,{"$f":"IF(AR67=\"\",\"\",AR67)","v":""},null,null,null,null,{"$f":"IF(AW67=\"\",\"\",AW67)","v":""}]
[]
[]
[]
[null,null,null,null,null,null,null,null,null,null,null,null,null,null,null,null,null,{"$f":"IF(R71=\"\",\"\",R71)","v":""},null,{"$f":"IF(T71=\"\",\"\",T71)","v":""},null,{"$f":"IF(V71=\"\",\"\",V71)","v":""},null,{"$f":"IF(X71=\"\",\"\",X71)","v":""},null,{"$f":"IF(Z71=\"\",\"\",Z71)","v":""},null,{"$f":"IF(AB71=\"\",\"\",AB71)","v":""},null,{"$f":"IF(AD71=\"\",\"\",AD71)","v":""},null,{"$f":"IF(AF71=\"\",\"\",AF71)","v":""},null,{"$f":"IF(AH71=\"\",\"\",AH71)","v":""},null,{"$f":"IF(AJ71=\"\",\"\",AJ71)","v":""},null,{"$f":"IF(AL71=\"\",\"\",AL71)","v":""},null,null,{"$f":"IF(AO71=\"\",\"\",AO71)","v":""},null,null,{"$f":"IF(AR71=\"\",\"\",AR71)","v":""},null,null,null,null,{"$f":"IF(AW71=\"\",\"\",AW71)","v":""}]
[]
[]
[]
[null,null,null,null,null,null,null,null,null,null,null,null,null,null,null,null,null,{"$f":"IF(R75=\"\",\"\",R75)","v":""},null,{"$f":"IF(T75=\"\",\"\",T75)","v":""},null,{"$f":"IF(V75=\"\",\"\",V75)","v":""},null,{"$f":"IF(X75=\"\",\"\",X75)","v":""},null,{"$f":"IF(Z75=\"\",\"\",Z75)","v":""},null,{"$f":"IF(AB75=\"\",\"\",AB75)","v":""},null,{"$f":"IF(AD75=\"\",\"\",AD75)","v":""},null,{"$f":"IF(AF75=\"\",\"\",AF75)","v":""},null,{"$f":"IF(AH75=\"\",\"\",AH75)","v":""},null,{"$f":"IF(AJ75=\"\",\"\",AJ75)","v":""},null,{"$f":"IF(AL75=\"\",\"\",AL75)","v":""},null,null,{"$f":"IF(AO75=\"\",\"\",AO75)","v":""},null,null,{"$f":"IF(AR75=\"\",\"\",AR75)","v":""},null,null,null,null,{"$f":"IF(AW75=\"\",\"\",AW75)","v":""}]
[]
[]
[]
[null,null,null,null,null,null,null,null,null,null,null,null,null,null,null,null,null,{"$f":"IF(R79=\"\",\"\",R79)","v":""},null,{"$f":"IF(T79=\"\",\"\",T79)","v":""},null,{"$f":"IF(V79=\"\",\"\",V79)","v":""},null,{"$f":"IF(X79=\"\",\"\",X79)","v":""},null,{"$f":"IF(Z79=\"\",\"\",Z79)","v":""},null,{"$f":"IF(AB79=\"\",\"\",AB79)","v":""},null,{"$f":"IF(AD79=\"\",\"\",AD79)","v":""},null,{"$f":"IF(AF79=\"\",\"\",AF79)","v":""},null,{"$f":"IF(AH79=\"\",\"\",AH79)","v":""},null,{"$f":"IF(AJ79=\"\",\"\",AJ79)","v":""},null,{"$f":"IF(AL79=\"\",\"\",AL79)","v":""},null,null,{"$f":"IF(AO79=\"\",\"\",AO79)","v":""},null,null,{"$f":"IF(AR79=\"\",\"\",AR79)","v":""},null,null,null,null,{"$f":"IF(AW79=\"\",\"\",AW79)","v":""}]
[]
[]
[]
[null,null,null,null,null,null,null,null,null,null,null,null,null,null,null,null,null,null,null,null,null,null,null,null,null,null,null,null,null,null,null,null,null,null,null,null,null,{"$f":"AL83","v":"金額(税抜)"},null,null,null,null,null,null,null,null,null,null,{"$f":"AW83","v":""}]
[]
[]
[]
[]
[null,null,null,null,null,null,null,null,null,null,null,null,null,null,null,null,null,null,null,null,null,null,null,null,null,null,null,null,null,null,null,null,null,null,null,null,null,{"$f":"AL88","v":"消費税"},null,null,null,null,null,"税率",null,null,"税調",null,{"$f":"AW88","v":""}]
[]
[null,null,null,null,null,null,null,null,null,null,null,null,null,null,null,null,null,null,null,null,null,null,null,null,null,null,null,null,null,null,null,null,null,null,null,null,null,null,null,null,null,null,null,{"$f":"AR90","v":0},null,{"$f":"AT90","v":""}]
[]
[]
[]
[null,null,null,null,null,null,null,null,null,null,null,null,null,null,null,null,null,null,null,"請求明細書 (貴社控)"]
[null,"株 式 会 社 種 村 建 設",null,null,null,null,null,null,null,null,null,null,"御中"]
[null,null,null,null,null,null,null,null,null,null,null,null,null,null,null,null,null,null,null,null,null,null,null,null,null,null,null,null,null,null,null,null,null,null,null,null,null,null,null,null,"請求年月日",null,null,null,null,{"$f":"IF(AT4=\"\",\"\",AT4)","v":""},null,null,null,{"$f":"IF(AX96=\"\",\"\",AX96)","v":""},null,null,{"$f":"IF(BA96=\"\",\"\",BA96)","v":""}]
[]
[]
[]
[]
[null,"工事番号",null,null,null,null,{"$f":"IF(G101=\"\",\"\",G101)","v":""},null,null,null,null,null,"工事名",null,null,null,{"$f":"IF(Q101=\"\",\"\",Q101)","v":""},null,null,null,null,null,null,null,null,null,null,null,null,null,null,null,null,null,null,null,null,"業者名",null,null,null,{"$f":"IF(AP101=\"\",\"\",AP101)","v":""}]
[]
[]
[]
[]
[]
[null,"注文番号",null,null,null,null,{"$f":"IF(G107=\"\",\"\",G107)","v":""},null,null,null,null,null,null,null,null,null,null,"月　日",null,null,null,"品　名・内　訳",null,null,null,null,null,null,null,null,null,null,null,null,null,null,null,"数 量",null,null,"単位",null,null,"単価",null,null,null,null,{"$f":"AW15","v":"金額(税抜)"}]
[]
[]
[]
[null,"契約金額",null,null,null,null,{"$f":"IF(G111=\"\",\"\",G111)","v":""},null,null,null,null,null,null,null,null,null,null,{"$f":"IF(R111=\"\",\"\",R111)","v":""},null,{"$f":"IF(T111=\"\",\"\",T111)","v":""},null,{"$f":"IF(V111=\"\",\"\",V111)","v":""},null,{"$f":"IF(X111=\"\",\"\",X111)","v":""},null,{"$f":"IF(Z111=\"\",\"\",Z111)","v":""},null,{"$f":"IF(AB111=\"\",\"\",AB111)","v":""},null,{"$f":"IF(AD111=\"\",\"\",AD111)","v":""},null,{"$f":"IF(AF111=\"\",\"\",AF111)","v":""},null,{"$f":"IF(AH111=\"\",\"\",AH111)","v":""},null,{"$f":"IF(AJ111=\"\",\"\",AJ111)","v":""},null,{"$f":"IF(AL111=\"\",\"\",AL111)","v":""},null,null,{"$f":"IF(AO111=\"\",\"\",AO111)","v":""},null,null,{"$f":"IF(AR111=\"\",\"\",AR111)","v":""},null,null,null,null,{"$f":"IF(AW111=\"\",\"\",AW111)","v":""}]
[]
[]
[]
[null,"増減額",null,null,null,null,{"$f":"IF(G115=\"\",\"\",G115)","v":""},null,null,null,null,null,null,null,null,null,null,{"$f":"IF(R115=\"\",\"\",R115)","v":""},null,{"$f":"IF(T115=\"\",\"\",T115)","v":""},null,{"$f":"IF(V115=\"\",\"\",V115)","v":""},null,{"$f":"IF(X115=\"\",\"\",X115)","v":""},null,{"$f":"IF(Z115=\"\",\"\",Z115)","v":""},null,{"$f":"IF(AB115=\"\",\"\",AB115)","v":""},null,{"$f":"IF(AD115=\"\",\"\",AD115)","v":""},null,{"$f":"IF(AF115=\"\",\"\",AF115)","v":""},null,{"$f":"IF(AH115=\"\",\"\",AH115)","v":""},null,{"$f":"IF(AJ115=\"\",\"\",AJ115)","v":""},null,{"$f":"IF(AL115=\"\",\"\",AL115)","v":""},null,null,{"$f":"IF(AO115=\"\",\"\",AO115)","v":""},null,null,{"$f":"IF(AR115=\"\",\"\",AR115)","v":""},null,null,null,null,{"$f":"IF(AW115=\"\",\"\",AW115)","v":""}]
[]
[]
[]
[null,"前回までの\n請求額",null,null,null,null,{"$f":"IF(G119=\"\",\"\",G119)","v":""},null,null,null,null,null,null,null,null,null,null,{"$f":"IF(R119=\"\",\"\",R119)","v":""},null,{"$f":"IF(T119=\"\",\"\",T119)","v":""},null,{"$f":"IF(V119=\"\",\"\",V119)","v":""},null,{"$f":"IF(X119=\"\",\"\",X119)","v":""},null,{"$f":"IF(Z119=\"\",\"\",Z119)","v":""},null,{"$f":"IF(AB119=\"\",\"\",AB119)","v":""},null,{"$f":"IF(AD119=\"\",\"\",AD119)","v":""},null,{"$f":"IF(AF119=\"\",\"\",AF119)","v":""},null,{"$f":"IF(AH119=\"\",\"\",AH119)","v":""},null,{"$f":"IF(AJ119=\"\",\"\",AJ119)","v":""},null,{"$f":"IF(AL119=\"\",\"\",AL119)","v":""},null,null,{"$f":"IF(AO119=\"\",\"\",AO119)","v":""},null,null,{"$f":"IF(AR119=\"\",\"\",AR119)","v":""},null,null,null,null,{"$f":"IF(AW119=\"\",\"\",AW119)","v":""}]
[]
[]
[]
[null,"今回\n請求額",null,null,{"$f":"IF(E31=\"\",\"\",E31)","v":""},null,{"$f":"IF(G123=\"\",\"\",G123)","v":""},null,null,null,null,null,null,null,null,null,null,{"$f":"IF(R123=\"\",\"\",R123)","v":""},null,{"$f":"IF(T123=\"\",\"\",T123)","v":""},null,{"$f":"IF(V123=\"\",\"\",V123)","v":""},null,{"$f":"IF(X123=\"\",\"\",X123)","v":""},null,{"$f":"IF(Z123=\"\",\"\",Z123)","v":""},null,{"$f":"IF(AB123=\"\",\"\",AB123)","v":""},null,{"$f":"IF(AD123=\"\",\"\",AD123)","v":""},null,{"$f":"IF(AF123=\"\",\"\",AF123)","v":""},null,{"$f":"IF(AH123=\"\",\"\",AH123)","v":""},null,{"$f":"IF(AJ123=\"\",\"\",AJ123)","v":""},null,{"$f":"IF(AL123=\"\",\"\",AL123)","v":""},null,null,{"$f":"IF(AO123=\"\",\"\",AO123)","v":""},null,null,{"$f":"IF(AR123=\"\",\"\",AR123)","v":""},null,null,null,null,{"$f":"IF(AW123=\"\",\"\",AW123)","v":""}]
[]
[]
[]
[null,"差引残高",null,null,null,null,{"$f":"IF(G203=\"\",\"\",G203+G207-G211-G215)","v":""},null,null,null,null,null,null,null,null,null,null,{"$f":"IF(R127=\"\",\"\",R127)","v":""},null,{"$f":"IF(T127=\"\",\"\",T127)","v":""},null,{"$f":"IF(V127=\"\",\"\",V127)","v":""},null,{"$f":"IF(X127=\"\",\"\",X127)","v":""},null,{"$f":"IF(Z127=\"\",\"\",Z127)","v":""},null,{"$f":"IF(AB127=\"\",\"\",AB127)","v":""},null,{"$f":"IF(AD127=\"\",\"\",AD127)","v":""},null,{"$f":"IF(AF127=\"\",\"\",AF127)","v":""},null,{"$f":"IF(AH127=\"\",\"\",AH127)","v":""},null,{"$f":"IF(AJ127=\"\",\"\",AJ127)","v":""},null,{"$f":"IF(AL127=\"\",\"\",AL127)","v":""},null,null,{"$f":"IF(AO127=\"\",\"\",AO127)","v":""},null,null,{"$f":"IF(AR127=\"\",\"\",AR127)","v":""},null,null,null,null,{"$f":"IF(AW127=\"\",\"\",AW127)","v":""}]
[]
[]
[]
[null,null,null,null,null,null,null,null,null,null,null,null,null,null,null,null,null,{"$f":"IF(R131=\"\",\"\",R131)","v":""},null,{"$f":"IF(T131=\"\",\"\",T131)","v":""},null,{"$f":"IF(V131=\"\",\"\",V131)","v":""},null,{"$f":"IF(X131=\"\",\"\",X131)","v":""},null,{"$f":"IF(Z131=\"\",\"\",Z131)","v":""},null,{"$f":"IF(AB131=\"\",\"\",AB131)","v":""},null,{"$f":"IF(AD131=\"\",\"\",AD131)","v":""},null,{"$f":"IF(AF131=\"\",\"\",AF131)","v":""},null,{"$f":"IF(AH131=\"\",\"\",AH131)","v":""},null,{"$f":"IF(AJ131=\"\",\"\",AJ131)","v":""},null,{"$f":"IF(AL131=\"\",\"\",AL131)","v":""},null,null,{"$f":"IF(AO131=\"\",\"\",AO131)","v":""},null,null,{"$f":"IF(AR131=\"\",\"\",AR131)","v":""},null,null,null,null,{"$f":"IF(AW131=\"\",\"\",AW131)","v":""}]
[]
[]
[]
[null,null,null,null,null,null,null,null,null,null,null,null,null,null,null,null,null,{"$f":"IF(R135=\"\",\"\",R135)","v":""},null,{"$f":"IF(T135=\"\",\"\",T135)","v":""},null,{"$f":"IF(V135=\"\",\"\",V135)","v":""},null,{"$f":"IF(X135=\"\",\"\",X135)","v":""},null,{"$f":"IF(Z135=\"\",\"\",Z135)","v":""},null,{"$f":"IF(AB135=\"\",\"\",AB135)","v":""},null,{"$f":"IF(AD135=\"\",\"\",AD135)","v":""},null,{"$f":"IF(AF135=\"\",\"\",AF135)","v":""},null,{"$f":"IF(AH135=\"\",\"\",AH135)","v":""},null,{"$f":"IF(AJ135=\"\",\"\",AJ135)","v":""},null,{"$f":"IF(AL135=\"\",\"\",AL135)","v":""},null,null,{"$f":"IF(AO135=\"\",\"\",AO135)","v":""},null,null,{"$f":"IF(AR135=\"\",\"\",AR135)","v":""},null,null,null,null,{"$f":"IF(AW135=\"\",\"\",AW135)","v":""}]
[]
[]
[]
[null,null,null,null,null,null,null,null,null,null,null,null,null,null,null,null,null,{"$f":"IF(R139=\"\",\"\",R139)","v":""},null,{"$f":"IF(T139=\"\",\"\",T139)","v":""},null,{"$f":"IF(V139=\"\",\"\",V139)","v":""},null,{"$f":"IF(X139=\"\",\"\",X139)","v":""},null,{"$f":"IF(Z139=\"\",\"\",Z139)","v":""},null,{"$f":"IF(AB139=\"\",\"\",AB139)","v":""},null,{"$f":"IF(AD139=\"\",\"\",AD139)","v":""},null,{"$f":"IF(AF139=\"\",\"\",AF139)","v":""},null,{"$f":"IF(AH139=\"\",\"\",AH139)","v":""},null,{"$f":"IF(AJ139=\"\",\"\",AJ139)","v":""},null,{"$f":"IF(AL139=\"\",\"\",AL139)","v":""},null,null,{"$f":"IF(AO139=\"\",\"\",AO139)","v":""},null,null,{"$f":"IF(AR139=\"\",\"\",AR139)","v":""},null,null,null,null,{"$f":"IF(AW139=\"\",\"\",AW139)","v":""}]
[]
[]
[]
[null,null,null,null,null,null,null,null,null,null,null,null,null,null,null,null,null,{"$f":"IF(R143=\"\",\"\",R143)","v":""},null,{"$f":"IF(T143=\"\",\"\",T143)","v":""},null,{"$f":"IF(V143=\"\",\"\",V143)","v":""},null,{"$f":"IF(X143=\"\",\"\",X143)","v":""},null,{"$f":"IF(Z143=\"\",\"\",Z143)","v":""},null,{"$f":"IF(AB143=\"\",\"\",AB143)","v":""},null,{"$f":"IF(AD143=\"\",\"\",AD143)","v":""},null,{"$f":"IF(AF143=\"\",\"\",AF143)","v":""},null,{"$f":"IF(AH143=\"\",\"\",AH143)","v":""},null,{"$f":"IF(AJ143=\"\",\"\",AJ143)","v":""},null,{"$f":"IF(AL143=\"\",\"\",AL143)","v":""},null,null,{"$f":"IF(AO143=\"\",\"\",AO143)","v":""},null,null,{"$f":"IF(AR143=\"\",\"\",AR143)","v":""},null,null,null,null,{"$f":"IF(AW143=\"\",\"\",AW143)","v":""}]
[]
[]
[]
[null,null,null,null,null,null,null,null,null,null,null,null,null,null,null,null,null,{"$f":"IF(R147=\"\",\"\",R147)","v":""},null,{"$f":"IF(T147=\"\",\"\",T147)","v":""},null,{"$f":"IF(V147=\"\",\"\",V147)","v":""},null,{"$f":"IF(X147=\"\",\"\",X147)","v":""},null,{"$f":"IF(Z147=\"\",\"\",Z147)","v":""},null,{"$f":"IF(AB147=\"\",\"\",AB147)","v":""},null,{"$f":"IF(AD147=\"\",\"\",AD147)","v":""},null,{"$f":"IF(AF147=\"\",\"\",AF147)","v":""},null,{"$f":"IF(AH147=\"\",\"\",AH147)","v":""},null,{"$f":"IF(AJ147=\"\",\"\",AJ147)","v":""},null,{"$f":"IF(AL147=\"\",\"\",AL147)","v":""},null,null,{"$f":"IF(AO147=\"\",\"\",AO147)","v":""},null,null,{"$f":"IF(AR147=\"\",\"\",AR147)","v":""},null,null,null,null,{"$f":"IF(AW147=\"\",\"\",AW147)","v":""}]
[]
[]
[]
[null,null,null,null,null,null,null,null,null,null,null,null,null,null,null,null,null,{"$f":"IF(R151=\"\",\"\",R151)","v":""},null,{"$f":"IF(T151=\"\",\"\",T151)","v":""},null,{"$f":"IF(V151=\"\",\"\",V151)","v":""},null,{"$f":"IF(X151=\"\",\"\",X151)","v":""},null,{"$f":"IF(Z151=\"\",\"\",Z151)","v":""},null,{"$f":"IF(AB151=\"\",\"\",AB151)","v":""},null,{"$f":"IF(AD151=\"\",\"\",AD151)","v":""},null,{"$f":"IF(AF151=\"\",\"\",AF151)","v":""},null,{"$f":"IF(AH151=\"\",\"\",AH151)","v":""},null,{"$f":"IF(AJ151=\"\",\"\",AJ151)","v":""},null,{"$f":"IF(AL151=\"\",\"\",AL151)","v":""},null,null,{"$f":"IF(AO151=\"\",\"\",AO151)","v":""},null,null,{"$f":"IF(AR151=\"\",\"\",AR151)","v":""},null,null,null,null,{"$f":"IF(AW151=\"\",\"\",AW151)","v":""}]
[]
[]
[]
[null,null,null,null,null,null,null,null,null,null,null,null,null,null,null,null,null,{"$f":"IF(R155=\"\",\"\",R155)","v":""},null,{"$f":"IF(T155=\"\",\"\",T155)","v":""},null,{"$f":"IF(V155=\"\",\"\",V155)","v":""},null,{"$f":"IF(X155=\"\",\"\",X155)","v":""},null,{"$f":"IF(Z155=\"\",\"\",Z155)","v":""},null,{"$f":"IF(AB155=\"\",\"\",AB155)","v":""},null,{"$f":"IF(AD155=\"\",\"\",AD155)","v":""},null,{"$f":"IF(AF155=\"\",\"\",AF155)","v":""},null,{"$f":"IF(AH155=\"\",\"\",AH155)","v":""},null,{"$f":"IF(AJ155=\"\",\"\",AJ155)","v":""},null,{"$f":"IF(AL155=\"\",\"\",AL155)","v":""},null,null,{"$f":"IF(AO155=\"\",\"\",AO155)","v":""},null,null,{"$f":"IF(AR155=\"\",\"\",AR155)","v":""},null,null,null,null,{"$f":"IF(AW155=\"\",\"\",AW155)","v":""}]
[]
[]
[]
[null,null,null,null,null,null,null,null,null,null,null,null,null,null,null,null,null,{"$f":"IF(R159=\"\",\"\",R159)","v":""},null,{"$f":"IF(T159=\"\",\"\",T159)","v":""},null,{"$f":"IF(V159=\"\",\"\",V159)","v":""},null,{"$f":"IF(X159=\"\",\"\",X159)","v":""},null,{"$f":"IF(Z159=\"\",\"\",Z159)","v":""},null,{"$f":"IF(AB159=\"\",\"\",AB159)","v":""},null,{"$f":"IF(AD159=\"\",\"\",AD159)","v":""},null,{"$f":"IF(AF159=\"\",\"\",AF159)","v":""},null,{"$f":"IF(AH159=\"\",\"\",AH159)","v":""},null,{"$f":"IF(AJ159=\"\",\"\",AJ159)","v":""},null,{"$f":"IF(AL159=\"\",\"\",AL159)","v":""},null,null,{"$f":"IF(AO159=\"\",\"\",AO159)","v":""},null,null,{"$f":"IF(AR159=\"\",\"\",AR159)","v":""},null,null,null,null,{"$f":"IF(AW159=\"\",\"\",AW159)","v":""}]
[]
[]
[]
[null,null,null,null,null,null,null,null,null,null,null,null,null,null,null,null,null,{"$f":"IF(R163=\"\",\"\",R163)","v":""},null,{"$f":"IF(T163=\"\",\"\",T163)","v":""},null,{"$f":"IF(V163=\"\",\"\",V163)","v":""},null,{"$f":"IF(X163=\"\",\"\",X163)","v":""},null,{"$f":"IF(Z163=\"\",\"\",Z163)","v":""},null,{"$f":"IF(AB163=\"\",\"\",AB163)","v":""},null,{"$f":"IF(AD163=\"\",\"\",AD163)","v":""},null,{"$f":"IF(AF163=\"\",\"\",AF163)","v":""},null,{"$f":"IF(AH163=\"\",\"\",AH163)","v":""},null,{"$f":"IF(AJ163=\"\",\"\",AJ163)","v":""},null,{"$f":"IF(AL163=\"\",\"\",AL163)","v":""},null,null,{"$f":"IF(AO163=\"\",\"\",AO163)","v":""},null,null,{"$f":"IF(AR163=\"\",\"\",AR163)","v":""},null,null,null,null,{"$f":"IF(AW163=\"\",\"\",AW163)","v":""}]
[]
[]
[]
[null,null,null,null,null,null,null,null,null,null,null,null,null,null,null,null,null,{"$f":"IF(R167=\"\",\"\",R167)","v":""},null,{"$f":"IF(T167=\"\",\"\",T167)","v":""},null,{"$f":"IF(V167=\"\",\"\",V167)","v":""},null,{"$f":"IF(X167=\"\",\"\",X167)","v":""},null,{"$f":"IF(Z167=\"\",\"\",Z167)","v":""},null,{"$f":"IF(AB167=\"\",\"\",AB167)","v":""},null,{"$f":"IF(AD167=\"\",\"\",AD167)","v":""},null,{"$f":"IF(AF167=\"\",\"\",AF167)","v":""},null,{"$f":"IF(AH167=\"\",\"\",AH167)","v":""},null,{"$f":"IF(AJ167=\"\",\"\",AJ167)","v":""},null,{"$f":"IF(AL167=\"\",\"\",AL167)","v":""},null,null,{"$f":"IF(AO167=\"\",\"\",AO167)","v":""},null,null,{"$f":"IF(AR167=\"\",\"\",AR167)","v":""},null,null,null,null,{"$f":"IF(AW167=\"\",\"\",AW167)","v":""}]
[]
[]
[]
[null,null,null,null,null,null,null,null,null,null,null,null,null,null,null,null,null,{"$f":"IF(R171=\"\",\"\",R171)","v":""},null,{"$f":"IF(T171=\"\",\"\",T171)","v":""},null,{"$f":"IF(V171=\"\",\"\",V171)","v":""},null,{"$f":"IF(X171=\"\",\"\",X171)","v":""},null,{"$f":"IF(Z171=\"\",\"\",Z171)","v":""},null,{"$f":"IF(AB171=\"\",\"\",AB171)","v":""},null,{"$f":"IF(AD171=\"\",\"\",AD171)","v":""},null,{"$f":"IF(AF171=\"\",\"\",AF171)","v":""},null,{"$f":"IF(AH171=\"\",\"\",AH171)","v":""},null,{"$f":"IF(AJ171=\"\",\"\",AJ171)","v":""},null,{"$f":"IF(AL171=\"\",\"\",AL171)","v":""},null,null,{"$f":"IF(AO171=\"\",\"\",AO171)","v":""},null,null,{"$f":"IF(AR171=\"\",\"\",AR171)","v":""},null,null,null,null,{"$f":"IF(AW171=\"\",\"\",AW171)","v":""}]
[]
[]
[]
[null,null,null,null,null,null,null,null,null,null,null,null,null,null,null,null,null,null,null,null,null,null,null,null,null,null,null,null,null,null,null,null,null,null,null,null,null,{"$f":"AL175","v":"金額(税抜)"},null,null,null,null,null,null,null,null,null,null,{"$f":"AW83","v":""}]
[]
[]
[]
[]
[null,null,null,null,null,null,null,null,null,null,null,null,null,null,null,null,null,null,null,null,null,null,null,null,null,null,null,null,null,null,null,null,null,null,null,null,null,{"$f":"AL180","v":"消費税"},null,null,null,null,null,"税率",null,null,"税調",null,{"$f":"AW88","v":""}]
[]
[null,null,null,null,null,null,null,null,null,null,null,null,null,null,null,null,null,null,null,null,null,null,null,null,null,null,null,null,null,null,null,null,null,null,null,null,null,null,null,null,null,null,null,{"$f":"AR90","v":0},null,{"$f":"AT90","v":""}]