{"text_format":"1","workbook":"xlsx","n_sheets":27,"sheets":["基本設定","表紙①","表紙②","細1-1","細1-2","細1-3","細1-4","細1-5","細1-6","細1-7","細1-8","細1-9","細1-10","細1-11","細1-12","細2-1","細2-2","細2-3","細2-4","細2-5","細2-6","細2-7","細2-8","細2-9","細2-10","細2-11","細2-12"],"not_rendered":{"charts":0,"images":0,"macros":1,"external_links":0,"defined_names":51,"comments":3,"pivot_tables":0},"unopened":[],"bounds":{"document_bytes":16777216,"sheet_cells":100000,"rows_first":2000,"rows_last":500,"rows_between":2000,"halvings":0,"cell_chars":16384,"cell_head_chars":4096},"cells_cut":0,"cells_raw":0,"read":"whole","date_system":"1900"}

{"sheet":"基本設定","index":0,"n_rows":61,"n_cols":8,"rows_kept":61,"cut":false,"hidden":false,"merged":[[0,1,0,2],[14,1,14,2],[0,4,0,5],[6,4,6,5]]}
[null,"【基本情報】",null,null,"【消費税情報】",null,"注：赤字は必須項目"]
[]
[null,"社名","例：㈱種村建設",null,"調整消費税",0,"明細付表紙①の消費税を調整"]
[null,"住所","例：新潟県南魚沼市水尾４１７",null,"消費税率",8]
[null,"代表者","例：代表取締役 種村成徳",null,"税処理",1,null,{"$f":"IF(税処理=1,\"税抜処理\",\"税込処理\")","v":"税抜処理"}]
[null,"電話","例：025-779-2311"]
[]
[null,"銀行名","例：第四銀行"]
[null,"支店名","例：六日町支店"]
[null,"口座名義","例：カ.タネムラケンセツ"]
[null,"口座種別","２．当座"]
[null,"口座番号","例：121813"]
[]
[]
[null,"【利用方法】"]
[null,"１．基本情報の入力"]
[null,"　　まず、基本情報を入力してください。各書式に反映します。"]
[null,"　　赤字の所は必須項目なので、入力しないと印刷できません。"]
[]
[null,"２．消費税情報"]
[null,"　　①調整消費税"]
[null,"　　　特にコンピューター処理されている場合、入力が必要になる場合があります。"]
[null,{"$f":"\"　　　この書式は、各税抜き明細額の合計に一括して\" & DBCS(税率) & \"％を掛ける書式になっています。\"","v":"　　　この書式は、各税抜き明細額の合計に一括して８％を掛ける書式になっています。"}]
[null,"　　　ソフトによっては、商品1ヶ毎に消費税を掛けている場合がありますので、"]
[null,"　　　このような場合、消費税額が合わなくなります。調整消費税に、貴社の消費税額を"]
[null,"　　　入力してください。こちらが優先で表示されます。"]
[]
[null,"　　②消費税率"]
[null,{"$f":"\"　　　消費税率は、現在\" & DBCS(税率) & \"％の設定ですが、税率が変更になった場合は、ここを変更してください。\"","v":"　　　消費税率は、現在８％の設定ですが、税率が変更になった場合は、ここを変更してください。"}]
[null,"　　　表紙の消費税額は、消費税率を参照しているので、自動的に変更されます。"]
[]
[null,"　　③税処理"]
[null,"　　　税抜処理と税込処理の２パターンの設定が出来ます。"]
[null,"　　　[税処理]=1は、全て「税抜き」で入力して、表紙で一括消費税額を計算します。"]
[null,"　　　[税処理]=2は、全て「税込み」で入力して、表紙では消費税を計算しません。"]
[null,"　　　税処理を変更する事により、表紙及び明細の書式も変更（「金額(税抜)」･「金額(税込)」）されます。"]
[]
[null,"３．書式情報"]
[]
[null,"　　　①表紙の入力"]
[null,"　　　　「日付欄(必須)」と必要に応じて、「備考･通信欄」だけ入力して下さい。"]
[null,"　　　　こちらも同じく、表紙(貴社控･現場控)は、入力不要です。"]
[null,"　　　　各項目は、明細書の「工事番号」「工事名」「小計金額」が反映されます。"]
[]
[null,"　　　②明細書の入力"]
[null,"　　　　明細書での入力項目は、「工事番号」,「工事名」,「摘要・品名」,「数量」,「単位」,「単価」"]
[null,"　　　　です。必要に応じて、「注文番号」,「契約金額」等を入力して下さい。"]
[]
[null,"　　　表紙は、２枚用意してあります(２４現場分)。"]
[null,"　　　・表紙①に対応する明細書は、細1-1～細1-12。"]
[null,"　　　・表紙②に対応する明細書は、細2-1～細2-12。"]
[]
[]
[null,"４．その他"]
[null,"　　①各シートは、念のため保護されています。"]
[null,"　　　従って、必要に応じて保護を解除し、訂正してください。"]
[null,"　　　パスワードは、設定していません。"]
[null,"　　②簡単なマクロが設定されていますが、こちらもパスワードは設定していません。"]
[null,"　　　適宜変更して、使用してください。"]
[null,"　　　シートのタブ名は変更しないでください。マクロを修正しないとエラーが発生します。"]
[null,"　　"]

{"sheet":"表紙①","index":1,"n_rows":179,"n_cols":57,"rows_kept":179,"cut":false,"hidden":false,"merged":[[29,35,32,44],[29,45,32,54],[121,35,124,44],[121,45,124,54],[0,53,1,54],[4,56,6,59],[178,1,181,18],[178,19,181,27],[138,29,181,54],[174,1,177,6],[174,7,177,18],[174,19,177,27],[166,7,169,18],[166,19,169,27],[170,1,173,6],[11,29,14,54],[15,29,18,54],[19,29,23,54],[24,29,27,54],[170,7,173,18],[170,19,173,27],[162,1,165,6],[162,7,165,18],[162,19,165,27],[166,1,169,6],[107,29,110,54],[111,29,115,54],[116,29,119,54],[154,1,157,6],[158,1,161,6],[158,7,161,18],[158,19,161,27],[154,7,157,18],[154,19,157,27],[134,29,136,54],[138,1,141,6],[138,7,141,18],[138,19,141,27],[134,1,137,6],[134,7,137,18],[134,19,137,27],[150,1,153,6],[150,7,153,18],[150,19,153,27],[142,1,145,6],[142,7,145,18],[142,19,145,27],[146,1,149,6],[146,7,149,18],[146,19,149,27],[125,29,128,34],[125,35,128,54],[129,35,132,44],[129,45,132,54],[117,1,120,9],[117,10,120,23],[130,19,133,27],[126,1,129,6],[126,7,129,18],[126,19,129,27],[130,1,133,6],[130,7,133,18],[121,29,124,34],[129,29,132,34],[113,1,116,9],[113,10,116,23],[121,1,124,9],[121,10,124,23],[100,29,101,54],[104,1,107,9],[104,10,107,23],[94,19,97,32],[95,1,98,11],[95,12,98,13],[96,49,98,51],[96,41,98,45],[96,46,98,48],[103,29,106,54],[96,52,98,54],[109,1,112,9],[109,10,112,23],[100,1,101,10],[90,51,91,54],[82,19,85,27],[45,29,89,54],[62,19,65,27],[82,7,85,18],[86,19,89,27],[78,7,81,18],[58,1,61,6],[62,1,65,6],[86,1,89,18],[42,1,45,6],[66,1,69,6],[42,29,44,54],[74,19,77,27],[78,19,81,27],[74,7,77,18],[58,7,61,18],[62,7,65,18],[58,19,61,27],[66,7,69,18],[82,1,85,6],[70,1,73,6],[70,7,73,18],[66,19,69,27],[70,19,73,27],[74,1,77,6],[78,1,81,6],[46,1,49,6],[46,7,49,18],[50,1,53,6],[50,7,53,18],[54,1,57,6],[54,7,57,18],[34,1,37,6],[42,7,45,18],[34,19,37,27],[38,19,41,27],[42,19,45,27],[46,19,49,27],[50,19,53,27],[54,19,57,27],[17,10,20,23],[21,10,24,23],[34,7,37,18],[38,1,41,6],[38,7,41,18],[17,1,20,9],[21,1,24,9],[25,1,28,9],[29,1,32,9],[33,35,36,54],[37,35,40,44],[37,45,40,54],[25,24,28,24],[3,1,6,11],[8,1,9,10],[8,29,9,54],[2,19,5,32],[3,12,6,13],[4,49,6,51],[4,46,6,48],[4,41,6,45],[12,10,15,23],[4,52,6,54],[12,1,15,9],[25,10,28,23],[29,10,32,23],[29,29,32,34],[33,29,36,34],[37,29,40,34]]}
[null,null,null,null,null,null,null,null,null,null,null,null,null,null,null,null,null,null,null,null,null,null,null,null,null,null,null,null,null,null,null,null,null,null,null,null,null,null,null,null,null,null,null,null,null,null,null,null,null,null,null,null,null,{"$f":"\"1/\"&IF(小計2<>0,2,1)&\"\"","v":"1/1"}]
[]
[null,null,null,null,null,null,null,null,null,null,null,null,null,null,null,null,null,null,null,"請　求　書 (正)"]
[null,"株 式 会 社 種 村 建 設",null,null,null,null,null,null,null,null,null,null,"御中"]
[null,null,null,null,null,null,null,null,null,null,null,null,null,null,null,null,null,null,null,null,null,null,null,null,null,null,null,null,null,null,null,null,null,null,null,null,null,null,null,null,null,"請求年月日",null,null,null,null,23,null,null,5,null,null,31,null,null,null,"明細付表紙"]
[]
[]
[]
[null,"下記の通りご請求します。",null,null,null,null,null,null,null,null,null,null,null,null,null,null,null,null,null,null,null,null,null,null,null,null,null,null,null,"住所･社名･電話"]
[]
[null,null,null,null,null,null,null,null,null,null,null,null,null,null,null,null,null,null,null,null,null,null,null,null,null,null,null,null,null,"\n\n　　　　　　　　　新潟県南魚沼市水尾４１７\n\n　　　　　　　　　株式会社 種 村 建 設\n\n　　　　　　　　　代表取締役　並 木 成 德"]
[null,null,null,null,null,null,null,null,null,null,null,null,null,null,null,null,null,null,null,null,null,null,null,null,null,null,null,null,null,{"$f":"住所","v":"例：新潟県南魚沼市水尾４１７"}]
[null,"請求金額",null,null,null,null,null,null,null,null,{"$f":"K30","v":0}]
[]
[]
[null,null,null,null,null,null,null,null,null,null,null,null,null,null,null,null,null,null,null,null,null,null,null,null,null,null,null,null,null,{"$f":"社名","v":"例：㈱種村建設"}]
[]
[null,"前月繰越額",null,null,null,null,null,null,null,null,0]
[]
[null,null,null,null,null,null,null,null,null,null,null,null,null,null,null,null,null,null,null,null,null,null,null,null,null,null,null,null,null,{"$f":"代表者","v":"例：代表取締役 種村成徳"}]
[]
[null,"当月請求額",null,null,null,null,null,null,null,null,{"$f":"IF(T87=0,0,IF(小計2>0,小計2+T87,T87))","v":0}]
[]
[]
[null,null,null,null,null,null,null,null,null,null,null,null,null,null,null,null,null,null,null,null,null,null,null,null,null,null,null,null,null,{"$f":"電話","v":"例：025-779-2311"}]
[null,"消費税額",null,null,null,null,null,null,null,null,{"$f":"IF(税処理=2,0,IF(K22=\"\",0,IF(調整消費税>0,調整消費税,ROUND(K22*税率/100,0))))","v":0},null,null,null,null,null,null,null,null,null,null,null,null,null,{"$f":"IF(調整消費税>0,\"*\",\"\")","v":""}]
[]
[]
[]
[null,"今回請求額",null,null,null,null,null,null,null,null,{"$f":"K18+K22+K26","v":0},null,null,null,null,null,null,null,null,null,null,null,null,null,null,null,null,null,null,"取引銀行",null,null,null,null,null,{"$f":"銀行名","v":"例：第四銀行"},null,null,null,null,null,null,null,null,null,{"$f":"支店名","v":"例：六日町支店"}]
[]
[]
[]
[null,null,null,null,null,null,null,null,null,null,null,null,null,null,null,null,null,null,null,null,null,null,null,null,null,null,null,null,null,"口座名義",null,null,null,null,null,{"$f":"口座名義","v":"例：カ.タネムラケンセツ"}]
[null,"工事番号",null,null,null,null,null,"工事名",null,null,null,null,null,null,null,null,null,null,null,{"$f":"\"金額(\" & IF(税処理=2,\"税込み\",\"税抜き\")&\")\"","v":"金額(税抜き)"}]
[]
[]
[null,null,null,null,null,null,null,null,null,null,null,null,null,null,null,null,null,null,null,null,null,null,null,null,null,null,null,null,null,"口座番号",null,null,null,null,null,{"$f":"口座種別","v":"２．当座"},null,null,null,null,null,null,null,null,null,{"$f":"口座番号","v":"例：121813"}]
[null,{"$f":"IF('細1-1'!G$9=\"\",\"\",'細1-1'!G$9)","v":""},null,null,null,null,null,{"$f":"IF('細1-1'!Q$9=\"\",\"\",'細1-1'!Q$9)","v":""},null,null,null,null,null,{"$f":"IF('細1-1'!S9=\"\",\"\",'細1-1'!S9)","v":""},null,null,null,null,null,{"$f":"IF('細1-1'!AW$88=0,\"\",'細1-1'!AW$88)","v":""}]
[]
[]
[]
[null,{"$f":"IF('細1-2'!G$9=\"\",\"\",'細1-2'!G$9)","v":""},null,null,null,null,null,{"$f":"IF('細1-2'!Q$9=\"\",\"\",'細1-2'!Q$9)","v":""},null,null,null,null,null,{"$f":"IF('細1-1'!S13=\"\",\"\",'細1-1'!S13)","v":""},null,null,null,null,null,{"$f":"IF('細1-2'!AW$88=0,\"\",'細1-2'!AW$88)","v":""},null,null,null,null,null,null,null,null,null,"備     考 ・ 通 信 欄"]
[]
[]
[]
[null,{"$f":"IF('細1-3'!G$9=\"\",\"\",'細1-3'!G$9)","v":""},null,null,null,null,null,{"$f":"IF('細1-3'!Q$9=\"\",\"\",'細1-3'!Q$9)","v":""},null,null,null,null,null,{"$f":"IF('細1-1'!S17=\"\",\"\",'細1-1'!S17)","v":""},null,null,null,null,null,{"$f":"IF('細1-3'!AW$88=0,\"\",'細1-3'!AW$88)","v":""}]
[]
[]
[]
[null,{"$f":"IF('細1-4'!G$9=\"\",\"\",'細1-4'!G$9)","v":""},null,null,null,null,null,{"$f":"IF('細1-4'!Q$9=\"\",\"\",'細1-4'!Q$9)","v":""},null,null,null,null,null,{"$f":"IF('細1-1'!S21=\"\",\"\",'細1-1'!S21)","v":""},null,null,null,null,null,{"$f":"IF('細1-4'!AW$88=0,\"\",'細1-4'!AW$88)","v":""}]
[]
[]
[]
[null,{"$f":"IF('細1-5'!G$9=\"\",\"\",'細1-5'!G$9)","v":""},null,null,null,null,null,{"$f":"IF('細1-5'!Q$9=\"\",\"\",'細1-5'!Q$9)","v":""},null,null,null,null,null,{"$f":"IF('細1-1'!S25=\"\",\"\",'細1-1'!S25)","v":""},null,null,null,null,null,{"$f":"IF('細1-5'!AW$88=0,\"\",'細1-5'!AW$88)","v":""}]
[]
[]
[]
[null,{"$f":"IF('細1-6'!G$9=\"\",\"\",'細1-6'!G$9)","v":""},null,null,null,null,null,{"$f":"IF('細1-6'!Q$9=\"\",\"\",'細1-6'!Q$9)","v":""},null,null,null,null,null,{"$f":"IF('細1-1'!S29=\"\",\"\",'細1-1'!S29)","v":""},null,null,null,null,null,{"$f":"IF('細1-6'!AW$88=0,\"\",'細1-6'!AW$88)","v":""}]
[]
[]
[]
[null,{"$f":"IF('細1-7'!G$9=\"\",\"\",'細1-7'!G$9)","v":""},null,null,null,null,null,{"$f":"IF('細1-7'!Q$9=\"\",\"\",'細1-7'!Q$9)","v":""},null,null,null,null,null,{"$f":"IF('細1-1'!S33=\"\",\"\",'細1-1'!S33)","v":""},null,null,null,null,null,{"$f":"IF('細1-7'!AW$88=0,\"\",'細1-7'!AW$88)","v":""}]
[]
[]
[]
[null,{"$f":"IF('細1-8'!G$9=\"\",\"\",'細1-8'!G$9)","v":""},null,null,null,null,null,{"$f":"IF('細1-8'!Q$9=\"\",\"\",'細1-8'!Q$9)","v":""},null,null,null,null,null,{"$f":"IF('細1-1'!S37=\"\",\"\",'細1-1'!S37)","v":""},null,null,null,null,null,{"$f":"IF('細1-8'!AW$88=0,\"\",'細1-8'!AW$88)","v":""}]
[]
[]
[]
[null,{"$f":"IF('細1-9'!G$9=\"\",\"\",'細1-9'!G$9)","v":""},null,null,null,null,null,{"$f":"IF('細1-9'!Q$9=\"\",\"\",'細1-9'!Q$9)","v":""},null,null,null,null,null,{"$f":"IF('細1-1'!S41=\"\",\"\",'細1-1'!S41)","v":""},null,null,null,null,null,{"$f":"IF('細1-9'!AW$88=0,\"\",'細1-9'!AW$88)","v":""}]
[]
[]
[]
[null,{"$f":"IF('細1-10'!G$9=\"\",\"\",'細1-10'!G$9)","v":""},null,null,null,null,null,{"$f":"IF('細1-10'!Q$9=\"\",\"\",'細1-10'!Q$9)","v":""},null,null,null,null,null,{"$f":"IF('細1-1'!S45=\"\",\"\",'細1-1'!S45)","v":""},null,null,null,null,null,{"$f":"IF('細1-10'!AW$88=0,\"\",'細1-10'!AW$88)","v":""}]
[]
[]
[]
[null,{"$f":"IF('細1-11'!G$9=\"\",\"\",'細1-11'!G$9)","v":""},null,null,null,null,null,{"$f":"IF('細1-11'!Q$9=\"\",\"\",'細1-11'!Q$9)","v":""},null,null,null,null,null,{"$f":"IF('細1-1'!S49=\"\",\"\",'細1-1'!S49)","v":""},null,null,null,null,null,{"$f":"IF('細1-11'!AW$88=0,\"\",'細1-11'!AW$88)","v":""}]
[]
[]
[]
[null,{"$f":"IF('細1-12'!G$9=\"\",\"\",'細1-12'!G$9)","v":""},null,null,null,null,null,{"$f":"IF('細1-12'!Q$9=\"\",\"\",'細1-12'!Q$9)","v":""},null,null,null,null,null,{"$f":"IF('細1-1'!S53=\"\",\"\",'細1-1'!S53)","v":""},null,null,null,null,null,{"$f":"IF('細1-12'!AW$88=0,\"\",'細1-12'!AW$88)","v":""}]
[]
[]
[]
[null,"合　　　　　計",null,null,null,null,null,null,null,null,null,null,null,null,null,null,null,null,null,{"$f":"SUM(T39:T83)","v":0}]
[]
[]
[]
[null,null,null,null,null,null,null,null,null,null,null,null,null,null,null,null,null,null,null,null,null,null,null,null,null,null,null,null,null,null,null,null,null,null,null,null,null,null,null,null,null,null,null,null,null,null,null,null,null,null,null,"Ver.2.4.5"]
[]
[]
[]
[null,null,null,null,null,null,null,null,null,null,null,null,null,null,null,null,null,null,null,"請　求　書 (貴社控)"]
[null,"株 式 会 社 種 村 建 設",null,null,null,null,null,null,null,null,null,null,"御中"]
[null,null,null,null,null,null,null,null,null,null,null,null,null,null,null,null,null,null,null,null,null,null,null,null,null,null,null,null,null,null,null,null,null,null,null,null,null,null,null,null,null,"請求年月日",null,null,null,null,{"$f":"IF(AU5=\"\",\"\",AU5)","v":23},null,null,{"$f":"IF(AX5=\"\",\"\",AX5)","v":5},null,null,{"$f":"IF(BA5=\"\",\"\",BA5)","v":31}]
[]
[]
[]
[null,"下記の通りご請求します。",null,null,null,null,null,null,null,null,null,null,null,null,null,null,null,null,null,null,null,null,null,null,null,null,null,null,null,"住所･社名･電話"]
[]
[null,null,null,null,null,null,null,null,null,null,null,null,null,null,null,null,null,null,null,null,null,null,null,null,null,null,null,null,null,{"$f":"IF(AD11=\"\",\"\",AD11)","v":"\n\n　　　　　　　　　新潟県南魚沼市水尾４１７\n\n　　　　　　　　　株式会社 種 村 建 設\n\n　　　　　　　　　代表取締役　並 木 成 德"}]
[null,null,null,null,null,null,null,null,null,null,null,null,null,null,null,null,null,null,null,null,null,null,null,null,null,null,null,null,null,{"$f":"IF(AD12=\"\",\"\",AD12)","v":"例：新潟県南魚沼市水尾４１７"}]
[null,"請求金額",null,null,null,null,null,null,null,null,{"$f":"K13","v":0}]
[]
[]
[null,null,null,null,null,null,null,null,null,null,null,null,null,null,null,null,null,null,null,null,null,null,null,null,null,null,null,null,null,{"$f":"IF(社名=\"\",\"\",社名)","v":"例：㈱種村建設"}]
[]
[null,"前月繰越額",null,null,null,null,null,null,null,null,{"$f":"K18","v":0}]
[]
[null,null,null,null,null,null,null,null,null,null,null,null,null,null,null,null,null,null,null,null,null,null,null,null,null,null,null,null,null,{"$f":"IF(AD20=\"\",\"\",AD20)","v":"例：代表取締役 種村成徳"}]
[]
[null,"当月請求額",null,null,null,null,null,null,null,null,{"$f":"K22","v":0}]
[]
[]
[null,null,null,null,null,null,null,null,null,null,null,null,null,null,null,null,null,null,null,null,null,null,null,null,null,null,null,null,null,{"$f":"IF(AD25=\"\",\"\",AD25)","v":"例：025-779-2311"}]
[null,"消費税額",null,null,null,null,null,null,null,null,{"$f":"K26","v":0}]
[]
[]
[]
[null,"今回請求額",null,null,null,null,null,null,null,null,{"$f":"K30","v":0},null,null,null,null,null,null,null,null,null,null,null,null,null,null,null,null,null,null,"取引銀行",null,null,null,null,null,{"$f":"IF(AJ30=\"\",\"\",AJ30)","v":"例：第四銀行"},null,null,null,null,null,null,null,null,null,{"$f":"IF(AT30=\"\",\"\",AT30)","v":"例：六日町支店"}]
[]
[]
[]
[null,null,null,null,null,null,null,null,null,null,null,null,null,null,null,null,null,null,null,null,null,null,null,null,null,null,null,null,null,"口座名義",null,null,null,null,null,{"$f":"IF(AJ34=\"\",\"\",AJ34)","v":"例：カ.タネムラケンセツ"}]
[null,"工事番号",null,null,null,null,null,"工事名",null,null,null,null,null,null,null,null,null,null,null,{"$f":"\"金額(\" & IF(税処理=2,\"税込み\",\"税抜き\")&\")\"","v":"金額(税抜き)"}]
[]
[]
[null,null,null,null,null,null,null,null,null,null,null,null,null,null,null,null,null,null,null,null,null,null,null,null,null,null,null,null,null,"口座番号",null,null,null,null,null,{"$f":"IF(AJ38=\"\",\"\",AJ38)","v":"２．当座"},null,null,null,null,null,null,null,null,null,{"$f":"IF(AT38=\"\",\"\",AT38)","v":"例：121813"}]
[null,{"$f":"IF(B39=\"\",\"\",B39)","v":""},null,null,null,null,null,{"$f":"IF(H39=\"\",\"\",H39)","v":""},null,null,null,null,null,null,null,null,null,null,null,{"$f":"IF(T39=\"\",\"\",T39)","v":""}]
[]
[]
[]
[null,{"$f":"IF(B43=\"\",\"\",B43)","v":""},null,null,null,null,null,{"$f":"IF(H43=\"\",\"\",H43)","v":""},null,null,null,null,null,null,null,null,null,null,null,{"$f":"IF(T43=\"\",\"\",T43)","v":""}]
[]
[]
[]
[null,{"$f":"IF(B47=\"\",\"\",B47)","v":""},null,null,null,null,null,{"$f":"IF(H47=\"\",\"\",H47)","v":""},null,null,null,null,null,null,null,null,null,null,null,{"$f":"IF(T47=\"\",\"\",T47)","v":""},null,null,null,null,null,null,null,null,null,"　　１．請求書の提出先及び提出期限\n　　　　　毎月末締め切りにて納品(施工)先へ翌月５日迄に必着の事。\n　　　　　提出期日を経過したものは、当該月の支払い対象となりません。\n\n　　２．記載上の注意\n　　　　　・３枚１組の請求明細書にもれなく記入の上、明細書２枚を\n　　　　　　請求書(正)に添付の上、提出してください。\n　　　　　・明細書には、現場名毎に記入し、その合計を請求書に集計し\n　　　　　　記入してください。\n　　　　　・材料等、物品の請求の場合は、現場毎に明細書が出力されれば\n　　　　　　自社の明細書で結構です。現場毎に出力されなければ、弊社\n　　　　　　明細書を利用するか、自社明細書を工夫してください。\n　　　　　　この場合も、明細書は２枚提出が必要です。\n　　　　　・記入に際して不明の点は、施工(納品)先の当社係員と打合せ\n　　　　　　の上、ご記入下さい。\n　　　\n　　３．請求書は、弊社ホームページよりダウンロードして下さい。"]
[]
[]
[]
[null,{"$f":"IF(B51=\"\",\"\",B51)","v":""},null,null,null,null,null,{"$f":"IF(H51=\"\",\"\",H51)","v":""},null,null,null,null,null,null,null,null,null,null,null,{"$f":"IF(T51=\"\",\"\",T51)","v":""}]
[]
[]
[]
[null,{"$f":"IF(B55=\"\",\"\",B55)","v":""},null,null,null,null,null,{"$f":"IF(H55=\"\",\"\",H55)","v":""},null,null,null,null,null,null,null,null,null,null,null,{"$f":"IF(T55=\"\",\"\",T55)","v":""}]
[]
[]
[]
[null,{"$f":"IF(B59=\"\",\"\",B59)","v":""},null,null,null,null,null,{"$f":"IF(H59=\"\",\"\",H59)","v":""},null,null,null,null,null,null,null,null,null,null,null,{"$f":"IF(T59=\"\",\"\",T59)","v":""}]
[]
[]
[]
[null,{"$f":"IF(B63=\"\",\"\",B63)","v":""},null,null,null,null,null,{"$f":"IF(H63=\"\",\"\",H63)","v":""},null,null,null,null,null,null,null,null,null,null,null,{"$f":"IF(T63=\"\",\"\",T63)","v":""}]
[]
[]
[]
[null,{"$f":"IF(B67=\"\",\"\",B67)","v":""},null,null,null,null,null,{"$f":"IF(H67=\"\",\"\",H67)","v":""},null,null,null,null,null,null,null,null,null,null,null,{"$f":"IF(T67=\"\",\"\",T67)","v":""}]
[]
[]
[]
[null,{"$f":"IF(B71=\"\",\"\",B71)","v":""},null,null,null,null,null,{"$f":"IF(H71=\"\",\"\",H71)","v":""},null,null,null,null,null,null,null,null,null,null,null,{"$f":"IF(T71=\"\",\"\",T71)","v":""}]
[]
[]
[]
[null,{"$f":"IF(B75=\"\",\"\",B75)","v":""},null,null,null,null,null,{"$f":"IF(H75=\"\",\"\",H75)","v":""},null,null,null,null,null,null,null,null,null,null,null,{"$f":"IF(T75=\"\",\"\",T75)","v":""}]
[]
[]
[]
[null,{"$f":"IF(B79=\"\",\"\",B79)","v":""},null,null,null,null,null,{"$f":"IF(H79=\"\",\"\",H79)","v":""},null,null,null,null,null,null,null,null,null,null,null,{"$f":"IF(T79=\"\",\"\",T79)","v":""}]
[]
[]
[]
[null,{"$f":"IF(B83=\"\",\"\",B83)","v":""},null,null,null,null,null,{"$f":"IF(H83=\"\",\"\",H83)","v":""},null,null,null,null,null,null,null,null,null,null,null,{"$f":"IF(T83=\"\",\"\",T83)","v":""}]
[]
[]
[]
[null,"合　　　　　計",null,null,null,null,null,null,null,null,null,null,null,null,null,null,null,null,null,{"$f":"T87","v":0}]

{"sheet":"表紙②","index":2,"n_rows":179,"n_cols":54,"rows_kept":179,"cut":false,"hidden":false,"merged":[[158,1,161,6],[134,1,137,6],[134,7,137,18],[134,19,137,27],[134,29,136,54],[138,1,141,6],[138,7,141,18],[158,7,161,18],[158,19,161,27],[154,7,157,18],[154,19,157,27],[142,19,145,27],[146,1,149,6],[146,7,149,18],[146,19,149,27],[150,1,153,6],[150,7,153,18],[150,19,153,27],[154,1,157,6],[138,19,141,27],[138,29,181,54],[142,1,145,6],[142,7,145,18],[178,1,181,18],[178,19,181,27],[166,1,169,6],[166,7,169,18],[166,19,169,27],[170,1,173,6],[162,19,165,27],[170,19,173,27],[170,7,173,18],[162,7,165,18],[174,1,177,6],[174,7,177,18],[174,19,177,27],[162,1,165,6],[125,29,128,34],[125,35,128,54],[129,35,132,44],[129,45,132,54],[129,29,132,34],[117,1,120,9],[117,10,120,23],[121,1,124,9],[121,10,124,23],[121,29,124,34],[130,1,133,6],[130,7,133,18],[130,19,133,27],[126,1,129,6],[126,7,129,18],[126,19,129,27],[121,35,124,44],[121,45,124,54],[103,29,106,54],[104,1,107,9],[104,10,107,23],[107,29,110,54],[109,1,112,9],[109,10,112,23],[111,29,115,54],[113,1,116,9],[113,10,116,23],[116,29,119,54],[96,46,98,48],[96,49,98,51],[96,52,98,54],[100,1,101,10],[100,29,101,54],[82,1,85,6],[82,7,85,18],[82,19,85,27],[86,1,89,18],[86,19,89,27],[94,19,97,32],[95,1,98,11],[95,12,98,13],[90,51,91,54],[78,7,81,18],[78,19,81,27],[66,1,69,6],[66,7,69,18],[66,19,69,27],[70,1,73,6],[70,7,73,18],[70,19,73,27],[96,41,98,45],[42,1,45,6],[42,7,45,18],[42,19,45,27],[42,29,44,54],[45,29,89,54],[46,1,49,6],[58,1,61,6],[58,7,61,18],[58,19,61,27],[62,1,65,6],[62,7,65,18],[62,19,65,27],[46,7,49,18],[46,19,49,27],[50,1,53,6],[50,7,53,18],[50,19,53,27],[54,1,57,6],[54,7,57,18],[54,19,57,27],[74,1,77,6],[74,7,77,18],[74,19,77,27],[78,1,81,6],[33,29,36,34],[33,35,36,54],[34,1,37,6],[34,7,37,18],[34,19,37,27],[37,29,40,34],[37,35,40,44],[37,45,40,54],[38,1,41,6],[38,7,41,18],[38,19,41,27],[25,1,28,9],[25,10,28,23],[29,1,32,9],[29,10,32,23],[29,29,32,34],[11,29,14,54],[12,1,15,9],[12,10,15,23],[15,29,18,54],[17,1,20,9],[17,10,20,23],[19,29,23,54],[21,1,24,9],[21,10,24,23],[24,29,27,54],[29,35,32,44],[29,45,32,54],[0,53,1,54],[4,46,6,48],[4,49,6,51],[4,52,6,54],[8,1,9,10],[8,29,9,54],[2,19,5,32],[3,1,6,11],[3,12,6,13],[4,41,6,45]]}
[null,null,null,null,null,null,null,null,null,null,null,null,null,null,null,null,null,null,null,null,null,null,null,null,null,null,null,null,null,null,null,null,null,null,null,null,null,null,null,null,null,null,null,null,null,null,null,null,null,null,null,null,null,{"$f":"\"\"&IF(小計2<>0,\"2/2\",\"\")&\"\"","v":""}]
[]
[null,null,null,null,null,null,null,null,null,null,null,null,null,null,null,null,null,null,null,"請　求　書 (正)"]
[null,"株 式 会 社 種 村 建 設",null,null,null,null,null,null,null,null,null,null,"御中"]
[null,null,null,null,null,null,null,null,null,null,null,null,null,null,null,null,null,null,null,null,null,null,null,null,null,null,null,null,null,null,null,null,null,null,null,null,null,null,null,null,null,"請求年月日",null,null,null,null,{"$f":"年","v":23},null,null,{"$f":"月","v":5},null,null,{"$f":"日","v":31}]
[]
[]
[]
[null,"下記の通りご請求します。",null,null,null,null,null,null,null,null,null,null,null,null,null,null,null,null,null,null,null,null,null,null,null,null,null,null,null,"住所･社名･電話"]
[]
[null,null,null,null,null,null,null,null,null,null,null,null,null,null,null,null,null,null,null,null,null,null,null,null,null,null,null,null,null,"\n\n　　　　　　　　　新潟県南魚沼市水尾４１７\n\n　　　　　　　　　株式会社 種 村 建 設\n\n　　　　　　　　　代表取締役　並 木 成 德"]
[null,null,null,null,null,null,null,null,null,null,null,null,null,null,null,null,null,null,null,null,null,null,null,null,null,null,null,null,null,{"$f":"住所","v":"例：新潟県南魚沼市水尾４１７"}]
[null,"請求金額"]
[]
[]
[null,null,null,null,null,null,null,null,null,null,null,null,null,null,null,null,null,null,null,null,null,null,null,null,null,null,null,null,null,{"$f":"社名","v":"例：㈱種村建設"}]
[]
[null,"前月繰越額"]
[]
[null,null,null,null,null,null,null,null,null,null,null,null,null,null,null,null,null,null,null,null,null,null,null,null,null,null,null,null,null,{"$f":"代表者","v":"例：代表取締役 種村成徳"}]
[]
[null,"当月請求額"]
[]
[]
[null,null,null,null,null,null,null,null,null,null,null,null,null,null,null,null,null,null,null,null,null,null,null,null,null,null,null,null,null,{"$f":"電話","v":"例：025-779-2311"}]
[null,"消費税額"]
[]
[]
[]
[null,"今回請求額",null,null,null,null,null,null,null,null,null,null,null,null,null,null,null,null,null,null,null,null,null,null,null,null,null,null,null,"取引銀行",null,null,null,null,null,{"$f":"銀行名","v":"例：第四銀行"},null,null,null,null,null,null,null,null,null,{"$f":"支店名","v":"例：六日町支店"}]
[]
[]
[]
[null,null,null,null,null,null,null,null,null,null,null,null,null,null,null,null,null,null,null,null,null,null,null,null,null,null,null,null,null,"口座名義",null,null,null,null,null,{"$f":"口座名義","v":"例：カ.タネムラケンセツ"}]
[null,"工事番号",null,null,null,null,null,"工事名",null,null,null,null,null,null,null,null,null,null,null,{"$f":"\"金額(\" & IF(税処理=2,\"税込み\",\"税抜き\")&\")\"","v":"金額(税抜き)"}]
[]
[]
[null,null,null,null,null,null,null,null,null,null,null,null,null,null,null,null,null,null,null,null,null,null,null,null,null,null,null,null,null,"口座番号",null,null,null,null,null,{"$f":"口座種別","v":"２．当座"},null,null,null,null,null,null,null,null,null,{"$f":"口座番号","v":"例：121813"}]
[null,{"$f":"IF('細2-1'!G$9=\"\",\"\",'細2-1'!G$9)","v":""},null,null,null,null,null,{"$f":"IF('細2-1'!Q$9=\"\",\"\",'細2-1'!Q$9)","v":""},null,null,null,null,null,{"$f":"IF('細1-1'!S9=\"\",\"\",'細1-1'!S9)","v":""},null,null,null,null,null,{"$f":"IF('細2-1'!AW$88=0,\"\",'細2-1'!AW$88)","v":""}]
[]
[]
[]
[null,{"$f":"IF('細2-2'!G$9=\"\",\"\",'細2-2'!G$9)","v":""},null,null,null,null,null,{"$f":"IF('細2-2'!Q$9=\"\",\"\",'細2-2'!Q$9)","v":""},null,null,null,null,null,{"$f":"IF('細1-1'!S13=\"\",\"\",'細1-1'!S13)","v":""},null,null,null,null,null,{"$f":"IF('細2-2'!AW$88=0,\"\",'細2-2'!AW$88)","v":""},null,null,null,null,null,null,null,null,null,"備     考 ・ 通 信 欄"]
[]
[]
[]
[null,{"$f":"IF('細2-3'!G$9=\"\",\"\",'細2-3'!G$9)","v":""},null,null,null,null,null,{"$f":"IF('細2-3'!Q$9=\"\",\"\",'細2-3'!Q$9)","v":""},null,null,null,null,null,{"$f":"IF('細1-1'!S17=\"\",\"\",'細1-1'!S17)","v":""},null,null,null,null,null,{"$f":"IF('細2-3'!AW$88=0,\"\",'細2-3'!AW$88)","v":""}]
[]
[]
[]
[null,{"$f":"IF('細2-4'!G$9=\"\",\"\",'細2-4'!G$9)","v":""},null,null,null,null,null,{"$f":"IF('細2-4'!Q$9=\"\",\"\",'細2-4'!Q$9)","v":""},null,null,null,null,null,{"$f":"IF('細1-1'!S21=\"\",\"\",'細1-1'!S21)","v":""},null,null,null,null,null,{"$f":"IF('細2-4'!AW$88=0,\"\",'細2-4'!AW$88)","v":""}]
[]
[]
[]
[null,{"$f":"IF('細2-5'!G$9=\"\",\"\",'細2-5'!G$9)","v":""},null,null,null,null,null,{"$f":"IF('細2-5'!Q$9=\"\",\"\",'細2-5'!Q$9)","v":""},null,null,null,null,null,{"$f":"IF('細1-1'!S25=\"\",\"\",'細1-1'!S25)","v":""},null,null,null,null,null,{"$f":"IF('細2-5'!AW$88=0,\"\",'細2-5'!AW$88)","v":""}]
[]
[]
[]
[null,{"$f":"IF('細2-6'!G$9=\"\",\"\",'細2-6'!G$9)","v":""},null,null,null,null,null,{"$f":"IF('細2-6'!Q$9=\"\",\"\",'細2-6'!Q$9)","v":""},null,null,null,null,null,{"$f":"IF('細1-1'!S29=\"\",\"\",'細1-1'!S29)","v":""},null,null,null,null,null,{"$f":"IF('細2-6'!AW$88=0,\"\",'細2-6'!AW$88)","v":""}]
[]
[]
[]
[null,{"$f":"IF('細2-7'!G$9=\"\",\"\",'細2-7'!G$9)","v":""},null,null,null,null,null,{"$f":"IF('細2-7'!Q$9=\"\",\"\",'細2-7'!Q$9)","v":""},null,null,null,null,null,{"$f":"IF('細1-1'!S33=\"\",\"\",'細1-1'!S33)","v":""},null,null,null,null,null,{"$f":"IF('細2-7'!AW$88=0,\"\",'細2-7'!AW$88)","v":""}]
[]
[]
[]
[null,{"$f":"IF('細2-8'!G$9=\"\",\"\",'細2-8'!G$9)","v":""},null,null,null,null,null,{"$f":"IF('細2-8'!Q$9=\"\",\"\",'細2-8'!Q$9)","v":""},null,null,null,null,null,{"$f":"IF('細1-1'!S37=\"\",\"\",'細1-1'!S37)","v":""},null,null,null,null,null,{"$f":"IF('細2-8'!AW$88=0,\"\",'細2-8'!AW$88)","v":""}]
[]
[]
[]
[null,{"$f":"IF('細2-9'!G$9=\"\",\"\",'細2-9'!G$9)","v":""},null,null,null,null,null,{"$f":"IF('細2-9'!Q$9=\"\",\"\",'細2-9'!Q$9)","v":""},null,null,null,null,null,{"$f":"IF('細1-1'!S41=\"\",\"\",'細1-1'!S41)","v":""},null,null,null,null,null,{"$f":"IF('細2-9'!AW$88=0,\"\",'細2-9'!AW$88)","v":""}]
[]
[]
[]
[null,{"$f":"IF('細2-10'!G$9=\"\",\"\",'細2-10'!G$9)","v":""},null,null,null,null,null,{"$f":"IF('細2-10'!Q$9=\"\",\"\",'細2-10'!Q$9)","v":""},null,null,null,null,null,{"$f":"IF('細1-1'!S45=\"\",\"\",'細1-1'!S45)","v":""},null,null,null,null,null,{"$f":"IF('細2-10'!AW$88=0,\"\",'細2-10'!AW$88)","v":""}]
[]
[]
[]
[null,{"$f":"IF('細2-11'!G$9=\"\",\"\",'細2-11'!G$9)","v":""},null,null,null,null,null,{"$f":"IF('細2-11'!Q$9=\"\",\"\",'細2-11'!Q$9)","v":""},null,null,null,null,null,{"$f":"IF('細1-1'!S49=\"\",\"\",'細1-1'!S49)","v":""},null,null,null,null,null,{"$f":"IF('細2-11'!AW$88=0,\"\",'細2-11'!AW$88)","v":""}]
[]
[]
[]
[null,{"$f":"IF('細2-12'!G$9=\"\",\"\",'細2-12'!G$9)","v":""},null,null,null,null,null,{"$f":"IF('細2-12'!Q$9=\"\",\"\",'細2-12'!Q$9)","v":""},null,null,null,null,null,{"$f":"IF('細1-1'!S53=\"\",\"\",'細1-1'!S53)","v":""},null,null,null,null,null,{"$f":"IF('細2-12'!AW$88=0,\"\",'細2-12'!AW$88)","v":""}]
[]
[]
[]
[null,"合　　　　　計",null,null,null,null,null,null,null,null,null,null,null,null,null,null,null,null,null,{"$f":"SUM(T39:T83)","v":0}]
[]
[]
[]
[null,null,null,null,null,null,null,null,null,null,null,null,null,null,null,null,null,null,null,null,null,null,null,null,null,null,null,null,null,null,null,null,null,null,null,null,null,null,null,null,null,null,null,null,null,null,null,null,null,null,null,{"$f":"ﾊﾞｰｼﾞｮﾝ","v":"Ver.2.4.5"}]
[]
[]
[]
[null,null,null,null,null,null,null,null,null,null,null,null,null,null,null,null,null,null,null,"請　求　書 (貴社控)"]
[null,"株 式 会 社 種 村 建 設",null,null,null,null,null,null,null,null,null,null,"御中"]
[null,null,null,null,null,null,null,null,null,null,null,null,null,null,null,null,null,null,null,null,null,null,null,null,null,null,null,null,null,null,null,null,null,null,null,null,null,null,null,null,null,"請求年月日",null,null,null,null,{"$f":"IF(AU5=\"\",\"\",AU5)","v":23},null,null,{"$f":"IF(AX5=\"\",\"\",AX5)","v":5},null,null,{"$f":"IF(BA5=\"\",\"\",BA5)","v":31}]
[]
[]
[]
[null,"下記の通りご請求します。",null,null,null,null,null,null,null,null,null,null,null,null,null,null,null,null,null,null,null,null,null,null,null,null,null,null,null,"住所･社名･電話"]
[]
[null,null,null,null,null,null,null,null,null,null,null,null,null,null,null,null,null,null,null,null,null,null,null,null,null,null,null,null,null,{"$f":"IF(AD11=\"\",\"\",AD11)","v":"\n\n　　　　　　　　　新潟県南魚沼市水尾４１７\n\n　　　　　　　　　株式会社 種 村 建 設\n\n　　　　　　　　　代表取締役　並 木 成 德"}]
[null,null,null,null,null,null,null,null,null,null,null,null,null,null,null,null,null,null,null,null,null,null,null,null,null,null,null,null,null,{"$f":"IF(AD12=\"\",\"\",AD12)","v":"例：新潟県南魚沼市水尾４１７"}]
[null,"請求金額",null,null,null,null,null,null,null,null,{"$f":"K13","v":0}]
[]
[]
[null,null,null,null,null,null,null,null,null,null,null,null,null,null,null,null,null,null,null,null,null,null,null,null,null,null,null,null,null,{"$f":"IF(AD16=\"\",\"\",AD16)","v":"例：㈱種村建設"}]
[]
[null,"前月繰越額",null,null,null,null,null,null,null,null,{"$f":"K18","v":0}]
[]
[null,null,null,null,null,null,null,null,null,null,null,null,null,null,null,null,null,null,null,null,null,null,null,null,null,null,null,null,null,{"$f":"IF(AD20=\"\",\"\",AD20)","v":"例：代表取締役 種村成徳"}]
[]
[null,"当月請求額",null,null,null,null,null,null,null,null,{"$f":"K22","v":0}]
[]
[]
[null,null,null,null,null,null,null,null,null,null,null,null,null,null,null,null,null,null,null,null,null,null,null,null,null,null,null,null,null,{"$f":"IF(AD25=\"\",\"\",AD25)","v":"例：025-779-2311"}]
[null,"消費税額",null,null,null,null,null,null,null,null,{"$f":"K26","v":0}]
[]
[]
[]
[null,"今回請求額",null,null,null,null,null,null,null,null,{"$f":"K30","v":0},null,null,null,null,null,null,null,null,null,null,null,null,null,null,null,null,null,null,"取引銀行",null,null,null,null,null,{"$f":"IF(AJ30=\"\",\"\",AJ30)","v":"例：第四銀行"},null,null,null,null,null,null,null,null,null,{"$f":"IF(AT30=\"\",\"\",AT30)","v":"例：六日町支店"}]
[]
[]
[]
[null,null,null,null,null,null,null,null,null,null,null,null,null,null,null,null,null,null,null,null,null,null,null,null,null,null,null,null,null,"口座名義",null,null,null,null,null,{"$f":"IF(AJ34=\"\",\"\",AJ34)","v":"例：カ.タネムラケンセツ"}]
[null,"工事番号",null,null,null,null,null,"工事名",null,null,null,null,null,null,null,null,null,null,null,{"$f":"\"金額(\" & IF(税処理=2,\"税込み\",\"税抜き\")&\")\"","v":"金額(税抜き)"}]
[]
[]
[null,null,null,null,null,null,null,null,null,null,null,null,null,null,null,null,null,null,null,null,null,null,null,null,null,null,null,null,null,"口座番号",null,null,null,null,null,{"$f":"IF(AJ38=\"\",\"\",AJ38)","v":"２．当座"},null,null,null,null,null,null,null,null,null,{"$f":"IF(AT38=\"\",\"\",AT38)","v":"例：121813"}]
[null,{"$f":"IF(B39=\"\",\"\",B39)","v":""},null,null,null,null,null,{"$f":"IF(H39=\"\",\"\",H39)","v":""},null,null,null,null,null,null,null,null,null,null,null,{"$f":"IF(T39=\"\",\"\",T39)","v":""}]
[]
[]
[]
[null,{"$f":"IF(B43=\"\",\"\",B43)","v":""},null,null,null,null,null,{"$f":"IF(H43=\"\",\"\",H43)","v":""},null,null,null,null,null,null,null,null,null,null,null,{"$f":"IF(T43=\"\",\"\",T43)","v":""}]
[]
[]
[]
[null,{"$f":"IF(B47=\"\",\"\",B47)","v":""},null,null,null,null,null,{"$f":"IF(H47=\"\",\"\",H47)","v":""},null,null,null,null,null,null,null,null,null,null,null,{"$f":"IF(T47=\"\",\"\",T47)","v":""},null,null,null,null,null,null,null,null,null,"　　１．請求書の提出先及び提出期限\n　　　　　毎月末締め切りにて納品(施工)先へ翌月５日迄に必着の事。\n　　　　　提出期日を経過したものは、当該月の支払い対象となりません。\n\n　　２．記載上の注意\n　　　　　・３枚１組の請求明細書にもれなく記入の上、明細書２枚を\n　　　　　　請求書(正)に添付の上、提出してください。\n　　　　　・明細書には、現場名毎に記入し、その合計を請求書に集計し\n　　　　　　記入してください。\n　　　　　・材料等、物品の請求の場合は、現場毎に明細書が出力されれば\n　　　　　　自社の明細書で結構です。現場毎に出力されなければ、弊社\n　　　　　　明細書を利用するか、自社明細書を工夫してください。\n　　　　　　この場合も、明細書は２枚提出が必要です。\n　　　　　・記入に際して不明の点は、施工(納品)先の当社係員と打合せ\n　　　　　　の上、ご記入下さい。\n　　　\n　　３．請求書は、弊社ホームページよりダウンロードして下さい。"]
[]
[]
[]
[null,{"$f":"IF(B51=\"\",\"\",B51)","v":""},null,null,null,null,null,{"$f":"IF(H51=\"\",\"\",H51)","v":""},null,null,null,null,null,null,null,null,null,null,null,{"$f":"IF(T51=\"\",\"\",T51)","v":""}]
[]
[]
[]
[null,{"$f":"IF(B55=\"\",\"\",B55)","v":""},null,null,null,null,null,{"$f":"IF(H55=\"\",\"\",H55)","v":""},null,null,null,null,null,null,null,null,null,null,null,{"$f":"IF(T55=\"\",\"\",T55)","v":""}]
[]
[]
[]
[null,{"$f":"IF(B59=\"\",\"\",B59)","v":""},null,null,null,null,null,{"$f":"IF(H59=\"\",\"\",H59)","v":""},null,null,null,null,null,null,null,null,null,null,null,{"$f":"IF(T59=\"\",\"\",T59)","v":""}]
[]
[]
[]
[null,{"$f":"IF(B63=\"\",\"\",B63)","v":""},null,null,null,null,null,{"$f":"IF(H63=\"\",\"\",H63)","v":""},null,null,null,null,null,null,null,null,null,null,null,{"$f":"IF(T63=\"\",\"\",T63)","v":""}]
[]
[]
[]
[null,{"$f":"IF(B67=\"\",\"\",B67)","v":""},null,null,null,null,null,{"$f":"IF(H67=\"\",\"\",H67)","v":""},null,null,null,null,null,null,null,null,null,null,null,{"$f":"IF(T67=\"\",\"\",T67)","v":""}]
[]
[]
[]
[null,{"$f":"IF(B71=\"\",\"\",B71)","v":""},null,null,null,null,null,{"$f":"IF(H71=\"\",\"\",H71)","v":""},null,null,null,null,null,null,null,null,null,null,null,{"$f":"IF(T71=\"\",\"\",T71)","v":""}]
[]
[]
[]
[null,{"$f":"IF(B75=\"\",\"\",B75)","v":""},null,null,null,null,null,{"$f":"IF(H75=\"\",\"\",H75)","v":""},null,null,null,null,null,null,null,null,null,null,null,{"$f":"IF(T75=\"\",\"\",T75)","v":""}]
[]
[]
[]
[null,{"$f":"IF(B79=\"\",\"\",B79)","v":""},null,null,null,null,null,{"$f":"IF(H79=\"\",\"\",H79)","v":""},null,null,null,null,null,null,null,null,null,null,null,{"$f":"IF(T79=\"\",\"\",T79)","v":""}]
[]
[]
[]
[null,{"$f":"IF(B83=\"\",\"\",B83)","v":""},null,null,null,null,null,{"$f":"IF(H83=\"\",\"\",H83)","v":""},null,null,null,null,null,null,null,null,null,null,null,{"$f":"IF(T83=\"\",\"\",T83)","v":""}]
[]
[]
[]
[null,"合　　　　　計",null,null,null,null,null,null,null,null,null,null,null,null,null,null,null,null,null,{"$f":"T87","v":0}]

{"sheet":"細1-1","index":3,"n_rows":272,"n_cols":53,"rows_kept":272,"cut":false,"hidden":false,"merged":[[1,19,4,32],[2,1,5,11],[8,41,11,54],[2,12,5,13],[3,41,5,45],[3,46,5,48],[3,49,5,51],[8,1,11,5],[8,6,11,11],[8,12,11,15],[8,16,11,35],[3,52,5,54],[8,37,11,40],[42,40,45,42],[42,43,45,47],[42,48,45,54],[38,40,41,42],[38,17,41,18],[38,19,41,20],[38,21,41,36],[38,37,41,39],[30,43,33,47],[42,17,45,18],[42,19,45,20],[42,21,45,36],[42,37,45,39],[30,21,33,36],[30,37,33,39],[38,43,41,47],[38,48,41,54],[30,48,33,54],[34,17,37,18],[34,19,37,20],[34,21,37,36],[34,37,37,39],[34,40,37,42],[34,43,37,47],[34,48,37,54],[30,19,33,20],[30,40,33,42],[22,43,25,47],[22,48,25,54],[26,17,29,18],[26,19,29,20],[26,21,29,36],[26,37,29,39],[26,40,29,42],[26,43,29,47],[26,48,29,54],[14,43,17,47],[14,48,17,54],[18,37,21,39],[18,40,21,42],[18,43,21,47],[18,48,21,54],[14,40,17,42],[14,37,17,39],[106,40,109,42],[22,37,25,39],[22,40,25,42],[46,37,49,39],[46,40,49,42],[54,37,57,39],[54,40,57,42],[62,40,65,42],[70,40,73,42],[58,40,61,42],[50,48,53,54],[58,43,61,47],[58,48,61,54],[46,43,49,47],[46,48,49,54],[50,40,53,42],[106,37,109,39],[106,1,109,5],[106,6,109,15],[106,17,109,20],[106,21,109,36],[54,21,57,36],[94,1,97,11],[94,12,97,13],[50,37,53,39],[78,37,81,39],[100,1,103,5],[100,6,103,11],[100,12,103,15],[100,16,103,35],[100,37,103,40],[78,40,81,42],[100,41,103,54],[83,1,84,4],[85,1,90,4],[83,5,84,10],[83,11,84,16],[85,5,90,10],[85,11,90,16],[74,37,77,39],[14,21,17,36],[18,19,21,20],[18,21,21,36],[22,17,25,18],[22,19,25,20],[22,21,25,36],[18,17,21,18],[14,17,17,20],[83,17,84,25],[30,17,33,18],[83,26,84,30],[46,17,49,18],[46,19,49,20],[46,21,49,36],[54,17,57,18],[54,19,57,20],[50,17,53,18],[50,19,53,20],[50,21,53,36],[78,17,81,18],[78,19,81,20],[78,21,81,36],[74,19,77,20],[74,21,77,36],[154,43,157,47],[154,48,157,54],[174,37,177,47],[130,37,133,39],[150,43,153,47],[150,48,153,54],[142,48,145,54],[146,48,149,54],[170,48,173,54],[158,43,161,47],[158,48,161,54],[110,48,113,54],[106,43,109,47],[106,48,109,54],[206,48,209,54],[114,21,117,36],[118,21,121,36],[118,37,121,39],[122,37,125,39],[114,37,117,39],[122,21,125,36],[122,40,125,42],[206,21,209,36],[206,37,209,39],[206,40,209,42],[130,40,133,42],[166,21,169,36],[198,37,201,39],[130,21,133,36],[206,43,209,47],[130,43,133,47],[126,48,129,54],[130,48,133,54],[198,48,201,54],[202,48,205,54],[206,1,209,5],[206,6,209,15],[206,17,209,18],[206,19,209,20],[166,19,169,20],[210,21,213,36],[210,37,213,39],[210,40,213,42],[210,43,213,47],[198,43,201,47],[202,21,205,36],[202,37,205,39],[202,40,205,42],[202,43,205,47],[202,1,205,5],[202,6,205,15],[202,17,205,18],[202,19,205,20],[166,37,169,39],[198,1,201,5],[198,6,201,15],[186,1,189,11],[186,12,189,13],[192,1,195,5],[118,19,121,20],[118,6,121,15],[122,1,125,3],[122,4,125,5],[122,6,125,15],[122,17,125,18],[118,1,121,5],[118,17,121,18],[122,19,125,20],[192,6,195,11],[192,12,195,15],[150,17,153,18],[150,19,153,20],[150,21,153,36],[198,40,201,42],[154,17,157,18],[154,19,157,20],[154,21,157,36],[158,17,161,18],[166,17,169,18],[198,17,201,20],[198,21,201,36],[170,17,173,18],[170,19,173,20],[170,21,173,36],[150,37,153,39],[150,40,153,42],[158,19,161,20],[158,21,161,36],[158,37,161,39],[158,40,161,42],[154,37,157,39],[154,40,157,42],[126,1,129,5],[126,6,129,15],[126,17,129,18],[14,1,17,5],[18,1,21,5],[22,1,25,5],[14,6,17,15],[18,6,21,15],[22,6,25,15],[34,1,37,5],[26,6,29,15],[30,6,33,15],[34,6,37,15],[26,1,29,5],[30,1,33,3],[30,4,33,5],[74,40,77,42],[50,43,53,47],[66,43,69,47],[66,48,69,54],[62,17,65,18],[62,19,65,20],[54,43,57,47],[54,48,57,54],[58,17,61,18],[58,19,61,20],[58,21,61,36],[58,37,61,39],[62,43,65,47],[62,21,65,36],[62,37,65,39],[62,48,65,54],[66,17,69,18],[66,19,69,20],[66,21,69,36],[66,37,69,39],[66,40,69,42],[78,43,81,47],[78,48,81,54],[82,37,85,47],[82,48,85,54],[95,52,97,54],[83,31,84,35],[85,17,90,25],[70,43,73,47],[95,46,97,48],[95,49,97,51],[87,37,90,47],[87,48,90,54],[85,26,90,30],[85,31,90,35],[95,41,97,45],[93,19,96,32],[74,43,77,47],[74,48,77,54],[70,17,73,18],[70,19,73,20],[70,21,73,36],[70,37,73,39],[70,48,73,54],[74,17,77,18],[110,21,113,36],[110,37,113,39],[110,40,113,42],[110,43,113,47],[110,1,113,5],[110,6,113,15],[110,17,113,18],[110,19,113,20],[114,40,117,42],[114,43,117,47],[114,1,117,5],[114,6,117,15],[114,17,117,18],[114,19,117,20],[114,48,117,54],[122,43,125,47],[122,48,125,54],[118,40,121,42],[118,43,121,47],[118,48,121,54],[126,21,129,36],[126,37,129,39],[126,40,129,42],[126,43,129,47],[126,19,129,20],[134,48,137,54],[138,17,141,18],[138,19,141,20],[138,21,141,36],[138,37,141,39],[138,40,141,42],[138,43,141,47],[138,48,141,54],[134,17,137,18],[134,19,137,20],[130,17,133,18],[130,19,133,20],[142,17,145,18],[142,19,145,20],[142,21,145,36],[142,37,145,39],[134,40,137,42],[134,43,137,47],[134,21,137,36],[134,37,137,39],[146,17,149,18],[146,19,149,20],[146,21,149,36],[146,37,149,39],[146,40,149,42],[146,43,149,47],[142,40,145,42],[142,43,145,47],[162,21,165,36],[162,37,165,39],[162,40,165,42],[162,43,165,47],[162,48,165,54],[192,41,195,54],[179,37,182,47],[179,48,182,54],[185,19,188,32],[166,40,169,42],[166,43,169,47],[166,48,169,54],[170,37,173,39],[170,40,173,42],[170,43,173,47],[187,41,189,45],[187,46,189,48],[174,48,177,54],[192,16,195,35],[192,37,195,40],[187,49,189,51],[187,52,189,54],[162,17,165,18],[162,19,165,20],[210,48,213,54],[214,1,217,3],[214,4,217,5],[214,6,217,15],[214,17,217,18],[214,19,217,20],[214,21,217,36],[214,37,217,39],[214,40,217,42],[214,43,217,47],[214,48,217,54],[210,1,213,5],[210,6,213,15],[210,17,213,18],[210,19,213,20],[218,1,221,5],[218,6,221,15],[218,17,221,18],[218,19,221,20],[218,21,221,36],[218,37,221,39],[218,40,221,42],[218,43,221,47],[218,48,221,54],[222,17,225,18],[222,19,225,20],[222,21,225,36],[222,37,225,39],[222,40,225,42],[222,43,225,47],[222,48,225,54],[226,48,229,54],[230,17,233,18],[230,19,233,20],[230,21,233,36],[230,37,233,39],[230,40,233,42],[230,43,233,47],[230,48,233,54],[226,17,229,18],[238,17,241,18],[238,19,241,20],[238,21,241,36],[234,48,237,54],[226,19,229,20],[234,17,237,18],[234,19,237,20],[234,21,237,36],[234,37,237,39],[226,40,229,42],[238,37,241,39],[238,40,241,42],[238,43,241,47],[226,43,229,47],[226,21,229,36],[226,37,229,39],[234,40,237,42],[234,43,237,47],[238,48,241,54],[242,40,245,42],[242,43,245,47],[242,48,245,54],[246,17,249,18],[246,19,249,20],[246,21,249,36],[246,37,249,39],[246,40,249,42],[250,48,253,54],[246,43,249,47],[246,48,249,54],[242,17,245,18],[242,19,245,20],[242,21,245,36],[242,37,245,39],[254,48,257,54],[254,17,257,18],[254,19,257,20],[254,21,257,36],[254,37,257,39],[250,17,253,18],[250,19,253,20],[250,21,253,36],[250,37,253,39],[262,17,265,18],[262,19,265,20],[262,21,265,36],[262,37,265,39],[250,40,253,42],[250,43,253,47],[258,17,261,18],[258,19,261,20],[258,21,261,36],[258,37,261,39],[258,40,261,42],[254,40,257,42],[254,43,257,47],[271,48,274,54],[262,40,265,42],[262,43,265,47],[262,48,265,54],[266,37,269,47],[266,48,269,54],[271,37,274,47],[258,43,261,47],[258,48,261,54]]}
[]
[null,null,null,null,null,null,null,null,null,null,null,null,null,null,null,null,null,null,null,"請求書明細書 (正)"]
[null,"株 式 会 社 種 村 建 設",null,null,null,null,null,null,null,null,null,null,"御中"]
[null,null,null,null,null,null,null,null,null,null,null,null,null,null,null,null,null,null,null,null,null,null,null,null,null,null,null,null,null,null,null,null,null,null,null,null,null,null,null,null,null,"請求年月日",null,null,null,null,{"$f":"年","v":23},null,null,{"$f":"月","v":5},null,null,{"$f":"日","v":31}]
[]
[]
[]
[]
[null,"工事番号",null,null,null,null,null,null,null,null,null,null,"工事名",null,null,null,null,null,null,null,null,null,null,null,null,null,null,null,null,null,null,null,null,null,null,null,null,"業者名",null,null,null,{"$f":"社名","v":"例：㈱種村建設"}]
[]
[]
[]
[]
[]
[null,"注文番号",null,null,null,null,null,null,null,null,null,null,null,null,null,null,null,"月　日",null,null,null,"摘要･品名",null,null,null,null,null,null,null,null,null,null,null,null,null,null,null,"数 量",null,null,"単位",null,null,"単価",null,null,null,null,{"$f":"\"金額(\" & IF(税処理=2,\"税込\",\"税抜\")&\")\"","v":"金額(税抜)"}]
[]
[]
[]
[null,"契約金額",null,null,null,null,null,null,null,null,null,null,null,null,null,null,null,null,null,null,null,null,null,null,null,null,null,null,null,null,null,null,null,null,null,null,null,null,null,null,null,null,null,null,null,null,null,null,{"$f":"IF(V19=\"\",\"\",AL19*AR19)","v":""}]
[]
[]
[]
[null,"増減額",null,null,null,null,null,null,null,null,null,null,null,null,null,null,null,null,null,null,null,null,null,null,null,null,null,null,null,null,null,null,null,null,null,null,null,null,null,null,null,null,null,null,null,null,null,null,{"$f":"IF(V23=\"\",\"\",AL23*AR23)","v":""}]
[]
[]
[]
[null,"前回までの\n請求額",null,null,null,null,null,null,null,null,null,null,null,null,null,null,null,null,null,null,null,null,null,null,null,null,null,null,null,null,null,null,null,null,null,null,null,null,null,null,null,null,null,null,null,null,null,null,{"$f":"IF(V27=\"\",\"\",AL27*AR27)","v":""}]
[]
[]
[]
[null,"今回\n請求額",null,null,2,null,null,null,null,null,null,null,null,null,null,null,null,null,null,null,null,null,null,null,null,null,null,null,null,null,null,null,null,null,null,null,null,null,null,null,null,null,null,null,null,null,null,null,{"$f":"IF(V31=\"\",\"\",AL31*AR31)","v":""}]
[]
[]
[]
[null,"差引残高",null,null,null,null,{"$f":"IF(G19=\"\",\"\",G19+G23-G27-G31)","v":""},null,null,null,null,null,null,null,null,null,null,null,null,null,null,null,null,null,null,null,null,null,null,null,null,null,null,null,null,null,null,null,null,null,null,null,null,null,null,null,null,null,{"$f":"IF(V35=\"\",\"\",AL35*AR35)","v":""}]
[]
[]
[]
[null,null,null,null,null,null,null,null,null,null,null,null,null,null,null,null,null,null,null,null,null,null,null,null,null,null,null,null,null,null,null,null,null,null,null,null,null,null,null,null,null,null,null,null,null,null,null,null,{"$f":"IF(V39=\"\",\"\",AL39*AR39)","v":""}]
[]
[]
[]
[null,null,null,null,null,null,null,null,null,null,null,null,null,null,null,null,null,null,null,null,null,null,null,null,null,null,null,null,null,null,null,null,null,null,null,null,null,null,null,null,null,null,null,null,null,null,null,null,{"$f":"IF(V43=\"\",\"\",AL43*AR43)","v":""}]
[]
[]
[]
[null,null,null,null,null,null,null,null,null,null,null,null,null,null,null,null,null,null,null,null,null,null,null,null,null,null,null,null,null,null,null,null,null,null,null,null,null,null,null,null,null,null,null,null,null,null,null,null,{"$f":"IF(V47=\"\",\"\",AL47*AR47)","v":""}]
[]
[]
[]
[null,null,null,null,null,null,null,null,null,null,null,null,null,null,null,null,null,null,null,null,null,null,null,null,null,null,null,null,null,null,null,null,null,null,null,null,null,null,null,null,null,null,null,null,null,null,null,null,{"$f":"IF(V51=\"\",\"\",AL51*AR51)","v":""}]
[]
[]
[]
[null,null,null,null,null,null,null,null,null,null,null,null,null,null,null,null,null,null,null,null,null,null,null,null,null,null,null,null,null,null,null,null,null,null,null,null,null,null,null,null,null,null,null,null,null,null,null,null,{"$f":"IF(V55=\"\",\"\",AL55*AR55)","v":""}]
[]
[]
[]
[null,null,null,null,null,null,null,null,null,null,null,null,null,null,null,null,null,null,null,null,null,null,null,null,null,null,null,null,null,null,null,null,null,null,null,null,null,null,null,null,null,null,null,null,null,null,null,null,{"$f":"IF(V59=\"\",\"\",AL59*AR59)","v":""}]
[]
[]
[]
[null,null,null,null,null,null,null,null,null,null,null,null,null,null,null,null,null,null,null,null,null,null,null,null,null,null,null,null,null,null,null,null,null,null,null,null,null,null,null,null,null,null,null,null,null,null,null,null,{"$f":"IF(V63=\"\",\"\",AL63*AR63)","v":""}]
[]
[]
[]
[null,null,null,null,null,null,null,null,null,null,null,null,null,null,null,null,null,null,null,null,null,null,null,null,null,null,null,null,null,null,null,null,null,null,null,null,null,null,null,null,null,null,null,null,null,null,null,null,{"$f":"IF(V67=\"\",\"\",AL67*AR67)","v":""}]
[]
[]
[]
[null,null,null,null,null,null,null,null,null,null,null,null,null,null,null,null,null,null,null,null,null,null,null,null,null,null,null,null,null,null,null,null,null,null,null,null,null,null,null,null,null,null,null,null,null,null,null,null,{"$f":"IF(V71=\"\",\"\",AL71*AR71)","v":""}]
[]
[]
[]
[null,null,null,null,null,null,null,null,null,null,null,null,null,null,null,null,null,null,null,null,null,null,null,null,null,null,null,null,null,null,null,null,null,null,null,null,null,null,null,null,null,null,null,null,null,null,null,null,{"$f":"IF(V75=\"\",\"\",AL75*AR75)","v":""}]
[]
[]
[]
[null,null,null,null,null,null,null,null,null,null,null,null,null,null,null,null,null,null,null,null,null,null,null,null,null,null,null,null,null,null,null,null,null,null,null,null,null,null,null,null,null,null,null,null,null,null,null,null,{"$f":"IF(V79=\"\",\"\",AL79*AR79)","v":""}]
[]
[]
[]
[null,null,null,null,null,null,null,null,null,null,null,null,null,null,null,null,null,null,null,null,null,null,null,null,null,null,null,null,null,null,null,null,null,null,null,null,null,"値引き等"]
[null,"社長",null,null,null,"専務",null,null,null,null,null,"常務",null,null,null,null,null,"部長･工場長",null,null,null,null,null,null,null,null,"担当者",null,null,null,null,"受付"]
[]
[]
[]
[null,null,null,null,null,null,null,null,null,null,null,null,null,null,null,null,null,null,null,null,null,null,null,null,null,null,null,null,null,null,null,null,null,null,null,null,null,{"$f":"\"合計(\" & IF(税処理=2,\"税込\",\"税抜\")&\")\"","v":"合計(税抜)"},null,null,null,null,null,null,null,null,null,null,{"$f":"IF(AW19=\"\",\"\",SUM(AW19:AW79)+AW83)","v":""}]
[]
[]
[]
[]
[]
[null,null,null,null,null,null,null,null,null,null,null,null,null,null,null,null,null,null,null,"請求明細書 (現場控)"]
[null,"株 式 会 社 種 村 建 設",null,null,null,null,null,null,null,null,null,null,"御中"]
[null,null,null,null,null,null,null,null,null,null,null,null,null,null,null,null,null,null,null,null,null,null,null,null,null,null,null,null,null,null,null,null,null,null,null,null,null,null,null,null,null,"請求年月日",null,null,null,null,{"$f":"IF(AU4=\"\",\"\",AU4)","v":23},null,null,{"$f":"IF(AX4=\"\",\"\",AX4)","v":5},null,null,{"$f":"IF(BA4=\"\",\"\",BA4)","v":31}]
[]
[]
[]
[]
[null,"工事番号",null,null,null,null,{"$f":"IF(G9=\"\",\"\",G9)","v":""},null,null,null,null,null,"工事名",null,null,null,{"$f":"IF(Q9=\"\",\"\",Q9)","v":""},null,null,null,null,null,null,null,null,null,null,null,null,null,null,null,null,null,null,null,null,"業者名",null,null,null,{"$f":"IF(AP9=\"\",\"\",AP9)","v":"例：㈱種村建設"}]
[]
[]
[]
[]
[]
[null,"注文番号",null,null,null,null,{"$f":"IF(G15=\"\",\"\",G15)","v":""},null,null,null,null,null,null,null,null,null,null,"月　日",null,null,null,"摘要･品名",null,null,null,null,null,null,null,null,null,null,null,null,null,null,null,"数 量",null,null,"単位",null,null,"単価",null,null,null,null,{"$f":"\"金額(\" & IF(税処理=2,\"税込\",\"税抜\")&\")\"","v":"金額(税抜)"}]
[]
[]
[]
[null,"契約金額",null,null,null,null,{"$f":"IF(G19=\"\",\"\",G19)","v":""},null,null,null,null,null,null,null,null,null,null,{"$f":"IF(R19=\"\",\"\",R19)","v":""},null,{"$f":"IF(T19=\"\",\"\",T19)","v":""},null,{"$f":"IF(V19=\"\",\"\",V19)","v":""},null,{"$f":"IF(X19=\"\",\"\",X19)","v":""},null,{"$f":"IF(Z19=\"\",\"\",Z19)","v":""},null,{"$f":"IF(AB19=\"\",\"\",AB19)","v":""},null,{"$f":"IF(AD19=\"\",\"\",AD19)","v":""},null,{"$f":"IF(AF19=\"\",\"\",AF19)","v":""},null,{"$f":"IF(AH19=\"\",\"\",AH19)","v":""},null,{"$f":"IF(AJ19=\"\",\"\",AJ19)","v":""},null,{"$f":"IF(AL19=\"\",\"\",AL19)","v":""},null,null,{"$f":"IF(AO19=\"\",\"\",AO19)","v":""},null,null,{"$f":"IF(AR19=\"\",\"\",AR19)","v":""},null,null,null,null,{"$f":"IF(AW19=\"\",\"\",AW19)","v":""}]
[]
[]
[]
[null,"増減額",null,null,null,null,{"$f":"IF(G23=\"\",\"\",G23)","v":""},null,null,null,null,null,null,null,null,null,null,{"$f":"IF(R23=\"\",\"\",R23)","v":""},null,{"$f":"IF(T23=\"\",\"\",T23)","v":""},null,{"$f":"IF(V23=\"\",\"\",V23)","v":""},null,{"$f":"IF(X23=\"\",\"\",X23)","v":""},null,{"$f":"IF(Z23=\"\",\"\",Z23)","v":""},null,{"$f":"IF(AB23=\"\",\"\",AB23)","v":""},null,{"$f":"IF(AD23=\"\",\"\",AD23)","v":""},null,{"$f":"IF(AF23=\"\",\"\",AF23)","v":""},null,{"$f":"IF(AH23=\"\",\"\",AH23)","v":""},null,{"$f":"IF(AJ23=\"\",\"\",AJ23)","v":""},null,{"$f":"IF(AL23=\"\",\"\",AL23)","v":""},null,null,{"$f":"IF(AO23=\"\",\"\",AO23)","v":""},null,null,{"$f":"IF(AR23=\"\",\"\",AR23)","v":""},null,null,null,null,{"$f":"IF(AW23=\"\",\"\",AW23)","v":""}]
[]
[]
[]
[null,"前回までの\n請求額",null,null,null,null,{"$f":"IF(G27=\"\",\"\",G27)","v":""},null,null,null,null,null,null,null,null,null,null,{"$f":"IF(R27=\"\",\"\",R27)","v":""},null,{"$f":"IF(T27=\"\",\"\",T27)","v":""},null,{"$f":"IF(V27=\"\",\"\",V27)","v":""},null,{"$f":"IF(X27=\"\",\"\",X27)","v":""},null,{"$f":"IF(Z27=\"\",\"\",Z27)","v":""},null,{"$f":"IF(AB27=\"\",\"\",AB27)","v":""},null,{"$f":"IF(AD27=\"\",\"\",AD27)","v":""},null,{"$f":"IF(AF27=\"\",\"\",AF27)","v":""},null,{"$f":"IF(AH27=\"\",\"\",AH27)","v":""},null,{"$f":"IF(AJ27=\"\",\"\",AJ27)","v":""},null,{"$f":"IF(AL27=\"\",\"\",AL27)","v":""},null,null,{"$f":"IF(AO27=\"\",\"\",AO27)","v":""},null,null,{"$f":"IF(AR27=\"\",\"\",AR27)","v":""},null,null,null,null,{"$f":"IF(AW27=\"\",\"\",AW27)","v":""}]
[]
[]
[]
[null,"今回\n請求額",null,null,{"$f":"IF(E31=\"\",\"\",E31)","v":2},null,{"$f":"IF(G31=\"\",\"\",G31)","v":""},null,null,null,null,null,null,null,null,null,null,{"$f":"IF(R31=\"\",\"\",R31)","v":""},null,{"$f":"IF(T31=\"\",\"\",T31)","v":""},null,{"$f":"IF(V31=\"\",\"\",V31)","v":""},null,{"$f":"IF(X31=\"\",\"\",X31)","v":""},null,{"$f":"IF(Z31=\"\",\"\",Z31)","v":""},null,{"$f":"IF(AB31=\"\",\"\",AB31)","v":""},null,{"$f":"IF(AD31=\"\",\"\",AD31)","v":""},null,{"$f":"IF(AF31=\"\",\"\",AF31)","v":""},null,{"$f":"IF(AH31=\"\",\"\",AH31)","v":""},null,{"$f":"IF(AJ31=\"\",\"\",AJ31)","v":""},null,{"$f":"IF(AL31=\"\",\"\",AL31)","v":""},null,null,{"$f":"IF(AO31=\"\",\"\",AO31)","v":""},null,null,{"$f":"IF(AR31=\"\",\"\",AR31)","v":""},null,null,null,null,{"$f":"IF(AW31=\"\",\"\",AW31)","v":""}]
[]
[]
[]
[null,"差引残高",null,null,null,null,{"$f":"IF(G111=\"\",\"\",G111+G115-G119-G123)","v":""},null,null,null,null,null,null,null,null,null,null,{"$f":"IF(R35=\"\",\"\",R35)","v":""},null,{"$f":"IF(T35=\"\",\"\",T35)","v":""},null,{"$f":"IF(V35=\"\",\"\",V35)","v":""},null,{"$f":"IF(X35=\"\",\"\",X35)","v":""},null,{"$f":"IF(Z35=\"\",\"\",Z35)","v":""},null,{"$f":"IF(AB35=\"\",\"\",AB35)","v":""},null,{"$f":"IF(AD35=\"\",\"\",AD35)","v":""},null,{"$f":"IF(AF35=\"\",\"\",AF35)","v":""},null,{"$f":"IF(AH35=\"\",\"\",AH35)","v":""},null,{"$f":"IF(AJ35=\"\",\"\",AJ35)","v":""},null,{"$f":"IF(AL35=\"\",\"\",AL35)","v":""},null,null,{"$f":"IF(AO35=\"\",\"\",AO35)","v":""},null,null,{"$f":"IF(AR35=\"\",\"\",AR35)","v":""},null,null,null,null,{"$f":"IF(AW35=\"\",\"\",AW35)","v":""}]
[]
[]
[]
[null,null,null,null,null,null,null,null,null,null,null,null,null,null,null,null,null,{"$f":"IF(R39=\"\",\"\",R39)","v":""},null,{"$f":"IF(T39=\"\",\"\",T39)","v":""},null,{"$f":"IF(V39=\"\",\"\",V39)","v":""},null,{"$f":"IF(X39=\"\",\"\",X39)","v":""},null,{"$f":"IF(Z39=\"\",\"\",Z39)","v":""},null,{"$f":"IF(AB39=\"\",\"\",AB39)","v":""},null,{"$f":"IF(AD39=\"\",\"\",AD39)","v":""},null,{"$f":"IF(AF39=\"\",\"\",AF39)","v":""},null,{"$f":"IF(AH39=\"\",\"\",AH39)","v":""},null,{"$f":"IF(AJ39=\"\",\"\",AJ39)","v":""},null,{"$f":"IF(AL39=\"\",\"\",AL39)","v":""},null,null,{"$f":"IF(AO39=\"\",\"\",AO39)","v":""},null,null,{"$f":"IF(AR39=\"\",\"\",AR39)","v":""},null,null,null,null,{"$f":"IF(AW39=\"\",\"\",AW39)","v":""}]
[]
[]
[]
[null,null,null,null,null,null,null,null,null,null,null,null,null,null,null,null,null,{"$f":"IF(R43=\"\",\"\",R43)","v":""},null,{"$f":"IF(T43=\"\",\"\",T43)","v":""},null,{"$f":"IF(V43=\"\",\"\",V43)","v":""},null,{"$f":"IF(X43=\"\",\"\",X43)","v":""},null,{"$f":"IF(Z43=\"\",\"\",Z43)","v":""},null,{"$f":"IF(AB43=\"\",\"\",AB43)","v":""},null,{"$f":"IF(AD43=\"\",\"\",AD43)","v":""},null,{"$f":"IF(AF43=\"\",\"\",AF43)","v":""},null,{"$f":"IF(AH43=\"\",\"\",AH43)","v":""},null,{"$f":"IF(AJ43=\"\",\"\",AJ43)","v":""},null,{"$f":"IF(AL43=\"\",\"\",AL43)","v":""},null,null,{"$f":"IF(AO43=\"\",\"\",AO43)","v":""},null,null,{"$f":"IF(AR43=\"\",\"\",AR43)","v":""},null,null,null,null,{"$f":"IF(AW43=\"\",\"\",AW43)","v":""}]
[]
[]
[]
[null,null,null,null,null,null,null,null,null,null,null,null,null,null,null,null,null,{"$f":"IF(R47=\"\",\"\",R47)","v":""},null,{"$f":"IF(T47=\"\",\"\",T47)","v":""},null,{"$f":"IF(V47=\"\",\"\",V47)","v":""},null,{"$f":"IF(X47=\"\",\"\",X47)","v":""},null,{"$f":"IF(Z47=\"\",\"\",Z47)","v":""},null,{"$f":"IF(AB47=\"\",\"\",AB47)","v":""},null,{"$f":"IF(AD47=\"\",\"\",AD47)","v":""},null,{"$f":"IF(AF47=\"\",\"\",AF47)","v":""},null,{"$f":"IF(AH47=\"\",\"\",AH47)","v":""},null,{"$f":"IF(AJ47=\"\",\"\",AJ47)","v":""},null,{"$f":"IF(AL47=\"\",\"\",AL47)","v":""},null,null,{"$f":"IF(AO47=\"\",\"\",AO47)","v":""},null,null,{"$f":"IF(AR47=\"\",\"\",AR47)","v":""},null,null,null,null,{"$f":"IF(AW47=\"\",\"\",AW47)","v":""}]
[]
[]
[]
[null,null,null,null,null,null,null,null,null,null,null,null,null,null,null,null,null,{"$f":"IF(R51=\"\",\"\",R51)","v":""},null,{"$f":"IF(T51=\"\",\"\",T51)","v":""},null,{"$f":"IF(V51=\"\",\"\",V51)","v":""},null,{"$f":"IF(X51=\"\",\"\",X51)","v":""},null,{"$f":"IF(Z51=\"\",\"\",Z51)","v":""},null,{"$f":"IF(AB51=\"\",\"\",AB51)","v":""},null,{"$f":"IF(AD51=\"\",\"\",AD51)","v":""},null,{"$f":"IF(AF51=\"\",\"\",AF51)","v":""},null,{"$f":"IF(AH51=\"\",\"\",AH51)","v":""},null,{"$f":"IF(AJ51=\"\",\"\",AJ51)","v":""},null,{"$f":"IF(AL51=\"\",\"\",AL51)","v":""},null,null,{"$f":"IF(AO51=\"\",\"\",AO51)","v":""},null,null,{"$f":"IF(AR51=\"\",\"\",AR51)","v":""},null,null,null,null,{"$f":"IF(AW51=\"\",\"\",AW51)","v":""}]
[]
[]
[]
[null,null,null,null,null,null,null,null,null,null,null,null,null,null,null,null,null,{"$f":"IF(R55=\"\",\"\",R55)","v":""},null,{"$f":"IF(T55=\"\",\"\",T55)","v":""},null,{"$f":"IF(V55=\"\",\"\",V55)","v":""},null,{"$f":"IF(X55=\"\",\"\",X55)","v":""},null,{"$f":"IF(Z55=\"\",\"\",Z55)","v":""},null,{"$f":"IF(AB55=\"\",\"\",AB55)","v":""},null,{"$f":"IF(AD55=\"\",\"\",AD55)","v":""},null,{"$f":"IF(AF55=\"\",\"\",AF55)","v":""},null,{"$f":"IF(AH55=\"\",\"\",AH55)","v":""},null,{"$f":"IF(AJ55=\"\",\"\",AJ55)","v":""},null,{"$f":"IF(AL55=\"\",\"\",AL55)","v":""},null,null,{"$f":"IF(AO55=\"\",\"\",AO55)","v":""},null,null,{"$f":"IF(AR55=\"\",\"\",AR55)","v":""},null,null,null,null,{"$f":"IF(AW55=\"\",\"\",AW55)","v":""}]
[]
[]
[]
[null,null,null,null,null,null,null,null,null,null,null,null,null,null,null,null,null,{"$f":"IF(R59=\"\",\"\",R59)","v":""},null,{"$f":"IF(T59=\"\",\"\",T59)","v":""},null,{"$f":"IF(V59=\"\",\"\",V59)","v":""},null,{"$f":"IF(X59=\"\",\"\",X59)","v":""},null,{"$f":"IF(Z59=\"\",\"\",Z59)","v":""},null,{"$f":"IF(AB59=\"\",\"\",AB59)","v":""},null,{"$f":"IF(AD59=\"\",\"\",AD59)","v":""},null,{"$f":"IF(AF59=\"\",\"\",AF59)","v":""},null,{"$f":"IF(AH59=\"\",\"\",AH59)","v":""},null,{"$f":"IF(AJ59=\"\",\"\",AJ59)","v":""},null,{"$f":"IF(AL59=\"\",\"\",AL59)","v":""},null,null,{"$f":"IF(AO59=\"\",\"\",AO59)","v":""},null,null,{"$f":"IF(AR59=\"\",\"\",AR59)","v":""},null,null,null,null,{"$f":"IF(AW59=\"\",\"\",AW59)","v":""}]
[]
[]
[]
[null,null,null,null,null,null,null,null,null,null,null,null,null,null,null,null,null,{"$f":"IF(R63=\"\",\"\",R63)","v":""},null,{"$f":"IF(T63=\"\",\"\",T63)","v":""},null,{"$f":"IF(V63=\"\",\"\",V63)","v":""},null,{"$f":"IF(X63=\"\",\"\",X63)","v":""},null,{"$f":"IF(Z63=\"\",\"\",Z63)","v":""},null,{"$f":"IF(AB63=\"\",\"\",AB63)","v":""},null,{"$f":"IF(AD63=\"\",\"\",AD63)","v":""},null,{"$f":"IF(AF63=\"\",\"\",AF63)","v":""},null,{"$f":"IF(AH63=\"\",\"\",AH63)","v":""},null,{"$f":"IF(AJ63=\"\",\"\",AJ63)","v":""},null,{"$f":"IF(AL63=\"\",\"\",AL63)","v":""},null,null,{"$f":"IF(AO63=\"\",\"\",AO63)","v":""},null,null,{"$f":"IF(AR63=\"\",\"\",AR63)","v":""},null,null,null,null,{"$f":"IF(AW63=\"\",\"\",AW63)","v":""}]
[]
[]
[]
[null,null,null,null,null,null,null,null,null,null,null,null,null,null,null,null,null,{"$f":"IF(R67=\"\",\"\",R67)","v":""},null,{"$f":"IF(T67=\"\",\"\",T67)","v":""},null,{"$f":"IF(V67=\"\",\"\",V67)","v":""},null,{"$f":"IF(X67=\"\",\"\",X67)","v":""},null,{"$f":"IF(Z67=\"\",\"\",Z67)","v":""},null,{"$f":"IF(AB67=\"\",\"\",AB67)","v":""},null,{"$f":"IF(AD67=\"\",\"\",AD67)","v":""},null,{"$f":"IF(AF67=\"\",\"\",AF67)","v":""},null,{"$f":"IF(AH67=\"\",\"\",AH67)","v":""},null,{"$f":"IF(AJ67=\"\",\"\",AJ67)","v":""},null,{"$f":"IF(AL67=\"\",\"\",AL67)","v":""},null,null,{"$f":"IF(AO67=\"\",\"\",AO67)","v":""},null,null,{"$f":"IF(AR67=\"\",\"\",AR67)","v":""},null,null,null,null,{"$f":"IF(AW67=\"\",\"\",AW67)","v":""}]
[]
[]
[]
[null,null,null,null,null,null,null,null,null,null,null,null,null,null,null,null,null,{"$f":"IF(R71=\"\",\"\",R71)","v":""},null,{"$f":"IF(T71=\"\",\"\",T71)","v":""},null,{"$f":"IF(V71=\"\",\"\",V71)","v":""},null,{"$f":"IF(X71=\"\",\"\",X71)","v":""},null,{"$f":"IF(Z71=\"\",\"\",Z71)","v":""},null,{"$f":"IF(AB71=\"\",\"\",AB71)","v":""},null,{"$f":"IF(AD71=\"\",\"\",AD71)","v":""},null,{"$f":"IF(AF71=\"\",\"\",AF71)","v":""},null,{"$f":"IF(AH71=\"\",\"\",AH71)","v":""},null,{"$f":"IF(AJ71=\"\",\"\",AJ71)","v":""},null,{"$f":"IF(AL71=\"\",\"\",AL71)","v":""},null,null,{"$f":"IF(AO71=\"\",\"\",AO71)","v":""},null,null,{"$f":"IF(AR71=\"\",\"\",AR71)","v":""},null,null,null,null,{"$f":"IF(AW71=\"\",\"\",AW71)","v":""}]
[]
[]
[]
[null,null,null,null,null,null,null,null,null,null,null,null,null,null,null,null,null,{"$f":"IF(R75=\"\",\"\",R75)","v":""},null,{"$f":"IF(T75=\"\",\"\",T75)","v":""},null,{"$f":"IF(V75=\"\",\"\",V75)","v":""},null,{"$f":"IF(X75=\"\",\"\",X75)","v":""},null,{"$f":"IF(Z75=\"\",\"\",Z75)","v":""},null,{"$f":"IF(AB75=\"\",\"\",AB75)","v":""},null,{"$f":"IF(AD75=\"\",\"\",AD75)","v":""},null,{"$f":"IF(AF75=\"\",\"\",AF75)","v":""},null,{"$f":"IF(AH75=\"\",\"\",AH75)","v":""},null,{"$f":"IF(AJ75=\"\",\"\",AJ75)","v":""},null,{"$f":"IF(AL75=\"\",\"\",AL75)","v":""},null,null,{"$f":"IF(AO75=\"\",\"\",AO75)","v":""},null,null,{"$f":"IF(AR75=\"\",\"\",AR75)","v":""},null,null,null,null,{"$f":"IF(AW75=\"\",\"\",AW75)","v":""}]
[]
[]
[]
[null,null,null,null,null,null,null,null,null,null,null,null,null,null,null,null,null,{"$f":"IF(R79=\"\",\"\",R79)","v":""},null,{"$f":"IF(T79=\"\",\"\",T79)","v":""},null,{"$f":"IF(V79=\"\",\"\",V79)","v":""},null,{"$f":"IF(X79=\"\",\"\",X79)","v":""},null,{"$f":"IF(Z79=\"\",\"\",Z79)","v":""},null,{"$f":"IF(AB79=\"\",\"\",AB79)","v":""},null,{"$f":"IF(AD79=\"\",\"\",AD79)","v":""},null,{"$f":"IF(AF79=\"\",\"\",AF79)","v":""},null,{"$f":"IF(AH79=\"\",\"\",AH79)","v":""},null,{"$f":"IF(AJ79=\"\",\"\",AJ79)","v":""},null,{"$f":"IF(AL79=\"\",\"\",AL79)","v":""},null,null,{"$f":"IF(AO79=\"\",\"\",AO79)","v":""},null,null,{"$f":"IF(AR79=\"\",\"\",AR79)","v":""},null,null,null,null,{"$f":"IF(AW79=\"\",\"\",AW79)","v":""}]
[]
[]
[]
[null,null,null,null,null,null,null,null,null,null,null,null,null,null,null,null,null,null,null,null,null,null,null,null,null,null,null,null,null,null,null,null,null,null,null,null,null,"値引き等",null,null,null,null,null,null,null,null,null,null,{"$f":"IF(AW83=\"\",\"\",AW83)","v":""}]
[]
[]
[]
[]
[null,null,null,null,null,null,null,null,null,null,null,null,null,null,null,null,null,null,null,null,null,null,null,null,null,null,null,null,null,null,null,null,null,null,null,null,null,{"$f":"\"合計(\" & IF(税処理=2,\"税込\",\"税抜\")&\")\"","v":"合計(税抜)"},null,null,null,null,null,null,null,null,null,null,{"$f":"IF(AW88=\"\",\"\",AW88)","v":""}]
[]
[]
[]
[]
[]
[null,null,null,null,null,null,null,null,null,null,null,null,null,null,null,null,null,null,null,"請求明細書 (貴社控)"]
[null,"株 式 会 社 種 村 建 設",null,null,null,null,null,null,null,null,null,null,"御中"]
[null,null,null,null,null,null,null,null,null,null,null,null,null,null,null,null,null,null,null,null,null,null,null,null,null,null,null,null,null,null,null,null,null,null,null,null,null,null,null,null,null,"請求年月日",null,null,null,null,{"$f":"IF(AU96=\"\",\"\",AU96)","v":23},null,null,{"$f":"IF(AX96=\"\",\"\",AX96)","v":5},null,null,{"$f":"IF(BA96=\"\",\"\",BA96)","v":31}]
[]
[]
[]
[]
[null,"工事番号",null,null,null,null,{"$f":"IF(G101=\"\",\"\",G101)","v":""},null,null,null,null,null,"工事名",null,null,null,{"$f":"IF(Q101=\"\",\"\",Q101)","v":""},null,null,null,null,null,null,null,null,null,null,null,null,null,null,null,null,null,null,null,null,"業者名",null,null,null,{"$f":"IF(AP101=\"\",\"\",AP101)","v":"例：㈱種村建設"}]
[]
[]
[]
[]
[]
[null,"注文番号",null,null,null,null,{"$f":"IF(G107=\"\",\"\",G107)","v":""},null,null,null,null,null,null,null,null,null,null,"月　日",null,null,null,"摘要･品名",null,null,null,null,null,null,null,null,null,null,null,null,null,null,null,"数 量",null,null,"単位",null,null,"単価",null,null,null,null,{"$f":"\"金額(\" & IF(税処理=2,\"税込\",\"税抜\")&\")\"","v":"金額(税抜)"}]
[]
[]
[]
[null,"契約金額",null,null,null,null,{"$f":"IF(G111=\"\",\"\",G111)","v":""},null,null,null,null,null,null,null,null,null,null,{"$f":"IF(R111=\"\",\"\",R111)","v":""},null,{"$f":"IF(T111=\"\",\"\",T111)","v":""},null,{"$f":"IF(V111=\"\",\"\",V111)","v":""},null,{"$f":"IF(X111=\"\",\"\",X111)","v":""},null,{"$f":"IF(Z111=\"\",\"\",Z111)","v":""},null,{"$f":"IF(AB111=\"\",\"\",AB111)","v":""},null,{"$f":"IF(AD111=\"\",\"\",AD111)","v":""},null,{"$f":"IF(AF111=\"\",\"\",AF111)","v":""},null,{"$f":"IF(AH111=\"\",\"\",AH111)","v":""},null,{"$f":"IF(AJ111=\"\",\"\",AJ111)","v":""},null,{"$f":"IF(AL111=\"\",\"\",AL111)","v":""},null,null,{"$f":"IF(AO111=\"\",\"\",AO111)","v":""},null,null,{"$f":"IF(AR111=\"\",\"\",AR111)","v":""},null,null,null,null,{"$f":"IF(AW111=\"\",\"\",AW111)","v":""}]
[]
[]
[]
[null,"増減額",null,null,null,null,{"$f":"IF(G115=\"\",\"\",G115)","v":""},null,null,null,null,null,null,null,null,null,null,{"$f":"IF(R115=\"\",\"\",R115)","v":""},null,{"$f":"IF(T115=\"\",\"\",T115)","v":""},null,{"$f":"IF(V115=\"\",\"\",V115)","v":""},null,{"$f":"IF(X115=\"\",\"\",X115)","v":""},null,{"$f":"IF(Z115=\"\",\"\",Z115)","v":""},null,{"$f":"IF(AB115=\"\",\"\",AB115)","v":""},null,{"$f":"IF(AD115=\"\",\"\",AD115)","v":""},null,{"$f":"IF(AF115=\"\",\"\",AF115)","v":""},null,{"$f":"IF(AH115=\"\",\"\",AH115)","v":""},null,{"$f":"IF(AJ115=\"\",\"\",AJ115)","v":""},null,{"$f":"IF(AL115=\"\",\"\",AL115)","v":""},null,null,{"$f":"IF(AO115=\"\",\"\",AO115)","v":""},null,null,{"$f":"IF(AR115=\"\",\"\",AR115)","v":""},null,null,null,null,{"$f":"IF(AW115=\"\",\"\",AW115)","v":""}]
[]
[]
[]
[null,"前回までの\n請求額",null,null,null,null,{"$f":"IF(G119=\"\",\"\",G119)","v":""},null,null,null,null,null,null,null,null,null,null,{"$f":"IF(R119=\"\",\"\",R119)","v":""},null,{"$f":"IF(T119=\"\",\"\",T119)","v":""},null,{"$f":"IF(V119=\"\",\"\",V119)","v":""},null,{"$f":"IF(X119=\"\",\"\",X119)","v":""},null,{"$f":"IF(Z119=\"\",\"\",Z119)","v":""},null,{"$f":"IF(AB119=\"\",\"\",AB119)","v":""},null,{"$f":"IF(AD119=\"\",\"\",AD119)","v":""},null,{"$f":"IF(AF119=\"\",\"\",AF119)","v":""},null,{"$f":"IF(AH119=\"\",\"\",AH119)","v":""},null,{"$f":"IF(AJ119=\"\",\"\",AJ119)","v":""},null,{"$f":"IF(AL119=\"\",\"\",AL119)","v":""},null,null,{"$f":"IF(AO119=\"\",\"\",AO119)","v":""},null,null,{"$f":"IF(AR119=\"\",\"\",AR119)","v":""},null,null,null,null,{"$f":"IF(AW119=\"\",\"\",AW119)","v":""}]
[]
[]
[]
[null,"今回\n請求額",null,null,{"$f":"IF(E31=\"\",\"\",E31)","v":2},null,{"$f":"IF(G123=\"\",\"\",G123)","v":""},null,null,null,null,null,null,null,null,null,null,{"$f":"IF(R123=\"\",\"\",R123)","v":""},null,{"$f":"IF(T123=\"\",\"\",T123)","v":""},null,{"$f":"IF(V123=\"\",\"\",V123)","v":""},null,{"$f":"IF(X123=\"\",\"\",X123)","v":""},null,{"$f":"IF(Z123=\"\",\"\",Z123)","v":""},null,{"$f":"IF(AB123=\"\",\"\",AB123)","v":""},null,{"$f":"IF(AD123=\"\",\"\",AD123)","v":""},null,{"$f":"IF(AF123=\"\",\"\",AF123)","v":""},null,{"$f":"IF(AH123=\"\",\"\",AH123)","v":""},null,{"$f":"IF(AJ123=\"\",\"\",AJ123)","v":""},null,{"$f":"IF(AL123=\"\",\"\",AL123)","v":""},null,null,{"$f":"IF(AO123=\"\",\"\",AO123)","v":""},null,null,{"$f":"IF(AR123=\"\",\"\",AR123)","v":""},null,null,null,null,{"$f":"IF(AW123=\"\",\"\",AW123)","v":""}]
[]
[]
[]
[null,"差引残高",null,null,null,null,{"$f":"IF(G203=\"\",\"\",G203+G207-G211-G215)","v":""},null,null,null,null,null,null,null,null,null,null,{"$f":"IF(R127=\"\",\"\",R127)","v":""},null,{"$f":"IF(T127=\"\",\"\",T127)","v":""},null,{"$f":"IF(V127=\"\",\"\",V127)","v":""},null,{"$f":"IF(X127=\"\",\"\",X127)","v":""},null,{"$f":"IF(Z127=\"\",\"\",Z127)","v":""},null,{"$f":"IF(AB127=\"\",\"\",AB127)","v":""},null,{"$f":"IF(AD127=\"\",\"\",AD127)","v":""},null,{"$f":"IF(AF127=\"\",\"\",AF127)","v":""},null,{"$f":"IF(AH127=\"\",\"\",AH127)","v":""},null,{"$f":"IF(AJ127=\"\",\"\",AJ127)","v":""},null,{"$f":"IF(AL127=\"\",\"\",AL127)","v":""},null,null,{"$f":"IF(AO127=\"\",\"\",AO127)","v":""},null,null,{"$f":"IF(AR127=\"\",\"\",AR127)","v":""},null,null,null,null,{"$f":"IF(AW127=\"\",\"\",AW127)","v":""}]
[]
[]
[]
[null,null,null,null,null,null,null,null,null,null,null,null,null,null,null,null,null,{"$f":"IF(R131=\"\",\"\",R131)","v":""},null,{"$f":"IF(T131=\"\",\"\",T131)","v":""},null,{"$f":"IF(V131=\"\",\"\",V131)","v":""},null,{"$f":"IF(X131=\"\",\"\",X131)","v":""},null,{"$f":"IF(Z131=\"\",\"\",Z131)","v":""},null,{"$f":"IF(AB131=\"\",\"\",AB131)","v":""},null,{"$f":"IF(AD131=\"\",\"\",AD131)","v":""},null,{"$f":"IF(AF131=\"\",\"\",AF131)","v":""},null,{"$f":"IF(AH131=\"\",\"\",AH131)","v":""},null,{"$f":"IF(AJ131=\"\",\"\",AJ131)","v":""},null,{"$f":"IF(AL131=\"\",\"\",AL131)","v":""},null,null,{"$f":"IF(AO131=\"\",\"\",AO131)","v":""},null,null,{"$f":"IF(AR131=\"\",\"\",AR131)","v":""},null,null,null,null,{"$f":"IF(AW131=\"\",\"\",AW131)","v":""}]
[]
[]
[]
[null,null,null,null,null,null,null,null,null,null,null,null,null,null,null,null,null,{"$f":"IF(R135=\"\",\"\",R135)","v":""},null,{"$f":"IF(T135=\"\",\"\",T135)","v":""},null,{"$f":"IF(V135=\"\",\"\",V135)","v":""},null,{"$f":"IF(X135=\"\",\"\",X135)","v":""},null,{"$f":"IF(Z135=\"\",\"\",Z135)","v":""},null,{"$f":"IF(AB135=\"\",\"\",AB135)","v":""},null,{"$f":"IF(AD135=\"\",\"\",AD135)","v":""},null,{"$f":"IF(AF135=\"\",\"\",AF135)","v":""},null,{"$f":"IF(AH135=\"\",\"\",AH135)","v":""},null,{"$f":"IF(AJ135=\"\",\"\",AJ135)","v":""},null,{"$f":"IF(AL135=\"\",\"\",AL135)","v":""},null,null,{"$f":"IF(AO135=\"\",\"\",AO135)","v":""},null,null,{"$f":"IF(AR135=\"\",\"\",AR135)","v":""},null,null,null,null,{"$f":"IF(AW135=\"\",\"\",AW135)","v":""}]
[]
[]
[]
[null,null,null,null,null,null,null,null,null,null,null,null,null,null,null,null,null,{"$f":"IF(R139=\"\",\"\",R139)","v":""},null,{"$f":"IF(T139=\"\",\"\",T139)","v":""},null,{"$f":"IF(V139=\"\",\"\",V139)","v":""},null,{"$f":"IF(X139=\"\",\"\",X139)","v":""},null,{"$f":"IF(Z139=\"\",\"\",Z139)","v":""},null,{"$f":"IF(AB139=\"\",\"\",AB139)","v":""},null,{"$f":"IF(AD139=\"\",\"\",AD139)","v":""},null,{"$f":"IF(AF139=\"\",\"\",AF139)","v":""},null,{"$f":"IF(AH139=\"\",\"\",AH139)","v":""},null,{"$f":"IF(AJ139=\"\",\"\",AJ139)","v":""},null,{"$f":"IF(AL139=\"\",\"\",AL139)","v":""},null,null,{"$f":"IF(AO139=\"\",\"\",AO139)","v":""},null,null,{"$f":"IF(AR139=\"\",\"\",AR139)","v":""},null,null,null,null,{"$f":"IF(AW139=\"\",\"\",AW139)","v":""}]
[]
[]
[]
[null,null,null,null,null,null,null,null,null,null,null,null,null,null,null,null,null,{"$f":"IF(R143=\"\",\"\",R143)","v":""},null,{"$f":"IF(T143=\"\",\"\",T143)","v":""},null,{"$f":"IF(V143=\"\",\"\",V143)","v":""},null,{"$f":"IF(X143=\"\",\"\",X143)","v":""},null,{"$f":"IF(Z143=\"\",\"\",Z143)","v":""},null,{"$f":"IF(AB143=\"\",\"\",AB143)","v":""},null,{"$f":"IF(AD143=\"\",\"\",AD143)","v":""},null,{"$f":"IF(AF143=\"\",\"\",AF143)","v":""},null,{"$f":"IF(AH143=\"\",\"\",AH143)","v":""},null,{"$f":"IF(AJ143=\"\",\"\",AJ143)","v":""},null,{"$f":"IF(AL143=\"\",\"\",AL143)","v":""},null,null,{"$f":"IF(AO143=\"\",\"\",AO143)","v":""},null,null,{"$f":"IF(AR143=\"\",\"\",AR143)","v":""},null,null,null,null,{"$f":"IF(AW143=\"\",\"\",AW143)","v":""}]
[]
[]
[]
[null,null,null,null,null,null,null,null,null,null,null,null,null,null,null,null,null,{"$f":"IF(R147=\"\",\"\",R147)","v":""},null,{"$f":"IF(T147=\"\",\"\",T147)","v":""},null,{"$f":"IF(V147=\"\",\"\",V147)","v":""},null,{"$f":"IF(X147=\"\",\"\",X147)","v":""},null,{"$f":"IF(Z147=\"\",\"\",Z147)","v":""},null,{"$f":"IF(AB147=\"\",\"\",AB147)","v":""},null,{"$f":"IF(AD147=\"\",\"\",AD147)","v":""},null,{"$f":"IF(AF147=\"\",\"\",AF147)","v":""},null,{"$f":"IF(AH147=\"\",\"\",AH147)","v":""},null,{"$f":"IF(AJ147=\"\",\"\",AJ147)","v":""},null,{"$f":"IF(AL147=\"\",\"\",AL147)","v":""},null,null,{"$f":"IF(AO147=\"\",\"\",AO147)","v":""},null,null,{"$f":"IF(AR147=\"\",\"\",AR147)","v":""},null,null,null,null,{"$f":"IF(AW147=\"\",\"\",AW147)","v":""}]
[]
[]
[]
[null,null,null,null,null,null,null,null,null,null,null,null,null,null,null,null,null,{"$f":"IF(R151=\"\",\"\",R151)","v":""},null,{"$f":"IF(T151=\"\",\"\",T151)","v":""},null,{"$f":"IF(V151=\"\",\"\",V151)","v":""},null,{"$f":"IF(X151=\"\",\"\",X151)","v":""},null,{"$f":"IF(Z151=\"\",\"\",Z151)","v":""},null,{"$f":"IF(AB151=\"\",\"\",AB151)","v":""},null,{"$f":"IF(AD151=\"\",\"\",AD151)","v":""},null,{"$f":"IF(AF151=\"\",\"\",AF151)","v":""},null,{"$f":"IF(AH151=\"\",\"\",AH151)","v":""},null,{"$f":"IF(AJ151=\"\",\"\",AJ151)","v":""},null,{"$f":"IF(AL151=\"\",\"\",AL151)","v":""},null,null,{"$f":"IF(AO151=\"\",\"\",AO151)","v":""},null,null,{"$f":"IF(AR151=\"\",\"\",AR151)","v":""},null,null,null,null,{"$f":"IF(AW151=\"\",\"\",AW151)","v":""}]
[]
[]
[]
[null,null,null,null,null,null,null,null,null,null,null,null,null,null,null,null,null,{"$f":"IF(R155=\"\",\"\",R155)","v":""},null,{"$f":"IF(T155=\"\",\"\",T155)","v":""},null,{"$f":"IF(V155=\"\",\"\",V155)","v":""},null,{"$f":"IF(X155=\"\",\"\",X155)","v":""},null,{"$f":"IF(Z155=\"\",\"\",Z155)","v":""},null,{"$f":"IF(AB155=\"\",\"\",AB155)","v":""},null,{"$f":"IF(AD155=\"\",\"\",AD155)","v":""},null,{"$f":"IF(AF155=\"\",\"\",AF155)","v":""},null,{"$f":"IF(AH155=\"\",\"\",AH155)","v":""},null,{"$f":"IF(AJ155=\"\",\"\",AJ155)","v":""},null,{"$f":"IF(AL155=\"\",\"\",AL155)","v":""},null,null,{"$f":"IF(AO155=\"\",\"\",AO155)","v":""},null,null,{"$f":"IF(AR155=\"\",\"\",AR155)","v":""},null,null,null,null,{"$f":"IF(AW155=\"\",\"\",AW155)","v":""}]
[]
[]
[]
[null,null,null,null,null,null,null,null,null,null,null,null,null,null,null,null,null,{"$f":"IF(R159=\"\",\"\",R159)","v":""},null,{"$f":"IF(T159=\"\",\"\",T159)","v":""},null,{"$f":"IF(V159=\"\",\"\",V159)","v":""},null,{"$f":"IF(X159=\"\",\"\",X159)","v":""},null,{"$f":"IF(Z159=\"\",\"\",Z159)","v":""},null,{"$f":"IF(AB159=\"\",\"\",AB159)","v":""},null,{"$f":"IF(AD159=\"\",\"\",AD159)","v":""},null,{"$f":"IF(AF159=\"\",\"\",AF159)","v":""},null,{"$f":"IF(AH159=\"\",\"\",AH159)","v":""},null,{"$f":"IF(AJ159=\"\",\"\",AJ159)","v":""},null,{"$f":"IF(AL159=\"\",\"\",AL159)","v":""},null,null,{"$f":"IF(AO159=\"\",\"\",AO159)","v":""},null,null,{"$f":"IF(AR159=\"\",\"\",AR159)","v":""},null,null,null,null,{"$f":"IF(AW159=\"\",\"\",AW159)","v":""}]
[]
[]
[]
[null,null,null,null,null,null,null,null,null,null,null,null,null,null,null,null,null,{"$f":"IF(R163=\"\",\"\",R163)","v":""},null,{"$f":"IF(T163=\"\",\"\",T163)","v":""},null,{"$f":"IF(V163=\"\",\"\",V163)","v":""},null,{"$f":"IF(X163=\"\",\"\",X163)","v":""},null,{"$f":"IF(Z163=\"\",\"\",Z163)","v":""},null,{"$f":"IF(AB163=\"\",\"\",AB163)","v":""},null,{"$f":"IF(AD163=\"\",\"\",AD163)","v":""},null,{"$f":"IF(AF163=\"\",\"\",AF163)","v":""},null,{"$f":"IF(AH163=\"\",\"\",AH163)","v":""},null,{"$f":"IF(AJ163=\"\",\"\",AJ163)","v":""},null,{"$f":"IF(AL163=\"\",\"\",AL163)","v":""},null,null,{"$f":"IF(AO163=\"\",\"\",AO163)","v":""},null,null,{"$f":"IF(AR163=\"\",\"\",AR163)","v":""},null,null,null,null,{"$f":"IF(AW163=\"\",\"\",AW163)","v":""}]
[]
[]
[]
[null,null,null,null,null,null,null,null,null,null,null,null,null,null,null,null,null,{"$f":"IF(R167=\"\",\"\",R167)","v":""},null,{"$f":"IF(T167=\"\",\"\",T167)","v":""},null,{"$f":"IF(V167=\"\",\"\",V167)","v":""},null,{"$f":"IF(X167=\"\",\"\",X167)","v":""},null,{"$f":"IF(Z167=\"\",\"\",Z167)","v":""},null,{"$f":"IF(AB167=\"\",\"\",AB167)","v":""},null,{"$f":"IF(AD167=\"\",\"\",AD167)","v":""},null,{"$f":"IF(AF167=\"\",\"\",AF167)","v":""},null,{"$f":"IF(AH167=\"\",\"\",AH167)","v":""},null,{"$f":"IF(AJ167=\"\",\"\",AJ167)","v":""},null,{"$f":"IF(AL167=\"\",\"\",AL167)","v":""},null,null,{"$f":"IF(AO167=\"\",\"\",AO167)","v":""},null,null,{"$f":"IF(AR167=\"\",\"\",AR167)","v":""},null,null,null,null,{"$f":"IF(AW167=\"\",\"\",AW167)","v":""}]
[]
[]
[]
[null,null,null,null,null,null,null,null,null,null,null,null,null,null,null,null,null,{"$f":"IF(R171=\"\",\"\",R171)","v":""},null,{"$f":"IF(T171=\"\",\"\",T171)","v":""},null,{"$f":"IF(V171=\"\",\"\",V171)","v":""},null,{"$f":"IF(X171=\"\",\"\",X171)","v":""},null,{"$f":"IF(Z171=\"\",\"\",Z171)","v":""},null,{"$f":"IF(AB171=\"\",\"\",AB171)","v":""},null,{"$f":"IF(AD171=\"\",\"\",AD171)","v":""},null,{"$f":"IF(AF171=\"\",\"\",AF171)","v":""},null,{"$f":"IF(AH171=\"\",\"\",AH171)","v":""},null,{"$f":"IF(AJ171=\"\",\"\",AJ171)","v":""},null,{"$f":"IF(AL171=\"\",\"\",AL171)","v":""},null,null,{"$f":"IF(AO171=\"\",\"\",AO171)","v":""},null,null,{"$f":"IF(AR171=\"\",\"\",AR171)","v":""},null,null,null,null,{"$f":"IF(AW171=\"\",\"\",AW171)","v":""}]
[]
[]
[]
[null,null,null,null,null,null,null,null,null,null,null,null,null,null,null,null,null,null,null,null,null,null,null,null,null,null,null,null,null,null,null,null,null,null,null,null,null,"値引き等",null,null,null,null,null,null,null,null,null,null,{"$f":"IF(AW175=\"\",\"\",AW175)","v":""}]
[]
[]
[]
[]
[null,null,null,null,null,null,null,null,null,null,null,null,null,null,null,null,null,null,null,null,null,null,null,null,null,null,null,null,null,null,null,null,null,null,null,null,null,{"$f":"\"合計(\" & IF(税処理=2,\"税込\",\"税抜\")&\")\"","v":"合計(税抜)"},null,null,null,null,null,null,null,null,null,null,{"$f":"IF(AW180=\"\",\"\",AW180)","v":""}]

{"sheet":"細1-2","index":4,"n_rows":272,"n_cols":53,"rows_kept":272,"cut":false,"hidden":false,"merged":[[3,46,5,48],[3,49,5,51],[3,52,5,54],[8,37,11,40],[8,41,11,54],[3,41,5,45],[1,19,4,32],[2,1,5,11],[2,12,5,13],[8,1,11,5],[8,6,11,11],[8,12,11,15],[8,16,11,35],[14,43,17,47],[14,48,17,54],[14,1,17,5],[14,6,17,15],[14,17,17,20],[14,21,17,36],[18,1,21,5],[18,6,21,15],[18,17,21,18],[18,19,21,20],[14,37,17,39],[14,40,17,42],[18,21,21,36],[18,37,21,39],[18,40,21,42],[18,43,21,47],[26,1,29,5],[26,6,29,15],[26,17,29,18],[26,19,29,20],[18,48,21,54],[22,1,25,5],[22,6,25,15],[22,17,25,18],[22,19,25,20],[22,21,25,36],[26,21,29,36],[26,37,29,39],[26,40,29,42],[26,43,29,47],[22,37,25,39],[22,40,25,42],[22,43,25,47],[34,48,37,54],[26,48,29,54],[30,1,33,3],[30,4,33,5],[30,6,33,15],[30,17,33,18],[30,19,33,20],[22,48,25,54],[38,17,41,18],[38,19,41,20],[38,21,41,36],[38,37,41,39],[30,48,33,54],[34,1,37,5],[34,6,37,15],[34,17,37,18],[34,19,37,20],[34,21,37,36],[38,40,41,42],[38,43,41,47],[38,48,41,54],[30,21,33,36],[30,37,33,39],[30,40,33,42],[30,43,33,47],[34,37,37,39],[34,40,37,42],[34,43,37,47],[46,40,49,42],[46,43,49,47],[46,21,49,36],[46,37,49,39],[54,40,57,42],[54,43,57,47],[42,17,45,18],[42,19,45,20],[42,21,45,36],[42,37,45,39],[42,40,45,42],[42,43,45,47],[42,48,45,54],[46,48,49,54],[50,17,53,18],[50,19,53,20],[50,21,53,36],[50,37,53,39],[50,40,53,42],[50,43,53,47],[50,48,53,54],[46,17,49,18],[46,19,49,20],[58,17,61,18],[58,19,61,20],[58,21,61,36],[58,37,61,39],[58,40,61,42],[58,43,61,47],[58,48,61,54],[54,17,57,18],[54,19,57,20],[54,21,57,36],[54,37,57,39],[54,48,57,54],[62,40,65,42],[62,43,65,47],[62,21,65,36],[62,37,65,39],[70,40,73,42],[70,43,73,47],[70,48,73,54],[62,48,65,54],[66,17,69,18],[66,19,69,20],[66,21,69,36],[66,37,69,39],[66,40,69,42],[66,43,69,47],[66,48,69,54],[62,17,65,18],[62,19,65,20],[74,17,77,18],[74,19,77,20],[74,21,77,36],[74,37,77,39],[74,40,77,42],[74,43,77,47],[74,48,77,54],[70,17,73,18],[70,19,73,20],[70,21,73,36],[70,37,73,39],[78,48,81,54],[82,37,85,47],[82,48,85,54],[78,37,81,39],[78,40,81,42],[85,11,90,16],[85,17,90,25],[78,43,81,47],[83,26,84,30],[83,31,84,35],[78,17,81,18],[78,19,81,20],[78,21,81,36],[85,26,90,30],[85,31,90,35],[83,1,84,4],[83,5,84,10],[87,37,90,47],[83,11,84,16],[83,17,84,25],[95,46,97,48],[85,1,90,4],[85,5,90,10],[87,48,90,54],[95,49,97,51],[95,52,97,54],[100,1,103,5],[100,6,103,11],[100,12,103,15],[100,16,103,35],[100,37,103,40],[100,41,103,54],[93,19,96,32],[94,1,97,11],[94,12,97,13],[95,41,97,45],[106,37,109,39],[106,40,109,42],[106,43,109,47],[106,48,109,54],[106,1,109,5],[106,6,109,15],[106,17,109,20],[106,21,109,36],[110,21,113,36],[110,37,113,39],[110,40,113,42],[110,43,113,47],[110,1,113,5],[110,6,113,15],[110,17,113,18],[110,19,113,20],[110,48,113,54],[114,1,117,5],[114,6,117,15],[114,17,117,18],[114,19,117,20],[114,21,117,36],[114,37,117,39],[114,40,117,42],[114,43,117,47],[114,48,117,54],[118,21,121,36],[118,37,121,39],[118,40,121,42],[118,43,121,47],[118,1,121,5],[118,6,121,15],[118,17,121,18],[118,19,121,20],[118,48,121,54],[122,48,125,54],[126,1,129,5],[126,6,129,15],[126,17,129,18],[126,19,129,20],[126,21,129,36],[126,37,129,39],[126,40,129,42],[126,43,129,47],[126,48,129,54],[122,1,125,3],[122,4,125,5],[122,6,125,15],[122,17,125,18],[122,19,125,20],[122,21,125,36],[122,37,125,39],[122,40,125,42],[122,43,125,47],[130,40,133,42],[130,43,133,47],[130,21,133,36],[130,37,133,39],[138,40,141,42],[138,43,141,47],[138,48,141,54],[130,48,133,54],[134,17,137,18],[134,19,137,20],[134,21,137,36],[134,37,137,39],[134,40,137,42],[134,43,137,47],[134,48,137,54],[130,17,133,18],[130,19,133,20],[142,17,145,18],[142,19,145,20],[142,21,145,36],[142,37,145,39],[142,40,145,42],[142,43,145,47],[142,48,145,54],[138,17,141,18],[138,19,141,20],[138,21,141,36],[138,37,141,39],[154,48,157,54],[146,48,149,54],[150,17,153,18],[150,19,153,20],[150,21,153,36],[150,37,153,39],[150,40,153,42],[150,43,153,47],[150,48,153,54],[146,17,149,18],[146,19,149,20],[154,17,157,18],[154,19,157,20],[154,21,157,36],[154,37,157,39],[146,40,149,42],[146,43,149,47],[146,21,149,36],[146,37,149,39],[154,40,157,42],[154,43,157,47],[170,48,173,54],[174,37,177,47],[174,48,177,54],[170,17,173,18],[170,19,173,20],[158,17,161,18],[158,19,161,20],[158,21,161,36],[158,37,161,39],[158,40,161,42],[158,43,161,47],[158,48,161,54],[170,21,173,36],[170,37,173,39],[179,48,182,54],[185,19,188,32],[186,1,189,11],[186,12,189,13],[187,41,189,45],[192,37,195,40],[192,41,195,54],[162,40,165,42],[162,43,165,47],[162,21,165,36],[162,37,165,39],[187,46,189,48],[162,48,165,54],[166,17,169,18],[166,19,169,20],[166,21,169,36],[166,37,169,39],[166,40,169,42],[166,43,169,47],[166,48,169,54],[162,17,165,18],[162,19,165,20],[187,49,189,51],[187,52,189,54],[179,37,182,47],[170,40,173,42],[170,43,173,47],[198,48,201,54],[202,21,205,36],[202,37,205,39],[202,40,205,42],[202,43,205,47],[202,1,205,5],[202,6,205,15],[202,17,205,18],[202,19,205,20],[202,48,205,54],[198,1,201,5],[198,6,201,15],[198,17,201,20],[198,21,201,36],[198,37,201,39],[198,40,201,42],[198,43,201,47],[192,1,195,5],[192,6,195,11],[192,12,195,15],[192,16,195,35],[206,1,209,5],[206,6,209,15],[206,17,209,18],[206,19,209,20],[206,21,209,36],[206,37,209,39],[206,40,209,42],[206,43,209,47],[206,48,209,54],[210,21,213,36],[210,37,213,39],[210,40,213,42],[210,43,213,47],[210,1,213,5],[210,6,213,15],[210,17,213,18],[210,19,213,20],[210,48,213,54],[214,48,217,54],[218,1,221,5],[218,6,221,15],[218,17,221,18],[218,19,221,20],[218,21,221,36],[218,37,221,39],[218,40,221,42],[218,43,221,47],[218,48,221,54],[214,1,217,3],[214,4,217,5],[214,6,217,15],[214,17,217,18],[214,19,217,20],[214,21,217,36],[214,37,217,39],[214,40,217,42],[214,43,217,47],[222,40,225,42],[222,43,225,47],[222,21,225,36],[222,37,225,39],[230,40,233,42],[230,43,233,47],[230,48,233,54],[222,48,225,54],[226,17,229,18],[226,19,229,20],[226,21,229,36],[226,37,229,39],[226,40,229,42],[226,43,229,47],[226,48,229,54],[222,17,225,18],[222,19,225,20],[234,17,237,18],[234,19,237,20],[234,21,237,36],[234,37,237,39],[234,40,237,42],[234,43,237,47],[234,48,237,54],[230,17,233,18],[230,19,233,20],[230,21,233,36],[230,37,233,39],[242,17,245,18],[242,19,245,20],[242,21,245,36],[242,37,245,39],[242,40,245,42],[242,43,245,47],[242,48,245,54],[238,17,241,18],[238,19,241,20],[254,37,257,39],[238,40,241,42],[238,43,241,47],[238,21,241,36],[238,37,241,39],[246,40,249,42],[246,43,249,47],[246,48,249,54],[238,48,241,54],[250,17,253,18],[250,19,253,20],[250,21,253,36],[250,37,253,39],[250,40,253,42],[250,43,253,47],[250,48,253,54],[246,17,249,18],[246,19,249,20],[246,21,249,36],[246,37,249,39],[271,37,274,47],[254,48,257,54],[258,17,261,18],[258,19,261,20],[258,21,261,36],[258,37,261,39],[258,40,261,42],[258,43,261,47],[258,48,261,54],[254,17,257,18],[254,19,257,20],[271,48,274,54],[262,40,265,42],[262,43,265,47],[262,48,265,54],[266,37,269,47],[266,48,269,54],[262,17,265,18],[262,19,265,20],[262,21,265,36],[262,37,265,39],[254,40,257,42],[254,43,257,47],[254,21,257,36]]}
[]
[null,null,null,null,null,null,null,null,null,null,null,null,null,null,null,null,null,null,null,"請求書明細書 (正)"]
[null,"株 式 会 社 種 村 建 設",null,null,null,null,null,null,null,null,null,null,"御中"]
[null,null,null,null,null,null,null,null,null,null,null,null,null,null,null,null,null,null,null,null,null,null,null,null,null,null,null,null,null,null,null,null,null,null,null,null,null,null,null,null,null,"請求年月日",null,null,null,null,{"$f":"年","v":23},null,null,{"$f":"月","v":5},null,null,{"$f":"日","v":31}]
[]
[]
[]
[]
[null,"工事番号",null,null,null,null,null,null,null,null,null,null,"工事名",null,null,null,null,null,null,null,null,null,null,null,null,null,null,null,null,null,null,null,null,null,null,null,null,"業者名",null,null,null,{"$f":"社名","v":"例：㈱種村建設"}]
[]
[]
[]
[]
[]
[null,"注文番号",null,null,null,null,null,null,null,null,null,null,null,null,null,null,null,"月　日",null,null,null,"摘要･品名",null,null,null,null,null,null,null,null,null,null,null,null,null,null,null,"数 量",null,null,"単位",null,null,"単価",null,null,null,null,{"$f":"\"金額(\" & IF(税処理=2,\"税込\",\"税抜\")&\")\"","v":"金額(税抜)"}]
[]
[]
[]
[null,"契約金額",null,null,null,null,null,null,null,null,null,null,null,null,null,null,null,null,null,null,null,null,null,null,null,null,null,null,null,null,null,null,null,null,null,null,null,null,null,null,null,null,null,null,null,null,null,null,{"$f":"IF(V19=\"\",\"\",AL19*AR19)","v":""}]
[]
[]
[]
[null,"増減額",null,null,null,null,null,null,null,null,null,null,null,null,null,null,null,null,null,null,null,null,null,null,null,null,null,null,null,null,null,null,null,null,null,null,null,null,null,null,null,null,null,null,null,null,null,null,{"$f":"IF(V23=\"\",\"\",AL23*AR23)","v":""}]
[]
[]
[]
[null,"前回までの\n請求額",null,null,null,null,null,null,null,null,null,null,null,null,null,null,null,null,null,null,null,null,null,null,null,null,null,null,null,null,null,null,null,null,null,null,null,null,null,null,null,null,null,null,null,null,null,null,{"$f":"IF(V27=\"\",\"\",AL27*AR27)","v":""}]
[]
[]
[]
[null,"今回\n請求額",null,null,null,null,null,null,null,null,null,null,null,null,null,null,null,null,null,null,null,null,null,null,null,null,null,null,null,null,null,null,null,null,null,null,null,null,null,null,null,null,null,null,null,null,null,null,{"$f":"IF(V31=\"\",\"\",AL31*AR31)","v":""}]
[]
[]
[]
[null,"差引残高",null,null,null,null,{"$f":"IF(G19=\"\",\"\",G19+G23-G27-G31)","v":""},null,null,null,null,null,null,null,null,null,null,null,null,null,null,null,null,null,null,null,null,null,null,null,null,null,null,null,null,null,null,null,null,null,null,null,null,null,null,null,null,null,{"$f":"IF(V35=\"\",\"\",AL35*AR35)","v":""}]
[]
[]
[]
[null,null,null,null,null,null,null,null,null,null,null,null,null,null,null,null,null,null,null,null,null,null,null,null,null,null,null,null,null,null,null,null,null,null,null,null,null,null,null,null,null,null,null,null,null,null,null,null,{"$f":"IF(V39=\"\",\"\",AL39*AR39)","v":""}]
[]
[]
[]
[null,null,null,null,null,null,null,null,null,null,null,null,null,null,null,null,null,null,null,null,null,null,null,null,null,null,null,null,null,null,null,null,null,null,null,null,null,null,null,null,null,null,null,null,null,null,null,null,{"$f":"IF(V43=\"\",\"\",AL43*AR43)","v":""}]
[]
[]
[]
[null,null,null,null,null,null,null,null,null,null,null,null,null,null,null,null,null,null,null,null,null,null,null,null,null,null,null,null,null,null,null,null,null,null,null,null,null,null,null,null,null,null,null,null,null,null,null,null,{"$f":"IF(V47=\"\",\"\",AL47*AR47)","v":""}]
[]
[]
[]
[null,null,null,null,null,null,null,null,null,null,null,null,null,null,null,null,null,null,null,null,null,null,null,null,null,null,null,null,null,null,null,null,null,null,null,null,null,null,null,null,null,null,null,null,null,null,null,null,{"$f":"IF(V51=\"\",\"\",AL51*AR51)","v":""}]
[]
[]
[]
[null,null,null,null,null,null,null,null,null,null,null,null,null,null,null,null,null,null,null,null,null,null,null,null,null,null,null,null,null,null,null,null,null,null,null,null,null,null,null,null,null,null,null,null,null,null,null,null,{"$f":"IF(V55=\"\",\"\",AL55*AR55)","v":""}]
[]
[]
[]
[null,null,null,null,null,null,null,null,null,null,null,null,null,null,null,null,null,null,null,null,null,null,null,null,null,null,null,null,null,null,null,null,null,null,null,null,null,null,null,null,null,null,null,null,null,null,null,null,{"$f":"IF(V59=\"\",\"\",AL59*AR59)","v":""}]
[]
[]
[]
[null,null,null,null,null,null,null,null,null,null,null,null,null,null,null,null,null,null,null,null,null,null,null,null,null,null,null,null,null,null,null,null,null,null,null,null,null,null,null,null,null,null,null,null,null,null,null,null,{"$f":"IF(V63=\"\",\"\",AL63*AR63)","v":""}]
[]
[]
[]
[null,null,null,null,null,null,null,null,null,null,null,null,null,null,null,null,null,null,null,null,null,null,null,null,null,null,null,null,null,null,null,null,null,null,null,null,null,null,null,null,null,null,null,null,null,null,null,null,{"$f":"IF(V67=\"\",\"\",AL67*AR67)","v":""}]
[]
[]
[]
[null,null,null,null,null,null,null,null,null,null,null,null,null,null,null,null,null,null,null,null,null,null,null,null,null,null,null,null,null,null,null,null,null,null,null,null,null,null,null,null,null,null,null,null,null,null,null,null,{"$f":"IF(V71=\"\",\"\",AL71*AR71)","v":""}]
[]
[]
[]
[null,null,null,null,null,null,null,null,null,null,null,null,null,null,null,null,null,null,null,null,null,null,null,null,null,null,null,null,null,null,null,null,null,null,null,null,null,null,null,null,null,null,null,null,null,null,null,null,{"$f":"IF(V75=\"\",\"\",AL75*AR75)","v":""}]
[]
[]
[]
[null,null,null,null,null,null,null,null,null,null,null,null,null,null,null,null,null,null,null,null,null,null,null,null,null,null,null,null,null,null,null,null,null,null,null,null,null,null,null,null,null,null,null,null,null,null,null,null,{"$f":"IF(V79=\"\",\"\",AL79*AR79)","v":""}]
[]
[]
[]
[null,null,null,null,null,null,null,null,null,null,null,null,null,null,null,null,null,null,null,null,null,null,null,null,null,null,null,null,null,null,null,null,null,null,null,null,null,"値引き等"]
[null,"社長",null,null,null,"専務",null,null,null,null,null,"常務",null,null,null,null,null,"部長･工場長",null,null,null,null,null,null,null,null,"担当者",null,null,null,null,"受付"]
[]
[]
[]
[null,null,null,null,null,null,null,null,null,null,null,null,null,null,null,null,null,null,null,null,null,null,null,null,null,null,null,null,null,null,null,null,null,null,null,null,null,{"$f":"\"合計(\" & IF(税処理=2,\"税込\",\"税抜\")&\")\"","v":"合計(税抜)"},null,null,null,null,null,null,null,null,null,null,{"$f":"IF(AW19=\"\",\"\",SUM(AW19:AW79)+AW83)","v":""}]
[]
[]
[]
[]
[]
[null,null,null,null,null,null,null,null,null,null,null,null,null,null,null,null,null,null,null,"請求明細書 (現場控)"]
[null,"株 式 会 社 種 村 建 設",null,null,null,null,null,null,null,null,null,null,"御中"]
[null,null,null,null,null,null,null,null,null,null,null,null,null,null,null,null,null,null,null,null,null,null,null,null,null,null,null,null,null,null,null,null,null,null,null,null,null,null,null,null,null,"請求年月日",null,null,null,null,{"$f":"IF(AU4=\"\",\"\",AU4)","v":23},null,null,{"$f":"IF(AX4=\"\",\"\",AX4)","v":5},null,null,{"$f":"IF(BA4=\"\",\"\",BA4)","v":31}]
[]
[]
[]
[]
[null,"工事番号",null,null,null,null,{"$f":"IF(G9=\"\",\"\",G9)","v":""},null,null,null,null,null,"工事名",null,null,null,{"$f":"IF(Q9=\"\",\"\",Q9)","v":""},null,null,null,null,null,null,null,null,null,null,null,null,null,null,null,null,null,null,null,null,"業者名",null,null,null,{"$f":"IF(AP9=\"\",\"\",AP9)","v":"例：㈱種村建設"}]
[]
[]
[]
[]
[]
[null,"注文番号",null,null,null,null,{"$f":"IF(G15=\"\",\"\",G15)","v":""},null,null,null,null,null,null,null,null,null,null,"月　日",null,null,null,"摘要･品名",null,null,null,null,null,null,null,null,null,null,null,null,null,null,null,"数 量",null,null,"単位",null,null,"単価",null,null,null,null,{"$f":"\"金額(\" & IF(税処理=2,\"税込\",\"税抜\")&\")\"","v":"金額(税抜)"}]
[]
[]
[]
[null,"契約金額",null,null,null,null,{"$f":"IF(G19=\"\",\"\",G19)","v":""},null,null,null,null,null,null,null,null,null,null,{"$f":"IF(R19=\"\",\"\",R19)","v":""},null,{"$f":"IF(T19=\"\",\"\",T19)","v":""},null,{"$f":"IF(V19=\"\",\"\",V19)","v":""},null,{"$f":"IF(X19=\"\",\"\",X19)","v":""},null,{"$f":"IF(Z19=\"\",\"\",Z19)","v":""},null,{"$f":"IF(AB19=\"\",\"\",AB19)","v":""},null,{"$f":"IF(AD19=\"\",\"\",AD19)","v":""},null,{"$f":"IF(AF19=\"\",\"\",AF19)","v":""},null,{"$f":"IF(AH19=\"\",\"\",AH19)","v":""},null,{"$f":"IF(AJ19=\"\",\"\",AJ19)","v":""},null,{"$f":"IF(AL19=\"\",\"\",AL19)","v":""},null,null,{"$f":"IF(AO19=\"\",\"\",AO19)","v":""},null,null,{"$f":"IF(AR19=\"\",\"\",AR19)","v":""},null,null,null,null,{"$f":"IF(AW19=\"\",\"\",AW19)","v":""}]
[]
[]
[]
[null,"増減額",null,null,null,null,{"$f":"IF(G23=\"\",\"\",G23)","v":""},null,null,null,null,null,null,null,null,null,null,{"$f":"IF(R23=\"\",\"\",R23)","v":""},null,{"$f":"IF(T23=\"\",\"\",T23)","v":""},null,{"$f":"IF(V23=\"\",\"\",V23)","v":""},null,{"$f":"IF(X23=\"\",\"\",X23)","v":""},null,{"$f":"IF(Z23=\"\",\"\",Z23)","v":""},null,{"$f":"IF(AB23=\"\",\"\",AB23)","v":""},null,{"$f":"IF(AD23=\"\",\"\",AD23)","v":""},null,{"$f":"IF(AF23=\"\",\"\",AF23)","v":""},null,{"$f":"IF(AH23=\"\",\"\",AH23)","v":""},null,{"$f":"IF(AJ23=\"\",\"\",AJ23)","v":""},null,{"$f":"IF(AL23=\"\",\"\",AL23)","v":""},null,null,{"$f":"IF(AO23=\"\",\"\",AO23)","v":""},null,null,{"$f":"IF(AR23=\"\",\"\",AR23)","v":""},null,null,null,null,{"$f":"IF(AW23=\"\",\"\",AW23)","v":""}]
[]
[]
[]
[null,"前回までの\n請求額",null,null,null,null,{"$f":"IF(G27=\"\",\"\",G27)","v":""},null,null,null,null,null,null,null,null,null,null,{"$f":"IF(R27=\"\",\"\",R27)","v":""},null,{"$f":"IF(T27=\"\",\"\",T27)","v":""},null,{"$f":"IF(V27=\"\",\"\",V27)","v":""},null,{"$f":"IF(X27=\"\",\"\",X27)","v":""},null,{"$f":"IF(Z27=\"\",\"\",Z27)","v":""},null,{"$f":"IF(AB27=\"\",\"\",AB27)","v":""},null,{"$f":"IF(AD27=\"\",\"\",AD27)","v":""},null,{"$f":"IF(AF27=\"\",\"\",AF27)","v":""},null,{"$f":"IF(AH27=\"\",\"\",AH27)","v":""},null,{"$f":"IF(AJ27=\"\",\"\",AJ27)","v":""},null,{"$f":"IF(AL27=\"\",\"\",AL27)","v":""},null,null,{"$f":"IF(AO27=\"\",\"\",AO27)","v":""},null,null,{"$f":"IF(AR27=\"\",\"\",AR27)","v":""},null,null,null,null,{"$f":"IF(AW27=\"\",\"\",AW27)","v":""}]
[]
[]
[]
[null,"今回\n請求額",null,null,{"$f":"IF(E31=\"\",\"\",E31)","v":""},null,{"$f":"IF(G31=\"\",\"\",G31)","v":""},null,null,null,null,null,null,null,null,null,null,{"$f":"IF(R31=\"\",\"\",R31)","v":""},null,{"$f":"IF(T31=\"\",\"\",T31)","v":""},null,{"$f":"IF(V31=\"\",\"\",V31)","v":""},null,{"$f":"IF(X31=\"\",\"\",X31)","v":""},null,{"$f":"IF(Z31=\"\",\"\",Z31)","v":""},null,{"$f":"IF(AB31=\"\",\"\",AB31)","v":""},null,{"$f":"IF(AD31=\"\",\"\",AD31)","v":""},null,{"$f":"IF(AF31=\"\",\"\",AF31)","v":""},null,{"$f":"IF(AH31=\"\",\"\",AH31)","v":""},null,{"$f":"IF(AJ31=\"\",\"\",AJ31)","v":""},null,{"$f":"IF(AL31=\"\",\"\",AL31)","v":""},null,null,{"$f":"IF(AO31=\"\",\"\",AO31)","v":""},null,null,{"$f":"IF(AR31=\"\",\"\",AR31)","v":""},null,null,null,null,{"$f":"IF(AW31=\"\",\"\",AW31)","v":""}]
[]
[]
[]
[null,"差引残高",null,null,null,null,{"$f":"IF(G111=\"\",\"\",G111+G115-G119-G123)","v":""},null,null,null,null,null,null,null,null,null,null,{"$f":"IF(R35=\"\",\"\",R35)","v":""},null,{"$f":"IF(T35=\"\",\"\",T35)","v":""},null,{"$f":"IF(V35=\"\",\"\",V35)","v":""},null,{"$f":"IF(X35=\"\",\"\",X35)","v":""},null,{"$f":"IF(Z35=\"\",\"\",Z35)","v":""},null,{"$f":"IF(AB35=\"\",\"\",AB35)","v":""},null,{"$f":"IF(AD35=\"\",\"\",AD35)","v":""},null,{"$f":"IF(AF35=\"\",\"\",AF35)","v":""},null,{"$f":"IF(AH35=\"\",\"\",AH35)","v":""},null,{"$f":"IF(AJ35=\"\",\"\",AJ35)","v":""},null,{"$f":"IF(AL35=\"\",\"\",AL35)","v":""},null,null,{"$f":"IF(AO35=\"\",\"\",AO35)","v":""},null,null,{"$f":"IF(AR35=\"\",\"\",AR35)","v":""},null,null,null,null,{"$f":"IF(AW35=\"\",\"\",AW35)","v":""}]
[]
[]
[]
[null,null,null,null,null,null,null,null,null,null,null,null,null,null,null,null,null,{"$f":"IF(R39=\"\",\"\",R39)","v":""},null,{"$f":"IF(T39=\"\",\"\",T39)","v":""},null,{"$f":"IF(V39=\"\",\"\",V39)","v":""},null,{"$f":"IF(X39=\"\",\"\",X39)","v":""},null,{"$f":"IF(Z39=\"\",\"\",Z39)","v":""},null,{"$f":"IF(AB39=\"\",\"\",AB39)","v":""},null,{"$f":"IF(AD39=\"\",\"\",AD39)","v":""},null,{"$f":"IF(AF39=\"\",\"\",AF39)","v":""},null,{"$f":"IF(AH39=\"\",\"\",AH39)","v":""},null,{"$f":"IF(AJ39=\"\",\"\",AJ39)","v":""},null,{"$f":"IF(AL39=\"\",\"\",AL39)","v":""},null,null,{"$f":"IF(AO39=\"\",\"\",AO39)","v":""},null,null,{"$f":"IF(AR39=\"\",\"\",AR39)","v":""},null,null,null,null,{"$f":"IF(AW39=\"\",\"\",AW39)","v":""}]
[]
[]
[]
[null,null,null,null,null,null,null,null,null,null,null,null,null,null,null,null,null,{"$f":"IF(R43=\"\",\"\",R43)","v":""},null,{"$f":"IF(T43=\"\",\"\",T43)","v":""},null,{"$f":"IF(V43=\"\",\"\",V43)","v":""},null,{"$f":"IF(X43=\"\",\"\",X43)","v":""},null,{"$f":"IF(Z43=\"\",\"\",Z43)","v":""},null,{"$f":"IF(AB43=\"\",\"\",AB43)","v":""},null,{"$f":"IF(AD43=\"\",\"\",AD43)","v":""},null,{"$f":"IF(AF43=\"\",\"\",AF43)","v":""},null,{"$f":"IF(AH43=\"\",\"\",AH43)","v":""},null,{"$f":"IF(AJ43=\"\",\"\",AJ43)","v":""},null,{"$f":"IF(AL43=\"\",\"\",AL43)","v":""},null,null,{"$f":"IF(AO43=\"\",\"\",AO43)","v":""},null,null,{"$f":"IF(AR43=\"\",\"\",AR43)","v":""},null,null,null,null,{"$f":"IF(AW43=\"\",\"\",AW43)","v":""}]
[]
[]
[]
[null,null,null,null,null,null,null,null,null,null,null,null,null,null,null,null,null,{"$f":"IF(R47=\"\",\"\",R47)","v":""},null,{"$f":"IF(T47=\"\",\"\",T47)","v":""},null,{"$f":"IF(V47=\"\",\"\",V47)","v":""},null,{"$f":"IF(X47=\"\",\"\",X47)","v":""},null,{"$f":"IF(Z47=\"\",\"\",Z47)","v":""},null,{"$f":"IF(AB47=\"\",\"\",AB47)","v":""},null,{"$f":"IF(AD47=\"\",\"\",AD47)","v":""},null,{"$f":"IF(AF47=\"\",\"\",AF47)","v":""},null,{"$f":"IF(AH47=\"\",\"\",AH47)","v":""},null,{"$f":"IF(AJ47=\"\",\"\",AJ47)","v":""},null,{"$f":"IF(AL47=\"\",\"\",AL47)","v":""},null,null,{"$f":"IF(AO47=\"\",\"\",AO47)","v":""},null,null,{"$f":"IF(AR47=\"\",\"\",AR47)","v":""},null,null,null,null,{"$f":"IF(AW47=\"\",\"\",AW47)","v":""}]
[]
[]
[]
[null,null,null,null,null,null,null,null,null,null,null,null,null,null,null,null,null,{"$f":"IF(R51=\"\",\"\",R51)","v":""},null,{"$f":"IF(T51=\"\",\"\",T51)","v":""},null,{"$f":"IF(V51=\"\",\"\",V51)","v":""},null,{"$f":"IF(X51=\"\",\"\",X51)","v":""},null,{"$f":"IF(Z51=\"\",\"\",Z51)","v":""},null,{"$f":"IF(AB51=\"\",\"\",AB51)","v":""},null,{"$f":"IF(AD51=\"\",\"\",AD51)","v":""},null,{"$f":"IF(AF51=\"\",\"\",AF51)","v":""},null,{"$f":"IF(AH51=\"\",\"\",AH51)","v":""},null,{"$f":"IF(AJ51=\"\",\"\",AJ51)","v":""},null,{"$f":"IF(AL51=\"\",\"\",AL51)","v":""},null,null,{"$f":"IF(AO51=\"\",\"\",AO51)","v":""},null,null,{"$f":"IF(AR51=\"\",\"\",AR51)","v":""},null,null,null,null,{"$f":"IF(AW51=\"\",\"\",AW51)","v":""}]
[]
[]
[]
[null,null,null,null,null,null,null,null,null,null,null,null,null,null,null,null,null,{"$f":"IF(R55=\"\",\"\",R55)","v":""},null,{"$f":"IF(T55=\"\",\"\",T55)","v":""},null,{"$f":"IF(V55=\"\",\"\",V55)","v":""},null,{"$f":"IF(X55=\"\",\"\",X55)","v":""},null,{"$f":"IF(Z55=\"\",\"\",Z55)","v":""},null,{"$f":"IF(AB55=\"\",\"\",AB55)","v":""},null,{"$f":"IF(AD55=\"\",\"\",AD55)","v":""},null,{"$f":"IF(AF55=\"\",\"\",AF55)","v":""},null,{"$f":"IF(AH55=\"\",\"\",AH55)","v":""},null,{"$f":"IF(AJ55=\"\",\"\",AJ55)","v":""},null,{"$f":"IF(AL55=\"\",\"\",AL55)","v":""},null,null,{"$f":"IF(AO55=\"\",\"\",AO55)","v":""},null,null,{"$f":"IF(AR55=\"\",\"\",AR55)","v":""},null,null,null,null,{"$f":"IF(AW55=\"\",\"\",AW55)","v":""}]
[]
[]
[]
[null,null,null,null,null,null,null,null,null,null,null,null,null,null,null,null,null,{"$f":"IF(R59=\"\",\"\",R59)","v":""},null,{"$f":"IF(T59=\"\",\"\",T59)","v":""},null,{"$f":"IF(V59=\"\",\"\",V59)","v":""},null,{"$f":"IF(X59=\"\",\"\",X59)","v":""},null,{"$f":"IF(Z59=\"\",\"\",Z59)","v":""},null,{"$f":"IF(AB59=\"\",\"\",AB59)","v":""},null,{"$f":"IF(AD59=\"\",\"\",AD59)","v":""},null,{"$f":"IF(AF59=\"\",\"\",AF59)","v":""},null,{"$f":"IF(AH59=\"\",\"\",AH59)","v":""},null,{"$f":"IF(AJ59=\"\",\"\",AJ59)","v":""},null,{"$f":"IF(AL59=\"\",\"\",AL59)","v":""},null,null,{"$f":"IF(AO59=\"\",\"\",AO59)","v":""},null,null,{"$f":"IF(AR59=\"\",\"\",AR59)","v":""},null,null,null,null,{"$f":"IF(AW59=\"\",\"\",AW59)","v":""}]
[]
[]
[]
[null,null,null,null,null,null,null,null,null,null,null,null,null,null,null,null,null,{"$f":"IF(R63=\"\",\"\",R63)","v":""},null,{"$f":"IF(T63=\"\",\"\",T63)","v":""},null,{"$f":"IF(V63=\"\",\"\",V63)","v":""},null,{"$f":"IF(X63=\"\",\"\",X63)","v":""},null,{"$f":"IF(Z63=\"\",\"\",Z63)","v":""},null,{"$f":"IF(AB63=\"\",\"\",AB63)","v":""},null,{"$f":"IF(AD63=\"\",\"\",AD63)","v":""},null,{"$f":"IF(AF63=\"\",\"\",AF63)","v":""},null,{"$f":"IF(AH63=\"\",\"\",AH63)","v":""},null,{"$f":"IF(AJ63=\"\",\"\",AJ63)","v":""},null,{"$f":"IF(AL63=\"\",\"\",AL63)","v":""},null,null,{"$f":"IF(AO63=\"\",\"\",AO63)","v":""},null,null,{"$f":"IF(AR63=\"\",\"\",AR63)","v":""},null,null,null,null,{"$f":"IF(AW63=\"\",\"\",AW63)","v":""}]
[]
[]
[]
[null,null,null,null,null,null,null,null,null,null,null,null,null,null,null,null,null,{"$f":"IF(R67=\"\",\"\",R67)","v":""},null,{"$f":"IF(T67=\"\",\"\",T67)","v":""},null,{"$f":"IF(V67=\"\",\"\",V67)","v":""},null,{"$f":"IF(X67=\"\",\"\",X67)","v":""},null,{"$f":"IF(Z67=\"\",\"\",Z67)","v":""},null,{"$f":"IF(AB67=\"\",\"\",AB67)","v":""},null,{"$f":"IF(AD67=\"\",\"\",AD67)","v":""},null,{"$f":"IF(AF67=\"\",\"\",AF67)","v":""},null,{"$f":"IF(AH67=\"\",\"\",AH67)","v":""},null,{"$f":"IF(AJ67=\"\",\"\",AJ67)","v":""},null,{"$f":"IF(AL67=\"\",\"\",AL67)","v":""},null,null,{"$f":"IF(AO67=\"\",\"\",AO67)","v":""},null,null,{"$f":"IF(AR67=\"\",\"\",AR67)","v":""},null,null,null,null,{"$f":"IF(AW67=\"\",\"\",AW67)","v":""}]
[]
[]
[]
[null,null,null,null,null,null,null,null,null,null,null,null,null,null,null,null,null,{"$f":"IF(R71=\"\",\"\",R71)","v":""},null,{"$f":"IF(T71=\"\",\"\",T71)","v":""},null,{"$f":"IF(V71=\"\",\"\",V71)","v":""},null,{"$f":"IF(X71=\"\",\"\",X71)","v":""},null,{"$f":"IF(Z71=\"\",\"\",Z71)","v":""},null,{"$f":"IF(AB71=\"\",\"\",AB71)","v":""},null,{"$f":"IF(AD71=\"\",\"\",AD71)","v":""},null,{"$f":"IF(AF71=\"\",\"\",AF71)","v":""},null,{"$f":"IF(AH71=\"\",\"\",AH71)","v":""},null,{"$f":"IF(AJ71=\"\",\"\",AJ71)","v":""},null,{"$f":"IF(AL71=\"\",\"\",AL71)","v":""},null,null,{"$f":"IF(AO71=\"\",\"\",AO71)","v":""},null,null,{"$f":"IF(AR71=\"\",\"\",AR71)","v":""},null,null,null,null,{"$f":"IF(AW71=\"\",\"\",AW71)","v":""}]
[]
[]
[]
[null,null,null,null,null,null,null,null,null,null,null,null,null,null,null,null,null,{"$f":"IF(R75=\"\",\"\",R75)","v":""},null,{"$f":"IF(T75=\"\",\"\",T75)","v":""},null,{"$f":"IF(V75=\"\",\"\",V75)","v":""},null,{"$f":"IF(X75=\"\",\"\",X75)","v":""},null,{"$f":"IF(Z75=\"\",\"\",Z75)","v":""},null,{"$f":"IF(AB75=\"\",\"\",AB75)","v":""},null,{"$f":"IF(AD75=\"\",\"\",AD75)","v":""},null,{"$f":"IF(AF75=\"\",\"\",AF75)","v":""},null,{"$f":"IF(AH75=\"\",\"\",AH75)","v":""},null,{"$f":"IF(AJ75=\"\",\"\",AJ75)","v":""},null,{"$f":"IF(AL75=\"\",\"\",AL75)","v":""},null,null,{"$f":"IF(AO75=\"\",\"\",AO75)","v":""},null,null,{"$f":"IF(AR75=\"\",\"\",AR75)","v":""},null,null,null,null,{"$f":"IF(AW75=\"\",\"\",AW75)","v":""}]
[]
[]
[]
[null,null,null,null,null,null,null,null,null,null,null,null,null,null,null,null,null,{"$f":"IF(R79=\"\",\"\",R79)","v":""},null,{"$f":"IF(T79=\"\",\"\",T79)","v":""},null,{"$f":"IF(V79=\"\",\"\",V79)","v":""},null,{"$f":"IF(X79=\"\",\"\",X79)","v":""},null,{"$f":"IF(Z79=\"\",\"\",Z79)","v":""},null,{"$f":"IF(AB79=\"\",\"\",AB79)","v":""},null,{"$f":"IF(AD79=\"\",\"\",AD79)","v":""},null,{"$f":"IF(AF79=\"\",\"\",AF79)","v":""},null,{"$f":"IF(AH79=\"\",\"\",AH79)","v":""},null,{"$f":"IF(AJ79=\"\",\"\",AJ79)","v":""},null,{"$f":"IF(AL79=\"\",\"\",AL79)","v":""},null,null,{"$f":"IF(AO79=\"\",\"\",AO79)","v":""},null,null,{"$f":"IF(AR79=\"\",\"\",AR79)","v":""},null,null,null,null,{"$f":"IF(AW79=\"\",\"\",AW79)","v":""}]
[]
[]
[]
[null,null,null,null,null,null,null,null,null,null,null,null,null,null,null,null,null,null,null,null,null,null,null,null,null,null,null,null,null,null,null,null,null,null,null,null,null,"値引き等",null,null,null,null,null,null,null,null,null,null,{"$f":"IF(AW83=\"\",\"\",AW83)","v":""}]
[]
[]
[]
[]
[null,null,null,null,null,null,null,null,null,null,null,null,null,null,null,null,null,null,null,null,null,null,null,null,null,null,null,null,null,null,null,null,null,null,null,null,null,{"$f":"\"合計(\" & IF(税処理=2,\"税込\",\"税抜\")&\")\"","v":"合計(税抜)"},null,null,null,null,null,null,null,null,null,null,{"$f":"IF(AW88=\"\",\"\",AW88)","v":""}]
[]
[]
[]
[]
[]
[null,null,null,null,null,null,null,null,null,null,null,null,null,null,null,null,null,null,null,"請求明細書 (貴社控)"]
[null,"株 式 会 社 種 村 建 設",null,null,null,null,null,null,null,null,null,null,"御中"]
[null,null,null,null,null,null,null,null,null,null,null,null,null,null,null,null,null,null,null,null,null,null,null,null,null,null,null,null,null,null,null,null,null,null,null,null,null,null,null,null,null,"請求年月日",null,null,null,null,{"$f":"IF(AU96=\"\",\"\",AU96)","v":23},null,null,{"$f":"IF(AX96=\"\",\"\",AX96)","v":5},null,null,{"$f":"IF(BA96=\"\",\"\",BA96)","v":31}]
[]
[]
[]
[]
[null,"工事番号",null,null,null,null,{"$f":"IF(G101=\"\",\"\",G101)","v":""},null,null,null,null,null,"工事名",null,null,null,{"$f":"IF(Q101=\"\",\"\",Q101)","v":""},null,null,null,null,null,null,null,null,null,null,null,null,null,null,null,null,null,null,null,null,"業者名",null,null,null,{"$f":"IF(AP101=\"\",\"\",AP101)","v":"例：㈱種村建設"}]
[]
[]
[]
[]
[]
[null,"注文番号",null,null,null,null,{"$f":"IF(G107=\"\",\"\",G107)","v":""},null,null,null,null,null,null,null,null,null,null,"月　日",null,null,null,"摘要･品名",null,null,null,null,null,null,null,null,null,null,null,null,null,null,null,"数 量",null,null,"単位",null,null,"単価",null,null,null,null,{"$f":"\"金額(\" & IF(税処理=2,\"税込\",\"税抜\")&\")\"","v":"金額(税抜)"}]
[]
[]
[]
[null,"契約金額",null,null,null,null,{"$f":"IF(G111=\"\",\"\",G111)","v":""},null,null,null,null,null,null,null,null,null,null,{"$f":"IF(R111=\"\",\"\",R111)","v":""},null,{"$f":"IF(T111=\"\",\"\",T111)","v":""},null,{"$f":"IF(V111=\"\",\"\",V111)","v":""},null,{"$f":"IF(X111=\"\",\"\",X111)","v":""},null,{"$f":"IF(Z111=\"\",\"\",Z111)","v":""},null,{"$f":"IF(AB111=\"\",\"\",AB111)","v":""},null,{"$f":"IF(AD111=\"\",\"\",AD111)","v":""},null,{"$f":"IF(AF111=\"\",\"\",AF111)","v":""},null,{"$f":"IF(AH111=\"\",\"\",AH111)","v":""},null,{"$f":"IF(AJ111=\"\",\"\",AJ111)","v":""},null,{"$f":"IF(AL111=\"\",\"\",AL111)","v":""},null,null,{"$f":"IF(AO111=\"\",\"\",AO111)","v":""},null,null,{"$f":"IF(AR111=\"\",\"\",AR111)","v":""},null,null,null,null,{"$f":"IF(AW111=\"\",\"\",AW111)","v":""}]
[]
[]
[]
[null,"増減額",null,null,null,null,{"$f":"IF(G115=\"\",\"\",G115)","v":""},null,null,null,null,null,null,null,null,null,null,{"$f":"IF(R115=\"\",\"\",R115)","v":""},null,{"$f":"IF(T115=\"\",\"\",T115)","v":""},null,{"$f":"IF(V115=\"\",\"\",V115)","v":""},null,{"$f":"IF(X115=\"\",\"\",X115)","v":""},null,{"$f":"IF(Z115=\"\",\"\",Z115)","v":""},null,{"$f":"IF(AB115=\"\",\"\",AB115)","v":""},null,{"$f":"IF(AD115=\"\",\"\",AD115)","v":""},null,{"$f":"IF(AF115=\"\",\"\",AF115)","v":""},null,{"$f":"IF(AH115=\"\",\"\",AH115)","v":""},null,{"$f":"IF(AJ115=\"\",\"\",AJ115)","v":""},null,{"$f":"IF(AL115=\"\",\"\",AL115)","v":""},null,null,{"$f":"IF(AO115=\"\",\"\",AO115)","v":""},null,null,{"$f":"IF(AR115=\"\",\"\",AR115)","v":""},null,null,null,null,{"$f":"IF(AW115=\"\",\"\",AW115)","v":""}]
[]
[]
[]
[null,"前回までの\n請求額",null,null,null,null,{"$f":"IF(G119=\"\",\"\",G119)","v":""},null,null,null,null,null,null,null,null,null,null,{"$f":"IF(R119=\"\",\"\",R119)","v":""},null,{"$f":"IF(T119=\"\",\"\",T119)","v":""},null,{"$f":"IF(V119=\"\",\"\",V119)","v":""},null,{"$f":"IF(X119=\"\",\"\",X119)","v":""},null,{"$f":"IF(Z119=\"\",\"\",Z119)","v":""},null,{"$f":"IF(AB119=\"\",\"\",AB119)","v":""},null,{"$f":"IF(AD119=\"\",\"\",AD119)","v":""},null,{"$f":"IF(AF119=\"\",\"\",AF119)","v":""},null,{"$f":"IF(AH119=\"\",\"\",AH119)","v":""},null,{"$f":"IF(AJ119=\"\",\"\",AJ119)","v":""},null,{"$f":"IF(AL119=\"\",\"\",AL119)","v":""},null,null,{"$f":"IF(AO119=\"\",\"\",AO119)","v":""},null,null,{"$f":"IF(AR119=\"\",\"\",AR119)","v":""},null,null,null,null,{"$f":"IF(AW119=\"\",\"\",AW119)","v":""}]
[]
[]
[]
[null,"今回\n請求額",null,null,{"$f":"IF(E31=\"\",\"\",E31)","v":""},null,{"$f":"IF(G123=\"\",\"\",G123)","v":""},null,null,null,null,null,null,null,null,null,null,{"$f":"IF(R123=\"\",\"\",R123)","v":""},null,{"$f":"IF(T123=\"\",\"\",T123)","v":""},null,{"$f":"IF(V123=\"\",\"\",V123)","v":""},null,{"$f":"IF(X123=\"\",\"\",X123)","v":""},null,{"$f":"IF(Z123=\"\",\"\",Z123)","v":""},null,{"$f":"IF(AB123=\"\",\"\",AB123)","v":""},null,{"$f":"IF(AD123=\"\",\"\",AD123)","v":""},null,{"$f":"IF(AF123=\"\",\"\",AF123)","v":""},null,{"$f":"IF(AH123=\"\",\"\",AH123)","v":""},null,{"$f":"IF(AJ123=\"\",\"\",AJ123)","v":""},null,{"$f":"IF(AL123=\"\",\"\",AL123)","v":""},null,null,{"$f":"IF(AO123=\"\",\"\",AO123)","v":""},null,null,{"$f":"IF(AR123=\"\",\"\",AR123)","v":""},null,null,null,null,{"$f":"IF(AW123=\"\",\"\",AW123)","v":""}]
[]
[]
[]
[null,"差引残高",null,null,null,null,{"$f":"IF(G203=\"\",\"\",G203+G207-G211-G215)","v":""},null,null,null,null,null,null,null,null,null,null,{"$f":"IF(R127=\"\",\"\",R127)","v":""},null,{"$f":"IF(T127=\"\",\"\",T127)","v":""},null,{"$f":"IF(V127=\"\",\"\",V127)","v":""},null,{"$f":"IF(X127=\"\",\"\",X127)","v":""},null,{"$f":"IF(Z127=\"\",\"\",Z127)","v":""},null,{"$f":"IF(AB127=\"\",\"\",AB127)","v":""},null,{"$f":"IF(AD127=\"\",\"\",AD127)","v":""},null,{"$f":"IF(AF127=\"\",\"\",AF127)","v":""},null,{"$f":"IF(AH127=\"\",\"\",AH127)","v":""},null,{"$f":"IF(AJ127=\"\",\"\",AJ127)","v":""},null,{"$f":"IF(AL127=\"\",\"\",AL127)","v":""},null,null,{"$f":"IF(AO127=\"\",\"\",AO127)","v":""},null,null,{"$f":"IF(AR127=\"\",\"\",AR127)","v":""},null,null,null,null,{"$f":"IF(AW127=\"\",\"\",AW127)","v":""}]
[]
[]
[]
[null,null,null,null,null,null,null,null,null,null,null,null,null,null,null,null,null,{"$f":"IF(R131=\"\",\"\",R131)","v":""},null,{"$f":"IF(T131=\"\",\"\",T131)","v":""},null,{"$f":"IF(V131=\"\",\"\",V131)","v":""},null,{"$f":"IF(X131=\"\",\"\",X131)","v":""},null,{"$f":"IF(Z131=\"\",\"\",Z131)","v":""},null,{"$f":"IF(AB131=\"\",\"\",AB131)","v":""},null,{"$f":"IF(AD131=\"\",\"\",AD131)","v":""},null,{"$f":"IF(AF131=\"\",\"\",AF131)","v":""},null,{"$f":"IF(AH131=\"\",\"\",AH131)","v":""},null,{"$f":"IF(AJ131=\"\",\"\",AJ131)","v":""},null,{"$f":"IF(AL131=\"\",\"\",AL131)","v":""},null,null,{"$f":"IF(AO131=\"\",\"\",AO131)","v":""},null,null,{"$f":"IF(AR131=\"\",\"\",AR131)","v":""},null,null,null,null,{"$f":"IF(AW131=\"\",\"\",AW131)","v":""}]
[]
[]
[]
[null,null,null,null,null,null,null,null,null,null,null,null,null,null,null,null,null,{"$f":"IF(R135=\"\",\"\",R135)","v":""},null,{"$f":"IF(T135=\"\",\"\",T135)","v":""},null,{"$f":"IF(V135=\"\",\"\",V135)","v":""},null,{"$f":"IF(X135=\"\",\"\",X135)","v":""},null,{"$f":"IF(Z135=\"\",\"\",Z135)","v":""},null,{"$f":"IF(AB135=\"\",\"\",AB135)","v":""},null,{"$f":"IF(AD135=\"\",\"\",AD135)","v":""},null,{"$f":"IF(AF135=\"\",\"\",AF135)","v":""},null,{"$f":"IF(AH135=\"\",\"\",AH135)","v":""},null,{"$f":"IF(AJ135=\"\",\"\",AJ135)","v":""},null,{"$f":"IF(AL135=\"\",\"\",AL135)","v":""},null,null,{"$f":"IF(AO135=\"\",\"\",AO135)","v":""},null,null,{"$f":"IF(AR135=\"\",\"\",AR135)","v":""},null,null,null,null,{"$f":"IF(AW135=\"\",\"\",AW135)","v":""}]
[]
[]
[]
[null,null,null,null,null,null,null,null,null,null,null,null,null,null,null,null,null,{"$f":"IF(R139=\"\",\"\",R139)","v":""},null,{"$f":"IF(T139=\"\",\"\",T139)","v":""},null,{"$f":"IF(V139=\"\",\"\",V139)","v":""},null,{"$f":"IF(X139=\"\",\"\",X139)","v":""},null,{"$f":"IF(Z139=\"\",\"\",Z139)","v":""},null,{"$f":"IF(AB139=\"\",\"\",AB139)","v":""},null,{"$f":"IF(AD139=\"\",\"\",AD139)","v":""},null,{"$f":"IF(AF139=\"\",\"\",AF139)","v":""},null,{"$f":"IF(AH139=\"\",\"\",AH139)","v":""},null,{"$f":"IF(AJ139=\"\",\"\",AJ139)","v":""},null,{"$f":"IF(AL139=\"\",\"\",AL139)","v":""},null,null,{"$f":"IF(AO139=\"\",\"\",AO139)","v":""},null,null,{"$f":"IF(AR139=\"\",\"\",AR139)","v":""},null,null,null,null,{"$f":"IF(AW139=\"\",\"\",AW139)","v":""}]
[]
[]
[]
[null,null,null,null,null,null,null,null,null,null,null,null,null,null,null,null,null,{"$f":"IF(R143=\"\",\"\",R143)","v":""},null,{"$f":"IF(T143=\"\",\"\",T143)","v":""},null,{"$f":"IF(V143=\"\",\"\",V143)","v":""},null,{"$f":"IF(X143=\"\",\"\",X143)","v":""},null,{"$f":"IF(Z143=\"\",\"\",Z143)","v":""},null,{"$f":"IF(AB143=\"\",\"\",AB143)","v":""},null,{"$f":"IF(AD143=\"\",\"\",AD143)","v":""},null,{"$f":"IF(AF143=\"\",\"\",AF143)","v":""},null,{"$f":"IF(AH143=\"\",\"\",AH143)","v":""},null,{"$f":"IF(AJ143=\"\",\"\",AJ143)","v":""},null,{"$f":"IF(AL143=\"\",\"\",AL143)","v":""},null,null,{"$f":"IF(AO143=\"\",\"\",AO143)","v":""},null,null,{"$f":"IF(AR143=\"\",\"\",AR143)","v":""},null,null,null,null,{"$f":"IF(AW143=\"\",\"\",AW143)","v":""}]
[]
[]
[]
[null,null,null,null,null,null,null,null,null,null,null,null,null,null,null,null,null,{"$f":"IF(R147=\"\",\"\",R147)","v":""},null,{"$f":"IF(T147=\"\",\"\",T147)","v":""},null,{"$f":"IF(V147=\"\",\"\",V147)","v":""},null,{"$f":"IF(X147=\"\",\"\",X147)","v":""},null,{"$f":"IF(Z147=\"\",\"\",Z147)","v":""},null,{"$f":"IF(AB147=\"\",\"\",AB147)","v":""},null,{"$f":"IF(AD147=\"\",\"\",AD147)","v":""},null,{"$f":"IF(AF147=\"\",\"\",AF147)","v":""},null,{"$f":"IF(AH147=\"\",\"\",AH147)","v":""},null,{"$f":"IF(AJ147=\"\",\"\",AJ147)","v":""},null,{"$f":"IF(AL147=\"\",\"\",AL147)","v":""},null,null,{"$f":"IF(AO147=\"\",\"\",AO147)","v":""},null,null,{"$f":"IF(AR147=\"\",\"\",AR147)","v":""},null,null,null,null,{"$f":"IF(AW147=\"\",\"\",AW147)","v":""}]
[]
[]
[]
[null,null,null,null,null,null,null,null,null,null,null,null,null,null,null,null,null,{"$f":"IF(R151=\"\",\"\",R151)","v":""},null,{"$f":"IF(T151=\"\",\"\",T151)","v":""},null,{"$f":"IF(V151=\"\",\"\",V151)","v":""},null,{"$f":"IF(X151=\"\",\"\",X151)","v":""},null,{"$f":"IF(Z151=\"\",\"\",Z151)","v":""},null,{"$f":"IF(AB151=\"\",\"\",AB151)","v":""},null,{"$f":"IF(AD151=\"\",\"\",AD151)","v":""},null,{"$f":"IF(AF151=\"\",\"\",AF151)","v":""},null,{"$f":"IF(AH151=\"\",\"\",AH151)","v":""},null,{"$f":"IF(AJ151=\"\",\"\",AJ151)","v":""},null,{"$f":"IF(AL151=\"\",\"\",AL151)","v":""},null,null,{"$f":"IF(AO151=\"\",\"\",AO151)","v":""},null,null,{"$f":"IF(AR151=\"\",\"\",AR151)","v":""},null,null,null,null,{"$f":"IF(AW151=\"\",\"\",AW151)","v":""}]
[]
[]
[]
[null,null,null,null,null,null,null,null,null,null,null,null,null,null,null,null,null,{"$f":"IF(R155=\"\",\"\",R155)","v":""},null,{"$f":"IF(T155=\"\",\"\",T155)","v":""},null,{"$f":"IF(V155=\"\",\"\",V155)","v":""},null,{"$f":"IF(X155=\"\",\"\",X155)","v":""},null,{"$f":"IF(Z155=\"\",\"\",Z155)","v":""},null,{"$f":"IF(AB155=\"\",\"\",AB155)","v":""},null,{"$f":"IF(AD155=\"\",\"\",AD155)","v":""},null,{"$f":"IF(AF155=\"\",\"\",AF155)","v":""},null,{"$f":"IF(AH155=\"\",\"\",AH155)","v":""},null,{"$f":"IF(AJ155=\"\",\"\",AJ155)","v":""},null,{"$f":"IF(AL155=\"\",\"\",AL155)","v":""},null,null,{"$f":"IF(AO155=\"\",\"\",AO155)","v":""},null,null,{"$f":"IF(AR155=\"\",\"\",AR155)","v":""},null,null,null,null,{"$f":"IF(AW155=\"\",\"\",AW155)","v":""}]
[]
[]
[]
[null,null,null,null,null,null,null,null,null,null,null,null,null,null,null,null,null,{"$f":"IF(R159=\"\",\"\",R159)","v":""},null,{"$f":"IF(T159=\"\",\"\",T159)","v":""},null,{"$f":"IF(V159=\"\",\"\",V159)","v":""},null,{"$f":"IF(X159=\"\",\"\",X159)","v":""},null,{"$f":"IF(Z159=\"\",\"\",Z159)","v":""},null,{"$f":"IF(AB159=\"\",\"\",AB159)","v":""},null,{"$f":"IF(AD159=\"\",\"\",AD159)","v":""},null,{"$f":"IF(AF159=\"\",\"\",AF159)","v":""},null,{"$f":"IF(AH159=\"\",\"\",AH159)","v":""},null,{"$f":"IF(AJ159=\"\",\"\",AJ159)","v":""},null,{"$f":"IF(AL159=\"\",\"\",AL159)","v":""},null,null,{"$f":"IF(AO159=\"\",\"\",AO159)","v":""},null,null,{"$f":"IF(AR159=\"\",\"\",AR159)","v":""},null,null,null,null,{"$f":"IF(AW159=\"\",\"\",AW159)","v":""}]
[]
[]
[]
[null,null,null,null,null,null,null,null,null,null,null,null,null,null,null,null,null,{"$f":"IF(R163=\"\",\"\",R163)","v":""},null,{"$f":"IF(T163=\"\",\"\",T163)","v":""},null,{"$f":"IF(V163=\"\",\"\",V163)","v":""},null,{"$f":"IF(X163=\"\",\"\",X163)","v":""},null,{"$f":"IF(Z163=\"\",\"\",Z163)","v":""},null,{"$f":"IF(AB163=\"\",\"\",AB163)","v":""},null,{"$f":"IF(AD163=\"\",\"\",AD163)","v":""},null,{"$f":"IF(AF163=\"\",\"\",AF163)","v":""},null,{"$f":"IF(AH163=\"\",\"\",AH163)","v":""},null,{"$f":"IF(AJ163=\"\",\"\",AJ163)","v":""},null,{"$f":"IF(AL163=\"\",\"\",AL163)","v":""},null,null,{"$f":"IF(AO163=\"\",\"\",AO163)","v":""},null,null,{"$f":"IF(AR163=\"\",\"\",AR163)","v":""},null,null,null,null,{"$f":"IF(AW163=\"\",\"\",AW163)","v":""}]
[]
[]
[]
[null,null,null,null,null,null,null,null,null,null,null,null,null,null,null,null,null,{"$f":"IF(R167=\"\",\"\",R167)","v":""},null,{"$f":"IF(T167=\"\",\"\",T167)","v":""},null,{"$f":"IF(V167=\"\",\"\",V167)","v":""},null,{"$f":"IF(X167=\"\",\"\",X167)","v":""},null,{"$f":"IF(Z167=\"\",\"\",Z167)","v":""},null,{"$f":"IF(AB167=\"\",\"\",AB167)","v":""},null,{"$f":"IF(AD167=\"\",\"\",AD167)","v":""},null,{"$f":"IF(AF167=\"\",\"\",AF167)","v":""},null,{"$f":"IF(AH167=\"\",\"\",AH167)","v":""},null,{"$f":"IF(AJ167=\"\",\"\",AJ167)","v":""},null,{"$f":"IF(AL167=\"\",\"\",AL167)","v":""},null,null,{"$f":"IF(AO167=\"\",\"\",AO167)","v":""},null,null,{"$f":"IF(AR167=\"\",\"\",AR167)","v":""},null,null,null,null,{"$f":"IF(AW167=\"\",\"\",AW167)","v":""}]
[]
[]
[]
[null,null,null,null,null,null,null,null,null,null,null,null,null,null,null,null,null,{"$f":"IF(R171=\"\",\"\",R171)","v":""},null,{"$f":"IF(T171=\"\",\"\",T171)","v":""},null,{"$f":"IF(V171=\"\",\"\",V171)","v":""},null,{"$f":"IF(X171=\"\",\"\",X171)","v":""},null,{"$f":"IF(Z171=\"\",\"\",Z171)","v":""},null,{"$f":"IF(AB171=\"\",\"\",AB171)","v":""},null,{"$f":"IF(AD171=\"\",\"\",AD171)","v":""},null,{"$f":"IF(AF171=\"\",\"\",AF171)","v":""},null,{"$f":"IF(AH171=\"\",\"\",AH171)","v":""},null,{"$f":"IF(AJ171=\"\",\"\",AJ171)","v":""},null,{"$f":"IF(AL171=\"\",\"\",AL171)","v":""},null,null,{"$f":"IF(AO171=\"\",\"\",AO171)","v":""},null,null,{"$f":"IF(AR171=\"\",\"\",AR171)","v":""},null,null,null,null,{"$f":"IF(AW171=\"\",\"\",AW171)","v":""}]
[]
[]
[]
[null,null,null,null,null,null,null,null,null,null,null,null,null,null,null,null,null,null,null,null,null,null,null,null,null,null,null,null,null,null,null,null,null,null,null,null,null,"値引き等",null,null,null,null,null,null,null,null,null,null,{"$f":"IF(AW175=\"\",\"\",AW175)","v":""}]
[]
[]
[]
[]
[null,null,null,null,null,null,null,null,null,null,null,null,null,null,null,null,null,null,null,null,null,null,null,null,null,null,null,null,null,null,null,null,null,null,null,null,null,{"$f":"\"合計(\" & IF(税処理=2,\"税込\",\"税抜\")&\")\"","v":"合計(税抜)"},null,null,null,null,null,null,null,null,null,null,{"$f":"IF(AW180=\"\",\"\",AW180)","v":""}]

{"sheet":"細1-3","index":5,"n_rows":272,"n_cols":53,"rows_kept":272,"cut":false,"hidden":false,"merged":[[3,46,5,48],[3,49,5,51],[3,52,5,54],[8,37,11,40],[8,41,11,54],[3,41,5,45],[1,19,4,32],[2,1,5,11],[2,12,5,13],[8,1,11,5],[8,6,11,11],[8,12,11,15],[8,16,11,35],[14,43,17,47],[14,48,17,54],[14,1,17,5],[14,6,17,15],[14,17,17,20],[14,21,17,36],[18,1,21,5],[18,6,21,15],[18,17,21,18],[18,19,21,20],[14,37,17,39],[14,40,17,42],[18,21,21,36],[18,37,21,39],[18,40,21,42],[18,43,21,47],[26,1,29,5],[26,6,29,15],[26,17,29,18],[26,19,29,20],[18,48,21,54],[22,1,25,5],[22,6,25,15],[22,17,25,18],[22,19,25,20],[22,21,25,36],[26,21,29,36],[26,37,29,39],[26,40,29,42],[26,43,29,47],[22,37,25,39],[22,40,25,42],[22,43,25,47],[34,48,37,54],[26,48,29,54],[30,1,33,3],[30,4,33,5],[30,6,33,15],[30,17,33,18],[30,19,33,20],[22,48,25,54],[38,17,41,18],[38,19,41,20],[38,21,41,36],[38,37,41,39],[30,48,33,54],[34,1,37,5],[34,6,37,15],[34,17,37,18],[34,19,37,20],[34,21,37,36],[38,40,41,42],[38,43,41,47],[38,48,41,54],[30,21,33,36],[30,37,33,39],[30,40,33,42],[30,43,33,47],[34,37,37,39],[34,40,37,42],[34,43,37,47],[46,40,49,42],[46,43,49,47],[46,21,49,36],[46,37,49,39],[54,40,57,42],[54,43,57,47],[42,17,45,18],[42,19,45,20],[42,21,45,36],[42,37,45,39],[42,40,45,42],[42,43,45,47],[42,48,45,54],[46,48,49,54],[50,17,53,18],[50,19,53,20],[50,21,53,36],[50,37,53,39],[50,40,53,42],[50,43,53,47],[50,48,53,54],[46,17,49,18],[46,19,49,20],[58,17,61,18],[58,19,61,20],[58,21,61,36],[58,37,61,39],[58,40,61,42],[58,43,61,47],[58,48,61,54],[54,17,57,18],[54,19,57,20],[54,21,57,36],[54,37,57,39],[54,48,57,54],[62,40,65,42],[62,43,65,47],[62,21,65,36],[62,37,65,39],[70,40,73,42],[70,43,73,47],[70,48,73,54],[62,48,65,54],[66,17,69,18],[66,19,69,20],[66,21,69,36],[66,37,69,39],[66,40,69,42],[66,43,69,47],[66,48,69,54],[62,17,65,18],[62,19,65,20],[74,17,77,18],[74,19,77,20],[74,21,77,36],[74,37,77,39],[74,40,77,42],[74,43,77,47],[74,48,77,54],[70,17,73,18],[70,19,73,20],[70,21,73,36],[70,37,73,39],[78,48,81,54],[82,37,85,47],[82,48,85,54],[78,37,81,39],[78,40,81,42],[85,11,90,16],[85,17,90,25],[78,43,81,47],[83,26,84,30],[83,31,84,35],[78,17,81,18],[78,19,81,20],[78,21,81,36],[85,26,90,30],[85,31,90,35],[83,1,84,4],[83,5,84,10],[87,37,90,47],[83,11,84,16],[83,17,84,25],[95,46,97,48],[85,1,90,4],[85,5,90,10],[87,48,90,54],[95,49,97,51],[95,52,97,54],[100,1,103,5],[100,6,103,11],[100,12,103,15],[100,16,103,35],[100,37,103,40],[100,41,103,54],[93,19,96,32],[94,1,97,11],[94,12,97,13],[95,41,97,45],[106,37,109,39],[106,40,109,42],[106,43,109,47],[106,48,109,54],[106,1,109,5],[106,6,109,15],[106,17,109,20],[106,21,109,36],[110,21,113,36],[110,37,113,39],[110,40,113,42],[110,43,113,47],[110,1,113,5],[110,6,113,15],[110,17,113,18],[110,19,113,20],[110,48,113,54],[114,1,117,5],[114,6,117,15],[114,17,117,18],[114,19,117,20],[114,21,117,36],[114,37,117,39],[114,40,117,42],[114,43,117,47],[114,48,117,54],[118,21,121,36],[118,37,121,39],[118,40,121,42],[118,43,121,47],[118,1,121,5],[118,6,121,15],[118,17,121,18],[118,19,121,20],[118,48,121,54],[122,48,125,54],[126,1,129,5],[126,6,129,15],[126,17,129,18],[126,19,129,20],[126,21,129,36],[126,37,129,39],[126,40,129,42],[126,43,129,47],[126,48,129,54],[122,1,125,3],[122,4,125,5],[122,6,125,15],[122,17,125,18],[122,19,125,20],[122,21,125,36],[122,37,125,39],[122,40,125,42],[122,43,125,47],[130,40,133,42],[130,43,133,47],[130,21,133,36],[130,37,133,39],[138,40,141,42],[138,43,141,47],[138,48,141,54],[130,48,133,54],[134,17,137,18],[134,19,137,20],[134,21,137,36],[134,37,137,39],[134,40,137,42],[134,43,137,47],[134,48,137,54],[130,17,133,18],[130,19,133,20],[142,17,145,18],[142,19,145,20],[142,21,145,36],[142,37,145,39],[142,40,145,42],[142,43,145,47],[142,48,145,54],[138,17,141,18],[138,19,141,20],[138,21,141,36],[138,37,141,39],[154,48,157,54],[146,48,149,54],[150,17,153,18],[150,19,153,20],[150,21,153,36],[150,37,153,39],[150,40,153,42],[150,43,153,47],[150,48,153,54],[146,17,149,18],[146,19,149,20],[154,17,157,18],[154,19,157,20],[154,21,157,36],[154,37,157,39],[146,40,149,42],[146,43,149,47],[146,21,149,36],[146,37,149,39],[154,40,157,42],[154,43,157,47],[170,48,173,54],[174,37,177,47],[174,48,177,54],[170,17,173,18],[170,19,173,20],[158,17,161,18],[158,19,161,20],[158,21,161,36],[158,37,161,39],[158,40,161,42],[158,43,161,47],[158,48,161,54],[170,21,173,36],[170,37,173,39],[179,48,182,54],[185,19,188,32],[186,1,189,11],[186,12,189,13],[187,41,189,45],[192,37,195,40],[192,41,195,54],[162,40,165,42],[162,43,165,47],[162,21,165,36],[162,37,165,39],[187,46,189,48],[162,48,165,54],[166,17,169,18],[166,19,169,20],[166,21,169,36],[166,37,169,39],[166,40,169,42],[166,43,169,47],[166,48,169,54],[162,17,165,18],[162,19,165,20],[187,49,189,51],[187,52,189,54],[179,37,182,47],[170,40,173,42],[170,43,173,47],[198,48,201,54],[202,21,205,36],[202,37,205,39],[202,40,205,42],[202,43,205,47],[202,1,205,5],[202,6,205,15],[202,17,205,18],[202,19,205,20],[202,48,205,54],[198,1,201,5],[198,6,201,15],[198,17,201,20],[198,21,201,36],[198,37,201,39],[198,40,201,42],[198,43,201,47],[192,1,195,5],[192,6,195,11],[192,12,195,15],[192,16,195,35],[206,1,209,5],[206,6,209,15],[206,17,209,18],[206,19,209,20],[206,21,209,36],[206,37,209,39],[206,40,209,42],[206,43,209,47],[206,48,209,54],[210,21,213,36],[210,37,213,39],[210,40,213,42],[210,43,213,47],[210,1,213,5],[210,6,213,15],[210,17,213,18],[210,19,213,20],[210,48,213,54],[214,48,217,54],[218,1,221,5],[218,6,221,15],[218,17,221,18],[218,19,221,20],[218,21,221,36],[218,37,221,39],[218,40,221,42],[218,43,221,47],[218,48,221,54],[214,1,217,3],[214,4,217,5],[214,6,217,15],[214,17,217,18],[214,19,217,20],[214,21,217,36],[214,37,217,39],[214,40,217,42],[214,43,217,47],[222,40,225,42],[222,43,225,47],[222,21,225,36],[222,37,225,39],[230,40,233,42],[230,43,233,47],[230,48,233,54],[222,48,225,54],[226,17,229,18],[226,19,229,20],[226,21,229,36],[226,37,229,39],[226,40,229,42],[226,43,229,47],[226,48,229,54],[222,17,225,18],[222,19,225,20],[234,17,237,18],[234,19,237,20],[234,21,237,36],[234,37,237,39],[234,40,237,42],[234,43,237,47],[234,48,237,54],[230,17,233,18],[230,19,233,20],[230,21,233,36],[230,37,233,39],[242,17,245,18],[242,19,245,20],[242,21,245,36],[242,37,245,39],[242,40,245,42],[242,43,245,47],[242,48,245,54],[238,17,241,18],[238,19,241,20],[254,37,257,39],[238,40,241,42],[238,43,241,47],[238,21,241,36],[238,37,241,39],[246,40,249,42],[246,43,249,47],[246,48,249,54],[238,48,241,54],[250,17,253,18],[250,19,253,20],[250,21,253,36],[250,37,253,39],[250,40,253,42],[250,43,253,47],[250,48,253,54],[246,17,249,18],[246,19,249,20],[246,21,249,36],[246,37,249,39],[271,37,274,47],[254,48,257,54],[258,17,261,18],[258,19,261,20],[258,21,261,36],[258,37,261,39],[258,40,261,42],[258,43,261,47],[258,48,261,54],[254,17,257,18],[254,19,257,20],[271,48,274,54],[262,40,265,42],[262,43,265,47],[262,48,265,54],[266,37,269,47],[266,48,269,54],[262,17,265,18],[262,19,265,20],[262,21,265,36],[262,37,265,39],[254,40,257,42],[254,43,257,47],[254,21,257,36]]}
[]
[null,null,null,null,null,null,null,null,null,null,null,null,null,null,null,null,null,null,null,"請求書明細書 (正)"]
[null,"株 式 会 社 種 村 建 設",null,null,null,null,null,null,null,null,null,null,"御中"]
[null,null,null,null,null,null,null,null,null,null,null,null,null,null,null,null,null,null,null,null,null,null,null,null,null,null,null,null,null,null,null,null,null,null,null,null,null,null,null,null,null,"請求年月日",null,null,null,null,{"$f":"年","v":23},null,null,{"$f":"月","v":5},null,null,{"$f":"日","v":31}]
[]
[]
[]
[]
[null,"工事番号",null,null,null,null,null,null,null,null,null,null,"工事名",null,null,null,null,null,null,null,null,null,null,null,null,null,null,null,null,null,null,null,null,null,null,null,null,"業者名",null,null,null,{"$f":"社名","v":"例：㈱種村建設"}]
[]
[]
[]
[]
[]
[null,"注文番号",null,null,null,null,null,null,null,null,null,null,null,null,null,null,null,"月　日",null,null,null,"摘要･品名",null,null,null,null,null,null,null,null,null,null,null,null,null,null,null,"数 量",null,null,"単位",null,null,"単価",null,null,null,null,{"$f":"\"金額(\" & IF(税処理=2,\"税込\",\"税抜\")&\")\"","v":"金額(税抜)"}]
[]
[]
[]
[null,"契約金額",null,null,null,null,null,null,null,null,null,null,null,null,null,null,null,null,null,null,null,null,null,null,null,null,null,null,null,null,null,null,null,null,null,null,null,null,null,null,null,null,null,null,null,null,null,null,{"$f":"IF(V19=\"\",\"\",AL19*AR19)","v":""}]
[]
[]
[]
[null,"増減額",null,null,null,null,null,null,null,null,null,null,null,null,null,null,null,null,null,null,null,null,null,null,null,null,null,null,null,null,null,null,null,null,null,null,null,null,null,null,null,null,null,null,null,null,null,null,{"$f":"IF(V23=\"\",\"\",AL23*AR23)","v":""}]
[]
[]
[]
[null,"前回までの\n請求額",null,null,null,null,null,null,null,null,null,null,null,null,null,null,null,null,null,null,null,null,null,null,null,null,null,null,null,null,null,null,null,null,null,null,null,null,null,null,null,null,null,null,null,null,null,null,{"$f":"IF(V27=\"\",\"\",AL27*AR27)","v":""}]
[]
[]
[]
[null,"今回\n請求額",null,null,null,null,null,null,null,null,null,null,null,null,null,null,null,null,null,null,null,null,null,null,null,null,null,null,null,null,null,null,null,null,null,null,null,null,null,null,null,null,null,null,null,null,null,null,{"$f":"IF(V31=\"\",\"\",AL31*AR31)","v":""}]
[]
[]
[]
[null,"差引残高",null,null,null,null,{"$f":"IF(G19=\"\",\"\",G19+G23-G27-G31)","v":""},null,null,null,null,null,null,null,null,null,null,null,null,null,null,null,null,null,null,null,null,null,null,null,null,null,null,null,null,null,null,null,null,null,null,null,null,null,null,null,null,null,{"$f":"IF(V35=\"\",\"\",AL35*AR35)","v":""}]
[]
[]
[]
[null,null,null,null,null,null,null,null,null,null,null,null,null,null,null,null,null,null,null,null,null,null,null,null,null,null,null,null,null,null,null,null,null,null,null,null,null,null,null,null,null,null,null,null,null,null,null,null,{"$f":"IF(V39=\"\",\"\",AL39*AR39)","v":""}]
[]
[]
[]
[null,null,null,null,null,null,null,null,null,null,null,null,null,null,null,null,null,null,null,null,null,null,null,null,null,null,null,null,null,null,null,null,null,null,null,null,null,null,null,null,null,null,null,null,null,null,null,null,{"$f":"IF(V43=\"\",\"\",AL43*AR43)","v":""}]
[]
[]
[]
[null,null,null,null,null,null,null,null,null,null,null,null,null,null,null,null,null,null,null,null,null,null,null,null,null,null,null,null,null,null,null,null,null,null,null,null,null,null,null,null,null,null,null,null,null,null,null,null,{"$f":"IF(V47=\"\",\"\",AL47*AR47)","v":""}]
[]
[]
[]
[null,null,null,null,null,null,null,null,null,null,null,null,null,null,null,null,null,null,null,null,null,null,null,null,null,null,null,null,null,null,null,null,null,null,null,null,null,null,null,null,null,null,null,null,null,null,null,null,{"$f":"IF(V51=\"\",\"\",AL51*AR51)","v":""}]
[]
[]
[]
[null,null,null,null,null,null,null,null,null,null,null,null,null,null,null,null,null,null,null,null,null,null,null,null,null,null,null,null,null,null,null,null,null,null,null,null,null,null,null,null,null,null,null,null,null,null,null,null,{"$f":"IF(V55=\"\",\"\",AL55*AR55)","v":""}]
[]
[]
[]
[null,null,null,null,null,null,null,null,null,null,null,null,null,null,null,null,null,null,null,null,null,null,null,null,null,null,null,null,null,null,null,null,null,null,null,null,null,null,null,null,null,null,null,null,null,null,null,null,{"$f":"IF(V59=\"\",\"\",AL59*AR59)","v":""}]
[]
[]
[]
[null,null,null,null,null,null,null,null,null,null,null,null,null,null,null,null,null,null,null,null,null,null,null,null,null,null,null,null,null,null,null,null,null,null,null,null,null,null,null,null,null,null,null,null,null,null,null,null,{"$f":"IF(V63=\"\",\"\",AL63*AR63)","v":""}]
[]
[]
[]
[null,null,null,null,null,null,null,null,null,null,null,null,null,null,null,null,null,null,null,null,null,null,null,null,null,null,null,null,null,null,null,null,null,null,null,null,null,null,null,null,null,null,null,null,null,null,null,null,{"$f":"IF(V67=\"\",\"\",AL67*AR67)","v":""}]
[]
[]
[]
[null,null,null,null,null,null,null,null,null,null,null,null,null,null,null,null,null,null,null,null,null,null,null,null,null,null,null,null,null,null,null,null,null,null,null,null,null,null,null,null,null,null,null,null,null,null,null,null,{"$f":"IF(V71=\"\",\"\",AL71*AR71)","v":""}]
[]
[]
[]
[null,null,null,null,null,null,null,null,null,null,null,null,null,null,null,null,null,null,null,null,null,null,null,null,null,null,null,null,null,null,null,null,null,null,null,null,null,null,null,null,null,null,null,null,null,null,null,null,{"$f":"IF(V75=\"\",\"\",AL75*AR75)","v":""}]
[]
[]
[]
[null,null,null,null,null,null,null,null,null,null,null,null,null,null,null,null,null,null,null,null,null,null,null,null,null,null,null,null,null,null,null,null,null,null,null,null,null,null,null,null,null,null,null,null,null,null,null,null,{"$f":"IF(V79=\"\",\"\",AL79*AR79)","v":""}]
[]
[]
[]
[null,null,null,null,null,null,null,null,null,null,null,null,null,null,null,null,null,null,null,null,null,null,null,null,null,null,null,null,null,null,null,null,null,null,null,null,null,"値引き等"]
[null,"社長",null,null,null,"専務",null,null,null,null,null,"常務",null,null,null,null,null,"部長･工場長",null,null,null,null,null,null,null,null,"担当者",null,null,null,null,"受付"]
[]
[]
[]
[null,null,null,null,null,null,null,null,null,null,null,null,null,null,null,null,null,null,null,null,null,null,null,null,null,null,null,null,null,null,null,null,null,null,null,null,null,{"$f":"\"合計(\" & IF(税処理=2,\"税込\",\"税抜\")&\")\"","v":"合計(税抜)"},null,null,null,null,null,null,null,null,null,null,{"$f":"IF(AW19=\"\",\"\",SUM(AW19:AW79)+AW83)","v":""}]
[]
[]
[]
[]
[]
[null,null,null,null,null,null,null,null,null,null,null,null,null,null,null,null,null,null,null,"請求明細書 (現場控)"]
[null,"株 式 会 社 種 村 建 設",null,null,null,null,null,null,null,null,null,null,"御中"]
[null,null,null,null,null,null,null,null,null,null,null,null,null,null,null,null,null,null,null,null,null,null,null,null,null,null,null,null,null,null,null,null,null,null,null,null,null,null,null,null,null,"請求年月日",null,null,null,null,{"$f":"IF(AU4=\"\",\"\",AU4)","v":23},null,null,{"$f":"IF(AX4=\"\",\"\",AX4)","v":5},null,null,{"$f":"IF(BA4=\"\",\"\",BA4)","v":31}]
[]
[]
[]
[]
[null,"工事番号",null,null,null,null,{"$f":"IF(G9=\"\",\"\",G9)","v":""},null,null,null,null,null,"工事名",null,null,null,{"$f":"IF(Q9=\"\",\"\",Q9)","v":""},null,null,null,null,null,null,null,null,null,null,null,null,null,null,null,null,null,null,null,null,"業者名",null,null,null,{"$f":"IF(AP9=\"\",\"\",AP9)","v":"例：㈱種村建設"}]
[]
[]
[]
[]
[]
[null,"注文番号",null,null,null,null,{"$f":"IF(G15=\"\",\"\",G15)","v":""},null,null,null,null,null,null,null,null,null,null,"月　日",null,null,null,"摘要･品名",null,null,null,null,null,null,null,null,null,null,null,null,null,null,null,"数 量",null,null,"単位",null,null,"単価",null,null,null,null,{"$f":"\"金額(\" & IF(税処理=2,\"税込\",\"税抜\")&\")\"","v":"金額(税抜)"}]
[]
[]
[]
[null,"契約金額",null,null,null,null,{"$f":"IF(G19=\"\",\"\",G19)","v":""},null,null,null,null,null,null,null,null,null,null,{"$f":"IF(R19=\"\",\"\",R19)","v":""},null,{"$f":"IF(T19=\"\",\"\",T19)","v":""},null,{"$f":"IF(V19=\"\",\"\",V19)","v":""},null,{"$f":"IF(X19=\"\",\"\",X19)","v":""},null,{"$f":"IF(Z19=\"\",\"\",Z19)","v":""},null,{"$f":"IF(AB19=\"\",\"\",AB19)","v":""},null,{"$f":"IF(AD19=\"\",\"\",AD19)","v":""},null,{"$f":"IF(AF19=\"\",\"\",AF19)","v":""},null,{"$f":"IF(AH19=\"\",\"\",AH19)","v":""},null,{"$f":"IF(AJ19=\"\",\"\",AJ19)","v":""},null,{"$f":"IF(AL19=\"\",\"\",AL19)","v":""},null,null,{"$f":"IF(AO19=\"\",\"\",AO19)","v":""},null,null,{"$f":"IF(AR19=\"\",\"\",AR19)","v":""},null,null,null,null,{"$f":"IF(AW19=\"\",\"\",AW19)","v":""}]
[]
[]
[]
[null,"増減額",null,null,null,null,{"$f":"IF(G23=\"\",\"\",G23)","v":""},null,null,null,null,null,null,null,null,null,null,{"$f":"IF(R23=\"\",\"\",R23)","v":""},null,{"$f":"IF(T23=\"\",\"\",T23)","v":""},null,{"$f":"IF(V23=\"\",\"\",V23)","v":""},null,{"$f":"IF(X23=\"\",\"\",X23)","v":""},null,{"$f":"IF(Z23=\"\",\"\",Z23)","v":""},null,{"$f":"IF(AB23=\"\",\"\",AB23)","v":""},null,{"$f":"IF(AD23=\"\",\"\",AD23)","v":""},null,{"$f":"IF(AF23=\"\",\"\",AF23)","v":""},null,{"$f":"IF(AH23=\"\",\"\",AH23)","v":""},null,{"$f":"IF(AJ23=\"\",\"\",AJ23)","v":""},null,{"$f":"IF(AL23=\"\",\"\",AL23)","v":""},null,null,{"$f":"IF(AO23=\"\",\"\",AO23)","v":""},null,null,{"$f":"IF(AR23=\"\",\"\",AR23)","v":""},null,null,null,null,{"$f":"IF(AW23=\"\",\"\",AW23)","v":""}]
[]
[]
[]
[null,"前回までの\n請求額",null,null,null,null,{"$f":"IF(G27=\"\",\"\",G27)","v":""},null,null,null,null,null,null,null,null,null,null,{"$f":"IF(R27=\"\",\"\",R27)","v":""},null,{"$f":"IF(T27=\"\",\"\",T27)","v":""},null,{"$f":"IF(V27=\"\",\"\",V27)","v":""},null,{"$f":"IF(X27=\"\",\"\",X27)","v":""},null,{"$f":"IF(Z27=\"\",\"\",Z27)","v":""},null,{"$f":"IF(AB27=\"\",\"\",AB27)","v":""},null,{"$f":"IF(AD27=\"\",\"\",AD27)","v":""},null,{"$f":"IF(AF27=\"\",\"\",AF27)","v":""},null,{"$f":"IF(AH27=\"\",\"\",AH27)","v":""},null,{"$f":"IF(AJ27=\"\",\"\",AJ27)","v":""},null,{"$f":"IF(AL27=\"\",\"\",AL27)","v":""},null,null,{"$f":"IF(AO27=\"\",\"\",AO27)","v":""},null,null,{"$f":"IF(AR27=\"\",\"\",AR27)","v":""},null,null,null,null,{"$f":"IF(AW27=\"\",\"\",AW27)","v":""}]
[]
[]
[]
[null,"今回\n請求額",null,null,{"$f":"IF(E31=\"\",\"\",E31)","v":""},null,{"$f":"IF(G31=\"\",\"\",G31)","v":""},null,null,null,null,null,null,null,null,null,null,{"$f":"IF(R31=\"\",\"\",R31)","v":""},null,{"$f":"IF(T31=\"\",\"\",T31)","v":""},null,{"$f":"IF(V31=\"\",\"\",V31)","v":""},null,{"$f":"IF(X31=\"\",\"\",X31)","v":""},null,{"$f":"IF(Z31=\"\",\"\",Z31)","v":""},null,{"$f":"IF(AB31=\"\",\"\",AB31)","v":""},null,{"$f":"IF(AD31=\"\",\"\",AD31)","v":""},null,{"$f":"IF(AF31=\"\",\"\",AF31)","v":""},null,{"$f":"IF(AH31=\"\",\"\",AH31)","v":""},null,{"$f":"IF(AJ31=\"\",\"\",AJ31)","v":""},null,{"$f":"IF(AL31=\"\",\"\",AL31)","v":""},null,null,{"$f":"IF(AO31=\"\",\"\",AO31)","v":""},null,null,{"$f":"IF(AR31=\"\",\"\",AR31)","v":""},null,null,null,null,{"$f":"IF(AW31=\"\",\"\",AW31)","v":""}]
[]
[]
[]
[null,"差引残高",null,null,null,null,{"$f":"IF(G111=\"\",\"\",G111+G115-G119-G123)","v":""},null,null,null,null,null,null,null,null,null,null,{"$f":"IF(R35=\"\",\"\",R35)","v":""},null,{"$f":"IF(T35=\"\",\"\",T35)","v":""},null,{"$f":"IF(V35=\"\",\"\",V35)","v":""},null,{"$f":"IF(X35=\"\",\"\",X35)","v":""},null,{"$f":"IF(Z35=\"\",\"\",Z35)","v":""},null,{"$f":"IF(AB35=\"\",\"\",AB35)","v":""},null,{"$f":"IF(AD35=\"\",\"\",AD35)","v":""},null,{"$f":"IF(AF35=\"\",\"\",AF35)","v":""},null,{"$f":"IF(AH35=\"\",\"\",AH35)","v":""},null,{"$f":"IF(AJ35=\"\",\"\",AJ35)","v":""},null,{"$f":"IF(AL35=\"\",\"\",AL35)","v":""},null,null,{"$f":"IF(AO35=\"\",\"\",AO35)","v":""},null,null,{"$f":"IF(AR35=\"\",\"\",AR35)","v":""},null,null,null,null,{"$f":"IF(AW35=\"\",\"\",AW35)","v":""}]
[]
[]
[]
[null,null,null,null,null,null,null,null,null,null,null,null,null,null,null,null,null,{"$f":"IF(R39=\"\",\"\",R39)","v":""},null,{"$f":"IF(T39=\"\",\"\",T39)","v":""},null,{"$f":"IF(V39=\"\",\"\",V39)","v":""},null,{"$f":"IF(X39=\"\",\"\",X39)","v":""},null,{"$f":"IF(Z39=\"\",\"\",Z39)","v":""},null,{"$f":"IF(AB39=\"\",\"\",AB39)","v":""},null,{"$f":"IF(AD39=\"\",\"\",AD39)","v":""},null,{"$f":"IF(AF39=\"\",\"\",AF39)","v":""},null,{"$f":"IF(AH39=\"\",\"\",AH39)","v":""},null,{"$f":"IF(AJ39=\"\",\"\",AJ39)","v":""},null,{"$f":"IF(AL39=\"\",\"\",AL39)","v":""},null,null,{"$f":"IF(AO39=\"\",\"\",AO39)","v":""},null,null,{"$f":"IF(AR39=\"\",\"\",AR39)","v":""},null,null,null,null,{"$f":"IF(AW39=\"\",\"\",AW39)","v":""}]
[]
[]
[]
[null,null,null,null,null,null,null,null,null,null,null,null,null,null,null,null,null,{"$f":"IF(R43=\"\",\"\",R43)","v":""},null,{"$f":"IF(T43=\"\",\"\",T43)","v":""},null,{"$f":"IF(V43=\"\",\"\",V43)","v":""},null,{"$f":"IF(X43=\"\",\"\",X43)","v":""},null,{"$f":"IF(Z43=\"\",\"\",Z43)","v":""},null,{"$f":"IF(AB43=\"\",\"\",AB43)","v":""},null,{"$f":"IF(AD43=\"\",\"\",AD43)","v":""},null,{"$f":"IF(AF43=\"\",\"\",AF43)","v":""},null,{"$f":"IF(AH43=\"\",\"\",AH43)","v":""},null,{"$f":"IF(AJ43=\"\",\"\",AJ43)","v":""},null,{"$f":"IF(AL43=\"\",\"\",AL43)","v":""},null,null,{"$f":"IF(AO43=\"\",\"\",AO43)","v":""},null,null,{"$f":"IF(AR43=\"\",\"\",AR43)","v":""},null,null,null,null,{"$f":"IF(AW43=\"\",\"\",AW43)","v":""}]
[]
[]
[]
[null,null,null,null,null,null,null,null,null,null,null,null,null,null,null,null,null,{"$f":"IF(R47=\"\",\"\",R47)","v":""},null,{"$f":"IF(T47=\"\",\"\",T47)","v":""},null,{"$f":"IF(V47=\"\",\"\",V47)","v":""},null,{"$f":"IF(X47=\"\",\"\",X47)","v":""},null,{"$f":"IF(Z47=\"\",\"\",Z47)","v":""},null,{"$f":"IF(AB47=\"\",\"\",AB47)","v":""},null,{"$f":"IF(AD47=\"\",\"\",AD47)","v":""},null,{"$f":"IF(AF47=\"\",\"\",AF47)","v":""},null,{"$f":"IF(AH47=\"\",\"\",AH47)","v":""},null,{"$f":"IF(AJ47=\"\",\"\",AJ47)","v":""},null,{"$f":"IF(AL47=\"\",\"\",AL47)","v":""},null,null,{"$f":"IF(AO47=\"\",\"\",AO47)","v":""},null,null,{"$f":"IF(AR47=\"\",\"\",AR47)","v":""},null,null,null,null,{"$f":"IF(AW47=\"\",\"\",AW47)","v":""}]
[]
[]
[]
[null,null,null,null,null,null,null,null,null,null,null,null,null,null,null,null,null,{"$f":"IF(R51=\"\",\"\",R51)","v":""},null,{"$f":"IF(T51=\"\",\"\",T51)","v":""},null,{"$f":"IF(V51=\"\",\"\",V51)","v":""},null,{"$f":"IF(X51=\"\",\"\",X51)","v":""},null,{"$f":"IF(Z51=\"\",\"\",Z51)","v":""},null,{"$f":"IF(AB51=\"\",\"\",AB51)","v":""},null,{"$f":"IF(AD51=\"\",\"\",AD51)","v":""},null,{"$f":"IF(AF51=\"\",\"\",AF51)","v":""},null,{"$f":"IF(AH51=\"\",\"\",AH51)","v":""},null,{"$f":"IF(AJ51=\"\",\"\",AJ51)","v":""},null,{"$f":"IF(AL51=\"\",\"\",AL51)","v":""},null,null,{"$f":"IF(AO51=\"\",\"\",AO51)","v":""},null,null,{"$f":"IF(AR51=\"\",\"\",AR51)","v":""},null,null,null,null,{"$f":"IF(AW51=\"\",\"\",AW51)","v":""}]
[]
[]
[]
[null,null,null,null,null,null,null,null,null,null,null,null,null,null,null,null,null,{"$f":"IF(R55=\"\",\"\",R55)","v":""},null,{"$f":"IF(T55=\"\",\"\",T55)","v":""},null,{"$f":"IF(V55=\"\",\"\",V55)","v":""},null,{"$f":"IF(X55=\"\",\"\",X55)","v":""},null,{"$f":"IF(Z55=\"\",\"\",Z55)","v":""},null,{"$f":"IF(AB55=\"\",\"\",AB55)","v":""},null,{"$f":"IF(AD55=\"\",\"\",AD55)","v":""},null,{"$f":"IF(AF55=\"\",\"\",AF55)","v":""},null,{"$f":"IF(AH55=\"\",\"\",AH55)","v":""},null,{"$f":"IF(AJ55=\"\",\"\",AJ55)","v":""},null,{"$f":"IF(AL55=\"\",\"\",AL55)","v":""},null,null,{"$f":"IF(AO55=\"\",\"\",AO55)","v":""},null,null,{"$f":"IF(AR55=\"\",\"\",AR55)","v":""},null,null,null,null,{"$f":"IF(AW55=\"\",\"\",AW55)","v":""}]
[]
[]
[]
[null,null,null,null,null,null,null,null,null,null,null,null,null,null,null,null,null,{"$f":"IF(R59=\"\",\"\",R59)","v":""},null,{"$f":"IF(T59=\"\",\"\",T59)","v":""},null,{"$f":"IF(V59=\"\",\"\",V59)","v":""},null,{"$f":"IF(X59=\"\",\"\",X59)","v":""},null,{"$f":"IF(Z59=\"\",\"\",Z59)","v":""},null,{"$f":"IF(AB59=\"\",\"\",AB59)","v":""},null,{"$f":"IF(AD59=\"\",\"\",AD59)","v":""},null,{"$f":"IF(AF59=\"\",\"\",AF59)","v":""},null,{"$f":"IF(AH59=\"\",\"\",AH59)","v":""},null,{"$f":"IF(AJ59=\"\",\"\",AJ59)","v":""},null,{"$f":"IF(AL59=\"\",\"\",AL59)","v":""},null,null,{"$f":"IF(AO59=\"\",\"\",AO59)","v":""},null,null,{"$f":"IF(AR59=\"\",\"\",AR59)","v":""},null,null,null,null,{"$f":"IF(AW59=\"\",\"\",AW59)","v":""}]
[]
[]
[]
[null,null,null,null,null,null,null,null,null,null,null,null,null,null,null,null,null,{"$f":"IF(R63=\"\",\"\",R63)","v":""},null,{"$f":"IF(T63=\"\",\"\",T63)","v":""},null,{"$f":"IF(V63=\"\",\"\",V63)","v":""},null,{"$f":"IF(X63=\"\",\"\",X63)","v":""},null,{"$f":"IF(Z63=\"\",\"\",Z63)","v":""},null,{"$f":"IF(AB63=\"\",\"\",AB63)","v":""},null,{"$f":"IF(AD63=\"\",\"\",AD63)","v":""},null,{"$f":"IF(AF63=\"\",\"\",AF63)","v":""},null,{"$f":"IF(AH63=\"\",\"\",AH63)","v":""},null,{"$f":"IF(AJ63=\"\",\"\",AJ63)","v":""},null,{"$f":"IF(AL63=\"\",\"\",AL63)","v":""},null,null,{"$f":"IF(AO63=\"\",\"\",AO63)","v":""},null,null,{"$f":"IF(AR63=\"\",\"\",AR63)","v":""},null,null,null,null,{"$f":"IF(AW63=\"\",\"\",AW63)","v":""}]
[]
[]
[]
[null,null,null,null,null,null,null,null,null,null,null,null,null,null,null,null,null,{"$f":"IF(R67=\"\",\"\",R67)","v":""},null,{"$f":"IF(T67=\"\",\"\",T67)","v":""},null,{"$f":"IF(V67=\"\",\"\",V67)","v":""},null,{"$f":"IF(X67=\"\",\"\",X67)","v":""},null,{"$f":"IF(Z67=\"\",\"\",Z67)","v":""},null,{"$f":"IF(AB67=\"\",\"\",AB67)","v":""},null,{"$f":"IF(AD67=\"\",\"\",AD67)","v":""},null,{"$f":"IF(AF67=\"\",\"\",AF67)","v":""},null,{"$f":"IF(AH67=\"\",\"\",AH67)","v":""},null,{"$f":"IF(AJ67=\"\",\"\",AJ67)","v":""},null,{"$f":"IF(AL67=\"\",\"\",AL67)","v":""},null,null,{"$f":"IF(AO67=\"\",\"\",AO67)","v":""},null,null,{"$f":"IF(AR67=\"\",\"\",AR67)","v":""},null,null,null,null,{"$f":"IF(AW67=\"\",\"\",AW67)","v":""}]
[]
[]
[]
[null,null,null,null,null,null,null,null,null,null,null,null,null,null,null,null,null,{"$f":"IF(R71=\"\",\"\",R71)","v":""},null,{"$f":"IF(T71=\"\",\"\",T71)","v":""},null,{"$f":"IF(V71=\"\",\"\",V71)","v":""},null,{"$f":"IF(X71=\"\",\"\",X71)","v":""},null,{"$f":"IF(Z71=\"\",\"\",Z71)","v":""},null,{"$f":"IF(AB71=\"\",\"\",AB71)","v":""},null,{"$f":"IF(AD71=\"\",\"\",AD71)","v":""},null,{"$f":"IF(AF71=\"\",\"\",AF71)","v":""},null,{"$f":"IF(AH71=\"\",\"\",AH71)","v":""},null,{"$f":"IF(AJ71=\"\",\"\",AJ71)","v":""},null,{"$f":"IF(AL71=\"\",\"\",AL71)","v":""},null,null,{"$f":"IF(AO71=\"\",\"\",AO71)","v":""},null,null,{"$f":"IF(AR71=\"\",\"\",AR71)","v":""},null,null,null,null,{"$f":"IF(AW71=\"\",\"\",AW71)","v":""}]
[]
[]
[]
[null,null,null,null,null,null,null,null,null,null,null,null,null,null,null,null,null,{"$f":"IF(R75=\"\",\"\",R75)","v":""},null,{"$f":"IF(T75=\"\",\"\",T75)","v":""},null,{"$f":"IF(V75=\"\",\"\",V75)","v":""},null,{"$f":"IF(X75=\"\",\"\",X75)","v":""},null,{"$f":"IF(Z75=\"\",\"\",Z75)","v":""},null,{"$f":"IF(AB75=\"\",\"\",AB75)","v":""},null,{"$f":"IF(AD75=\"\",\"\",AD75)","v":""},null,{"$f":"IF(AF75=\"\",\"\",AF75)","v":""},null,{"$f":"IF(AH75=\"\",\"\",AH75)","v":""},null,{"$f":"IF(AJ75=\"\",\"\",AJ75)","v":""},null,{"$f":"IF(AL75=\"\",\"\",AL75)","v":""},null,null,{"$f":"IF(AO75=\"\",\"\",AO75)","v":""},null,null,{"$f":"IF(AR75=\"\",\"\",AR75)","v":""},null,null,null,null,{"$f":"IF(AW75=\"\",\"\",AW75)","v":""}]
[]
[]
[]
[null,null,null,null,null,null,null,null,null,null,null,null,null,null,null,null,null,{"$f":"IF(R79=\"\",\"\",R79)","v":""},null,{"$f":"IF(T79=\"\",\"\",T79)","v":""},null,{"$f":"IF(V79=\"\",\"\",V79)","v":""},null,{"$f":"IF(X79=\"\",\"\",X79)","v":""},null,{"$f":"IF(Z79=\"\",\"\",Z79)","v":""},null,{"$f":"IF(AB79=\"\",\"\",AB79)","v":""},null,{"$f":"IF(AD79=\"\",\"\",AD79)","v":""},null,{"$f":"IF(AF79=\"\",\"\",AF79)","v":""},null,{"$f":"IF(AH79=\"\",\"\",AH79)","v":""},null,{"$f":"IF(AJ79=\"\",\"\",AJ79)","v":""},null,{"$f":"IF(AL79=\"\",\"\",AL79)","v":""},null,null,{"$f":"IF(AO79=\"\",\"\",AO79)","v":""},null,null,{"$f":"IF(AR79=\"\",\"\",AR79)","v":""},null,null,null,null,{"$f":"IF(AW79=\"\",\"\",AW79)","v":""}]
[]
[]
[]
[null,null,null,null,null,null,null,null,null,null,null,null,null,null,null,null,null,null,null,null,null,null,null,null,null,null,null,null,null,null,null,null,null,null,null,null,null,"値引き等",null,null,null,null,null,null,null,null,null,null,{"$f":"IF(AW83=\"\",\"\",AW83)","v":""}]
[]
[]
[]
[]
[null,null,null,null,null,null,null,null,null,null,null,null,null,null,null,null,null,null,null,null,null,null,null,null,null,null,null,null,null,null,null,null,null,null,null,null,null,{"$f":"\"合計(\" & IF(税処理=2,\"税込\",\"税抜\")&\")\"","v":"合計(税抜)"},null,null,null,null,null,null,null,null,null,null,{"$f":"IF(AW88=\"\",\"\",AW88)","v":""}]
[]
[]
[]
[]
[]
[null,null,null,null,null,null,null,null,null,null,null,null,null,null,null,null,null,null,null,"請求明細書 (貴社控)"]
[null,"株 式 会 社 種 村 建 設",null,null,null,null,null,null,null,null,null,null,"御中"]
[null,null,null,null,null,null,null,null,null,null,null,null,null,null,null,null,null,null,null,null,null,null,null,null,null,null,null,null,null,null,null,null,null,null,null,null,null,null,null,null,null,"請求年月日",null,null,null,null,{"$f":"IF(AU96=\"\",\"\",AU96)","v":23},null,null,{"$f":"IF(AX96=\"\",\"\",AX96)","v":5},null,null,{"$f":"IF(BA96=\"\",\"\",BA96)","v":31}]
[]
[]
[]
[]
[null,"工事番号",null,null,null,null,{"$f":"IF(G101=\"\",\"\",G101)","v":""},null,null,null,null,null,"工事名",null,null,null,{"$f":"IF(Q101=\"\",\"\",Q101)","v":""},null,null,null,null,null,null,null,null,null,null,null,null,null,null,null,null,null,null,null,null,"業者名",null,null,null,{"$f":"IF(AP101=\"\",\"\",AP101)","v":"例：㈱種村建設"}]
[]
[]
[]
[]
[]
[null,"注文番号",null,null,null,null,{"$f":"IF(G107=\"\",\"\",G107)","v":""},null,null,null,null,null,null,null,null,null,null,"月　日",null,null,null,"摘要･品名",null,null,null,null,null,null,null,null,null,null,null,null,null,null,null,"数 量",null,null,"単位",null,null,"単価",null,null,null,null,{"$f":"\"金額(\" & IF(税処理=2,\"税込\",\"税抜\")&\")\"","v":"金額(税抜)"}]
[]
[]
[]
[null,"契約金額",null,null,null,null,{"$f":"IF(G111=\"\",\"\",G111)","v":""},null,null,null,null,null,null,null,null,null,null,{"$f":"IF(R111=\"\",\"\",R111)","v":""},null,{"$f":"IF(T111=\"\",\"\",T111)","v":""},null,{"$f":"IF(V111=\"\",\"\",V111)","v":""},null,{"$f":"IF(X111=\"\",\"\",X111)","v":""},null,{"$f":"IF(Z111=\"\",\"\",Z111)","v":""},null,{"$f":"IF(AB111=\"\",\"\",AB111)","v":""},null,{"$f":"IF(AD111=\"\",\"\",AD111)","v":""},null,{"$f":"IF(AF111=\"\",\"\",AF111)","v":""},null,{"$f":"IF(AH111=\"\",\"\",AH111)","v":""},null,{"$f":"IF(AJ111=\"\",\"\",AJ111)","v":""},null,{"$f":"IF(AL111=\"\",\"\",AL111)","v":""},null,null,{"$f":"IF(AO111=\"\",\"\",AO111)","v":""},null,null,{"$f":"IF(AR111=\"\",\"\",AR111)","v":""},null,null,null,null,{"$f":"IF(AW111=\"\",\"\",AW111)","v":""}]
[]
[]
[]
[null,"増減額",null,null,null,null,{"$f":"IF(G115=\"\",\"\",G115)","v":""},null,null,null,null,null,null,null,null,null,null,{"$f":"IF(R115=\"\",\"\",R115)","v":""},null,{"$f":"IF(T115=\"\",\"\",T115)","v":""},null,{"$f":"IF(V115=\"\",\"\",V115)","v":""},null,{"$f":"IF(X115=\"\",\"\",X115)","v":""},null,{"$f":"IF(Z115=\"\",\"\",Z115)","v":""},null,{"$f":"IF(AB115=\"\",\"\",AB115)","v":""},null,{"$f":"IF(AD115=\"\",\"\",AD115)","v":""},null,{"$f":"IF(AF115=\"\",\"\",AF115)","v":""},null,{"$f":"IF(AH115=\"\",\"\",AH115)","v":""},null,{"$f":"IF(AJ115=\"\",\"\",AJ115)","v":""},null,{"$f":"IF(AL115=\"\",\"\",AL115)","v":""},null,null,{"$f":"IF(AO115=\"\",\"\",AO115)","v":""},null,null,{"$f":"IF(AR115=\"\",\"\",AR115)","v":""},null,null,null,null,{"$f":"IF(AW115=\"\",\"\",AW115)","v":""}]
[]
[]
[]
[null,"前回までの\n請求額",null,null,null,null,{"$f":"IF(G119=\"\",\"\",G119)","v":""},null,null,null,null,null,null,null,null,null,null,{"$f":"IF(R119=\"\",\"\",R119)","v":""},null,{"$f":"IF(T119=\"\",\"\",T119)","v":""},null,{"$f":"IF(V119=\"\",\"\",V119)","v":""},null,{"$f":"IF(X119=\"\",\"\",X119)","v":""},null,{"$f":"IF(Z119=\"\",\"\",Z119)","v":""},null,{"$f":"IF(AB119=\"\",\"\",AB119)","v":""},null,{"$f":"IF(AD119=\"\",\"\",AD119)","v":""},null,{"$f":"IF(AF119=\"\",\"\",AF119)","v":""},null,{"$f":"IF(AH119=\"\",\"\",AH119)","v":""},null,{"$f":"IF(AJ119=\"\",\"\",AJ119)","v":""},null,{"$f":"IF(AL119=\"\",\"\",AL119)","v":""},null,null,{"$f":"IF(AO119=\"\",\"\",AO119)","v":""},null,null,{"$f":"IF(AR119=\"\",\"\",AR119)","v":""},null,null,null,null,{"$f":"IF(AW119=\"\",\"\",AW119)","v":""}]
[]
[]
[]
[null,"今回\n請求額",null,null,{"$f":"IF(E31=\"\",\"\",E31)","v":""},null,{"$f":"IF(G123=\"\",\"\",G123)","v":""},null,null,null,null,null,null,null,null,null,null,{"$f":"IF(R123=\"\",\"\",R123)","v":""},null,{"$f":"IF(T123=\"\",\"\",T123)","v":""},null,{"$f":"IF(V123=\"\",\"\",V123)","v":""},null,{"$f":"IF(X123=\"\",\"\",X123)","v":""},null,{"$f":"IF(Z123=\"\",\"\",Z123)","v":""},null,{"$f":"IF(AB123=\"\",\"\",AB123)","v":""},null,{"$f":"IF(AD123=\"\",\"\",AD123)","v":""},null,{"$f":"IF(AF123=\"\",\"\",AF123)","v":""},null,{"$f":"IF(AH123=\"\",\"\",AH123)","v":""},null,{"$f":"IF(AJ123=\"\",\"\",AJ123)","v":""},null,{"$f":"IF(AL123=\"\",\"\",AL123)","v":""},null,null,{"$f":"IF(AO123=\"\",\"\",AO123)","v":""},null,null,{"$f":"IF(AR123=\"\",\"\",AR123)","v":""},null,null,null,null,{"$f":"IF(AW123=\"\",\"\",AW123)","v":""}]
[]
[]
[]
[null,"差引残高",null,null,null,null,{"$f":"IF(G203=\"\",\"\",G203+G207-G211-G215)","v":""},null,null,null,null,null,null,null,null,null,null,{"$f":"IF(R127=\"\",\"\",R127)","v":""},null,{"$f":"IF(T127=\"\",\"\",T127)","v":""},null,{"$f":"IF(V127=\"\",\"\",V127)","v":""},null,{"$f":"IF(X127=\"\",\"\",X127)","v":""},null,{"$f":"IF(Z127=\"\",\"\",Z127)","v":""},null,{"$f":"IF(AB127=\"\",\"\",AB127)","v":""},null,{"$f":"IF(AD127=\"\",\"\",AD127)","v":""},null,{"$f":"IF(AF127=\"\",\"\",AF127)","v":""},null,{"$f":"IF(AH127=\"\",\"\",AH127)","v":""},null,{"$f":"IF(AJ127=\"\",\"\",AJ127)","v":""},null,{"$f":"IF(AL127=\"\",\"\",AL127)","v":""},null,null,{"$f":"IF(AO127=\"\",\"\",AO127)","v":""},null,null,{"$f":"IF(AR127=\"\",\"\",AR127)","v":""},null,null,null,null,{"$f":"IF(AW127=\"\",\"\",AW127)","v":""}]
[]
[]
[]
[null,null,null,null,null,null,null,null,null,null,null,null,null,null,null,null,null,{"$f":"IF(R131=\"\",\"\",R131)","v":""},null,{"$f":"IF(T131=\"\",\"\",T131)","v":""},null,{"$f":"IF(V131=\"\",\"\",V131)","v":""},null,{"$f":"IF(X131=\"\",\"\",X131)","v":""},null,{"$f":"IF(Z131=\"\",\"\",Z131)","v":""},null,{"$f":"IF(AB131=\"\",\"\",AB131)","v":""},null,{"$f":"IF(AD131=\"\",\"\",AD131)","v":""},null,{"$f":"IF(AF131=\"\",\"\",AF131)","v":""},null,{"$f":"IF(AH131=\"\",\"\",AH131)","v":""},null,{"$f":"IF(AJ131=\"\",\"\",AJ131)","v":""},null,{"$f":"IF(AL131=\"\",\"\",AL131)","v":""},null,null,{"$f":"IF(AO131=\"\",\"\",AO131)","v":""},null,null,{"$f":"IF(AR131=\"\",\"\",AR131)","v":""},null,null,null,null,{"$f":"IF(AW131=\"\",\"\",AW131)","v":""}]
[]
[]
[]
[null,null,null,null,null,null,null,null,null,null,null,null,null,null,null,null,null,{"$f":"IF(R135=\"\",\"\",R135)","v":""},null,{"$f":"IF(T135=\"\",\"\",T135)","v":""},null,{"$f":"IF(V135=\"\",\"\",V135)","v":""},null,{"$f":"IF(X135=\"\",\"\",X135)","v":""},null,{"$f":"IF(Z135=\"\",\"\",Z135)","v":""},null,{"$f":"IF(AB135=\"\",\"\",AB135)","v":""},null,{"$f":"IF(AD135=\"\",\"\",AD135)","v":""},null,{"$f":"IF(AF135=\"\",\"\",AF135)","v":""},null,{"$f":"IF(AH135=\"\",\"\",AH135)","v":""},null,{"$f":"IF(AJ135=\"\",\"\",AJ135)","v":""},null,{"$f":"IF(AL135=\"\",\"\",AL135)","v":""},null,null,{"$f":"IF(AO135=\"\",\"\",AO135)","v":""},null,null,{"$f":"IF(AR135=\"\",\"\",AR135)","v":""},null,null,null,null,{"$f":"IF(AW135=\"\",\"\",AW135)","v":""}]
[]
[]
[]
[null,null,null,null,null,null,null,null,null,null,null,null,null,null,null,null,null,{"$f":"IF(R139=\"\",\"\",R139)","v":""},null,{"$f":"IF(T139=\"\",\"\",T139)","v":""},null,{"$f":"IF(V139=\"\",\"\",V139)","v":""},null,{"$f":"IF(X139=\"\",\"\",X139)","v":""},null,{"$f":"IF(Z139=\"\",\"\",Z139)","v":""},null,{"$f":"IF(AB139=\"\",\"\",AB139)","v":""},null,{"$f":"IF(AD139=\"\",\"\",AD139)","v":""},null,{"$f":"IF(AF139=\"\",\"\",AF139)","v":""},null,{"$f":"IF(AH139=\"\",\"\",AH139)","v":""},null,{"$f":"IF(AJ139=\"\",\"\",AJ139)","v":""},null,{"$f":"IF(AL139=\"\",\"\",AL139)","v":""},null,null,{"$f":"IF(AO139=\"\",\"\",AO139)","v":""},null,null,{"$f":"IF(AR139=\"\",\"\",AR139)","v":""},null,null,null,null,{"$f":"IF(AW139=\"\",\"\",AW139)","v":""}]
[]
[]
[]
[null,null,null,null,null,null,null,null,null,null,null,null,null,null,null,null,null,{"$f":"IF(R143=\"\",\"\",R143)","v":""},null,{"$f":"IF(T143=\"\",\"\",T143)","v":""},null,{"$f":"IF(V143=\"\",\"\",V143)","v":""},null,{"$f":"IF(X143=\"\",\"\",X143)","v":""},null,{"$f":"IF(Z143=\"\",\"\",Z143)","v":""},null,{"$f":"IF(AB143=\"\",\"\",AB143)","v":""},null,{"$f":"IF(AD143=\"\",\"\",AD143)","v":""},null,{"$f":"IF(AF143=\"\",\"\",AF143)","v":""},null,{"$f":"IF(AH143=\"\",\"\",AH143)","v":""},null,{"$f":"IF(AJ143=\"\",\"\",AJ143)","v":""},null,{"$f":"IF(AL143=\"\",\"\",AL143)","v":""},null,null,{"$f":"IF(AO143=\"\",\"\",AO143)","v":""},null,null,{"$f":"IF(AR143=\"\",\"\",AR143)","v":""},null,null,null,null,{"$f":"IF(AW143=\"\",\"\",AW143)","v":""}]
[]
[]
[]
[null,null,null,null,null,null,null,null,null,null,null,null,null,null,null,null,null,{"$f":"IF(R147=\"\",\"\",R147)","v":""},null,{"$f":"IF(T147=\"\",\"\",T147)","v":""},null,{"$f":"IF(V147=\"\",\"\",V147)","v":""},null,{"$f":"IF(X147=\"\",\"\",X147)","v":""},null,{"$f":"IF(Z147=\"\",\"\",Z147)","v":""},null,{"$f":"IF(AB147=\"\",\"\",AB147)","v":""},null,{"$f":"IF(AD147=\"\",\"\",AD147)","v":""},null,{"$f":"IF(AF147=\"\",\"\",AF147)","v":""},null,{"$f":"IF(AH147=\"\",\"\",AH147)","v":""},null,{"$f":"IF(AJ147=\"\",\"\",AJ147)","v":""},null,{"$f":"IF(AL147=\"\",\"\",AL147)","v":""},null,null,{"$f":"IF(AO147=\"\",\"\",AO147)","v":""},null,null,{"$f":"IF(AR147=\"\",\"\",AR147)","v":""},null,null,null,null,{"$f":"IF(AW147=\"\",\"\",AW147)","v":""}]
[]
[]
[]
[null,null,null,null,null,null,null,null,null,null,null,null,null,null,null,null,null,{"$f":"IF(R151=\"\",\"\",R151)","v":""},null,{"$f":"IF(T151=\"\",\"\",T151)","v":""},null,{"$f":"IF(V151=\"\",\"\",V151)","v":""},null,{"$f":"IF(X151=\"\",\"\",X151)","v":""},null,{"$f":"IF(Z151=\"\",\"\",Z151)","v":""},null,{"$f":"IF(AB151=\"\",\"\",AB151)","v":""},null,{"$f":"IF(AD151=\"\",\"\",AD151)","v":""},null,{"$f":"IF(AF151=\"\",\"\",AF151)","v":""},null,{"$f":"IF(AH151=\"\",\"\",AH151)","v":""},null,{"$f":"IF(AJ151=\"\",\"\",AJ151)","v":""},null,{"$f":"IF(AL151=\"\",\"\",AL151)","v":""},null,null,{"$f":"IF(AO151=\"\",\"\",AO151)","v":""},null,null,{"$f":"IF(AR151=\"\",\"\",AR151)","v":""},null,null,null,null,{"$f":"IF(AW151=\"\",\"\",AW151)","v":""}]
[]
[]
[]
[null,null,null,null,null,null,null,null,null,null,null,null,null,null,null,null,null,{"$f":"IF(R155=\"\",\"\",R155)","v":""},null,{"$f":"IF(T155=\"\",\"\",T155)","v":""},null,{"$f":"IF(V155=\"\",\"\",V155)","v":""},null,{"$f":"IF(X155=\"\",\"\",X155)","v":""},null,{"$f":"IF(Z155=\"\",\"\",Z155)","v":""},null,{"$f":"IF(AB155=\"\",\"\",AB155)","v":""},null,{"$f":"IF(AD155=\"\",\"\",AD155)","v":""},null,{"$f":"IF(AF155=\"\",\"\",AF155)","v":""},null,{"$f":"IF(AH155=\"\",\"\",AH155)","v":""},null,{"$f":"IF(AJ155=\"\",\"\",AJ155)","v":""},null,{"$f":"IF(AL155=\"\",\"\",AL155)","v":""},null,null,{"$f":"IF(AO155=\"\",\"\",AO155)","v":""},null,null,{"$f":"IF(AR155=\"\",\"\",AR155)","v":""},null,null,null,null,{"$f":"IF(AW155=\"\",\"\",AW155)","v":""}]
[]
[]
[]
[null,null,null,null,null,null,null,null,null,null,null,null,null,null,null,null,null,{"$f":"IF(R159=\"\",\"\",R159)","v":""},null,{"$f":"IF(T159=\"\",\"\",T159)","v":""},null,{"$f":"IF(V159=\"\",\"\",V159)","v":""},null,{"$f":"IF(X159=\"\",\"\",X159)","v":""},null,{"$f":"IF(Z159=\"\",\"\",Z159)","v":""},null,{"$f":"IF(AB159=\"\",\"\",AB159)","v":""},null,{"$f":"IF(AD159=\"\",\"\",AD159)","v":""},null,{"$f":"IF(AF159=\"\",\"\",AF159)","v":""},null,{"$f":"IF(AH159=\"\",\"\",AH159)","v":""},null,{"$f":"IF(AJ159=\"\",\"\",AJ159)","v":""},null,{"$f":"IF(AL159=\"\",\"\",AL159)","v":""},null,null,{"$f":"IF(AO159=\"\",\"\",AO159)","v":""},null,null,{"$f":"IF(AR159=\"\",\"\",AR159)","v":""},null,null,null,null,{"$f":"IF(AW159=\"\",\"\",AW159)","v":""}]
[]
[]
[]
[null,null,null,null,null,null,null,null,null,null,null,null,null,null,null,null,null,{"$f":"IF(R163=\"\",\"\",R163)","v":""},null,{"$f":"IF(T163=\"\",\"\",T163)","v":""},null,{"$f":"IF(V163=\"\",\"\",V163)","v":""},null,{"$f":"IF(X163=\"\",\"\",X163)","v":""},null,{"$f":"IF(Z163=\"\",\"\",Z163)","v":""},null,{"$f":"IF(AB163=\"\",\"\",AB163)","v":""},null,{"$f":"IF(AD163=\"\",\"\",AD163)","v":""},null,{"$f":"IF(AF163=\"\",\"\",AF163)","v":""},null,{"$f":"IF(AH163=\"\",\"\",AH163)","v":""},null,{"$f":"IF(AJ163=\"\",\"\",AJ163)","v":""},null,{"$f":"IF(AL163=\"\",\"\",AL163)","v":""},null,null,{"$f":"IF(AO163=\"\",\"\",AO163)","v":""},null,null,{"$f":"IF(AR163=\"\",\"\",AR163)","v":""},null,null,null,null,{"$f":"IF(AW163=\"\",\"\",AW163)","v":""}]
[]
[]
[]
[null,null,null,null,null,null,null,null,null,null,null,null,null,null,null,null,null,{"$f":"IF(R167=\"\",\"\",R167)","v":""},null,{"$f":"IF(T167=\"\",\"\",T167)","v":""},null,{"$f":"IF(V167=\"\",\"\",V167)","v":""},null,{"$f":"IF(X167=\"\",\"\",X167)","v":""},null,{"$f":"IF(Z167=\"\",\"\",Z167)","v":""},null,{"$f":"IF(AB167=\"\",\"\",AB167)","v":""},null,{"$f":"IF(AD167=\"\",\"\",AD167)","v":""},null,{"$f":"IF(AF167=\"\",\"\",AF167)","v":""},null,{"$f":"IF(AH167=\"\",\"\",AH167)","v":""},null,{"$f":"IF(AJ167=\"\",\"\",AJ167)","v":""},null,{"$f":"IF(AL167=\"\",\"\",AL167)","v":""},null,null,{"$f":"IF(AO167=\"\",\"\",AO167)","v":""},null,null,{"$f":"IF(AR167=\"\",\"\",AR167)","v":""},null,null,null,null,{"$f":"IF(AW167=\"\",\"\",AW167)","v":""}]
[]
[]
[]
[null,null,null,null,null,null,null,null,null,null,null,null,null,null,null,null,null,{"$f":"IF(R171=\"\",\"\",R171)","v":""},null,{"$f":"IF(T171=\"\",\"\",T171)","v":""},null,{"$f":"IF(V171=\"\",\"\",V171)","v":""},null,{"$f":"IF(X171=\"\",\"\",X171)","v":""},null,{"$f":"IF(Z171=\"\",\"\",Z171)","v":""},null,{"$f":"IF(AB171=\"\",\"\",AB171)","v":""},null,{"$f":"IF(AD171=\"\",\"\",AD171)","v":""},null,{"$f":"IF(AF171=\"\",\"\",AF171)","v":""},null,{"$f":"IF(AH171=\"\",\"\",AH171)","v":""},null,{"$f":"IF(AJ171=\"\",\"\",AJ171)","v":""},null,{"$f":"IF(AL171=\"\",\"\",AL171)","v":""},null,null,{"$f":"IF(AO171=\"\",\"\",AO171)","v":""},null,null,{"$f":"IF(AR171=\"\",\"\",AR171)","v":""},null,null,null,null,{"$f":"IF(AW171=\"\",\"\",AW171)","v":""}]
[]
[]
[]
[null,null,null,null,null,null,null,null,null,null,null,null,null,null,null,null,null,null,null,null,null,null,null,null,null,null,null,null,null,null,null,null,null,null,null,null,null,"値引き等",null,null,null,null,null,null,null,null,null,null,{"$f":"IF(AW175=\"\",\"\",AW175)","v":""}]
[]
[]
[]
[]
[null,null,null,null,null,null,null,null,null,null,null,null,null,null,null,null,null,null,null,null,null,null,null,null,null,null,null,null,null,null,null,null,null,null,null,null,null,{"$f":"\"合計(\" & IF(税処理=2,\"税込\",\"税抜\")&\")\"","v":"合計(税抜)"},null,null,null,null,null,null,null,null,null,null,{"$f":"IF(AW180=\"\",\"\",AW180)","v":""}]

{"sheet":"細1-4","index":6,"n_rows":272,"n_cols":53,"rows_kept":272,"cut":false,"hidden":false,"merged":[[3,46,5,48],[3,49,5,51],[3,52,5,54],[8,37,11,40],[8,41,11,54],[3,41,5,45],[1,19,4,32],[2,1,5,11],[2,12,5,13],[8,1,11,5],[8,6,11,11],[8,12,11,15],[8,16,11,35],[14,43,17,47],[14,48,17,54],[14,1,17,5],[14,6,17,15],[14,17,17,20],[14,21,17,36],[18,1,21,5],[18,6,21,15],[18,17,21,18],[18,19,21,20],[14,37,17,39],[14,40,17,42],[18,21,21,36],[18,37,21,39],[18,40,21,42],[18,43,21,47],[26,1,29,5],[26,6,29,15],[26,17,29,18],[26,19,29,20],[18,48,21,54],[22,1,25,5],[22,6,25,15],[22,17,25,18],[22,19,25,20],[22,21,25,36],[26,21,29,36],[26,37,29,39],[26,40,29,42],[26,43,29,47],[22,37,25,39],[22,40,25,42],[22,43,25,47],[34,48,37,54],[26,48,29,54],[30,1,33,3],[30,4,33,5],[30,6,33,15],[30,17,33,18],[30,19,33,20],[22,48,25,54],[38,17,41,18],[38,19,41,20],[38,21,41,36],[38,37,41,39],[30,48,33,54],[34,1,37,5],[34,6,37,15],[34,17,37,18],[34,19,37,20],[34,21,37,36],[38,40,41,42],[38,43,41,47],[38,48,41,54],[30,21,33,36],[30,37,33,39],[30,40,33,42],[30,43,33,47],[34,37,37,39],[34,40,37,42],[34,43,37,47],[46,40,49,42],[46,43,49,47],[46,21,49,36],[46,37,49,39],[54,40,57,42],[54,43,57,47],[42,17,45,18],[42,19,45,20],[42,21,45,36],[42,37,45,39],[42,40,45,42],[42,43,45,47],[42,48,45,54],[46,48,49,54],[50,17,53,18],[50,19,53,20],[50,21,53,36],[50,37,53,39],[50,40,53,42],[50,43,53,47],[50,48,53,54],[46,17,49,18],[46,19,49,20],[58,17,61,18],[58,19,61,20],[58,21,61,36],[58,37,61,39],[58,40,61,42],[58,43,61,47],[58,48,61,54],[54,17,57,18],[54,19,57,20],[54,21,57,36],[54,37,57,39],[54,48,57,54],[62,40,65,42],[62,43,65,47],[62,21,65,36],[62,37,65,39],[70,40,73,42],[70,43,73,47],[70,48,73,54],[62,48,65,54],[66,17,69,18],[66,19,69,20],[66,21,69,36],[66,37,69,39],[66,40,69,42],[66,43,69,47],[66,48,69,54],[62,17,65,18],[62,19,65,20],[74,17,77,18],[74,19,77,20],[74,21,77,36],[74,37,77,39],[74,40,77,42],[74,43,77,47],[74,48,77,54],[70,17,73,18],[70,19,73,20],[70,21,73,36],[70,37,73,39],[78,48,81,54],[82,37,85,47],[82,48,85,54],[78,37,81,39],[78,40,81,42],[85,11,90,16],[85,17,90,25],[78,43,81,47],[83,26,84,30],[83,31,84,35],[78,17,81,18],[78,19,81,20],[78,21,81,36],[85,26,90,30],[85,31,90,35],[83,1,84,4],[83,5,84,10],[87,37,90,47],[83,11,84,16],[83,17,84,25],[95,46,97,48],[85,1,90,4],[85,5,90,10],[87,48,90,54],[95,49,97,51],[95,52,97,54],[100,1,103,5],[100,6,103,11],[100,12,103,15],[100,16,103,35],[100,37,103,40],[100,41,103,54],[93,19,96,32],[94,1,97,11],[94,12,97,13],[95,41,97,45],[106,37,109,39],[106,40,109,42],[106,43,109,47],[106,48,109,54],[106,1,109,5],[106,6,109,15],[106,17,109,20],[106,21,109,36],[110,21,113,36],[110,37,113,39],[110,40,113,42],[110,43,113,47],[110,1,113,5],[110,6,113,15],[110,17,113,18],[110,19,113,20],[110,48,113,54],[114,1,117,5],[114,6,117,15],[114,17,117,18],[114,19,117,20],[114,21,117,36],[114,37,117,39],[114,40,117,42],[114,43,117,47],[114,48,117,54],[118,21,121,36],[118,37,121,39],[118,40,121,42],[118,43,121,47],[118,1,121,5],[118,6,121,15],[118,17,121,18],[118,19,121,20],[118,48,121,54],[122,48,125,54],[126,1,129,5],[126,6,129,15],[126,17,129,18],[126,19,129,20],[126,21,129,36],[126,37,129,39],[126,40,129,42],[126,43,129,47],[126,48,129,54],[122,1,125,3],[122,4,125,5],[122,6,125,15],[122,17,125,18],[122,19,125,20],[122,21,125,36],[122,37,125,39],[122,40,125,42],[122,43,125,47],[130,40,133,42],[130,43,133,47],[130,21,133,36],[130,37,133,39],[138,40,141,42],[138,43,141,47],[138,48,141,54],[130,48,133,54],[134,17,137,18],[134,19,137,20],[134,21,137,36],[134,37,137,39],[134,40,137,42],[134,43,137,47],[134,48,137,54],[130,17,133,18],[130,19,133,20],[142,17,145,18],[142,19,145,20],[142,21,145,36],[142,37,145,39],[142,40,145,42],[142,43,145,47],[142,48,145,54],[138,17,141,18],[138,19,141,20],[138,21,141,36],[138,37,141,39],[154,48,157,54],[146,48,149,54],[150,17,153,18],[150,19,153,20],[150,21,153,36],[150,37,153,39],[150,40,153,42],[150,43,153,47],[150,48,153,54],[146,17,149,18],[146,19,149,20],[154,17,157,18],[154,19,157,20],[154,21,157,36],[154,37,157,39],[146,40,149,42],[146,43,149,47],[146,21,149,36],[146,37,149,39],[154,40,157,42],[154,43,157,47],[170,48,173,54],[174,37,177,47],[174,48,177,54],[170,17,173,18],[170,19,173,20],[158,17,161,18],[158,19,161,20],[158,21,161,36],[158,37,161,39],[158,40,161,42],[158,43,161,47],[158,48,161,54],[170,21,173,36],[170,37,173,39],[179,48,182,54],[185,19,188,32],[186,1,189,11],[186,12,189,13],[187,41,189,45],[192,37,195,40],[192,41,195,54],[162,40,165,42],[162,43,165,47],[162,21,165,36],[162,37,165,39],[187,46,189,48],[162,48,165,54],[166,17,169,18],[166,19,169,20],[166,21,169,36],[166,37,169,39],[166,40,169,42],[166,43,169,47],[166,48,169,54],[162,17,165,18],[162,19,165,20],[187,49,189,51],[187,52,189,54],[179,37,182,47],[170,40,173,42],[170,43,173,47],[198,48,201,54],[202,21,205,36],[202,37,205,39],[202,40,205,42],[202,43,205,47],[202,1,205,5],[202,6,205,15],[202,17,205,18],[202,19,205,20],[202,48,205,54],[198,1,201,5],[198,6,201,15],[198,17,201,20],[198,21,201,36],[198,37,201,39],[198,40,201,42],[198,43,201,47],[192,1,195,5],[192,6,195,11],[192,12,195,15],[192,16,195,35],[206,1,209,5],[206,6,209,15],[206,17,209,18],[206,19,209,20],[206,21,209,36],[206,37,209,39],[206,40,209,42],[206,43,209,47],[206,48,209,54],[210,21,213,36],[210,37,213,39],[210,40,213,42],[210,43,213,47],[210,1,213,5],[210,6,213,15],[210,17,213,18],[210,19,213,20],[210,48,213,54],[214,48,217,54],[218,1,221,5],[218,6,221,15],[218,17,221,18],[218,19,221,20],[218,21,221,36],[218,37,221,39],[218,40,221,42],[218,43,221,47],[218,48,221,54],[214,1,217,3],[214,4,217,5],[214,6,217,15],[214,17,217,18],[214,19,217,20],[214,21,217,36],[214,37,217,39],[214,40,217,42],[214,43,217,47],[222,40,225,42],[222,43,225,47],[222,21,225,36],[222,37,225,39],[230,40,233,42],[230,43,233,47],[230,48,233,54],[222,48,225,54],[226,17,229,18],[226,19,229,20],[226,21,229,36],[226,37,229,39],[226,40,229,42],[226,43,229,47],[226,48,229,54],[222,17,225,18],[222,19,225,20],[234,17,237,18],[234,19,237,20],[234,21,237,36],[234,37,237,39],[234,40,237,42],[234,43,237,47],[234,48,237,54],[230,17,233,18],[230,19,233,20],[230,21,233,36],[230,37,233,39],[242,17,245,18],[242,19,245,20],[242,21,245,36],[242,37,245,39],[242,40,245,42],[242,43,245,47],[242,48,245,54],[238,17,241,18],[238,19,241,20],[254,37,257,39],[238,40,241,42],[238,43,241,47],[238,21,241,36],[238,37,241,39],[246,40,249,42],[246,43,249,47],[246,48,249,54],[238,48,241,54],[250,17,253,18],[250,19,253,20],[250,21,253,36],[250,37,253,39],[250,40,253,42],[250,43,253,47],[250,48,253,54],[246,17,249,18],[246,19,249,20],[246,21,249,36],[246,37,249,39],[271,37,274,47],[254,48,257,54],[258,17,261,18],[258,19,261,20],[258,21,261,36],[258,37,261,39],[258,40,261,42],[258,43,261,47],[258,48,261,54],[254,17,257,18],[254,19,257,20],[271,48,274,54],[262,40,265,42],[262,43,265,47],[262,48,265,54],[266,37,269,47],[266,48,269,54],[262,17,265,18],[262,19,265,20],[262,21,265,36],[262,37,265,39],[254,40,257,42],[254,43,257,47],[254,21,257,36]]}
[]
[null,null,null,null,null,null,null,null,null,null,null,null,null,null,null,null,null,null,null,"請求書明細書 (正)"]
[null,"株 式 会 社 種 村 建 設",null,null,null,null,null,null,null,null,null,null,"御中"]
[null,null,null,null,null,null,null,null,null,null,null,null,null,null,null,null,null,null,null,null,null,null,null,null,null,null,null,null,null,null,null,null,null,null,null,null,null,null,null,null,null,"請求年月日",null,null,null,null,{"$f":"年","v":23},null,null,{"$f":"月","v":5},null,null,{"$f":"日","v":31}]
[]
[]
[]
[]
[null,"工事番号",null,null,null,null,null,null,null,null,null,null,"工事名",null,null,null,null,null,null,null,null,null,null,null,null,null,null,null,null,null,null,null,null,null,null,null,null,"業者名",null,null,null,{"$f":"社名","v":"例：㈱種村建設"}]
[]
[]
[]
[]
[]
[null,"注文番号",null,null,null,null,null,null,null,null,null,null,null,null,null,null,null,"月　日",null,null,null,"摘要･品名",null,null,null,null,null,null,null,null,null,null,null,null,null,null,null,"数 量",null,null,"単位",null,null,"単価",null,null,null,null,{"$f":"\"金額(\" & IF(税処理=2,\"税込\",\"税抜\")&\")\"","v":"金額(税抜)"}]
[]
[]
[]
[null,"契約金額",null,null,null,null,null,null,null,null,null,null,null,null,null,null,null,null,null,null,null,null,null,null,null,null,null,null,null,null,null,null,null,null,null,null,null,null,null,null,null,null,null,null,null,null,null,null,{"$f":"IF(V19=\"\",\"\",AL19*AR19)","v":""}]
[]
[]
[]
[null,"増減額",null,null,null,null,null,null,null,null,null,null,null,null,null,null,null,null,null,null,null,null,null,null,null,null,null,null,null,null,null,null,null,null,null,null,null,null,null,null,null,null,null,null,null,null,null,null,{"$f":"IF(V23=\"\",\"\",AL23*AR23)","v":""}]
[]
[]
[]
[null,"前回までの\n請求額",null,null,null,null,null,null,null,null,null,null,null,null,null,null,null,null,null,null,null,null,null,null,null,null,null,null,null,null,null,null,null,null,null,null,null,null,null,null,null,null,null,null,null,null,null,null,{"$f":"IF(V27=\"\",\"\",AL27*AR27)","v":""}]
[]
[]
[]
[null,"今回\n請求額",null,null,null,null,null,null,null,null,null,null,null,null,null,null,null,null,null,null,null,null,null,null,null,null,null,null,null,null,null,null,null,null,null,null,null,null,null,null,null,null,null,null,null,null,null,null,{"$f":"IF(V31=\"\",\"\",AL31*AR31)","v":""}]
[]
[]
[]
[null,"差引残高",null,null,null,null,{"$f":"IF(G19=\"\",\"\",G19+G23-G27-G31)","v":""},null,null,null,null,null,null,null,null,null,null,null,null,null,null,null,null,null,null,null,null,null,null,null,null,null,null,null,null,null,null,null,null,null,null,null,null,null,null,null,null,null,{"$f":"IF(V35=\"\",\"\",AL35*AR35)","v":""}]
[]
[]
[]
[null,null,null,null,null,null,null,null,null,null,null,null,null,null,null,null,null,null,null,null,null,null,null,null,null,null,null,null,null,null,null,null,null,null,null,null,null,null,null,null,null,null,null,null,null,null,null,null,{"$f":"IF(V39=\"\",\"\",AL39*AR39)","v":""}]
[]
[]
[]
[null,null,null,null,null,null,null,null,null,null,null,null,null,null,null,null,null,null,null,null,null,null,null,null,null,null,null,null,null,null,null,null,null,null,null,null,null,null,null,null,null,null,null,null,null,null,null,null,{"$f":"IF(V43=\"\",\"\",AL43*AR43)","v":""}]
[]
[]
[]
[null,null,null,null,null,null,null,null,null,null,null,null,null,null,null,null,null,null,null,null,null,null,null,null,null,null,null,null,null,null,null,null,null,null,null,null,null,null,null,null,null,null,null,null,null,null,null,null,{"$f":"IF(V47=\"\",\"\",AL47*AR47)","v":""}]
[]
[]
[]
[null,null,null,null,null,null,null,null,null,null,null,null,null,null,null,null,null,null,null,null,null,null,null,null,null,null,null,null,null,null,null,null,null,null,null,null,null,null,null,null,null,null,null,null,null,null,null,null,{"$f":"IF(V51=\"\",\"\",AL51*AR51)","v":""}]
[]
[]
[]
[null,null,null,null,null,null,null,null,null,null,null,null,null,null,null,null,null,null,null,null,null,null,null,null,null,null,null,null,null,null,null,null,null,null,null,null,null,null,null,null,null,null,null,null,null,null,null,null,{"$f":"IF(V55=\"\",\"\",AL55*AR55)","v":""}]
[]
[]
[]
[null,null,null,null,null,null,null,null,null,null,null,null,null,null,null,null,null,null,null,null,null,null,null,null,null,null,null,null,null,null,null,null,null,null,null,null,null,null,null,null,null,null,null,null,null,null,null,null,{"$f":"IF(V59=\"\",\"\",AL59*AR59)","v":""}]
[]
[]
[]
[null,null,null,null,null,null,null,null,null,null,null,null,null,null,null,null,null,null,null,null,null,null,null,null,null,null,null,null,null,null,null,null,null,null,null,null,null,null,null,null,null,null,null,null,null,null,null,null,{"$f":"IF(V63=\"\",\"\",AL63*AR63)","v":""}]
[]
[]
[]
[null,null,null,null,null,null,null,null,null,null,null,null,null,null,null,null,null,null,null,null,null,null,null,null,null,null,null,null,null,null,null,null,null,null,null,null,null,null,null,null,null,null,null,null,null,null,null,null,{"$f":"IF(V67=\"\",\"\",AL67*AR67)","v":""}]
[]
[]
[]
[null,null,null,null,null,null,null,null,null,null,null,null,null,null,null,null,null,null,null,null,null,null,null,null,null,null,null,null,null,null,null,null,null,null,null,null,null,null,null,null,null,null,null,null,null,null,null,null,{"$f":"IF(V71=\"\",\"\",AL71*AR71)","v":""}]
[]
[]
[]
[null,null,null,null,null,null,null,null,null,null,null,null,null,null,null,null,null,null,null,null,null,null,null,null,null,null,null,null,null,null,null,null,null,null,null,null,null,null,null,null,null,null,null,null,null,null,null,null,{"$f":"IF(V75=\"\",\"\",AL75*AR75)","v":""}]
[]
[]
[]
[null,null,null,null,null,null,null,null,null,null,null,null,null,null,null,null,null,null,null,null,null,null,null,null,null,null,null,null,null,null,null,null,null,null,null,null,null,null,null,null,null,null,null,null,null,null,null,null,{"$f":"IF(V79=\"\",\"\",AL79*AR79)","v":""}]
[]
[]
[]
[null,null,null,null,null,null,null,null,null,null,null,null,null,null,null,null,null,null,null,null,null,null,null,null,null,null,null,null,null,null,null,null,null,null,null,null,null,"値引き等"]
[null,"社長",null,null,null,"専務",null,null,null,null,null,"常務",null,null,null,null,null,"部長･工場長",null,null,null,null,null,null,null,null,"担当者",null,null,null,null,"受付"]
[]
[]
[]
[null,null,null,null,null,null,null,null,null,null,null,null,null,null,null,null,null,null,null,null,null,null,null,null,null,null,null,null,null,null,null,null,null,null,null,null,null,{"$f":"\"合計(\" & IF(税処理=2,\"税込\",\"税抜\")&\")\"","v":"合計(税抜)"},null,null,null,null,null,null,null,null,null,null,{"$f":"IF(AW19=\"\",\"\",SUM(AW19:AW79)+AW83)","v":""}]
[]
[]
[]
[]
[]
[null,null,null,null,null,null,null,null,null,null,null,null,null,null,null,null,null,null,null,"請求明細書 (現場控)"]
[null,"株 式 会 社 種 村 建 設",null,null,null,null,null,null,null,null,null,null,"御中"]
[null,null,null,null,null,null,null,null,null,null,null,null,null,null,null,null,null,null,null,null,null,null,null,null,null,null,null,null,null,null,null,null,null,null,null,null,null,null,null,null,null,"請求年月日",null,null,null,null,{"$f":"IF(AU4=\"\",\"\",AU4)","v":23},null,null,{"$f":"IF(AX4=\"\",\"\",AX4)","v":5},null,null,{"$f":"IF(BA4=\"\",\"\",BA4)","v":31}]
[]
[]
[]
[]
[null,"工事番号",null,null,null,null,{"$f":"IF(G9=\"\",\"\",G9)","v":""},null,null,null,null,null,"工事名",null,null,null,{"$f":"IF(Q9=\"\",\"\",Q9)","v":""},null,null,null,null,null,null,null,null,null,null,null,null,null,null,null,null,null,null,null,null,"業者名",null,null,null,{"$f":"IF(AP9=\"\",\"\",AP9)","v":"例：㈱種村建設"}]
[]
[]
[]
[]
[]
[null,"注文番号",null,null,null,null,{"$f":"IF(G15=\"\",\"\",G15)","v":""},null,null,null,null,null,null,null,null,null,null,"月　日",null,null,null,"摘要･品名",null,null,null,null,null,null,null,null,null,null,null,null,null,null,null,"数 量",null,null,"単位",null,null,"単価",null,null,null,null,{"$f":"\"金額(\" & IF(税処理=2,\"税込\",\"税抜\")&\")\"","v":"金額(税抜)"}]
[]
[]
[]
[null,"契約金額",null,null,null,null,{"$f":"IF(G19=\"\",\"\",G19)","v":""},null,null,null,null,null,null,null,null,null,null,{"$f":"IF(R19=\"\",\"\",R19)","v":""},null,{"$f":"IF(T19=\"\",\"\",T19)","v":""},null,{"$f":"IF(V19=\"\",\"\",V19)","v":""},null,{"$f":"IF(X19=\"\",\"\",X19)","v":""},null,{"$f":"IF(Z19=\"\",\"\",Z19)","v":""},null,{"$f":"IF(AB19=\"\",\"\",AB19)","v":""},null,{"$f":"IF(AD19=\"\",\"\",AD19)","v":""},null,{"$f":"IF(AF19=\"\",\"\",AF19)","v":""},null,{"$f":"IF(AH19=\"\",\"\",AH19)","v":""},null,{"$f":"IF(AJ19=\"\",\"\",AJ19)","v":""},null,{"$f":"IF(AL19=\"\",\"\",AL19)","v":""},null,null,{"$f":"IF(AO19=\"\",\"\",AO19)","v":""},null,null,{"$f":"IF(AR19=\"\",\"\",AR19)","v":""},null,null,null,null,{"$f":"IF(AW19=\"\",\"\",AW19)","v":""}]
[]
[]
[]
[null,"増減額",null,null,null,null,{"$f":"IF(G23=\"\",\"\",G23)","v":""},null,null,null,null,null,null,null,null,null,null,{"$f":"IF(R23=\"\",\"\",R23)","v":""},null,{"$f":"IF(T23=\"\",\"\",T23)","v":""},null,{"$f":"IF(V23=\"\",\"\",V23)","v":""},null,{"$f":"IF(X23=\"\",\"\",X23)","v":""},null,{"$f":"IF(Z23=\"\",\"\",Z23)","v":""},null,{"$f":"IF(AB23=\"\",\"\",AB23)","v":""},null,{"$f":"IF(AD23=\"\",\"\",AD23)","v":""},null,{"$f":"IF(AF23=\"\",\"\",AF23)","v":""},null,{"$f":"IF(AH23=\"\",\"\",AH23)","v":""},null,{"$f":"IF(AJ23=\"\",\"\",AJ23)","v":""},null,{"$f":"IF(AL23=\"\",\"\",AL23)","v":""},null,null,{"$f":"IF(AO23=\"\",\"\",AO23)","v":""},null,null,{"$f":"IF(AR23=\"\",\"\",AR23)","v":""},null,null,null,null,{"$f":"IF(AW23=\"\",\"\",AW23)","v":""}]
[]
[]
[]
[null,"前回までの\n請求額",null,null,null,null,{"$f":"IF(G27=\"\",\"\",G27)","v":""},null,null,null,null,null,null,null,null,null,null,{"$f":"IF(R27=\"\",\"\",R27)","v":""},null,{"$f":"IF(T27=\"\",\"\",T27)","v":""},null,{"$f":"IF(V27=\"\",\"\",V27)","v":""},null,{"$f":"IF(X27=\"\",\"\",X27)","v":""},null,{"$f":"IF(Z27=\"\",\"\",Z27)","v":""},null,{"$f":"IF(AB27=\"\",\"\",AB27)","v":""},null,{"$f":"IF(AD27=\"\",\"\",AD27)","v":""},null,{"$f":"IF(AF27=\"\",\"\",AF27)","v":""},null,{"$f":"IF(AH27=\"\",\"\",AH27)","v":""},null,{"$f":"IF(AJ27=\"\",\"\",AJ27)","v":""},null,{"$f":"IF(AL27=\"\",\"\",AL27)","v":""},null,null,{"$f":"IF(AO27=\"\",\"\",AO27)","v":""},null,null,{"$f":"IF(AR27=\"\",\"\",AR27)","v":""},null,null,null,null,{"$f":"IF(AW27=\"\",\"\",AW27)","v":""}]
[]
[]
[]
[null,"今回\n請求額",null,null,{"$f":"IF(E31=\"\",\"\",E31)","v":""},null,{"$f":"IF(G31=\"\",\"\",G31)","v":""},null,null,null,null,null,null,null,null,null,null,{"$f":"IF(R31=\"\",\"\",R31)","v":""},null,{"$f":"IF(T31=\"\",\"\",T31)","v":""},null,{"$f":"IF(V31=\"\",\"\",V31)","v":""},null,{"$f":"IF(X31=\"\",\"\",X31)","v":""},null,{"$f":"IF(Z31=\"\",\"\",Z31)","v":""},null,{"$f":"IF(AB31=\"\",\"\",AB31)","v":""},null,{"$f":"IF(AD31=\"\",\"\",AD31)","v":""},null,{"$f":"IF(AF31=\"\",\"\",AF31)","v":""},null,{"$f":"IF(AH31=\"\",\"\",AH31)","v":""},null,{"$f":"IF(AJ31=\"\",\"\",AJ31)","v":""},null,{"$f":"IF(AL31=\"\",\"\",AL31)","v":""},null,null,{"$f":"IF(AO31=\"\",\"\",AO31)","v":""},null,null,{"$f":"IF(AR31=\"\",\"\",AR31)","v":""},null,null,null,null,{"$f":"IF(AW31=\"\",\"\",AW31)","v":""}]
[]
[]
[]
[null,"差引残高",null,null,null,null,{"$f":"IF(G111=\"\",\"\",G111+G115-G119-G123)","v":""},null,null,null,null,null,null,null,null,null,null,{"$f":"IF(R35=\"\",\"\",R35)","v":""},null,{"$f":"IF(T35=\"\",\"\",T35)","v":""},null,{"$f":"IF(V35=\"\",\"\",V35)","v":""},null,{"$f":"IF(X35=\"\",\"\",X35)","v":""},null,{"$f":"IF(Z35=\"\",\"\",Z35)","v":""},null,{"$f":"IF(AB35=\"\",\"\",AB35)","v":""},null,{"$f":"IF(AD35=\"\",\"\",AD35)","v":""},null,{"$f":"IF(AF35=\"\",\"\",AF35)","v":""},null,{"$f":"IF(AH35=\"\",\"\",AH35)","v":""},null,{"$f":"IF(AJ35=\"\",\"\",AJ35)","v":""},null,{"$f":"IF(AL35=\"\",\"\",AL35)","v":""},null,null,{"$f":"IF(AO35=\"\",\"\",AO35)","v":""},null,null,{"$f":"IF(AR35=\"\",\"\",AR35)","v":""},null,null,null,null,{"$f":"IF(AW35=\"\",\"\",AW35)","v":""}]
[]
[]
[]
[null,null,null,null,null,null,null,null,null,null,null,null,null,null,null,null,null,{"$f":"IF(R39=\"\",\"\",R39)","v":""},null,{"$f":"IF(T39=\"\",\"\",T39)","v":""},null,{"$f":"IF(V39=\"\",\"\",V39)","v":""},null,{"$f":"IF(X39=\"\",\"\",X39)","v":""},null,{"$f":"IF(Z39=\"\",\"\",Z39)","v":""},null,{"$f":"IF(AB39=\"\",\"\",AB39)","v":""},null,{"$f":"IF(AD39=\"\",\"\",AD39)","v":""},null,{"$f":"IF(AF39=\"\",\"\",AF39)","v":""},null,{"$f":"IF(AH39=\"\",\"\",AH39)","v":""},null,{"$f":"IF(AJ39=\"\",\"\",AJ39)","v":""},null,{"$f":"IF(AL39=\"\",\"\",AL39)","v":""},null,null,{"$f":"IF(AO39=\"\",\"\",AO39)","v":""},null,null,{"$f":"IF(AR39=\"\",\"\",AR39)","v":""},null,null,null,null,{"$f":"IF(AW39=\"\",\"\",AW39)","v":""}]
[]
[]
[]
[null,null,null,null,null,null,null,null,null,null,null,null,null,null,null,null,null,{"$f":"IF(R43=\"\",\"\",R43)","v":""},null,{"$f":"IF(T43=\"\",\"\",T43)","v":""},null,{"$f":"IF(V43=\"\",\"\",V43)","v":""},null,{"$f":"IF(X43=\"\",\"\",X43)","v":""},null,{"$f":"IF(Z43=\"\",\"\",Z43)","v":""},null,{"$f":"IF(AB43=\"\",\"\",AB43)","v":""},null,{"$f":"IF(AD43=\"\",\"\",AD43)","v":""},null,{"$f":"IF(AF43=\"\",\"\",AF43)","v":""},null,{"$f":"IF(AH43=\"\",\"\",AH43)","v":""},null,{"$f":"IF(AJ43=\"\",\"\",AJ43)","v":""},null,{"$f":"IF(AL43=\"\",\"\",AL43)","v":""},null,null,{"$f":"IF(AO43=\"\",\"\",AO43)","v":""},null,null,{"$f":"IF(AR43=\"\",\"\",AR43)","v":""},null,null,null,null,{"$f":"IF(AW43=\"\",\"\",AW43)","v":""}]
[]
[]
[]
[null,null,null,null,null,null,null,null,null,null,null,null,null,null,null,null,null,{"$f":"IF(R47=\"\",\"\",R47)","v":""},null,{"$f":"IF(T47=\"\",\"\",T47)","v":""},null,{"$f":"IF(V47=\"\",\"\",V47)","v":""},null,{"$f":"IF(X47=\"\",\"\",X47)","v":""},null,{"$f":"IF(Z47=\"\",\"\",Z47)","v":""},null,{"$f":"IF(AB47=\"\",\"\",AB47)","v":""},null,{"$f":"IF(AD47=\"\",\"\",AD47)","v":""},null,{"$f":"IF(AF47=\"\",\"\",AF47)","v":""},null,{"$f":"IF(AH47=\"\",\"\",AH47)","v":""},null,{"$f":"IF(AJ47=\"\",\"\",AJ47)","v":""},null,{"$f":"IF(AL47=\"\",\"\",AL47)","v":""},null,null,{"$f":"IF(AO47=\"\",\"\",AO47)","v":""},null,null,{"$f":"IF(AR47=\"\",\"\",AR47)","v":""},null,null,null,null,{"$f":"IF(AW47=\"\",\"\",AW47)","v":""}]
[]
[]
[]
[null,null,null,null,null,null,null,null,null,null,null,null,null,null,null,null,null,{"$f":"IF(R51=\"\",\"\",R51)","v":""},null,{"$f":"IF(T51=\"\",\"\",T51)","v":""},null,{"$f":"IF(V51=\"\",\"\",V51)","v":""},null,{"$f":"IF(X51=\"\",\"\",X51)","v":""},null,{"$f":"IF(Z51=\"\",\"\",Z51)","v":""},null,{"$f":"IF(AB51=\"\",\"\",AB51)","v":""},null,{"$f":"IF(AD51=\"\",\"\",AD51)","v":""},null,{"$f":"IF(AF51=\"\",\"\",AF51)","v":""},null,{"$f":"IF(AH51=\"\",\"\",AH51)","v":""},null,{"$f":"IF(AJ51=\"\",\"\",AJ51)","v":""},null,{"$f":"IF(AL51=\"\",\"\",AL51)","v":""},null,null,{"$f":"IF(AO51=\"\",\"\",AO51)","v":""},null,null,{"$f":"IF(AR51=\"\",\"\",AR51)","v":""},null,null,null,null,{"$f":"IF(AW51=\"\",\"\",AW51)","v":""}]
[]
[]
[]
[null,null,null,null,null,null,null,null,null,null,null,null,null,null,null,null,null,{"$f":"IF(R55=\"\",\"\",R55)","v":""},null,{"$f":"IF(T55=\"\",\"\",T55)","v":""},null,{"$f":"IF(V55=\"\",\"\",V55)","v":""},null,{"$f":"IF(X55=\"\",\"\",X55)","v":""},null,{"$f":"IF(Z55=\"\",\"\",Z55)","v":""},null,{"$f":"IF(AB55=\"\",\"\",AB55)","v":""},null,{"$f":"IF(AD55=\"\",\"\",AD55)","v":""},null,{"$f":"IF(AF55=\"\",\"\",AF55)","v":""},null,{"$f":"IF(AH55=\"\",\"\",AH55)","v":""},null,{"$f":"IF(AJ55=\"\",\"\",AJ55)","v":""},null,{"$f":"IF(AL55=\"\",\"\",AL55)","v":""},null,null,{"$f":"IF(AO55=\"\",\"\",AO55)","v":""},null,null,{"$f":"IF(AR55=\"\",\"\",AR55)","v":""},null,null,null,null,{"$f":"IF(AW55=\"\",\"\",AW55)","v":""}]
[]
[]
[]
[null,null,null,null,null,null,null,null,null,null,null,null,null,null,null,null,null,{"$f":"IF(R59=\"\",\"\",R59)","v":""},null,{"$f":"IF(T59=\"\",\"\",T59)","v":""},null,{"$f":"IF(V59=\"\",\"\",V59)","v":""},null,{"$f":"IF(X59=\"\",\"\",X59)","v":""},null,{"$f":"IF(Z59=\"\",\"\",Z59)","v":""},null,{"$f":"IF(AB59=\"\",\"\",AB59)","v":""},null,{"$f":"IF(AD59=\"\",\"\",AD59)","v":""},null,{"$f":"IF(AF59=\"\",\"\",AF59)","v":""},null,{"$f":"IF(AH59=\"\",\"\",AH59)","v":""},null,{"$f":"IF(AJ59=\"\",\"\",AJ59)","v":""},null,{"$f":"IF(AL59=\"\",\"\",AL59)","v":""},null,null,{"$f":"IF(AO59=\"\",\"\",AO59)","v":""},null,null,{"$f":"IF(AR59=\"\",\"\",AR59)","v":""},null,null,null,null,{"$f":"IF(AW59=\"\",\"\",AW59)","v":""}]
[]
[]
[]
[null,null,null,null,null,null,null,null,null,null,null,null,null,null,null,null,null,{"$f":"IF(R63=\"\",\"\",R63)","v":""},null,{"$f":"IF(T63=\"\",\"\",T63)","v":""},null,{"$f":"IF(V63=\"\",\"\",V63)","v":""},null,{"$f":"IF(X63=\"\",\"\",X63)","v":""},null,{"$f":"IF(Z63=\"\",\"\",Z63)","v":""},null,{"$f":"IF(AB63=\"\",\"\",AB63)","v":""},null,{"$f":"IF(AD63=\"\",\"\",AD63)","v":""},null,{"$f":"IF(AF63=\"\",\"\",AF63)","v":""},null,{"$f":"IF(AH63=\"\",\"\",AH63)","v":""},null,{"$f":"IF(AJ63=\"\",\"\",AJ63)","v":""},null,{"$f":"IF(AL63=\"\",\"\",AL63)","v":""},null,null,{"$f":"IF(AO63=\"\",\"\",AO63)","v":""},null,null,{"$f":"IF(AR63=\"\",\"\",AR63)","v":""},null,null,null,null,{"$f":"IF(AW63=\"\",\"\",AW63)","v":""}]
[]
[]
[]
[null,null,null,null,null,null,null,null,null,null,null,null,null,null,null,null,null,{"$f":"IF(R67=\"\",\"\",R67)","v":""},null,{"$f":"IF(T67=\"\",\"\",T67)","v":""},null,{"$f":"IF(V67=\"\",\"\",V67)","v":""},null,{"$f":"IF(X67=\"\",\"\",X67)","v":""},null,{"$f":"IF(Z67=\"\",\"\",Z67)","v":""},null,{"$f":"IF(AB67=\"\",\"\",AB67)","v":""},null,{"$f":"IF(AD67=\"\",\"\",AD67)","v":""},null,{"$f":"IF(AF67=\"\",\"\",AF67)","v":""},null,{"$f":"IF(AH67=\"\",\"\",AH67)","v":""},null,{"$f":"IF(AJ67=\"\",\"\",AJ67)","v":""},null,{"$f":"IF(AL67=\"\",\"\",AL67)","v":""},null,null,{"$f":"IF(AO67=\"\",\"\",AO67)","v":""},null,null,{"$f":"IF(AR67=\"\",\"\",AR67)","v":""},null,null,null,null,{"$f":"IF(AW67=\"\",\"\",AW67)","v":""}]
[]
[]
[]
[null,null,null,null,null,null,null,null,null,null,null,null,null,null,null,null,null,{"$f":"IF(R71=\"\",\"\",R71)","v":""},null,{"$f":"IF(T71=\"\",\"\",T71)","v":""},null,{"$f":"IF(V71=\"\",\"\",V71)","v":""},null,{"$f":"IF(X71=\"\",\"\",X71)","v":""},null,{"$f":"IF(Z71=\"\",\"\",Z71)","v":""},null,{"$f":"IF(AB71=\"\",\"\",AB71)","v":""},null,{"$f":"IF(AD71=\"\",\"\",AD71)","v":""},null,{"$f":"IF(AF71=\"\",\"\",AF71)","v":""},null,{"$f":"IF(AH71=\"\",\"\",AH71)","v":""},null,{"$f":"IF(AJ71=\"\",\"\",AJ71)","v":""},null,{"$f":"IF(AL71=\"\",\"\",AL71)","v":""},null,null,{"$f":"IF(AO71=\"\",\"\",AO71)","v":""},null,null,{"$f":"IF(AR71=\"\",\"\",AR71)","v":""},null,null,null,null,{"$f":"IF(AW71=\"\",\"\",AW71)","v":""}]
[]
[]
[]
[null,null,null,null,null,null,null,null,null,null,null,null,null,null,null,null,null,{"$f":"IF(R75=\"\",\"\",R75)","v":""},null,{"$f":"IF(T75=\"\",\"\",T75)","v":""},null,{"$f":"IF(V75=\"\",\"\",V75)","v":""},null,{"$f":"IF(X75=\"\",\"\",X75)","v":""},null,{"$f":"IF(Z75=\"\",\"\",Z75)","v":""},null,{"$f":"IF(AB75=\"\",\"\",AB75)","v":""},null,{"$f":"IF(AD75=\"\",\"\",AD75)","v":""},null,{"$f":"IF(AF75=\"\",\"\",AF75)","v":""},null,{"$f":"IF(AH75=\"\",\"\",AH75)","v":""},null,{"$f":"IF(AJ75=\"\",\"\",AJ75)","v":""},null,{"$f":"IF(AL75=\"\",\"\",AL75)","v":""},null,null,{"$f":"IF(AO75=\"\",\"\",AO75)","v":""},null,null,{"$f":"IF(AR75=\"\",\"\",AR75)","v":""},null,null,null,null,{"$f":"IF(AW75=\"\",\"\",AW75)","v":""}]
[]
[]
[]
[null,null,null,null,null,null,null,null,null,null,null,null,null,null,null,null,null,{"$f":"IF(R79=\"\",\"\",R79)","v":""},null,{"$f":"IF(T79=\"\",\"\",T79)","v":""},null,{"$f":"IF(V79=\"\",\"\",V79)","v":""},null,{"$f":"IF(X79=\"\",\"\",X79)","v":""},null,{"$f":"IF(Z79=\"\",\"\",Z79)","v":""},null,{"$f":"IF(AB79=\"\",\"\",AB79)","v":""},null,{"$f":"IF(AD79=\"\",\"\",AD79)","v":""},null,{"$f":"IF(AF79=\"\",\"\",AF79)","v":""},null,{"$f":"IF(AH79=\"\",\"\",AH79)","v":""},null,{"$f":"IF(AJ79=\"\",\"\",AJ79)","v":""},null,{"$f":"IF(AL79=\"\",\"\",AL79)","v":""},null,null,{"$f":"IF(AO79=\"\",\"\",AO79)","v":""},null,null,{"$f":"IF(AR79=\"\",\"\",AR79)","v":""},null,null,null,null,{"$f":"IF(AW79=\"\",\"\",AW79)","v":""}]
[]
[]
[]
[null,null,null,null,null,null,null,null,null,null,null,null,null,null,null,null,null,null,null,null,null,null,null,null,null,null,null,null,null,null,null,null,null,null,null,null,null,"値引き等",null,null,null,null,null,null,null,null,null,null,{"$f":"IF(AW83=\"\",\"\",AW83)","v":""}]
[]
[]
[]
[]
[null,null,null,null,null,null,null,null,null,null,null,null,null,null,null,null,null,null,null,null,null,null,null,null,null,null,null,null,null,null,null,null,null,null,null,null,null,{"$f":"\"合計(\" & IF(税処理=2,\"税込\",\"税抜\")&\")\"","v":"合計(税抜)"},null,null,null,null,null,null,null,null,null,null,{"$f":"IF(AW88=\"\",\"\",AW88)","v":""}]
[]
[]
[]
[]
[]
[null,null,null,null,null,null,null,null,null,null,null,null,null,null,null,null,null,null,null,"請求明細書 (貴社控)"]
[null,"株 式 会 社 種 村 建 設",null,null,null,null,null,null,null,null,null,null,"御中"]
[null,null,null,null,null,null,null,null,null,null,null,null,null,null,null,null,null,null,null,null,null,null,null,null,null,null,null,null,null,null,null,null,null,null,null,null,null,null,null,null,null,"請求年月日",null,null,null,null,{"$f":"IF(AU96=\"\",\"\",AU96)","v":23},null,null,{"$f":"IF(AX96=\"\",\"\",AX96)","v":5},null,null,{"$f":"IF(BA96=\"\",\"\",BA96)","v":31}]
[]
[]
[]
[]
[null,"工事番号",null,null,null,null,{"$f":"IF(G101=\"\",\"\",G101)","v":""},null,null,null,null,null,"工事名",null,null,null,{"$f":"IF(Q101=\"\",\"\",Q101)","v":""},null,null,null,null,null,null,null,null,null,null,null,null,null,null,null,null,null,null,null,null,"業者名",null,null,null,{"$f":"IF(AP101=\"\",\"\",AP101)","v":"例：㈱種村建設"}]
[]
[]
[]
[]
[]
[null,"注文番号",null,null,null,null,{"$f":"IF(G107=\"\",\"\",G107)","v":""},null,null,null,null,null,null,null,null,null,null,"月　日",null,null,null,"摘要･品名",null,null,null,null,null,null,null,null,null,null,null,null,null,null,null,"数 量",null,null,"単位",null,null,"単価",null,null,null,null,{"$f":"\"金額(\" & IF(税処理=2,\"税込\",\"税抜\")&\")\"","v":"金額(税抜)"}]
[]
[]
[]
[null,"契約金額",null,null,null,null,{"$f":"IF(G111=\"\",\"\",G111)","v":""},null,null,null,null,null,null,null,null,null,null,{"$f":"IF(R111=\"\",\"\",R111)","v":""},null,{"$f":"IF(T111=\"\",\"\",T111)","v":""},null,{"$f":"IF(V111=\"\",\"\",V111)","v":""},null,{"$f":"IF(X111=\"\",\"\",X111)","v":""},null,{"$f":"IF(Z111=\"\",\"\",Z111)","v":""},null,{"$f":"IF(AB111=\"\",\"\",AB111)","v":""},null,{"$f":"IF(AD111=\"\",\"\",AD111)","v":""},null,{"$f":"IF(AF111=\"\",\"\",AF111)","v":""},null,{"$f":"IF(AH111=\"\",\"\",AH111)","v":""},null,{"$f":"IF(AJ111=\"\",\"\",AJ111)","v":""},null,{"$f":"IF(AL111=\"\",\"\",AL111)","v":""},null,null,{"$f":"IF(AO111=\"\",\"\",AO111)","v":""},null,null,{"$f":"IF(AR111=\"\",\"\",AR111)","v":""},null,null,null,null,{"$f":"IF(AW111=\"\",\"\",AW111)","v":""}]
[]
[]
[]
[null,"増減額",null,null,null,null,{"$f":"IF(G115=\"\",\"\",G115)","v":""},null,null,null,null,null,null,null,null,null,null,{"$f":"IF(R115=\"\",\"\",R115)","v":""},null,{"$f":"IF(T115=\"\",\"\",T115)","v":""},null,{"$f":"IF(V115=\"\",\"\",V115)","v":""},null,{"$f":"IF(X115=\"\",\"\",X115)","v":""},null,{"$f":"IF(Z115=\"\",\"\",Z115)","v":""},null,{"$f":"IF(AB115=\"\",\"\",AB115)","v":""},null,{"$f":"IF(AD115=\"\",\"\",AD115)","v":""},null,{"$f":"IF(AF115=\"\",\"\",AF115)","v":""},null,{"$f":"IF(AH115=\"\",\"\",AH115)","v":""},null,{"$f":"IF(AJ115=\"\",\"\",AJ115)","v":""},null,{"$f":"IF(AL115=\"\",\"\",AL115)","v":""},null,null,{"$f":"IF(AO115=\"\",\"\",AO115)","v":""},null,null,{"$f":"IF(AR115=\"\",\"\",AR115)","v":""},null,null,null,null,{"$f":"IF(AW115=\"\",\"\",AW115)","v":""}]
[]
[]
[]
[null,"前回までの\n請求額",null,null,null,null,{"$f":"IF(G119=\"\",\"\",G119)","v":""},null,null,null,null,null,null,null,null,null,null,{"$f":"IF(R119=\"\",\"\",R119)","v":""},null,{"$f":"IF(T119=\"\",\"\",T119)","v":""},null,{"$f":"IF(V119=\"\",\"\",V119)","v":""},null,{"$f":"IF(X119=\"\",\"\",X119)","v":""},null,{"$f":"IF(Z119=\"\",\"\",Z119)","v":""},null,{"$f":"IF(AB119=\"\",\"\",AB119)","v":""},null,{"$f":"IF(AD119=\"\",\"\",AD119)","v":""},null,{"$f":"IF(AF119=\"\",\"\",AF119)","v":""},null,{"$f":"IF(AH119=\"\",\"\",AH119)","v":""},null,{"$f":"IF(AJ119=\"\",\"\",AJ119)","v":""},null,{"$f":"IF(AL119=\"\",\"\",AL119)","v":""},null,null,{"$f":"IF(AO119=\"\",\"\",AO119)","v":""},null,null,{"$f":"IF(AR119=\"\",\"\",AR119)","v":""},null,null,null,null,{"$f":"IF(AW119=\"\",\"\",AW119)","v":""}]
[]
[]
[]
[null,"今回\n請求額",null,null,{"$f":"IF(E31=\"\",\"\",E31)","v":""},null,{"$f":"IF(G123=\"\",\"\",G123)","v":""},null,null,null,null,null,null,null,null,null,null,{"$f":"IF(R123=\"\",\"\",R123)","v":""},null,{"$f":"IF(T123=\"\",\"\",T123)","v":""},null,{"$f":"IF(V123=\"\",\"\",V123)","v":""},null,{"$f":"IF(X123=\"\",\"\",X123)","v":""},null,{"$f":"IF(Z123=\"\",\"\",Z123)","v":""},null,{"$f":"IF(AB123=\"\",\"\",AB123)","v":""},null,{"$f":"IF(AD123=\"\",\"\",AD123)","v":""},null,{"$f":"IF(AF123=\"\",\"\",AF123)","v":""},null,{"$f":"IF(AH123=\"\",\"\",AH123)","v":""},null,{"$f":"IF(AJ123=\"\",\"\",AJ123)","v":""},null,{"$f":"IF(AL123=\"\",\"\",AL123)","v":""},null,null,{"$f":"IF(AO123=\"\",\"\",AO123)","v":""},null,null,{"$f":"IF(AR123=\"\",\"\",AR123)","v":""},null,null,null,null,{"$f":"IF(AW123=\"\",\"\",AW123)","v":""}]
[]
[]
[]
[null,"差引残高",null,null,null,null,{"$f":"IF(G203=\"\",\"\",G203+G207-G211-G215)","v":""},null,null,null,null,null,null,null,null,null,null,{"$f":"IF(R127=\"\",\"\",R127)","v":""},null,{"$f":"IF(T127=\"\",\"\",T127)","v":""},null,{"$f":"IF(V127=\"\",\"\",V127)","v":""},null,{"$f":"IF(X127=\"\",\"\",X127)","v":""},null,{"$f":"IF(Z127=\"\",\"\",Z127)","v":""},null,{"$f":"IF(AB127=\"\",\"\",AB127)","v":""},null,{"$f":"IF(AD127=\"\",\"\",AD127)","v":""},null,{"$f":"IF(AF127=\"\",\"\",AF127)","v":""},null,{"$f":"IF(AH127=\"\",\"\",AH127)","v":""},null,{"$f":"IF(AJ127=\"\",\"\",AJ127)","v":""},null,{"$f":"IF(AL127=\"\",\"\",AL127)","v":""},null,null,{"$f":"IF(AO127=\"\",\"\",AO127)","v":""},null,null,{"$f":"IF(AR127=\"\",\"\",AR127)","v":""},null,null,null,null,{"$f":"IF(AW127=\"\",\"\",AW127)","v":""}]
[]
[]
[]
[null,null,null,null,null,null,null,null,null,null,null,null,null,null,null,null,null,{"$f":"IF(R131=\"\",\"\",R131)","v":""},null,{"$f":"IF(T131=\"\",\"\",T131)","v":""},null,{"$f":"IF(V131=\"\",\"\",V131)","v":""},null,{"$f":"IF(X131=\"\",\"\",X131)","v":""},null,{"$f":"IF(Z131=\"\",\"\",Z131)","v":""},null,{"$f":"IF(AB131=\"\",\"\",AB131)","v":""},null,{"$f":"IF(AD131=\"\",\"\",AD131)","v":""},null,{"$f":"IF(AF131=\"\",\"\",AF131)","v":""},null,{"$f":"IF(AH131=\"\",\"\",AH131)","v":""},null,{"$f":"IF(AJ131=\"\",\"\",AJ131)","v":""},null,{"$f":"IF(AL131=\"\",\"\",AL131)","v":""},null,null,{"$f":"IF(AO131=\"\",\"\",AO131)","v":""},null,null,{"$f":"IF(AR131=\"\",\"\",AR131)","v":""},null,null,null,null,{"$f":"IF(AW131=\"\",\"\",AW131)","v":""}]
[]
[]
[]
[null,null,null,null,null,null,null,null,null,null,null,null,null,null,null,null,null,{"$f":"IF(R135=\"\",\"\",R135)","v":""},null,{"$f":"IF(T135=\"\",\"\",T135)","v":""},null,{"$f":"IF(V135=\"\",\"\",V135)","v":""},null,{"$f":"IF(X135=\"\",\"\",X135)","v":""},null,{"$f":"IF(Z135=\"\",\"\",Z135)","v":""},null,{"$f":"IF(AB135=\"\",\"\",AB135)","v":""},null,{"$f":"IF(AD135=\"\",\"\",AD135)","v":""},null,{"$f":"IF(AF135=\"\",\"\",AF135)","v":""},null,{"$f":"IF(AH135=\"\",\"\",AH135)","v":""},null,{"$f":"IF(AJ135=\"\",\"\",AJ135)","v":""},null,{"$f":"IF(AL135=\"\",\"\",AL135)","v":""},null,null,{"$f":"IF(AO135=\"\",\"\",AO135)","v":""},null,null,{"$f":"IF(AR135=\"\",\"\",AR135)","v":""},null,null,null,null,{"$f":"IF(AW135=\"\",\"\",AW135)","v":""}]
[]
[]
[]
[null,null,null,null,null,null,null,null,null,null,null,null,null,null,null,null,null,{"$f":"IF(R139=\"\",\"\",R139)","v":""},null,{"$f":"IF(T139=\"\",\"\",T139)","v":""},null,{"$f":"IF(V139=\"\",\"\",V139)","v":""},null,{"$f":"IF(X139=\"\",\"\",X139)","v":""},null,{"$f":"IF(Z139=\"\",\"\",Z139)","v":""},null,{"$f":"IF(AB139=\"\",\"\",AB139)","v":""},null,{"$f":"IF(AD139=\"\",\"\",AD139)","v":""},null,{"$f":"IF(AF139=\"\",\"\",AF139)","v":""},null,{"$f":"IF(AH139=\"\",\"\",AH139)","v":""},null,{"$f":"IF(AJ139=\"\",\"\",AJ139)","v":""},null,{"$f":"IF(AL139=\"\",\"\",AL139)","v":""},null,null,{"$f":"IF(AO139=\"\",\"\",AO139)","v":""},null,null,{"$f":"IF(AR139=\"\",\"\",AR139)","v":""},null,null,null,null,{"$f":"IF(AW139=\"\",\"\",AW139)","v":""}]
[]
[]
[]
[null,null,null,null,null,null,null,null,null,null,null,null,null,null,null,null,null,{"$f":"IF(R143=\"\",\"\",R143)","v":""},null,{"$f":"IF(T143=\"\",\"\",T143)","v":""},null,{"$f":"IF(V143=\"\",\"\",V143)","v":""},null,{"$f":"IF(X143=\"\",\"\",X143)","v":""},null,{"$f":"IF(Z143=\"\",\"\",Z143)","v":""},null,{"$f":"IF(AB143=\"\",\"\",AB143)","v":""},null,{"$f":"IF(AD143=\"\",\"\",AD143)","v":""},null,{"$f":"IF(AF143=\"\",\"\",AF143)","v":""},null,{"$f":"IF(AH143=\"\",\"\",AH143)","v":""},null,{"$f":"IF(AJ143=\"\",\"\",AJ143)","v":""},null,{"$f":"IF(AL143=\"\",\"\",AL143)","v":""},null,null,{"$f":"IF(AO143=\"\",\"\",AO143)","v":""},null,null,{"$f":"IF(AR143=\"\",\"\",AR143)","v":""},null,null,null,null,{"$f":"IF(AW143=\"\",\"\",AW143)","v":""}]
[]
[]
[]
[null,null,null,null,null,null,null,null,null,null,null,null,null,null,null,null,null,{"$f":"IF(R147=\"\",\"\",R147)","v":""},null,{"$f":"IF(T147=\"\",\"\",T147)","v":""},null,{"$f":"IF(V147=\"\",\"\",V147)","v":""},null,{"$f":"IF(X147=\"\",\"\",X147)","v":""},null,{"$f":"IF(Z147=\"\",\"\",Z147)","v":""},null,{"$f":"IF(AB147=\"\",\"\",AB147)","v":""},null,{"$f":"IF(AD147=\"\",\"\",AD147)","v":""},null,{"$f":"IF(AF147=\"\",\"\",AF147)","v":""},null,{"$f":"IF(AH147=\"\",\"\",AH147)","v":""},null,{"$f":"IF(AJ147=\"\",\"\",AJ147)","v":""},null,{"$f":"IF(AL147=\"\",\"\",AL147)","v":""},null,null,{"$f":"IF(AO147=\"\",\"\",AO147)","v":""},null,null,{"$f":"IF(AR147=\"\",\"\",AR147)","v":""},null,null,null,null,{"$f":"IF(AW147=\"\",\"\",AW147)","v":""}]
[]
[]
[]
[null,null,null,null,null,null,null,null,null,null,null,null,null,null,null,null,null,{"$f":"IF(R151=\"\",\"\",R151)","v":""},null,{"$f":"IF(T151=\"\",\"\",T151)","v":""},null,{"$f":"IF(V151=\"\",\"\",V151)","v":""},null,{"$f":"IF(X151=\"\",\"\",X151)","v":""},null,{"$f":"IF(Z151=\"\",\"\",Z151)","v":""},null,{"$f":"IF(AB151=\"\",\"\",AB151)","v":""},null,{"$f":"IF(AD151=\"\",\"\",AD151)","v":""},null,{"$f":"IF(AF151=\"\",\"\",AF151)","v":""},null,{"$f":"IF(AH151=\"\",\"\",AH151)","v":""},null,{"$f":"IF(AJ151=\"\",\"\",AJ151)","v":""},null,{"$f":"IF(AL151=\"\",\"\",AL151)","v":""},null,null,{"$f":"IF(AO151=\"\",\"\",AO151)","v":""},null,null,{"$f":"IF(AR151=\"\",\"\",AR151)","v":""},null,null,null,null,{"$f":"IF(AW151=\"\",\"\",AW151)","v":""}]
[]
[]
[]
[null,null,null,null,null,null,null,null,null,null,null,null,null,null,null,null,null,{"$f":"IF(R155=\"\",\"\",R155)","v":""},null,{"$f":"IF(T155=\"\",\"\",T155)","v":""},null,{"$f":"IF(V155=\"\",\"\",V155)","v":""},null,{"$f":"IF(X155=\"\",\"\",X155)","v":""},null,{"$f":"IF(Z155=\"\",\"\",Z155)","v":""},null,{"$f":"IF(AB155=\"\",\"\",AB155)","v":""},null,{"$f":"IF(AD155=\"\",\"\",AD155)","v":""},null,{"$f":"IF(AF155=\"\",\"\",AF155)","v":""},null,{"$f":"IF(AH155=\"\",\"\",AH155)","v":""},null,{"$f":"IF(AJ155=\"\",\"\",AJ155)","v":""},null,{"$f":"IF(AL155=\"\",\"\",AL155)","v":""},null,null,{"$f":"IF(AO155=\"\",\"\",AO155)","v":""},null,null,{"$f":"IF(AR155=\"\",\"\",AR155)","v":""},null,null,null,null,{"$f":"IF(AW155=\"\",\"\",AW155)","v":""}]
[]
[]
[]
[null,null,null,null,null,null,null,null,null,null,null,null,null,null,null,null,null,{"$f":"IF(R159=\"\",\"\",R159)","v":""},null,{"$f":"IF(T159=\"\",\"\",T159)","v":""},null,{"$f":"IF(V159=\"\",\"\",V159)","v":""},null,{"$f":"IF(X159=\"\",\"\",X159)","v":""},null,{"$f":"IF(Z159=\"\",\"\",Z159)","v":""},null,{"$f":"IF(AB159=\"\",\"\",AB159)","v":""},null,{"$f":"IF(AD159=\"\",\"\",AD159)","v":""},null,{"$f":"IF(AF159=\"\",\"\",AF159)","v":""},null,{"$f":"IF(AH159=\"\",\"\",AH159)","v":""},null,{"$f":"IF(AJ159=\"\",\"\",AJ159)","v":""},null,{"$f":"IF(AL159=\"\",\"\",AL159)","v":""},null,null,{"$f":"IF(AO159=\"\",\"\",AO159)","v":""},null,null,{"$f":"IF(AR159=\"\",\"\",AR159)","v":""},null,null,null,null,{"$f":"IF(AW159=\"\",\"\",AW159)","v":""}]
[]
[]
[]
[null,null,null,null,null,null,null,null,null,null,null,null,null,null,null,null,null,{"$f":"IF(R163=\"\",\"\",R163)","v":""},null,{"$f":"IF(T163=\"\",\"\",T163)","v":""},null,{"$f":"IF(V163=\"\",\"\",V163)","v":""},null,{"$f":"IF(X163=\"\",\"\",X163)","v":""},null,{"$f":"IF(Z163=\"\",\"\",Z163)","v":""},null,{"$f":"IF(AB163=\"\",\"\",AB163)","v":""},null,{"$f":"IF(AD163=\"\",\"\",AD163)","v":""},null,{"$f":"IF(AF163=\"\",\"\",AF163)","v":""},null,{"$f":"IF(AH163=\"\",\"\",AH163)","v":""},null,{"$f":"IF(AJ163=\"\",\"\",AJ163)","v":""},null,{"$f":"IF(AL163=\"\",\"\",AL163)","v":""},null,null,{"$f":"IF(AO163=\"\",\"\",AO163)","v":""},null,null,{"$f":"IF(AR163=\"\",\"\",AR163)","v":""},null,null,null,null,{"$f":"IF(AW163=\"\",\"\",AW163)","v":""}]
[]
[]
[]
[null,null,null,null,null,null,null,null,null,null,null,null,null,null,null,null,null,{"$f":"IF(R167=\"\",\"\",R167)","v":""},null,{"$f":"IF(T167=\"\",\"\",T167)","v":""},null,{"$f":"IF(V167=\"\",\"\",V167)","v":""},null,{"$f":"IF(X167=\"\",\"\",X167)","v":""},null,{"$f":"IF(Z167=\"\",\"\",Z167)","v":""},null,{"$f":"IF(AB167=\"\",\"\",AB167)","v":""},null,{"$f":"IF(AD167=\"\",\"\",AD167)","v":""},null,{"$f":"IF(AF167=\"\",\"\",AF167)","v":""},null,{"$f":"IF(AH167=\"\",\"\",AH167)","v":""},null,{"$f":"IF(AJ167=\"\",\"\",AJ167)","v":""},null,{"$f":"IF(AL167=\"\",\"\",AL167)","v":""},null,null,{"$f":"IF(AO167=\"\",\"\",AO167)","v":""},null,null,{"$f":"IF(AR167=\"\",\"\",AR167)","v":""},null,null,null,null,{"$f":"IF(AW167=\"\",\"\",AW167)","v":""}]
[]
[]
[]
[null,null,null,null,null,null,null,null,null,null,null,null,null,null,null,null,null,{"$f":"IF(R171=\"\",\"\",R171)","v":""},null,{"$f":"IF(T171=\"\",\"\",T171)","v":""},null,{"$f":"IF(V171=\"\",\"\",V171)","v":""},null,{"$f":"IF(X171=\"\",\"\",X171)","v":""},null,{"$f":"IF(Z171=\"\",\"\",Z171)","v":""},null,{"$f":"IF(AB171=\"\",\"\",AB171)","v":""},null,{"$f":"IF(AD171=\"\",\"\",AD171)","v":""},null,{"$f":"IF(AF171=\"\",\"\",AF171)","v":""},null,{"$f":"IF(AH171=\"\",\"\",AH171)","v":""},null,{"$f":"IF(AJ171=\"\",\"\",AJ171)","v":""},null,{"$f":"IF(AL171=\"\",\"\",AL171)","v":""},null,null,{"$f":"IF(AO171=\"\",\"\",AO171)","v":""},null,null,{"$f":"IF(AR171=\"\",\"\",AR171)","v":""},null,null,null,null,{"$f":"IF(AW171=\"\",\"\",AW171)","v":""}]
[]
[]
[]
[null,null,null,null,null,null,null,null,null,null,null,null,null,null,null,null,null,null,null,null,null,null,null,null,null,null,null,null,null,null,null,null,null,null,null,null,null,"値引き等",null,null,null,null,null,null,null,null,null,null,{"$f":"IF(AW175=\"\",\"\",AW175)","v":""}]
[]
[]
[]
[]
[null,null,null,null,null,null,null,null,null,null,null,null,null,null,null,null,null,null,null,null,null,null,null,null,null,null,null,null,null,null,null,null,null,null,null,null,null,{"$f":"\"合計(\" & IF(税処理=2,\"税込\",\"税抜\")&\")\"","v":"合計(税抜)"},null,null,null,null,null,null,null,null,null,null,{"$f":"IF(AW180=\"\",\"\",AW180)","v":""}]

{"sheet":"細1-5","index":7,"n_rows":272,"n_cols":53,"rows_kept":272,"cut":false,"hidden":false,"merged":[[3,46,5,48],[3,49,5,51],[3,52,5,54],[8,37,11,40],[8,41,11,54],[3,41,5,45],[1,19,4,32],[2,1,5,11],[2,12,5,13],[8,1,11,5],[8,6,11,11],[8,12,11,15],[8,16,11,35],[14,43,17,47],[14,48,17,54],[14,1,17,5],[14,6,17,15],[14,17,17,20],[14,21,17,36],[18,1,21,5],[18,6,21,15],[18,17,21,18],[18,19,21,20],[14,37,17,39],[14,40,17,42],[18,21,21,36],[18,37,21,39],[18,40,21,42],[18,43,21,47],[26,1,29,5],[26,6,29,15],[26,17,29,18],[26,19,29,20],[18,48,21,54],[22,1,25,5],[22,6,25,15],[22,17,25,18],[22,19,25,20],[22,21,25,36],[26,21,29,36],[26,37,29,39],[26,40,29,42],[26,43,29,47],[22,37,25,39],[22,40,25,42],[22,43,25,47],[34,48,37,54],[26,48,29,54],[30,1,33,3],[30,4,33,5],[30,6,33,15],[30,17,33,18],[30,19,33,20],[22,48,25,54],[38,17,41,18],[38,19,41,20],[38,21,41,36],[38,37,41,39],[30,48,33,54],[34,1,37,5],[34,6,37,15],[34,17,37,18],[34,19,37,20],[34,21,37,36],[38,40,41,42],[38,43,41,47],[38,48,41,54],[30,21,33,36],[30,37,33,39],[30,40,33,42],[30,43,33,47],[34,37,37,39],[34,40,37,42],[34,43,37,47],[46,40,49,42],[46,43,49,47],[46,21,49,36],[46,37,49,39],[54,40,57,42],[54,43,57,47],[42,17,45,18],[42,19,45,20],[42,21,45,36],[42,37,45,39],[42,40,45,42],[42,43,45,47],[42,48,45,54],[46,48,49,54],[50,17,53,18],[50,19,53,20],[50,21,53,36],[50,37,53,39],[50,40,53,42],[50,43,53,47],[50,48,53,54],[46,17,49,18],[46,19,49,20],[58,17,61,18],[58,19,61,20],[58,21,61,36],[58,37,61,39],[58,40,61,42],[58,43,61,47],[58,48,61,54],[54,17,57,18],[54,19,57,20],[54,21,57,36],[54,37,57,39],[54,48,57,54],[62,40,65,42],[62,43,65,47],[62,21,65,36],[62,37,65,39],[70,40,73,42],[70,43,73,47],[70,48,73,54],[62,48,65,54],[66,17,69,18],[66,19,69,20],[66,21,69,36],[66,37,69,39],[66,40,69,42],[66,43,69,47],[66,48,69,54],[62,17,65,18],[62,19,65,20],[74,17,77,18],[74,19,77,20],[74,21,77,36],[74,37,77,39],[74,40,77,42],[74,43,77,47],[74,48,77,54],[70,17,73,18],[70,19,73,20],[70,21,73,36],[70,37,73,39],[78,48,81,54],[82,37,85,47],[82,48,85,54],[78,37,81,39],[78,40,81,42],[85,11,90,16],[85,17,90,25],[78,43,81,47],[83,26,84,30],[83,31,84,35],[78,17,81,18],[78,19,81,20],[78,21,81,36],[85,26,90,30],[85,31,90,35],[83,1,84,4],[83,5,84,10],[87,37,90,47],[83,11,84,16],[83,17,84,25],[95,46,97,48],[85,1,90,4],[85,5,90,10],[87,48,90,54],[95,49,97,51],[95,52,97,54],[100,1,103,5],[100,6,103,11],[100,12,103,15],[100,16,103,35],[100,37,103,40],[100,41,103,54],[93,19,96,32],[94,1,97,11],[94,12,97,13],[95,41,97,45],[106,37,109,39],[106,40,109,42],[106,43,109,47],[106,48,109,54],[106,1,109,5],[106,6,109,15],[106,17,109,20],[106,21,109,36],[110,21,113,36],[110,37,113,39],[110,40,113,42],[110,43,113,47],[110,1,113,5],[110,6,113,15],[110,17,113,18],[110,19,113,20],[110,48,113,54],[114,1,117,5],[114,6,117,15],[114,17,117,18],[114,19,117,20],[114,21,117,36],[114,37,117,39],[114,40,117,42],[114,43,117,47],[114,48,117,54],[118,21,121,36],[118,37,121,39],[118,40,121,42],[118,43,121,47],[118,1,121,5],[118,6,121,15],[118,17,121,18],[118,19,121,20],[118,48,121,54],[122,48,125,54],[126,1,129,5],[126,6,129,15],[126,17,129,18],[126,19,129,20],[126,21,129,36],[126,37,129,39],[126,40,129,42],[126,43,129,47],[126,48,129,54],[122,1,125,3],[122,4,125,5],[122,6,125,15],[122,17,125,18],[122,19,125,20],[122,21,125,36],[122,37,125,39],[122,40,125,42],[122,43,125,47],[130,40,133,42],[130,43,133,47],[130,21,133,36],[130,37,133,39],[138,40,141,42],[138,43,141,47],[138,48,141,54],[130,48,133,54],[134,17,137,18],[134,19,137,20],[134,21,137,36],[134,37,137,39],[134,40,137,42],[134,43,137,47],[134,48,137,54],[130,17,133,18],[130,19,133,20],[142,17,145,18],[142,19,145,20],[142,21,145,36],[142,37,145,39],[142,40,145,42],[142,43,145,47],[142,48,145,54],[138,17,141,18],[138,19,141,20],[138,21,141,36],[138,37,141,39],[154,48,157,54],[146,48,149,54],[150,17,153,18],[150,19,153,20],[150,21,153,36],[150,37,153,39],[150,40,153,42],[150,43,153,47],[150,48,153,54],[146,17,149,18],[146,19,149,20],[154,17,157,18],[154,19,157,20],[154,21,157,36],[154,37,157,39],[146,40,149,42],[146,43,149,47],[146,21,149,36],[146,37,149,39],[154,40,157,42],[154,43,157,47],[170,48,173,54],[174,37,177,47],[174,48,177,54],[170,17,173,18],[170,19,173,20],[158,17,161,18],[158,19,161,20],[158,21,161,36],[158,37,161,39],[158,40,161,42],[158,43,161,47],[158,48,161,54],[170,21,173,36],[170,37,173,39],[179,48,182,54],[185,19,188,32],[186,1,189,11],[186,12,189,13],[187,41,189,45],[192,37,195,40],[192,41,195,54],[162,40,165,42],[162,43,165,47],[162,21,165,36],[162,37,165,39],[187,46,189,48],[162,48,165,54],[166,17,169,18],[166,19,169,20],[166,21,169,36],[166,37,169,39],[166,40,169,42],[166,43,169,47],[166,48,169,54],[162,17,165,18],[162,19,165,20],[187,49,189,51],[187,52,189,54],[179,37,182,47],[170,40,173,42],[170,43,173,47],[198,48,201,54],[202,21,205,36],[202,37,205,39],[202,40,205,42],[202,43,205,47],[202,1,205,5],[202,6,205,15],[202,17,205,18],[202,19,205,20],[202,48,205,54],[198,1,201,5],[198,6,201,15],[198,17,201,20],[198,21,201,36],[198,37,201,39],[198,40,201,42],[198,43,201,47],[192,1,195,5],[192,6,195,11],[192,12,195,15],[192,16,195,35],[206,1,209,5],[206,6,209,15],[206,17,209,18],[206,19,209,20],[206,21,209,36],[206,37,209,39],[206,40,209,42],[206,43,209,47],[206,48,209,54],[210,21,213,36],[210,37,213,39],[210,40,213,42],[210,43,213,47],[210,1,213,5],[210,6,213,15],[210,17,213,18],[210,19,213,20],[210,48,213,54],[214,48,217,54],[218,1,221,5],[218,6,221,15],[218,17,221,18],[218,19,221,20],[218,21,221,36],[218,37,221,39],[218,40,221,42],[218,43,221,47],[218,48,221,54],[214,1,217,3],[214,4,217,5],[214,6,217,15],[214,17,217,18],[214,19,217,20],[214,21,217,36],[214,37,217,39],[214,40,217,42],[214,43,217,47],[222,40,225,42],[222,43,225,47],[222,21,225,36],[222,37,225,39],[230,40,233,42],[230,43,233,47],[230,48,233,54],[222,48,225,54],[226,17,229,18],[226,19,229,20],[226,21,229,36],[226,37,229,39],[226,40,229,42],[226,43,229,47],[226,48,229,54],[222,17,225,18],[222,19,225,20],[234,17,237,18],[234,19,237,20],[234,21,237,36],[234,37,237,39],[234,40,237,42],[234,43,237,47],[234,48,237,54],[230,17,233,18],[230,19,233,20],[230,21,233,36],[230,37,233,39],[242,17,245,18],[242,19,245,20],[242,21,245,36],[242,37,245,39],[242,40,245,42],[242,43,245,47],[242,48,245,54],[238,17,241,18],[238,19,241,20],[254,37,257,39],[238,40,241,42],[238,43,241,47],[238,21,241,36],[238,37,241,39],[246,40,249,42],[246,43,249,47],[246,48,249,54],[238,48,241,54],[250,17,253,18],[250,19,253,20],[250,21,253,36],[250,37,253,39],[250,40,253,42],[250,43,253,47],[250,48,253,54],[246,17,249,18],[246,19,249,20],[246,21,249,36],[246,37,249,39],[271,37,274,47],[254,48,257,54],[258,17,261,18],[258,19,261,20],[258,21,261,36],[258,37,261,39],[258,40,261,42],[258,43,261,47],[258,48,261,54],[254,17,257,18],[254,19,257,20],[271,48,274,54],[262,40,265,42],[262,43,265,47],[262,48,265,54],[266,37,269,47],[266,48,269,54],[262,17,265,18],[262,19,265,20],[262,21,265,36],[262,37,265,39],[254,40,257,42],[254,43,257,47],[254,21,257,36]]}
[]
[null,null,null,null,null,null,null,null,null,null,null,null,null,null,null,null,null,null,null,"請求書明細書 (正)"]
[null,"株 式 会 社 種 村 建 設",null,null,null,null,null,null,null,null,null,null,"御中"]
[null,null,null,null,null,null,null,null,null,null,null,null,null,null,null,null,null,null,null,null,null,null,null,null,null,null,null,null,null,null,null,null,null,null,null,null,null,null,null,null,null,"請求年月日",null,null,null,null,{"$f":"年","v":23},null,null,{"$f":"月","v":5},null,null,{"$f":"日","v":31}]
[]
[]
[]
[]
[null,"工事番号",null,null,null,null,null,null,null,null,null,null,"工事名",null,null,null,null,null,null,null,null,null,null,null,null,null,null,null,null,null,null,null,null,null,null,null,null,"業者名",null,null,null,{"$f":"社名","v":"例：㈱種村建設"}]
[]
[]
[]
[]
[]
[null,"注文番号",null,null,null,null,null,null,null,null,null,null,null,null,null,null,null,"月　日",null,null,null,"摘要･品名",null,null,null,null,null,null,null,null,null,null,null,null,null,null,null,"数 量",null,null,"単位",null,null,"単価",null,null,null,null,{"$f":"\"金額(\" & IF(税処理=2,\"税込\",\"税抜\")&\")\"","v":"金額(税抜)"}]
[]
[]
[]
[null,"契約金額",null,null,null,null,null,null,null,null,null,null,null,null,null,null,null,null,null,null,null,null,null,null,null,null,null,null,null,null,null,null,null,null,null,null,null,null,null,null,null,null,null,null,null,null,null,null,{"$f":"IF(V19=\"\",\"\",AL19*AR19)","v":""}]
[]
[]
[]
[null,"増減額",null,null,null,null,null,null,null,null,null,null,null,null,null,null,null,null,null,null,null,null,null,null,null,null,null,null,null,null,null,null,null,null,null,null,null,null,null,null,null,null,null,null,null,null,null,null,{"$f":"IF(V23=\"\",\"\",AL23*AR23)","v":""}]
[]
[]
[]
[null,"前回までの\n請求額",null,null,null,null,null,null,null,null,null,null,null,null,null,null,null,null,null,null,null,null,null,null,null,null,null,null,null,null,null,null,null,null,null,null,null,null,null,null,null,null,null,null,null,null,null,null,{"$f":"IF(V27=\"\",\"\",AL27*AR27)","v":""}]
[]
[]
[]
[null,"今回\n請求額",null,null,null,null,null,null,null,null,null,null,null,null,null,null,null,null,null,null,null,null,null,null,null,null,null,null,null,null,null,null,null,null,null,null,null,null,null,null,null,null,null,null,null,null,null,null,{"$f":"IF(V31=\"\",\"\",AL31*AR31)","v":""}]
[]
[]
[]
[null,"差引残高",null,null,null,null,{"$f":"IF(G19=\"\",\"\",G19+G23-G27-G31)","v":""},null,null,null,null,null,null,null,null,null,null,null,null,null,null,null,null,null,null,null,null,null,null,null,null,null,null,null,null,null,null,null,null,null,null,null,null,null,null,null,null,null,{"$f":"IF(V35=\"\",\"\",AL35*AR35)","v":""}]
[]
[]
[]
[null,null,null,null,null,null,null,null,null,null,null,null,null,null,null,null,null,null,null,null,null,null,null,null,null,null,null,null,null,null,null,null,null,null,null,null,null,null,null,null,null,null,null,null,null,null,null,null,{"$f":"IF(V39=\"\",\"\",AL39*AR39)","v":""}]
[]
[]
[]
[null,null,null,null,null,null,null,null,null,null,null,null,null,null,null,null,null,null,null,null,null,null,null,null,null,null,null,null,null,null,null,null,null,null,null,null,null,null,null,null,null,null,null,null,null,null,null,null,{"$f":"IF(V43=\"\",\"\",AL43*AR43)","v":""}]
[]
[]
[]
[null,null,null,null,null,null,null,null,null,null,null,null,null,null,null,null,null,null,null,null,null,null,null,null,null,null,null,null,null,null,null,null,null,null,null,null,null,null,null,null,null,null,null,null,null,null,null,null,{"$f":"IF(V47=\"\",\"\",AL47*AR47)","v":""}]
[]
[]
[]
[null,null,null,null,null,null,null,null,null,null,null,null,null,null,null,null,null,null,null,null,null,null,null,null,null,null,null,null,null,null,null,null,null,null,null,null,null,null,null,null,null,null,null,null,null,null,null,null,{"$f":"IF(V51=\"\",\"\",AL51*AR51)","v":""}]
[]
[]
[]
[null,null,null,null,null,null,null,null,null,null,null,null,null,null,null,null,null,null,null,null,null,null,null,null,null,null,null,null,null,null,null,null,null,null,null,null,null,null,null,null,null,null,null,null,null,null,null,null,{"$f":"IF(V55=\"\",\"\",AL55*AR55)","v":""}]
[]
[]
[]
[null,null,null,null,null,null,null,null,null,null,null,null,null,null,null,null,null,null,null,null,null,null,null,null,null,null,null,null,null,null,null,null,null,null,null,null,null,null,null,null,null,null,null,null,null,null,null,null,{"$f":"IF(V59=\"\",\"\",AL59*AR59)","v":""}]
[]
[]
[]
[null,null,null,null,null,null,null,null,null,null,null,null,null,null,null,null,null,null,null,null,null,null,null,null,null,null,null,null,null,null,null,null,null,null,null,null,null,null,null,null,null,null,null,null,null,null,null,null,{"$f":"IF(V63=\"\",\"\",AL63*AR63)","v":""}]
[]
[]
[]
[null,null,null,null,null,null,null,null,null,null,null,null,null,null,null,null,null,null,null,null,null,null,null,null,null,null,null,null,null,null,null,null,null,null,null,null,null,null,null,null,null,null,null,null,null,null,null,null,{"$f":"IF(V67=\"\",\"\",AL67*AR67)","v":""}]
[]
[]
[]
[null,null,null,null,null,null,null,null,null,null,null,null,null,null,null,null,null,null,null,null,null,null,null,null,null,null,null,null,null,null,null,null,null,null,null,null,null,null,null,null,null,null,null,null,null,null,null,null,{"$f":"IF(V71=\"\",\"\",AL71*AR71)","v":""}]
[]
[]
[]
[null,null,null,null,null,null,null,null,null,null,null,null,null,null,null,null,null,null,null,null,null,null,null,null,null,null,null,null,null,null,null,null,null,null,null,null,null,null,null,null,null,null,null,null,null,null,null,null,{"$f":"IF(V75=\"\",\"\",AL75*AR75)","v":""}]
[]
[]
[]
[null,null,null,null,null,null,null,null,null,null,null,null,null,null,null,null,null,null,null,null,null,null,null,null,null,null,null,null,null,null,null,null,null,null,null,null,null,null,null,null,null,null,null,null,null,null,null,null,{"$f":"IF(V79=\"\",\"\",AL79*AR79)","v":""}]
[]
[]
[]
[null,null,null,null,null,null,null,null,null,null,null,null,null,null,null,null,null,null,null,null,null,null,null,null,null,null,null,null,null,null,null,null,null,null,null,null,null,"値引き等"]
[null,"社長",null,null,null,"専務",null,null,null,null,null,"常務",null,null,null,null,null,"部長･工場長",null,null,null,null,null,null,null,null,"担当者",null,null,null,null,"受付"]
[]
[]
[]
[null,null,null,null,null,null,null,null,null,null,null,null,null,null,null,null,null,null,null,null,null,null,null,null,null,null,null,null,null,null,null,null,null,null,null,null,null,{"$f":"\"合計(\" & IF(税処理=2,\"税込\",\"税抜\")&\")\"","v":"合計(税抜)"},null,null,null,null,null,null,null,null,null,null,{"$f":"IF(AW19=\"\",\"\",SUM(AW19:AW79)+AW83)","v":""}]
[]
[]
[]
[]
[]
[null,null,null,null,null,null,null,null,null,null,null,null,null,null,null,null,null,null,null,"請求明細書 (現場控)"]
[null,"株 式 会 社 種 村 建 設",null,null,null,null,null,null,null,null,null,null,"御中"]
[null,null,null,null,null,null,null,null,null,null,null,null,null,null,null,null,null,null,null,null,null,null,null,null,null,null,null,null,null,null,null,null,null,null,null,null,null,null,null,null,null,"請求年月日",null,null,null,null,{"$f":"IF(AU4=\"\",\"\",AU4)","v":23},null,null,{"$f":"IF(AX4=\"\",\"\",AX4)","v":5},null,null,{"$f":"IF(BA4=\"\",\"\",BA4)","v":31}]
[]
[]
[]
[]
[null,"工事番号",null,null,null,null,{"$f":"IF(G9=\"\",\"\",G9)","v":""},null,null,null,null,null,"工事名",null,null,null,{"$f":"IF(Q9=\"\",\"\",Q9)","v":""},null,null,null,null,null,null,null,null,null,null,null,null,null,null,null,null,null,null,null,null,"業者名",null,null,null,{"$f":"IF(AP9=\"\",\"\",AP9)","v":"例：㈱種村建設"}]
[]
[]
[]
[]
[]
[null,"注文番号",null,null,null,null,{"$f":"IF(G15=\"\",\"\",G15)","v":""},null,null,null,null,null,null,null,null,null,null,"月　日",null,null,null,"摘要･品名",null,null,null,null,null,null,null,null,null,null,null,null,null,null,null,"数 量",null,null,"単位",null,null,"単価",null,null,null,null,{"$f":"\"金額(\" & IF(税処理=2,\"税込\",\"税抜\")&\")\"","v":"金額(税抜)"}]
[]
[]
[]
[null,"契約金額",null,null,null,null,{"$f":"IF(G19=\"\",\"\",G19)","v":""},null,null,null,null,null,null,null,null,null,null,{"$f":"IF(R19=\"\",\"\",R19)","v":""},null,{"$f":"IF(T19=\"\",\"\",T19)","v":""},null,{"$f":"IF(V19=\"\",\"\",V19)","v":""},null,{"$f":"IF(X19=\"\",\"\",X19)","v":""},null,{"$f":"IF(Z19=\"\",\"\",Z19)","v":""},null,{"$f":"IF(AB19=\"\",\"\",AB19)","v":""},null,{"$f":"IF(AD19=\"\",\"\",AD19)","v":""},null,{"$f":"IF(AF19=\"\",\"\",AF19)","v":""},null,{"$f":"IF(AH19=\"\",\"\",AH19)","v":""},null,{"$f":"IF(AJ19=\"\",\"\",AJ19)","v":""},null,{"$f":"IF(AL19=\"\",\"\",AL19)","v":""},null,null,{"$f":"IF(AO19=\"\",\"\",AO19)","v":""},null,null,{"$f":"IF(AR19=\"\",\"\",AR19)","v":""},null,null,null,null,{"$f":"IF(AW19=\"\",\"\",AW19)","v":""}]
[]
[]
[]
[null,"増減額",null,null,null,null,{"$f":"IF(G23=\"\",\"\",G23)","v":""},null,null,null,null,null,null,null,null,null,null,{"$f":"IF(R23=\"\",\"\",R23)","v":""},null,{"$f":"IF(T23=\"\",\"\",T23)","v":""},null,{"$f":"IF(V23=\"\",\"\",V23)","v":""},null,{"$f":"IF(X23=\"\",\"\",X23)","v":""},null,{"$f":"IF(Z23=\"\",\"\",Z23)","v":""},null,{"$f":"IF(AB23=\"\",\"\",AB23)","v":""},null,{"$f":"IF(AD23=\"\",\"\",AD23)","v":""},null,{"$f":"IF(AF23=\"\",\"\",AF23)","v":""},null,{"$f":"IF(AH23=\"\",\"\",AH23)","v":""},null,{"$f":"IF(AJ23=\"\",\"\",AJ23)","v":""},null,{"$f":"IF(AL23=\"\",\"\",AL23)","v":""},null,null,{"$f":"IF(AO23=\"\",\"\",AO23)","v":""},null,null,{"$f":"IF(AR23=\"\",\"\",AR23)","v":""},null,null,null,null,{"$f":"IF(AW23=\"\",\"\",AW23)","v":""}]
[]
[]
[]
[null,"前回までの\n請求額",null,null,null,null,{"$f":"IF(G27=\"\",\"\",G27)","v":""},null,null,null,null,null,null,null,null,null,null,{"$f":"IF(R27=\"\",\"\",R27)","v":""},null,{"$f":"IF(T27=\"\",\"\",T27)","v":""},null,{"$f":"IF(V27=\"\",\"\",V27)","v":""},null,{"$f":"IF(X27=\"\",\"\",X27)","v":""},null,{"$f":"IF(Z27=\"\",\"\",Z27)","v":""},null,{"$f":"IF(AB27=\"\",\"\",AB27)","v":""},null,{"$f":"IF(AD27=\"\",\"\",AD27)","v":""},null,{"$f":"IF(AF27=\"\",\"\",AF27)","v":""},null,{"$f":"IF(AH27=\"\",\"\",AH27)","v":""},null,{"$f":"IF(AJ27=\"\",\"\",AJ27)","v":""},null,{"$f":"IF(AL27=\"\",\"\",AL27)","v":""},null,null,{"$f":"IF(AO27=\"\",\"\",AO27)","v":""},null,null,{"$f":"IF(AR27=\"\",\"\",AR27)","v":""},null,null,null,null,{"$f":"IF(AW27=\"\",\"\",AW27)","v":""}]
[]
[]
[]
[null,"今回\n請求額",null,null,{"$f":"IF(E31=\"\",\"\",E31)","v":""},null,{"$f":"IF(G31=\"\",\"\",G31)","v":""},null,null,null,null,null,null,null,null,null,null,{"$f":"IF(R31=\"\",\"\",R31)","v":""},null,{"$f":"IF(T31=\"\",\"\",T31)","v":""},null,{"$f":"IF(V31=\"\",\"\",V31)","v":""},null,{"$f":"IF(X31=\"\",\"\",X31)","v":""},null,{"$f":"IF(Z31=\"\",\"\",Z31)","v":""},null,{"$f":"IF(AB31=\"\",\"\",AB31)","v":""},null,{"$f":"IF(AD31=\"\",\"\",AD31)","v":""},null,{"$f":"IF(AF31=\"\",\"\",AF31)","v":""},null,{"$f":"IF(AH31=\"\",\"\",AH31)","v":""},null,{"$f":"IF(AJ31=\"\",\"\",AJ31)","v":""},null,{"$f":"IF(AL31=\"\",\"\",AL31)","v":""},null,null,{"$f":"IF(AO31=\"\",\"\",AO31)","v":""},null,null,{"$f":"IF(AR31=\"\",\"\",AR31)","v":""},null,null,null,null,{"$f":"IF(AW31=\"\",\"\",AW31)","v":""}]
[]
[]
[]
[null,"差引残高",null,null,null,null,{"$f":"IF(G111=\"\",\"\",G111+G115-G119-G123)","v":""},null,null,null,null,null,null,null,null,null,null,{"$f":"IF(R35=\"\",\"\",R35)","v":""},null,{"$f":"IF(T35=\"\",\"\",T35)","v":""},null,{"$f":"IF(V35=\"\",\"\",V35)","v":""},null,{"$f":"IF(X35=\"\",\"\",X35)","v":""},null,{"$f":"IF(Z35=\"\",\"\",Z35)","v":""},null,{"$f":"IF(AB35=\"\",\"\",AB35)","v":""},null,{"$f":"IF(AD35=\"\",\"\",AD35)","v":""},null,{"$f":"IF(AF35=\"\",\"\",AF35)","v":""},null,{"$f":"IF(AH35=\"\",\"\",AH35)","v":""},null,{"$f":"IF(AJ35=\"\",\"\",AJ35)","v":""},null,{"$f":"IF(AL35=\"\",\"\",AL35)","v":""},null,null,{"$f":"IF(AO35=\"\",\"\",AO35)","v":""},null,null,{"$f":"IF(AR35=\"\",\"\",AR35)","v":""},null,null,null,null,{"$f":"IF(AW35=\"\",\"\",AW35)","v":""}]
[]
[]
[]
[null,null,null,null,null,null,null,null,null,null,null,null,null,null,null,null,null,{"$f":"IF(R39=\"\",\"\",R39)","v":""},null,{"$f":"IF(T39=\"\",\"\",T39)","v":""},null,{"$f":"IF(V39=\"\",\"\",V39)","v":""},null,{"$f":"IF(X39=\"\",\"\",X39)","v":""},null,{"$f":"IF(Z39=\"\",\"\",Z39)","v":""},null,{"$f":"IF(AB39=\"\",\"\",AB39)","v":""},null,{"$f":"IF(AD39=\"\",\"\",AD39)","v":""},null,{"$f":"IF(AF39=\"\",\"\",AF39)","v":""},null,{"$f":"IF(AH39=\"\",\"\",AH39)","v":""},null,{"$f":"IF(AJ39=\"\",\"\",AJ39)","v":""},null,{"$f":"IF(AL39=\"\",\"\",AL39)","v":""},null,null,{"$f":"IF(AO39=\"\",\"\",AO39)","v":""},null,null,{"$f":"IF(AR39=\"\",\"\",AR39)","v":""},null,null,null,null,{"$f":"IF(AW39=\"\",\"\",AW39)","v":""}]
[]
[]
[]
[null,null,null,null,null,null,null,null,null,null,null,null,null,null,null,null,null,{"$f":"IF(R43=\"\",\"\",R43)","v":""},null,{"$f":"IF(T43=\"\",\"\",T43)","v":""},null,{"$f":"IF(V43=\"\",\"\",V43)","v":""},null,{"$f":"IF(X43=\"\",\"\",X43)","v":""},null,{"$f":"IF(Z43=\"\",\"\",Z43)","v":""},null,{"$f":"IF(AB43=\"\",\"\",AB43)","v":""},null,{"$f":"IF(AD43=\"\",\"\",AD43)","v":""},null,{"$f":"IF(AF43=\"\",\"\",AF43)","v":""},null,{"$f":"IF(AH43=\"\",\"\",AH43)","v":""},null,{"$f":"IF(AJ43=\"\",\"\",AJ43)","v":""},null,{"$f":"IF(AL43=\"\",\"\",AL43)","v":""},null,null,{"$f":"IF(AO43=\"\",\"\",AO43)","v":""},null,null,{"$f":"IF(AR43=\"\",\"\",AR43)","v":""},null,null,null,null,{"$f":"IF(AW43=\"\",\"\",AW43)","v":""}]
[]
[]
[]
[null,null,null,null,null,null,null,null,null,null,null,null,null,null,null,null,null,{"$f":"IF(R47=\"\",\"\",R47)","v":""},null,{"$f":"IF(T47=\"\",\"\",T47)","v":""},null,{"$f":"IF(V47=\"\",\"\",V47)","v":""},null,{"$f":"IF(X47=\"\",\"\",X47)","v":""},null,{"$f":"IF(Z47=\"\",\"\",Z47)","v":""},null,{"$f":"IF(AB47=\"\",\"\",AB47)","v":""},null,{"$f":"IF(AD47=\"\",\"\",AD47)","v":""},null,{"$f":"IF(AF47=\"\",\"\",AF47)","v":""},null,{"$f":"IF(AH47=\"\",\"\",AH47)","v":""},null,{"$f":"IF(AJ47=\"\",\"\",AJ47)","v":""},null,{"$f":"IF(AL47=\"\",\"\",AL47)","v":""},null,null,{"$f":"IF(AO47=\"\",\"\",AO47)","v":""},null,null,{"$f":"IF(AR47=\"\",\"\",AR47)","v":""},null,null,null,null,{"$f":"IF(AW47=\"\",\"\",AW47)","v":""}]
[]
[]
[]
[null,null,null,null,null,null,null,null,null,null,null,null,null,null,null,null,null,{"$f":"IF(R51=\"\",\"\",R51)","v":""},null,{"$f":"IF(T51=\"\",\"\",T51)","v":""},null,{"$f":"IF(V51=\"\",\"\",V51)","v":""},null,{"$f":"IF(X51=\"\",\"\",X51)","v":""},null,{"$f":"IF(Z51=\"\",\"\",Z51)","v":""},null,{"$f":"IF(AB51=\"\",\"\",AB51)","v":""},null,{"$f":"IF(AD51=\"\",\"\",AD51)","v":""},null,{"$f":"IF(AF51=\"\",\"\",AF51)","v":""},null,{"$f":"IF(AH51=\"\",\"\",AH51)","v":""},null,{"$f":"IF(AJ51=\"\",\"\",AJ51)","v":""},null,{"$f":"IF(AL51=\"\",\"\",AL51)","v":""},null,null,{"$f":"IF(AO51=\"\",\"\",AO51)","v":""},null,null,{"$f":"IF(AR51=\"\",\"\",AR51)","v":""},null,null,null,null,{"$f":"IF(AW51=\"\",\"\",AW51)","v":""}]
[]
[]
[]
[null,null,null,null,null,null,null,null,null,null,null,null,null,null,null,null,null,{"$f":"IF(R55=\"\",\"\",R55)","v":""},null,{"$f":"IF(T55=\"\",\"\",T55)","v":""},null,{"$f":"IF(V55=\"\",\"\",V55)","v":""},null,{"$f":"IF(X55=\"\",\"\",X55)","v":""},null,{"$f":"IF(Z55=\"\",\"\",Z55)","v":""},null,{"$f":"IF(AB55=\"\",\"\",AB55)","v":""},null,{"$f":"IF(AD55=\"\",\"\",AD55)","v":""},null,{"$f":"IF(AF55=\"\",\"\",AF55)","v":""},null,{"$f":"IF(AH55=\"\",\"\",AH55)","v":""},null,{"$f":"IF(AJ55=\"\",\"\",AJ55)","v":""},null,{"$f":"IF(AL55=\"\",\"\",AL55)","v":""},null,null,{"$f":"IF(AO55=\"\",\"\",AO55)","v":""},null,null,{"$f":"IF(AR55=\"\",\"\",AR55)","v":""},null,null,null,null,{"$f":"IF(AW55=\"\",\"\",AW55)","v":""}]
[]
[]
[]
[null,null,null,null,null,null,null,null,null,null,null,null,null,null,null,null,null,{"$f":"IF(R59=\"\",\"\",R59)","v":""},null,{"$f":"IF(T59=\"\",\"\",T59)","v":""},null,{"$f":"IF(V59=\"\",\"\",V59)","v":""},null,{"$f":"IF(X59=\"\",\"\",X59)","v":""},null,{"$f":"IF(Z59=\"\",\"\",Z59)","v":""},null,{"$f":"IF(AB59=\"\",\"\",AB59)","v":""},null,{"$f":"IF(AD59=\"\",\"\",AD59)","v":""},null,{"$f":"IF(AF59=\"\",\"\",AF59)","v":""},null,{"$f":"IF(AH59=\"\",\"\",AH59)","v":""},null,{"$f":"IF(AJ59=\"\",\"\",AJ59)","v":""},null,{"$f":"IF(AL59=\"\",\"\",AL59)","v":""},null,null,{"$f":"IF(AO59=\"\",\"\",AO59)","v":""},null,null,{"$f":"IF(AR59=\"\",\"\",AR59)","v":""},null,null,null,null,{"$f":"IF(AW59=\"\",\"\",AW59)","v":""}]
[]
[]
[]
[null,null,null,null,null,null,null,null,null,null,null,null,null,null,null,null,null,{"$f":"IF(R63=\"\",\"\",R63)","v":""},null,{"$f":"IF(T63=\"\",\"\",T63)","v":""},null,{"$f":"IF(V63=\"\",\"\",V63)","v":""},null,{"$f":"IF(X63=\"\",\"\",X63)","v":""},null,{"$f":"IF(Z63=\"\",\"\",Z63)","v":""},null,{"$f":"IF(AB63=\"\",\"\",AB63)","v":""},null,{"$f":"IF(AD63=\"\",\"\",AD63)","v":""},null,{"$f":"IF(AF63=\"\",\"\",AF63)","v":""},null,{"$f":"IF(AH63=\"\",\"\",AH63)","v":""},null,{"$f":"IF(AJ63=\"\",\"\",AJ63)","v":""},null,{"$f":"IF(AL63=\"\",\"\",AL63)","v":""},null,null,{"$f":"IF(AO63=\"\",\"\",AO63)","v":""},null,null,{"$f":"IF(AR63=\"\",\"\",AR63)","v":""},null,null,null,null,{"$f":"IF(AW63=\"\",\"\",AW63)","v":""}]
[]
[]
[]
[null,null,null,null,null,null,null,null,null,null,null,null,null,null,null,null,null,{"$f":"IF(R67=\"\",\"\",R67)","v":""},null,{"$f":"IF(T67=\"\",\"\",T67)","v":""},null,{"$f":"IF(V67=\"\",\"\",V67)","v":""},null,{"$f":"IF(X67=\"\",\"\",X67)","v":""},null,{"$f":"IF(Z67=\"\",\"\",Z67)","v":""},null,{"$f":"IF(AB67=\"\",\"\",AB67)","v":""},null,{"$f":"IF(AD67=\"\",\"\",AD67)","v":""},null,{"$f":"IF(AF67=\"\",\"\",AF67)","v":""},null,{"$f":"IF(AH67=\"\",\"\",AH67)","v":""},null,{"$f":"IF(AJ67=\"\",\"\",AJ67)","v":""},null,{"$f":"IF(AL67=\"\",\"\",AL67)","v":""},null,null,{"$f":"IF(AO67=\"\",\"\",AO67)","v":""},null,null,{"$f":"IF(AR67=\"\",\"\",AR67)","v":""},null,null,null,null,{"$f":"IF(AW67=\"\",\"\",AW67)","v":""}]
[]
[]
[]
[null,null,null,null,null,null,null,null,null,null,null,null,null,null,null,null,null,{"$f":"IF(R71=\"\",\"\",R71)","v":""},null,{"$f":"IF(T71=\"\",\"\",T71)","v":""},null,{"$f":"IF(V71=\"\",\"\",V71)","v":""},null,{"$f":"IF(X71=\"\",\"\",X71)","v":""},null,{"$f":"IF(Z71=\"\",\"\",Z71)","v":""},null,{"$f":"IF(AB71=\"\",\"\",AB71)","v":""},null,{"$f":"IF(AD71=\"\",\"\",AD71)","v":""},null,{"$f":"IF(AF71=\"\",\"\",AF71)","v":""},null,{"$f":"IF(AH71=\"\",\"\",AH71)","v":""},null,{"$f":"IF(AJ71=\"\",\"\",AJ71)","v":""},null,{"$f":"IF(AL71=\"\",\"\",AL71)","v":""},null,null,{"$f":"IF(AO71=\"\",\"\",AO71)","v":""},null,null,{"$f":"IF(AR71=\"\",\"\",AR71)","v":""},null,null,null,null,{"$f":"IF(AW71=\"\",\"\",AW71)","v":""}]
[]
[]
[]
[null,null,null,null,null,null,null,null,null,null,null,null,null,null,null,null,null,{"$f":"IF(R75=\"\",\"\",R75)","v":""},null,{"$f":"IF(T75=\"\",\"\",T75)","v":""},null,{"$f":"IF(V75=\"\",\"\",V75)","v":""},null,{"$f":"IF(X75=\"\",\"\",X75)","v":""},null,{"$f":"IF(Z75=\"\",\"\",Z75)","v":""},null,{"$f":"IF(AB75=\"\",\"\",AB75)","v":""},null,{"$f":"IF(AD75=\"\",\"\",AD75)","v":""},null,{"$f":"IF(AF75=\"\",\"\",AF75)","v":""},null,{"$f":"IF(AH75=\"\",\"\",AH75)","v":""},null,{"$f":"IF(AJ75=\"\",\"\",AJ75)","v":""},null,{"$f":"IF(AL75=\"\",\"\",AL75)","v":""},null,null,{"$f":"IF(AO75=\"\",\"\",AO75)","v":""},null,null,{"$f":"IF(AR75=\"\",\"\",AR75)","v":""},null,null,null,null,{"$f":"IF(AW75=\"\",\"\",AW75)","v":""}]
[]
[]
[]
[null,null,null,null,null,null,null,null,null,null,null,null,null,null,null,null,null,{"$f":"IF(R79=\"\",\"\",R79)","v":""},null,{"$f":"IF(T79=\"\",\"\",T79)","v":""},null,{"$f":"IF(V79=\"\",\"\",V79)","v":""},null,{"$f":"IF(X79=\"\",\"\",X79)","v":""},null,{"$f":"IF(Z79=\"\",\"\",Z79)","v":""},null,{"$f":"IF(AB79=\"\",\"\",AB79)","v":""},null,{"$f":"IF(AD79=\"\",\"\",AD79)","v":""},null,{"$f":"IF(AF79=\"\",\"\",AF79)","v":""},null,{"$f":"IF(AH79=\"\",\"\",AH79)","v":""},null,{"$f":"IF(AJ79=\"\",\"\",AJ79)","v":""},null,{"$f":"IF(AL79=\"\",\"\",AL79)","v":""},null,null,{"$f":"IF(AO79=\"\",\"\",AO79)","v":""},null,null,{"$f":"IF(AR79=\"\",\"\",AR79)","v":""},null,null,null,null,{"$f":"IF(AW79=\"\",\"\",AW79)","v":""}]
[]
[]
[]
[null,null,null,null,null,null,null,null,null,null,null,null,null,null,null,null,null,null,null,null,null,null,null,null,null,null,null,null,null,null,null,null,null,null,null,null,null,"値引き等",null,null,null,null,null,null,null,null,null,null,{"$f":"IF(AW83=\"\",\"\",AW83)","v":""}]
[]
[]
[]
[]
[null,null,null,null,null,null,null,null,null,null,null,null,null,null,null,null,null,null,null,null,null,null,null,null,null,null,null,null,null,null,null,null,null,null,null,null,null,{"$f":"\"合計(\" & IF(税処理=2,\"税込\",\"税抜\")&\")\"","v":"合計(税抜)"},null,null,null,null,null,null,null,null,null,null,{"$f":"IF(AW88=\"\",\"\",AW88)","v":""}]
[]
[]
[]
[]
[]
[null,null,null,null,null,null,null,null,null,null,null,null,null,null,null,null,null,null,null,"請求明細書 (貴社控)"]
[null,"株 式 会 社 種 村 建 設",null,null,null,null,null,null,null,null,null,null,"御中"]
[null,null,null,null,null,null,null,null,null,null,null,null,null,null,null,null,null,null,null,null,null,null,null,null,null,null,null,null,null,null,null,null,null,null,null,null,null,null,null,null,null,"請求年月日",null,null,null,null,{"$f":"IF(AU96=\"\",\"\",AU96)","v":23},null,null,{"$f":"IF(AX96=\"\",\"\",AX96)","v":5},null,null,{"$f":"IF(BA96=\"\",\"\",BA96)","v":31}]
[]
[]
[]
[]
[null,"工事番号",null,null,null,null,{"$f":"IF(G101=\"\",\"\",G101)","v":""},null,null,null,null,null,"工事名",null,null,null,{"$f":"IF(Q101=\"\",\"\",Q101)","v":""},null,null,null,null,null,null,null,null,null,null,null,null,null,null,null,null,null,null,null,null,"業者名",null,null,null,{"$f":"IF(AP101=\"\",\"\",AP101)","v":"例：㈱種村建設"}]
[]
[]
[]
[]
[]
[null,"注文番号",null,null,null,null,{"$f":"IF(G107=\"\",\"\",G107)","v":""},null,null,null,null,null,null,null,null,null,null,"月　日",null,null,null,"摘要･品名",null,null,null,null,null,null,null,null,null,null,null,null,null,null,null,"数 量",null,null,"単位",null,null,"単価",null,null,null,null,{"$f":"\"金額(\" & IF(税処理=2,\"税込\",\"税抜\")&\")\"","v":"金額(税抜)"}]
[]
[]
[]
[null,"契約金額",null,null,null,null,{"$f":"IF(G111=\"\",\"\",G111)","v":""},null,null,null,null,null,null,null,null,null,null,{"$f":"IF(R111=\"\",\"\",R111)","v":""},null,{"$f":"IF(T111=\"\",\"\",T111)","v":""},null,{"$f":"IF(V111=\"\",\"\",V111)","v":""},null,{"$f":"IF(X111=\"\",\"\",X111)","v":""},null,{"$f":"IF(Z111=\"\",\"\",Z111)","v":""},null,{"$f":"IF(AB111=\"\",\"\",AB111)","v":""},null,{"$f":"IF(AD111=\"\",\"\",AD111)","v":""},null,{"$f":"IF(AF111=\"\",\"\",AF111)","v":""},null,{"$f":"IF(AH111=\"\",\"\",AH111)","v":""},null,{"$f":"IF(AJ111=\"\",\"\",AJ111)","v":""},null,{"$f":"IF(AL111=\"\",\"\",AL111)","v":""},null,null,{"$f":"IF(AO111=\"\",\"\",AO111)","v":""},null,null,{"$f":"IF(AR111=\"\",\"\",AR111)","v":""},null,null,null,null,{"$f":"IF(AW111=\"\",\"\",AW111)","v":""}]
[]
[]
[]
[null,"増減額",null,null,null,null,{"$f":"IF(G115=\"\",\"\",G115)","v":""},null,null,null,null,null,null,null,null,null,null,{"$f":"IF(R115=\"\",\"\",R115)","v":""},null,{"$f":"IF(T115=\"\",\"\",T115)","v":""},null,{"$f":"IF(V115=\"\",\"\",V115)","v":""},null,{"$f":"IF(X115=\"\",\"\",X115)","v":""},null,{"$f":"IF(Z115=\"\",\"\",Z115)","v":""},null,{"$f":"IF(AB115=\"\",\"\",AB115)","v":""},null,{"$f":"IF(AD115=\"\",\"\",AD115)","v":""},null,{"$f":"IF(AF115=\"\",\"\",AF115)","v":""},null,{"$f":"IF(AH115=\"\",\"\",AH115)","v":""},null,{"$f":"IF(AJ115=\"\",\"\",AJ115)","v":""},null,{"$f":"IF(AL115=\"\",\"\",AL115)","v":""},null,null,{"$f":"IF(AO115=\"\",\"\",AO115)","v":""},null,null,{"$f":"IF(AR115=\"\",\"\",AR115)","v":""},null,null,null,null,{"$f":"IF(AW115=\"\",\"\",AW115)","v":""}]
[]
[]
[]
[null,"前回までの\n請求額",null,null,null,null,{"$f":"IF(G119=\"\",\"\",G119)","v":""},null,null,null,null,null,null,null,null,null,null,{"$f":"IF(R119=\"\",\"\",R119)","v":""},null,{"$f":"IF(T119=\"\",\"\",T119)","v":""},null,{"$f":"IF(V119=\"\",\"\",V119)","v":""},null,{"$f":"IF(X119=\"\",\"\",X119)","v":""},null,{"$f":"IF(Z119=\"\",\"\",Z119)","v":""},null,{"$f":"IF(AB119=\"\",\"\",AB119)","v":""},null,{"$f":"IF(AD119=\"\",\"\",AD119)","v":""},null,{"$f":"IF(AF119=\"\",\"\",AF119)","v":""},null,{"$f":"IF(AH119=\"\",\"\",AH119)","v":""},null,{"$f":"IF(AJ119=\"\",\"\",AJ119)","v":""},null,{"$f":"IF(AL119=\"\",\"\",AL119)","v":""},null,null,{"$f":"IF(AO119=\"\",\"\",AO119)","v":""},null,null,{"$f":"IF(AR119=\"\",\"\",AR119)","v":""},null,null,null,null,{"$f":"IF(AW119=\"\",\"\",AW119)","v":""}]
[]
[]
[]
[null,"今回\n請求額",null,null,{"$f":"IF(E31=\"\",\"\",E31)","v":""},null,{"$f":"IF(G123=\"\",\"\",G123)","v":""},null,null,null,null,null,null,null,null,null,null,{"$f":"IF(R123=\"\",\"\",R123)","v":""},null,{"$f":"IF(T123=\"\",\"\",T123)","v":""},null,{"$f":"IF(V123=\"\",\"\",V123)","v":""},null,{"$f":"IF(X123=\"\",\"\",X123)","v":""},null,{"$f":"IF(Z123=\"\",\"\",Z123)","v":""},null,{"$f":"IF(AB123=\"\",\"\",AB123)","v":""},null,{"$f":"IF(AD123=\"\",\"\",AD123)","v":""},null,{"$f":"IF(AF123=\"\",\"\",AF123)","v":""},null,{"$f":"IF(AH123=\"\",\"\",AH123)","v":""},null,{"$f":"IF(AJ123=\"\",\"\",AJ123)","v":""},null,{"$f":"IF(AL123=\"\",\"\",AL123)","v":""},null,null,{"$f":"IF(AO123=\"\",\"\",AO123)","v":""},null,null,{"$f":"IF(AR123=\"\",\"\",AR123)","v":""},null,null,null,null,{"$f":"IF(AW123=\"\",\"\",AW123)","v":""}]
[]
[]
[]
[null,"差引残高",null,null,null,null,{"$f":"IF(G203=\"\",\"\",G203+G207-G211-G215)","v":""},null,null,null,null,null,null,null,null,null,null,{"$f":"IF(R127=\"\",\"\",R127)","v":""},null,{"$f":"IF(T127=\"\",\"\",T127)","v":""},null,{"$f":"IF(V127=\"\",\"\",V127)","v":""},null,{"$f":"IF(X127=\"\",\"\",X127)","v":""},null,{"$f":"IF(Z127=\"\",\"\",Z127)","v":""},null,{"$f":"IF(AB127=\"\",\"\",AB127)","v":""},null,{"$f":"IF(AD127=\"\",\"\",AD127)","v":""},null,{"$f":"IF(AF127=\"\",\"\",AF127)","v":""},null,{"$f":"IF(AH127=\"\",\"\",AH127)","v":""},null,{"$f":"IF(AJ127=\"\",\"\",AJ127)","v":""},null,{"$f":"IF(AL127=\"\",\"\",AL127)","v":""},null,null,{"$f":"IF(AO127=\"\",\"\",AO127)","v":""},null,null,{"$f":"IF(AR127=\"\",\"\",AR127)","v":""},null,null,null,null,{"$f":"IF(AW127=\"\",\"\",AW127)","v":""}]
[]
[]
[]
[null,null,null,null,null,null,null,null,null,null,null,null,null,null,null,null,null,{"$f":"IF(R131=\"\",\"\",R131)","v":""},null,{"$f":"IF(T131=\"\",\"\",T131)","v":""},null,{"$f":"IF(V131=\"\",\"\",V131)","v":""},null,{"$f":"IF(X131=\"\",\"\",X131)","v":""},null,{"$f":"IF(Z131=\"\",\"\",Z131)","v":""},null,{"$f":"IF(AB131=\"\",\"\",AB131)","v":""},null,{"$f":"IF(AD131=\"\",\"\",AD131)","v":""},null,{"$f":"IF(AF131=\"\",\"\",AF131)","v":""},null,{"$f":"IF(AH131=\"\",\"\",AH131)","v":""},null,{"$f":"IF(AJ131=\"\",\"\",AJ131)","v":""},null,{"$f":"IF(AL131=\"\",\"\",AL131)","v":""},null,null,{"$f":"IF(AO131=\"\",\"\",AO131)","v":""},null,null,{"$f":"IF(AR131=\"\",\"\",AR131)","v":""},null,null,null,null,{"$f":"IF(AW131=\"\",\"\",AW131)","v":""}]
[]
[]
[]
[null,null,null,null,null,null,null,null,null,null,null,null,null,null,null,null,null,{"$f":"IF(R135=\"\",\"\",R135)","v":""},null,{"$f":"IF(T135=\"\",\"\",T135)","v":""},null,{"$f":"IF(V135=\"\",\"\",V135)","v":""},null,{"$f":"IF(X135=\"\",\"\",X135)","v":""},null,{"$f":"IF(Z135=\"\",\"\",Z135)","v":""},null,{"$f":"IF(AB135=\"\",\"\",AB135)","v":""},null,{"$f":"IF(AD135=\"\",\"\",AD135)","v":""},null,{"$f":"IF(AF135=\"\",\"\",AF135)","v":""},null,{"$f":"IF(AH135=\"\",\"\",AH135)","v":""},null,{"$f":"IF(AJ135=\"\",\"\",AJ135)","v":""},null,{"$f":"IF(AL135=\"\",\"\",AL135)","v":""},null,null,{"$f":"IF(AO135=\"\",\"\",AO135)","v":""},null,null,{"$f":"IF(AR135=\"\",\"\",AR135)","v":""},null,null,null,null,{"$f":"IF(AW135=\"\",\"\",AW135)","v":""}]
[]
[]
[]
[null,null,null,null,null,null,null,null,null,null,null,null,null,null,null,null,null,{"$f":"IF(R139=\"\",\"\",R139)","v":""},null,{"$f":"IF(T139=\"\",\"\",T139)","v":""},null,{"$f":"IF(V139=\"\",\"\",V139)","v":""},null,{"$f":"IF(X139=\"\",\"\",X139)","v":""},null,{"$f":"IF(Z139=\"\",\"\",Z139)","v":""},null,{"$f":"IF(AB139=\"\",\"\",AB139)","v":""},null,{"$f":"IF(AD139=\"\",\"\",AD139)","v":""},null,{"$f":"IF(AF139=\"\",\"\",AF139)","v":""},null,{"$f":"IF(AH139=\"\",\"\",AH139)","v":""},null,{"$f":"IF(AJ139=\"\",\"\",AJ139)","v":""},null,{"$f":"IF(AL139=\"\",\"\",AL139)","v":""},null,null,{"$f":"IF(AO139=\"\",\"\",AO139)","v":""},null,null,{"$f":"IF(AR139=\"\",\"\",AR139)","v":""},null,null,null,null,{"$f":"IF(AW139=\"\",\"\",AW139)","v":""}]
[]
[]
[]
[null,null,null,null,null,null,null,null,null,null,null,null,null,null,null,null,null,{"$f":"IF(R143=\"\",\"\",R143)","v":""},null,{"$f":"IF(T143=\"\",\"\",T143)","v":""},null,{"$f":"IF(V143=\"\",\"\",V143)","v":""},null,{"$f":"IF(X143=\"\",\"\",X143)","v":""},null,{"$f":"IF(Z143=\"\",\"\",Z143)","v":""},null,{"$f":"IF(AB143=\"\",\"\",AB143)","v":""},null,{"$f":"IF(AD143=\"\",\"\",AD143)","v":""},null,{"$f":"IF(AF143=\"\",\"\",AF143)","v":""},null,{"$f":"IF(AH143=\"\",\"\",AH143)","v":""},null,{"$f":"IF(AJ143=\"\",\"\",AJ143)","v":""},null,{"$f":"IF(AL143=\"\",\"\",AL143)","v":""},null,null,{"$f":"IF(AO143=\"\",\"\",AO143)","v":""},null,null,{"$f":"IF(AR143=\"\",\"\",AR143)","v":""},null,null,null,null,{"$f":"IF(AW143=\"\",\"\",AW143)","v":""}]
[]
[]
[]
[null,null,null,null,null,null,null,null,null,null,null,null,null,null,null,null,null,{"$f":"IF(R147=\"\",\"\",R147)","v":""},null,{"$f":"IF(T147=\"\",\"\",T147)","v":""},null,{"$f":"IF(V147=\"\",\"\",V147)","v":""},null,{"$f":"IF(X147=\"\",\"\",X147)","v":""},null,{"$f":"IF(Z147=\"\",\"\",Z147)","v":""},null,{"$f":"IF(AB147=\"\",\"\",AB147)","v":""},null,{"$f":"IF(AD147=\"\",\"\",AD147)","v":""},null,{"$f":"IF(AF147=\"\",\"\",AF147)","v":""},null,{"$f":"IF(AH147=\"\",\"\",AH147)","v":""},null,{"$f":"IF(AJ147=\"\",\"\",AJ147)","v":""},null,{"$f":"IF(AL147=\"\",\"\",AL147)","v":""},null,null,{"$f":"IF(AO147=\"\",\"\",AO147)","v":""},null,null,{"$f":"IF(AR147=\"\",\"\",AR147)","v":""},null,null,null,null,{"$f":"IF(AW147=\"\",\"\",AW147)","v":""}]
[]
[]
[]
[null,null,null,null,null,null,null,null,null,null,null,null,null,null,null,null,null,{"$f":"IF(R151=\"\",\"\",R151)","v":""},null,{"$f":"IF(T151=\"\",\"\",T151)","v":""},null,{"$f":"IF(V151=\"\",\"\",V151)","v":""},null,{"$f":"IF(X151=\"\",\"\",X151)","v":""},null,{"$f":"IF(Z151=\"\",\"\",Z151)","v":""},null,{"$f":"IF(AB151=\"\",\"\",AB151)","v":""},null,{"$f":"IF(AD151=\"\",\"\",AD151)","v":""},null,{"$f":"IF(AF151=\"\",\"\",AF151)","v":""},null,{"$f":"IF(AH151=\"\",\"\",AH151)","v":""},null,{"$f":"IF(AJ151=\"\",\"\",AJ151)","v":""},null,{"$f":"IF(AL151=\"\",\"\",AL151)","v":""},null,null,{"$f":"IF(AO151=\"\",\"\",AO151)","v":""},null,null,{"$f":"IF(AR151=\"\",\"\",AR151)","v":""},null,null,null,null,{"$f":"IF(AW151=\"\",\"\",AW151)","v":""}]
[]
[]
[]
[null,null,null,null,null,null,null,null,null,null,null,null,null,null,null,null,null,{"$f":"IF(R155=\"\",\"\",R155)","v":""},null,{"$f":"IF(T155=\"\",\"\",T155)","v":""},null,{"$f":"IF(V155=\"\",\"\",V155)","v":""},null,{"$f":"IF(X155=\"\",\"\",X155)","v":""},null,{"$f":"IF(Z155=\"\",\"\",Z155)","v":""},null,{"$f":"IF(AB155=\"\",\"\",AB155)","v":""},null,{"$f":"IF(AD155=\"\",\"\",AD155)","v":""},null,{"$f":"IF(AF155=\"\",\"\",AF155)","v":""},null,{"$f":"IF(AH155=\"\",\"\",AH155)","v":""},null,{"$f":"IF(AJ155=\"\",\"\",AJ155)","v":""},null,{"$f":"IF(AL155=\"\",\"\",AL155)","v":""},null,null,{"$f":"IF(AO155=\"\",\"\",AO155)","v":""},null,null,{"$f":"IF(AR155=\"\",\"\",AR155)","v":""},null,null,null,null,{"$f":"IF(AW155=\"\",\"\",AW155)","v":""}]
[]
[]
[]
[null,null,null,null,null,null,null,null,null,null,null,null,null,null,null,null,null,{"$f":"IF(R159=\"\",\"\",R159)","v":""},null,{"$f":"IF(T159=\"\",\"\",T159)","v":""},null,{"$f":"IF(V159=\"\",\"\",V159)","v":""},null,{"$f":"IF(X159=\"\",\"\",X159)","v":""},null,{"$f":"IF(Z159=\"\",\"\",Z159)","v":""},null,{"$f":"IF(AB159=\"\",\"\",AB159)","v":""},null,{"$f":"IF(AD159=\"\",\"\",AD159)","v":""},null,{"$f":"IF(AF159=\"\",\"\",AF159)","v":""},null,{"$f":"IF(AH159=\"\",\"\",AH159)","v":""},null,{"$f":"IF(AJ159=\"\",\"\",AJ159)","v":""},null,{"$f":"IF(AL159=\"\",\"\",AL159)","v":""},null,null,{"$f":"IF(AO159=\"\",\"\",AO159)","v":""},null,null,{"$f":"IF(AR159=\"\",\"\",AR159)","v":""},null,null,null,null,{"$f":"IF(AW159=\"\",\"\",AW159)","v":""}]
[]
[]
[]
[null,null,null,null,null,null,null,null,null,null,null,null,null,null,null,null,null,{"$f":"IF(R163=\"\",\"\",R163)","v":""},null,{"$f":"IF(T163=\"\",\"\",T163)","v":""},null,{"$f":"IF(V163=\"\",\"\",V163)","v":""},null,{"$f":"IF(X163=\"\",\"\",X163)","v":""},null,{"$f":"IF(Z163=\"\",\"\",Z163)","v":""},null,{"$f":"IF(AB163=\"\",\"\",AB163)","v":""},null,{"$f":"IF(AD163=\"\",\"\",AD163)","v":""},null,{"$f":"IF(AF163=\"\",\"\",AF163)","v":""},null,{"$f":"IF(AH163=\"\",\"\",AH163)","v":""},null,{"$f":"IF(AJ163=\"\",\"\",AJ163)","v":""},null,{"$f":"IF(AL163=\"\",\"\",AL163)","v":""},null,null,{"$f":"IF(AO163=\"\",\"\",AO163)","v":""},null,null,{"$f":"IF(AR163=\"\",\"\",AR163)","v":""},null,null,null,null,{"$f":"IF(AW163=\"\",\"\",AW163)","v":""}]
[]
[]
[]
[null,null,null,null,null,null,null,null,null,null,null,null,null,null,null,null,null,{"$f":"IF(R167=\"\",\"\",R167)","v":""},null,{"$f":"IF(T167=\"\",\"\",T167)","v":""},null,{"$f":"IF(V167=\"\",\"\",V167)","v":""},null,{"$f":"IF(X167=\"\",\"\",X167)","v":""},null,{"$f":"IF(Z167=\"\",\"\",Z167)","v":""},null,{"$f":"IF(AB167=\"\",\"\",AB167)","v":""},null,{"$f":"IF(AD167=\"\",\"\",AD167)","v":""},null,{"$f":"IF(AF167=\"\",\"\",AF167)","v":""},null,{"$f":"IF(AH167=\"\",\"\",AH167)","v":""},null,{"$f":"IF(AJ167=\"\",\"\",AJ167)","v":""},null,{"$f":"IF(AL167=\"\",\"\",AL167)","v":""},null,null,{"$f":"IF(AO167=\"\",\"\",AO167)","v":""},null,null,{"$f":"IF(AR167=\"\",\"\",AR167)","v":""},null,null,null,null,{"$f":"IF(AW167=\"\",\"\",AW167)","v":""}]
[]
[]
[]
[null,null,null,null,null,null,null,null,null,null,null,null,null,null,null,null,null,{"$f":"IF(R171=\"\",\"\",R171)","v":""},null,{"$f":"IF(T171=\"\",\"\",T171)","v":""},null,{"$f":"IF(V171=\"\",\"\",V171)","v":""},null,{"$f":"IF(X171=\"\",\"\",X171)","v":""},null,{"$f":"IF(Z171=\"\",\"\",Z171)","v":""},null,{"$f":"IF(AB171=\"\",\"\",AB171)","v":""},null,{"$f":"IF(AD171=\"\",\"\",AD171)","v":""},null,{"$f":"IF(AF171=\"\",\"\",AF171)","v":""},null,{"$f":"IF(AH171=\"\",\"\",AH171)","v":""},null,{"$f":"IF(AJ171=\"\",\"\",AJ171)","v":""},null,{"$f":"IF(AL171=\"\",\"\",AL171)","v":""},null,null,{"$f":"IF(AO171=\"\",\"\",AO171)","v":""},null,null,{"$f":"IF(AR171=\"\",\"\",AR171)","v":""},null,null,null,null,{"$f":"IF(AW171=\"\",\"\",AW171)","v":""}]
[]
[]
[]
[null,null,null,null,null,null,null,null,null,null,null,null,null,null,null,null,null,null,null,null,null,null,null,null,null,null,null,null,null,null,null,null,null,null,null,null,null,"値引き等",null,null,null,null,null,null,null,null,null,null,{"$f":"IF(AW175=\"\",\"\",AW175)","v":""}]
[]
[]
[]
[]
[null,null,null,null,null,null,null,null,null,null,null,null,null,null,null,null,null,null,null,null,null,null,null,null,null,null,null,null,null,null,null,null,null,null,null,null,null,{"$f":"\"合計(\" & IF(税処理=2,\"税込\",\"税抜\")&\")\"","v":"合計(税抜)"},null,null,null,null,null,null,null,null,null,null,{"$f":"IF(AW180=\"\",\"\",AW180)","v":""}]

{"sheet":"細1-6","index":8,"n_rows":272,"n_cols":53,"rows_kept":272,"cut":false,"hidden":false,"merged":[[266,37,269,47],[266,48,269,54],[258,48,261,54],[262,17,265,18],[262,19,265,20],[262,21,265,36],[262,37,265,39],[258,43,261,47],[271,37,274,47],[271,48,274,54],[262,40,265,42],[262,43,265,47],[262,48,265,54],[258,17,261,18],[258,19,261,20],[258,21,261,36],[258,37,261,39],[258,40,261,42],[250,48,253,54],[254,17,257,18],[254,19,257,20],[254,21,257,36],[254,37,257,39],[254,40,257,42],[254,43,257,47],[254,48,257,54],[250,17,253,18],[250,19,253,20],[250,21,253,36],[250,37,253,39],[250,40,253,42],[250,43,253,47],[242,48,245,54],[246,17,249,18],[246,19,249,20],[246,21,249,36],[246,37,249,39],[246,40,249,42],[246,43,249,47],[246,48,249,54],[242,17,245,18],[242,19,245,20],[242,21,245,36],[242,37,245,39],[242,40,245,42],[242,43,245,47],[234,48,237,54],[238,17,241,18],[238,19,241,20],[238,21,241,36],[238,37,241,39],[238,40,241,42],[238,43,241,47],[238,48,241,54],[234,17,237,18],[234,19,237,20],[234,21,237,36],[234,37,237,39],[234,40,237,42],[234,43,237,47],[222,17,225,18],[222,19,225,20],[222,21,225,36],[222,37,225,39],[222,40,225,42],[222,43,225,47],[222,48,225,54],[226,48,229,54],[230,17,233,18],[230,19,233,20],[230,21,233,36],[230,37,233,39],[230,40,233,42],[230,43,233,47],[230,48,233,54],[226,17,229,18],[226,19,229,20],[226,21,229,36],[226,37,229,39],[226,40,229,42],[226,43,229,47],[218,1,221,5],[218,6,221,15],[218,17,221,18],[218,19,221,20],[218,21,221,36],[218,37,221,39],[218,40,221,42],[218,43,221,47],[218,48,221,54],[210,40,213,42],[210,43,213,47],[210,48,213,54],[214,1,217,3],[214,4,217,5],[214,6,217,15],[214,17,217,18],[214,19,217,20],[214,21,217,36],[214,37,217,39],[210,1,213,5],[210,6,213,15],[210,17,213,18],[210,19,213,20],[210,21,213,36],[210,37,213,39],[214,40,217,42],[214,43,217,47],[214,48,217,54],[206,1,209,5],[206,6,209,15],[206,17,209,18],[206,19,209,20],[206,21,209,36],[206,37,209,39],[206,40,209,42],[206,43,209,47],[206,48,209,54],[198,43,201,47],[198,48,201,54],[202,1,205,5],[202,6,205,15],[202,17,205,18],[202,19,205,20],[202,21,205,36],[202,37,205,39],[202,40,205,42],[202,43,205,47],[198,1,201,5],[198,6,201,15],[198,17,201,20],[198,21,201,36],[198,37,201,39],[198,40,201,42],[202,48,205,54],[187,52,189,54],[192,1,195,5],[192,6,195,11],[192,12,195,15],[192,16,195,35],[192,37,195,40],[192,41,195,54],[185,19,188,32],[186,1,189,11],[186,12,189,13],[187,41,189,45],[187,46,189,48],[187,49,189,51],[174,37,177,47],[174,48,177,54],[179,37,182,47],[179,48,182,54],[170,17,173,18],[170,19,173,20],[170,21,173,36],[170,37,173,39],[170,40,173,42],[170,43,173,47],[170,48,173,54],[166,17,169,18],[166,19,169,20],[162,43,165,47],[162,48,165,54],[158,17,161,18],[158,19,161,20],[158,21,161,36],[158,37,161,39],[158,40,161,42],[162,17,165,18],[162,19,165,20],[162,21,165,36],[162,37,165,39],[162,40,165,42],[166,48,169,54],[158,43,161,47],[166,21,169,36],[166,37,169,39],[166,40,169,42],[166,43,169,47],[158,48,161,54],[154,48,157,54],[150,17,153,18],[150,19,153,20],[146,43,149,47],[146,48,149,54],[142,17,145,18],[142,19,145,20],[142,21,145,36],[142,37,145,39],[142,40,145,42],[154,17,157,18],[154,19,157,20],[154,21,157,36],[154,37,157,39],[154,40,157,42],[154,43,157,47],[146,17,149,18],[146,19,149,20],[146,21,149,36],[146,37,149,39],[146,40,149,42],[150,48,153,54],[142,43,145,47],[150,21,153,36],[150,37,153,39],[150,40,153,42],[150,43,153,47],[142,48,145,54],[130,48,133,54],[134,48,137,54],[130,17,133,18],[130,19,133,20],[130,21,133,36],[130,37,133,39],[130,40,133,42],[130,43,133,47],[138,48,141,54],[134,17,137,18],[134,19,137,20],[134,21,137,36],[134,37,137,39],[134,40,137,42],[134,43,137,47],[138,17,141,18],[138,19,141,20],[138,21,141,36],[138,37,141,39],[138,40,141,42],[138,43,141,47],[126,1,129,5],[126,6,129,15],[126,17,129,18],[126,19,129,20],[126,21,129,36],[126,37,129,39],[126,40,129,42],[126,43,129,47],[126,48,129,54],[118,40,121,42],[118,43,121,47],[118,48,121,54],[122,1,125,3],[122,4,125,5],[122,6,125,15],[122,17,125,18],[122,19,125,20],[122,21,125,36],[122,37,125,39],[118,1,121,5],[118,6,121,15],[118,17,121,18],[118,19,121,20],[118,21,121,36],[118,37,121,39],[122,40,125,42],[122,43,125,47],[122,48,125,54],[114,1,117,5],[114,6,117,15],[114,17,117,18],[114,19,117,20],[114,21,117,36],[114,37,117,39],[114,40,117,42],[114,43,117,47],[114,48,117,54],[106,43,109,47],[106,48,109,54],[110,1,113,5],[110,6,113,15],[110,17,113,18],[110,19,113,20],[110,21,113,36],[110,37,113,39],[110,40,113,42],[110,43,113,47],[106,1,109,5],[106,6,109,15],[106,17,109,20],[106,21,109,36],[106,37,109,39],[106,40,109,42],[110,48,113,54],[95,49,97,51],[95,52,97,54],[100,1,103,5],[100,6,103,11],[100,12,103,15],[100,16,103,35],[100,37,103,40],[100,41,103,54],[93,19,96,32],[94,1,97,11],[94,12,97,13],[95,41,97,45],[83,1,84,4],[83,5,84,10],[87,37,90,47],[83,11,84,16],[83,17,84,25],[95,46,97,48],[85,1,90,4],[85,5,90,10],[85,11,90,16],[85,17,90,25],[78,43,81,47],[83,26,84,30],[83,31,84,35],[78,17,81,18],[78,19,81,20],[78,21,81,36],[85,26,90,30],[85,31,90,35],[74,48,77,54],[87,48,90,54],[78,48,81,54],[82,37,85,47],[82,48,85,54],[78,37,81,39],[78,40,81,42],[74,17,77,18],[74,19,77,20],[74,21,77,36],[74,37,77,39],[74,40,77,42],[74,43,77,47],[66,48,69,54],[70,17,73,18],[70,19,73,20],[70,21,73,36],[70,37,73,39],[70,40,73,42],[70,43,73,47],[70,48,73,54],[66,17,69,18],[66,19,69,20],[66,21,69,36],[66,37,69,39],[66,40,69,42],[66,43,69,47],[58,48,61,54],[62,17,65,18],[62,19,65,20],[62,21,65,36],[62,37,65,39],[62,40,65,42],[62,43,65,47],[62,48,65,54],[58,17,61,18],[58,19,61,20],[58,21,61,36],[58,37,61,39],[58,40,61,42],[58,43,61,47],[50,48,53,54],[54,17,57,18],[54,19,57,20],[54,21,57,36],[54,37,57,39],[54,40,57,42],[54,43,57,47],[54,48,57,54],[50,17,53,18],[50,19,53,20],[50,21,53,36],[50,37,53,39],[50,40,53,42],[50,43,53,47],[38,17,41,18],[38,19,41,20],[38,21,41,36],[38,37,41,39],[38,40,41,42],[38,43,41,47],[38,48,41,54],[42,48,45,54],[46,17,49,18],[46,19,49,20],[46,21,49,36],[46,37,49,39],[46,40,49,42],[46,43,49,47],[46,48,49,54],[42,17,45,18],[42,19,45,20],[42,21,45,36],[42,37,45,39],[42,40,45,42],[42,43,45,47],[34,1,37,5],[34,6,37,15],[34,17,37,18],[34,19,37,20],[34,21,37,36],[34,37,37,39],[34,40,37,42],[34,43,37,47],[34,48,37,54],[26,40,29,42],[26,43,29,47],[26,48,29,54],[30,1,33,3],[30,4,33,5],[30,6,33,15],[30,17,33,18],[30,19,33,20],[30,21,33,36],[30,37,33,39],[26,1,29,5],[26,6,29,15],[26,17,29,18],[26,19,29,20],[26,21,29,36],[26,37,29,39],[30,40,33,42],[30,43,33,47],[30,48,33,54],[22,1,25,5],[22,6,25,15],[22,17,25,18],[22,19,25,20],[22,21,25,36],[22,37,25,39],[22,40,25,42],[22,43,25,47],[22,48,25,54],[14,43,17,47],[14,48,17,54],[18,1,21,5],[18,6,21,15],[18,17,21,18],[18,19,21,20],[18,21,21,36],[18,37,21,39],[18,40,21,42],[18,43,21,47],[14,1,17,5],[14,6,17,15],[14,17,17,20],[14,21,17,36],[14,37,17,39],[14,40,17,42],[18,48,21,54],[3,52,5,54],[8,37,11,40],[8,41,11,54],[3,41,5,45],[1,19,4,32],[2,1,5,11],[2,12,5,13],[8,1,11,5],[8,6,11,11],[8,12,11,15],[8,16,11,35],[3,46,5,48],[3,49,5,51]]}
[]
[null,null,null,null,null,null,null,null,null,null,null,null,null,null,null,null,null,null,null,"請求書明細書 (正)"]
[null,"株 式 会 社 種 村 建 設",null,null,null,null,null,null,null,null,null,null,"御中"]
[null,null,null,null,null,null,null,null,null,null,null,null,null,null,null,null,null,null,null,null,null,null,null,null,null,null,null,null,null,null,null,null,null,null,null,null,null,null,null,null,null,"請求年月日",null,null,null,null,{"$f":"年","v":23},null,null,{"$f":"月","v":5},null,null,{"$f":"日","v":31}]
[]
[]
[]
[]
[null,"工事番号",null,null,null,null,null,null,null,null,null,null,"工事名",null,null,null,null,null,null,null,null,null,null,null,null,null,null,null,null,null,null,null,null,null,null,null,null,"業者名",null,null,null,{"$f":"社名","v":"例：㈱種村建設"}]
[]
[]
[]
[]
[]
[null,"注文番号",null,null,null,null,null,null,null,null,null,null,null,null,null,null,null,"月　日",null,null,null,"摘要･品名",null,null,null,null,null,null,null,null,null,null,null,null,null,null,null,"数 量",null,null,"単位",null,null,"単価",null,null,null,null,{"$f":"\"金額(\" & IF(税処理=2,\"税込\",\"税抜\")&\")\"","v":"金額(税抜)"}]
[]
[]
[]
[null,"契約金額",null,null,null,null,null,null,null,null,null,null,null,null,null,null,null,null,null,null,null,null,null,null,null,null,null,null,null,null,null,null,null,null,null,null,null,null,null,null,null,null,null,null,null,null,null,null,{"$f":"IF(V19=\"\",\"\",AL19*AR19)","v":""}]
[]
[]
[]
[null,"増減額",null,null,null,null,null,null,null,null,null,null,null,null,null,null,null,null,null,null,null,null,null,null,null,null,null,null,null,null,null,null,null,null,null,null,null,null,null,null,null,null,null,null,null,null,null,null,{"$f":"IF(V23=\"\",\"\",AL23*AR23)","v":""}]
[]
[]
[]
[null,"前回までの\n請求額",null,null,null,null,null,null,null,null,null,null,null,null,null,null,null,null,null,null,null,null,null,null,null,null,null,null,null,null,null,null,null,null,null,null,null,null,null,null,null,null,null,null,null,null,null,null,{"$f":"IF(V27=\"\",\"\",AL27*AR27)","v":""}]
[]
[]
[]
[null,"今回\n請求額",null,null,null,null,null,null,null,null,null,null,null,null,null,null,null,null,null,null,null,null,null,null,null,null,null,null,null,null,null,null,null,null,null,null,null,null,null,null,null,null,null,null,null,null,null,null,{"$f":"IF(V31=\"\",\"\",AL31*AR31)","v":""}]
[]
[]
[]
[null,"差引残高",null,null,null,null,{"$f":"IF(G19=\"\",\"\",G19+G23-G27-G31)","v":""},null,null,null,null,null,null,null,null,null,null,null,null,null,null,null,null,null,null,null,null,null,null,null,null,null,null,null,null,null,null,null,null,null,null,null,null,null,null,null,null,null,{"$f":"IF(V35=\"\",\"\",AL35*AR35)","v":""}]
[]
[]
[]
[null,null,null,null,null,null,null,null,null,null,null,null,null,null,null,null,null,null,null,null,null,null,null,null,null,null,null,null,null,null,null,null,null,null,null,null,null,null,null,null,null,null,null,null,null,null,null,null,{"$f":"IF(V39=\"\",\"\",AL39*AR39)","v":""}]
[]
[]
[]
[null,null,null,null,null,null,null,null,null,null,null,null,null,null,null,null,null,null,null,null,null,null,null,null,null,null,null,null,null,null,null,null,null,null,null,null,null,null,null,null,null,null,null,null,null,null,null,null,{"$f":"IF(V43=\"\",\"\",AL43*AR43)","v":""}]
[]
[]
[]
[null,null,null,null,null,null,null,null,null,null,null,null,null,null,null,null,null,null,null,null,null,null,null,null,null,null,null,null,null,null,null,null,null,null,null,null,null,null,null,null,null,null,null,null,null,null,null,null,{"$f":"IF(V47=\"\",\"\",AL47*AR47)","v":""}]
[]
[]
[]
[null,null,null,null,null,null,null,null,null,null,null,null,null,null,null,null,null,null,null,null,null,null,null,null,null,null,null,null,null,null,null,null,null,null,null,null,null,null,null,null,null,null,null,null,null,null,null,null,{"$f":"IF(V51=\"\",\"\",AL51*AR51)","v":""}]
[]
[]
[]
[null,null,null,null,null,null,null,null,null,null,null,null,null,null,null,null,null,null,null,null,null,null,null,null,null,null,null,null,null,null,null,null,null,null,null,null,null,null,null,null,null,null,null,null,null,null,null,null,{"$f":"IF(V55=\"\",\"\",AL55*AR55)","v":""}]
[]
[]
[]
[null,null,null,null,null,null,null,null,null,null,null,null,null,null,null,null,null,null,null,null,null,null,null,null,null,null,null,null,null,null,null,null,null,null,null,null,null,null,null,null,null,null,null,null,null,null,null,null,{"$f":"IF(V59=\"\",\"\",AL59*AR59)","v":""}]
[]
[]
[]
[null,null,null,null,null,null,null,null,null,null,null,null,null,null,null,null,null,null,null,null,null,null,null,null,null,null,null,null,null,null,null,null,null,null,null,null,null,null,null,null,null,null,null,null,null,null,null,null,{"$f":"IF(V63=\"\",\"\",AL63*AR63)","v":""}]
[]
[]
[]
[null,null,null,null,null,null,null,null,null,null,null,null,null,null,null,null,null,null,null,null,null,null,null,null,null,null,null,null,null,null,null,null,null,null,null,null,null,null,null,null,null,null,null,null,null,null,null,null,{"$f":"IF(V67=\"\",\"\",AL67*AR67)","v":""}]
[]
[]
[]
[null,null,null,null,null,null,null,null,null,null,null,null,null,null,null,null,null,null,null,null,null,null,null,null,null,null,null,null,null,null,null,null,null,null,null,null,null,null,null,null,null,null,null,null,null,null,null,null,{"$f":"IF(V71=\"\",\"\",AL71*AR71)","v":""}]
[]
[]
[]
[null,null,null,null,null,null,null,null,null,null,null,null,null,null,null,null,null,null,null,null,null,null,null,null,null,null,null,null,null,null,null,null,null,null,null,null,null,null,null,null,null,null,null,null,null,null,null,null,{"$f":"IF(V75=\"\",\"\",AL75*AR75)","v":""}]
[]
[]
[]
[null,null,null,null,null,null,null,null,null,null,null,null,null,null,null,null,null,null,null,null,null,null,null,null,null,null,null,null,null,null,null,null,null,null,null,null,null,null,null,null,null,null,null,null,null,null,null,null,{"$f":"IF(V79=\"\",\"\",AL79*AR79)","v":""}]
[]
[]
[]
[null,null,null,null,null,null,null,null,null,null,null,null,null,null,null,null,null,null,null,null,null,null,null,null,null,null,null,null,null,null,null,null,null,null,null,null,null,"値引き等"]
[null,"社長",null,null,null,"専務",null,null,null,null,null,"常務",null,null,null,null,null,"部長･工場長",null,null,null,null,null,null,null,null,"担当者",null,null,null,null,"受付"]
[]
[]
[]
[null,null,null,null,null,null,null,null,null,null,null,null,null,null,null,null,null,null,null,null,null,null,null,null,null,null,null,null,null,null,null,null,null,null,null,null,null,{"$f":"\"合計(\" & IF(税処理=2,\"税込\",\"税抜\")&\")\"","v":"合計(税抜)"},null,null,null,null,null,null,null,null,null,null,{"$f":"IF(AW19=\"\",\"\",SUM(AW19:AW79)+AW83)","v":""}]
[]
[]
[]
[]
[]
[null,null,null,null,null,null,null,null,null,null,null,null,null,null,null,null,null,null,null,"請求明細書 (現場控)"]
[null,"株 式 会 社 種 村 建 設",null,null,null,null,null,null,null,null,null,null,"御中"]
[null,null,null,null,null,null,null,null,null,null,null,null,null,null,null,null,null,null,null,null,null,null,null,null,null,null,null,null,null,null,null,null,null,null,null,null,null,null,null,null,null,"請求年月日",null,null,null,null,{"$f":"IF(AU4=\"\",\"\",AU4)","v":23},null,null,{"$f":"IF(AX4=\"\",\"\",AX4)","v":5},null,null,{"$f":"IF(BA4=\"\",\"\",BA4)","v":31}]
[]
[]
[]
[]
[null,"工事番号",null,null,null,null,{"$f":"IF(G9=\"\",\"\",G9)","v":""},null,null,null,null,null,"工事名",null,null,null,{"$f":"IF(Q9=\"\",\"\",Q9)","v":""},null,null,null,null,null,null,null,null,null,null,null,null,null,null,null,null,null,null,null,null,"業者名",null,null,null,{"$f":"IF(AP9=\"\",\"\",AP9)","v":"例：㈱種村建設"}]
[]
[]
[]
[]
[]
[null,"注文番号",null,null,null,null,{"$f":"IF(G15=\"\",\"\",G15)","v":""},null,null,null,null,null,null,null,null,null,null,"月　日",null,null,null,"摘要･品名",null,null,null,null,null,null,null,null,null,null,null,null,null,null,null,"数 量",null,null,"単位",null,null,"単価",null,null,null,null,{"$f":"\"金額(\" & IF(税処理=2,\"税込\",\"税抜\")&\")\"","v":"金額(税抜)"}]
[]
[]
[]
[null,"契約金額",null,null,null,null,{"$f":"IF(G19=\"\",\"\",G19)","v":""},null,null,null,null,null,null,null,null,null,null,{"$f":"IF(R19=\"\",\"\",R19)","v":""},null,{"$f":"IF(T19=\"\",\"\",T19)","v":""},null,{"$f":"IF(V19=\"\",\"\",V19)","v":""},null,{"$f":"IF(X19=\"\",\"\",X19)","v":""},null,{"$f":"IF(Z19=\"\",\"\",Z19)","v":""},null,{"$f":"IF(AB19=\"\",\"\",AB19)","v":""},null,{"$f":"IF(AD19=\"\",\"\",AD19)","v":""},null,{"$f":"IF(AF19=\"\",\"\",AF19)","v":""},null,{"$f":"IF(AH19=\"\",\"\",AH19)","v":""},null,{"$f":"IF(AJ19=\"\",\"\",AJ19)","v":""},null,{"$f":"IF(AL19=\"\",\"\",AL19)","v":""},null,null,{"$f":"IF(AO19=\"\",\"\",AO19)","v":""},null,null,{"$f":"IF(AR19=\"\",\"\",AR19)","v":""},null,null,null,null,{"$f":"IF(AW19=\"\",\"\",AW19)","v":""}]
[]
[]
[]
[null,"増減額",null,null,null,null,{"$f":"IF(G23=\"\",\"\",G23)","v":""},null,null,null,null,null,null,null,null,null,null,{"$f":"IF(R23=\"\",\"\",R23)","v":""},null,{"$f":"IF(T23=\"\",\"\",T23)","v":""},null,{"$f":"IF(V23=\"\",\"\",V23)","v":""},null,{"$f":"IF(X23=\"\",\"\",X23)","v":""},null,{"$f":"IF(Z23=\"\",\"\",Z23)","v":""},null,{"$f":"IF(AB23=\"\",\"\",AB23)","v":""},null,{"$f":"IF(AD23=\"\",\"\",AD23)","v":""},null,{"$f":"IF(AF23=\"\",\"\",AF23)","v":""},null,{"$f":"IF(AH23=\"\",\"\",AH23)","v":""},null,{"$f":"IF(AJ23=\"\",\"\",AJ23)","v":""},null,{"$f":"IF(AL23=\"\",\"\",AL23)","v":""},null,null,{"$f":"IF(AO23=\"\",\"\",AO23)","v":""},null,null,{"$f":"IF(AR23=\"\",\"\",AR23)","v":""},null,null,null,null,{"$f":"IF(AW23=\"\",\"\",AW23)","v":""}]
[]
[]
[]
[null,"前回までの\n請求額",null,null,null,null,{"$f":"IF(G27=\"\",\"\",G27)","v":""},null,null,null,null,null,null,null,null,null,null,{"$f":"IF(R27=\"\",\"\",R27)","v":""},null,{"$f":"IF(T27=\"\",\"\",T27)","v":""},null,{"$f":"IF(V27=\"\",\"\",V27)","v":""},null,{"$f":"IF(X27=\"\",\"\",X27)","v":""},null,{"$f":"IF(Z27=\"\",\"\",Z27)","v":""},null,{"$f":"IF(AB27=\"\",\"\",AB27)","v":""},null,{"$f":"IF(AD27=\"\",\"\",AD27)","v":""},null,{"$f":"IF(AF27=\"\",\"\",AF27)","v":""},null,{"$f":"IF(AH27=\"\",\"\",AH27)","v":""},null,{"$f":"IF(AJ27=\"\",\"\",AJ27)","v":""},null,{"$f":"IF(AL27=\"\",\"\",AL27)","v":""},null,null,{"$f":"IF(AO27=\"\",\"\",AO27)","v":""},null,null,{"$f":"IF(AR27=\"\",\"\",AR27)","v":""},null,null,null,null,{"$f":"IF(AW27=\"\",\"\",AW27)","v":""}]
[]
[]
[]
[null,"今回\n請求額",null,null,{"$f":"IF(E31=\"\",\"\",E31)","v":""},null,{"$f":"IF(G31=\"\",\"\",G31)","v":""},null,null,null,null,null,null,null,null,null,null,{"$f":"IF(R31=\"\",\"\",R31)","v":""},null,{"$f":"IF(T31=\"\",\"\",T31)","v":""},null,{"$f":"IF(V31=\"\",\"\",V31)","v":""},null,{"$f":"IF(X31=\"\",\"\",X31)","v":""},null,{"$f":"IF(Z31=\"\",\"\",Z31)","v":""},null,{"$f":"IF(AB31=\"\",\"\",AB31)","v":""},null,{"$f":"IF(AD31=\"\",\"\",AD31)","v":""},null,{"$f":"IF(AF31=\"\",\"\",AF31)","v":""},null,{"$f":"IF(AH31=\"\",\"\",AH31)","v":""},null,{"$f":"IF(AJ31=\"\",\"\",AJ31)","v":""},null,{"$f":"IF(AL31=\"\",\"\",AL31)","v":""},null,null,{"$f":"IF(AO31=\"\",\"\",AO31)","v":""},null,null,{"$f":"IF(AR31=\"\",\"\",AR31)","v":""},null,null,null,null,{"$f":"IF(AW31=\"\",\"\",AW31)","v":""}]
[]
[]
[]
[null,"差引残高",null,null,null,null,{"$f":"IF(G111=\"\",\"\",G111+G115-G119-G123)","v":""},null,null,null,null,null,null,null,null,null,null,{"$f":"IF(R35=\"\",\"\",R35)","v":""},null,{"$f":"IF(T35=\"\",\"\",T35)","v":""},null,{"$f":"IF(V35=\"\",\"\",V35)","v":""},null,{"$f":"IF(X35=\"\",\"\",X35)","v":""},null,{"$f":"IF(Z35=\"\",\"\",Z35)","v":""},null,{"$f":"IF(AB35=\"\",\"\",AB35)","v":""},null,{"$f":"IF(AD35=\"\",\"\",AD35)","v":""},null,{"$f":"IF(AF35=\"\",\"\",AF35)","v":""},null,{"$f":"IF(AH35=\"\",\"\",AH35)","v":""},null,{"$f":"IF(AJ35=\"\",\"\",AJ35)","v":""},null,{"$f":"IF(AL35=\"\",\"\",AL35)","v":""},null,null,{"$f":"IF(AO35=\"\",\"\",AO35)","v":""},null,null,{"$f":"IF(AR35=\"\",\"\",AR35)","v":""},null,null,null,null,{"$f":"IF(AW35=\"\",\"\",AW35)","v":""}]
[]
[]
[]
[null,null,null,null,null,null,null,null,null,null,null,null,null,null,null,null,null,{"$f":"IF(R39=\"\",\"\",R39)","v":""},null,{"$f":"IF(T39=\"\",\"\",T39)","v":""},null,{"$f":"IF(V39=\"\",\"\",V39)","v":""},null,{"$f":"IF(X39=\"\",\"\",X39)","v":""},null,{"$f":"IF(Z39=\"\",\"\",Z39)","v":""},null,{"$f":"IF(AB39=\"\",\"\",AB39)","v":""},null,{"$f":"IF(AD39=\"\",\"\",AD39)","v":""},null,{"$f":"IF(AF39=\"\",\"\",AF39)","v":""},null,{"$f":"IF(AH39=\"\",\"\",AH39)","v":""},null,{"$f":"IF(AJ39=\"\",\"\",AJ39)","v":""},null,{"$f":"IF(AL39=\"\",\"\",AL39)","v":""},null,null,{"$f":"IF(AO39=\"\",\"\",AO39)","v":""},null,null,{"$f":"IF(AR39=\"\",\"\",AR39)","v":""},null,null,null,null,{"$f":"IF(AW39=\"\",\"\",AW39)","v":""}]
[]
[]
[]
[null,null,null,null,null,null,null,null,null,null,null,null,null,null,null,null,null,{"$f":"IF(R43=\"\",\"\",R43)","v":""},null,{"$f":"IF(T43=\"\",\"\",T43)","v":""},null,{"$f":"IF(V43=\"\",\"\",V43)","v":""},null,{"$f":"IF(X43=\"\",\"\",X43)","v":""},null,{"$f":"IF(Z43=\"\",\"\",Z43)","v":""},null,{"$f":"IF(AB43=\"\",\"\",AB43)","v":""},null,{"$f":"IF(AD43=\"\",\"\",AD43)","v":""},null,{"$f":"IF(AF43=\"\",\"\",AF43)","v":""},null,{"$f":"IF(AH43=\"\",\"\",AH43)","v":""},null,{"$f":"IF(AJ43=\"\",\"\",AJ43)","v":""},null,{"$f":"IF(AL43=\"\",\"\",AL43)","v":""},null,null,{"$f":"IF(AO43=\"\",\"\",AO43)","v":""},null,null,{"$f":"IF(AR43=\"\",\"\",AR43)","v":""},null,null,null,null,{"$f":"IF(AW43=\"\",\"\",AW43)","v":""}]
[]
[]
[]
[null,null,null,null,null,null,null,null,null,null,null,null,null,null,null,null,null,{"$f":"IF(R47=\"\",\"\",R47)","v":""},null,{"$f":"IF(T47=\"\",\"\",T47)","v":""},null,{"$f":"IF(V47=\"\",\"\",V47)","v":""},null,{"$f":"IF(X47=\"\",\"\",X47)","v":""},null,{"$f":"IF(Z47=\"\",\"\",Z47)","v":""},null,{"$f":"IF(AB47=\"\",\"\",AB47)","v":""},null,{"$f":"IF(AD47=\"\",\"\",AD47)","v":""},null,{"$f":"IF(AF47=\"\",\"\",AF47)","v":""},null,{"$f":"IF(AH47=\"\",\"\",AH47)","v":""},null,{"$f":"IF(AJ47=\"\",\"\",AJ47)","v":""},null,{"$f":"IF(AL47=\"\",\"\",AL47)","v":""},null,null,{"$f":"IF(AO47=\"\",\"\",AO47)","v":""},null,null,{"$f":"IF(AR47=\"\",\"\",AR47)","v":""},null,null,null,null,{"$f":"IF(AW47=\"\",\"\",AW47)","v":""}]
[]
[]
[]
[null,null,null,null,null,null,null,null,null,null,null,null,null,null,null,null,null,{"$f":"IF(R51=\"\",\"\",R51)","v":""},null,{"$f":"IF(T51=\"\",\"\",T51)","v":""},null,{"$f":"IF(V51=\"\",\"\",V51)","v":""},null,{"$f":"IF(X51=\"\",\"\",X51)","v":""},null,{"$f":"IF(Z51=\"\",\"\",Z51)","v":""},null,{"$f":"IF(AB51=\"\",\"\",AB51)","v":""},null,{"$f":"IF(AD51=\"\",\"\",AD51)","v":""},null,{"$f":"IF(AF51=\"\",\"\",AF51)","v":""},null,{"$f":"IF(AH51=\"\",\"\",AH51)","v":""},null,{"$f":"IF(AJ51=\"\",\"\",AJ51)","v":""},null,{"$f":"IF(AL51=\"\",\"\",AL51)","v":""},null,null,{"$f":"IF(AO51=\"\",\"\",AO51)","v":""},null,null,{"$f":"IF(AR51=\"\",\"\",AR51)","v":""},null,null,null,null,{"$f":"IF(AW51=\"\",\"\",AW51)","v":""}]
[]
[]
[]
[null,null,null,null,null,null,null,null,null,null,null,null,null,null,null,null,null,{"$f":"IF(R55=\"\",\"\",R55)","v":""},null,{"$f":"IF(T55=\"\",\"\",T55)","v":""},null,{"$f":"IF(V55=\"\",\"\",V55)","v":""},null,{"$f":"IF(X55=\"\",\"\",X55)","v":""},null,{"$f":"IF(Z55=\"\",\"\",Z55)","v":""},null,{"$f":"IF(AB55=\"\",\"\",AB55)","v":""},null,{"$f":"IF(AD55=\"\",\"\",AD55)","v":""},null,{"$f":"IF(AF55=\"\",\"\",AF55)","v":""},null,{"$f":"IF(AH55=\"\",\"\",AH55)","v":""},null,{"$f":"IF(AJ55=\"\",\"\",AJ55)","v":""},null,{"$f":"IF(AL55=\"\",\"\",AL55)","v":""},null,null,{"$f":"IF(AO55=\"\",\"\",AO55)","v":""},null,null,{"$f":"IF(AR55=\"\",\"\",AR55)","v":""},null,null,null,null,{"$f":"IF(AW55=\"\",\"\",AW55)","v":""}]
[]
[]
[]
[null,null,null,null,null,null,null,null,null,null,null,null,null,null,null,null,null,{"$f":"IF(R59=\"\",\"\",R59)","v":""},null,{"$f":"IF(T59=\"\",\"\",T59)","v":""},null,{"$f":"IF(V59=\"\",\"\",V59)","v":""},null,{"$f":"IF(X59=\"\",\"\",X59)","v":""},null,{"$f":"IF(Z59=\"\",\"\",Z59)","v":""},null,{"$f":"IF(AB59=\"\",\"\",AB59)","v":""},null,{"$f":"IF(AD59=\"\",\"\",AD59)","v":""},null,{"$f":"IF(AF59=\"\",\"\",AF59)","v":""},null,{"$f":"IF(AH59=\"\",\"\",AH59)","v":""},null,{"$f":"IF(AJ59=\"\",\"\",AJ59)","v":""},null,{"$f":"IF(AL59=\"\",\"\",AL59)","v":""},null,null,{"$f":"IF(AO59=\"\",\"\",AO59)","v":""},null,null,{"$f":"IF(AR59=\"\",\"\",AR59)","v":""},null,null,null,null,{"$f":"IF(AW59=\"\",\"\",AW59)","v":""}]
[]
[]
[]
[null,null,null,null,null,null,null,null,null,null,null,null,null,null,null,null,null,{"$f":"IF(R63=\"\",\"\",R63)","v":""},null,{"$f":"IF(T63=\"\",\"\",T63)","v":""},null,{"$f":"IF(V63=\"\",\"\",V63)","v":""},null,{"$f":"IF(X63=\"\",\"\",X63)","v":""},null,{"$f":"IF(Z63=\"\",\"\",Z63)","v":""},null,{"$f":"IF(AB63=\"\",\"\",AB63)","v":""},null,{"$f":"IF(AD63=\"\",\"\",AD63)","v":""},null,{"$f":"IF(AF63=\"\",\"\",AF63)","v":""},null,{"$f":"IF(AH63=\"\",\"\",AH63)","v":""},null,{"$f":"IF(AJ63=\"\",\"\",AJ63)","v":""},null,{"$f":"IF(AL63=\"\",\"\",AL63)","v":""},null,null,{"$f":"IF(AO63=\"\",\"\",AO63)","v":""},null,null,{"$f":"IF(AR63=\"\",\"\",AR63)","v":""},null,null,null,null,{"$f":"IF(AW63=\"\",\"\",AW63)","v":""}]
[]
[]
[]
[null,null,null,null,null,null,null,null,null,null,null,null,null,null,null,null,null,{"$f":"IF(R67=\"\",\"\",R67)","v":""},null,{"$f":"IF(T67=\"\",\"\",T67)","v":""},null,{"$f":"IF(V67=\"\",\"\",V67)","v":""},null,{"$f":"IF(X67=\"\",\"\",X67)","v":""},null,{"$f":"IF(Z67=\"\",\"\",Z67)","v":""},null,{"$f":"IF(AB67=\"\",\"\",AB67)","v":""},null,{"$f":"IF(AD67=\"\",\"\",AD67)","v":""},null,{"$f":"IF(AF67=\"\",\"\",AF67)","v":""},null,{"$f":"IF(AH67=\"\",\"\",AH67)","v":""},null,{"$f":"IF(AJ67=\"\",\"\",AJ67)","v":""},null,{"$f":"IF(AL67=\"\",\"\",AL67)","v":""},null,null,{"$f":"IF(AO67=\"\",\"\",AO67)","v":""},null,null,{"$f":"IF(AR67=\"\",\"\",AR67)","v":""},null,null,null,null,{"$f":"IF(AW67=\"\",\"\",AW67)","v":""}]
[]
[]
[]
[null,null,null,null,null,null,null,null,null,null,null,null,null,null,null,null,null,{"$f":"IF(R71=\"\",\"\",R71)","v":""},null,{"$f":"IF(T71=\"\",\"\",T71)","v":""},null,{"$f":"IF(V71=\"\",\"\",V71)","v":""},null,{"$f":"IF(X71=\"\",\"\",X71)","v":""},null,{"$f":"IF(Z71=\"\",\"\",Z71)","v":""},null,{"$f":"IF(AB71=\"\",\"\",AB71)","v":""},null,{"$f":"IF(AD71=\"\",\"\",AD71)","v":""},null,{"$f":"IF(AF71=\"\",\"\",AF71)","v":""},null,{"$f":"IF(AH71=\"\",\"\",AH71)","v":""},null,{"$f":"IF(AJ71=\"\",\"\",AJ71)","v":""},null,{"$f":"IF(AL71=\"\",\"\",AL71)","v":""},null,null,{"$f":"IF(AO71=\"\",\"\",AO71)","v":""},null,null,{"$f":"IF(AR71=\"\",\"\",AR71)","v":""},null,null,null,null,{"$f":"IF(AW71=\"\",\"\",AW71)","v":""}]
[]
[]
[]
[null,null,null,null,null,null,null,null,null,null,null,null,null,null,null,null,null,{"$f":"IF(R75=\"\",\"\",R75)","v":""},null,{"$f":"IF(T75=\"\",\"\",T75)","v":""},null,{"$f":"IF(V75=\"\",\"\",V75)","v":""},null,{"$f":"IF(X75=\"\",\"\",X75)","v":""},null,{"$f":"IF(Z75=\"\",\"\",Z75)","v":""},null,{"$f":"IF(AB75=\"\",\"\",AB75)","v":""},null,{"$f":"IF(AD75=\"\",\"\",AD75)","v":""},null,{"$f":"IF(AF75=\"\",\"\",AF75)","v":""},null,{"$f":"IF(AH75=\"\",\"\",AH75)","v":""},null,{"$f":"IF(AJ75=\"\",\"\",AJ75)","v":""},null,{"$f":"IF(AL75=\"\",\"\",AL75)","v":""},null,null,{"$f":"IF(AO75=\"\",\"\",AO75)","v":""},null,null,{"$f":"IF(AR75=\"\",\"\",AR75)","v":""},null,null,null,null,{"$f":"IF(AW75=\"\",\"\",AW75)","v":""}]
[]
[]
[]
[null,null,null,null,null,null,null,null,null,null,null,null,null,null,null,null,null,{"$f":"IF(R79=\"\",\"\",R79)","v":""},null,{"$f":"IF(T79=\"\",\"\",T79)","v":""},null,{"$f":"IF(V79=\"\",\"\",V79)","v":""},null,{"$f":"IF(X79=\"\",\"\",X79)","v":""},null,{"$f":"IF(Z79=\"\",\"\",Z79)","v":""},null,{"$f":"IF(AB79=\"\",\"\",AB79)","v":""},null,{"$f":"IF(AD79=\"\",\"\",AD79)","v":""},null,{"$f":"IF(AF79=\"\",\"\",AF79)","v":""},null,{"$f":"IF(AH79=\"\",\"\",AH79)","v":""},null,{"$f":"IF(AJ79=\"\",\"\",AJ79)","v":""},null,{"$f":"IF(AL79=\"\",\"\",AL79)","v":""},null,null,{"$f":"IF(AO79=\"\",\"\",AO79)","v":""},null,null,{"$f":"IF(AR79=\"\",\"\",AR79)","v":""},null,null,null,null,{"$f":"IF(AW79=\"\",\"\",AW79)","v":""}]
[]
[]
[]
[null,null,null,null,null,null,null,null,null,null,null,null,null,null,null,null,null,null,null,null,null,null,null,null,null,null,null,null,null,null,null,null,null,null,null,null,null,"値引き等",null,null,null,null,null,null,null,null,null,null,{"$f":"IF(AW83=\"\",\"\",AW83)","v":""}]
[]
[]
[]
[]
[null,null,null,null,null,null,null,null,null,null,null,null,null,null,null,null,null,null,null,null,null,null,null,null,null,null,null,null,null,null,null,null,null,null,null,null,null,{"$f":"\"合計(\" & IF(税処理=2,\"税込\",\"税抜\")&\")\"","v":"合計(税抜)"},null,null,null,null,null,null,null,null,null,null,{"$f":"IF(AW88=\"\",\"\",AW88)","v":""}]
[]
[]
[]
[]
[]
[null,null,null,null,null,null,null,null,null,null,null,null,null,null,null,null,null,null,null,"請求明細書 (貴社控)"]
[null,"株 式 会 社 種 村 建 設",null,null,null,null,null,null,null,null,null,null,"御中"]
[null,null,null,null,null,null,null,null,null,null,null,null,null,null,null,null,null,null,null,null,null,null,null,null,null,null,null,null,null,null,null,null,null,null,null,null,null,null,null,null,null,"請求年月日",null,null,null,null,{"$f":"IF(AU96=\"\",\"\",AU96)","v":23},null,null,{"$f":"IF(AX96=\"\",\"\",AX96)","v":5},null,null,{"$f":"IF(BA96=\"\",\"\",BA96)","v":31}]
[]
[]
[]
[]
[null,"工事番号",null,null,null,null,{"$f":"IF(G101=\"\",\"\",G101)","v":""},null,null,null,null,null,"工事名",null,null,null,{"$f":"IF(Q101=\"\",\"\",Q101)","v":""},null,null,null,null,null,null,null,null,null,null,null,null,null,null,null,null,null,null,null,null,"業者名",null,null,null,{"$f":"IF(AP101=\"\",\"\",AP101)","v":"例：㈱種村建設"}]
[]
[]
[]
[]
[]
[null,"注文番号",null,null,null,null,{"$f":"IF(G107=\"\",\"\",G107)","v":""},null,null,null,null,null,null,null,null,null,null,"月　日",null,null,null,"摘要･品名",null,null,null,null,null,null,null,null,null,null,null,null,null,null,null,"数 量",null,null,"単位",null,null,"単価",null,null,null,null,{"$f":"\"金額(\" & IF(税処理=2,\"税込\",\"税抜\")&\")\"","v":"金額(税抜)"}]
[]
[]
[]
[null,"契約金額",null,null,null,null,{"$f":"IF(G111=\"\",\"\",G111)","v":""},null,null,null,null,null,null,null,null,null,null,{"$f":"IF(R111=\"\",\"\",R111)","v":""},null,{"$f":"IF(T111=\"\",\"\",T111)","v":""},null,{"$f":"IF(V111=\"\",\"\",V111)","v":""},null,{"$f":"IF(X111=\"\",\"\",X111)","v":""},null,{"$f":"IF(Z111=\"\",\"\",Z111)","v":""},null,{"$f":"IF(AB111=\"\",\"\",AB111)","v":""},null,{"$f":"IF(AD111=\"\",\"\",AD111)","v":""},null,{"$f":"IF(AF111=\"\",\"\",AF111)","v":""},null,{"$f":"IF(AH111=\"\",\"\",AH111)","v":""},null,{"$f":"IF(AJ111=\"\",\"\",AJ111)","v":""},null,{"$f":"IF(AL111=\"\",\"\",AL111)","v":""},null,null,{"$f":"IF(AO111=\"\",\"\",AO111)","v":""},null,null,{"$f":"IF(AR111=\"\",\"\",AR111)","v":""},null,null,null,null,{"$f":"IF(AW111=\"\",\"\",AW111)","v":""}]
[]
[]
[]
[null,"増減額",null,null,null,null,{"$f":"IF(G115=\"\",\"\",G115)","v":""},null,null,null,null,null,null,null,null,null,null,{"$f":"IF(R115=\"\",\"\",R115)","v":""},null,{"$f":"IF(T115=\"\",\"\",T115)","v":""},null,{"$f":"IF(V115=\"\",\"\",V115)","v":""},null,{"$f":"IF(X115=\"\",\"\",X115)","v":""},null,{"$f":"IF(Z115=\"\",\"\",Z115)","v":""},null,{"$f":"IF(AB115=\"\",\"\",AB115)","v":""},null,{"$f":"IF(AD115=\"\",\"\",AD115)","v":""},null,{"$f":"IF(AF115=\"\",\"\",AF115)","v":""},null,{"$f":"IF(AH115=\"\",\"\",AH115)","v":""},null,{"$f":"IF(AJ115=\"\",\"\",AJ115)","v":""},null,{"$f":"IF(AL115=\"\",\"\",AL115)","v":""},null,null,{"$f":"IF(AO115=\"\",\"\",AO115)","v":""},null,null,{"$f":"IF(AR115=\"\",\"\",AR115)","v":""},null,null,null,null,{"$f":"IF(AW115=\"\",\"\",AW115)","v":""}]
[]
[]
[]
[null,"前回までの\n請求額",null,null,null,null,{"$f":"IF(G119=\"\",\"\",G119)","v":""},null,null,null,null,null,null,null,null,null,null,{"$f":"IF(R119=\"\",\"\",R119)","v":""},null,{"$f":"IF(T119=\"\",\"\",T119)","v":""},null,{"$f":"IF(V119=\"\",\"\",V119)","v":""},null,{"$f":"IF(X119=\"\",\"\",X119)","v":""},null,{"$f":"IF(Z119=\"\",\"\",Z119)","v":""},null,{"$f":"IF(AB119=\"\",\"\",AB119)","v":""},null,{"$f":"IF(AD119=\"\",\"\",AD119)","v":""},null,{"$f":"IF(AF119=\"\",\"\",AF119)","v":""},null,{"$f":"IF(AH119=\"\",\"\",AH119)","v":""},null,{"$f":"IF(AJ119=\"\",\"\",AJ119)","v":""},null,{"$f":"IF(AL119=\"\",\"\",AL119)","v":""},null,null,{"$f":"IF(AO119=\"\",\"\",AO119)","v":""},null,null,{"$f":"IF(AR119=\"\",\"\",AR119)","v":""},null,null,null,null,{"$f":"IF(AW119=\"\",\"\",AW119)","v":""}]
[]
[]
[]
[null,"今回\n請求額",null,null,{"$f":"IF(E31=\"\",\"\",E31)","v":""},null,{"$f":"IF(G123=\"\",\"\",G123)","v":""},null,null,null,null,null,null,null,null,null,null,{"$f":"IF(R123=\"\",\"\",R123)","v":""},null,{"$f":"IF(T123=\"\",\"\",T123)","v":""},null,{"$f":"IF(V123=\"\",\"\",V123)","v":""},null,{"$f":"IF(X123=\"\",\"\",X123)","v":""},null,{"$f":"IF(Z123=\"\",\"\",Z123)","v":""},null,{"$f":"IF(AB123=\"\",\"\",AB123)","v":""},null,{"$f":"IF(AD123=\"\",\"\",AD123)","v":""},null,{"$f":"IF(AF123=\"\",\"\",AF123)","v":""},null,{"$f":"IF(AH123=\"\",\"\",AH123)","v":""},null,{"$f":"IF(AJ123=\"\",\"\",AJ123)","v":""},null,{"$f":"IF(AL123=\"\",\"\",AL123)","v":""},null,null,{"$f":"IF(AO123=\"\",\"\",AO123)","v":""},null,null,{"$f":"IF(AR123=\"\",\"\",AR123)","v":""},null,null,null,null,{"$f":"IF(AW123=\"\",\"\",AW123)","v":""}]
[]
[]
[]
[null,"差引残高",null,null,null,null,{"$f":"IF(G203=\"\",\"\",G203+G207-G211-G215)","v":""},null,null,null,null,null,null,null,null,null,null,{"$f":"IF(R127=\"\",\"\",R127)","v":""},null,{"$f":"IF(T127=\"\",\"\",T127)","v":""},null,{"$f":"IF(V127=\"\",\"\",V127)","v":""},null,{"$f":"IF(X127=\"\",\"\",X127)","v":""},null,{"$f":"IF(Z127=\"\",\"\",Z127)","v":""},null,{"$f":"IF(AB127=\"\",\"\",AB127)","v":""},null,{"$f":"IF(AD127=\"\",\"\",AD127)","v":""},null,{"$f":"IF(AF127=\"\",\"\",AF127)","v":""},null,{"$f":"IF(AH127=\"\",\"\",AH127)","v":""},null,{"$f":"IF(AJ127=\"\",\"\",AJ127)","v":""},null,{"$f":"IF(AL127=\"\",\"\",AL127)","v":""},null,null,{"$f":"IF(AO127=\"\",\"\",AO127)","v":""},null,null,{"$f":"IF(AR127=\"\",\"\",AR127)","v":""},null,null,null,null,{"$f":"IF(AW127=\"\",\"\",AW127)","v":""}]
[]
[]
[]
[null,null,null,null,null,null,null,null,null,null,null,null,null,null,null,null,null,{"$f":"IF(R131=\"\",\"\",R131)","v":""},null,{"$f":"IF(T131=\"\",\"\",T131)","v":""},null,{"$f":"IF(V131=\"\",\"\",V131)","v":""},null,{"$f":"IF(X131=\"\",\"\",X131)","v":""},null,{"$f":"IF(Z131=\"\",\"\",Z131)","v":""},null,{"$f":"IF(AB131=\"\",\"\",AB131)","v":""},null,{"$f":"IF(AD131=\"\",\"\",AD131)","v":""},null,{"$f":"IF(AF131=\"\",\"\",AF131)","v":""},null,{"$f":"IF(AH131=\"\",\"\",AH131)","v":""},null,{"$f":"IF(AJ131=\"\",\"\",AJ131)","v":""},null,{"$f":"IF(AL131=\"\",\"\",AL131)","v":""},null,null,{"$f":"IF(AO131=\"\",\"\",AO131)","v":""},null,null,{"$f":"IF(AR131=\"\",\"\",AR131)","v":""},null,null,null,null,{"$f":"IF(AW131=\"\",\"\",AW131)","v":""}]
[]
[]
[]
[null,null,null,null,null,null,null,null,null,null,null,null,null,null,null,null,null,{"$f":"IF(R135=\"\",\"\",R135)","v":""},null,{"$f":"IF(T135=\"\",\"\",T135)","v":""},null,{"$f":"IF(V135=\"\",\"\",V135)","v":""},null,{"$f":"IF(X135=\"\",\"\",X135)","v":""},null,{"$f":"IF(Z135=\"\",\"\",Z135)","v":""},null,{"$f":"IF(AB135=\"\",\"\",AB135)","v":""},null,{"$f":"IF(AD135=\"\",\"\",AD135)","v":""},null,{"$f":"IF(AF135=\"\",\"\",AF135)","v":""},null,{"$f":"IF(AH135=\"\",\"\",AH135)","v":""},null,{"$f":"IF(AJ135=\"\",\"\",AJ135)","v":""},null,{"$f":"IF(AL135=\"\",\"\",AL135)","v":""},null,null,{"$f":"IF(AO135=\"\",\"\",AO135)","v":""},null,null,{"$f":"IF(AR135=\"\",\"\",AR135)","v":""},null,null,null,null,{"$f":"IF(AW135=\"\",\"\",AW135)","v":""}]
[]
[]
[]
[null,null,null,null,null,null,null,null,null,null,null,null,null,null,null,null,null,{"$f":"IF(R139=\"\",\"\",R139)","v":""},null,{"$f":"IF(T139=\"\",\"\",T139)","v":""},null,{"$f":"IF(V139=\"\",\"\",V139)","v":""},null,{"$f":"IF(X139=\"\",\"\",X139)","v":""},null,{"$f":"IF(Z139=\"\",\"\",Z139)","v":""},null,{"$f":"IF(AB139=\"\",\"\",AB139)","v":""},null,{"$f":"IF(AD139=\"\",\"\",AD139)","v":""},null,{"$f":"IF(AF139=\"\",\"\",AF139)","v":""},null,{"$f":"IF(AH139=\"\",\"\",AH139)","v":""},null,{"$f":"IF(AJ139=\"\",\"\",AJ139)","v":""},null,{"$f":"IF(AL139=\"\",\"\",AL139)","v":""},null,null,{"$f":"IF(AO139=\"\",\"\",AO139)","v":""},null,null,{"$f":"IF(AR139=\"\",\"\",AR139)","v":""},null,null,null,null,{"$f":"IF(AW139=\"\",\"\",AW139)","v":""}]
[]
[]
[]
[null,null,null,null,null,null,null,null,null,null,null,null,null,null,null,null,null,{"$f":"IF(R143=\"\",\"\",R143)","v":""},null,{"$f":"IF(T143=\"\",\"\",T143)","v":""},null,{"$f":"IF(V143=\"\",\"\",V143)","v":""},null,{"$f":"IF(X143=\"\",\"\",X143)","v":""},null,{"$f":"IF(Z143=\"\",\"\",Z143)","v":""},null,{"$f":"IF(AB143=\"\",\"\",AB143)","v":""},null,{"$f":"IF(AD143=\"\",\"\",AD143)","v":""},null,{"$f":"IF(AF143=\"\",\"\",AF143)","v":""},null,{"$f":"IF(AH143=\"\",\"\",AH143)","v":""},null,{"$f":"IF(AJ143=\"\",\"\",AJ143)","v":""},null,{"$f":"IF(AL143=\"\",\"\",AL143)","v":""},null,null,{"$f":"IF(AO143=\"\",\"\",AO143)","v":""},null,null,{"$f":"IF(AR143=\"\",\"\",AR143)","v":""},null,null,null,null,{"$f":"IF(AW143=\"\",\"\",AW143)","v":""}]
[]
[]
[]
[null,null,null,null,null,null,null,null,null,null,null,null,null,null,null,null,null,{"$f":"IF(R147=\"\",\"\",R147)","v":""},null,{"$f":"IF(T147=\"\",\"\",T147)","v":""},null,{"$f":"IF(V147=\"\",\"\",V147)","v":""},null,{"$f":"IF(X147=\"\",\"\",X147)","v":""},null,{"$f":"IF(Z147=\"\",\"\",Z147)","v":""},null,{"$f":"IF(AB147=\"\",\"\",AB147)","v":""},null,{"$f":"IF(AD147=\"\",\"\",AD147)","v":""},null,{"$f":"IF(AF147=\"\",\"\",AF147)","v":""},null,{"$f":"IF(AH147=\"\",\"\",AH147)","v":""},null,{"$f":"IF(AJ147=\"\",\"\",AJ147)","v":""},null,{"$f":"IF(AL147=\"\",\"\",AL147)","v":""},null,null,{"$f":"IF(AO147=\"\",\"\",AO147)","v":""},null,null,{"$f":"IF(AR147=\"\",\"\",AR147)","v":""},null,null,null,null,{"$f":"IF(AW147=\"\",\"\",AW147)","v":""}]
[]
[]
[]
[null,null,null,null,null,null,null,null,null,null,null,null,null,null,null,null,null,{"$f":"IF(R151=\"\",\"\",R151)","v":""},null,{"$f":"IF(T151=\"\",\"\",T151)","v":""},null,{"$f":"IF(V151=\"\",\"\",V151)","v":""},null,{"$f":"IF(X151=\"\",\"\",X151)","v":""},null,{"$f":"IF(Z151=\"\",\"\",Z151)","v":""},null,{"$f":"IF(AB151=\"\",\"\",AB151)","v":""},null,{"$f":"IF(AD151=\"\",\"\",AD151)","v":""},null,{"$f":"IF(AF151=\"\",\"\",AF151)","v":""},null,{"$f":"IF(AH151=\"\",\"\",AH151)","v":""},null,{"$f":"IF(AJ151=\"\",\"\",AJ151)","v":""},null,{"$f":"IF(AL151=\"\",\"\",AL151)","v":""},null,null,{"$f":"IF(AO151=\"\",\"\",AO151)","v":""},null,null,{"$f":"IF(AR151=\"\",\"\",AR151)","v":""},null,null,null,null,{"$f":"IF(AW151=\"\",\"\",AW151)","v":""}]
[]
[]
[]
[null,null,null,null,null,null,null,null,null,null,null,null,null,null,null,null,null,{"$f":"IF(R155=\"\",\"\",R155)","v":""},null,{"$f":"IF(T155=\"\",\"\",T155)","v":""},null,{"$f":"IF(V155=\"\",\"\",V155)","v":""},null,{"$f":"IF(X155=\"\",\"\",X155)","v":""},null,{"$f":"IF(Z155=\"\",\"\",Z155)","v":""},null,{"$f":"IF(AB155=\"\",\"\",AB155)","v":""},null,{"$f":"IF(AD155=\"\",\"\",AD155)","v":""},null,{"$f":"IF(AF155=\"\",\"\",AF155)","v":""},null,{"$f":"IF(AH155=\"\",\"\",AH155)","v":""},null,{"$f":"IF(AJ155=\"\",\"\",AJ155)","v":""},null,{"$f":"IF(AL155=\"\",\"\",AL155)","v":""},null,null,{"$f":"IF(AO155=\"\",\"\",AO155)","v":""},null,null,{"$f":"IF(AR155=\"\",\"\",AR155)","v":""},null,null,null,null,{"$f":"IF(AW155=\"\",\"\",AW155)","v":""}]
[]
[]
[]
[null,null,null,null,null,null,null,null,null,null,null,null,null,null,null,null,null,{"$f":"IF(R159=\"\",\"\",R159)","v":""},null,{"$f":"IF(T159=\"\",\"\",T159)","v":""},null,{"$f":"IF(V159=\"\",\"\",V159)","v":""},null,{"$f":"IF(X159=\"\",\"\",X159)","v":""},null,{"$f":"IF(Z159=\"\",\"\",Z159)","v":""},null,{"$f":"IF(AB159=\"\",\"\",AB159)","v":""},null,{"$f":"IF(AD159=\"\",\"\",AD159)","v":""},null,{"$f":"IF(AF159=\"\",\"\",AF159)","v":""},null,{"$f":"IF(AH159=\"\",\"\",AH159)","v":""},null,{"$f":"IF(AJ159=\"\",\"\",AJ159)","v":""},null,{"$f":"IF(AL159=\"\",\"\",AL159)","v":""},null,null,{"$f":"IF(AO159=\"\",\"\",AO159)","v":""},null,null,{"$f":"IF(AR159=\"\",\"\",AR159)","v":""},null,null,null,null,{"$f":"IF(AW159=\"\",\"\",AW159)","v":""}]
[]
[]
[]
[null,null,null,null,null,null,null,null,null,null,null,null,null,null,null,null,null,{"$f":"IF(R163=\"\",\"\",R163)","v":""},null,{"$f":"IF(T163=\"\",\"\",T163)","v":""},null,{"$f":"IF(V163=\"\",\"\",V163)","v":""},null,{"$f":"IF(X163=\"\",\"\",X163)","v":""},null,{"$f":"IF(Z163=\"\",\"\",Z163)","v":""},null,{"$f":"IF(AB163=\"\",\"\",AB163)","v":""},null,{"$f":"IF(AD163=\"\",\"\",AD163)","v":""},null,{"$f":"IF(AF163=\"\",\"\",AF163)","v":""},null,{"$f":"IF(AH163=\"\",\"\",AH163)","v":""},null,{"$f":"IF(AJ163=\"\",\"\",AJ163)","v":""},null,{"$f":"IF(AL163=\"\",\"\",AL163)","v":""},null,null,{"$f":"IF(AO163=\"\",\"\",AO163)","v":""},null,null,{"$f":"IF(AR163=\"\",\"\",AR163)","v":""},null,null,null,null,{"$f":"IF(AW163=\"\",\"\",AW163)","v":""}]
[]
[]
[]
[null,null,null,null,null,null,null,null,null,null,null,null,null,null,null,null,null,{"$f":"IF(R167=\"\",\"\",R167)","v":""},null,{"$f":"IF(T167=\"\",\"\",T167)","v":""},null,{"$f":"IF(V167=\"\",\"\",V167)","v":""},null,{"$f":"IF(X167=\"\",\"\",X167)","v":""},null,{"$f":"IF(Z167=\"\",\"\",Z167)","v":""},null,{"$f":"IF(AB167=\"\",\"\",AB167)","v":""},null,{"$f":"IF(AD167=\"\",\"\",AD167)","v":""},null,{"$f":"IF(AF167=\"\",\"\",AF167)","v":""},null,{"$f":"IF(AH167=\"\",\"\",AH167)","v":""},null,{"$f":"IF(AJ167=\"\",\"\",AJ167)","v":""},null,{"$f":"IF(AL167=\"\",\"\",AL167)","v":""},null,null,{"$f":"IF(AO167=\"\",\"\",AO167)","v":""},null,null,{"$f":"IF(AR167=\"\",\"\",AR167)","v":""},null,null,null,null,{"$f":"IF(AW167=\"\",\"\",AW167)","v":""}]
[]
[]
[]
[null,null,null,null,null,null,null,null,null,null,null,null,null,null,null,null,null,{"$f":"IF(R171=\"\",\"\",R171)","v":""},null,{"$f":"IF(T171=\"\",\"\",T171)","v":""},null,{"$f":"IF(V171=\"\",\"\",V171)","v":""},null,{"$f":"IF(X171=\"\",\"\",X171)","v":""},null,{"$f":"IF(Z171=\"\",\"\",Z171)","v":""},null,{"$f":"IF(AB171=\"\",\"\",AB171)","v":""},null,{"$f":"IF(AD171=\"\",\"\",AD171)","v":""},null,{"$f":"IF(AF171=\"\",\"\",AF171)","v":""},null,{"$f":"IF(AH171=\"\",\"\",AH171)","v":""},null,{"$f":"IF(AJ171=\"\",\"\",AJ171)","v":""},null,{"$f":"IF(AL171=\"\",\"\",AL171)","v":""},null,null,{"$f":"IF(AO171=\"\",\"\",AO171)","v":""},null,null,{"$f":"IF(AR171=\"\",\"\",AR171)","v":""},null,null,null,null,{"$f":"IF(AW171=\"\",\"\",AW171)","v":""}]
[]
[]
[]
[null,null,null,null,null,null,null,null,null,null,null,null,null,null,null,null,null,null,null,null,null,null,null,null,null,null,null,null,null,null,null,null,null,null,null,null,null,"値引き等",null,null,null,null,null,null,null,null,null,null,{"$f":"IF(AW175=\"\",\"\",AW175)","v":""}]
[]
[]
[]
[]
[null,null,null,null,null,null,null,null,null,null,null,null,null,null,null,null,null,null,null,null,null,null,null,null,null,null,null,null,null,null,null,null,null,null,null,null,null,{"$f":"\"合計(\" & IF(税処理=2,\"税込\",\"税抜\")&\")\"","v":"合計(税抜)"},null,null,null,null,null,null,null,null,null,null,{"$f":"IF(AW180=\"\",\"\",AW180)","v":""}]

{"sheet":"細1-7","index":9,"n_rows":272,"n_cols":53,"rows_kept":272,"cut":false,"hidden":false,"merged":[[3,46,5,48],[3,49,5,51],[3,52,5,54],[8,37,11,40],[8,41,11,54],[3,41,5,45],[1,19,4,32],[2,1,5,11],[2,12,5,13],[8,1,11,5],[8,6,11,11],[8,12,11,15],[8,16,11,35],[14,43,17,47],[14,48,17,54],[14,1,17,5],[14,6,17,15],[14,17,17,20],[14,21,17,36],[18,1,21,5],[18,6,21,15],[18,17,21,18],[18,19,21,20],[14,37,17,39],[14,40,17,42],[18,21,21,36],[18,37,21,39],[18,40,21,42],[18,43,21,47],[26,1,29,5],[26,6,29,15],[26,17,29,18],[26,19,29,20],[18,48,21,54],[22,1,25,5],[22,6,25,15],[22,17,25,18],[22,19,25,20],[22,21,25,36],[26,21,29,36],[26,37,29,39],[26,40,29,42],[26,43,29,47],[22,37,25,39],[22,40,25,42],[22,43,25,47],[34,48,37,54],[26,48,29,54],[30,1,33,3],[30,4,33,5],[30,6,33,15],[30,17,33,18],[30,19,33,20],[22,48,25,54],[38,17,41,18],[38,19,41,20],[38,21,41,36],[38,37,41,39],[30,48,33,54],[34,1,37,5],[34,6,37,15],[34,17,37,18],[34,19,37,20],[34,21,37,36],[38,40,41,42],[38,43,41,47],[38,48,41,54],[30,21,33,36],[30,37,33,39],[30,40,33,42],[30,43,33,47],[34,37,37,39],[34,40,37,42],[34,43,37,47],[46,40,49,42],[46,43,49,47],[46,21,49,36],[46,37,49,39],[54,40,57,42],[54,43,57,47],[42,17,45,18],[42,19,45,20],[42,21,45,36],[42,37,45,39],[42,40,45,42],[42,43,45,47],[42,48,45,54],[46,48,49,54],[50,17,53,18],[50,19,53,20],[50,21,53,36],[50,37,53,39],[50,40,53,42],[50,43,53,47],[50,48,53,54],[46,17,49,18],[46,19,49,20],[58,17,61,18],[58,19,61,20],[58,21,61,36],[58,37,61,39],[58,40,61,42],[58,43,61,47],[58,48,61,54],[54,17,57,18],[54,19,57,20],[54,21,57,36],[54,37,57,39],[54,48,57,54],[62,40,65,42],[62,43,65,47],[62,21,65,36],[62,37,65,39],[70,40,73,42],[70,43,73,47],[70,48,73,54],[62,48,65,54],[66,17,69,18],[66,19,69,20],[66,21,69,36],[66,37,69,39],[66,40,69,42],[66,43,69,47],[66,48,69,54],[62,17,65,18],[62,19,65,20],[74,17,77,18],[74,19,77,20],[74,21,77,36],[74,37,77,39],[74,40,77,42],[74,43,77,47],[74,48,77,54],[70,17,73,18],[70,19,73,20],[70,21,73,36],[70,37,73,39],[78,48,81,54],[82,37,85,47],[82,48,85,54],[78,37,81,39],[78,40,81,42],[85,11,90,16],[85,17,90,25],[78,43,81,47],[83,26,84,30],[83,31,84,35],[78,17,81,18],[78,19,81,20],[78,21,81,36],[85,26,90,30],[85,31,90,35],[83,1,84,4],[83,5,84,10],[87,37,90,47],[83,11,84,16],[83,17,84,25],[95,46,97,48],[85,1,90,4],[85,5,90,10],[87,48,90,54],[95,49,97,51],[95,52,97,54],[100,1,103,5],[100,6,103,11],[100,12,103,15],[100,16,103,35],[100,37,103,40],[100,41,103,54],[93,19,96,32],[94,1,97,11],[94,12,97,13],[95,41,97,45],[106,37,109,39],[106,40,109,42],[106,43,109,47],[106,48,109,54],[106,1,109,5],[106,6,109,15],[106,17,109,20],[106,21,109,36],[110,21,113,36],[110,37,113,39],[110,40,113,42],[110,43,113,47],[110,1,113,5],[110,6,113,15],[110,17,113,18],[110,19,113,20],[110,48,113,54],[114,1,117,5],[114,6,117,15],[114,17,117,18],[114,19,117,20],[114,21,117,36],[114,37,117,39],[114,40,117,42],[114,43,117,47],[114,48,117,54],[118,21,121,36],[118,37,121,39],[118,40,121,42],[118,43,121,47],[118,1,121,5],[118,6,121,15],[118,17,121,18],[118,19,121,20],[118,48,121,54],[122,48,125,54],[126,1,129,5],[126,6,129,15],[126,17,129,18],[126,19,129,20],[126,21,129,36],[126,37,129,39],[126,40,129,42],[126,43,129,47],[126,48,129,54],[122,1,125,3],[122,4,125,5],[122,6,125,15],[122,17,125,18],[122,19,125,20],[122,21,125,36],[122,37,125,39],[122,40,125,42],[122,43,125,47],[130,40,133,42],[130,43,133,47],[130,21,133,36],[130,37,133,39],[138,40,141,42],[138,43,141,47],[138,48,141,54],[130,48,133,54],[134,17,137,18],[134,19,137,20],[134,21,137,36],[134,37,137,39],[134,40,137,42],[134,43,137,47],[134,48,137,54],[130,17,133,18],[130,19,133,20],[142,17,145,18],[142,19,145,20],[142,21,145,36],[142,37,145,39],[142,40,145,42],[142,43,145,47],[142,48,145,54],[138,17,141,18],[138,19,141,20],[138,21,141,36],[138,37,141,39],[154,48,157,54],[146,48,149,54],[150,17,153,18],[150,19,153,20],[150,21,153,36],[150,37,153,39],[150,40,153,42],[150,43,153,47],[150,48,153,54],[146,17,149,18],[146,19,149,20],[154,17,157,18],[154,19,157,20],[154,21,157,36],[154,37,157,39],[146,40,149,42],[146,43,149,47],[146,21,149,36],[146,37,149,39],[154,40,157,42],[154,43,157,47],[170,48,173,54],[174,37,177,47],[174,48,177,54],[170,17,173,18],[170,19,173,20],[158,17,161,18],[158,19,161,20],[158,21,161,36],[158,37,161,39],[158,40,161,42],[158,43,161,47],[158,48,161,54],[170,21,173,36],[170,37,173,39],[179,48,182,54],[185,19,188,32],[186,1,189,11],[186,12,189,13],[187,41,189,45],[192,37,195,40],[192,41,195,54],[162,40,165,42],[162,43,165,47],[162,21,165,36],[162,37,165,39],[187,46,189,48],[162,48,165,54],[166,17,169,18],[166,19,169,20],[166,21,169,36],[166,37,169,39],[166,40,169,42],[166,43,169,47],[166,48,169,54],[162,17,165,18],[162,19,165,20],[187,49,189,51],[187,52,189,54],[179,37,182,47],[170,40,173,42],[170,43,173,47],[198,48,201,54],[202,21,205,36],[202,37,205,39],[202,40,205,42],[202,43,205,47],[202,1,205,5],[202,6,205,15],[202,17,205,18],[202,19,205,20],[202,48,205,54],[198,1,201,5],[198,6,201,15],[198,17,201,20],[198,21,201,36],[198,37,201,39],[198,40,201,42],[198,43,201,47],[192,1,195,5],[192,6,195,11],[192,12,195,15],[192,16,195,35],[206,1,209,5],[206,6,209,15],[206,17,209,18],[206,19,209,20],[206,21,209,36],[206,37,209,39],[206,40,209,42],[206,43,209,47],[206,48,209,54],[210,21,213,36],[210,37,213,39],[210,40,213,42],[210,43,213,47],[210,1,213,5],[210,6,213,15],[210,17,213,18],[210,19,213,20],[210,48,213,54],[214,48,217,54],[218,1,221,5],[218,6,221,15],[218,17,221,18],[218,19,221,20],[218,21,221,36],[218,37,221,39],[218,40,221,42],[218,43,221,47],[218,48,221,54],[214,1,217,3],[214,4,217,5],[214,6,217,15],[214,17,217,18],[214,19,217,20],[214,21,217,36],[214,37,217,39],[214,40,217,42],[214,43,217,47],[222,40,225,42],[222,43,225,47],[222,21,225,36],[222,37,225,39],[230,40,233,42],[230,43,233,47],[230,48,233,54],[222,48,225,54],[226,17,229,18],[226,19,229,20],[226,21,229,36],[226,37,229,39],[226,40,229,42],[226,43,229,47],[226,48,229,54],[222,17,225,18],[222,19,225,20],[234,17,237,18],[234,19,237,20],[234,21,237,36],[234,37,237,39],[234,40,237,42],[234,43,237,47],[234,48,237,54],[230,17,233,18],[230,19,233,20],[230,21,233,36],[230,37,233,39],[242,17,245,18],[242,19,245,20],[242,21,245,36],[242,37,245,39],[242,40,245,42],[242,43,245,47],[242,48,245,54],[238,17,241,18],[238,19,241,20],[254,37,257,39],[238,40,241,42],[238,43,241,47],[238,21,241,36],[238,37,241,39],[246,40,249,42],[246,43,249,47],[246,48,249,54],[238,48,241,54],[250,17,253,18],[250,19,253,20],[250,21,253,36],[250,37,253,39],[250,40,253,42],[250,43,253,47],[250,48,253,54],[246,17,249,18],[246,19,249,20],[246,21,249,36],[246,37,249,39],[271,37,274,47],[254,48,257,54],[258,17,261,18],[258,19,261,20],[258,21,261,36],[258,37,261,39],[258,40,261,42],[258,43,261,47],[258,48,261,54],[254,17,257,18],[254,19,257,20],[271,48,274,54],[262,40,265,42],[262,43,265,47],[262,48,265,54],[266,37,269,47],[266,48,269,54],[262,17,265,18],[262,19,265,20],[262,21,265,36],[262,37,265,39],[254,40,257,42],[254,43,257,47],[254,21,257,36]]}
[]
[null,null,null,null,null,null,null,null,null,null,null,null,null,null,null,null,null,null,null,"請求書明細書 (正)"]
[null,"株 式 会 社 種 村 建 設",null,null,null,null,null,null,null,null,null,null,"御中"]
[null,null,null,null,null,null,null,null,null,null,null,null,null,null,null,null,null,null,null,null,null,null,null,null,null,null,null,null,null,null,null,null,null,null,null,null,null,null,null,null,null,"請求年月日",null,null,null,null,{"$f":"年","v":23},null,null,{"$f":"月","v":5},null,null,{"$f":"日","v":31}]
[]
[]
[]
[]
[null,"工事番号",null,null,null,null,null,null,null,null,null,null,"工事名",null,null,null,null,null,null,null,null,null,null,null,null,null,null,null,null,null,null,null,null,null,null,null,null,"業者名",null,null,null,{"$f":"社名","v":"例：㈱種村建設"}]
[]
[]
[]
[]
[]
[null,"注文番号",null,null,null,null,null,null,null,null,null,null,null,null,null,null,null,"月　日",null,null,null,"摘要･品名",null,null,null,null,null,null,null,null,null,null,null,null,null,null,null,"数 量",null,null,"単位",null,null,"単価",null,null,null,null,{"$f":"\"金額(\" & IF(税処理=2,\"税込\",\"税抜\")&\")\"","v":"金額(税抜)"}]
[]
[]
[]
[null,"契約金額",null,null,null,null,null,null,null,null,null,null,null,null,null,null,null,null,null,null,null,null,null,null,null,null,null,null,null,null,null,null,null,null,null,null,null,null,null,null,null,null,null,null,null,null,null,null,{"$f":"IF(V19=\"\",\"\",AL19*AR19)","v":""}]
[]
[]
[]
[null,"増減額",null,null,null,null,null,null,null,null,null,null,null,null,null,null,null,null,null,null,null,null,null,null,null,null,null,null,null,null,null,null,null,null,null,null,null,null,null,null,null,null,null,null,null,null,null,null,{"$f":"IF(V23=\"\",\"\",AL23*AR23)","v":""}]
[]
[]
[]
[null,"前回までの\n請求額",null,null,null,null,null,null,null,null,null,null,null,null,null,null,null,null,null,null,null,null,null,null,null,null,null,null,null,null,null,null,null,null,null,null,null,null,null,null,null,null,null,null,null,null,null,null,{"$f":"IF(V27=\"\",\"\",AL27*AR27)","v":""}]
[]
[]
[]
[null,"今回\n請求額",null,null,null,null,null,null,null,null,null,null,null,null,null,null,null,null,null,null,null,null,null,null,null,null,null,null,null,null,null,null,null,null,null,null,null,null,null,null,null,null,null,null,null,null,null,null,{"$f":"IF(V31=\"\",\"\",AL31*AR31)","v":""}]
[]
[]
[]
[null,"差引残高",null,null,null,null,{"$f":"IF(G19=\"\",\"\",G19+G23-G27-G31)","v":""},null,null,null,null,null,null,null,null,null,null,null,null,null,null,null,null,null,null,null,null,null,null,null,null,null,null,null,null,null,null,null,null,null,null,null,null,null,null,null,null,null,{"$f":"IF(V35=\"\",\"\",AL35*AR35)","v":""}]
[]
[]
[]
[null,null,null,null,null,null,null,null,null,null,null,null,null,null,null,null,null,null,null,null,null,null,null,null,null,null,null,null,null,null,null,null,null,null,null,null,null,null,null,null,null,null,null,null,null,null,null,null,{"$f":"IF(V39=\"\",\"\",AL39*AR39)","v":""}]
[]
[]
[]
[null,null,null,null,null,null,null,null,null,null,null,null,null,null,null,null,null,null,null,null,null,null,null,null,null,null,null,null,null,null,null,null,null,null,null,null,null,null,null,null,null,null,null,null,null,null,null,null,{"$f":"IF(V43=\"\",\"\",AL43*AR43)","v":""}]
[]
[]
[]
[null,null,null,null,null,null,null,null,null,null,null,null,null,null,null,null,null,null,null,null,null,null,null,null,null,null,null,null,null,null,null,null,null,null,null,null,null,null,null,null,null,null,null,null,null,null,null,null,{"$f":"IF(V47=\"\",\"\",AL47*AR47)","v":""}]
[]
[]
[]
[null,null,null,null,null,null,null,null,null,null,null,null,null,null,null,null,null,null,null,null,null,null,null,null,null,null,null,null,null,null,null,null,null,null,null,null,null,null,null,null,null,null,null,null,null,null,null,null,{"$f":"IF(V51=\"\",\"\",AL51*AR51)","v":""}]
[]
[]
[]
[null,null,null,null,null,null,null,null,null,null,null,null,null,null,null,null,null,null,null,null,null,null,null,null,null,null,null,null,null,null,null,null,null,null,null,null,null,null,null,null,null,null,null,null,null,null,null,null,{"$f":"IF(V55=\"\",\"\",AL55*AR55)","v":""}]
[]
[]
[]
[null,null,null,null,null,null,null,null,null,null,null,null,null,null,null,null,null,null,null,null,null,null,null,null,null,null,null,null,null,null,null,null,null,null,null,null,null,null,null,null,null,null,null,null,null,null,null,null,{"$f":"IF(V59=\"\",\"\",AL59*AR59)","v":""}]
[]
[]
[]
[null,null,null,null,null,null,null,null,null,null,null,null,null,null,null,null,null,null,null,null,null,null,null,null,null,null,null,null,null,null,null,null,null,null,null,null,null,null,null,null,null,null,null,null,null,null,null,null,{"$f":"IF(V63=\"\",\"\",AL63*AR63)","v":""}]
[]
[]
[]
[null,null,null,null,null,null,null,null,null,null,null,null,null,null,null,null,null,null,null,null,null,null,null,null,null,null,null,null,null,null,null,null,null,null,null,null,null,null,null,null,null,null,null,null,null,null,null,null,{"$f":"IF(V67=\"\",\"\",AL67*AR67)","v":""}]
[]
[]
[]
[null,null,null,null,null,null,null,null,null,null,null,null,null,null,null,null,null,null,null,null,null,null,null,null,null,null,null,null,null,null,null,null,null,null,null,null,null,null,null,null,null,null,null,null,null,null,null,null,{"$f":"IF(V71=\"\",\"\",AL71*AR71)","v":""}]
[]
[]
[]
[null,null,null,null,null,null,null,null,null,null,null,null,null,null,null,null,null,null,null,null,null,null,null,null,null,null,null,null,null,null,null,null,null,null,null,null,null,null,null,null,null,null,null,null,null,null,null,null,{"$f":"IF(V75=\"\",\"\",AL75*AR75)","v":""}]
[]
[]
[]
[null,null,null,null,null,null,null,null,null,null,null,null,null,null,null,null,null,null,null,null,null,null,null,null,null,null,null,null,null,null,null,null,null,null,null,null,null,null,null,null,null,null,null,null,null,null,null,null,{"$f":"IF(V79=\"\",\"\",AL79*AR79)","v":""}]
[]
[]
[]
[null,null,null,null,null,null,null,null,null,null,null,null,null,null,null,null,null,null,null,null,null,null,null,null,null,null,null,null,null,null,null,null,null,null,null,null,null,"値引き等"]
[null,"社長",null,null,null,"専務",null,null,null,null,null,"常務",null,null,null,null,null,"部長･工場長",null,null,null,null,null,null,null,null,"担当者",null,null,null,null,"受付"]
[]
[]
[]
[null,null,null,null,null,null,null,null,null,null,null,null,null,null,null,null,null,null,null,null,null,null,null,null,null,null,null,null,null,null,null,null,null,null,null,null,null,{"$f":"\"合計(\" & IF(税処理=2,\"税込\",\"税抜\")&\")\"","v":"合計(税抜)"},null,null,null,null,null,null,null,null,null,null,{"$f":"IF(AW19=\"\",\"\",SUM(AW19:AW79)+AW83)","v":""}]
[]
[]
[]
[]
[]
[null,null,null,null,null,null,null,null,null,null,null,null,null,null,null,null,null,null,null,"請求明細書 (現場控)"]
[null,"株 式 会 社 種 村 建 設",null,null,null,null,null,null,null,null,null,null,"御中"]
[null,null,null,null,null,null,null,null,null,null,null,null,null,null,null,null,null,null,null,null,null,null,null,null,null,null,null,null,null,null,null,null,null,null,null,null,null,null,null,null,null,"請求年月日",null,null,null,null,{"$f":"IF(AU4=\"\",\"\",AU4)","v":23},null,null,{"$f":"IF(AX4=\"\",\"\",AX4)","v":5},null,null,{"$f":"IF(BA4=\"\",\"\",BA4)","v":31}]
[]
[]
[]
[]
[null,"工事番号",null,null,null,null,{"$f":"IF(G9=\"\",\"\",G9)","v":""},null,null,null,null,null,"工事名",null,null,null,{"$f":"IF(Q9=\"\",\"\",Q9)","v":""},null,null,null,null,null,null,null,null,null,null,null,null,null,null,null,null,null,null,null,null,"業者名",null,null,null,{"$f":"IF(AP9=\"\",\"\",AP9)","v":"例：㈱種村建設"}]
[]
[]
[]
[]
[]
[null,"注文番号",null,null,null,null,{"$f":"IF(G15=\"\",\"\",G15)","v":""},null,null,null,null,null,null,null,null,null,null,"月　日",null,null,null,"摘要･品名",null,null,null,null,null,null,null,null,null,null,null,null,null,null,null,"数 量",null,null,"単位",null,null,"単価",null,null,null,null,{"$f":"\"金額(\" & IF(税処理=2,\"税込\",\"税抜\")&\")\"","v":"金額(税抜)"}]
[]
[]
[]
[null,"契約金額",null,null,null,null,{"$f":"IF(G19=\"\",\"\",G19)","v":""},null,null,null,null,null,null,null,null,null,null,{"$f":"IF(R19=\"\",\"\",R19)","v":""},null,{"$f":"IF(T19=\"\",\"\",T19)","v":""},null,{"$f":"IF(V19=\"\",\"\",V19)","v":""},null,{"$f":"IF(X19=\"\",\"\",X19)","v":""},null,{"$f":"IF(Z19=\"\",\"\",Z19)","v":""},null,{"$f":"IF(AB19=\"\",\"\",AB19)","v":""},null,{"$f":"IF(AD19=\"\",\"\",AD19)","v":""},null,{"$f":"IF(AF19=\"\",\"\",AF19)","v":""},null,{"$f":"IF(AH19=\"\",\"\",AH19)","v":""},null,{"$f":"IF(AJ19=\"\",\"\",AJ19)","v":""},null,{"$f":"IF(AL19=\"\",\"\",AL19)","v":""},null,null,{"$f":"IF(AO19=\"\",\"\",AO19)","v":""},null,null,{"$f":"IF(AR19=\"\",\"\",AR19)","v":""},null,null,null,null,{"$f":"IF(AW19=\"\",\"\",AW19)","v":""}]
[]
[]
[]
[null,"増減額",null,null,null,null,{"$f":"IF(G23=\"\",\"\",G23)","v":""},null,null,null,null,null,null,null,null,null,null,{"$f":"IF(R23=\"\",\"\",R23)","v":""},null,{"$f":"IF(T23=\"\",\"\",T23)","v":""},null,{"$f":"IF(V23=\"\",\"\",V23)","v":""},null,{"$f":"IF(X23=\"\",\"\",X23)","v":""},null,{"$f":"IF(Z23=\"\",\"\",Z23)","v":""},null,{"$f":"IF(AB23=\"\",\"\",AB23)","v":""},null,{"$f":"IF(AD23=\"\",\"\",AD23)","v":""},null,{"$f":"IF(AF23=\"\",\"\",AF23)","v":""},null,{"$f":"IF(AH23=\"\",\"\",AH23)","v":""},null,{"$f":"IF(AJ23=\"\",\"\",AJ23)","v":""},null,{"$f":"IF(AL23=\"\",\"\",AL23)","v":""},null,null,{"$f":"IF(AO23=\"\",\"\",AO23)","v":""},null,null,{"$f":"IF(AR23=\"\",\"\",AR23)","v":""},null,null,null,null,{"$f":"IF(AW23=\"\",\"\",AW23)","v":""}]
[]
[]
[]
[null,"前回までの\n請求額",null,null,null,null,{"$f":"IF(G27=\"\",\"\",G27)","v":""},null,null,null,null,null,null,null,null,null,null,{"$f":"IF(R27=\"\",\"\",R27)","v":""},null,{"$f":"IF(T27=\"\",\"\",T27)","v":""},null,{"$f":"IF(V27=\"\",\"\",V27)","v":""},null,{"$f":"IF(X27=\"\",\"\",X27)","v":""},null,{"$f":"IF(Z27=\"\",\"\",Z27)","v":""},null,{"$f":"IF(AB27=\"\",\"\",AB27)","v":""},null,{"$f":"IF(AD27=\"\",\"\",AD27)","v":""},null,{"$f":"IF(AF27=\"\",\"\",AF27)","v":""},null,{"$f":"IF(AH27=\"\",\"\",AH27)","v":""},null,{"$f":"IF(AJ27=\"\",\"\",AJ27)","v":""},null,{"$f":"IF(AL27=\"\",\"\",AL27)","v":""},null,null,{"$f":"IF(AO27=\"\",\"\",AO27)","v":""},null,null,{"$f":"IF(AR27=\"\",\"\",AR27)","v":""},null,null,null,null,{"$f":"IF(AW27=\"\",\"\",AW27)","v":""}]
[]
[]
[]
[null,"今回\n請求額",null,null,{"$f":"IF(E31=\"\",\"\",E31)","v":""},null,{"$f":"IF(G31=\"\",\"\",G31)","v":""},null,null,null,null,null,null,null,null,null,null,{"$f":"IF(R31=\"\",\"\",R31)","v":""},null,{"$f":"IF(T31=\"\",\"\",T31)","v":""},null,{"$f":"IF(V31=\"\",\"\",V31)","v":""},null,{"$f":"IF(X31=\"\",\"\",X31)","v":""},null,{"$f":"IF(Z31=\"\",\"\",Z31)","v":""},null,{"$f":"IF(AB31=\"\",\"\",AB31)","v":""},null,{"$f":"IF(AD31=\"\",\"\",AD31)","v":""},null,{"$f":"IF(AF31=\"\",\"\",AF31)","v":""},null,{"$f":"IF(AH31=\"\",\"\",AH31)","v":""},null,{"$f":"IF(AJ31=\"\",\"\",AJ31)","v":""},null,{"$f":"IF(AL31=\"\",\"\",AL31)","v":""},null,null,{"$f":"IF(AO31=\"\",\"\",AO31)","v":""},null,null,{"$f":"IF(AR31=\"\",\"\",AR31)","v":""},null,null,null,null,{"$f":"IF(AW31=\"\",\"\",AW31)","v":""}]
[]
[]
[]
[null,"差引残高",null,null,null,null,{"$f":"IF(G111=\"\",\"\",G111+G115-G119-G123)","v":""},null,null,null,null,null,null,null,null,null,null,{"$f":"IF(R35=\"\",\"\",R35)","v":""},null,{"$f":"IF(T35=\"\",\"\",T35)","v":""},null,{"$f":"IF(V35=\"\",\"\",V35)","v":""},null,{"$f":"IF(X35=\"\",\"\",X35)","v":""},null,{"$f":"IF(Z35=\"\",\"\",Z35)","v":""},null,{"$f":"IF(AB35=\"\",\"\",AB35)","v":""},null,{"$f":"IF(AD35=\"\",\"\",AD35)","v":""},null,{"$f":"IF(AF35=\"\",\"\",AF35)","v":""},null,{"$f":"IF(AH35=\"\",\"\",AH35)","v":""},null,{"$f":"IF(AJ35=\"\",\"\",AJ35)","v":""},null,{"$f":"IF(AL35=\"\",\"\",AL35)","v":""},null,null,{"$f":"IF(AO35=\"\",\"\",AO35)","v":""},null,null,{"$f":"IF(AR35=\"\",\"\",AR35)","v":""},null,null,null,null,{"$f":"IF(AW35=\"\",\"\",AW35)","v":""}]
[]
[]
[]
[null,null,null,null,null,null,null,null,null,null,null,null,null,null,null,null,null,{"$f":"IF(R39=\"\",\"\",R39)","v":""},null,{"$f":"IF(T39=\"\",\"\",T39)","v":""},null,{"$f":"IF(V39=\"\",\"\",V39)","v":""},null,{"$f":"IF(X39=\"\",\"\",X39)","v":""},null,{"$f":"IF(Z39=\"\",\"\",Z39)","v":""},null,{"$f":"IF(AB39=\"\",\"\",AB39)","v":""},null,{"$f":"IF(AD39=\"\",\"\",AD39)","v":""},null,{"$f":"IF(AF39=\"\",\"\",AF39)","v":""},null,{"$f":"IF(AH39=\"\",\"\",AH39)","v":""},null,{"$f":"IF(AJ39=\"\",\"\",AJ39)","v":""},null,{"$f":"IF(AL39=\"\",\"\",AL39)","v":""},null,null,{"$f":"IF(AO39=\"\",\"\",AO39)","v":""},null,null,{"$f":"IF(AR39=\"\",\"\",AR39)","v":""},null,null,null,null,{"$f":"IF(AW39=\"\",\"\",AW39)","v":""}]
[]
[]
[]
[null,null,null,null,null,null,null,null,null,null,null,null,null,null,null,null,null,{"$f":"IF(R43=\"\",\"\",R43)","v":""},null,{"$f":"IF(T43=\"\",\"\",T43)","v":""},null,{"$f":"IF(V43=\"\",\"\",V43)","v":""},null,{"$f":"IF(X43=\"\",\"\",X43)","v":""},null,{"$f":"IF(Z43=\"\",\"\",Z43)","v":""},null,{"$f":"IF(AB43=\"\",\"\",AB43)","v":""},null,{"$f":"IF(AD43=\"\",\"\",AD43)","v":""},null,{"$f":"IF(AF43=\"\",\"\",AF43)","v":""},null,{"$f":"IF(AH43=\"\",\"\",AH43)","v":""},null,{"$f":"IF(AJ43=\"\",\"\",AJ43)","v":""},null,{"$f":"IF(AL43=\"\",\"\",AL43)","v":""},null,null,{"$f":"IF(AO43=\"\",\"\",AO43)","v":""},null,null,{"$f":"IF(AR43=\"\",\"\",AR43)","v":""},null,null,null,null,{"$f":"IF(AW43=\"\",\"\",AW43)","v":""}]
[]
[]
[]
[null,null,null,null,null,null,null,null,null,null,null,null,null,null,null,null,null,{"$f":"IF(R47=\"\",\"\",R47)","v":""},null,{"$f":"IF(T47=\"\",\"\",T47)","v":""},null,{"$f":"IF(V47=\"\",\"\",V47)","v":""},null,{"$f":"IF(X47=\"\",\"\",X47)","v":""},null,{"$f":"IF(Z47=\"\",\"\",Z47)","v":""},null,{"$f":"IF(AB47=\"\",\"\",AB47)","v":""},null,{"$f":"IF(AD47=\"\",\"\",AD47)","v":""},null,{"$f":"IF(AF47=\"\",\"\",AF47)","v":""},null,{"$f":"IF(AH47=\"\",\"\",AH47)","v":""},null,{"$f":"IF(AJ47=\"\",\"\",AJ47)","v":""},null,{"$f":"IF(AL47=\"\",\"\",AL47)","v":""},null,null,{"$f":"IF(AO47=\"\",\"\",AO47)","v":""},null,null,{"$f":"IF(AR47=\"\",\"\",AR47)","v":""},null,null,null,null,{"$f":"IF(AW47=\"\",\"\",AW47)","v":""}]
[]
[]
[]
[null,null,null,null,null,null,null,null,null,null,null,null,null,null,null,null,null,{"$f":"IF(R51=\"\",\"\",R51)","v":""},null,{"$f":"IF(T51=\"\",\"\",T51)","v":""},null,{"$f":"IF(V51=\"\",\"\",V51)","v":""},null,{"$f":"IF(X51=\"\",\"\",X51)","v":""},null,{"$f":"IF(Z51=\"\",\"\",Z51)","v":""},null,{"$f":"IF(AB51=\"\",\"\",AB51)","v":""},null,{"$f":"IF(AD51=\"\",\"\",AD51)","v":""},null,{"$f":"IF(AF51=\"\",\"\",AF51)","v":""},null,{"$f":"IF(AH51=\"\",\"\",AH51)","v":""},null,{"$f":"IF(AJ51=\"\",\"\",AJ51)","v":""},null,{"$f":"IF(AL51=\"\",\"\",AL51)","v":""},null,null,{"$f":"IF(AO51=\"\",\"\",AO51)","v":""},null,null,{"$f":"IF(AR51=\"\",\"\",AR51)","v":""},null,null,null,null,{"$f":"IF(AW51=\"\",\"\",AW51)","v":""}]
[]
[]
[]
[null,null,null,null,null,null,null,null,null,null,null,null,null,null,null,null,null,{"$f":"IF(R55=\"\",\"\",R55)","v":""},null,{"$f":"IF(T55=\"\",\"\",T55)","v":""},null,{"$f":"IF(V55=\"\",\"\",V55)","v":""},null,{"$f":"IF(X55=\"\",\"\",X55)","v":""},null,{"$f":"IF(Z55=\"\",\"\",Z55)","v":""},null,{"$f":"IF(AB55=\"\",\"\",AB55)","v":""},null,{"$f":"IF(AD55=\"\",\"\",AD55)","v":""},null,{"$f":"IF(AF55=\"\",\"\",AF55)","v":""},null,{"$f":"IF(AH55=\"\",\"\",AH55)","v":""},null,{"$f":"IF(AJ55=\"\",\"\",AJ55)","v":""},null,{"$f":"IF(AL55=\"\",\"\",AL55)","v":""},null,null,{"$f":"IF(AO55=\"\",\"\",AO55)","v":""},null,null,{"$f":"IF(AR55=\"\",\"\",AR55)","v":""},null,null,null,null,{"$f":"IF(AW55=\"\",\"\",AW55)","v":""}]
[]
[]
[]
[null,null,null,null,null,null,null,null,null,null,null,null,null,null,null,null,null,{"$f":"IF(R59=\"\",\"\",R59)","v":""},null,{"$f":"IF(T59=\"\",\"\",T59)","v":""},null,{"$f":"IF(V59=\"\",\"\",V59)","v":""},null,{"$f":"IF(X59=\"\",\"\",X59)","v":""},null,{"$f":"IF(Z59=\"\",\"\",Z59)","v":""},null,{"$f":"IF(AB59=\"\",\"\",AB59)","v":""},null,{"$f":"IF(AD59=\"\",\"\",AD59)","v":""},null,{"$f":"IF(AF59=\"\",\"\",AF59)","v":""},null,{"$f":"IF(AH59=\"\",\"\",AH59)","v":""},null,{"$f":"IF(AJ59=\"\",\"\",AJ59)","v":""},null,{"$f":"IF(AL59=\"\",\"\",AL59)","v":""},null,null,{"$f":"IF(AO59=\"\",\"\",AO59)","v":""},null,null,{"$f":"IF(AR59=\"\",\"\",AR59)","v":""},null,null,null,null,{"$f":"IF(AW59=\"\",\"\",AW59)","v":""}]
[]
[]
[]
[null,null,null,null,null,null,null,null,null,null,null,null,null,null,null,null,null,{"$f":"IF(R63=\"\",\"\",R63)","v":""},null,{"$f":"IF(T63=\"\",\"\",T63)","v":""},null,{"$f":"IF(V63=\"\",\"\",V63)","v":""},null,{"$f":"IF(X63=\"\",\"\",X63)","v":""},null,{"$f":"IF(Z63=\"\",\"\",Z63)","v":""},null,{"$f":"IF(AB63=\"\",\"\",AB63)","v":""},null,{"$f":"IF(AD63=\"\",\"\",AD63)","v":""},null,{"$f":"IF(AF63=\"\",\"\",AF63)","v":""},null,{"$f":"IF(AH63=\"\",\"\",AH63)","v":""},null,{"$f":"IF(AJ63=\"\",\"\",AJ63)","v":""},null,{"$f":"IF(AL63=\"\",\"\",AL63)","v":""},null,null,{"$f":"IF(AO63=\"\",\"\",AO63)","v":""},null,null,{"$f":"IF(AR63=\"\",\"\",AR63)","v":""},null,null,null,null,{"$f":"IF(AW63=\"\",\"\",AW63)","v":""}]
[]
[]
[]
[null,null,null,null,null,null,null,null,null,null,null,null,null,null,null,null,null,{"$f":"IF(R67=\"\",\"\",R67)","v":""},null,{"$f":"IF(T67=\"\",\"\",T67)","v":""},null,{"$f":"IF(V67=\"\",\"\",V67)","v":""},null,{"$f":"IF(X67=\"\",\"\",X67)","v":""},null,{"$f":"IF(Z67=\"\",\"\",Z67)","v":""},null,{"$f":"IF(AB67=\"\",\"\",AB67)","v":""},null,{"$f":"IF(AD67=\"\",\"\",AD67)","v":""},null,{"$f":"IF(AF67=\"\",\"\",AF67)","v":""},null,{"$f":"IF(AH67=\"\",\"\",AH67)","v":""},null,{"$f":"IF(AJ67=\"\",\"\",AJ67)","v":""},null,{"$f":"IF(AL67=\"\",\"\",AL67)","v":""},null,null,{"$f":"IF(AO67=\"\",\"\",AO67)","v":""},null,null,{"$f":"IF(AR67=\"\",\"\",AR67)","v":""},null,null,null,null,{"$f":"IF(AW67=\"\",\"\",AW67)","v":""}]
[]
[]
[]
[null,null,null,null,null,null,null,null,null,null,null,null,null,null,null,null,null,{"$f":"IF(R71=\"\",\"\",R71)","v":""},null,{"$f":"IF(T71=\"\",\"\",T71)","v":""},null,{"$f":"IF(V71=\"\",\"\",V71)","v":""},null,{"$f":"IF(X71=\"\",\"\",X71)","v":""},null,{"$f":"IF(Z71=\"\",\"\",Z71)","v":""},null,{"$f":"IF(AB71=\"\",\"\",AB71)","v":""},null,{"$f":"IF(AD71=\"\",\"\",AD71)","v":""},null,{"$f":"IF(AF71=\"\",\"\",AF71)","v":""},null,{"$f":"IF(AH71=\"\",\"\",AH71)","v":""},null,{"$f":"IF(AJ71=\"\",\"\",AJ71)","v":""},null,{"$f":"IF(AL71=\"\",\"\",AL71)","v":""},null,null,{"$f":"IF(AO71=\"\",\"\",AO71)","v":""},null,null,{"$f":"IF(AR71=\"\",\"\",AR71)","v":""},null,null,null,null,{"$f":"IF(AW71=\"\",\"\",AW71)","v":""}]
[]
[]
[]
[null,null,null,null,null,null,null,null,null,null,null,null,null,null,null,null,null,{"$f":"IF(R75=\"\",\"\",R75)","v":""},null,{"$f":"IF(T75=\"\",\"\",T75)","v":""},null,{"$f":"IF(V75=\"\",\"\",V75)","v":""},null,{"$f":"IF(X75=\"\",\"\",X75)","v":""},null,{"$f":"IF(Z75=\"\",\"\",Z75)","v":""},null,{"$f":"IF(AB75=\"\",\"\",AB75)","v":""},null,{"$f":"IF(AD75=\"\",\"\",AD75)","v":""},null,{"$f":"IF(AF75=\"\",\"\",AF75)","v":""},null,{"$f":"IF(AH75=\"\",\"\",AH75)","v":""},null,{"$f":"IF(AJ75=\"\",\"\",AJ75)","v":""},null,{"$f":"IF(AL75=\"\",\"\",AL75)","v":""},null,null,{"$f":"IF(AO75=\"\",\"\",AO75)","v":""},null,null,{"$f":"IF(AR75=\"\",\"\",AR75)","v":""},null,null,null,null,{"$f":"IF(AW75=\"\",\"\",AW75)","v":""}]
[]
[]
[]
[null,null,null,null,null,null,null,null,null,null,null,null,null,null,null,null,null,{"$f":"IF(R79=\"\",\"\",R79)","v":""},null,{"$f":"IF(T79=\"\",\"\",T79)","v":""},null,{"$f":"IF(V79=\"\",\"\",V79)","v":""},null,{"$f":"IF(X79=\"\",\"\",X79)","v":""},null,{"$f":"IF(Z79=\"\",\"\",Z79)","v":""},null,{"$f":"IF(AB79=\"\",\"\",AB79)","v":""},null,{"$f":"IF(AD79=\"\",\"\",AD79)","v":""},null,{"$f":"IF(AF79=\"\",\"\",AF79)","v":""},null,{"$f":"IF(AH79=\"\",\"\",AH79)","v":""},null,{"$f":"IF(AJ79=\"\",\"\",AJ79)","v":""},null,{"$f":"IF(AL79=\"\",\"\",AL79)","v":""},null,null,{"$f":"IF(AO79=\"\",\"\",AO79)","v":""},null,null,{"$f":"IF(AR79=\"\",\"\",AR79)","v":""},null,null,null,null,{"$f":"IF(AW79=\"\",\"\",AW79)","v":""}]
[]
[]
[]
[null,null,null,null,null,null,null,null,null,null,null,null,null,null,null,null,null,null,null,null,null,null,null,null,null,null,null,null,null,null,null,null,null,null,null,null,null,"値引き等",null,null,null,null,null,null,null,null,null,null,{"$f":"IF(AW83=\"\",\"\",AW83)","v":""}]
[]
[]
[]
[]
[null,null,null,null,null,null,null,null,null,null,null,null,null,null,null,null,null,null,null,null,null,null,null,null,null,null,null,null,null,null,null,null,null,null,null,null,null,{"$f":"\"合計(\" & IF(税処理=2,\"税込\",\"税抜\")&\")\"","v":"合計(税抜)"},null,null,null,null,null,null,null,null,null,null,{"$f":"IF(AW88=\"\",\"\",AW88)","v":""}]
[]
[]
[]
[]
[]
[null,null,null,null,null,null,null,null,null,null,null,null,null,null,null,null,null,null,null,"請求明細書 (貴社控)"]
[null,"株 式 会 社 種 村 建 設",null,null,null,null,null,null,null,null,null,null,"御中"]
[null,null,null,null,null,null,null,null,null,null,null,null,null,null,null,null,null,null,null,null,null,null,null,null,null,null,null,null,null,null,null,null,null,null,null,null,null,null,null,null,null,"請求年月日",null,null,null,null,{"$f":"IF(AU96=\"\",\"\",AU96)","v":23},null,null,{"$f":"IF(AX96=\"\",\"\",AX96)","v":5},null,null,{"$f":"IF(BA96=\"\",\"\",BA96)","v":31}]
[]
[]
[]
[]
[null,"工事番号",null,null,null,null,{"$f":"IF(G101=\"\",\"\",G101)","v":""},null,null,null,null,null,"工事名",null,null,null,{"$f":"IF(Q101=\"\",\"\",Q101)","v":""},null,null,null,null,null,null,null,null,null,null,null,null,null,null,null,null,null,null,null,null,"業者名",null,null,null,{"$f":"IF(AP101=\"\",\"\",AP101)","v":"例：㈱種村建設"}]
[]
[]
[]
[]
[]
[null,"注文番号",null,null,null,null,{"$f":"IF(G107=\"\",\"\",G107)","v":""},null,null,null,null,null,null,null,null,null,null,"月　日",null,null,null,"摘要･品名",null,null,null,null,null,null,null,null,null,null,null,null,null,null,null,"数 量",null,null,"単位",null,null,"単価",null,null,null,null,{"$f":"\"金額(\" & IF(税処理=2,\"税込\",\"税抜\")&\")\"","v":"金額(税抜)"}]
[]
[]
[]
[null,"契約金額",null,null,null,null,{"$f":"IF(G111=\"\",\"\",G111)","v":""},null,null,null,null,null,null,null,null,null,null,{"$f":"IF(R111=\"\",\"\",R111)","v":""},null,{"$f":"IF(T111=\"\",\"\",T111)","v":""},null,{"$f":"IF(V111=\"\",\"\",V111)","v":""},null,{"$f":"IF(X111=\"\",\"\",X111)","v":""},null,{"$f":"IF(Z111=\"\",\"\",Z111)","v":""},null,{"$f":"IF(AB111=\"\",\"\",AB111)","v":""},null,{"$f":"IF(AD111=\"\",\"\",AD111)","v":""},null,{"$f":"IF(AF111=\"\",\"\",AF111)","v":""},null,{"$f":"IF(AH111=\"\",\"\",AH111)","v":""},null,{"$f":"IF(AJ111=\"\",\"\",AJ111)","v":""},null,{"$f":"IF(AL111=\"\",\"\",AL111)","v":""},null,null,{"$f":"IF(AO111=\"\",\"\",AO111)","v":""},null,null,{"$f":"IF(AR111=\"\",\"\",AR111)","v":""},null,null,null,null,{"$f":"IF(AW111=\"\",\"\",AW111)","v":""}]
[]
[]
[]
[null,"増減額",null,null,null,null,{"$f":"IF(G115=\"\",\"\",G115)","v":""},null,null,null,null,null,null,null,null,null,null,{"$f":"IF(R115=\"\",\"\",R115)","v":""},null,{"$f":"IF(T115=\"\",\"\",T115)","v":""},null,{"$f":"IF(V115=\"\",\"\",V115)","v":""},null,{"$f":"IF(X115=\"\",\"\",X115)","v":""},null,{"$f":"IF(Z115=\"\",\"\",Z115)","v":""},null,{"$f":"IF(AB115=\"\",\"\",AB115)","v":""},null,{"$f":"IF(AD115=\"\",\"\",AD115)","v":""},null,{"$f":"IF(AF115=\"\",\"\",AF115)","v":""},null,{"$f":"IF(AH115=\"\",\"\",AH115)","v":""},null,{"$f":"IF(AJ115=\"\",\"\",AJ115)","v":""},null,{"$f":"IF(AL115=\"\",\"\",AL115)","v":""},null,null,{"$f":"IF(AO115=\"\",\"\",AO115)","v":""},null,null,{"$f":"IF(AR115=\"\",\"\",AR115)","v":""},null,null,null,null,{"$f":"IF(AW115=\"\",\"\",AW115)","v":""}]
[]
[]
[]
[null,"前回までの\n請求額",null,null,null,null,{"$f":"IF(G119=\"\",\"\",G119)","v":""},null,null,null,null,null,null,null,null,null,null,{"$f":"IF(R119=\"\",\"\",R119)","v":""},null,{"$f":"IF(T119=\"\",\"\",T119)","v":""},null,{"$f":"IF(V119=\"\",\"\",V119)","v":""},null,{"$f":"IF(X119=\"\",\"\",X119)","v":""},null,{"$f":"IF(Z119=\"\",\"\",Z119)","v":""},null,{"$f":"IF(AB119=\"\",\"\",AB119)","v":""},null,{"$f":"IF(AD119=\"\",\"\",AD119)","v":""},null,{"$f":"IF(AF119=\"\",\"\",AF119)","v":""},null,{"$f":"IF(AH119=\"\",\"\",AH119)","v":""},null,{"$f":"IF(AJ119=\"\",\"\",AJ119)","v":""},null,{"$f":"IF(AL119=\"\",\"\",AL119)","v":""},null,null,{"$f":"IF(AO119=\"\",\"\",AO119)","v":""},null,null,{"$f":"IF(AR119=\"\",\"\",AR119)","v":""},null,null,null,null,{"$f":"IF(AW119=\"\",\"\",AW119)","v":""}]
[]
[]
[]
[null,"今回\n請求額",null,null,{"$f":"IF(E31=\"\",\"\",E31)","v":""},null,{"$f":"IF(G123=\"\",\"\",G123)","v":""},null,null,null,null,null,null,null,null,null,null,{"$f":"IF(R123=\"\",\"\",R123)","v":""},null,{"$f":"IF(T123=\"\",\"\",T123)","v":""},null,{"$f":"IF(V123=\"\",\"\",V123)","v":""},null,{"$f":"IF(X123=\"\",\"\",X123)","v":""},null,{"$f":"IF(Z123=\"\",\"\",Z123)","v":""},null,{"$f":"IF(AB123=\"\",\"\",AB123)","v":""},null,{"$f":"IF(AD123=\"\",\"\",AD123)","v":""},null,{"$f":"IF(AF123=\"\",\"\",AF123)","v":""},null,{"$f":"IF(AH123=\"\",\"\",AH123)","v":""},null,{"$f":"IF(AJ123=\"\",\"\",AJ123)","v":""},null,{"$f":"IF(AL123=\"\",\"\",AL123)","v":""},null,null,{"$f":"IF(AO123=\"\",\"\",AO123)","v":""},null,null,{"$f":"IF(AR123=\"\",\"\",AR123)","v":""},null,null,null,null,{"$f":"IF(AW123=\"\",\"\",AW123)","v":""}]
[]
[]
[]
[null,"差引残高",null,null,null,null,{"$f":"IF(G203=\"\",\"\",G203+G207-G211-G215)","v":""},null,null,null,null,null,null,null,null,null,null,{"$f":"IF(R127=\"\",\"\",R127)","v":""},null,{"$f":"IF(T127=\"\",\"\",T127)","v":""},null,{"$f":"IF(V127=\"\",\"\",V127)","v":""},null,{"$f":"IF(X127=\"\",\"\",X127)","v":""},null,{"$f":"IF(Z127=\"\",\"\",Z127)","v":""},null,{"$f":"IF(AB127=\"\",\"\",AB127)","v":""},null,{"$f":"IF(AD127=\"\",\"\",AD127)","v":""},null,{"$f":"IF(AF127=\"\",\"\",AF127)","v":""},null,{"$f":"IF(AH127=\"\",\"\",AH127)","v":""},null,{"$f":"IF(AJ127=\"\",\"\",AJ127)","v":""},null,{"$f":"IF(AL127=\"\",\"\",AL127)","v":""},null,null,{"$f":"IF(AO127=\"\",\"\",AO127)","v":""},null,null,{"$f":"IF(AR127=\"\",\"\",AR127)","v":""},null,null,null,null,{"$f":"IF(AW127=\"\",\"\",AW127)","v":""}]
[]
[]
[]
[null,null,null,null,null,null,null,null,null,null,null,null,null,null,null,null,null,{"$f":"IF(R131=\"\",\"\",R131)","v":""},null,{"$f":"IF(T131=\"\",\"\",T131)","v":""},null,{"$f":"IF(V131=\"\",\"\",V131)","v":""},null,{"$f":"IF(X131=\"\",\"\",X131)","v":""},null,{"$f":"IF(Z131=\"\",\"\",Z131)","v":""},null,{"$f":"IF(AB131=\"\",\"\",AB131)","v":""},null,{"$f":"IF(AD131=\"\",\"\",AD131)","v":""},null,{"$f":"IF(AF131=\"\",\"\",AF131)","v":""},null,{"$f":"IF(AH131=\"\",\"\",AH131)","v":""},null,{"$f":"IF(AJ131=\"\",\"\",AJ131)","v":""},null,{"$f":"IF(AL131=\"\",\"\",AL131)","v":""},null,null,{"$f":"IF(AO131=\"\",\"\",AO131)","v":""},null,null,{"$f":"IF(AR131=\"\",\"\",AR131)","v":""},null,null,null,null,{"$f":"IF(AW131=\"\",\"\",AW131)","v":""}]
[]
[]
[]
[null,null,null,null,null,null,null,null,null,null,null,null,null,null,null,null,null,{"$f":"IF(R135=\"\",\"\",R135)","v":""},null,{"$f":"IF(T135=\"\",\"\",T135)","v":""},null,{"$f":"IF(V135=\"\",\"\",V135)","v":""},null,{"$f":"IF(X135=\"\",\"\",X135)","v":""},null,{"$f":"IF(Z135=\"\",\"\",Z135)","v":""},null,{"$f":"IF(AB135=\"\",\"\",AB135)","v":""},null,{"$f":"IF(AD135=\"\",\"\",AD135)","v":""},null,{"$f":"IF(AF135=\"\",\"\",AF135)","v":""},null,{"$f":"IF(AH135=\"\",\"\",AH135)","v":""},null,{"$f":"IF(AJ135=\"\",\"\",AJ135)","v":""},null,{"$f":"IF(AL135=\"\",\"\",AL135)","v":""},null,null,{"$f":"IF(AO135=\"\",\"\",AO135)","v":""},null,null,{"$f":"IF(AR135=\"\",\"\",AR135)","v":""},null,null,null,null,{"$f":"IF(AW135=\"\",\"\",AW135)","v":""}]
[]
[]
[]
[null,null,null,null,null,null,null,null,null,null,null,null,null,null,null,null,null,{"$f":"IF(R139=\"\",\"\",R139)","v":""},null,{"$f":"IF(T139=\"\",\"\",T139)","v":""},null,{"$f":"IF(V139=\"\",\"\",V139)","v":""},null,{"$f":"IF(X139=\"\",\"\",X139)","v":""},null,{"$f":"IF(Z139=\"\",\"\",Z139)","v":""},null,{"$f":"IF(AB139=\"\",\"\",AB139)","v":""},null,{"$f":"IF(AD139=\"\",\"\",AD139)","v":""},null,{"$f":"IF(AF139=\"\",\"\",AF139)","v":""},null,{"$f":"IF(AH139=\"\",\"\",AH139)","v":""},null,{"$f":"IF(AJ139=\"\",\"\",AJ139)","v":""},null,{"$f":"IF(AL139=\"\",\"\",AL139)","v":""},null,null,{"$f":"IF(AO139=\"\",\"\",AO139)","v":""},null,null,{"$f":"IF(AR139=\"\",\"\",AR139)","v":""},null,null,null,null,{"$f":"IF(AW139=\"\",\"\",AW139)","v":""}]
[]
[]
[]
[null,null,null,null,null,null,null,null,null,null,null,null,null,null,null,null,null,{"$f":"IF(R143=\"\",\"\",R143)","v":""},null,{"$f":"IF(T143=\"\",\"\",T143)","v":""},null,{"$f":"IF(V143=\"\",\"\",V143)","v":""},null,{"$f":"IF(X143=\"\",\"\",X143)","v":""},null,{"$f":"IF(Z143=\"\",\"\",Z143)","v":""},null,{"$f":"IF(AB143=\"\",\"\",AB143)","v":""},null,{"$f":"IF(AD143=\"\",\"\",AD143)","v":""},null,{"$f":"IF(AF143=\"\",\"\",AF143)","v":""},null,{"$f":"IF(AH143=\"\",\"\",AH143)","v":""},null,{"$f":"IF(AJ143=\"\",\"\",AJ143)","v":""},null,{"$f":"IF(AL143=\"\",\"\",AL143)","v":""},null,null,{"$f":"IF(AO143=\"\",\"\",AO143)","v":""},null,null,{"$f":"IF(AR143=\"\",\"\",AR143)","v":""},null,null,null,null,{"$f":"IF(AW143=\"\",\"\",AW143)","v":""}]
[]
[]
[]
[null,null,null,null,null,null,null,null,null,null,null,null,null,null,null,null,null,{"$f":"IF(R147=\"\",\"\",R147)","v":""},null,{"$f":"IF(T147=\"\",\"\",T147)","v":""},null,{"$f":"IF(V147=\"\",\"\",V147)","v":""},null,{"$f":"IF(X147=\"\",\"\",X147)","v":""},null,{"$f":"IF(Z147=\"\",\"\",Z147)","v":""},null,{"$f":"IF(AB147=\"\",\"\",AB147)","v":""},null,{"$f":"IF(AD147=\"\",\"\",AD147)","v":""},null,{"$f":"IF(AF147=\"\",\"\",AF147)","v":""},null,{"$f":"IF(AH147=\"\",\"\",AH147)","v":""},null,{"$f":"IF(AJ147=\"\",\"\",AJ147)","v":""},null,{"$f":"IF(AL147=\"\",\"\",AL147)","v":""},null,null,{"$f":"IF(AO147=\"\",\"\",AO147)","v":""},null,null,{"$f":"IF(AR147=\"\",\"\",AR147)","v":""},null,null,null,null,{"$f":"IF(AW147=\"\",\"\",AW147)","v":""}]
[]
[]
[]
[null,null,null,null,null,null,null,null,null,null,null,null,null,null,null,null,null,{"$f":"IF(R151=\"\",\"\",R151)","v":""},null,{"$f":"IF(T151=\"\",\"\",T151)","v":""},null,{"$f":"IF(V151=\"\",\"\",V151)","v":""},null,{"$f":"IF(X151=\"\",\"\",X151)","v":""},null,{"$f":"IF(Z151=\"\",\"\",Z151)","v":""},null,{"$f":"IF(AB151=\"\",\"\",AB151)","v":""},null,{"$f":"IF(AD151=\"\",\"\",AD151)","v":""},null,{"$f":"IF(AF151=\"\",\"\",AF151)","v":""},null,{"$f":"IF(AH151=\"\",\"\",AH151)","v":""},null,{"$f":"IF(AJ151=\"\",\"\",AJ151)","v":""},null,{"$f":"IF(AL151=\"\",\"\",AL151)","v":""},null,null,{"$f":"IF(AO151=\"\",\"\",AO151)","v":""},null,null,{"$f":"IF(AR151=\"\",\"\",AR151)","v":""},null,null,null,null,{"$f":"IF(AW151=\"\",\"\",AW151)","v":""}]
[]
[]
[]
[null,null,null,null,null,null,null,null,null,null,null,null,null,null,null,null,null,{"$f":"IF(R155=\"\",\"\",R155)","v":""},null,{"$f":"IF(T155=\"\",\"\",T155)","v":""},null,{"$f":"IF(V155=\"\",\"\",V155)","v":""},null,{"$f":"IF(X155=\"\",\"\",X155)","v":""},null,{"$f":"IF(Z155=\"\",\"\",Z155)","v":""},null,{"$f":"IF(AB155=\"\",\"\",AB155)","v":""},null,{"$f":"IF(AD155=\"\",\"\",AD155)","v":""},null,{"$f":"IF(AF155=\"\",\"\",AF155)","v":""},null,{"$f":"IF(AH155=\"\",\"\",AH155)","v":""},null,{"$f":"IF(AJ155=\"\",\"\",AJ155)","v":""},null,{"$f":"IF(AL155=\"\",\"\",AL155)","v":""},null,null,{"$f":"IF(AO155=\"\",\"\",AO155)","v":""},null,null,{"$f":"IF(AR155=\"\",\"\",AR155)","v":""},null,null,null,null,{"$f":"IF(AW155=\"\",\"\",AW155)","v":""}]
[]
[]
[]
[null,null,null,null,null,null,null,null,null,null,null,null,null,null,null,null,null,{"$f":"IF(R159=\"\",\"\",R159)","v":""},null,{"$f":"IF(T159=\"\",\"\",T159)","v":""},null,{"$f":"IF(V159=\"\",\"\",V159)","v":""},null,{"$f":"IF(X159=\"\",\"\",X159)","v":""},null,{"$f":"IF(Z159=\"\",\"\",Z159)","v":""},null,{"$f":"IF(AB159=\"\",\"\",AB159)","v":""},null,{"$f":"IF(AD159=\"\",\"\",AD159)","v":""},null,{"$f":"IF(AF159=\"\",\"\",AF159)","v":""},null,{"$f":"IF(AH159=\"\",\"\",AH159)","v":""},null,{"$f":"IF(AJ159=\"\",\"\",AJ159)","v":""},null,{"$f":"IF(AL159=\"\",\"\",AL159)","v":""},null,null,{"$f":"IF(AO159=\"\",\"\",AO159)","v":""},null,null,{"$f":"IF(AR159=\"\",\"\",AR159)","v":""},null,null,null,null,{"$f":"IF(AW159=\"\",\"\",AW159)","v":""}]
[]
[]
[]
[null,null,null,null,null,null,null,null,null,null,null,null,null,null,null,null,null,{"$f":"IF(R163=\"\",\"\",R163)","v":""},null,{"$f":"IF(T163=\"\",\"\",T163)","v":""},null,{"$f":"IF(V163=\"\",\"\",V163)","v":""},null,{"$f":"IF(X163=\"\",\"\",X163)","v":""},null,{"$f":"IF(Z163=\"\",\"\",Z163)","v":""},null,{"$f":"IF(AB163=\"\",\"\",AB163)","v":""},null,{"$f":"IF(AD163=\"\",\"\",AD163)","v":""},null,{"$f":"IF(AF163=\"\",\"\",AF163)","v":""},null,{"$f":"IF(AH163=\"\",\"\",AH163)","v":""},null,{"$f":"IF(AJ163=\"\",\"\",AJ163)","v":""},null,{"$f":"IF(AL163=\"\",\"\",AL163)","v":""},null,null,{"$f":"IF(AO163=\"\",\"\",AO163)","v":""},null,null,{"$f":"IF(AR163=\"\",\"\",AR163)","v":""},null,null,null,null,{"$f":"IF(AW163=\"\",\"\",AW163)","v":""}]
[]
[]
[]
[null,null,null,null,null,null,null,null,null,null,null,null,null,null,null,null,null,{"$f":"IF(R167=\"\",\"\",R167)","v":""},null,{"$f":"IF(T167=\"\",\"\",T167)","v":""},null,{"$f":"IF(V167=\"\",\"\",V167)","v":""},null,{"$f":"IF(X167=\"\",\"\",X167)","v":""},null,{"$f":"IF(Z167=\"\",\"\",Z167)","v":""},null,{"$f":"IF(AB167=\"\",\"\",AB167)","v":""},null,{"$f":"IF(AD167=\"\",\"\",AD167)","v":""},null,{"$f":"IF(AF167=\"\",\"\",AF167)","v":""},null,{"$f":"IF(AH167=\"\",\"\",AH167)","v":""},null,{"$f":"IF(AJ167=\"\",\"\",AJ167)","v":""},null,{"$f":"IF(AL167=\"\",\"\",AL167)","v":""},null,null,{"$f":"IF(AO167=\"\",\"\",AO167)","v":""},null,null,{"$f":"IF(AR167=\"\",\"\",AR167)","v":""},null,null,null,null,{"$f":"IF(AW167=\"\",\"\",AW167)","v":""}]
[]
[]
[]
[null,null,null,null,null,null,null,null,null,null,null,null,null,null,null,null,null,{"$f":"IF(R171=\"\",\"\",R171)","v":""},null,{"$f":"IF(T171=\"\",\"\",T171)","v":""},null,{"$f":"IF(V171=\"\",\"\",V171)","v":""},null,{"$f":"IF(X171=\"\",\"\",X171)","v":""},null,{"$f":"IF(Z171=\"\",\"\",Z171)","v":""},null,{"$f":"IF(AB171=\"\",\"\",AB171)","v":""},null,{"$f":"IF(AD171=\"\",\"\",AD171)","v":""},null,{"$f":"IF(AF171=\"\",\"\",AF171)","v":""},null,{"$f":"IF(AH171=\"\",\"\",AH171)","v":""},null,{"$f":"IF(AJ171=\"\",\"\",AJ171)","v":""},null,{"$f":"IF(AL171=\"\",\"\",AL171)","v":""},null,null,{"$f":"IF(AO171=\"\",\"\",AO171)","v":""},null,null,{"$f":"IF(AR171=\"\",\"\",AR171)","v":""},null,null,null,null,{"$f":"IF(AW171=\"\",\"\",AW171)","v":""}]
[]
[]
[]
[null,null,null,null,null,null,null,null,null,null,null,null,null,null,null,null,null,null,null,null,null,null,null,null,null,null,null,null,null,null,null,null,null,null,null,null,null,"値引き等",null,null,null,null,null,null,null,null,null,null,{"$f":"IF(AW175=\"\",\"\",AW175)","v":""}]
[]
[]
[]
[]
[null,null,null,null,null,null,null,null,null,null,null,null,null,null,null,null,null,null,null,null,null,null,null,null,null,null,null,null,null,null,null,null,null,null,null,null,null,{"$f":"\"合計(\" & IF(税処理=2,\"税込\",\"税抜\")&\")\"","v":"合計(税抜)"},null,null,null,null,null,null,null,null,null,null,{"$f":"IF(AW180=\"\",\"\",AW180)","v":""}]

{"sheet":"細1-8","index":10,"n_rows":272,"n_cols":53,"rows_kept":272,"cut":false,"hidden":false,"merged":[[266,37,269,47],[266,48,269,54],[258,48,261,54],[262,17,265,18],[262,19,265,20],[262,21,265,36],[262,37,265,39],[258,43,261,47],[271,37,274,47],[271,48,274,54],[262,40,265,42],[262,43,265,47],[262,48,265,54],[258,17,261,18],[258,19,261,20],[258,21,261,36],[258,37,261,39],[258,40,261,42],[250,48,253,54],[254,17,257,18],[254,19,257,20],[254,21,257,36],[254,37,257,39],[254,40,257,42],[254,43,257,47],[254,48,257,54],[250,17,253,18],[250,19,253,20],[250,21,253,36],[250,37,253,39],[250,40,253,42],[250,43,253,47],[242,48,245,54],[246,17,249,18],[246,19,249,20],[246,21,249,36],[246,37,249,39],[246,40,249,42],[246,43,249,47],[246,48,249,54],[242,17,245,18],[242,19,245,20],[242,21,245,36],[242,37,245,39],[242,40,245,42],[242,43,245,47],[234,48,237,54],[238,17,241,18],[238,19,241,20],[238,21,241,36],[238,37,241,39],[238,40,241,42],[238,43,241,47],[238,48,241,54],[234,17,237,18],[234,19,237,20],[234,21,237,36],[234,37,237,39],[234,40,237,42],[234,43,237,47],[222,17,225,18],[222,19,225,20],[222,21,225,36],[222,37,225,39],[222,40,225,42],[222,43,225,47],[222,48,225,54],[226,48,229,54],[230,17,233,18],[230,19,233,20],[230,21,233,36],[230,37,233,39],[230,40,233,42],[230,43,233,47],[230,48,233,54],[226,17,229,18],[226,19,229,20],[226,21,229,36],[226,37,229,39],[226,40,229,42],[226,43,229,47],[218,1,221,5],[218,6,221,15],[218,17,221,18],[218,19,221,20],[218,21,221,36],[218,37,221,39],[218,40,221,42],[218,43,221,47],[218,48,221,54],[210,40,213,42],[210,43,213,47],[210,48,213,54],[214,1,217,3],[214,4,217,5],[214,6,217,15],[214,17,217,18],[214,19,217,20],[214,21,217,36],[214,37,217,39],[210,1,213,5],[210,6,213,15],[210,17,213,18],[210,19,213,20],[210,21,213,36],[210,37,213,39],[214,40,217,42],[214,43,217,47],[214,48,217,54],[206,1,209,5],[206,6,209,15],[206,17,209,18],[206,19,209,20],[206,21,209,36],[206,37,209,39],[206,40,209,42],[206,43,209,47],[206,48,209,54],[198,43,201,47],[198,48,201,54],[202,1,205,5],[202,6,205,15],[202,17,205,18],[202,19,205,20],[202,21,205,36],[202,37,205,39],[202,40,205,42],[202,43,205,47],[198,1,201,5],[198,6,201,15],[198,17,201,20],[198,21,201,36],[198,37,201,39],[198,40,201,42],[202,48,205,54],[187,52,189,54],[192,1,195,5],[192,6,195,11],[192,12,195,15],[192,16,195,35],[192,37,195,40],[192,41,195,54],[185,19,188,32],[186,1,189,11],[186,12,189,13],[187,41,189,45],[187,46,189,48],[187,49,189,51],[174,37,177,47],[174,48,177,54],[179,37,182,47],[179,48,182,54],[170,17,173,18],[170,19,173,20],[170,21,173,36],[170,37,173,39],[170,40,173,42],[170,43,173,47],[170,48,173,54],[166,17,169,18],[166,19,169,20],[162,43,165,47],[162,48,165,54],[158,17,161,18],[158,19,161,20],[158,21,161,36],[158,37,161,39],[158,40,161,42],[162,17,165,18],[162,19,165,20],[162,21,165,36],[162,37,165,39],[162,40,165,42],[166,48,169,54],[158,43,161,47],[166,21,169,36],[166,37,169,39],[166,40,169,42],[166,43,169,47],[158,48,161,54],[154,48,157,54],[150,17,153,18],[150,19,153,20],[146,43,149,47],[146,48,149,54],[142,17,145,18],[142,19,145,20],[142,21,145,36],[142,37,145,39],[142,40,145,42],[154,17,157,18],[154,19,157,20],[154,21,157,36],[154,37,157,39],[154,40,157,42],[154,43,157,47],[146,17,149,18],[146,19,149,20],[146,21,149,36],[146,37,149,39],[146,40,149,42],[150,48,153,54],[142,43,145,47],[150,21,153,36],[150,37,153,39],[150,40,153,42],[150,43,153,47],[142,48,145,54],[130,48,133,54],[134,48,137,54],[130,17,133,18],[130,19,133,20],[130,21,133,36],[130,37,133,39],[130,40,133,42],[130,43,133,47],[138,48,141,54],[134,17,137,18],[134,19,137,20],[134,21,137,36],[134,37,137,39],[134,40,137,42],[134,43,137,47],[138,17,141,18],[138,19,141,20],[138,21,141,36],[138,37,141,39],[138,40,141,42],[138,43,141,47],[126,1,129,5],[126,6,129,15],[126,17,129,18],[126,19,129,20],[126,21,129,36],[126,37,129,39],[126,40,129,42],[126,43,129,47],[126,48,129,54],[118,40,121,42],[118,43,121,47],[118,48,121,54],[122,1,125,3],[122,4,125,5],[122,6,125,15],[122,17,125,18],[122,19,125,20],[122,21,125,36],[122,37,125,39],[118,1,121,5],[118,6,121,15],[118,17,121,18],[118,19,121,20],[118,21,121,36],[118,37,121,39],[122,40,125,42],[122,43,125,47],[122,48,125,54],[114,1,117,5],[114,6,117,15],[114,17,117,18],[114,19,117,20],[114,21,117,36],[114,37,117,39],[114,40,117,42],[114,43,117,47],[114,48,117,54],[106,43,109,47],[106,48,109,54],[110,1,113,5],[110,6,113,15],[110,17,113,18],[110,19,113,20],[110,21,113,36],[110,37,113,39],[110,40,113,42],[110,43,113,47],[106,1,109,5],[106,6,109,15],[106,17,109,20],[106,21,109,36],[106,37,109,39],[106,40,109,42],[110,48,113,54],[95,49,97,51],[95,52,97,54],[100,1,103,5],[100,6,103,11],[100,12,103,15],[100,16,103,35],[100,37,103,40],[100,41,103,54],[93,19,96,32],[94,1,97,11],[94,12,97,13],[95,41,97,45],[83,1,84,4],[83,5,84,10],[87,37,90,47],[83,11,84,16],[83,17,84,25],[95,46,97,48],[85,1,90,4],[85,5,90,10],[85,11,90,16],[85,17,90,25],[78,43,81,47],[83,26,84,30],[83,31,84,35],[78,17,81,18],[78,19,81,20],[78,21,81,36],[85,26,90,30],[85,31,90,35],[74,48,77,54],[87,48,90,54],[78,48,81,54],[82,37,85,47],[82,48,85,54],[78,37,81,39],[78,40,81,42],[74,17,77,18],[74,19,77,20],[74,21,77,36],[74,37,77,39],[74,40,77,42],[74,43,77,47],[66,48,69,54],[70,17,73,18],[70,19,73,20],[70,21,73,36],[70,37,73,39],[70,40,73,42],[70,43,73,47],[70,48,73,54],[66,17,69,18],[66,19,69,20],[66,21,69,36],[66,37,69,39],[66,40,69,42],[66,43,69,47],[58,48,61,54],[62,17,65,18],[62,19,65,20],[62,21,65,36],[62,37,65,39],[62,40,65,42],[62,43,65,47],[62,48,65,54],[58,17,61,18],[58,19,61,20],[58,21,61,36],[58,37,61,39],[58,40,61,42],[58,43,61,47],[50,48,53,54],[54,17,57,18],[54,19,57,20],[54,21,57,36],[54,37,57,39],[54,40,57,42],[54,43,57,47],[54,48,57,54],[50,17,53,18],[50,19,53,20],[50,21,53,36],[50,37,53,39],[50,40,53,42],[50,43,53,47],[38,17,41,18],[38,19,41,20],[38,21,41,36],[38,37,41,39],[38,40,41,42],[38,43,41,47],[38,48,41,54],[42,48,45,54],[46,17,49,18],[46,19,49,20],[46,21,49,36],[46,37,49,39],[46,40,49,42],[46,43,49,47],[46,48,49,54],[42,17,45,18],[42,19,45,20],[42,21,45,36],[42,37,45,39],[42,40,45,42],[42,43,45,47],[34,1,37,5],[34,6,37,15],[34,17,37,18],[34,19,37,20],[34,21,37,36],[34,37,37,39],[34,40,37,42],[34,43,37,47],[34,48,37,54],[26,40,29,42],[26,43,29,47],[26,48,29,54],[30,1,33,3],[30,4,33,5],[30,6,33,15],[30,17,33,18],[30,19,33,20],[30,21,33,36],[30,37,33,39],[26,1,29,5],[26,6,29,15],[26,17,29,18],[26,19,29,20],[26,21,29,36],[26,37,29,39],[30,40,33,42],[30,43,33,47],[30,48,33,54],[22,1,25,5],[22,6,25,15],[22,17,25,18],[22,19,25,20],[22,21,25,36],[22,37,25,39],[22,40,25,42],[22,43,25,47],[22,48,25,54],[14,43,17,47],[14,48,17,54],[18,1,21,5],[18,6,21,15],[18,17,21,18],[18,19,21,20],[18,21,21,36],[18,37,21,39],[18,40,21,42],[18,43,21,47],[14,1,17,5],[14,6,17,15],[14,17,17,20],[14,21,17,36],[14,37,17,39],[14,40,17,42],[18,48,21,54],[3,52,5,54],[8,37,11,40],[8,41,11,54],[3,41,5,45],[1,19,4,32],[2,1,5,11],[2,12,5,13],[8,1,11,5],[8,6,11,11],[8,12,11,15],[8,16,11,35],[3,46,5,48],[3,49,5,51]]}
[]
[null,null,null,null,null,null,null,null,null,null,null,null,null,null,null,null,null,null,null,"請求書明細書 (正)"]
[null,"株 式 会 社 種 村 建 設",null,null,null,null,null,null,null,null,null,null,"御中"]
[null,null,null,null,null,null,null,null,null,null,null,null,null,null,null,null,null,null,null,null,null,null,null,null,null,null,null,null,null,null,null,null,null,null,null,null,null,null,null,null,null,"請求年月日",null,null,null,null,{"$f":"年","v":23},null,null,{"$f":"月","v":5},null,null,{"$f":"日","v":31}]
[]
[]
[]
[]
[null,"工事番号",null,null,null,null,null,null,null,null,null,null,"工事名",null,null,null,null,null,null,null,null,null,null,null,null,null,null,null,null,null,null,null,null,null,null,null,null,"業者名",null,null,null,{"$f":"社名","v":"例：㈱種村建設"}]
[]
[]
[]
[]
[]
[null,"注文番号",null,null,null,null,null,null,null,null,null,null,null,null,null,null,null,"月　日",null,null,null,"摘要･品名",null,null,null,null,null,null,null,null,null,null,null,null,null,null,null,"数 量",null,null,"単位",null,null,"単価",null,null,null,null,{"$f":"\"金額(\" & IF(税処理=2,\"税込\",\"税抜\")&\")\"","v":"金額(税抜)"}]
[]
[]
[]
[null,"契約金額",null,null,null,null,null,null,null,null,null,null,null,null,null,null,null,null,null,null,null,null,null,null,null,null,null,null,null,null,null,null,null,null,null,null,null,null,null,null,null,null,null,null,null,null,null,null,{"$f":"IF(V19=\"\",\"\",AL19*AR19)","v":""}]
[]
[]
[]
[null,"増減額",null,null,null,null,null,null,null,null,null,null,null,null,null,null,null,null,null,null,null,null,null,null,null,null,null,null,null,null,null,null,null,null,null,null,null,null,null,null,null,null,null,null,null,null,null,null,{"$f":"IF(V23=\"\",\"\",AL23*AR23)","v":""}]
[]
[]
[]
[null,"前回までの\n請求額",null,null,null,null,null,null,null,null,null,null,null,null,null,null,null,null,null,null,null,null,null,null,null,null,null,null,null,null,null,null,null,null,null,null,null,null,null,null,null,null,null,null,null,null,null,null,{"$f":"IF(V27=\"\",\"\",AL27*AR27)","v":""}]
[]
[]
[]
[null,"今回\n請求額",null,null,null,null,null,null,null,null,null,null,null,null,null,null,null,null,null,null,null,null,null,null,null,null,null,null,null,null,null,null,null,null,null,null,null,null,null,null,null,null,null,null,null,null,null,null,{"$f":"IF(V31=\"\",\"\",AL31*AR31)","v":""}]
[]
[]
[]
[null,"差引残高",null,null,null,null,{"$f":"IF(G19=\"\",\"\",G19+G23-G27-G31)","v":""},null,null,null,null,null,null,null,null,null,null,null,null,null,null,null,null,null,null,null,null,null,null,null,null,null,null,null,null,null,null,null,null,null,null,null,null,null,null,null,null,null,{"$f":"IF(V35=\"\",\"\",AL35*AR35)","v":""}]
[]
[]
[]
[null,null,null,null,null,null,null,null,null,null,null,null,null,null,null,null,null,null,null,null,null,null,null,null,null,null,null,null,null,null,null,null,null,null,null,null,null,null,null,null,null,null,null,null,null,null,null,null,{"$f":"IF(V39=\"\",\"\",AL39*AR39)","v":""}]
[]
[]
[]
[null,null,null,null,null,null,null,null,null,null,null,null,null,null,null,null,null,null,null,null,null,null,null,null,null,null,null,null,null,null,null,null,null,null,null,null,null,null,null,null,null,null,null,null,null,null,null,null,{"$f":"IF(V43=\"\",\"\",AL43*AR43)","v":""}]
[]
[]
[]
[null,null,null,null,null,null,null,null,null,null,null,null,null,null,null,null,null,null,null,null,null,null,null,null,null,null,null,null,null,null,null,null,null,null,null,null,null,null,null,null,null,null,null,null,null,null,null,null,{"$f":"IF(V47=\"\",\"\",AL47*AR47)","v":""}]
[]
[]
[]
[null,null,null,null,null,null,null,null,null,null,null,null,null,null,null,null,null,null,null,null,null,null,null,null,null,null,null,null,null,null,null,null,null,null,null,null,null,null,null,null,null,null,null,null,null,null,null,null,{"$f":"IF(V51=\"\",\"\",AL51*AR51)","v":""}]
[]
[]
[]
[null,null,null,null,null,null,null,null,null,null,null,null,null,null,null,null,null,null,null,null,null,null,null,null,null,null,null,null,null,null,null,null,null,null,null,null,null,null,null,null,null,null,null,null,null,null,null,null,{"$f":"IF(V55=\"\",\"\",AL55*AR55)","v":""}]
[]
[]
[]
[null,null,null,null,null,null,null,null,null,null,null,null,null,null,null,null,null,null,null,null,null,null,null,null,null,null,null,null,null,null,null,null,null,null,null,null,null,null,null,null,null,null,null,null,null,null,null,null,{"$f":"IF(V59=\"\",\"\",AL59*AR59)","v":""}]
[]
[]
[]
[null,null,null,null,null,null,null,null,null,null,null,null,null,null,null,null,null,null,null,null,null,null,null,null,null,null,null,null,null,null,null,null,null,null,null,null,null,null,null,null,null,null,null,null,null,null,null,null,{"$f":"IF(V63=\"\",\"\",AL63*AR63)","v":""}]
[]
[]
[]
[null,null,null,null,null,null,null,null,null,null,null,null,null,null,null,null,null,null,null,null,null,null,null,null,null,null,null,null,null,null,null,null,null,null,null,null,null,null,null,null,null,null,null,null,null,null,null,null,{"$f":"IF(V67=\"\",\"\",AL67*AR67)","v":""}]
[]
[]
[]
[null,null,null,null,null,null,null,null,null,null,null,null,null,null,null,null,null,null,null,null,null,null,null,null,null,null,null,null,null,null,null,null,null,null,null,null,null,null,null,null,null,null,null,null,null,null,null,null,{"$f":"IF(V71=\"\",\"\",AL71*AR71)","v":""}]
[]
[]
[]
[null,null,null,null,null,null,null,null,null,null,null,null,null,null,null,null,null,null,null,null,null,null,null,null,null,null,null,null,null,null,null,null,null,null,null,null,null,null,null,null,null,null,null,null,null,null,null,null,{"$f":"IF(V75=\"\",\"\",AL75*AR75)","v":""}]
[]
[]
[]
[null,null,null,null,null,null,null,null,null,null,null,null,null,null,null,null,null,null,null,null,null,null,null,null,null,null,null,null,null,null,null,null,null,null,null,null,null,null,null,null,null,null,null,null,null,null,null,null,{"$f":"IF(V79=\"\",\"\",AL79*AR79)","v":""}]
[]
[]
[]
[null,null,null,null,null,null,null,null,null,null,null,null,null,null,null,null,null,null,null,null,null,null,null,null,null,null,null,null,null,null,null,null,null,null,null,null,null,"値引き等"]
[null,"社長",null,null,null,"専務",null,null,null,null,null,"常務",null,null,null,null,null,"部長･工場長",null,null,null,null,null,null,null,null,"担当者",null,null,null,null,"受付"]
[]
[]
[]
[null,null,null,null,null,null,null,null,null,null,null,null,null,null,null,null,null,null,null,null,null,null,null,null,null,null,null,null,null,null,null,null,null,null,null,null,null,{"$f":"\"合計(\" & IF(税処理=2,\"税込\",\"税抜\")&\")\"","v":"合計(税抜)"},null,null,null,null,null,null,null,null,null,null,{"$f":"IF(AW19=\"\",\"\",SUM(AW19:AW79)+AW83)","v":""}]
[]
[]
[]
[]
[]
[null,null,null,null,null,null,null,null,null,null,null,null,null,null,null,null,null,null,null,"請求明細書 (現場控)"]
[null,"株 式 会 社 種 村 建 設",null,null,null,null,null,null,null,null,null,null,"御中"]
[null,null,null,null,null,null,null,null,null,null,null,null,null,null,null,null,null,null,null,null,null,null,null,null,null,null,null,null,null,null,null,null,null,null,null,null,null,null,null,null,null,"請求年月日",null,null,null,null,{"$f":"IF(AU4=\"\",\"\",AU4)","v":23},null,null,{"$f":"IF(AX4=\"\",\"\",AX4)","v":5},null,null,{"$f":"IF(BA4=\"\",\"\",BA4)","v":31}]
[]
[]
[]
[]
[null,"工事番号",null,null,null,null,{"$f":"IF(G9=\"\",\"\",G9)","v":""},null,null,null,null,null,"工事名",null,null,null,{"$f":"IF(Q9=\"\",\"\",Q9)","v":""},null,null,null,null,null,null,null,null,null,null,null,null,null,null,null,null,null,null,null,null,"業者名",null,null,null,{"$f":"IF(AP9=\"\",\"\",AP9)","v":"例：㈱種村建設"}]
[]
[]
[]
[]
[]
[null,"注文番号",null,null,null,null,{"$f":"IF(G15=\"\",\"\",G15)","v":""},null,null,null,null,null,null,null,null,null,null,"月　日",null,null,null,"摘要･品名",null,null,null,null,null,null,null,null,null,null,null,null,null,null,null,"数 量",null,null,"単位",null,null,"単価",null,null,null,null,{"$f":"\"金額(\" & IF(税処理=2,\"税込\",\"税抜\")&\")\"","v":"金額(税抜)"}]
[]
[]
[]
[null,"契約金額",null,null,null,null,{"$f":"IF(G19=\"\",\"\",G19)","v":""},null,null,null,null,null,null,null,null,null,null,{"$f":"IF(R19=\"\",\"\",R19)","v":""},null,{"$f":"IF(T19=\"\",\"\",T19)","v":""},null,{"$f":"IF(V19=\"\",\"\",V19)","v":""},null,{"$f":"IF(X19=\"\",\"\",X19)","v":""},null,{"$f":"IF(Z19=\"\",\"\",Z19)","v":""},null,{"$f":"IF(AB19=\"\",\"\",AB19)","v":""},null,{"$f":"IF(AD19=\"\",\"\",AD19)","v":""},null,{"$f":"IF(AF19=\"\",\"\",AF19)","v":""},null,{"$f":"IF(AH19=\"\",\"\",AH19)","v":""},null,{"$f":"IF(AJ19=\"\",\"\",AJ19)","v":""},null,{"$f":"IF(AL19=\"\",\"\",AL19)","v":""},null,null,{"$f":"IF(AO19=\"\",\"\",AO19)","v":""},null,null,{"$f":"IF(AR19=\"\",\"\",AR19)","v":""},null,null,null,null,{"$f":"IF(AW19=\"\",\"\",AW19)","v":""}]
[]
[]
[]
[null,"増減額",null,null,null,null,{"$f":"IF(G23=\"\",\"\",G23)","v":""},null,null,null,null,null,null,null,null,null,null,{"$f":"IF(R23=\"\",\"\",R23)","v":""},null,{"$f":"IF(T23=\"\",\"\",T23)","v":""},null,{"$f":"IF(V23=\"\",\"\",V23)","v":""},null,{"$f":"IF(X23=\"\",\"\",X23)","v":""},null,{"$f":"IF(Z23=\"\",\"\",Z23)","v":""},null,{"$f":"IF(AB23=\"\",\"\",AB23)","v":""},null,{"$f":"IF(AD23=\"\",\"\",AD23)","v":""},null,{"$f":"IF(AF23=\"\",\"\",AF23)","v":""},null,{"$f":"IF(AH23=\"\",\"\",AH23)","v":""},null,{"$f":"IF(AJ23=\"\",\"\",AJ23)","v":""},null,{"$f":"IF(AL23=\"\",\"\",AL23)","v":""},null,null,{"$f":"IF(AO23=\"\",\"\",AO23)","v":""},null,null,{"$f":"IF(AR23=\"\",\"\",AR23)","v":""},null,null,null,null,{"$f":"IF(AW23=\"\",\"\",AW23)","v":""}]
[]
[]
[]
[null,"前回までの\n請求額",null,null,null,null,{"$f":"IF(G27=\"\",\"\",G27)","v":""},null,null,null,null,null,null,null,null,null,null,{"$f":"IF(R27=\"\",\"\",R27)","v":""},null,{"$f":"IF(T27=\"\",\"\",T27)","v":""},null,{"$f":"IF(V27=\"\",\"\",V27)","v":""},null,{"$f":"IF(X27=\"\",\"\",X27)","v":""},null,{"$f":"IF(Z27=\"\",\"\",Z27)","v":""},null,{"$f":"IF(AB27=\"\",\"\",AB27)","v":""},null,{"$f":"IF(AD27=\"\",\"\",AD27)","v":""},null,{"$f":"IF(AF27=\"\",\"\",AF27)","v":""},null,{"$f":"IF(AH27=\"\",\"\",AH27)","v":""},null,{"$f":"IF(AJ27=\"\",\"\",AJ27)","v":""},null,{"$f":"IF(AL27=\"\",\"\",AL27)","v":""},null,null,{"$f":"IF(AO27=\"\",\"\",AO27)","v":""},null,null,{"$f":"IF(AR27=\"\",\"\",AR27)","v":""},null,null,null,null,{"$f":"IF(AW27=\"\",\"\",AW27)","v":""}]
[]
[]
[]
[null,"今回\n請求額",null,null,{"$f":"IF(E31=\"\",\"\",E31)","v":""},null,{"$f":"IF(G31=\"\",\"\",G31)","v":""},null,null,null,null,null,null,null,null,null,null,{"$f":"IF(R31=\"\",\"\",R31)","v":""},null,{"$f":"IF(T31=\"\",\"\",T31)","v":""},null,{"$f":"IF(V31=\"\",\"\",V31)","v":""},null,{"$f":"IF(X31=\"\",\"\",X31)","v":""},null,{"$f":"IF(Z31=\"\",\"\",Z31)","v":""},null,{"$f":"IF(AB31=\"\",\"\",AB31)","v":""},null,{"$f":"IF(AD31=\"\",\"\",AD31)","v":""},null,{"$f":"IF(AF31=\"\",\"\",AF31)","v":""},null,{"$f":"IF(AH31=\"\",\"\",AH31)","v":""},null,{"$f":"IF(AJ31=\"\",\"\",AJ31)","v":""},null,{"$f":"IF(AL31=\"\",\"\",AL31)","v":""},null,null,{"$f":"IF(AO31=\"\",\"\",AO31)","v":""},null,null,{"$f":"IF(AR31=\"\",\"\",AR31)","v":""},null,null,null,null,{"$f":"IF(AW31=\"\",\"\",AW31)","v":""}]
[]
[]
[]
[null,"差引残高",null,null,null,null,{"$f":"IF(G111=\"\",\"\",G111+G115-G119-G123)","v":""},null,null,null,null,null,null,null,null,null,null,{"$f":"IF(R35=\"\",\"\",R35)","v":""},null,{"$f":"IF(T35=\"\",\"\",T35)","v":""},null,{"$f":"IF(V35=\"\",\"\",V35)","v":""},null,{"$f":"IF(X35=\"\",\"\",X35)","v":""},null,{"$f":"IF(Z35=\"\",\"\",Z35)","v":""},null,{"$f":"IF(AB35=\"\",\"\",AB35)","v":""},null,{"$f":"IF(AD35=\"\",\"\",AD35)","v":""},null,{"$f":"IF(AF35=\"\",\"\",AF35)","v":""},null,{"$f":"IF(AH35=\"\",\"\",AH35)","v":""},null,{"$f":"IF(AJ35=\"\",\"\",AJ35)","v":""},null,{"$f":"IF(AL35=\"\",\"\",AL35)","v":""},null,null,{"$f":"IF(AO35=\"\",\"\",AO35)","v":""},null,null,{"$f":"IF(AR35=\"\",\"\",AR35)","v":""},null,null,null,null,{"$f":"IF(AW35=\"\",\"\",AW35)","v":""}]
[]
[]
[]
[null,null,null,null,null,null,null,null,null,null,null,null,null,null,null,null,null,{"$f":"IF(R39=\"\",\"\",R39)","v":""},null,{"$f":"IF(T39=\"\",\"\",T39)","v":""},null,{"$f":"IF(V39=\"\",\"\",V39)","v":""},null,{"$f":"IF(X39=\"\",\"\",X39)","v":""},null,{"$f":"IF(Z39=\"\",\"\",Z39)","v":""},null,{"$f":"IF(AB39=\"\",\"\",AB39)","v":""},null,{"$f":"IF(AD39=\"\",\"\",AD39)","v":""},null,{"$f":"IF(AF39=\"\",\"\",AF39)","v":""},null,{"$f":"IF(AH39=\"\",\"\",AH39)","v":""},null,{"$f":"IF(AJ39=\"\",\"\",AJ39)","v":""},null,{"$f":"IF(AL39=\"\",\"\",AL39)","v":""},null,null,{"$f":"IF(AO39=\"\",\"\",AO39)","v":""},null,null,{"$f":"IF(AR39=\"\",\"\",AR39)","v":""},null,null,null,null,{"$f":"IF(AW39=\"\",\"\",AW39)","v":""}]
[]
[]
[]
[null,null,null,null,null,null,null,null,null,null,null,null,null,null,null,null,null,{"$f":"IF(R43=\"\",\"\",R43)","v":""},null,{"$f":"IF(T43=\"\",\"\",T43)","v":""},null,{"$f":"IF(V43=\"\",\"\",V43)","v":""},null,{"$f":"IF(X43=\"\",\"\",X43)","v":""},null,{"$f":"IF(Z43=\"\",\"\",Z43)","v":""},null,{"$f":"IF(AB43=\"\",\"\",AB43)","v":""},null,{"$f":"IF(AD43=\"\",\"\",AD43)","v":""},null,{"$f":"IF(AF43=\"\",\"\",AF43)","v":""},null,{"$f":"IF(AH43=\"\",\"\",AH43)","v":""},null,{"$f":"IF(AJ43=\"\",\"\",AJ43)","v":""},null,{"$f":"IF(AL43=\"\",\"\",AL43)","v":""},null,null,{"$f":"IF(AO43=\"\",\"\",AO43)","v":""},null,null,{"$f":"IF(AR43=\"\",\"\",AR43)","v":""},null,null,null,null,{"$f":"IF(AW43=\"\",\"\",AW43)","v":""}]
[]
[]
[]
[null,null,null,null,null,null,null,null,null,null,null,null,null,null,null,null,null,{"$f":"IF(R47=\"\",\"\",R47)","v":""},null,{"$f":"IF(T47=\"\",\"\",T47)","v":""},null,{"$f":"IF(V47=\"\",\"\",V47)","v":""},null,{"$f":"IF(X47=\"\",\"\",X47)","v":""},null,{"$f":"IF(Z47=\"\",\"\",Z47)","v":""},null,{"$f":"IF(AB47=\"\",\"\",AB47)","v":""},null,{"$f":"IF(AD47=\"\",\"\",AD47)","v":""},null,{"$f":"IF(AF47=\"\",\"\",AF47)","v":""},null,{"$f":"IF(AH47=\"\",\"\",AH47)","v":""},null,{"$f":"IF(AJ47=\"\",\"\",AJ47)","v":""},null,{"$f":"IF(AL47=\"\",\"\",AL47)","v":""},null,null,{"$f":"IF(AO47=\"\",\"\",AO47)","v":""},null,null,{"$f":"IF(AR47=\"\",\"\",AR47)","v":""},null,null,null,null,{"$f":"IF(AW47=\"\",\"\",AW47)","v":""}]
[]
[]
[]
[null,null,null,null,null,null,null,null,null,null,null,null,null,null,null,null,null,{"$f":"IF(R51=\"\",\"\",R51)","v":""},null,{"$f":"IF(T51=\"\",\"\",T51)","v":""},null,{"$f":"IF(V51=\"\",\"\",V51)","v":""},null,{"$f":"IF(X51=\"\",\"\",X51)","v":""},null,{"$f":"IF(Z51=\"\",\"\",Z51)","v":""},null,{"$f":"IF(AB51=\"\",\"\",AB51)","v":""},null,{"$f":"IF(AD51=\"\",\"\",AD51)","v":""},null,{"$f":"IF(AF51=\"\",\"\",AF51)","v":""},null,{"$f":"IF(AH51=\"\",\"\",AH51)","v":""},null,{"$f":"IF(AJ51=\"\",\"\",AJ51)","v":""},null,{"$f":"IF(AL51=\"\",\"\",AL51)","v":""},null,null,{"$f":"IF(AO51=\"\",\"\",AO51)","v":""},null,null,{"$f":"IF(AR51=\"\",\"\",AR51)","v":""},null,null,null,null,{"$f":"IF(AW51=\"\",\"\",AW51)","v":""}]
[]
[]
[]
[null,null,null,null,null,null,null,null,null,null,null,null,null,null,null,null,null,{"$f":"IF(R55=\"\",\"\",R55)","v":""},null,{"$f":"IF(T55=\"\",\"\",T55)","v":""},null,{"$f":"IF(V55=\"\",\"\",V55)","v":""},null,{"$f":"IF(X55=\"\",\"\",X55)","v":""},null,{"$f":"IF(Z55=\"\",\"\",Z55)","v":""},null,{"$f":"IF(AB55=\"\",\"\",AB55)","v":""},null,{"$f":"IF(AD55=\"\",\"\",AD55)","v":""},null,{"$f":"IF(AF55=\"\",\"\",AF55)","v":""},null,{"$f":"IF(AH55=\"\",\"\",AH55)","v":""},null,{"$f":"IF(AJ55=\"\",\"\",AJ55)","v":""},null,{"$f":"IF(AL55=\"\",\"\",AL55)","v":""},null,null,{"$f":"IF(AO55=\"\",\"\",AO55)","v":""},null,null,{"$f":"IF(AR55=\"\",\"\",AR55)","v":""},null,null,null,null,{"$f":"IF(AW55=\"\",\"\",AW55)","v":""}]
[]
[]
[]
[null,null,null,null,null,null,null,null,null,null,null,null,null,null,null,null,null,{"$f":"IF(R59=\"\",\"\",R59)","v":""},null,{"$f":"IF(T59=\"\",\"\",T59)","v":""},null,{"$f":"IF(V59=\"\",\"\",V59)","v":""},null,{"$f":"IF(X59=\"\",\"\",X59)","v":""},null,{"$f":"IF(Z59=\"\",\"\",Z59)","v":""},null,{"$f":"IF(AB59=\"\",\"\",AB59)","v":""},null,{"$f":"IF(AD59=\"\",\"\",AD59)","v":""},null,{"$f":"IF(AF59=\"\",\"\",AF59)","v":""},null,{"$f":"IF(AH59=\"\",\"\",AH59)","v":""},null,{"$f":"IF(AJ59=\"\",\"\",AJ59)","v":""},null,{"$f":"IF(AL59=\"\",\"\",AL59)","v":""},null,null,{"$f":"IF(AO59=\"\",\"\",AO59)","v":""},null,null,{"$f":"IF(AR59=\"\",\"\",AR59)","v":""},null,null,null,null,{"$f":"IF(AW59=\"\",\"\",AW59)","v":""}]
[]
[]
[]
[null,null,null,null,null,null,null,null,null,null,null,null,null,null,null,null,null,{"$f":"IF(R63=\"\",\"\",R63)","v":""},null,{"$f":"IF(T63=\"\",\"\",T63)","v":""},null,{"$f":"IF(V63=\"\",\"\",V63)","v":""},null,{"$f":"IF(X63=\"\",\"\",X63)","v":""},null,{"$f":"IF(Z63=\"\",\"\",Z63)","v":""},null,{"$f":"IF(AB63=\"\",\"\",AB63)","v":""},null,{"$f":"IF(AD63=\"\",\"\",AD63)","v":""},null,{"$f":"IF(AF63=\"\",\"\",AF63)","v":""},null,{"$f":"IF(AH63=\"\",\"\",AH63)","v":""},null,{"$f":"IF(AJ63=\"\",\"\",AJ63)","v":""},null,{"$f":"IF(AL63=\"\",\"\",AL63)","v":""},null,null,{"$f":"IF(AO63=\"\",\"\",AO63)","v":""},null,null,{"$f":"IF(AR63=\"\",\"\",AR63)","v":""},null,null,null,null,{"$f":"IF(AW63=\"\",\"\",AW63)","v":""}]
[]
[]
[]
[null,null,null,null,null,null,null,null,null,null,null,null,null,null,null,null,null,{"$f":"IF(R67=\"\",\"\",R67)","v":""},null,{"$f":"IF(T67=\"\",\"\",T67)","v":""},null,{"$f":"IF(V67=\"\",\"\",V67)","v":""},null,{"$f":"IF(X67=\"\",\"\",X67)","v":""},null,{"$f":"IF(Z67=\"\",\"\",Z67)","v":""},null,{"$f":"IF(AB67=\"\",\"\",AB67)","v":""},null,{"$f":"IF(AD67=\"\",\"\",AD67)","v":""},null,{"$f":"IF(AF67=\"\",\"\",AF67)","v":""},null,{"$f":"IF(AH67=\"\",\"\",AH67)","v":""},null,{"$f":"IF(AJ67=\"\",\"\",AJ67)","v":""},null,{"$f":"IF(AL67=\"\",\"\",AL67)","v":""},null,null,{"$f":"IF(AO67=\"\",\"\",AO67)","v":""},null,null,{"$f":"IF(AR67=\"\",\"\",AR67)","v":""},null,null,null,null,{"$f":"IF(AW67=\"\",\"\",AW67)","v":""}]
[]
[]
[]
[null,null,null,null,null,null,null,null,null,null,null,null,null,null,null,null,null,{"$f":"IF(R71=\"\",\"\",R71)","v":""},null,{"$f":"IF(T71=\"\",\"\",T71)","v":""},null,{"$f":"IF(V71=\"\",\"\",V71)","v":""},null,{"$f":"IF(X71=\"\",\"\",X71)","v":""},null,{"$f":"IF(Z71=\"\",\"\",Z71)","v":""},null,{"$f":"IF(AB71=\"\",\"\",AB71)","v":""},null,{"$f":"IF(AD71=\"\",\"\",AD71)","v":""},null,{"$f":"IF(AF71=\"\",\"\",AF71)","v":""},null,{"$f":"IF(AH71=\"\",\"\",AH71)","v":""},null,{"$f":"IF(AJ71=\"\",\"\",AJ71)","v":""},null,{"$f":"IF(AL71=\"\",\"\",AL71)","v":""},null,null,{"$f":"IF(AO71=\"\",\"\",AO71)","v":""},null,null,{"$f":"IF(AR71=\"\",\"\",AR71)","v":""},null,null,null,null,{"$f":"IF(AW71=\"\",\"\",AW71)","v":""}]
[]
[]
[]
[null,null,null,null,null,null,null,null,null,null,null,null,null,null,null,null,null,{"$f":"IF(R75=\"\",\"\",R75)","v":""},null,{"$f":"IF(T75=\"\",\"\",T75)","v":""},null,{"$f":"IF(V75=\"\",\"\",V75)","v":""},null,{"$f":"IF(X75=\"\",\"\",X75)","v":""},null,{"$f":"IF(Z75=\"\",\"\",Z75)","v":""},null,{"$f":"IF(AB75=\"\",\"\",AB75)","v":""},null,{"$f":"IF(AD75=\"\",\"\",AD75)","v":""},null,{"$f":"IF(AF75=\"\",\"\",AF75)","v":""},null,{"$f":"IF(AH75=\"\",\"\",AH75)","v":""},null,{"$f":"IF(AJ75=\"\",\"\",AJ75)","v":""},null,{"$f":"IF(AL75=\"\",\"\",AL75)","v":""},null,null,{"$f":"IF(AO75=\"\",\"\",AO75)","v":""},null,null,{"$f":"IF(AR75=\"\",\"\",AR75)","v":""},null,null,null,null,{"$f":"IF(AW75=\"\",\"\",AW75)","v":""}]
[]
[]
[]
[null,null,null,null,null,null,null,null,null,null,null,null,null,null,null,null,null,{"$f":"IF(R79=\"\",\"\",R79)","v":""},null,{"$f":"IF(T79=\"\",\"\",T79)","v":""},null,{"$f":"IF(V79=\"\",\"\",V79)","v":""},null,{"$f":"IF(X79=\"\",\"\",X79)","v":""},null,{"$f":"IF(Z79=\"\",\"\",Z79)","v":""},null,{"$f":"IF(AB79=\"\",\"\",AB79)","v":""},null,{"$f":"IF(AD79=\"\",\"\",AD79)","v":""},null,{"$f":"IF(AF79=\"\",\"\",AF79)","v":""},null,{"$f":"IF(AH79=\"\",\"\",AH79)","v":""},null,{"$f":"IF(AJ79=\"\",\"\",AJ79)","v":""},null,{"$f":"IF(AL79=\"\",\"\",AL79)","v":""},null,null,{"$f":"IF(AO79=\"\",\"\",AO79)","v":""},null,null,{"$f":"IF(AR79=\"\",\"\",AR79)","v":""},null,null,null,null,{"$f":"IF(AW79=\"\",\"\",AW79)","v":""}]
[]
[]
[]
[null,null,null,null,null,null,null,null,null,null,null,null,null,null,null,null,null,null,null,null,null,null,null,null,null,null,null,null,null,null,null,null,null,null,null,null,null,"値引き等",null,null,null,null,null,null,null,null,null,null,{"$f":"IF(AW83=\"\",\"\",AW83)","v":""}]
[]
[]
[]
[]
[null,null,null,null,null,null,null,null,null,null,null,null,null,null,null,null,null,null,null,null,null,null,null,null,null,null,null,null,null,null,null,null,null,null,null,null,null,{"$f":"\"合計(\" & IF(税処理=2,\"税込\",\"税抜\")&\")\"","v":"合計(税抜)"},null,null,null,null,null,null,null,null,null,null,{"$f":"IF(AW88=\"\",\"\",AW88)","v":""}]
[]
[]
[]
[]
[]
[null,null,null,null,null,null,null,null,null,null,null,null,null,null,null,null,null,null,null,"請求明細書 (貴社控)"]
[null,"株 式 会 社 種 村 建 設",null,null,null,null,null,null,null,null,null,null,"御中"]
[null,null,null,null,null,null,null,null,null,null,null,null,null,null,null,null,null,null,null,null,null,null,null,null,null,null,null,null,null,null,null,null,null,null,null,null,null,null,null,null,null,"請求年月日",null,null,null,null,{"$f":"IF(AU96=\"\",\"\",AU96)","v":23},null,null,{"$f":"IF(AX96=\"\",\"\",AX96)","v":5},null,null,{"$f":"IF(BA96=\"\",\"\",BA96)","v":31}]
[]
[]
[]
[]
[null,"工事番号",null,null,null,null,{"$f":"IF(G101=\"\",\"\",G101)","v":""},null,null,null,null,null,"工事名",null,null,null,{"$f":"IF(Q101=\"\",\"\",Q101)","v":""},null,null,null,null,null,null,null,null,null,null,null,null,null,null,null,null,null,null,null,null,"業者名",null,null,null,{"$f":"IF(AP101=\"\",\"\",AP101)","v":"例：㈱種村建設"}]
[]
[]
[]
[]
[]
[null,"注文番号",null,null,null,null,{"$f":"IF(G107=\"\",\"\",G107)","v":""},null,null,null,null,null,null,null,null,null,null,"月　日",null,null,null,"摘要･品名",null,null,null,null,null,null,null,null,null,null,null,null,null,null,null,"数 量",null,null,"単位",null,null,"単価",null,null,null,null,{"$f":"\"金額(\" & IF(税処理=2,\"税込\",\"税抜\")&\")\"","v":"金額(税抜)"}]
[]
[]
[]
[null,"契約金額",null,null,null,null,{"$f":"IF(G111=\"\",\"\",G111)","v":""},null,null,null,null,null,null,null,null,null,null,{"$f":"IF(R111=\"\",\"\",R111)","v":""},null,{"$f":"IF(T111=\"\",\"\",T111)","v":""},null,{"$f":"IF(V111=\"\",\"\",V111)","v":""},null,{"$f":"IF(X111=\"\",\"\",X111)","v":""},null,{"$f":"IF(Z111=\"\",\"\",Z111)","v":""},null,{"$f":"IF(AB111=\"\",\"\",AB111)","v":""},null,{"$f":"IF(AD111=\"\",\"\",AD111)","v":""},null,{"$f":"IF(AF111=\"\",\"\",AF111)","v":""},null,{"$f":"IF(AH111=\"\",\"\",AH111)","v":""},null,{"$f":"IF(AJ111=\"\",\"\",AJ111)","v":""},null,{"$f":"IF(AL111=\"\",\"\",AL111)","v":""},null,null,{"$f":"IF(AO111=\"\",\"\",AO111)","v":""},null,null,{"$f":"IF(AR111=\"\",\"\",AR111)","v":""},null,null,null,null,{"$f":"IF(AW111=\"\",\"\",AW111)","v":""}]
[]
[]
[]
[null,"増減額",null,null,null,null,{"$f":"IF(G115=\"\",\"\",G115)","v":""},null,null,null,null,null,null,null,null,null,null,{"$f":"IF(R115=\"\",\"\",R115)","v":""},null,{"$f":"IF(T115=\"\",\"\",T115)","v":""},null,{"$f":"IF(V115=\"\",\"\",V115)","v":""},null,{"$f":"IF(X115=\"\",\"\",X115)","v":""},null,{"$f":"IF(Z115=\"\",\"\",Z115)","v":""},null,{"$f":"IF(AB115=\"\",\"\",AB115)","v":""},null,{"$f":"IF(AD115=\"\",\"\",AD115)","v":""},null,{"$f":"IF(AF115=\"\",\"\",AF115)","v":""},null,{"$f":"IF(AH115=\"\",\"\",AH115)","v":""},null,{"$f":"IF(AJ115=\"\",\"\",AJ115)","v":""},null,{"$f":"IF(AL115=\"\",\"\",AL115)","v":""},null,null,{"$f":"IF(AO115=\"\",\"\",AO115)","v":""},null,null,{"$f":"IF(AR115=\"\",\"\",AR115)","v":""},null,null,null,null,{"$f":"IF(AW115=\"\",\"\",AW115)","v":""}]
[]
[]
[]
[null,"前回までの\n請求額",null,null,null,null,{"$f":"IF(G119=\"\",\"\",G119)","v":""},null,null,null,null,null,null,null,null,null,null,{"$f":"IF(R119=\"\",\"\",R119)","v":""},null,{"$f":"IF(T119=\"\",\"\",T119)","v":""},null,{"$f":"IF(V119=\"\",\"\",V119)","v":""},null,{"$f":"IF(X119=\"\",\"\",X119)","v":""},null,{"$f":"IF(Z119=\"\",\"\",Z119)","v":""},null,{"$f":"IF(AB119=\"\",\"\",AB119)","v":""},null,{"$f":"IF(AD119=\"\",\"\",AD119)","v":""},null,{"$f":"IF(AF119=\"\",\"\",AF119)","v":""},null,{"$f":"IF(AH119=\"\",\"\",AH119)","v":""},null,{"$f":"IF(AJ119=\"\",\"\",AJ119)","v":""},null,{"$f":"IF(AL119=\"\",\"\",AL119)","v":""},null,null,{"$f":"IF(AO119=\"\",\"\",AO119)","v":""},null,null,{"$f":"IF(AR119=\"\",\"\",AR119)","v":""},null,null,null,null,{"$f":"IF(AW119=\"\",\"\",AW119)","v":""}]
[]
[]
[]
[null,"今回\n請求額",null,null,{"$f":"IF(E31=\"\",\"\",E31)","v":""},null,{"$f":"IF(G123=\"\",\"\",G123)","v":""},null,null,null,null,null,null,null,null,null,null,{"$f":"IF(R123=\"\",\"\",R123)","v":""},null,{"$f":"IF(T123=\"\",\"\",T123)","v":""},null,{"$f":"IF(V123=\"\",\"\",V123)","v":""},null,{"$f":"IF(X123=\"\",\"\",X123)","v":""},null,{"$f":"IF(Z123=\"\",\"\",Z123)","v":""},null,{"$f":"IF(AB123=\"\",\"\",AB123)","v":""},null,{"$f":"IF(AD123=\"\",\"\",AD123)","v":""},null,{"$f":"IF(AF123=\"\",\"\",AF123)","v":""},null,{"$f":"IF(AH123=\"\",\"\",AH123)","v":""},null,{"$f":"IF(AJ123=\"\",\"\",AJ123)","v":""},null,{"$f":"IF(AL123=\"\",\"\",AL123)","v":""},null,null,{"$f":"IF(AO123=\"\",\"\",AO123)","v":""},null,null,{"$f":"IF(AR123=\"\",\"\",AR123)","v":""},null,null,null,null,{"$f":"IF(AW123=\"\",\"\",AW123)","v":""}]
[]
[]
[]
[null,"差引残高",null,null,null,null,{"$f":"IF(G203=\"\",\"\",G203+G207-G211-G215)","v":""},null,null,null,null,null,null,null,null,null,null,{"$f":"IF(R127=\"\",\"\",R127)","v":""},null,{"$f":"IF(T127=\"\",\"\",T127)","v":""},null,{"$f":"IF(V127=\"\",\"\",V127)","v":""},null,{"$f":"IF(X127=\"\",\"\",X127)","v":""},null,{"$f":"IF(Z127=\"\",\"\",Z127)","v":""},null,{"$f":"IF(AB127=\"\",\"\",AB127)","v":""},null,{"$f":"IF(AD127=\"\",\"\",AD127)","v":""},null,{"$f":"IF(AF127=\"\",\"\",AF127)","v":""},null,{"$f":"IF(AH127=\"\",\"\",AH127)","v":""},null,{"$f":"IF(AJ127=\"\",\"\",AJ127)","v":""},null,{"$f":"IF(AL127=\"\",\"\",AL127)","v":""},null,null,{"$f":"IF(AO127=\"\",\"\",AO127)","v":""},null,null,{"$f":"IF(AR127=\"\",\"\",AR127)","v":""},null,null,null,null,{"$f":"IF(AW127=\"\",\"\",AW127)","v":""}]
[]
[]
[]
[null,null,null,null,null,null,null,null,null,null,null,null,null,null,null,null,null,{"$f":"IF(R131=\"\",\"\",R131)","v":""},null,{"$f":"IF(T131=\"\",\"\",T131)","v":""},null,{"$f":"IF(V131=\"\",\"\",V131)","v":""},null,{"$f":"IF(X131=\"\",\"\",X131)","v":""},null,{"$f":"IF(Z131=\"\",\"\",Z131)","v":""},null,{"$f":"IF(AB131=\"\",\"\",AB131)","v":""},null,{"$f":"IF(AD131=\"\",\"\",AD131)","v":""},null,{"$f":"IF(AF131=\"\",\"\",AF131)","v":""},null,{"$f":"IF(AH131=\"\",\"\",AH131)","v":""},null,{"$f":"IF(AJ131=\"\",\"\",AJ131)","v":""},null,{"$f":"IF(AL131=\"\",\"\",AL131)","v":""},null,null,{"$f":"IF(AO131=\"\",\"\",AO131)","v":""},null,null,{"$f":"IF(AR131=\"\",\"\",AR131)","v":""},null,null,null,null,{"$f":"IF(AW131=\"\",\"\",AW131)","v":""}]
[]
[]
[]
[null,null,null,null,null,null,null,null,null,null,null,null,null,null,null,null,null,{"$f":"IF(R135=\"\",\"\",R135)","v":""},null,{"$f":"IF(T135=\"\",\"\",T135)","v":""},null,{"$f":"IF(V135=\"\",\"\",V135)","v":""},null,{"$f":"IF(X135=\"\",\"\",X135)","v":""},null,{"$f":"IF(Z135=\"\",\"\",Z135)","v":""},null,{"$f":"IF(AB135=\"\",\"\",AB135)","v":""},null,{"$f":"IF(AD135=\"\",\"\",AD135)","v":""},null,{"$f":"IF(AF135=\"\",\"\",AF135)","v":""},null,{"$f":"IF(AH135=\"\",\"\",AH135)","v":""},null,{"$f":"IF(AJ135=\"\",\"\",AJ135)","v":""},null,{"$f":"IF(AL135=\"\",\"\",AL135)","v":""},null,null,{"$f":"IF(AO135=\"\",\"\",AO135)","v":""},null,null,{"$f":"IF(AR135=\"\",\"\",AR135)","v":""},null,null,null,null,{"$f":"IF(AW135=\"\",\"\",AW135)","v":""}]
[]
[]
[]
[null,null,null,null,null,null,null,null,null,null,null,null,null,null,null,null,null,{"$f":"IF(R139=\"\",\"\",R139)","v":""},null,{"$f":"IF(T139=\"\",\"\",T139)","v":""},null,{"$f":"IF(V139=\"\",\"\",V139)","v":""},null,{"$f":"IF(X139=\"\",\"\",X139)","v":""},null,{"$f":"IF(Z139=\"\",\"\",Z139)","v":""},null,{"$f":"IF(AB139=\"\",\"\",AB139)","v":""},null,{"$f":"IF(AD139=\"\",\"\",AD139)","v":""},null,{"$f":"IF(AF139=\"\",\"\",AF139)","v":""},null,{"$f":"IF(AH139=\"\",\"\",AH139)","v":""},null,{"$f":"IF(AJ139=\"\",\"\",AJ139)","v":""},null,{"$f":"IF(AL139=\"\",\"\",AL139)","v":""},null,null,{"$f":"IF(AO139=\"\",\"\",AO139)","v":""},null,null,{"$f":"IF(AR139=\"\",\"\",AR139)","v":""},null,null,null,null,{"$f":"IF(AW139=\"\",\"\",AW139)","v":""}]
[]
[]
[]
[null,null,null,null,null,null,null,null,null,null,null,null,null,null,null,null,null,{"$f":"IF(R143=\"\",\"\",R143)","v":""},null,{"$f":"IF(T143=\"\",\"\",T143)","v":""},null,{"$f":"IF(V143=\"\",\"\",V143)","v":""},null,{"$f":"IF(X143=\"\",\"\",X143)","v":""},null,{"$f":"IF(Z143=\"\",\"\",Z143)","v":""},null,{"$f":"IF(AB143=\"\",\"\",AB143)","v":""},null,{"$f":"IF(AD143=\"\",\"\",AD143)","v":""},null,{"$f":"IF(AF143=\"\",\"\",AF143)","v":""},null,{"$f":"IF(AH143=\"\",\"\",AH143)","v":""},null,{"$f":"IF(AJ143=\"\",\"\",AJ143)","v":""},null,{"$f":"IF(AL143=\"\",\"\",AL143)","v":""},null,null,{"$f":"IF(AO143=\"\",\"\",AO143)","v":""},null,null,{"$f":"IF(AR143=\"\",\"\",AR143)","v":""},null,null,null,null,{"$f":"IF(AW143=\"\",\"\",AW143)","v":""}]
[]
[]
[]
[null,null,null,null,null,null,null,null,null,null,null,null,null,null,null,null,null,{"$f":"IF(R147=\"\",\"\",R147)","v":""},null,{"$f":"IF(T147=\"\",\"\",T147)","v":""},null,{"$f":"IF(V147=\"\",\"\",V147)","v":""},null,{"$f":"IF(X147=\"\",\"\",X147)","v":""},null,{"$f":"IF(Z147=\"\",\"\",Z147)","v":""},null,{"$f":"IF(AB147=\"\",\"\",AB147)","v":""},null,{"$f":"IF(AD147=\"\",\"\",AD147)","v":""},null,{"$f":"IF(AF147=\"\",\"\",AF147)","v":""},null,{"$f":"IF(AH147=\"\",\"\",AH147)","v":""},null,{"$f":"IF(AJ147=\"\",\"\",AJ147)","v":""},null,{"$f":"IF(AL147=\"\",\"\",AL147)","v":""},null,null,{"$f":"IF(AO147=\"\",\"\",AO147)","v":""},null,null,{"$f":"IF(AR147=\"\",\"\",AR147)","v":""},null,null,null,null,{"$f":"IF(AW147=\"\",\"\",AW147)","v":""}]
[]
[]
[]
[null,null,null,null,null,null,null,null,null,null,null,null,null,null,null,null,null,{"$f":"IF(R151=\"\",\"\",R151)","v":""},null,{"$f":"IF(T151=\"\",\"\",T151)","v":""},null,{"$f":"IF(V151=\"\",\"\",V151)","v":""},null,{"$f":"IF(X151=\"\",\"\",X151)","v":""},null,{"$f":"IF(Z151=\"\",\"\",Z151)","v":""},null,{"$f":"IF(AB151=\"\",\"\",AB151)","v":""},null,{"$f":"IF(AD151=\"\",\"\",AD151)","v":""},null,{"$f":"IF(AF151=\"\",\"\",AF151)","v":""},null,{"$f":"IF(AH151=\"\",\"\",AH151)","v":""},null,{"$f":"IF(AJ151=\"\",\"\",AJ151)","v":""},null,{"$f":"IF(AL151=\"\",\"\",AL151)","v":""},null,null,{"$f":"IF(AO151=\"\",\"\",AO151)","v":""},null,null,{"$f":"IF(AR151=\"\",\"\",AR151)","v":""},null,null,null,null,{"$f":"IF(AW151=\"\",\"\",AW151)","v":""}]
[]
[]
[]
[null,null,null,null,null,null,null,null,null,null,null,null,null,null,null,null,null,{"$f":"IF(R155=\"\",\"\",R155)","v":""},null,{"$f":"IF(T155=\"\",\"\",T155)","v":""},null,{"$f":"IF(V155=\"\",\"\",V155)","v":""},null,{"$f":"IF(X155=\"\",\"\",X155)","v":""},null,{"$f":"IF(Z155=\"\",\"\",Z155)","v":""},null,{"$f":"IF(AB155=\"\",\"\",AB155)","v":""},null,{"$f":"IF(AD155=\"\",\"\",AD155)","v":""},null,{"$f":"IF(AF155=\"\",\"\",AF155)","v":""},null,{"$f":"IF(AH155=\"\",\"\",AH155)","v":""},null,{"$f":"IF(AJ155=\"\",\"\",AJ155)","v":""},null,{"$f":"IF(AL155=\"\",\"\",AL155)","v":""},null,null,{"$f":"IF(AO155=\"\",\"\",AO155)","v":""},null,null,{"$f":"IF(AR155=\"\",\"\",AR155)","v":""},null,null,null,null,{"$f":"IF(AW155=\"\",\"\",AW155)","v":""}]
[]
[]
[]
[null,null,null,null,null,null,null,null,null,null,null,null,null,null,null,null,null,{"$f":"IF(R159=\"\",\"\",R159)","v":""},null,{"$f":"IF(T159=\"\",\"\",T159)","v":""},null,{"$f":"IF(V159=\"\",\"\",V159)","v":""},null,{"$f":"IF(X159=\"\",\"\",X159)","v":""},null,{"$f":"IF(Z159=\"\",\"\",Z159)","v":""},null,{"$f":"IF(AB159=\"\",\"\",AB159)","v":""},null,{"$f":"IF(AD159=\"\",\"\",AD159)","v":""},null,{"$f":"IF(AF159=\"\",\"\",AF159)","v":""},null,{"$f":"IF(AH159=\"\",\"\",AH159)","v":""},null,{"$f":"IF(AJ159=\"\",\"\",AJ159)","v":""},null,{"$f":"IF(AL159=\"\",\"\",AL159)","v":""},null,null,{"$f":"IF(AO159=\"\",\"\",AO159)","v":""},null,null,{"$f":"IF(AR159=\"\",\"\",AR159)","v":""},null,null,null,null,{"$f":"IF(AW159=\"\",\"\",AW159)","v":""}]
[]
[]
[]
[null,null,null,null,null,null,null,null,null,null,null,null,null,null,null,null,null,{"$f":"IF(R163=\"\",\"\",R163)","v":""},null,{"$f":"IF(T163=\"\",\"\",T163)","v":""},null,{"$f":"IF(V163=\"\",\"\",V163)","v":""},null,{"$f":"IF(X163=\"\",\"\",X163)","v":""},null,{"$f":"IF(Z163=\"\",\"\",Z163)","v":""},null,{"$f":"IF(AB163=\"\",\"\",AB163)","v":""},null,{"$f":"IF(AD163=\"\",\"\",AD163)","v":""},null,{"$f":"IF(AF163=\"\",\"\",AF163)","v":""},null,{"$f":"IF(AH163=\"\",\"\",AH163)","v":""},null,{"$f":"IF(AJ163=\"\",\"\",AJ163)","v":""},null,{"$f":"IF(AL163=\"\",\"\",AL163)","v":""},null,null,{"$f":"IF(AO163=\"\",\"\",AO163)","v":""},null,null,{"$f":"IF(AR163=\"\",\"\",AR163)","v":""},null,null,null,null,{"$f":"IF(AW163=\"\",\"\",AW163)","v":""}]
[]
[]
[]
[null,null,null,null,null,null,null,null,null,null,null,null,null,null,null,null,null,{"$f":"IF(R167=\"\",\"\",R167)","v":""},null,{"$f":"IF(T167=\"\",\"\",T167)","v":""},null,{"$f":"IF(V167=\"\",\"\",V167)","v":""},null,{"$f":"IF(X167=\"\",\"\",X167)","v":""},null,{"$f":"IF(Z167=\"\",\"\",Z167)","v":""},null,{"$f":"IF(AB167=\"\",\"\",AB167)","v":""},null,{"$f":"IF(AD167=\"\",\"\",AD167)","v":""},null,{"$f":"IF(AF167=\"\",\"\",AF167)","v":""},null,{"$f":"IF(AH167=\"\",\"\",AH167)","v":""},null,{"$f":"IF(AJ167=\"\",\"\",AJ167)","v":""},null,{"$f":"IF(AL167=\"\",\"\",AL167)","v":""},null,null,{"$f":"IF(AO167=\"\",\"\",AO167)","v":""},null,null,{"$f":"IF(AR167=\"\",\"\",AR167)","v":""},null,null,null,null,{"$f":"IF(AW167=\"\",\"\",AW167)","v":""}]
[]
[]
[]
[null,null,null,null,null,null,null,null,null,null,null,null,null,null,null,null,null,{"$f":"IF(R171=\"\",\"\",R171)","v":""},null,{"$f":"IF(T171=\"\",\"\",T171)","v":""},null,{"$f":"IF(V171=\"\",\"\",V171)","v":""},null,{"$f":"IF(X171=\"\",\"\",X171)","v":""},null,{"$f":"IF(Z171=\"\",\"\",Z171)","v":""},null,{"$f":"IF(AB171=\"\",\"\",AB171)","v":""},null,{"$f":"IF(AD171=\"\",\"\",AD171)","v":""},null,{"$f":"IF(AF171=\"\",\"\",AF171)","v":""},null,{"$f":"IF(AH171=\"\",\"\",AH171)","v":""},null,{"$f":"IF(AJ171=\"\",\"\",AJ171)","v":""},null,{"$f":"IF(AL171=\"\",\"\",AL171)","v":""},null,null,{"$f":"IF(AO171=\"\",\"\",AO171)","v":""},null,null,{"$f":"IF(AR171=\"\",\"\",AR171)","v":""},null,null,null,null,{"$f":"IF(AW171=\"\",\"\",AW171)","v":""}]
[]
[]
[]
[null,null,null,null,null,null,null,null,null,null,null,null,null,null,null,null,null,null,null,null,null,null,null,null,null,null,null,null,null,null,null,null,null,null,null,null,null,"値引き等",null,null,null,null,null,null,null,null,null,null,{"$f":"IF(AW175=\"\",\"\",AW175)","v":""}]
[]
[]
[]
[]
[null,null,null,null,null,null,null,null,null,null,null,null,null,null,null,null,null,null,null,null,null,null,null,null,null,null,null,null,null,null,null,null,null,null,null,null,null,{"$f":"\"合計(\" & IF(税処理=2,\"税込\",\"税抜\")&\")\"","v":"合計(税抜)"},null,null,null,null,null,null,null,null,null,null,{"$f":"IF(AW180=\"\",\"\",AW180)","v":""}]

{"sheet":"細1-9","index":11,"n_rows":272,"n_cols":53,"rows_kept":272,"cut":false,"hidden":false,"merged":[[3,46,5,48],[3,49,5,51],[3,52,5,54],[8,37,11,40],[8,41,11,54],[3,41,5,45],[1,19,4,32],[2,1,5,11],[2,12,5,13],[8,1,11,5],[8,6,11,11],[8,12,11,15],[8,16,11,35],[14,43,17,47],[14,48,17,54],[14,1,17,5],[14,6,17,15],[14,17,17,20],[14,21,17,36],[18,1,21,5],[18,6,21,15],[18,17,21,18],[18,19,21,20],[14,37,17,39],[14,40,17,42],[18,21,21,36],[18,37,21,39],[18,40,21,42],[18,43,21,47],[26,1,29,5],[26,6,29,15],[26,17,29,18],[26,19,29,20],[18,48,21,54],[22,1,25,5],[22,6,25,15],[22,17,25,18],[22,19,25,20],[22,21,25,36],[26,21,29,36],[26,37,29,39],[26,40,29,42],[26,43,29,47],[22,37,25,39],[22,40,25,42],[22,43,25,47],[34,48,37,54],[26,48,29,54],[30,1,33,3],[30,4,33,5],[30,6,33,15],[30,17,33,18],[30,19,33,20],[22,48,25,54],[38,17,41,18],[38,19,41,20],[38,21,41,36],[38,37,41,39],[30,48,33,54],[34,1,37,5],[34,6,37,15],[34,17,37,18],[34,19,37,20],[34,21,37,36],[38,40,41,42],[38,43,41,47],[38,48,41,54],[30,21,33,36],[30,37,33,39],[30,40,33,42],[30,43,33,47],[34,37,37,39],[34,40,37,42],[34,43,37,47],[46,40,49,42],[46,43,49,47],[46,21,49,36],[46,37,49,39],[54,40,57,42],[54,43,57,47],[42,17,45,18],[42,19,45,20],[42,21,45,36],[42,37,45,39],[42,40,45,42],[42,43,45,47],[42,48,45,54],[46,48,49,54],[50,17,53,18],[50,19,53,20],[50,21,53,36],[50,37,53,39],[50,40,53,42],[50,43,53,47],[50,48,53,54],[46,17,49,18],[46,19,49,20],[58,17,61,18],[58,19,61,20],[58,21,61,36],[58,37,61,39],[58,40,61,42],[58,43,61,47],[58,48,61,54],[54,17,57,18],[54,19,57,20],[54,21,57,36],[54,37,57,39],[54,48,57,54],[62,40,65,42],[62,43,65,47],[62,21,65,36],[62,37,65,39],[70,40,73,42],[70,43,73,47],[70,48,73,54],[62,48,65,54],[66,17,69,18],[66,19,69,20],[66,21,69,36],[66,37,69,39],[66,40,69,42],[66,43,69,47],[66,48,69,54],[62,17,65,18],[62,19,65,20],[74,17,77,18],[74,19,77,20],[74,21,77,36],[74,37,77,39],[74,40,77,42],[74,43,77,47],[74,48,77,54],[70,17,73,18],[70,19,73,20],[70,21,73,36],[70,37,73,39],[78,48,81,54],[82,37,85,47],[82,48,85,54],[78,37,81,39],[78,40,81,42],[85,11,90,16],[85,17,90,25],[78,43,81,47],[83,26,84,30],[83,31,84,35],[78,17,81,18],[78,19,81,20],[78,21,81,36],[85,26,90,30],[85,31,90,35],[83,1,84,4],[83,5,84,10],[87,37,90,47],[83,11,84,16],[83,17,84,25],[95,46,97,48],[85,1,90,4],[85,5,90,10],[87,48,90,54],[95,49,97,51],[95,52,97,54],[100,1,103,5],[100,6,103,11],[100,12,103,15],[100,16,103,35],[100,37,103,40],[100,41,103,54],[93,19,96,32],[94,1,97,11],[94,12,97,13],[95,41,97,45],[106,37,109,39],[106,40,109,42],[106,43,109,47],[106,48,109,54],[106,1,109,5],[106,6,109,15],[106,17,109,20],[106,21,109,36],[110,21,113,36],[110,37,113,39],[110,40,113,42],[110,43,113,47],[110,1,113,5],[110,6,113,15],[110,17,113,18],[110,19,113,20],[110,48,113,54],[114,1,117,5],[114,6,117,15],[114,17,117,18],[114,19,117,20],[114,21,117,36],[114,37,117,39],[114,40,117,42],[114,43,117,47],[114,48,117,54],[118,21,121,36],[118,37,121,39],[118,40,121,42],[118,43,121,47],[118,1,121,5],[118,6,121,15],[118,17,121,18],[118,19,121,20],[118,48,121,54],[122,48,125,54],[126,1,129,5],[126,6,129,15],[126,17,129,18],[126,19,129,20],[126,21,129,36],[126,37,129,39],[126,40,129,42],[126,43,129,47],[126,48,129,54],[122,1,125,3],[122,4,125,5],[122,6,125,15],[122,17,125,18],[122,19,125,20],[122,21,125,36],[122,37,125,39],[122,40,125,42],[122,43,125,47],[130,40,133,42],[130,43,133,47],[130,21,133,36],[130,37,133,39],[138,40,141,42],[138,43,141,47],[138,48,141,54],[130,48,133,54],[134,17,137,18],[134,19,137,20],[134,21,137,36],[134,37,137,39],[134,40,137,42],[134,43,137,47],[134,48,137,54],[130,17,133,18],[130,19,133,20],[142,17,145,18],[142,19,145,20],[142,21,145,36],[142,37,145,39],[142,40,145,42],[142,43,145,47],[142,48,145,54],[138,17,141,18],[138,19,141,20],[138,21,141,36],[138,37,141,39],[154,48,157,54],[146,48,149,54],[150,17,153,18],[150,19,153,20],[150,21,153,36],[150,37,153,39],[150,40,153,42],[150,43,153,47],[150,48,153,54],[146,17,149,18],[146,19,149,20],[154,17,157,18],[154,19,157,20],[154,21,157,36],[154,37,157,39],[146,40,149,42],[146,43,149,47],[146,21,149,36],[146,37,149,39],[154,40,157,42],[154,43,157,47],[170,48,173,54],[174,37,177,47],[174,48,177,54],[170,17,173,18],[170,19,173,20],[158,17,161,18],[158,19,161,20],[158,21,161,36],[158,37,161,39],[158,40,161,42],[158,43,161,47],[158,48,161,54],[170,21,173,36],[170,37,173,39],[179,48,182,54],[185,19,188,32],[186,1,189,11],[186,12,189,13],[187,41,189,45],[192,37,195,40],[192,41,195,54],[162,40,165,42],[162,43,165,47],[162,21,165,36],[162,37,165,39],[187,46,189,48],[162,48,165,54],[166,17,169,18],[166,19,169,20],[166,21,169,36],[166,37,169,39],[166,40,169,42],[166,43,169,47],[166,48,169,54],[162,17,165,18],[162,19,165,20],[187,49,189,51],[187,52,189,54],[179,37,182,47],[170,40,173,42],[170,43,173,47],[198,48,201,54],[202,21,205,36],[202,37,205,39],[202,40,205,42],[202,43,205,47],[202,1,205,5],[202,6,205,15],[202,17,205,18],[202,19,205,20],[202,48,205,54],[198,1,201,5],[198,6,201,15],[198,17,201,20],[198,21,201,36],[198,37,201,39],[198,40,201,42],[198,43,201,47],[192,1,195,5],[192,6,195,11],[192,12,195,15],[192,16,195,35],[206,1,209,5],[206,6,209,15],[206,17,209,18],[206,19,209,20],[206,21,209,36],[206,37,209,39],[206,40,209,42],[206,43,209,47],[206,48,209,54],[210,21,213,36],[210,37,213,39],[210,40,213,42],[210,43,213,47],[210,1,213,5],[210,6,213,15],[210,17,213,18],[210,19,213,20],[210,48,213,54],[214,48,217,54],[218,1,221,5],[218,6,221,15],[218,17,221,18],[218,19,221,20],[218,21,221,36],[218,37,221,39],[218,40,221,42],[218,43,221,47],[218,48,221,54],[214,1,217,3],[214,4,217,5],[214,6,217,15],[214,17,217,18],[214,19,217,20],[214,21,217,36],[214,37,217,39],[214,40,217,42],[214,43,217,47],[222,40,225,42],[222,43,225,47],[222,21,225,36],[222,37,225,39],[230,40,233,42],[230,43,233,47],[230,48,233,54],[222,48,225,54],[226,17,229,18],[226,19,229,20],[226,21,229,36],[226,37,229,39],[226,40,229,42],[226,43,229,47],[226,48,229,54],[222,17,225,18],[222,19,225,20],[234,17,237,18],[234,19,237,20],[234,21,237,36],[234,37,237,39],[234,40,237,42],[234,43,237,47],[234,48,237,54],[230,17,233,18],[230,19,233,20],[230,21,233,36],[230,37,233,39],[242,17,245,18],[242,19,245,20],[242,21,245,36],[242,37,245,39],[242,40,245,42],[242,43,245,47],[242,48,245,54],[238,17,241,18],[238,19,241,20],[254,37,257,39],[238,40,241,42],[238,43,241,47],[238,21,241,36],[238,37,241,39],[246,40,249,42],[246,43,249,47],[246,48,249,54],[238,48,241,54],[250,17,253,18],[250,19,253,20],[250,21,253,36],[250,37,253,39],[250,40,253,42],[250,43,253,47],[250,48,253,54],[246,17,249,18],[246,19,249,20],[246,21,249,36],[246,37,249,39],[271,37,274,47],[254,48,257,54],[258,17,261,18],[258,19,261,20],[258,21,261,36],[258,37,261,39],[258,40,261,42],[258,43,261,47],[258,48,261,54],[254,17,257,18],[254,19,257,20],[271,48,274,54],[262,40,265,42],[262,43,265,47],[262,48,265,54],[266,37,269,47],[266,48,269,54],[262,17,265,18],[262,19,265,20],[262,21,265,36],[262,37,265,39],[254,40,257,42],[254,43,257,47],[254,21,257,36]]}
[]
[null,null,null,null,null,null,null,null,null,null,null,null,null,null,null,null,null,null,null,"請求書明細書 (正)"]
[null,"株 式 会 社 種 村 建 設",null,null,null,null,null,null,null,null,null,null,"御中"]
[null,null,null,null,null,null,null,null,null,null,null,null,null,null,null,null,null,null,null,null,null,null,null,null,null,null,null,null,null,null,null,null,null,null,null,null,null,null,null,null,null,"請求年月日",null,null,null,null,{"$f":"年","v":23},null,null,{"$f":"月","v":5},null,null,{"$f":"日","v":31}]
[]
[]
[]
[]
[null,"工事番号",null,null,null,null,null,null,null,null,null,null,"工事名",null,null,null,null,null,null,null,null,null,null,null,null,null,null,null,null,null,null,null,null,null,null,null,null,"業者名",null,null,null,{"$f":"社名","v":"例：㈱種村建設"}]
[]
[]
[]
[]
[]
[null,"注文番号",null,null,null,null,null,null,null,null,null,null,null,null,null,null,null,"月　日",null,null,null,"摘要･品名",null,null,null,null,null,null,null,null,null,null,null,null,null,null,null,"数 量",null,null,"単位",null,null,"単価",null,null,null,null,{"$f":"\"金額(\" & IF(税処理=2,\"税込\",\"税抜\")&\")\"","v":"金額(税抜)"}]
[]
[]
[]
[null,"契約金額",null,null,null,null,null,null,null,null,null,null,null,null,null,null,null,null,null,null,null,null,null,null,null,null,null,null,null,null,null,null,null,null,null,null,null,null,null,null,null,null,null,null,null,null,null,null,{"$f":"IF(V19=\"\",\"\",AL19*AR19)","v":""}]
[]
[]
[]
[null,"増減額",null,null,null,null,null,null,null,null,null,null,null,null,null,null,null,null,null,null,null,null,null,null,null,null,null,null,null,null,null,null,null,null,null,null,null,null,null,null,null,null,null,null,null,null,null,null,{"$f":"IF(V23=\"\",\"\",AL23*AR23)","v":""}]
[]
[]
[]
[null,"前回までの\n請求額",null,null,null,null,null,null,null,null,null,null,null,null,null,null,null,null,null,null,null,null,null,null,null,null,null,null,null,null,null,null,null,null,null,null,null,null,null,null,null,null,null,null,null,null,null,null,{"$f":"IF(V27=\"\",\"\",AL27*AR27)","v":""}]
[]
[]
[]
[null,"今回\n請求額",null,null,null,null,null,null,null,null,null,null,null,null,null,null,null,null,null,null,null,null,null,null,null,null,null,null,null,null,null,null,null,null,null,null,null,null,null,null,null,null,null,null,null,null,null,null,{"$f":"IF(V31=\"\",\"\",AL31*AR31)","v":""}]
[]
[]
[]
[null,"差引残高",null,null,null,null,{"$f":"IF(G19=\"\",\"\",G19+G23-G27-G31)","v":""},null,null,null,null,null,null,null,null,null,null,null,null,null,null,null,null,null,null,null,null,null,null,null,null,null,null,null,null,null,null,null,null,null,null,null,null,null,null,null,null,null,{"$f":"IF(V35=\"\",\"\",AL35*AR35)","v":""}]
[]
[]
[]
[null,null,null,null,null,null,null,null,null,null,null,null,null,null,null,null,null,null,null,null,null,null,null,null,null,null,null,null,null,null,null,null,null,null,null,null,null,null,null,null,null,null,null,null,null,null,null,null,{"$f":"IF(V39=\"\",\"\",AL39*AR39)","v":""}]
[]
[]
[]
[null,null,null,null,null,null,null,null,null,null,null,null,null,null,null,null,null,null,null,null,null,null,null,null,null,null,null,null,null,null,null,null,null,null,null,null,null,null,null,null,null,null,null,null,null,null,null,null,{"$f":"IF(V43=\"\",\"\",AL43*AR43)","v":""}]
[]
[]
[]
[null,null,null,null,null,null,null,null,null,null,null,null,null,null,null,null,null,null,null,null,null,null,null,null,null,null,null,null,null,null,null,null,null,null,null,null,null,null,null,null,null,null,null,null,null,null,null,null,{"$f":"IF(V47=\"\",\"\",AL47*AR47)","v":""}]
[]
[]
[]
[null,null,null,null,null,null,null,null,null,null,null,null,null,null,null,null,null,null,null,null,null,null,null,null,null,null,null,null,null,null,null,null,null,null,null,null,null,null,null,null,null,null,null,null,null,null,null,null,{"$f":"IF(V51=\"\",\"\",AL51*AR51)","v":""}]
[]
[]
[]
[null,null,null,null,null,null,null,null,null,null,null,null,null,null,null,null,null,null,null,null,null,null,null,null,null,null,null,null,null,null,null,null,null,null,null,null,null,null,null,null,null,null,null,null,null,null,null,null,{"$f":"IF(V55=\"\",\"\",AL55*AR55)","v":""}]
[]
[]
[]
[null,null,null,null,null,null,null,null,null,null,null,null,null,null,null,null,null,null,null,null,null,null,null,null,null,null,null,null,null,null,null,null,null,null,null,null,null,null,null,null,null,null,null,null,null,null,null,null,{"$f":"IF(V59=\"\",\"\",AL59*AR59)","v":""}]
[]
[]
[]
[null,null,null,null,null,null,null,null,null,null,null,null,null,null,null,null,null,null,null,null,null,null,null,null,null,null,null,null,null,null,null,null,null,null,null,null,null,null,null,null,null,null,null,null,null,null,null,null,{"$f":"IF(V63=\"\",\"\",AL63*AR63)","v":""}]
[]
[]
[]
[null,null,null,null,null,null,null,null,null,null,null,null,null,null,null,null,null,null,null,null,null,null,null,null,null,null,null,null,null,null,null,null,null,null,null,null,null,null,null,null,null,null,null,null,null,null,null,null,{"$f":"IF(V67=\"\",\"\",AL67*AR67)","v":""}]
[]
[]
[]
[null,null,null,null,null,null,null,null,null,null,null,null,null,null,null,null,null,null,null,null,null,null,null,null,null,null,null,null,null,null,null,null,null,null,null,null,null,null,null,null,null,null,null,null,null,null,null,null,{"$f":"IF(V71=\"\",\"\",AL71*AR71)","v":""}]
[]
[]
[]
[null,null,null,null,null,null,null,null,null,null,null,null,null,null,null,null,null,null,null,null,null,null,null,null,null,null,null,null,null,null,null,null,null,null,null,null,null,null,null,null,null,null,null,null,null,null,null,null,{"$f":"IF(V75=\"\",\"\",AL75*AR75)","v":""}]
[]
[]
[]
[null,null,null,null,null,null,null,null,null,null,null,null,null,null,null,null,null,null,null,null,null,null,null,null,null,null,null,null,null,null,null,null,null,null,null,null,null,null,null,null,null,null,null,null,null,null,null,null,{"$f":"IF(V79=\"\",\"\",AL79*AR79)","v":""}]
[]
[]
[]
[null,null,null,null,null,null,null,null,null,null,null,null,null,null,null,null,null,null,null,null,null,null,null,null,null,null,null,null,null,null,null,null,null,null,null,null,null,"値引き等"]
[null,"社長",null,null,null,"専務",null,null,null,null,null,"常務",null,null,null,null,null,"部長･工場長",null,null,null,null,null,null,null,null,"担当者",null,null,null,null,"受付"]
[]
[]
[]
[null,null,null,null,null,null,null,null,null,null,null,null,null,null,null,null,null,null,null,null,null,null,null,null,null,null,null,null,null,null,null,null,null,null,null,null,null,{"$f":"\"合計(\" & IF(税処理=2,\"税込\",\"税抜\")&\")\"","v":"合計(税抜)"},null,null,null,null,null,null,null,null,null,null,{"$f":"IF(AW19=\"\",\"\",SUM(AW19:AW79)+AW83)","v":""}]
[]
[]
[]
[]
[]
[null,null,null,null,null,null,null,null,null,null,null,null,null,null,null,null,null,null,null,"請求明細書 (現場控)"]
[null,"株 式 会 社 種 村 建 設",null,null,null,null,null,null,null,null,null,null,"御中"]
[null,null,null,null,null,null,null,null,null,null,null,null,null,null,null,null,null,null,null,null,null,null,null,null,null,null,null,null,null,null,null,null,null,null,null,null,null,null,null,null,null,"請求年月日",null,null,null,null,{"$f":"IF(AU4=\"\",\"\",AU4)","v":23},null,null,{"$f":"IF(AX4=\"\",\"\",AX4)","v":5},null,null,{"$f":"IF(BA4=\"\",\"\",BA4)","v":31}]
[]
[]
[]
[]
[null,"工事番号",null,null,null,null,{"$f":"IF(G9=\"\",\"\",G9)","v":""},null,null,null,null,null,"工事名",null,null,null,{"$f":"IF(Q9=\"\",\"\",Q9)","v":""},null,null,null,null,null,null,null,null,null,null,null,null,null,null,null,null,null,null,null,null,"業者名",null,null,null,{"$f":"IF(AP9=\"\",\"\",AP9)","v":"例：㈱種村建設"}]
[]
[]
[]
[]
[]
[null,"注文番号",null,null,null,null,{"$f":"IF(G15=\"\",\"\",G15)","v":""},null,null,null,null,null,null,null,null,null,null,"月　日",null,null,null,"摘要･品名",null,null,null,null,null,null,null,null,null,null,null,null,null,null,null,"数 量",null,null,"単位",null,null,"単価",null,null,null,null,{"$f":"\"金額(\" & IF(税処理=2,\"税込\",\"税抜\")&\")\"","v":"金額(税抜)"}]
[]
[]
[]
[null,"契約金額",null,null,null,null,{"$f":"IF(G19=\"\",\"\",G19)","v":""},null,null,null,null,null,null,null,null,null,null,{"$f":"IF(R19=\"\",\"\",R19)","v":""},null,{"$f":"IF(T19=\"\",\"\",T19)","v":""},null,{"$f":"IF(V19=\"\",\"\",V19)","v":""},null,{"$f":"IF(X19=\"\",\"\",X19)","v":""},null,{"$f":"IF(Z19=\"\",\"\",Z19)","v":""},null,{"$f":"IF(AB19=\"\",\"\",AB19)","v":""},null,{"$f":"IF(AD19=\"\",\"\",AD19)","v":""},null,{"$f":"IF(AF19=\"\",\"\",AF19)","v":""},null,{"$f":"IF(AH19=\"\",\"\",AH19)","v":""},null,{"$f":"IF(AJ19=\"\",\"\",AJ19)","v":""},null,{"$f":"IF(AL19=\"\",\"\",AL19)","v":""},null,null,{"$f":"IF(AO19=\"\",\"\",AO19)","v":""},null,null,{"$f":"IF(AR19=\"\",\"\",AR19)","v":""},null,null,null,null,{"$f":"IF(AW19=\"\",\"\",AW19)","v":""}]
[]
[]
[]
[null,"増減額",null,null,null,null,{"$f":"IF(G23=\"\",\"\",G23)","v":""},null,null,null,null,null,null,null,null,null,null,{"$f":"IF(R23=\"\",\"\",R23)","v":""},null,{"$f":"IF(T23=\"\",\"\",T23)","v":""},null,{"$f":"IF(V23=\"\",\"\",V23)","v":""},null,{"$f":"IF(X23=\"\",\"\",X23)","v":""},null,{"$f":"IF(Z23=\"\",\"\",Z23)","v":""},null,{"$f":"IF(AB23=\"\",\"\",AB23)","v":""},null,{"$f":"IF(AD23=\"\",\"\",AD23)","v":""},null,{"$f":"IF(AF23=\"\",\"\",AF23)","v":""},null,{"$f":"IF(AH23=\"\",\"\",AH23)","v":""},null,{"$f":"IF(AJ23=\"\",\"\",AJ23)","v":""},null,{"$f":"IF(AL23=\"\",\"\",AL23)","v":""},null,null,{"$f":"IF(AO23=\"\",\"\",AO23)","v":""},null,null,{"$f":"IF(AR23=\"\",\"\",AR23)","v":""},null,null,null,null,{"$f":"IF(AW23=\"\",\"\",AW23)","v":""}]
[]
[]
[]
[null,"前回までの\n請求額",null,null,null,null,{"$f":"IF(G27=\"\",\"\",G27)","v":""},null,null,null,null,null,null,null,null,null,null,{"$f":"IF(R27=\"\",\"\",R27)","v":""},null,{"$f":"IF(T27=\"\",\"\",T27)","v":""},null,{"$f":"IF(V27=\"\",\"\",V27)","v":""},null,{"$f":"IF(X27=\"\",\"\",X27)","v":""},null,{"$f":"IF(Z27=\"\",\"\",Z27)","v":""},null,{"$f":"IF(AB27=\"\",\"\",AB27)","v":""},null,{"$f":"IF(AD27=\"\",\"\",AD27)","v":""},null,{"$f":"IF(AF27=\"\",\"\",AF27)","v":""},null,{"$f":"IF(AH27=\"\",\"\",AH27)","v":""},null,{"$f":"IF(AJ27=\"\",\"\",AJ27)","v":""},null,{"$f":"IF(AL27=\"\",\"\",AL27)","v":""},null,null,{"$f":"IF(AO27=\"\",\"\",AO27)","v":""},null,null,{"$f":"IF(AR27=\"\",\"\",AR27)","v":""},null,null,null,null,{"$f":"IF(AW27=\"\",\"\",AW27)","v":""}]
[]
[]
[]
[null,"今回\n請求額",null,null,{"$f":"IF(E31=\"\",\"\",E31)","v":""},null,{"$f":"IF(G31=\"\",\"\",G31)","v":""},null,null,null,null,null,null,null,null,null,null,{"$f":"IF(R31=\"\",\"\",R31)","v":""},null,{"$f":"IF(T31=\"\",\"\",T31)","v":""},null,{"$f":"IF(V31=\"\",\"\",V31)","v":""},null,{"$f":"IF(X31=\"\",\"\",X31)","v":""},null,{"$f":"IF(Z31=\"\",\"\",Z31)","v":""},null,{"$f":"IF(AB31=\"\",\"\",AB31)","v":""},null,{"$f":"IF(AD31=\"\",\"\",AD31)","v":""},null,{"$f":"IF(AF31=\"\",\"\",AF31)","v":""},null,{"$f":"IF(AH31=\"\",\"\",AH31)","v":""},null,{"$f":"IF(AJ31=\"\",\"\",AJ31)","v":""},null,{"$f":"IF(AL31=\"\",\"\",AL31)","v":""},null,null,{"$f":"IF(AO31=\"\",\"\",AO31)","v":""},null,null,{"$f":"IF(AR31=\"\",\"\",AR31)","v":""},null,null,null,null,{"$f":"IF(AW31=\"\",\"\",AW31)","v":""}]
[]
[]
[]
[null,"差引残高",null,null,null,null,{"$f":"IF(G111=\"\",\"\",G111+G115-G119-G123)","v":""},null,null,null,null,null,null,null,null,null,null,{"$f":"IF(R35=\"\",\"\",R35)","v":""},null,{"$f":"IF(T35=\"\",\"\",T35)","v":""},null,{"$f":"IF(V35=\"\",\"\",V35)","v":""},null,{"$f":"IF(X35=\"\",\"\",X35)","v":""},null,{"$f":"IF(Z35=\"\",\"\",Z35)","v":""},null,{"$f":"IF(AB35=\"\",\"\",AB35)","v":""},null,{"$f":"IF(AD35=\"\",\"\",AD35)","v":""},null,{"$f":"IF(AF35=\"\",\"\",AF35)","v":""},null,{"$f":"IF(AH35=\"\",\"\",AH35)","v":""},null,{"$f":"IF(AJ35=\"\",\"\",AJ35)","v":""},null,{"$f":"IF(AL35=\"\",\"\",AL35)","v":""},null,null,{"$f":"IF(AO35=\"\",\"\",AO35)","v":""},null,null,{"$f":"IF(AR35=\"\",\"\",AR35)","v":""},null,null,null,null,{"$f":"IF(AW35=\"\",\"\",AW35)","v":""}]
[]
[]
[]
[null,null,null,null,null,null,null,null,null,null,null,null,null,null,null,null,null,{"$f":"IF(R39=\"\",\"\",R39)","v":""},null,{"$f":"IF(T39=\"\",\"\",T39)","v":""},null,{"$f":"IF(V39=\"\",\"\",V39)","v":""},null,{"$f":"IF(X39=\"\",\"\",X39)","v":""},null,{"$f":"IF(Z39=\"\",\"\",Z39)","v":""},null,{"$f":"IF(AB39=\"\",\"\",AB39)","v":""},null,{"$f":"IF(AD39=\"\",\"\",AD39)","v":""},null,{"$f":"IF(AF39=\"\",\"\",AF39)","v":""},null,{"$f":"IF(AH39=\"\",\"\",AH39)","v":""},null,{"$f":"IF(AJ39=\"\",\"\",AJ39)","v":""},null,{"$f":"IF(AL39=\"\",\"\",AL39)","v":""},null,null,{"$f":"IF(AO39=\"\",\"\",AO39)","v":""},null,null,{"$f":"IF(AR39=\"\",\"\",AR39)","v":""},null,null,null,null,{"$f":"IF(AW39=\"\",\"\",AW39)","v":""}]
[]
[]
[]
[null,null,null,null,null,null,null,null,null,null,null,null,null,null,null,null,null,{"$f":"IF(R43=\"\",\"\",R43)","v":""},null,{"$f":"IF(T43=\"\",\"\",T43)","v":""},null,{"$f":"IF(V43=\"\",\"\",V43)","v":""},null,{"$f":"IF(X43=\"\",\"\",X43)","v":""},null,{"$f":"IF(Z43=\"\",\"\",Z43)","v":""},null,{"$f":"IF(AB43=\"\",\"\",AB43)","v":""},null,{"$f":"IF(AD43=\"\",\"\",AD43)","v":""},null,{"$f":"IF(AF43=\"\",\"\",AF43)","v":""},null,{"$f":"IF(AH43=\"\",\"\",AH43)","v":""},null,{"$f":"IF(AJ43=\"\",\"\",AJ43)","v":""},null,{"$f":"IF(AL43=\"\",\"\",AL43)","v":""},null,null,{"$f":"IF(AO43=\"\",\"\",AO43)","v":""},null,null,{"$f":"IF(AR43=\"\",\"\",AR43)","v":""},null,null,null,null,{"$f":"IF(AW43=\"\",\"\",AW43)","v":""}]
[]
[]
[]
[null,null,null,null,null,null,null,null,null,null,null,null,null,null,null,null,null,{"$f":"IF(R47=\"\",\"\",R47)","v":""},null,{"$f":"IF(T47=\"\",\"\",T47)","v":""},null,{"$f":"IF(V47=\"\",\"\",V47)","v":""},null,{"$f":"IF(X47=\"\",\"\",X47)","v":""},null,{"$f":"IF(Z47=\"\",\"\",Z47)","v":""},null,{"$f":"IF(AB47=\"\",\"\",AB47)","v":""},null,{"$f":"IF(AD47=\"\",\"\",AD47)","v":""},null,{"$f":"IF(AF47=\"\",\"\",AF47)","v":""},null,{"$f":"IF(AH47=\"\",\"\",AH47)","v":""},null,{"$f":"IF(AJ47=\"\",\"\",AJ47)","v":""},null,{"$f":"IF(AL47=\"\",\"\",AL47)","v":""},null,null,{"$f":"IF(AO47=\"\",\"\",AO47)","v":""},null,null,{"$f":"IF(AR47=\"\",\"\",AR47)","v":""},null,null,null,null,{"$f":"IF(AW47=\"\",\"\",AW47)","v":""}]
[]
[]
[]
[null,null,null,null,null,null,null,null,null,null,null,null,null,null,null,null,null,{"$f":"IF(R51=\"\",\"\",R51)","v":""},null,{"$f":"IF(T51=\"\",\"\",T51)","v":""},null,{"$f":"IF(V51=\"\",\"\",V51)","v":""},null,{"$f":"IF(X51=\"\",\"\",X51)","v":""},null,{"$f":"IF(Z51=\"\",\"\",Z51)","v":""},null,{"$f":"IF(AB51=\"\",\"\",AB51)","v":""},null,{"$f":"IF(AD51=\"\",\"\",AD51)","v":""},null,{"$f":"IF(AF51=\"\",\"\",AF51)","v":""},null,{"$f":"IF(AH51=\"\",\"\",AH51)","v":""},null,{"$f":"IF(AJ51=\"\",\"\",AJ51)","v":""},null,{"$f":"IF(AL51=\"\",\"\",AL51)","v":""},null,null,{"$f":"IF(AO51=\"\",\"\",AO51)","v":""},null,null,{"$f":"IF(AR51=\"\",\"\",AR51)","v":""},null,null,null,null,{"$f":"IF(AW51=\"\",\"\",AW51)","v":""}]
[]
[]
[]
[null,null,null,null,null,null,null,null,null,null,null,null,null,null,null,null,null,{"$f":"IF(R55=\"\",\"\",R55)","v":""},null,{"$f":"IF(T55=\"\",\"\",T55)","v":""},null,{"$f":"IF(V55=\"\",\"\",V55)","v":""},null,{"$f":"IF(X55=\"\",\"\",X55)","v":""},null,{"$f":"IF(Z55=\"\",\"\",Z55)","v":""},null,{"$f":"IF(AB55=\"\",\"\",AB55)","v":""},null,{"$f":"IF(AD55=\"\",\"\",AD55)","v":""},null,{"$f":"IF(AF55=\"\",\"\",AF55)","v":""},null,{"$f":"IF(AH55=\"\",\"\",AH55)","v":""},null,{"$f":"IF(AJ55=\"\",\"\",AJ55)","v":""},null,{"$f":"IF(AL55=\"\",\"\",AL55)","v":""},null,null,{"$f":"IF(AO55=\"\",\"\",AO55)","v":""},null,null,{"$f":"IF(AR55=\"\",\"\",AR55)","v":""},null,null,null,null,{"$f":"IF(AW55=\"\",\"\",AW55)","v":""}]
[]
[]
[]
[null,null,null,null,null,null,null,null,null,null,null,null,null,null,null,null,null,{"$f":"IF(R59=\"\",\"\",R59)","v":""},null,{"$f":"IF(T59=\"\",\"\",T59)","v":""},null,{"$f":"IF(V59=\"\",\"\",V59)","v":""},null,{"$f":"IF(X59=\"\",\"\",X59)","v":""},null,{"$f":"IF(Z59=\"\",\"\",Z59)","v":""},null,{"$f":"IF(AB59=\"\",\"\",AB59)","v":""},null,{"$f":"IF(AD59=\"\",\"\",AD59)","v":""},null,{"$f":"IF(AF59=\"\",\"\",AF59)","v":""},null,{"$f":"IF(AH59=\"\",\"\",AH59)","v":""},null,{"$f":"IF(AJ59=\"\",\"\",AJ59)","v":""},null,{"$f":"IF(AL59=\"\",\"\",AL59)","v":""},null,null,{"$f":"IF(AO59=\"\",\"\",AO59)","v":""},null,null,{"$f":"IF(AR59=\"\",\"\",AR59)","v":""},null,null,null,null,{"$f":"IF(AW59=\"\",\"\",AW59)","v":""}]
[]
[]
[]
[null,null,null,null,null,null,null,null,null,null,null,null,null,null,null,null,null,{"$f":"IF(R63=\"\",\"\",R63)","v":""},null,{"$f":"IF(T63=\"\",\"\",T63)","v":""},null,{"$f":"IF(V63=\"\",\"\",V63)","v":""},null,{"$f":"IF(X63=\"\",\"\",X63)","v":""},null,{"$f":"IF(Z63=\"\",\"\",Z63)","v":""},null,{"$f":"IF(AB63=\"\",\"\",AB63)","v":""},null,{"$f":"IF(AD63=\"\",\"\",AD63)","v":""},null,{"$f":"IF(AF63=\"\",\"\",AF63)","v":""},null,{"$f":"IF(AH63=\"\",\"\",AH63)","v":""},null,{"$f":"IF(AJ63=\"\",\"\",AJ63)","v":""},null,{"$f":"IF(AL63=\"\",\"\",AL63)","v":""},null,null,{"$f":"IF(AO63=\"\",\"\",AO63)","v":""},null,null,{"$f":"IF(AR63=\"\",\"\",AR63)","v":""},null,null,null,null,{"$f":"IF(AW63=\"\",\"\",AW63)","v":""}]
[]
[]
[]
[null,null,null,null,null,null,null,null,null,null,null,null,null,null,null,null,null,{"$f":"IF(R67=\"\",\"\",R67)","v":""},null,{"$f":"IF(T67=\"\",\"\",T67)","v":""},null,{"$f":"IF(V67=\"\",\"\",V67)","v":""},null,{"$f":"IF(X67=\"\",\"\",X67)","v":""},null,{"$f":"IF(Z67=\"\",\"\",Z67)","v":""},null,{"$f":"IF(AB67=\"\",\"\",AB67)","v":""},null,{"$f":"IF(AD67=\"\",\"\",AD67)","v":""},null,{"$f":"IF(AF67=\"\",\"\",AF67)","v":""},null,{"$f":"IF(AH67=\"\",\"\",AH67)","v":""},null,{"$f":"IF(AJ67=\"\",\"\",AJ67)","v":""},null,{"$f":"IF(AL67=\"\",\"\",AL67)","v":""},null,null,{"$f":"IF(AO67=\"\",\"\",AO67)","v":""},null,null,{"$f":"IF(AR67=\"\",\"\",AR67)","v":""},null,null,null,null,{"$f":"IF(AW67=\"\",\"\",AW67)","v":""}]
[]
[]
[]
[null,null,null,null,null,null,null,null,null,null,null,null,null,null,null,null,null,{"$f":"IF(R71=\"\",\"\",R71)","v":""},null,{"$f":"IF(T71=\"\",\"\",T71)","v":""},null,{"$f":"IF(V71=\"\",\"\",V71)","v":""},null,{"$f":"IF(X71=\"\",\"\",X71)","v":""},null,{"$f":"IF(Z71=\"\",\"\",Z71)","v":""},null,{"$f":"IF(AB71=\"\",\"\",AB71)","v":""},null,{"$f":"IF(AD71=\"\",\"\",AD71)","v":""},null,{"$f":"IF(AF71=\"\",\"\",AF71)","v":""},null,{"$f":"IF(AH71=\"\",\"\",AH71)","v":""},null,{"$f":"IF(AJ71=\"\",\"\",AJ71)","v":""},null,{"$f":"IF(AL71=\"\",\"\",AL71)","v":""},null,null,{"$f":"IF(AO71=\"\",\"\",AO71)","v":""},null,null,{"$f":"IF(AR71=\"\",\"\",AR71)","v":""},null,null,null,null,{"$f":"IF(AW71=\"\",\"\",AW71)","v":""}]
[]
[]
[]
[null,null,null,null,null,null,null,null,null,null,null,null,null,null,null,null,null,{"$f":"IF(R75=\"\",\"\",R75)","v":""},null,{"$f":"IF(T75=\"\",\"\",T75)","v":""},null,{"$f":"IF(V75=\"\",\"\",V75)","v":""},null,{"$f":"IF(X75=\"\",\"\",X75)","v":""},null,{"$f":"IF(Z75=\"\",\"\",Z75)","v":""},null,{"$f":"IF(AB75=\"\",\"\",AB75)","v":""},null,{"$f":"IF(AD75=\"\",\"\",AD75)","v":""},null,{"$f":"IF(AF75=\"\",\"\",AF75)","v":""},null,{"$f":"IF(AH75=\"\",\"\",AH75)","v":""},null,{"$f":"IF(AJ75=\"\",\"\",AJ75)","v":""},null,{"$f":"IF(AL75=\"\",\"\",AL75)","v":""},null,null,{"$f":"IF(AO75=\"\",\"\",AO75)","v":""},null,null,{"$f":"IF(AR75=\"\",\"\",AR75)","v":""},null,null,null,null,{"$f":"IF(AW75=\"\",\"\",AW75)","v":""}]
[]
[]
[]
[null,null,null,null,null,null,null,null,null,null,null,null,null,null,null,null,null,{"$f":"IF(R79=\"\",\"\",R79)","v":""},null,{"$f":"IF(T79=\"\",\"\",T79)","v":""},null,{"$f":"IF(V79=\"\",\"\",V79)","v":""},null,{"$f":"IF(X79=\"\",\"\",X79)","v":""},null,{"$f":"IF(Z79=\"\",\"\",Z79)","v":""},null,{"$f":"IF(AB79=\"\",\"\",AB79)","v":""},null,{"$f":"IF(AD79=\"\",\"\",AD79)","v":""},null,{"$f":"IF(AF79=\"\",\"\",AF79)","v":""},null,{"$f":"IF(AH79=\"\",\"\",AH79)","v":""},null,{"$f":"IF(AJ79=\"\",\"\",AJ79)","v":""},null,{"$f":"IF(AL79=\"\",\"\",AL79)","v":""},null,null,{"$f":"IF(AO79=\"\",\"\",AO79)","v":""},null,null,{"$f":"IF(AR79=\"\",\"\",AR79)","v":""},null,null,null,null,{"$f":"IF(AW79=\"\",\"\",AW79)","v":""}]
[]
[]
[]
[null,null,null,null,null,null,null,null,null,null,null,null,null,null,null,null,null,null,null,null,null,null,null,null,null,null,null,null,null,null,null,null,null,null,null,null,null,"値引き等",null,null,null,null,null,null,null,null,null,null,{"$f":"IF(AW83=\"\",\"\",AW83)","v":""}]
[]
[]
[]
[]
[null,null,null,null,null,null,null,null,null,null,null,null,null,null,null,null,null,null,null,null,null,null,null,null,null,null,null,null,null,null,null,null,null,null,null,null,null,{"$f":"\"合計(\" & IF(税処理=2,\"税込\",\"税抜\")&\")\"","v":"合計(税抜)"},null,null,null,null,null,null,null,null,null,null,{"$f":"IF(AW88=\"\",\"\",AW88)","v":""}]
[]
[]
[]
[]
[]
[null,null,null,null,null,null,null,null,null,null,null,null,null,null,null,null,null,null,null,"請求明細書 (貴社控)"]
[null,"株 式 会 社 種 村 建 設",null,null,null,null,null,null,null,null,null,null,"御中"]
[null,null,null,null,null,null,null,null,null,null,null,null,null,null,null,null,null,null,null,null,null,null,null,null,null,null,null,null,null,null,null,null,null,null,null,null,null,null,null,null,null,"請求年月日",null,null,null,null,{"$f":"IF(AU96=\"\",\"\",AU96)","v":23},null,null,{"$f":"IF(AX96=\"\",\"\",AX96)","v":5},null,null,{"$f":"IF(BA96=\"\",\"\",BA96)","v":31}]
[]
[]
[]
[]
[null,"工事番号",null,null,null,null,{"$f":"IF(G101=\"\",\"\",G101)","v":""},null,null,null,null,null,"工事名",null,null,null,{"$f":"IF(Q101=\"\",\"\",Q101)","v":""},null,null,null,null,null,null,null,null,null,null,null,null,null,null,null,null,null,null,null,null,"業者名",null,null,null,{"$f":"IF(AP101=\"\",\"\",AP101)","v":"例：㈱種村建設"}]
[]
[]
[]
[]
[]
[null,"注文番号",null,null,null,null,{"$f":"IF(G107=\"\",\"\",G107)","v":""},null,null,null,null,null,null,null,null,null,null,"月　日",null,null,null,"摘要･品名",null,null,null,null,null,null,null,null,null,null,null,null,null,null,null,"数 量",null,null,"単位",null,null,"単価",null,null,null,null,{"$f":"\"金額(\" & IF(税処理=2,\"税込\",\"税抜\")&\")\"","v":"金額(税抜)"}]
[]
[]
[]
[null,"契約金額",null,null,null,null,{"$f":"IF(G111=\"\",\"\",G111)","v":""},null,null,null,null,null,null,null,null,null,null,{"$f":"IF(R111=\"\",\"\",R111)","v":""},null,{"$f":"IF(T111=\"\",\"\",T111)","v":""},null,{"$f":"IF(V111=\"\",\"\",V111)","v":""},null,{"$f":"IF(X111=\"\",\"\",X111)","v":""},null,{"$f":"IF(Z111=\"\",\"\",Z111)","v":""},null,{"$f":"IF(AB111=\"\",\"\",AB111)","v":""},null,{"$f":"IF(AD111=\"\",\"\",AD111)","v":""},null,{"$f":"IF(AF111=\"\",\"\",AF111)","v":""},null,{"$f":"IF(AH111=\"\",\"\",AH111)","v":""},null,{"$f":"IF(AJ111=\"\",\"\",AJ111)","v":""},null,{"$f":"IF(AL111=\"\",\"\",AL111)","v":""},null,null,{"$f":"IF(AO111=\"\",\"\",AO111)","v":""},null,null,{"$f":"IF(AR111=\"\",\"\",AR111)","v":""},null,null,null,null,{"$f":"IF(AW111=\"\",\"\",AW111)","v":""}]
[]
[]
[]
[null,"増減額",null,null,null,null,{"$f":"IF(G115=\"\",\"\",G115)","v":""},null,null,null,null,null,null,null,null,null,null,{"$f":"IF(R115=\"\",\"\",R115)","v":""},null,{"$f":"IF(T115=\"\",\"\",T115)","v":""},null,{"$f":"IF(V115=\"\",\"\",V115)","v":""},null,{"$f":"IF(X115=\"\",\"\",X115)","v":""},null,{"$f":"IF(Z115=\"\",\"\",Z115)","v":""},null,{"$f":"IF(AB115=\"\",\"\",AB115)","v":""},null,{"$f":"IF(AD115=\"\",\"\",AD115)","v":""},null,{"$f":"IF(AF115=\"\",\"\",AF115)","v":""},null,{"$f":"IF(AH115=\"\",\"\",AH115)","v":""},null,{"$f":"IF(AJ115=\"\",\"\",AJ115)","v":""},null,{"$f":"IF(AL115=\"\",\"\",AL115)","v":""},null,null,{"$f":"IF(AO115=\"\",\"\",AO115)","v":""},null,null,{"$f":"IF(AR115=\"\",\"\",AR115)","v":""},null,null,null,null,{"$f":"IF(AW115=\"\",\"\",AW115)","v":""}]
[]
[]
[]
[null,"前回までの\n請求額",null,null,null,null,{"$f":"IF(G119=\"\",\"\",G119)","v":""},null,null,null,null,null,null,null,null,null,null,{"$f":"IF(R119=\"\",\"\",R119)","v":""},null,{"$f":"IF(T119=\"\",\"\",T119)","v":""},null,{"$f":"IF(V119=\"\",\"\",V119)","v":""},null,{"$f":"IF(X119=\"\",\"\",X119)","v":""},null,{"$f":"IF(Z119=\"\",\"\",Z119)","v":""},null,{"$f":"IF(AB119=\"\",\"\",AB119)","v":""},null,{"$f":"IF(AD119=\"\",\"\",AD119)","v":""},null,{"$f":"IF(AF119=\"\",\"\",AF119)","v":""},null,{"$f":"IF(AH119=\"\",\"\",AH119)","v":""},null,{"$f":"IF(AJ119=\"\",\"\",AJ119)","v":""},null,{"$f":"IF(AL119=\"\",\"\",AL119)","v":""},null,null,{"$f":"IF(AO119=\"\",\"\",AO119)","v":""},null,null,{"$f":"IF(AR119=\"\",\"\",AR119)","v":""},null,null,null,null,{"$f":"IF(AW119=\"\",\"\",AW119)","v":""}]
[]
[]
[]
[null,"今回\n請求額",null,null,{"$f":"IF(E31=\"\",\"\",E31)","v":""},null,{"$f":"IF(G123=\"\",\"\",G123)","v":""},null,null,null,null,null,null,null,null,null,null,{"$f":"IF(R123=\"\",\"\",R123)","v":""},null,{"$f":"IF(T123=\"\",\"\",T123)","v":""},null,{"$f":"IF(V123=\"\",\"\",V123)","v":""},null,{"$f":"IF(X123=\"\",\"\",X123)","v":""},null,{"$f":"IF(Z123=\"\",\"\",Z123)","v":""},null,{"$f":"IF(AB123=\"\",\"\",AB123)","v":""},null,{"$f":"IF(AD123=\"\",\"\",AD123)","v":""},null,{"$f":"IF(AF123=\"\",\"\",AF123)","v":""},null,{"$f":"IF(AH123=\"\",\"\",AH123)","v":""},null,{"$f":"IF(AJ123=\"\",\"\",AJ123)","v":""},null,{"$f":"IF(AL123=\"\",\"\",AL123)","v":""},null,null,{"$f":"IF(AO123=\"\",\"\",AO123)","v":""},null,null,{"$f":"IF(AR123=\"\",\"\",AR123)","v":""},null,null,null,null,{"$f":"IF(AW123=\"\",\"\",AW123)","v":""}]
[]
[]
[]
[null,"差引残高",null,null,null,null,{"$f":"IF(G203=\"\",\"\",G203+G207-G211-G215)","v":""},null,null,null,null,null,null,null,null,null,null,{"$f":"IF(R127=\"\",\"\",R127)","v":""},null,{"$f":"IF(T127=\"\",\"\",T127)","v":""},null,{"$f":"IF(V127=\"\",\"\",V127)","v":""},null,{"$f":"IF(X127=\"\",\"\",X127)","v":""},null,{"$f":"IF(Z127=\"\",\"\",Z127)","v":""},null,{"$f":"IF(AB127=\"\",\"\",AB127)","v":""},null,{"$f":"IF(AD127=\"\",\"\",AD127)","v":""},null,{"$f":"IF(AF127=\"\",\"\",AF127)","v":""},null,{"$f":"IF(AH127=\"\",\"\",AH127)","v":""},null,{"$f":"IF(AJ127=\"\",\"\",AJ127)","v":""},null,{"$f":"IF(AL127=\"\",\"\",AL127)","v":""},null,null,{"$f":"IF(AO127=\"\",\"\",AO127)","v":""},null,null,{"$f":"IF(AR127=\"\",\"\",AR127)","v":""},null,null,null,null,{"$f":"IF(AW127=\"\",\"\",AW127)","v":""}]
[]
[]
[]
[null,null,null,null,null,null,null,null,null,null,null,null,null,null,null,null,null,{"$f":"IF(R131=\"\",\"\",R131)","v":""},null,{"$f":"IF(T131=\"\",\"\",T131)","v":""},null,{"$f":"IF(V131=\"\",\"\",V131)","v":""},null,{"$f":"IF(X131=\"\",\"\",X131)","v":""},null,{"$f":"IF(Z131=\"\",\"\",Z131)","v":""},null,{"$f":"IF(AB131=\"\",\"\",AB131)","v":""},null,{"$f":"IF(AD131=\"\",\"\",AD131)","v":""},null,{"$f":"IF(AF131=\"\",\"\",AF131)","v":""},null,{"$f":"IF(AH131=\"\",\"\",AH131)","v":""},null,{"$f":"IF(AJ131=\"\",\"\",AJ131)","v":""},null,{"$f":"IF(AL131=\"\",\"\",AL131)","v":""},null,null,{"$f":"IF(AO131=\"\",\"\",AO131)","v":""},null,null,{"$f":"IF(AR131=\"\",\"\",AR131)","v":""},null,null,null,null,{"$f":"IF(AW131=\"\",\"\",AW131)","v":""}]
[]
[]
[]
[null,null,null,null,null,null,null,null,null,null,null,null,null,null,null,null,null,{"$f":"IF(R135=\"\",\"\",R135)","v":""},null,{"$f":"IF(T135=\"\",\"\",T135)","v":""},null,{"$f":"IF(V135=\"\",\"\",V135)","v":""},null,{"$f":"IF(X135=\"\",\"\",X135)","v":""},null,{"$f":"IF(Z135=\"\",\"\",Z135)","v":""},null,{"$f":"IF(AB135=\"\",\"\",AB135)","v":""},null,{"$f":"IF(AD135=\"\",\"\",AD135)","v":""},null,{"$f":"IF(AF135=\"\",\"\",AF135)","v":""},null,{"$f":"IF(AH135=\"\",\"\",AH135)","v":""},null,{"$f":"IF(AJ135=\"\",\"\",AJ135)","v":""},null,{"$f":"IF(AL135=\"\",\"\",AL135)","v":""},null,null,{"$f":"IF(AO135=\"\",\"\",AO135)","v":""},null,null,{"$f":"IF(AR135=\"\",\"\",AR135)","v":""},null,null,null,null,{"$f":"IF(AW135=\"\",\"\",AW135)","v":""}]
[]
[]
[]
[null,null,null,null,null,null,null,null,null,null,null,null,null,null,null,null,null,{"$f":"IF(R139=\"\",\"\",R139)","v":""},null,{"$f":"IF(T139=\"\",\"\",T139)","v":""},null,{"$f":"IF(V139=\"\",\"\",V139)","v":""},null,{"$f":"IF(X139=\"\",\"\",X139)","v":""},null,{"$f":"IF(Z139=\"\",\"\",Z139)","v":""},null,{"$f":"IF(AB139=\"\",\"\",AB139)","v":""},null,{"$f":"IF(AD139=\"\",\"\",AD139)","v":""},null,{"$f":"IF(AF139=\"\",\"\",AF139)","v":""},null,{"$f":"IF(AH139=\"\",\"\",AH139)","v":""},null,{"$f":"IF(AJ139=\"\",\"\",AJ139)","v":""},null,{"$f":"IF(AL139=\"\",\"\",AL139)","v":""},null,null,{"$f":"IF(AO139=\"\",\"\",AO139)","v":""},null,null,{"$f":"IF(AR139=\"\",\"\",AR139)","v":""},null,null,null,null,{"$f":"IF(AW139=\"\",\"\",AW139)","v":""}]
[]
[]
[]
[null,null,null,null,null,null,null,null,null,null,null,null,null,null,null,null,null,{"$f":"IF(R143=\"\",\"\",R143)","v":""},null,{"$f":"IF(T143=\"\",\"\",T143)","v":""},null,{"$f":"IF(V143=\"\",\"\",V143)","v":""},null,{"$f":"IF(X143=\"\",\"\",X143)","v":""},null,{"$f":"IF(Z143=\"\",\"\",Z143)","v":""},null,{"$f":"IF(AB143=\"\",\"\",AB143)","v":""},null,{"$f":"IF(AD143=\"\",\"\",AD143)","v":""},null,{"$f":"IF(AF143=\"\",\"\",AF143)","v":""},null,{"$f":"IF(AH143=\"\",\"\",AH143)","v":""},null,{"$f":"IF(AJ143=\"\",\"\",AJ143)","v":""},null,{"$f":"IF(AL143=\"\",\"\",AL143)","v":""},null,null,{"$f":"IF(AO143=\"\",\"\",AO143)","v":""},null,null,{"$f":"IF(AR143=\"\",\"\",AR143)","v":""},null,null,null,null,{"$f":"IF(AW143=\"\",\"\",AW143)","v":""}]
[]
[]
[]
[null,null,null,null,null,null,null,null,null,null,null,null,null,null,null,null,null,{"$f":"IF(R147=\"\",\"\",R147)","v":""},null,{"$f":"IF(T147=\"\",\"\",T147)","v":""},null,{"$f":"IF(V147=\"\",\"\",V147)","v":""},null,{"$f":"IF(X147=\"\",\"\",X147)","v":""},null,{"$f":"IF(Z147=\"\",\"\",Z147)","v":""},null,{"$f":"IF(AB147=\"\",\"\",AB147)","v":""},null,{"$f":"IF(AD147=\"\",\"\",AD147)","v":""},null,{"$f":"IF(AF147=\"\",\"\",AF147)","v":""},null,{"$f":"IF(AH147=\"\",\"\",AH147)","v":""},null,{"$f":"IF(AJ147=\"\",\"\",AJ147)","v":""},null,{"$f":"IF(AL147=\"\",\"\",AL147)","v":""},null,null,{"$f":"IF(AO147=\"\",\"\",AO147)","v":""},null,null,{"$f":"IF(AR147=\"\",\"\",AR147)","v":""},null,null,null,null,{"$f":"IF(AW147=\"\",\"\",AW147)","v":""}]
[]
[]
[]
[null,null,null,null,null,null,null,null,null,null,null,null,null,null,null,null,null,{"$f":"IF(R151=\"\",\"\",R151)","v":""},null,{"$f":"IF(T151=\"\",\"\",T151)","v":""},null,{"$f":"IF(V151=\"\",\"\",V151)","v":""},null,{"$f":"IF(X151=\"\",\"\",X151)","v":""},null,{"$f":"IF(Z151=\"\",\"\",Z151)","v":""},null,{"$f":"IF(AB151=\"\",\"\",AB151)","v":""},null,{"$f":"IF(AD151=\"\",\"\",AD151)","v":""},null,{"$f":"IF(AF151=\"\",\"\",AF151)","v":""},null,{"$f":"IF(AH151=\"\",\"\",AH151)","v":""},null,{"$f":"IF(AJ151=\"\",\"\",AJ151)","v":""},null,{"$f":"IF(AL151=\"\",\"\",AL151)","v":""},null,null,{"$f":"IF(AO151=\"\",\"\",AO151)","v":""},null,null,{"$f":"IF(AR151=\"\",\"\",AR151)","v":""},null,null,null,null,{"$f":"IF(AW151=\"\",\"\",AW151)","v":""}]
[]
[]
[]
[null,null,null,null,null,null,null,null,null,null,null,null,null,null,null,null,null,{"$f":"IF(R155=\"\",\"\",R155)","v":""},null,{"$f":"IF(T155=\"\",\"\",T155)","v":""},null,{"$f":"IF(V155=\"\",\"\",V155)","v":""},null,{"$f":"IF(X155=\"\",\"\",X155)","v":""},null,{"$f":"IF(Z155=\"\",\"\",Z155)","v":""},null,{"$f":"IF(AB155=\"\",\"\",AB155)","v":""},null,{"$f":"IF(AD155=\"\",\"\",AD155)","v":""},null,{"$f":"IF(AF155=\"\",\"\",AF155)","v":""},null,{"$f":"IF(AH155=\"\",\"\",AH155)","v":""},null,{"$f":"IF(AJ155=\"\",\"\",AJ155)","v":""},null,{"$f":"IF(AL155=\"\",\"\",AL155)","v":""},null,null,{"$f":"IF(AO155=\"\",\"\",AO155)","v":""},null,null,{"$f":"IF(AR155=\"\",\"\",AR155)","v":""},null,null,null,null,{"$f":"IF(AW155=\"\",\"\",AW155)","v":""}]
[]
[]
[]
[null,null,null,null,null,null,null,null,null,null,null,null,null,null,null,null,null,{"$f":"IF(R159=\"\",\"\",R159)","v":""},null,{"$f":"IF(T159=\"\",\"\",T159)","v":""},null,{"$f":"IF(V159=\"\",\"\",V159)","v":""},null,{"$f":"IF(X159=\"\",\"\",X159)","v":""},null,{"$f":"IF(Z159=\"\",\"\",Z159)","v":""},null,{"$f":"IF(AB159=\"\",\"\",AB159)","v":""},null,{"$f":"IF(AD159=\"\",\"\",AD159)","v":""},null,{"$f":"IF(AF159=\"\",\"\",AF159)","v":""},null,{"$f":"IF(AH159=\"\",\"\",AH159)","v":""},null,{"$f":"IF(AJ159=\"\",\"\",AJ159)","v":""},null,{"$f":"IF(AL159=\"\",\"\",AL159)","v":""},null,null,{"$f":"IF(AO159=\"\",\"\",AO159)","v":""},null,null,{"$f":"IF(AR159=\"\",\"\",AR159)","v":""},null,null,null,null,{"$f":"IF(AW159=\"\",\"\",AW159)","v":""}]
[]
[]
[]
[null,null,null,null,null,null,null,null,null,null,null,null,null,null,null,null,null,{"$f":"IF(R163=\"\",\"\",R163)","v":""},null,{"$f":"IF(T163=\"\",\"\",T163)","v":""},null,{"$f":"IF(V163=\"\",\"\",V163)","v":""},null,{"$f":"IF(X163=\"\",\"\",X163)","v":""},null,{"$f":"IF(Z163=\"\",\"\",Z163)","v":""},null,{"$f":"IF(AB163=\"\",\"\",AB163)","v":""},null,{"$f":"IF(AD163=\"\",\"\",AD163)","v":""},null,{"$f":"IF(AF163=\"\",\"\",AF163)","v":""},null,{"$f":"IF(AH163=\"\",\"\",AH163)","v":""},null,{"$f":"IF(AJ163=\"\",\"\",AJ163)","v":""},null,{"$f":"IF(AL163=\"\",\"\",AL163)","v":""},null,null,{"$f":"IF(AO163=\"\",\"\",AO163)","v":""},null,null,{"$f":"IF(AR163=\"\",\"\",AR163)","v":""},null,null,null,null,{"$f":"IF(AW163=\"\",\"\",AW163)","v":""}]
[]
[]
[]
[null,null,null,null,null,null,null,null,null,null,null,null,null,null,null,null,null,{"$f":"IF(R167=\"\",\"\",R167)","v":""},null,{"$f":"IF(T167=\"\",\"\",T167)","v":""},null,{"$f":"IF(V167=\"\",\"\",V167)","v":""},null,{"$f":"IF(X167=\"\",\"\",X167)","v":""},null,{"$f":"IF(Z167=\"\",\"\",Z167)","v":""},null,{"$f":"IF(AB167=\"\",\"\",AB167)","v":""},null,{"$f":"IF(AD167=\"\",\"\",AD167)","v":""},null,{"$f":"IF(AF167=\"\",\"\",AF167)","v":""},null,{"$f":"IF(AH167=\"\",\"\",AH167)","v":""},null,{"$f":"IF(AJ167=\"\",\"\",AJ167)","v":""},null,{"$f":"IF(AL167=\"\",\"\",AL167)","v":""},null,null,{"$f":"IF(AO167=\"\",\"\",AO167)","v":""},null,null,{"$f":"IF(AR167=\"\",\"\",AR167)","v":""},null,null,null,null,{"$f":"IF(AW167=\"\",\"\",AW167)","v":""}]
[]
[]
[]
[null,null,null,null,null,null,null,null,null,null,null,null,null,null,null,null,null,{"$f":"IF(R171=\"\",\"\",R171)","v":""},null,{"$f":"IF(T171=\"\",\"\",T171)","v":""},null,{"$f":"IF(V171=\"\",\"\",V171)","v":""},null,{"$f":"IF(X171=\"\",\"\",X171)","v":""},null,{"$f":"IF(Z171=\"\",\"\",Z171)","v":""},null,{"$f":"IF(AB171=\"\",\"\",AB171)","v":""},null,{"$f":"IF(AD171=\"\",\"\",AD171)","v":""},null,{"$f":"IF(AF171=\"\",\"\",AF171)","v":""},null,{"$f":"IF(AH171=\"\",\"\",AH171)","v":""},null,{"$f":"IF(AJ171=\"\",\"\",AJ171)","v":""},null,{"$f":"IF(AL171=\"\",\"\",AL171)","v":""},null,null,{"$f":"IF(AO171=\"\",\"\",AO171)","v":""},null,null,{"$f":"IF(AR171=\"\",\"\",AR171)","v":""},null,null,null,null,{"$f":"IF(AW171=\"\",\"\",AW171)","v":""}]
[]
[]
[]
[null,null,null,null,null,null,null,null,null,null,null,null,null,null,null,null,null,null,null,null,null,null,null,null,null,null,null,null,null,null,null,null,null,null,null,null,null,"値引き等",null,null,null,null,null,null,null,null,null,null,{"$f":"IF(AW175=\"\",\"\",AW175)","v":""}]
[]
[]
[]
[]
[null,null,null,null,null,null,null,null,null,null,null,null,null,null,null,null,null,null,null,null,null,null,null,null,null,null,null,null,null,null,null,null,null,null,null,null,null,{"$f":"\"合計(\" & IF(税処理=2,\"税込\",\"税抜\")&\")\"","v":"合計(税抜)"},null,null,null,null,null,null,null,null,null,null,{"$f":"IF(AW180=\"\",\"\",AW180)","v":""}]

{"sheet":"細1-10","index":12,"n_rows":272,"n_cols":53,"rows_kept":272,"cut":false,"hidden":false,"merged":[[3,46,5,48],[3,49,5,51],[3,52,5,54],[8,37,11,40],[8,41,11,54],[3,41,5,45],[1,19,4,32],[2,1,5,11],[2,12,5,13],[8,1,11,5],[8,6,11,11],[8,12,11,15],[8,16,11,35],[14,43,17,47],[14,48,17,54],[14,1,17,5],[14,6,17,15],[14,17,17,20],[14,21,17,36],[18,1,21,5],[18,6,21,15],[18,17,21,18],[18,19,21,20],[14,37,17,39],[14,40,17,42],[18,21,21,36],[18,37,21,39],[18,40,21,42],[18,43,21,47],[26,1,29,5],[26,6,29,15],[26,17,29,18],[26,19,29,20],[18,48,21,54],[22,1,25,5],[22,6,25,15],[22,17,25,18],[22,19,25,20],[22,21,25,36],[26,21,29,36],[26,37,29,39],[26,40,29,42],[26,43,29,47],[22,37,25,39],[22,40,25,42],[22,43,25,47],[34,48,37,54],[26,48,29,54],[30,1,33,3],[30,4,33,5],[30,6,33,15],[30,17,33,18],[30,19,33,20],[22,48,25,54],[38,17,41,18],[38,19,41,20],[38,21,41,36],[38,37,41,39],[30,48,33,54],[34,1,37,5],[34,6,37,15],[34,17,37,18],[34,19,37,20],[34,21,37,36],[38,40,41,42],[38,43,41,47],[38,48,41,54],[30,21,33,36],[30,37,33,39],[30,40,33,42],[30,43,33,47],[34,37,37,39],[34,40,37,42],[34,43,37,47],[46,40,49,42],[46,43,49,47],[46,21,49,36],[46,37,49,39],[54,40,57,42],[54,43,57,47],[42,17,45,18],[42,19,45,20],[42,21,45,36],[42,37,45,39],[42,40,45,42],[42,43,45,47],[42,48,45,54],[46,48,49,54],[50,17,53,18],[50,19,53,20],[50,21,53,36],[50,37,53,39],[50,40,53,42],[50,43,53,47],[50,48,53,54],[46,17,49,18],[46,19,49,20],[58,17,61,18],[58,19,61,20],[58,21,61,36],[58,37,61,39],[58,40,61,42],[58,43,61,47],[58,48,61,54],[54,17,57,18],[54,19,57,20],[54,21,57,36],[54,37,57,39],[54,48,57,54],[62,40,65,42],[62,43,65,47],[62,21,65,36],[62,37,65,39],[70,40,73,42],[70,43,73,47],[70,48,73,54],[62,48,65,54],[66,17,69,18],[66,19,69,20],[66,21,69,36],[66,37,69,39],[66,40,69,42],[66,43,69,47],[66,48,69,54],[62,17,65,18],[62,19,65,20],[74,17,77,18],[74,19,77,20],[74,21,77,36],[74,37,77,39],[74,40,77,42],[74,43,77,47],[74,48,77,54],[70,17,73,18],[70,19,73,20],[70,21,73,36],[70,37,73,39],[78,48,81,54],[82,37,85,47],[82,48,85,54],[78,37,81,39],[78,40,81,42],[85,11,90,16],[85,17,90,25],[78,43,81,47],[83,26,84,30],[83,31,84,35],[78,17,81,18],[78,19,81,20],[78,21,81,36],[85,26,90,30],[85,31,90,35],[83,1,84,4],[83,5,84,10],[87,37,90,47],[83,11,84,16],[83,17,84,25],[95,46,97,48],[85,1,90,4],[85,5,90,10],[87,48,90,54],[95,49,97,51],[95,52,97,54],[100,1,103,5],[100,6,103,11],[100,12,103,15],[100,16,103,35],[100,37,103,40],[100,41,103,54],[93,19,96,32],[94,1,97,11],[94,12,97,13],[95,41,97,45],[106,37,109,39],[106,40,109,42],[106,43,109,47],[106,48,109,54],[106,1,109,5],[106,6,109,15],[106,17,109,20],[106,21,109,36],[110,21,113,36],[110,37,113,39],[110,40,113,42],[110,43,113,47],[110,1,113,5],[110,6,113,15],[110,17,113,18],[110,19,113,20],[110,48,113,54],[114,1,117,5],[114,6,117,15],[114,17,117,18],[114,19,117,20],[114,21,117,36],[114,37,117,39],[114,40,117,42],[114,43,117,47],[114,48,117,54],[118,21,121,36],[118,37,121,39],[118,40,121,42],[118,43,121,47],[118,1,121,5],[118,6,121,15],[118,17,121,18],[118,19,121,20],[118,48,121,54],[122,48,125,54],[126,1,129,5],[126,6,129,15],[126,17,129,18],[126,19,129,20],[126,21,129,36],[126,37,129,39],[126,40,129,42],[126,43,129,47],[126,48,129,54],[122,1,125,3],[122,4,125,5],[122,6,125,15],[122,17,125,18],[122,19,125,20],[122,21,125,36],[122,37,125,39],[122,40,125,42],[122,43,125,47],[130,40,133,42],[130,43,133,47],[130,21,133,36],[130,37,133,39],[138,40,141,42],[138,43,141,47],[138,48,141,54],[130,48,133,54],[134,17,137,18],[134,19,137,20],[134,21,137,36],[134,37,137,39],[134,40,137,42],[134,43,137,47],[134,48,137,54],[130,17,133,18],[130,19,133,20],[142,17,145,18],[142,19,145,20],[142,21,145,36],[142,37,145,39],[142,40,145,42],[142,43,145,47],[142,48,145,54],[138,17,141,18],[138,19,141,20],[138,21,141,36],[138,37,141,39],[154,48,157,54],[146,48,149,54],[150,17,153,18],[150,19,153,20],[150,21,153,36],[150,37,153,39],[150,40,153,42],[150,43,153,47],[150,48,153,54],[146,17,149,18],[146,19,149,20],[154,17,157,18],[154,19,157,20],[154,21,157,36],[154,37,157,39],[146,40,149,42],[146,43,149,47],[146,21,149,36],[146,37,149,39],[154,40,157,42],[154,43,157,47],[170,48,173,54],[174,37,177,47],[174,48,177,54],[170,17,173,18],[170,19,173,20],[158,17,161,18],[158,19,161,20],[158,21,161,36],[158,37,161,39],[158,40,161,42],[158,43,161,47],[158,48,161,54],[170,21,173,36],[170,37,173,39],[179,48,182,54],[185,19,188,32],[186,1,189,11],[186,12,189,13],[187,41,189,45],[192,37,195,40],[192,41,195,54],[162,40,165,42],[162,43,165,47],[162,21,165,36],[162,37,165,39],[187,46,189,48],[162,48,165,54],[166,17,169,18],[166,19,169,20],[166,21,169,36],[166,37,169,39],[166,40,169,42],[166,43,169,47],[166,48,169,54],[162,17,165,18],[162,19,165,20],[187,49,189,51],[187,52,189,54],[179,37,182,47],[170,40,173,42],[170,43,173,47],[198,48,201,54],[202,21,205,36],[202,37,205,39],[202,40,205,42],[202,43,205,47],[202,1,205,5],[202,6,205,15],[202,17,205,18],[202,19,205,20],[202,48,205,54],[198,1,201,5],[198,6,201,15],[198,17,201,20],[198,21,201,36],[198,37,201,39],[198,40,201,42],[198,43,201,47],[192,1,195,5],[192,6,195,11],[192,12,195,15],[192,16,195,35],[206,1,209,5],[206,6,209,15],[206,17,209,18],[206,19,209,20],[206,21,209,36],[206,37,209,39],[206,40,209,42],[206,43,209,47],[206,48,209,54],[210,21,213,36],[210,37,213,39],[210,40,213,42],[210,43,213,47],[210,1,213,5],[210,6,213,15],[210,17,213,18],[210,19,213,20],[210,48,213,54],[214,48,217,54],[218,1,221,5],[218,6,221,15],[218,17,221,18],[218,19,221,20],[218,21,221,36],[218,37,221,39],[218,40,221,42],[218,43,221,47],[218,48,221,54],[214,1,217,3],[214,4,217,5],[214,6,217,15],[214,17,217,18],[214,19,217,20],[214,21,217,36],[214,37,217,39],[214,40,217,42],[214,43,217,47],[222,40,225,42],[222,43,225,47],[222,21,225,36],[222,37,225,39],[230,40,233,42],[230,43,233,47],[230,48,233,54],[222,48,225,54],[226,17,229,18],[226,19,229,20],[226,21,229,36],[226,37,229,39],[226,40,229,42],[226,43,229,47],[226,48,229,54],[222,17,225,18],[222,19,225,20],[234,17,237,18],[234,19,237,20],[234,21,237,36],[234,37,237,39],[234,40,237,42],[234,43,237,47],[234,48,237,54],[230,17,233,18],[230,19,233,20],[230,21,233,36],[230,37,233,39],[242,17,245,18],[242,19,245,20],[242,21,245,36],[242,37,245,39],[242,40,245,42],[242,43,245,47],[242,48,245,54],[238,17,241,18],[238,19,241,20],[254,37,257,39],[238,40,241,42],[238,43,241,47],[238,21,241,36],[238,37,241,39],[246,40,249,42],[246,43,249,47],[246,48,249,54],[238,48,241,54],[250,17,253,18],[250,19,253,20],[250,21,253,36],[250,37,253,39],[250,40,253,42],[250,43,253,47],[250,48,253,54],[246,17,249,18],[246,19,249,20],[246,21,249,36],[246,37,249,39],[271,37,274,47],[254,48,257,54],[258,17,261,18],[258,19,261,20],[258,21,261,36],[258,37,261,39],[258,40,261,42],[258,43,261,47],[258,48,261,54],[254,17,257,18],[254,19,257,20],[271,48,274,54],[262,40,265,42],[262,43,265,47],[262,48,265,54],[266,37,269,47],[266,48,269,54],[262,17,265,18],[262,19,265,20],[262,21,265,36],[262,37,265,39],[254,40,257,42],[254,43,257,47],[254,21,257,36]]}
[]
[null,null,null,null,null,null,null,null,null,null,null,null,null,null,null,null,null,null,null,"請求書明細書 (正)"]
[null,"株 式 会 社 種 村 建 設",null,null,null,null,null,null,null,null,null,null,"御中"]
[null,null,null,null,null,null,null,null,null,null,null,null,null,null,null,null,null,null,null,null,null,null,null,null,null,null,null,null,null,null,null,null,null,null,null,null,null,null,null,null,null,"請求年月日",null,null,null,null,{"$f":"年","v":23},null,null,{"$f":"月","v":5},null,null,{"$f":"日","v":31}]
[]
[]
[]
[]
[null,"工事番号",null,null,null,null,null,null,null,null,null,null,"工事名",null,null,null,null,null,null,null,null,null,null,null,null,null,null,null,null,null,null,null,null,null,null,null,null,"業者名",null,null,null,{"$f":"社名","v":"例：㈱種村建設"}]
[]
[]
[]
[]
[]
[null,"注文番号",null,null,null,null,null,null,null,null,null,null,null,null,null,null,null,"月　日",null,null,null,"摘要･品名",null,null,null,null,null,null,null,null,null,null,null,null,null,null,null,"数 量",null,null,"単位",null,null,"単価",null,null,null,null,{"$f":"\"金額(\" & IF(税処理=2,\"税込\",\"税抜\")&\")\"","v":"金額(税抜)"}]
[]
[]
[]
[null,"契約金額",null,null,null,null,null,null,null,null,null,null,null,null,null,null,null,null,null,null,null,null,null,null,null,null,null,null,null,null,null,null,null,null,null,null,null,null,null,null,null,null,null,null,null,null,null,null,{"$f":"IF(V19=\"\",\"\",AL19*AR19)","v":""}]
[]
[]
[]
[null,"増減額",null,null,null,null,null,null,null,null,null,null,null,null,null,null,null,null,null,null,null,null,null,null,null,null,null,null,null,null,null,null,null,null,null,null,null,null,null,null,null,null,null,null,null,null,null,null,{"$f":"IF(V23=\"\",\"\",AL23*AR23)","v":""}]
[]
[]
[]
[null,"前回までの\n請求額",null,null,null,null,null,null,null,null,null,null,null,null,null,null,null,null,null,null,null,null,null,null,null,null,null,null,null,null,null,null,null,null,null,null,null,null,null,null,null,null,null,null,null,null,null,null,{"$f":"IF(V27=\"\",\"\",AL27*AR27)","v":""}]
[]
[]
[]
[null,"今回\n請求額",null,null,null,null,null,null,null,null,null,null,null,null,null,null,null,null,null,null,null,null,null,null,null,null,null,null,null,null,null,null,null,null,null,null,null,null,null,null,null,null,null,null,null,null,null,null,{"$f":"IF(V31=\"\",\"\",AL31*AR31)","v":""}]
[]
[]
[]
[null,"差引残高",null,null,null,null,{"$f":"IF(G19=\"\",\"\",G19+G23-G27-G31)","v":""},null,null,null,null,null,null,null,null,null,null,null,null,null,null,null,null,null,null,null,null,null,null,null,null,null,null,null,null,null,null,null,null,null,null,null,null,null,null,null,null,null,{"$f":"IF(V35=\"\",\"\",AL35*AR35)","v":""}]
[]
[]
[]
[null,null,null,null,null,null,null,null,null,null,null,null,null,null,null,null,null,null,null,null,null,null,null,null,null,null,null,null,null,null,null,null,null,null,null,null,null,null,null,null,null,null,null,null,null,null,null,null,{"$f":"IF(V39=\"\",\"\",AL39*AR39)","v":""}]
[]
[]
[]
[null,null,null,null,null,null,null,null,null,null,null,null,null,null,null,null,null,null,null,null,null,null,null,null,null,null,null,null,null,null,null,null,null,null,null,null,null,null,null,null,null,null,null,null,null,null,null,null,{"$f":"IF(V43=\"\",\"\",AL43*AR43)","v":""}]
[]
[]
[]
[null,null,null,null,null,null,null,null,null,null,null,null,null,null,null,null,null,null,null,null,null,null,null,null,null,null,null,null,null,null,null,null,null,null,null,null,null,null,null,null,null,null,null,null,null,null,null,null,{"$f":"IF(V47=\"\",\"\",AL47*AR47)","v":""}]
[]
[]
[]
[null,null,null,null,null,null,null,null,null,null,null,null,null,null,null,null,null,null,null,null,null,null,null,null,null,null,null,null,null,null,null,null,null,null,null,null,null,null,null,null,null,null,null,null,null,null,null,null,{"$f":"IF(V51=\"\",\"\",AL51*AR51)","v":""}]
[]
[]
[]
[null,null,null,null,null,null,null,null,null,null,null,null,null,null,null,null,null,null,null,null,null,null,null,null,null,null,null,null,null,null,null,null,null,null,null,null,null,null,null,null,null,null,null,null,null,null,null,null,{"$f":"IF(V55=\"\",\"\",AL55*AR55)","v":""}]
[]
[]
[]
[null,null,null,null,null,null,null,null,null,null,null,null,null,null,null,null,null,null,null,null,null,null,null,null,null,null,null,null,null,null,null,null,null,null,null,null,null,null,null,null,null,null,null,null,null,null,null,null,{"$f":"IF(V59=\"\",\"\",AL59*AR59)","v":""}]
[]
[]
[]
[null,null,null,null,null,null,null,null,null,null,null,null,null,null,null,null,null,null,null,null,null,null,null,null,null,null,null,null,null,null,null,null,null,null,null,null,null,null,null,null,null,null,null,null,null,null,null,null,{"$f":"IF(V63=\"\",\"\",AL63*AR63)","v":""}]
[]
[]
[]
[null,null,null,null,null,null,null,null,null,null,null,null,null,null,null,null,null,null,null,null,null,null,null,null,null,null,null,null,null,null,null,null,null,null,null,null,null,null,null,null,null,null,null,null,null,null,null,null,{"$f":"IF(V67=\"\",\"\",AL67*AR67)","v":""}]
[]
[]
[]
[null,null,null,null,null,null,null,null,null,null,null,null,null,null,null,null,null,null,null,null,null,null,null,null,null,null,null,null,null,null,null,null,null,null,null,null,null,null,null,null,null,null,null,null,null,null,null,null,{"$f":"IF(V71=\"\",\"\",AL71*AR71)","v":""}]
[]
[]
[]
[null,null,null,null,null,null,null,null,null,null,null,null,null,null,null,null,null,null,null,null,null,null,null,null,null,null,null,null,null,null,null,null,null,null,null,null,null,null,null,null,null,null,null,null,null,null,null,null,{"$f":"IF(V75=\"\",\"\",AL75*AR75)","v":""}]
[]
[]
[]
[null,null,null,null,null,null,null,null,null,null,null,null,null,null,null,null,null,null,null,null,null,null,null,null,null,null,null,null,null,null,null,null,null,null,null,null,null,null,null,null,null,null,null,null,null,null,null,null,{"$f":"IF(V79=\"\",\"\",AL79*AR79)","v":""}]
[]
[]
[]
[null,null,null,null,null,null,null,null,null,null,null,null,null,null,null,null,null,null,null,null,null,null,null,null,null,null,null,null,null,null,null,null,null,null,null,null,null,"値引き等"]
[null,"社長",null,null,null,"専務",null,null,null,null,null,"常務",null,null,null,null,null,"部長･工場長",null,null,null,null,null,null,null,null,"担当者",null,null,null,null,"受付"]
[]
[]
[]
[null,null,null,null,null,null,null,null,null,null,null,null,null,null,null,null,null,null,null,null,null,null,null,null,null,null,null,null,null,null,null,null,null,null,null,null,null,{"$f":"\"合計(\" & IF(税処理=2,\"税込\",\"税抜\")&\")\"","v":"合計(税抜)"},null,null,null,null,null,null,null,null,null,null,{"$f":"IF(AW19=\"\",\"\",SUM(AW19:AW79)+AW83)","v":""}]
[]
[]
[]
[]
[]
[null,null,null,null,null,null,null,null,null,null,null,null,null,null,null,null,null,null,null,"請求明細書 (現場控)"]
[null,"株 式 会 社 種 村 建 設",null,null,null,null,null,null,null,null,null,null,"御中"]
[null,null,null,null,null,null,null,null,null,null,null,null,null,null,null,null,null,null,null,null,null,null,null,null,null,null,null,null,null,null,null,null,null,null,null,null,null,null,null,null,null,"請求年月日",null,null,null,null,{"$f":"IF(AU4=\"\",\"\",AU4)","v":23},null,null,{"$f":"IF(AX4=\"\",\"\",AX4)","v":5},null,null,{"$f":"IF(BA4=\"\",\"\",BA4)","v":31}]
[]
[]
[]
[]
[null,"工事番号",null,null,null,null,{"$f":"IF(G9=\"\",\"\",G9)","v":""},null,null,null,null,null,"工事名",null,null,null,{"$f":"IF(Q9=\"\",\"\",Q9)","v":""},null,null,null,null,null,null,null,null,null,null,null,null,null,null,null,null,null,null,null,null,"業者名",null,null,null,{"$f":"IF(AP9=\"\",\"\",AP9)","v":"例：㈱種村建設"}]
[]
[]
[]
[]
[]
[null,"注文番号",null,null,null,null,{"$f":"IF(G15=\"\",\"\",G15)","v":""},null,null,null,null,null,null,null,null,null,null,"月　日",null,null,null,"摘要･品名",null,null,null,null,null,null,null,null,null,null,null,null,null,null,null,"数 量",null,null,"単位",null,null,"単価",null,null,null,null,{"$f":"\"金額(\" & IF(税処理=2,\"税込\",\"税抜\")&\")\"","v":"金額(税抜)"}]
[]
[]
[]
[null,"契約金額",null,null,null,null,{"$f":"IF(G19=\"\",\"\",G19)","v":""},null,null,null,null,null,null,null,null,null,null,{"$f":"IF(R19=\"\",\"\",R19)","v":""},null,{"$f":"IF(T19=\"\",\"\",T19)","v":""},null,{"$f":"IF(V19=\"\",\"\",V19)","v":""},null,{"$f":"IF(X19=\"\",\"\",X19)","v":""},null,{"$f":"IF(Z19=\"\",\"\",Z19)","v":""},null,{"$f":"IF(AB19=\"\",\"\",AB19)","v":""},null,{"$f":"IF(AD19=\"\",\"\",AD19)","v":""},null,{"$f":"IF(AF19=\"\",\"\",AF19)","v":""},null,{"$f":"IF(AH19=\"\",\"\",AH19)","v":""},null,{"$f":"IF(AJ19=\"\",\"\",AJ19)","v":""},null,{"$f":"IF(AL19=\"\",\"\",AL19)","v":""},null,null,{"$f":"IF(AO19=\"\",\"\",AO19)","v":""},null,null,{"$f":"IF(AR19=\"\",\"\",AR19)","v":""},null,null,null,null,{"$f":"IF(AW19=\"\",\"\",AW19)","v":""}]
[]
[]
[]
[null,"増減額",null,null,null,null,{"$f":"IF(G23=\"\",\"\",G23)","v":""},null,null,null,null,null,null,null,null,null,null,{"$f":"IF(R23=\"\",\"\",R23)","v":""},null,{"$f":"IF(T23=\"\",\"\",T23)","v":""},null,{"$f":"IF(V23=\"\",\"\",V23)","v":""},null,{"$f":"IF(X23=\"\",\"\",X23)","v":""},null,{"$f":"IF(Z23=\"\",\"\",Z23)","v":""},null,{"$f":"IF(AB23=\"\",\"\",AB23)","v":""},null,{"$f":"IF(AD23=\"\",\"\",AD23)","v":""},null,{"$f":"IF(AF23=\"\",\"\",AF23)","v":""},null,{"$f":"IF(AH23=\"\",\"\",AH23)","v":""},null,{"$f":"IF(AJ23=\"\",\"\",AJ23)","v":""},null,{"$f":"IF(AL23=\"\",\"\",AL23)","v":""},null,null,{"$f":"IF(AO23=\"\",\"\",AO23)","v":""},null,null,{"$f":"IF(AR23=\"\",\"\",AR23)","v":""},null,null,null,null,{"$f":"IF(AW23=\"\",\"\",AW23)","v":""}]
[]
[]
[]
[null,"前回までの\n請求額",null,null,null,null,{"$f":"IF(G27=\"\",\"\",G27)","v":""},null,null,null,null,null,null,null,null,null,null,{"$f":"IF(R27=\"\",\"\",R27)","v":""},null,{"$f":"IF(T27=\"\",\"\",T27)","v":""},null,{"$f":"IF(V27=\"\",\"\",V27)","v":""},null,{"$f":"IF(X27=\"\",\"\",X27)","v":""},null,{"$f":"IF(Z27=\"\",\"\",Z27)","v":""},null,{"$f":"IF(AB27=\"\",\"\",AB27)","v":""},null,{"$f":"IF(AD27=\"\",\"\",AD27)","v":""},null,{"$f":"IF(AF27=\"\",\"\",AF27)","v":""},null,{"$f":"IF(AH27=\"\",\"\",AH27)","v":""},null,{"$f":"IF(AJ27=\"\",\"\",AJ27)","v":""},null,{"$f":"IF(AL27=\"\",\"\",AL27)","v":""},null,null,{"$f":"IF(AO27=\"\",\"\",AO27)","v":""},null,null,{"$f":"IF(AR27=\"\",\"\",AR27)","v":""},null,null,null,null,{"$f":"IF(AW27=\"\",\"\",AW27)","v":""}]
[]
[]
[]
[null,"今回\n請求額",null,null,{"$f":"IF(E31=\"\",\"\",E31)","v":""},null,{"$f":"IF(G31=\"\",\"\",G31)","v":""},null,null,null,null,null,null,null,null,null,null,{"$f":"IF(R31=\"\",\"\",R31)","v":""},null,{"$f":"IF(T31=\"\",\"\",T31)","v":""},null,{"$f":"IF(V31=\"\",\"\",V31)","v":""},null,{"$f":"IF(X31=\"\",\"\",X31)","v":""},null,{"$f":"IF(Z31=\"\",\"\",Z31)","v":""},null,{"$f":"IF(AB31=\"\",\"\",AB31)","v":""},null,{"$f":"IF(AD31=\"\",\"\",AD31)","v":""},null,{"$f":"IF(AF31=\"\",\"\",AF31)","v":""},null,{"$f":"IF(AH31=\"\",\"\",AH31)","v":""},null,{"$f":"IF(AJ31=\"\",\"\",AJ31)","v":""},null,{"$f":"IF(AL31=\"\",\"\",AL31)","v":""},null,null,{"$f":"IF(AO31=\"\",\"\",AO31)","v":""},null,null,{"$f":"IF(AR31=\"\",\"\",AR31)","v":""},null,null,null,null,{"$f":"IF(AW31=\"\",\"\",AW31)","v":""}]
[]
[]
[]
[null,"差引残高",null,null,null,null,{"$f":"IF(G111=\"\",\"\",G111+G115-G119-G123)","v":""},null,null,null,null,null,null,null,null,null,null,{"$f":"IF(R35=\"\",\"\",R35)","v":""},null,{"$f":"IF(T35=\"\",\"\",T35)","v":""},null,{"$f":"IF(V35=\"\",\"\",V35)","v":""},null,{"$f":"IF(X35=\"\",\"\",X35)","v":""},null,{"$f":"IF(Z35=\"\",\"\",Z35)","v":""},null,{"$f":"IF(AB35=\"\",\"\",AB35)","v":""},null,{"$f":"IF(AD35=\"\",\"\",AD35)","v":""},null,{"$f":"IF(AF35=\"\",\"\",AF35)","v":""},null,{"$f":"IF(AH35=\"\",\"\",AH35)","v":""},null,{"$f":"IF(AJ35=\"\",\"\",AJ35)","v":""},null,{"$f":"IF(AL35=\"\",\"\",AL35)","v":""},null,null,{"$f":"IF(AO35=\"\",\"\",AO35)","v":""},null,null,{"$f":"IF(AR35=\"\",\"\",AR35)","v":""},null,null,null,null,{"$f":"IF(AW35=\"\",\"\",AW35)","v":""}]
[]
[]
[]
[null,null,null,null,null,null,null,null,null,null,null,null,null,null,null,null,null,{"$f":"IF(R39=\"\",\"\",R39)","v":""},null,{"$f":"IF(T39=\"\",\"\",T39)","v":""},null,{"$f":"IF(V39=\"\",\"\",V39)","v":""},null,{"$f":"IF(X39=\"\",\"\",X39)","v":""},null,{"$f":"IF(Z39=\"\",\"\",Z39)","v":""},null,{"$f":"IF(AB39=\"\",\"\",AB39)","v":""},null,{"$f":"IF(AD39=\"\",\"\",AD39)","v":""},null,{"$f":"IF(AF39=\"\",\"\",AF39)","v":""},null,{"$f":"IF(AH39=\"\",\"\",AH39)","v":""},null,{"$f":"IF(AJ39=\"\",\"\",AJ39)","v":""},null,{"$f":"IF(AL39=\"\",\"\",AL39)","v":""},null,null,{"$f":"IF(AO39=\"\",\"\",AO39)","v":""},null,null,{"$f":"IF(AR39=\"\",\"\",AR39)","v":""},null,null,null,null,{"$f":"IF(AW39=\"\",\"\",AW39)","v":""}]
[]
[]
[]
[null,null,null,null,null,null,null,null,null,null,null,null,null,null,null,null,null,{"$f":"IF(R43=\"\",\"\",R43)","v":""},null,{"$f":"IF(T43=\"\",\"\",T43)","v":""},null,{"$f":"IF(V43=\"\",\"\",V43)","v":""},null,{"$f":"IF(X43=\"\",\"\",X43)","v":""},null,{"$f":"IF(Z43=\"\",\"\",Z43)","v":""},null,{"$f":"IF(AB43=\"\",\"\",AB43)","v":""},null,{"$f":"IF(AD43=\"\",\"\",AD43)","v":""},null,{"$f":"IF(AF43=\"\",\"\",AF43)","v":""},null,{"$f":"IF(AH43=\"\",\"\",AH43)","v":""},null,{"$f":"IF(AJ43=\"\",\"\",AJ43)","v":""},null,{"$f":"IF(AL43=\"\",\"\",AL43)","v":""},null,null,{"$f":"IF(AO43=\"\",\"\",AO43)","v":""},null,null,{"$f":"IF(AR43=\"\",\"\",AR43)","v":""},null,null,null,null,{"$f":"IF(AW43=\"\",\"\",AW43)","v":""}]
[]
[]
[]
[null,null,null,null,null,null,null,null,null,null,null,null,null,null,null,null,null,{"$f":"IF(R47=\"\",\"\",R47)","v":""},null,{"$f":"IF(T47=\"\",\"\",T47)","v":""},null,{"$f":"IF(V47=\"\",\"\",V47)","v":""},null,{"$f":"IF(X47=\"\",\"\",X47)","v":""},null,{"$f":"IF(Z47=\"\",\"\",Z47)","v":""},null,{"$f":"IF(AB47=\"\",\"\",AB47)","v":""},null,{"$f":"IF(AD47=\"\",\"\",AD47)","v":""},null,{"$f":"IF(AF47=\"\",\"\",AF47)","v":""},null,{"$f":"IF(AH47=\"\",\"\",AH47)","v":""},null,{"$f":"IF(AJ47=\"\",\"\",AJ47)","v":""},null,{"$f":"IF(AL47=\"\",\"\",AL47)","v":""},null,null,{"$f":"IF(AO47=\"\",\"\",AO47)","v":""},null,null,{"$f":"IF(AR47=\"\",\"\",AR47)","v":""},null,null,null,null,{"$f":"IF(AW47=\"\",\"\",AW47)","v":""}]
[]
[]
[]
[null,null,null,null,null,null,null,null,null,null,null,null,null,null,null,null,null,{"$f":"IF(R51=\"\",\"\",R51)","v":""},null,{"$f":"IF(T51=\"\",\"\",T51)","v":""},null,{"$f":"IF(V51=\"\",\"\",V51)","v":""},null,{"$f":"IF(X51=\"\",\"\",X51)","v":""},null,{"$f":"IF(Z51=\"\",\"\",Z51)","v":""},null,{"$f":"IF(AB51=\"\",\"\",AB51)","v":""},null,{"$f":"IF(AD51=\"\",\"\",AD51)","v":""},null,{"$f":"IF(AF51=\"\",\"\",AF51)","v":""},null,{"$f":"IF(AH51=\"\",\"\",AH51)","v":""},null,{"$f":"IF(AJ51=\"\",\"\",AJ51)","v":""},null,{"$f":"IF(AL51=\"\",\"\",AL51)","v":""},null,null,{"$f":"IF(AO51=\"\",\"\",AO51)","v":""},null,null,{"$f":"IF(AR51=\"\",\"\",AR51)","v":""},null,null,null,null,{"$f":"IF(AW51=\"\",\"\",AW51)","v":""}]
[]
[]
[]
[null,null,null,null,null,null,null,null,null,null,null,null,null,null,null,null,null,{"$f":"IF(R55=\"\",\"\",R55)","v":""},null,{"$f":"IF(T55=\"\",\"\",T55)","v":""},null,{"$f":"IF(V55=\"\",\"\",V55)","v":""},null,{"$f":"IF(X55=\"\",\"\",X55)","v":""},null,{"$f":"IF(Z55=\"\",\"\",Z55)","v":""},null,{"$f":"IF(AB55=\"\",\"\",AB55)","v":""},null,{"$f":"IF(AD55=\"\",\"\",AD55)","v":""},null,{"$f":"IF(AF55=\"\",\"\",AF55)","v":""},null,{"$f":"IF(AH55=\"\",\"\",AH55)","v":""},null,{"$f":"IF(AJ55=\"\",\"\",AJ55)","v":""},null,{"$f":"IF(AL55=\"\",\"\",AL55)","v":""},null,null,{"$f":"IF(AO55=\"\",\"\",AO55)","v":""},null,null,{"$f":"IF(AR55=\"\",\"\",AR55)","v":""},null,null,null,null,{"$f":"IF(AW55=\"\",\"\",AW55)","v":""}]
[]
[]
[]
[null,null,null,null,null,null,null,null,null,null,null,null,null,null,null,null,null,{"$f":"IF(R59=\"\",\"\",R59)","v":""},null,{"$f":"IF(T59=\"\",\"\",T59)","v":""},null,{"$f":"IF(V59=\"\",\"\",V59)","v":""},null,{"$f":"IF(X59=\"\",\"\",X59)","v":""},null,{"$f":"IF(Z59=\"\",\"\",Z59)","v":""},null,{"$f":"IF(AB59=\"\",\"\",AB59)","v":""},null,{"$f":"IF(AD59=\"\",\"\",AD59)","v":""},null,{"$f":"IF(AF59=\"\",\"\",AF59)","v":""},null,{"$f":"IF(AH59=\"\",\"\",AH59)","v":""},null,{"$f":"IF(AJ59=\"\",\"\",AJ59)","v":""},null,{"$f":"IF(AL59=\"\",\"\",AL59)","v":""},null,null,{"$f":"IF(AO59=\"\",\"\",AO59)","v":""},null,null,{"$f":"IF(AR59=\"\",\"\",AR59)","v":""},null,null,null,null,{"$f":"IF(AW59=\"\",\"\",AW59)","v":""}]
[]
[]
[]
[null,null,null,null,null,null,null,null,null,null,null,null,null,null,null,null,null,{"$f":"IF(R63=\"\",\"\",R63)","v":""},null,{"$f":"IF(T63=\"\",\"\",T63)","v":""},null,{"$f":"IF(V63=\"\",\"\",V63)","v":""},null,{"$f":"IF(X63=\"\",\"\",X63)","v":""},null,{"$f":"IF(Z63=\"\",\"\",Z63)","v":""},null,{"$f":"IF(AB63=\"\",\"\",AB63)","v":""},null,{"$f":"IF(AD63=\"\",\"\",AD63)","v":""},null,{"$f":"IF(AF63=\"\",\"\",AF63)","v":""},null,{"$f":"IF(AH63=\"\",\"\",AH63)","v":""},null,{"$f":"IF(AJ63=\"\",\"\",AJ63)","v":""},null,{"$f":"IF(AL63=\"\",\"\",AL63)","v":""},null,null,{"$f":"IF(AO63=\"\",\"\",AO63)","v":""},null,null,{"$f":"IF(AR63=\"\",\"\",AR63)","v":""},null,null,null,null,{"$f":"IF(AW63=\"\",\"\",AW63)","v":""}]
[]
[]
[]
[null,null,null,null,null,null,null,null,null,null,null,null,null,null,null,null,null,{"$f":"IF(R67=\"\",\"\",R67)","v":""},null,{"$f":"IF(T67=\"\",\"\",T67)","v":""},null,{"$f":"IF(V67=\"\",\"\",V67)","v":""},null,{"$f":"IF(X67=\"\",\"\",X67)","v":""},null,{"$f":"IF(Z67=\"\",\"\",Z67)","v":""},null,{"$f":"IF(AB67=\"\",\"\",AB67)","v":""},null,{"$f":"IF(AD67=\"\",\"\",AD67)","v":""},null,{"$f":"IF(AF67=\"\",\"\",AF67)","v":""},null,{"$f":"IF(AH67=\"\",\"\",AH67)","v":""},null,{"$f":"IF(AJ67=\"\",\"\",AJ67)","v":""},null,{"$f":"IF(AL67=\"\",\"\",AL67)","v":""},null,null,{"$f":"IF(AO67=\"\",\"\",AO67)","v":""},null,null,{"$f":"IF(AR67=\"\",\"\",AR67)","v":""},null,null,null,null,{"$f":"IF(AW67=\"\",\"\",AW67)","v":""}]
[]
[]
[]
[null,null,null,null,null,null,null,null,null,null,null,null,null,null,null,null,null,{"$f":"IF(R71=\"\",\"\",R71)","v":""},null,{"$f":"IF(T71=\"\",\"\",T71)","v":""},null,{"$f":"IF(V71=\"\",\"\",V71)","v":""},null,{"$f":"IF(X71=\"\",\"\",X71)","v":""},null,{"$f":"IF(Z71=\"\",\"\",Z71)","v":""},null,{"$f":"IF(AB71=\"\",\"\",AB71)","v":""},null,{"$f":"IF(AD71=\"\",\"\",AD71)","v":""},null,{"$f":"IF(AF71=\"\",\"\",AF71)","v":""},null,{"$f":"IF(AH71=\"\",\"\",AH71)","v":""},null,{"$f":"IF(AJ71=\"\",\"\",AJ71)","v":""},null,{"$f":"IF(AL71=\"\",\"\",AL71)","v":""},null,null,{"$f":"IF(AO71=\"\",\"\",AO71)","v":""},null,null,{"$f":"IF(AR71=\"\",\"\",AR71)","v":""},null,null,null,null,{"$f":"IF(AW71=\"\",\"\",AW71)","v":""}]
[]
[]
[]
[null,null,null,null,null,null,null,null,null,null,null,null,null,null,null,null,null,{"$f":"IF(R75=\"\",\"\",R75)","v":""},null,{"$f":"IF(T75=\"\",\"\",T75)","v":""},null,{"$f":"IF(V75=\"\",\"\",V75)","v":""},null,{"$f":"IF(X75=\"\",\"\",X75)","v":""},null,{"$f":"IF(Z75=\"\",\"\",Z75)","v":""},null,{"$f":"IF(AB75=\"\",\"\",AB75)","v":""},null,{"$f":"IF(AD75=\"\",\"\",AD75)","v":""},null,{"$f":"IF(AF75=\"\",\"\",AF75)","v":""},null,{"$f":"IF(AH75=\"\",\"\",AH75)","v":""},null,{"$f":"IF(AJ75=\"\",\"\",AJ75)","v":""},null,{"$f":"IF(AL75=\"\",\"\",AL75)","v":""},null,null,{"$f":"IF(AO75=\"\",\"\",AO75)","v":""},null,null,{"$f":"IF(AR75=\"\",\"\",AR75)","v":""},null,null,null,null,{"$f":"IF(AW75=\"\",\"\",AW75)","v":""}]
[]
[]
[]
[null,null,null,null,null,null,null,null,null,null,null,null,null,null,null,null,null,{"$f":"IF(R79=\"\",\"\",R79)","v":""},null,{"$f":"IF(T79=\"\",\"\",T79)","v":""},null,{"$f":"IF(V79=\"\",\"\",V79)","v":""},null,{"$f":"IF(X79=\"\",\"\",X79)","v":""},null,{"$f":"IF(Z79=\"\",\"\",Z79)","v":""},null,{"$f":"IF(AB79=\"\",\"\",AB79)","v":""},null,{"$f":"IF(AD79=\"\",\"\",AD79)","v":""},null,{"$f":"IF(AF79=\"\",\"\",AF79)","v":""},null,{"$f":"IF(AH79=\"\",\"\",AH79)","v":""},null,{"$f":"IF(AJ79=\"\",\"\",AJ79)","v":""},null,{"$f":"IF(AL79=\"\",\"\",AL79)","v":""},null,null,{"$f":"IF(AO79=\"\",\"\",AO79)","v":""},null,null,{"$f":"IF(AR79=\"\",\"\",AR79)","v":""},null,null,null,null,{"$f":"IF(AW79=\"\",\"\",AW79)","v":""}]
[]
[]
[]
[null,null,null,null,null,null,null,null,null,null,null,null,null,null,null,null,null,null,null,null,null,null,null,null,null,null,null,null,null,null,null,null,null,null,null,null,null,"値引き等",null,null,null,null,null,null,null,null,null,null,{"$f":"IF(AW83=\"\",\"\",AW83)","v":""}]
[]
[]
[]
[]
[null,null,null,null,null,null,null,null,null,null,null,null,null,null,null,null,null,null,null,null,null,null,null,null,null,null,null,null,null,null,null,null,null,null,null,null,null,{"$f":"\"合計(\" & IF(税処理=2,\"税込\",\"税抜\")&\")\"","v":"合計(税抜)"},null,null,null,null,null,null,null,null,null,null,{"$f":"IF(AW88=\"\",\"\",AW88)","v":""}]
[]
[]
[]
[]
[]
[null,null,null,null,null,null,null,null,null,null,null,null,null,null,null,null,null,null,null,"請求明細書 (貴社控)"]
[null,"株 式 会 社 種 村 建 設",null,null,null,null,null,null,null,null,null,null,"御中"]
[null,null,null,null,null,null,null,null,null,null,null,null,null,null,null,null,null,null,null,null,null,null,null,null,null,null,null,null,null,null,null,null,null,null,null,null,null,null,null,null,null,"請求年月日",null,null,null,null,{"$f":"IF(AU96=\"\",\"\",AU96)","v":23},null,null,{"$f":"IF(AX96=\"\",\"\",AX96)","v":5},null,null,{"$f":"IF(BA96=\"\",\"\",BA96)","v":31}]
[]
[]
[]
[]
[null,"工事番号",null,null,null,null,{"$f":"IF(G101=\"\",\"\",G101)","v":""},null,null,null,null,null,"工事名",null,null,null,{"$f":"IF(Q101=\"\",\"\",Q101)","v":""},null,null,null,null,null,null,null,null,null,null,null,null,null,null,null,null,null,null,null,null,"業者名",null,null,null,{"$f":"IF(AP101=\"\",\"\",AP101)","v":"例：㈱種村建設"}]
[]
[]
[]
[]
[]
[null,"注文番号",null,null,null,null,{"$f":"IF(G107=\"\",\"\",G107)","v":""},null,null,null,null,null,null,null,null,null,null,"月　日",null,null,null,"摘要･品名",null,null,null,null,null,null,null,null,null,null,null,null,null,null,null,"数 量",null,null,"単位",null,null,"単価",null,null,null,null,{"$f":"\"金額(\" & IF(税処理=2,\"税込\",\"税抜\")&\")\"","v":"金額(税抜)"}]
[]
[]
[]
[null,"契約金額",null,null,null,null,{"$f":"IF(G111=\"\",\"\",G111)","v":""},null,null,null,null,null,null,null,null,null,null,{"$f":"IF(R111=\"\",\"\",R111)","v":""},null,{"$f":"IF(T111=\"\",\"\",T111)","v":""},null,{"$f":"IF(V111=\"\",\"\",V111)","v":""},null,{"$f":"IF(X111=\"\",\"\",X111)","v":""},null,{"$f":"IF(Z111=\"\",\"\",Z111)","v":""},null,{"$f":"IF(AB111=\"\",\"\",AB111)","v":""},null,{"$f":"IF(AD111=\"\",\"\",AD111)","v":""},null,{"$f":"IF(AF111=\"\",\"\",AF111)","v":""},null,{"$f":"IF(AH111=\"\",\"\",AH111)","v":""},null,{"$f":"IF(AJ111=\"\",\"\",AJ111)","v":""},null,{"$f":"IF(AL111=\"\",\"\",AL111)","v":""},null,null,{"$f":"IF(AO111=\"\",\"\",AO111)","v":""},null,null,{"$f":"IF(AR111=\"\",\"\",AR111)","v":""},null,null,null,null,{"$f":"IF(AW111=\"\",\"\",AW111)","v":""}]
[]
[]
[]
[null,"増減額",null,null,null,null,{"$f":"IF(G115=\"\",\"\",G115)","v":""},null,null,null,null,null,null,null,null,null,null,{"$f":"IF(R115=\"\",\"\",R115)","v":""},null,{"$f":"IF(T115=\"\",\"\",T115)","v":""},null,{"$f":"IF(V115=\"\",\"\",V115)","v":""},null,{"$f":"IF(X115=\"\",\"\",X115)","v":""},null,{"$f":"IF(Z115=\"\",\"\",Z115)","v":""},null,{"$f":"IF(AB115=\"\",\"\",AB115)","v":""},null,{"$f":"IF(AD115=\"\",\"\",AD115)","v":""},null,{"$f":"IF(AF115=\"\",\"\",AF115)","v":""},null,{"$f":"IF(AH115=\"\",\"\",AH115)","v":""},null,{"$f":"IF(AJ115=\"\",\"\",AJ115)","v":""},null,{"$f":"IF(AL115=\"\",\"\",AL115)","v":""},null,null,{"$f":"IF(AO115=\"\",\"\",AO115)","v":""},null,null,{"$f":"IF(AR115=\"\",\"\",AR115)","v":""},null,null,null,null,{"$f":"IF(AW115=\"\",\"\",AW115)","v":""}]
[]
[]
[]
[null,"前回までの\n請求額",null,null,null,null,{"$f":"IF(G119=\"\",\"\",G119)","v":""},null,null,null,null,null,null,null,null,null,null,{"$f":"IF(R119=\"\",\"\",R119)","v":""},null,{"$f":"IF(T119=\"\",\"\",T119)","v":""},null,{"$f":"IF(V119=\"\",\"\",V119)","v":""},null,{"$f":"IF(X119=\"\",\"\",X119)","v":""},null,{"$f":"IF(Z119=\"\",\"\",Z119)","v":""},null,{"$f":"IF(AB119=\"\",\"\",AB119)","v":""},null,{"$f":"IF(AD119=\"\",\"\",AD119)","v":""},null,{"$f":"IF(AF119=\"\",\"\",AF119)","v":""},null,{"$f":"IF(AH119=\"\",\"\",AH119)","v":""},null,{"$f":"IF(AJ119=\"\",\"\",AJ119)","v":""},null,{"$f":"IF(AL119=\"\",\"\",AL119)","v":""},null,null,{"$f":"IF(AO119=\"\",\"\",AO119)","v":""},null,null,{"$f":"IF(AR119=\"\",\"\",AR119)","v":""},null,null,null,null,{"$f":"IF(AW119=\"\",\"\",AW119)","v":""}]
[]
[]
[]
[null,"今回\n請求額",null,null,{"$f":"IF(E31=\"\",\"\",E31)","v":""},null,{"$f":"IF(G123=\"\",\"\",G123)","v":""},null,null,null,null,null,null,null,null,null,null,{"$f":"IF(R123=\"\",\"\",R123)","v":""},null,{"$f":"IF(T123=\"\",\"\",T123)","v":""},null,{"$f":"IF(V123=\"\",\"\",V123)","v":""},null,{"$f":"IF(X123=\"\",\"\",X123)","v":""},null,{"$f":"IF(Z123=\"\",\"\",Z123)","v":""},null,{"$f":"IF(AB123=\"\",\"\",AB123)","v":""},null,{"$f":"IF(AD123=\"\",\"\",AD123)","v":""},null,{"$f":"IF(AF123=\"\",\"\",AF123)","v":""},null,{"$f":"IF(AH123=\"\",\"\",AH123)","v":""},null,{"$f":"IF(AJ123=\"\",\"\",AJ123)","v":""},null,{"$f":"IF(AL123=\"\",\"\",AL123)","v":""},null,null,{"$f":"IF(AO123=\"\",\"\",AO123)","v":""},null,null,{"$f":"IF(AR123=\"\",\"\",AR123)","v":""},null,null,null,null,{"$f":"IF(AW123=\"\",\"\",AW123)","v":""}]
[]
[]
[]
[null,"差引残高",null,null,null,null,{"$f":"IF(G203=\"\",\"\",G203+G207-G211-G215)","v":""},null,null,null,null,null,null,null,null,null,null,{"$f":"IF(R127=\"\",\"\",R127)","v":""},null,{"$f":"IF(T127=\"\",\"\",T127)","v":""},null,{"$f":"IF(V127=\"\",\"\",V127)","v":""},null,{"$f":"IF(X127=\"\",\"\",X127)","v":""},null,{"$f":"IF(Z127=\"\",\"\",Z127)","v":""},null,{"$f":"IF(AB127=\"\",\"\",AB127)","v":""},null,{"$f":"IF(AD127=\"\",\"\",AD127)","v":""},null,{"$f":"IF(AF127=\"\",\"\",AF127)","v":""},null,{"$f":"IF(AH127=\"\",\"\",AH127)","v":""},null,{"$f":"IF(AJ127=\"\",\"\",AJ127)","v":""},null,{"$f":"IF(AL127=\"\",\"\",AL127)","v":""},null,null,{"$f":"IF(AO127=\"\",\"\",AO127)","v":""},null,null,{"$f":"IF(AR127=\"\",\"\",AR127)","v":""},null,null,null,null,{"$f":"IF(AW127=\"\",\"\",AW127)","v":""}]
[]
[]
[]
[null,null,null,null,null,null,null,null,null,null,null,null,null,null,null,null,null,{"$f":"IF(R131=\"\",\"\",R131)","v":""},null,{"$f":"IF(T131=\"\",\"\",T131)","v":""},null,{"$f":"IF(V131=\"\",\"\",V131)","v":""},null,{"$f":"IF(X131=\"\",\"\",X131)","v":""},null,{"$f":"IF(Z131=\"\",\"\",Z131)","v":""},null,{"$f":"IF(AB131=\"\",\"\",AB131)","v":""},null,{"$f":"IF(AD131=\"\",\"\",AD131)","v":""},null,{"$f":"IF(AF131=\"\",\"\",AF131)","v":""},null,{"$f":"IF(AH131=\"\",\"\",AH131)","v":""},null,{"$f":"IF(AJ131=\"\",\"\",AJ131)","v":""},null,{"$f":"IF(AL131=\"\",\"\",AL131)","v":""},null,null,{"$f":"IF(AO131=\"\",\"\",AO131)","v":""},null,null,{"$f":"IF(AR131=\"\",\"\",AR131)","v":""},null,null,null,null,{"$f":"IF(AW131=\"\",\"\",AW131)","v":""}]
[]
[]
[]
[null,null,null,null,null,null,null,null,null,null,null,null,null,null,null,null,null,{"$f":"IF(R135=\"\",\"\",R135)","v":""},null,{"$f":"IF(T135=\"\",\"\",T135)","v":""},null,{"$f":"IF(V135=\"\",\"\",V135)","v":""},null,{"$f":"IF(X135=\"\",\"\",X135)","v":""},null,{"$f":"IF(Z135=\"\",\"\",Z135)","v":""},null,{"$f":"IF(AB135=\"\",\"\",AB135)","v":""},null,{"$f":"IF(AD135=\"\",\"\",AD135)","v":""},null,{"$f":"IF(AF135=\"\",\"\",AF135)","v":""},null,{"$f":"IF(AH135=\"\",\"\",AH135)","v":""},null,{"$f":"IF(AJ135=\"\",\"\",AJ135)","v":""},null,{"$f":"IF(AL135=\"\",\"\",AL135)","v":""},null,null,{"$f":"IF(AO135=\"\",\"\",AO135)","v":""},null,null,{"$f":"IF(AR135=\"\",\"\",AR135)","v":""},null,null,null,null,{"$f":"IF(AW135=\"\",\"\",AW135)","v":""}]
[]
[]
[]
[null,null,null,null,null,null,null,null,null,null,null,null,null,null,null,null,null,{"$f":"IF(R139=\"\",\"\",R139)","v":""},null,{"$f":"IF(T139=\"\",\"\",T139)","v":""},null,{"$f":"IF(V139=\"\",\"\",V139)","v":""},null,{"$f":"IF(X139=\"\",\"\",X139)","v":""},null,{"$f":"IF(Z139=\"\",\"\",Z139)","v":""},null,{"$f":"IF(AB139=\"\",\"\",AB139)","v":""},null,{"$f":"IF(AD139=\"\",\"\",AD139)","v":""},null,{"$f":"IF(AF139=\"\",\"\",AF139)","v":""},null,{"$f":"IF(AH139=\"\",\"\",AH139)","v":""},null,{"$f":"IF(AJ139=\"\",\"\",AJ139)","v":""},null,{"$f":"IF(AL139=\"\",\"\",AL139)","v":""},null,null,{"$f":"IF(AO139=\"\",\"\",AO139)","v":""},null,null,{"$f":"IF(AR139=\"\",\"\",AR139)","v":""},null,null,null,null,{"$f":"IF(AW139=\"\",\"\",AW139)","v":""}]
[]
[]
[]
[null,null,null,null,null,null,null,null,null,null,null,null,null,null,null,null,null,{"$f":"IF(R143=\"\",\"\",R143)","v":""},null,{"$f":"IF(T143=\"\",\"\",T143)","v":""},null,{"$f":"IF(V143=\"\",\"\",V143)","v":""},null,{"$f":"IF(X143=\"\",\"\",X143)","v":""},null,{"$f":"IF(Z143=\"\",\"\",Z143)","v":""},null,{"$f":"IF(AB143=\"\",\"\",AB143)","v":""},null,{"$f":"IF(AD143=\"\",\"\",AD143)","v":""},null,{"$f":"IF(AF143=\"\",\"\",AF143)","v":""},null,{"$f":"IF(AH143=\"\",\"\",AH143)","v":""},null,{"$f":"IF(AJ143=\"\",\"\",AJ143)","v":""},null,{"$f":"IF(AL143=\"\",\"\",AL143)","v":""},null,null,{"$f":"IF(AO143=\"\",\"\",AO143)","v":""},null,null,{"$f":"IF(AR143=\"\",\"\",AR143)","v":""},null,null,null,null,{"$f":"IF(AW143=\"\",\"\",AW143)","v":""}]
[]
[]
[]
[null,null,null,null,null,null,null,null,null,null,null,null,null,null,null,null,null,{"$f":"IF(R147=\"\",\"\",R147)","v":""},null,{"$f":"IF(T147=\"\",\"\",T147)","v":""},null,{"$f":"IF(V147=\"\",\"\",V147)","v":""},null,{"$f":"IF(X147=\"\",\"\",X147)","v":""},null,{"$f":"IF(Z147=\"\",\"\",Z147)","v":""},null,{"$f":"IF(AB147=\"\",\"\",AB147)","v":""},null,{"$f":"IF(AD147=\"\",\"\",AD147)","v":""},null,{"$f":"IF(AF147=\"\",\"\",AF147)","v":""},null,{"$f":"IF(AH147=\"\",\"\",AH147)","v":""},null,{"$f":"IF(AJ147=\"\",\"\",AJ147)","v":""},null,{"$f":"IF(AL147=\"\",\"\",AL147)","v":""},null,null,{"$f":"IF(AO147=\"\",\"\",AO147)","v":""},null,null,{"$f":"IF(AR147=\"\",\"\",AR147)","v":""},null,null,null,null,{"$f":"IF(AW147=\"\",\"\",AW147)","v":""}]
[]
[]
[]
[null,null,null,null,null,null,null,null,null,null,null,null,null,null,null,null,null,{"$f":"IF(R151=\"\",\"\",R151)","v":""},null,{"$f":"IF(T151=\"\",\"\",T151)","v":""},null,{"$f":"IF(V151=\"\",\"\",V151)","v":""},null,{"$f":"IF(X151=\"\",\"\",X151)","v":""},null,{"$f":"IF(Z151=\"\",\"\",Z151)","v":""},null,{"$f":"IF(AB151=\"\",\"\",AB151)","v":""},null,{"$f":"IF(AD151=\"\",\"\",AD151)","v":""},null,{"$f":"IF(AF151=\"\",\"\",AF151)","v":""},null,{"$f":"IF(AH151=\"\",\"\",AH151)","v":""},null,{"$f":"IF(AJ151=\"\",\"\",AJ151)","v":""},null,{"$f":"IF(AL151=\"\",\"\",AL151)","v":""},null,null,{"$f":"IF(AO151=\"\",\"\",AO151)","v":""},null,null,{"$f":"IF(AR151=\"\",\"\",AR151)","v":""},null,null,null,null,{"$f":"IF(AW151=\"\",\"\",AW151)","v":""}]
[]
[]
[]
[null,null,null,null,null,null,null,null,null,null,null,null,null,null,null,null,null,{"$f":"IF(R155=\"\",\"\",R155)","v":""},null,{"$f":"IF(T155=\"\",\"\",T155)","v":""},null,{"$f":"IF(V155=\"\",\"\",V155)","v":""},null,{"$f":"IF(X155=\"\",\"\",X155)","v":""},null,{"$f":"IF(Z155=\"\",\"\",Z155)","v":""},null,{"$f":"IF(AB155=\"\",\"\",AB155)","v":""},null,{"$f":"IF(AD155=\"\",\"\",AD155)","v":""},null,{"$f":"IF(AF155=\"\",\"\",AF155)","v":""},null,{"$f":"IF(AH155=\"\",\"\",AH155)","v":""},null,{"$f":"IF(AJ155=\"\",\"\",AJ155)","v":""},null,{"$f":"IF(AL155=\"\",\"\",AL155)","v":""},null,null,{"$f":"IF(AO155=\"\",\"\",AO155)","v":""},null,null,{"$f":"IF(AR155=\"\",\"\",AR155)","v":""},null,null,null,null,{"$f":"IF(AW155=\"\",\"\",AW155)","v":""}]
[]
[]
[]
[null,null,null,null,null,null,null,null,null,null,null,null,null,null,null,null,null,{"$f":"IF(R159=\"\",\"\",R159)","v":""},null,{"$f":"IF(T159=\"\",\"\",T159)","v":""},null,{"$f":"IF(V159=\"\",\"\",V159)","v":""},null,{"$f":"IF(X159=\"\",\"\",X159)","v":""},null,{"$f":"IF(Z159=\"\",\"\",Z159)","v":""},null,{"$f":"IF(AB159=\"\",\"\",AB159)","v":""},null,{"$f":"IF(AD159=\"\",\"\",AD159)","v":""},null,{"$f":"IF(AF159=\"\",\"\",AF159)","v":""},null,{"$f":"IF(AH159=\"\",\"\",AH159)","v":""},null,{"$f":"IF(AJ159=\"\",\"\",AJ159)","v":""},null,{"$f":"IF(AL159=\"\",\"\",AL159)","v":""},null,null,{"$f":"IF(AO159=\"\",\"\",AO159)","v":""},null,null,{"$f":"IF(AR159=\"\",\"\",AR159)","v":""},null,null,null,null,{"$f":"IF(AW159=\"\",\"\",AW159)","v":""}]
[]
[]
[]
[null,null,null,null,null,null,null,null,null,null,null,null,null,null,null,null,null,{"$f":"IF(R163=\"\",\"\",R163)","v":""},null,{"$f":"IF(T163=\"\",\"\",T163)","v":""},null,{"$f":"IF(V163=\"\",\"\",V163)","v":""},null,{"$f":"IF(X163=\"\",\"\",X163)","v":""},null,{"$f":"IF(Z163=\"\",\"\",Z163)","v":""},null,{"$f":"IF(AB163=\"\",\"\",AB163)","v":""},null,{"$f":"IF(AD163=\"\",\"\",AD163)","v":""},null,{"$f":"IF(AF163=\"\",\"\",AF163)","v":""},null,{"$f":"IF(AH163=\"\",\"\",AH163)","v":""},null,{"$f":"IF(AJ163=\"\",\"\",AJ163)","v":""},null,{"$f":"IF(AL163=\"\",\"\",AL163)","v":""},null,null,{"$f":"IF(AO163=\"\",\"\",AO163)","v":""},null,null,{"$f":"IF(AR163=\"\",\"\",AR163)","v":""},null,null,null,null,{"$f":"IF(AW163=\"\",\"\",AW163)","v":""}]
[]
[]
[]
[null,null,null,null,null,null,null,null,null,null,null,null,null,null,null,null,null,{"$f":"IF(R167=\"\",\"\",R167)","v":""},null,{"$f":"IF(T167=\"\",\"\",T167)","v":""},null,{"$f":"IF(V167=\"\",\"\",V167)","v":""},null,{"$f":"IF(X167=\"\",\"\",X167)","v":""},null,{"$f":"IF(Z167=\"\",\"\",Z167)","v":""},null,{"$f":"IF(AB167=\"\",\"\",AB167)","v":""},null,{"$f":"IF(AD167=\"\",\"\",AD167)","v":""},null,{"$f":"IF(AF167=\"\",\"\",AF167)","v":""},null,{"$f":"IF(AH167=\"\",\"\",AH167)","v":""},null,{"$f":"IF(AJ167=\"\",\"\",AJ167)","v":""},null,{"$f":"IF(AL167=\"\",\"\",AL167)","v":""},null,null,{"$f":"IF(AO167=\"\",\"\",AO167)","v":""},null,null,{"$f":"IF(AR167=\"\",\"\",AR167)","v":""},null,null,null,null,{"$f":"IF(AW167=\"\",\"\",AW167)","v":""}]
[]
[]
[]
[null,null,null,null,null,null,null,null,null,null,null,null,null,null,null,null,null,{"$f":"IF(R171=\"\",\"\",R171)","v":""},null,{"$f":"IF(T171=\"\",\"\",T171)","v":""},null,{"$f":"IF(V171=\"\",\"\",V171)","v":""},null,{"$f":"IF(X171=\"\",\"\",X171)","v":""},null,{"$f":"IF(Z171=\"\",\"\",Z171)","v":""},null,{"$f":"IF(AB171=\"\",\"\",AB171)","v":""},null,{"$f":"IF(AD171=\"\",\"\",AD171)","v":""},null,{"$f":"IF(AF171=\"\",\"\",AF171)","v":""},null,{"$f":"IF(AH171=\"\",\"\",AH171)","v":""},null,{"$f":"IF(AJ171=\"\",\"\",AJ171)","v":""},null,{"$f":"IF(AL171=\"\",\"\",AL171)","v":""},null,null,{"$f":"IF(AO171=\"\",\"\",AO171)","v":""},null,null,{"$f":"IF(AR171=\"\",\"\",AR171)","v":""},null,null,null,null,{"$f":"IF(AW171=\"\",\"\",AW171)","v":""}]
[]
[]
[]
[null,null,null,null,null,null,null,null,null,null,null,null,null,null,null,null,null,null,null,null,null,null,null,null,null,null,null,null,null,null,null,null,null,null,null,null,null,"値引き等",null,null,null,null,null,null,null,null,null,null,{"$f":"IF(AW175=\"\",\"\",AW175)","v":""}]
[]
[]
[]
[]
[null,null,null,null,null,null,null,null,null,null,null,null,null,null,null,null,null,null,null,null,null,null,null,null,null,null,null,null,null,null,null,null,null,null,null,null,null,{"$f":"\"合計(\" & IF(税処理=2,\"税込\",\"税抜\")&\")\"","v":"合計(税抜)"},null,null,null,null,null,null,null,null,null,null,{"$f":"IF(AW180=\"\",\"\",AW180)","v":""}]

{"sheet":"細1-11","index":13,"n_rows":272,"n_cols":53,"rows_kept":272,"cut":false,"hidden":false,"merged":[[266,37,269,47],[266,48,269,54],[258,48,261,54],[262,17,265,18],[262,19,265,20],[262,21,265,36],[262,37,265,39],[258,43,261,47],[271,37,274,47],[271,48,274,54],[262,40,265,42],[262,43,265,47],[262,48,265,54],[258,17,261,18],[258,19,261,20],[258,21,261,36],[258,37,261,39],[258,40,261,42],[250,48,253,54],[254,17,257,18],[254,19,257,20],[254,21,257,36],[254,37,257,39],[254,40,257,42],[254,43,257,47],[254,48,257,54],[250,17,253,18],[250,19,253,20],[250,21,253,36],[250,37,253,39],[250,40,253,42],[250,43,253,47],[242,48,245,54],[246,17,249,18],[246,19,249,20],[246,21,249,36],[246,37,249,39],[246,40,249,42],[246,43,249,47],[246,48,249,54],[242,17,245,18],[242,19,245,20],[242,21,245,36],[242,37,245,39],[242,40,245,42],[242,43,245,47],[234,48,237,54],[238,17,241,18],[238,19,241,20],[238,21,241,36],[238,37,241,39],[238,40,241,42],[238,43,241,47],[238,48,241,54],[234,17,237,18],[234,19,237,20],[234,21,237,36],[234,37,237,39],[234,40,237,42],[234,43,237,47],[222,17,225,18],[222,19,225,20],[222,21,225,36],[222,37,225,39],[222,40,225,42],[222,43,225,47],[222,48,225,54],[226,48,229,54],[230,17,233,18],[230,19,233,20],[230,21,233,36],[230,37,233,39],[230,40,233,42],[230,43,233,47],[230,48,233,54],[226,17,229,18],[226,19,229,20],[226,21,229,36],[226,37,229,39],[226,40,229,42],[226,43,229,47],[218,1,221,5],[218,6,221,15],[218,17,221,18],[218,19,221,20],[218,21,221,36],[218,37,221,39],[218,40,221,42],[218,43,221,47],[218,48,221,54],[210,40,213,42],[210,43,213,47],[210,48,213,54],[214,1,217,3],[214,4,217,5],[214,6,217,15],[214,17,217,18],[214,19,217,20],[214,21,217,36],[214,37,217,39],[210,1,213,5],[210,6,213,15],[210,17,213,18],[210,19,213,20],[210,21,213,36],[210,37,213,39],[214,40,217,42],[214,43,217,47],[214,48,217,54],[206,1,209,5],[206,6,209,15],[206,17,209,18],[206,19,209,20],[206,21,209,36],[206,37,209,39],[206,40,209,42],[206,43,209,47],[206,48,209,54],[198,43,201,47],[198,48,201,54],[202,1,205,5],[202,6,205,15],[202,17,205,18],[202,19,205,20],[202,21,205,36],[202,37,205,39],[202,40,205,42],[202,43,205,47],[198,1,201,5],[198,6,201,15],[198,17,201,20],[198,21,201,36],[198,37,201,39],[198,40,201,42],[202,48,205,54],[187,52,189,54],[192,1,195,5],[192,6,195,11],[192,12,195,15],[192,16,195,35],[192,37,195,40],[192,41,195,54],[185,19,188,32],[186,1,189,11],[186,12,189,13],[187,41,189,45],[187,46,189,48],[187,49,189,51],[174,37,177,47],[174,48,177,54],[179,37,182,47],[179,48,182,54],[170,17,173,18],[170,19,173,20],[170,21,173,36],[170,37,173,39],[170,40,173,42],[170,43,173,47],[170,48,173,54],[166,17,169,18],[166,19,169,20],[162,43,165,47],[162,48,165,54],[158,17,161,18],[158,19,161,20],[158,21,161,36],[158,37,161,39],[158,40,161,42],[162,17,165,18],[162,19,165,20],[162,21,165,36],[162,37,165,39],[162,40,165,42],[166,48,169,54],[158,43,161,47],[166,21,169,36],[166,37,169,39],[166,40,169,42],[166,43,169,47],[158,48,161,54],[154,48,157,54],[150,17,153,18],[150,19,153,20],[146,43,149,47],[146,48,149,54],[142,17,145,18],[142,19,145,20],[142,21,145,36],[142,37,145,39],[142,40,145,42],[154,17,157,18],[154,19,157,20],[154,21,157,36],[154,37,157,39],[154,40,157,42],[154,43,157,47],[146,17,149,18],[146,19,149,20],[146,21,149,36],[146,37,149,39],[146,40,149,42],[150,48,153,54],[142,43,145,47],[150,21,153,36],[150,37,153,39],[150,40,153,42],[150,43,153,47],[142,48,145,54],[130,48,133,54],[134,48,137,54],[130,17,133,18],[130,19,133,20],[130,21,133,36],[130,37,133,39],[130,40,133,42],[130,43,133,47],[138,48,141,54],[134,17,137,18],[134,19,137,20],[134,21,137,36],[134,37,137,39],[134,40,137,42],[134,43,137,47],[138,17,141,18],[138,19,141,20],[138,21,141,36],[138,37,141,39],[138,40,141,42],[138,43,141,47],[126,1,129,5],[126,6,129,15],[126,17,129,18],[126,19,129,20],[126,21,129,36],[126,37,129,39],[126,40,129,42],[126,43,129,47],[126,48,129,54],[118,40,121,42],[118,43,121,47],[118,48,121,54],[122,1,125,3],[122,4,125,5],[122,6,125,15],[122,17,125,18],[122,19,125,20],[122,21,125,36],[122,37,125,39],[118,1,121,5],[118,6,121,15],[118,17,121,18],[118,19,121,20],[118,21,121,36],[118,37,121,39],[122,40,125,42],[122,43,125,47],[122,48,125,54],[114,1,117,5],[114,6,117,15],[114,17,117,18],[114,19,117,20],[114,21,117,36],[114,37,117,39],[114,40,117,42],[114,43,117,47],[114,48,117,54],[106,43,109,47],[106,48,109,54],[110,1,113,5],[110,6,113,15],[110,17,113,18],[110,19,113,20],[110,21,113,36],[110,37,113,39],[110,40,113,42],[110,43,113,47],[106,1,109,5],[106,6,109,15],[106,17,109,20],[106,21,109,36],[106,37,109,39],[106,40,109,42],[110,48,113,54],[95,49,97,51],[95,52,97,54],[100,1,103,5],[100,6,103,11],[100,12,103,15],[100,16,103,35],[100,37,103,40],[100,41,103,54],[93,19,96,32],[94,1,97,11],[94,12,97,13],[95,41,97,45],[83,1,84,4],[83,5,84,10],[87,37,90,47],[83,11,84,16],[83,17,84,25],[95,46,97,48],[85,1,90,4],[85,5,90,10],[85,11,90,16],[85,17,90,25],[78,43,81,47],[83,26,84,30],[83,31,84,35],[78,17,81,18],[78,19,81,20],[78,21,81,36],[85,26,90,30],[85,31,90,35],[74,48,77,54],[87,48,90,54],[78,48,81,54],[82,37,85,47],[82,48,85,54],[78,37,81,39],[78,40,81,42],[74,17,77,18],[74,19,77,20],[74,21,77,36],[74,37,77,39],[74,40,77,42],[74,43,77,47],[66,48,69,54],[70,17,73,18],[70,19,73,20],[70,21,73,36],[70,37,73,39],[70,40,73,42],[70,43,73,47],[70,48,73,54],[66,17,69,18],[66,19,69,20],[66,21,69,36],[66,37,69,39],[66,40,69,42],[66,43,69,47],[58,48,61,54],[62,17,65,18],[62,19,65,20],[62,21,65,36],[62,37,65,39],[62,40,65,42],[62,43,65,47],[62,48,65,54],[58,17,61,18],[58,19,61,20],[58,21,61,36],[58,37,61,39],[58,40,61,42],[58,43,61,47],[50,48,53,54],[54,17,57,18],[54,19,57,20],[54,21,57,36],[54,37,57,39],[54,40,57,42],[54,43,57,47],[54,48,57,54],[50,17,53,18],[50,19,53,20],[50,21,53,36],[50,37,53,39],[50,40,53,42],[50,43,53,47],[38,17,41,18],[38,19,41,20],[38,21,41,36],[38,37,41,39],[38,40,41,42],[38,43,41,47],[38,48,41,54],[42,48,45,54],[46,17,49,18],[46,19,49,20],[46,21,49,36],[46,37,49,39],[46,40,49,42],[46,43,49,47],[46,48,49,54],[42,17,45,18],[42,19,45,20],[42,21,45,36],[42,37,45,39],[42,40,45,42],[42,43,45,47],[34,1,37,5],[34,6,37,15],[34,17,37,18],[34,19,37,20],[34,21,37,36],[34,37,37,39],[34,40,37,42],[34,43,37,47],[34,48,37,54],[26,40,29,42],[26,43,29,47],[26,48,29,54],[30,1,33,3],[30,4,33,5],[30,6,33,15],[30,17,33,18],[30,19,33,20],[30,21,33,36],[30,37,33,39],[26,1,29,5],[26,6,29,15],[26,17,29,18],[26,19,29,20],[26,21,29,36],[26,37,29,39],[30,40,33,42],[30,43,33,47],[30,48,33,54],[22,1,25,5],[22,6,25,15],[22,17,25,18],[22,19,25,20],[22,21,25,36],[22,37,25,39],[22,40,25,42],[22,43,25,47],[22,48,25,54],[14,43,17,47],[14,48,17,54],[18,1,21,5],[18,6,21,15],[18,17,21,18],[18,19,21,20],[18,21,21,36],[18,37,21,39],[18,40,21,42],[18,43,21,47],[14,1,17,5],[14,6,17,15],[14,17,17,20],[14,21,17,36],[14,37,17,39],[14,40,17,42],[18,48,21,54],[3,52,5,54],[8,37,11,40],[8,41,11,54],[3,41,5,45],[1,19,4,32],[2,1,5,11],[2,12,5,13],[8,1,11,5],[8,6,11,11],[8,12,11,15],[8,16,11,35],[3,46,5,48],[3,49,5,51]]}
[]
[null,null,null,null,null,null,null,null,null,null,null,null,null,null,null,null,null,null,null,"請求書明細書 (正)"]
[null,"株 式 会 社 種 村 建 設",null,null,null,null,null,null,null,null,null,null,"御中"]
[null,null,null,null,null,null,null,null,null,null,null,null,null,null,null,null,null,null,null,null,null,null,null,null,null,null,null,null,null,null,null,null,null,null,null,null,null,null,null,null,null,"請求年月日",null,null,null,null,{"$f":"年","v":23},null,null,{"$f":"月","v":5},null,null,{"$f":"日","v":31}]
[]
[]
[]
[]
[null,"工事番号",null,null,null,null,null,null,null,null,null,null,"工事名",null,null,null,null,null,null,null,null,null,null,null,null,null,null,null,null,null,null,null,null,null,null,null,null,"業者名",null,null,null,{"$f":"社名","v":"例：㈱種村建設"}]
[]
[]
[]
[]
[]
[null,"注文番号",null,null,null,null,null,null,null,null,null,null,null,null,null,null,null,"月　日",null,null,null,"摘要･品名",null,null,null,null,null,null,null,null,null,null,null,null,null,null,null,"数 量",null,null,"単位",null,null,"単価",null,null,null,null,{"$f":"\"金額(\" & IF(税処理=2,\"税込\",\"税抜\")&\")\"","v":"金額(税抜)"}]
[]
[]
[]
[null,"契約金額",null,null,null,null,null,null,null,null,null,null,null,null,null,null,null,null,null,null,null,null,null,null,null,null,null,null,null,null,null,null,null,null,null,null,null,null,null,null,null,null,null,null,null,null,null,null,{"$f":"IF(V19=\"\",\"\",AL19*AR19)","v":""}]
[]
[]
[]
[null,"増減額",null,null,null,null,null,null,null,null,null,null,null,null,null,null,null,null,null,null,null,null,null,null,null,null,null,null,null,null,null,null,null,null,null,null,null,null,null,null,null,null,null,null,null,null,null,null,{"$f":"IF(V23=\"\",\"\",AL23*AR23)","v":""}]
[]
[]
[]
[null,"前回までの\n請求額",null,null,null,null,null,null,null,null,null,null,null,null,null,null,null,null,null,null,null,null,null,null,null,null,null,null,null,null,null,null,null,null,null,null,null,null,null,null,null,null,null,null,null,null,null,null,{"$f":"IF(V27=\"\",\"\",AL27*AR27)","v":""}]
[]
[]
[]
[null,"今回\n請求額",null,null,null,null,null,null,null,null,null,null,null,null,null,null,null,null,null,null,null,null,null,null,null,null,null,null,null,null,null,null,null,null,null,null,null,null,null,null,null,null,null,null,null,null,null,null,{"$f":"IF(V31=\"\",\"\",AL31*AR31)","v":""}]
[]
[]
[]
[null,"差引残高",null,null,null,null,{"$f":"IF(G19=\"\",\"\",G19+G23-G27-G31)","v":""},null,null,null,null,null,null,null,null,null,null,null,null,null,null,null,null,null,null,null,null,null,null,null,null,null,null,null,null,null,null,null,null,null,null,null,null,null,null,null,null,null,{"$f":"IF(V35=\"\",\"\",AL35*AR35)","v":""}]
[]
[]
[]
[null,null,null,null,null,null,null,null,null,null,null,null,null,null,null,null,null,null,null,null,null,null,null,null,null,null,null,null,null,null,null,null,null,null,null,null,null,null,null,null,null,null,null,null,null,null,null,null,{"$f":"IF(V39=\"\",\"\",AL39*AR39)","v":""}]
[]
[]
[]
[null,null,null,null,null,null,null,null,null,null,null,null,null,null,null,null,null,null,null,null,null,null,null,null,null,null,null,null,null,null,null,null,null,null,null,null,null,null,null,null,null,null,null,null,null,null,null,null,{"$f":"IF(V43=\"\",\"\",AL43*AR43)","v":""}]
[]
[]
[]
[null,null,null,null,null,null,null,null,null,null,null,null,null,null,null,null,null,null,null,null,null,null,null,null,null,null,null,null,null,null,null,null,null,null,null,null,null,null,null,null,null,null,null,null,null,null,null,null,{"$f":"IF(V47=\"\",\"\",AL47*AR47)","v":""}]
[]
[]
[]
[null,null,null,null,null,null,null,null,null,null,null,null,null,null,null,null,null,null,null,null,null,null,null,null,null,null,null,null,null,null,null,null,null,null,null,null,null,null,null,null,null,null,null,null,null,null,null,null,{"$f":"IF(V51=\"\",\"\",AL51*AR51)","v":""}]
[]
[]
[]
[null,null,null,null,null,null,null,null,null,null,null,null,null,null,null,null,null,null,null,null,null,null,null,null,null,null,null,null,null,null,null,null,null,null,null,null,null,null,null,null,null,null,null,null,null,null,null,null,{"$f":"IF(V55=\"\",\"\",AL55*AR55)","v":""}]
[]
[]
[]
[null,null,null,null,null,null,null,null,null,null,null,null,null,null,null,null,null,null,null,null,null,null,null,null,null,null,null,null,null,null,null,null,null,null,null,null,null,null,null,null,null,null,null,null,null,null,null,null,{"$f":"IF(V59=\"\",\"\",AL59*AR59)","v":""}]
[]
[]
[]
[null,null,null,null,null,null,null,null,null,null,null,null,null,null,null,null,null,null,null,null,null,null,null,null,null,null,null,null,null,null,null,null,null,null,null,null,null,null,null,null,null,null,null,null,null,null,null,null,{"$f":"IF(V63=\"\",\"\",AL63*AR63)","v":""}]
[]
[]
[]
[null,null,null,null,null,null,null,null,null,null,null,null,null,null,null,null,null,null,null,null,null,null,null,null,null,null,null,null,null,null,null,null,null,null,null,null,null,null,null,null,null,null,null,null,null,null,null,null,{"$f":"IF(V67=\"\",\"\",AL67*AR67)","v":""}]
[]
[]
[]
[null,null,null,null,null,null,null,null,null,null,null,null,null,null,null,null,null,null,null,null,null,null,null,null,null,null,null,null,null,null,null,null,null,null,null,null,null,null,null,null,null,null,null,null,null,null,null,null,{"$f":"IF(V71=\"\",\"\",AL71*AR71)","v":""}]
[]
[]
[]
[null,null,null,null,null,null,null,null,null,null,null,null,null,null,null,null,null,null,null,null,null,null,null,null,null,null,null,null,null,null,null,null,null,null,null,null,null,null,null,null,null,null,null,null,null,null,null,null,{"$f":"IF(V75=\"\",\"\",AL75*AR75)","v":""}]
[]
[]
[]
[null,null,null,null,null,null,null,null,null,null,null,null,null,null,null,null,null,null,null,null,null,null,null,null,null,null,null,null,null,null,null,null,null,null,null,null,null,null,null,null,null,null,null,null,null,null,null,null,{"$f":"IF(V79=\"\",\"\",AL79*AR79)","v":""}]
[]
[]
[]
[null,null,null,null,null,null,null,null,null,null,null,null,null,null,null,null,null,null,null,null,null,null,null,null,null,null,null,null,null,null,null,null,null,null,null,null,null,"値引き等"]
[null,"社長",null,null,null,"専務",null,null,null,null,null,"常務",null,null,null,null,null,"部長･工場長",null,null,null,null,null,null,null,null,"担当者",null,null,null,null,"受付"]
[]
[]
[]
[null,null,null,null,null,null,null,null,null,null,null,null,null,null,null,null,null,null,null,null,null,null,null,null,null,null,null,null,null,null,null,null,null,null,null,null,null,{"$f":"\"合計(\" & IF(税処理=2,\"税込\",\"税抜\")&\")\"","v":"合計(税抜)"},null,null,null,null,null,null,null,null,null,null,{"$f":"IF(AW19=\"\",\"\",SUM(AW19:AW79)+AW83)","v":""}]
[]
[]
[]
[]
[]
[null,null,null,null,null,null,null,null,null,null,null,null,null,null,null,null,null,null,null,"請求明細書 (現場控)"]
[null,"株 式 会 社 種 村 建 設",null,null,null,null,null,null,null,null,null,null,"御中"]
[null,null,null,null,null,null,null,null,null,null,null,null,null,null,null,null,null,null,null,null,null,null,null,null,null,null,null,null,null,null,null,null,null,null,null,null,null,null,null,null,null,"請求年月日",null,null,null,null,{"$f":"IF(AU4=\"\",\"\",AU4)","v":23},null,null,{"$f":"IF(AX4=\"\",\"\",AX4)","v":5},null,null,{"$f":"IF(BA4=\"\",\"\",BA4)","v":31}]
[]
[]
[]
[]
[null,"工事番号",null,null,null,null,{"$f":"IF(G9=\"\",\"\",G9)","v":""},null,null,null,null,null,"工事名",null,null,null,{"$f":"IF(Q9=\"\",\"\",Q9)","v":""},null,null,null,null,null,null,null,null,null,null,null,null,null,null,null,null,null,null,null,null,"業者名",null,null,null,{"$f":"IF(AP9=\"\",\"\",AP9)","v":"例：㈱種村建設"}]
[]
[]
[]
[]
[]
[null,"注文番号",null,null,null,null,{"$f":"IF(G15=\"\",\"\",G15)","v":""},null,null,null,null,null,null,null,null,null,null,"月　日",null,null,null,"摘要･品名",null,null,null,null,null,null,null,null,null,null,null,null,null,null,null,"数 量",null,null,"単位",null,null,"単価",null,null,null,null,{"$f":"\"金額(\" & IF(税処理=2,\"税込\",\"税抜\")&\")\"","v":"金額(税抜)"}]
[]
[]
[]
[null,"契約金額",null,null,null,null,{"$f":"IF(G19=\"\",\"\",G19)","v":""},null,null,null,null,null,null,null,null,null,null,{"$f":"IF(R19=\"\",\"\",R19)","v":""},null,{"$f":"IF(T19=\"\",\"\",T19)","v":""},null,{"$f":"IF(V19=\"\",\"\",V19)","v":""},null,{"$f":"IF(X19=\"\",\"\",X19)","v":""},null,{"$f":"IF(Z19=\"\",\"\",Z19)","v":""},null,{"$f":"IF(AB19=\"\",\"\",AB19)","v":""},null,{"$f":"IF(AD19=\"\",\"\",AD19)","v":""},null,{"$f":"IF(AF19=\"\",\"\",AF19)","v":""},null,{"$f":"IF(AH19=\"\",\"\",AH19)","v":""},null,{"$f":"IF(AJ19=\"\",\"\",AJ19)","v":""},null,{"$f":"IF(AL19=\"\",\"\",AL19)","v":""},null,null,{"$f":"IF(AO19=\"\",\"\",AO19)","v":""},null,null,{"$f":"IF(AR19=\"\",\"\",AR19)","v":""},null,null,null,null,{"$f":"IF(AW19=\"\",\"\",AW19)","v":""}]
[]
[]
[]
[null,"増減額",null,null,null,null,{"$f":"IF(G23=\"\",\"\",G23)","v":""},null,null,null,null,null,null,null,null,null,null,{"$f":"IF(R23=\"\",\"\",R23)","v":""},null,{"$f":"IF(T23=\"\",\"\",T23)","v":""},null,{"$f":"IF(V23=\"\",\"\",V23)","v":""},null,{"$f":"IF(X23=\"\",\"\",X23)","v":""},null,{"$f":"IF(Z23=\"\",\"\",Z23)","v":""},null,{"$f":"IF(AB23=\"\",\"\",AB23)","v":""},null,{"$f":"IF(AD23=\"\",\"\",AD23)","v":""},null,{"$f":"IF(AF23=\"\",\"\",AF23)","v":""},null,{"$f":"IF(AH23=\"\",\"\",AH23)","v":""},null,{"$f":"IF(AJ23=\"\",\"\",AJ23)","v":""},null,{"$f":"IF(AL23=\"\",\"\",AL23)","v":""},null,null,{"$f":"IF(AO23=\"\",\"\",AO23)","v":""},null,null,{"$f":"IF(AR23=\"\",\"\",AR23)","v":""},null,null,null,null,{"$f":"IF(AW23=\"\",\"\",AW23)","v":""}]
[]
[]
[]
[null,"前回までの\n請求額",null,null,null,null,{"$f":"IF(G27=\"\",\"\",G27)","v":""},null,null,null,null,null,null,null,null,null,null,{"$f":"IF(R27=\"\",\"\",R27)","v":""},null,{"$f":"IF(T27=\"\",\"\",T27)","v":""},null,{"$f":"IF(V27=\"\",\"\",V27)","v":""},null,{"$f":"IF(X27=\"\",\"\",X27)","v":""},null,{"$f":"IF(Z27=\"\",\"\",Z27)","v":""},null,{"$f":"IF(AB27=\"\",\"\",AB27)","v":""},null,{"$f":"IF(AD27=\"\",\"\",AD27)","v":""},null,{"$f":"IF(AF27=\"\",\"\",AF27)","v":""},null,{"$f":"IF(AH27=\"\",\"\",AH27)","v":""},null,{"$f":"IF(AJ27=\"\",\"\",AJ27)","v":""},null,{"$f":"IF(AL27=\"\",\"\",AL27)","v":""},null,null,{"$f":"IF(AO27=\"\",\"\",AO27)","v":""},null,null,{"$f":"IF(AR27=\"\",\"\",AR27)","v":""},null,null,null,null,{"$f":"IF(AW27=\"\",\"\",AW27)","v":""}]
[]
[]
[]
[null,"今回\n請求額",null,null,{"$f":"IF(E31=\"\",\"\",E31)","v":""},null,{"$f":"IF(G31=\"\",\"\",G31)","v":""},null,null,null,null,null,null,null,null,null,null,{"$f":"IF(R31=\"\",\"\",R31)","v":""},null,{"$f":"IF(T31=\"\",\"\",T31)","v":""},null,{"$f":"IF(V31=\"\",\"\",V31)","v":""},null,{"$f":"IF(X31=\"\",\"\",X31)","v":""},null,{"$f":"IF(Z31=\"\",\"\",Z31)","v":""},null,{"$f":"IF(AB31=\"\",\"\",AB31)","v":""},null,{"$f":"IF(AD31=\"\",\"\",AD31)","v":""},null,{"$f":"IF(AF31=\"\",\"\",AF31)","v":""},null,{"$f":"IF(AH31=\"\",\"\",AH31)","v":""},null,{"$f":"IF(AJ31=\"\",\"\",AJ31)","v":""},null,{"$f":"IF(AL31=\"\",\"\",AL31)","v":""},null,null,{"$f":"IF(AO31=\"\",\"\",AO31)","v":""},null,null,{"$f":"IF(AR31=\"\",\"\",AR31)","v":""},null,null,null,null,{"$f":"IF(AW31=\"\",\"\",AW31)","v":""}]
[]
[]
[]
[null,"差引残高",null,null,null,null,{"$f":"IF(G111=\"\",\"\",G111+G115-G119-G123)","v":""},null,null,null,null,null,null,null,null,null,null,{"$f":"IF(R35=\"\",\"\",R35)","v":""},null,{"$f":"IF(T35=\"\",\"\",T35)","v":""},null,{"$f":"IF(V35=\"\",\"\",V35)","v":""},null,{"$f":"IF(X35=\"\",\"\",X35)","v":""},null,{"$f":"IF(Z35=\"\",\"\",Z35)","v":""},null,{"$f":"IF(AB35=\"\",\"\",AB35)","v":""},null,{"$f":"IF(AD35=\"\",\"\",AD35)","v":""},null,{"$f":"IF(AF35=\"\",\"\",AF35)","v":""},null,{"$f":"IF(AH35=\"\",\"\",AH35)","v":""},null,{"$f":"IF(AJ35=\"\",\"\",AJ35)","v":""},null,{"$f":"IF(AL35=\"\",\"\",AL35)","v":""},null,null,{"$f":"IF(AO35=\"\",\"\",AO35)","v":""},null,null,{"$f":"IF(AR35=\"\",\"\",AR35)","v":""},null,null,null,null,{"$f":"IF(AW35=\"\",\"\",AW35)","v":""}]
[]
[]
[]
[null,null,null,null,null,null,null,null,null,null,null,null,null,null,null,null,null,{"$f":"IF(R39=\"\",\"\",R39)","v":""},null,{"$f":"IF(T39=\"\",\"\",T39)","v":""},null,{"$f":"IF(V39=\"\",\"\",V39)","v":""},null,{"$f":"IF(X39=\"\",\"\",X39)","v":""},null,{"$f":"IF(Z39=\"\",\"\",Z39)","v":""},null,{"$f":"IF(AB39=\"\",\"\",AB39)","v":""},null,{"$f":"IF(AD39=\"\",\"\",AD39)","v":""},null,{"$f":"IF(AF39=\"\",\"\",AF39)","v":""},null,{"$f":"IF(AH39=\"\",\"\",AH39)","v":""},null,{"$f":"IF(AJ39=\"\",\"\",AJ39)","v":""},null,{"$f":"IF(AL39=\"\",\"\",AL39)","v":""},null,null,{"$f":"IF(AO39=\"\",\"\",AO39)","v":""},null,null,{"$f":"IF(AR39=\"\",\"\",AR39)","v":""},null,null,null,null,{"$f":"IF(AW39=\"\",\"\",AW39)","v":""}]
[]
[]
[]
[null,null,null,null,null,null,null,null,null,null,null,null,null,null,null,null,null,{"$f":"IF(R43=\"\",\"\",R43)","v":""},null,{"$f":"IF(T43=\"\",\"\",T43)","v":""},null,{"$f":"IF(V43=\"\",\"\",V43)","v":""},null,{"$f":"IF(X43=\"\",\"\",X43)","v":""},null,{"$f":"IF(Z43=\"\",\"\",Z43)","v":""},null,{"$f":"IF(AB43=\"\",\"\",AB43)","v":""},null,{"$f":"IF(AD43=\"\",\"\",AD43)","v":""},null,{"$f":"IF(AF43=\"\",\"\",AF43)","v":""},null,{"$f":"IF(AH43=\"\",\"\",AH43)","v":""},null,{"$f":"IF(AJ43=\"\",\"\",AJ43)","v":""},null,{"$f":"IF(AL43=\"\",\"\",AL43)","v":""},null,null,{"$f":"IF(AO43=\"\",\"\",AO43)","v":""},null,null,{"$f":"IF(AR43=\"\",\"\",AR43)","v":""},null,null,null,null,{"$f":"IF(AW43=\"\",\"\",AW43)","v":""}]
[]
[]
[]
[null,null,null,null,null,null,null,null,null,null,null,null,null,null,null,null,null,{"$f":"IF(R47=\"\",\"\",R47)","v":""},null,{"$f":"IF(T47=\"\",\"\",T47)","v":""},null,{"$f":"IF(V47=\"\",\"\",V47)","v":""},null,{"$f":"IF(X47=\"\",\"\",X47)","v":""},null,{"$f":"IF(Z47=\"\",\"\",Z47)","v":""},null,{"$f":"IF(AB47=\"\",\"\",AB47)","v":""},null,{"$f":"IF(AD47=\"\",\"\",AD47)","v":""},null,{"$f":"IF(AF47=\"\",\"\",AF47)","v":""},null,{"$f":"IF(AH47=\"\",\"\",AH47)","v":""},null,{"$f":"IF(AJ47=\"\",\"\",AJ47)","v":""},null,{"$f":"IF(AL47=\"\",\"\",AL47)","v":""},null,null,{"$f":"IF(AO47=\"\",\"\",AO47)","v":""},null,null,{"$f":"IF(AR47=\"\",\"\",AR47)","v":""},null,null,null,null,{"$f":"IF(AW47=\"\",\"\",AW47)","v":""}]
[]
[]
[]
[null,null,null,null,null,null,null,null,null,null,null,null,null,null,null,null,null,{"$f":"IF(R51=\"\",\"\",R51)","v":""},null,{"$f":"IF(T51=\"\",\"\",T51)","v":""},null,{"$f":"IF(V51=\"\",\"\",V51)","v":""},null,{"$f":"IF(X51=\"\",\"\",X51)","v":""},null,{"$f":"IF(Z51=\"\",\"\",Z51)","v":""},null,{"$f":"IF(AB51=\"\",\"\",AB51)","v":""},null,{"$f":"IF(AD51=\"\",\"\",AD51)","v":""},null,{"$f":"IF(AF51=\"\",\"\",AF51)","v":""},null,{"$f":"IF(AH51=\"\",\"\",AH51)","v":""},null,{"$f":"IF(AJ51=\"\",\"\",AJ51)","v":""},null,{"$f":"IF(AL51=\"\",\"\",AL51)","v":""},null,null,{"$f":"IF(AO51=\"\",\"\",AO51)","v":""},null,null,{"$f":"IF(AR51=\"\",\"\",AR51)","v":""},null,null,null,null,{"$f":"IF(AW51=\"\",\"\",AW51)","v":""}]
[]
[]
[]
[null,null,null,null,null,null,null,null,null,null,null,null,null,null,null,null,null,{"$f":"IF(R55=\"\",\"\",R55)","v":""},null,{"$f":"IF(T55=\"\",\"\",T55)","v":""},null,{"$f":"IF(V55=\"\",\"\",V55)","v":""},null,{"$f":"IF(X55=\"\",\"\",X55)","v":""},null,{"$f":"IF(Z55=\"\",\"\",Z55)","v":""},null,{"$f":"IF(AB55=\"\",\"\",AB55)","v":""},null,{"$f":"IF(AD55=\"\",\"\",AD55)","v":""},null,{"$f":"IF(AF55=\"\",\"\",AF55)","v":""},null,{"$f":"IF(AH55=\"\",\"\",AH55)","v":""},null,{"$f":"IF(AJ55=\"\",\"\",AJ55)","v":""},null,{"$f":"IF(AL55=\"\",\"\",AL55)","v":""},null,null,{"$f":"IF(AO55=\"\",\"\",AO55)","v":""},null,null,{"$f":"IF(AR55=\"\",\"\",AR55)","v":""},null,null,null,null,{"$f":"IF(AW55=\"\",\"\",AW55)","v":""}]
[]
[]
[]
[null,null,null,null,null,null,null,null,null,null,null,null,null,null,null,null,null,{"$f":"IF(R59=\"\",\"\",R59)","v":""},null,{"$f":"IF(T59=\"\",\"\",T59)","v":""},null,{"$f":"IF(V59=\"\",\"\",V59)","v":""},null,{"$f":"IF(X59=\"\",\"\",X59)","v":""},null,{"$f":"IF(Z59=\"\",\"\",Z59)","v":""},null,{"$f":"IF(AB59=\"\",\"\",AB59)","v":""},null,{"$f":"IF(AD59=\"\",\"\",AD59)","v":""},null,{"$f":"IF(AF59=\"\",\"\",AF59)","v":""},null,{"$f":"IF(AH59=\"\",\"\",AH59)","v":""},null,{"$f":"IF(AJ59=\"\",\"\",AJ59)","v":""},null,{"$f":"IF(AL59=\"\",\"\",AL59)","v":""},null,null,{"$f":"IF(AO59=\"\",\"\",AO59)","v":""},null,null,{"$f":"IF(AR59=\"\",\"\",AR59)","v":""},null,null,null,null,{"$f":"IF(AW59=\"\",\"\",AW59)","v":""}]
[]
[]
[]
[null,null,null,null,null,null,null,null,null,null,null,null,null,null,null,null,null,{"$f":"IF(R63=\"\",\"\",R63)","v":""},null,{"$f":"IF(T63=\"\",\"\",T63)","v":""},null,{"$f":"IF(V63=\"\",\"\",V63)","v":""},null,{"$f":"IF(X63=\"\",\"\",X63)","v":""},null,{"$f":"IF(Z63=\"\",\"\",Z63)","v":""},null,{"$f":"IF(AB63=\"\",\"\",AB63)","v":""},null,{"$f":"IF(AD63=\"\",\"\",AD63)","v":""},null,{"$f":"IF(AF63=\"\",\"\",AF63)","v":""},null,{"$f":"IF(AH63=\"\",\"\",AH63)","v":""},null,{"$f":"IF(AJ63=\"\",\"\",AJ63)","v":""},null,{"$f":"IF(AL63=\"\",\"\",AL63)","v":""},null,null,{"$f":"IF(AO63=\"\",\"\",AO63)","v":""},null,null,{"$f":"IF(AR63=\"\",\"\",AR63)","v":""},null,null,null,null,{"$f":"IF(AW63=\"\",\"\",AW63)","v":""}]
[]
[]
[]
[null,null,null,null,null,null,null,null,null,null,null,null,null,null,null,null,null,{"$f":"IF(R67=\"\",\"\",R67)","v":""},null,{"$f":"IF(T67=\"\",\"\",T67)","v":""},null,{"$f":"IF(V67=\"\",\"\",V67)","v":""},null,{"$f":"IF(X67=\"\",\"\",X67)","v":""},null,{"$f":"IF(Z67=\"\",\"\",Z67)","v":""},null,{"$f":"IF(AB67=\"\",\"\",AB67)","v":""},null,{"$f":"IF(AD67=\"\",\"\",AD67)","v":""},null,{"$f":"IF(AF67=\"\",\"\",AF67)","v":""},null,{"$f":"IF(AH67=\"\",\"\",AH67)","v":""},null,{"$f":"IF(AJ67=\"\",\"\",AJ67)","v":""},null,{"$f":"IF(AL67=\"\",\"\",AL67)","v":""},null,null,{"$f":"IF(AO67=\"\",\"\",AO67)","v":""},null,null,{"$f":"IF(AR67=\"\",\"\",AR67)","v":""},null,null,null,null,{"$f":"IF(AW67=\"\",\"\",AW67)","v":""}]
[]
[]
[]
[null,null,null,null,null,null,null,null,null,null,null,null,null,null,null,null,null,{"$f":"IF(R71=\"\",\"\",R71)","v":""},null,{"$f":"IF(T71=\"\",\"\",T71)","v":""},null,{"$f":"IF(V71=\"\",\"\",V71)","v":""},null,{"$f":"IF(X71=\"\",\"\",X71)","v":""},null,{"$f":"IF(Z71=\"\",\"\",Z71)","v":""},null,{"$f":"IF(AB71=\"\",\"\",AB71)","v":""},null,{"$f":"IF(AD71=\"\",\"\",AD71)","v":""},null,{"$f":"IF(AF71=\"\",\"\",AF71)","v":""},null,{"$f":"IF(AH71=\"\",\"\",AH71)","v":""},null,{"$f":"IF(AJ71=\"\",\"\",AJ71)","v":""},null,{"$f":"IF(AL71=\"\",\"\",AL71)","v":""},null,null,{"$f":"IF(AO71=\"\",\"\",AO71)","v":""},null,null,{"$f":"IF(AR71=\"\",\"\",AR71)","v":""},null,null,null,null,{"$f":"IF(AW71=\"\",\"\",AW71)","v":""}]
[]
[]
[]
[null,null,null,null,null,null,null,null,null,null,null,null,null,null,null,null,null,{"$f":"IF(R75=\"\",\"\",R75)","v":""},null,{"$f":"IF(T75=\"\",\"\",T75)","v":""},null,{"$f":"IF(V75=\"\",\"\",V75)","v":""},null,{"$f":"IF(X75=\"\",\"\",X75)","v":""},null,{"$f":"IF(Z75=\"\",\"\",Z75)","v":""},null,{"$f":"IF(AB75=\"\",\"\",AB75)","v":""},null,{"$f":"IF(AD75=\"\",\"\",AD75)","v":""},null,{"$f":"IF(AF75=\"\",\"\",AF75)","v":""},null,{"$f":"IF(AH75=\"\",\"\",AH75)","v":""},null,{"$f":"IF(AJ75=\"\",\"\",AJ75)","v":""},null,{"$f":"IF(AL75=\"\",\"\",AL75)","v":""},null,null,{"$f":"IF(AO75=\"\",\"\",AO75)","v":""},null,null,{"$f":"IF(AR75=\"\",\"\",AR75)","v":""},null,null,null,null,{"$f":"IF(AW75=\"\",\"\",AW75)","v":""}]
[]
[]
[]
[null,null,null,null,null,null,null,null,null,null,null,null,null,null,null,null,null,{"$f":"IF(R79=\"\",\"\",R79)","v":""},null,{"$f":"IF(T79=\"\",\"\",T79)","v":""},null,{"$f":"IF(V79=\"\",\"\",V79)","v":""},null,{"$f":"IF(X79=\"\",\"\",X79)","v":""},null,{"$f":"IF(Z79=\"\",\"\",Z79)","v":""},null,{"$f":"IF(AB79=\"\",\"\",AB79)","v":""},null,{"$f":"IF(AD79=\"\",\"\",AD79)","v":""},null,{"$f":"IF(AF79=\"\",\"\",AF79)","v":""},null,{"$f":"IF(AH79=\"\",\"\",AH79)","v":""},null,{"$f":"IF(AJ79=\"\",\"\",AJ79)","v":""},null,{"$f":"IF(AL79=\"\",\"\",AL79)","v":""},null,null,{"$f":"IF(AO79=\"\",\"\",AO79)","v":""},null,null,{"$f":"IF(AR79=\"\",\"\",AR79)","v":""},null,null,null,null,{"$f":"IF(AW79=\"\",\"\",AW79)","v":""}]
[]
[]
[]
[null,null,null,null,null,null,null,null,null,null,null,null,null,null,null,null,null,null,null,null,null,null,null,null,null,null,null,null,null,null,null,null,null,null,null,null,null,"値引き等",null,null,null,null,null,null,null,null,null,null,{"$f":"IF(AW83=\"\",\"\",AW83)","v":""}]
[]
[]
[]
[]
[null,null,null,null,null,null,null,null,null,null,null,null,null,null,null,null,null,null,null,null,null,null,null,null,null,null,null,null,null,null,null,null,null,null,null,null,null,{"$f":"\"合計(\" & IF(税処理=2,\"税込\",\"税抜\")&\")\"","v":"合計(税抜)"},null,null,null,null,null,null,null,null,null,null,{"$f":"IF(AW88=\"\",\"\",AW88)","v":""}]
[]
[]
[]
[]
[]
[null,null,null,null,null,null,null,null,null,null,null,null,null,null,null,null,null,null,null,"請求明細書 (貴社控)"]
[null,"株 式 会 社 種 村 建 設",null,null,null,null,null,null,null,null,null,null,"御中"]
[null,null,null,null,null,null,null,null,null,null,null,null,null,null,null,null,null,null,null,null,null,null,null,null,null,null,null,null,null,null,null,null,null,null,null,null,null,null,null,null,null,"請求年月日",null,null,null,null,{"$f":"IF(AU96=\"\",\"\",AU96)","v":23},null,null,{"$f":"IF(AX96=\"\",\"\",AX96)","v":5},null,null,{"$f":"IF(BA96=\"\",\"\",BA96)","v":31}]
[]
[]
[]
[]
[null,"工事番号",null,null,null,null,{"$f":"IF(G101=\"\",\"\",G101)","v":""},null,null,null,null,null,"工事名",null,null,null,{"$f":"IF(Q101=\"\",\"\",Q101)","v":""},null,null,null,null,null,null,null,null,null,null,null,null,null,null,null,null,null,null,null,null,"業者名",null,null,null,{"$f":"IF(AP101=\"\",\"\",AP101)","v":"例：㈱種村建設"}]
[]
[]
[]
[]
[]
[null,"注文番号",null,null,null,null,{"$f":"IF(G107=\"\",\"\",G107)","v":""},null,null,null,null,null,null,null,null,null,null,"月　日",null,null,null,"摘要･品名",null,null,null,null,null,null,null,null,null,null,null,null,null,null,null,"数 量",null,null,"単位",null,null,"単価",null,null,null,null,{"$f":"\"金額(\" & IF(税処理=2,\"税込\",\"税抜\")&\")\"","v":"金額(税抜)"}]
[]
[]
[]
[null,"契約金額",null,null,null,null,{"$f":"IF(G111=\"\",\"\",G111)","v":""},null,null,null,null,null,null,null,null,null,null,{"$f":"IF(R111=\"\",\"\",R111)","v":""},null,{"$f":"IF(T111=\"\",\"\",T111)","v":""},null,{"$f":"IF(V111=\"\",\"\",V111)","v":""},null,{"$f":"IF(X111=\"\",\"\",X111)","v":""},null,{"$f":"IF(Z111=\"\",\"\",Z111)","v":""},null,{"$f":"IF(AB111=\"\",\"\",AB111)","v":""},null,{"$f":"IF(AD111=\"\",\"\",AD111)","v":""},null,{"$f":"IF(AF111=\"\",\"\",AF111)","v":""},null,{"$f":"IF(AH111=\"\",\"\",AH111)","v":""},null,{"$f":"IF(AJ111=\"\",\"\",AJ111)","v":""},null,{"$f":"IF(AL111=\"\",\"\",AL111)","v":""},null,null,{"$f":"IF(AO111=\"\",\"\",AO111)","v":""},null,null,{"$f":"IF(AR111=\"\",\"\",AR111)","v":""},null,null,null,null,{"$f":"IF(AW111=\"\",\"\",AW111)","v":""}]
[]
[]
[]
[null,"増減額",null,null,null,null,{"$f":"IF(G115=\"\",\"\",G115)","v":""},null,null,null,null,null,null,null,null,null,null,{"$f":"IF(R115=\"\",\"\",R115)","v":""},null,{"$f":"IF(T115=\"\",\"\",T115)","v":""},null,{"$f":"IF(V115=\"\",\"\",V115)","v":""},null,{"$f":"IF(X115=\"\",\"\",X115)","v":""},null,{"$f":"IF(Z115=\"\",\"\",Z115)","v":""},null,{"$f":"IF(AB115=\"\",\"\",AB115)","v":""},null,{"$f":"IF(AD115=\"\",\"\",AD115)","v":""},null,{"$f":"IF(AF115=\"\",\"\",AF115)","v":""},null,{"$f":"IF(AH115=\"\",\"\",AH115)","v":""},null,{"$f":"IF(AJ115=\"\",\"\",AJ115)","v":""},null,{"$f":"IF(AL115=\"\",\"\",AL115)","v":""},null,null,{"$f":"IF(AO115=\"\",\"\",AO115)","v":""},null,null,{"$f":"IF(AR115=\"\",\"\",AR115)","v":""},null,null,null,null,{"$f":"IF(AW115=\"\",\"\",AW115)","v":""}]
[]
[]
[]
[null,"前回までの\n請求額",null,null,null,null,{"$f":"IF(G119=\"\",\"\",G119)","v":""},null,null,null,null,null,null,null,null,null,null,{"$f":"IF(R119=\"\",\"\",R119)","v":""},null,{"$f":"IF(T119=\"\",\"\",T119)","v":""},null,{"$f":"IF(V119=\"\",\"\",V119)","v":""},null,{"$f":"IF(X119=\"\",\"\",X119)","v":""},null,{"$f":"IF(Z119=\"\",\"\",Z119)","v":""},null,{"$f":"IF(AB119=\"\",\"\",AB119)","v":""},null,{"$f":"IF(AD119=\"\",\"\",AD119)","v":""},null,{"$f":"IF(AF119=\"\",\"\",AF119)","v":""},null,{"$f":"IF(AH119=\"\",\"\",AH119)","v":""},null,{"$f":"IF(AJ119=\"\",\"\",AJ119)","v":""},null,{"$f":"IF(AL119=\"\",\"\",AL119)","v":""},null,null,{"$f":"IF(AO119=\"\",\"\",AO119)","v":""},null,null,{"$f":"IF(AR119=\"\",\"\",AR119)","v":""},null,null,null,null,{"$f":"IF(AW119=\"\",\"\",AW119)","v":""}]
[]
[]
[]
[null,"今回\n請求額",null,null,{"$f":"IF(E31=\"\",\"\",E31)","v":""},null,{"$f":"IF(G123=\"\",\"\",G123)","v":""},null,null,null,null,null,null,null,null,null,null,{"$f":"IF(R123=\"\",\"\",R123)","v":""},null,{"$f":"IF(T123=\"\",\"\",T123)","v":""},null,{"$f":"IF(V123=\"\",\"\",V123)","v":""},null,{"$f":"IF(X123=\"\",\"\",X123)","v":""},null,{"$f":"IF(Z123=\"\",\"\",Z123)","v":""},null,{"$f":"IF(AB123=\"\",\"\",AB123)","v":""},null,{"$f":"IF(AD123=\"\",\"\",AD123)","v":""},null,{"$f":"IF(AF123=\"\",\"\",AF123)","v":""},null,{"$f":"IF(AH123=\"\",\"\",AH123)","v":""},null,{"$f":"IF(AJ123=\"\",\"\",AJ123)","v":""},null,{"$f":"IF(AL123=\"\",\"\",AL123)","v":""},null,null,{"$f":"IF(AO123=\"\",\"\",AO123)","v":""},null,null,{"$f":"IF(AR123=\"\",\"\",AR123)","v":""},null,null,null,null,{"$f":"IF(AW123=\"\",\"\",AW123)","v":""}]
[]
[]
[]
[null,"差引残高",null,null,null,null,{"$f":"IF(G203=\"\",\"\",G203+G207-G211-G215)","v":""},null,null,null,null,null,null,null,null,null,null,{"$f":"IF(R127=\"\",\"\",R127)","v":""},null,{"$f":"IF(T127=\"\",\"\",T127)","v":""},null,{"$f":"IF(V127=\"\",\"\",V127)","v":""},null,{"$f":"IF(X127=\"\",\"\",X127)","v":""},null,{"$f":"IF(Z127=\"\",\"\",Z127)","v":""},null,{"$f":"IF(AB127=\"\",\"\",AB127)","v":""},null,{"$f":"IF(AD127=\"\",\"\",AD127)","v":""},null,{"$f":"IF(AF127=\"\",\"\",AF127)","v":""},null,{"$f":"IF(AH127=\"\",\"\",AH127)","v":""},null,{"$f":"IF(AJ127=\"\",\"\",AJ127)","v":""},null,{"$f":"IF(AL127=\"\",\"\",AL127)","v":""},null,null,{"$f":"IF(AO127=\"\",\"\",AO127)","v":""},null,null,{"$f":"IF(AR127=\"\",\"\",AR127)","v":""},null,null,null,null,{"$f":"IF(AW127=\"\",\"\",AW127)","v":""}]
[]
[]
[]
[null,null,null,null,null,null,null,null,null,null,null,null,null,null,null,null,null,{"$f":"IF(R131=\"\",\"\",R131)","v":""},null,{"$f":"IF(T131=\"\",\"\",T131)","v":""},null,{"$f":"IF(V131=\"\",\"\",V131)","v":""},null,{"$f":"IF(X131=\"\",\"\",X131)","v":""},null,{"$f":"IF(Z131=\"\",\"\",Z131)","v":""},null,{"$f":"IF(AB131=\"\",\"\",AB131)","v":""},null,{"$f":"IF(AD131=\"\",\"\",AD131)","v":""},null,{"$f":"IF(AF131=\"\",\"\",AF131)","v":""},null,{"$f":"IF(AH131=\"\",\"\",AH131)","v":""},null,{"$f":"IF(AJ131=\"\",\"\",AJ131)","v":""},null,{"$f":"IF(AL131=\"\",\"\",AL131)","v":""},null,null,{"$f":"IF(AO131=\"\",\"\",AO131)","v":""},null,null,{"$f":"IF(AR131=\"\",\"\",AR131)","v":""},null,null,null,null,{"$f":"IF(AW131=\"\",\"\",AW131)","v":""}]
[]
[]
[]
[null,null,null,null,null,null,null,null,null,null,null,null,null,null,null,null,null,{"$f":"IF(R135=\"\",\"\",R135)","v":""},null,{"$f":"IF(T135=\"\",\"\",T135)","v":""},null,{"$f":"IF(V135=\"\",\"\",V135)","v":""},null,{"$f":"IF(X135=\"\",\"\",X135)","v":""},null,{"$f":"IF(Z135=\"\",\"\",Z135)","v":""},null,{"$f":"IF(AB135=\"\",\"\",AB135)","v":""},null,{"$f":"IF(AD135=\"\",\"\",AD135)","v":""},null,{"$f":"IF(AF135=\"\",\"\",AF135)","v":""},null,{"$f":"IF(AH135=\"\",\"\",AH135)","v":""},null,{"$f":"IF(AJ135=\"\",\"\",AJ135)","v":""},null,{"$f":"IF(AL135=\"\",\"\",AL135)","v":""},null,null,{"$f":"IF(AO135=\"\",\"\",AO135)","v":""},null,null,{"$f":"IF(AR135=\"\",\"\",AR135)","v":""},null,null,null,null,{"$f":"IF(AW135=\"\",\"\",AW135)","v":""}]
[]
[]
[]
[null,null,null,null,null,null,null,null,null,null,null,null,null,null,null,null,null,{"$f":"IF(R139=\"\",\"\",R139)","v":""},null,{"$f":"IF(T139=\"\",\"\",T139)","v":""},null,{"$f":"IF(V139=\"\",\"\",V139)","v":""},null,{"$f":"IF(X139=\"\",\"\",X139)","v":""},null,{"$f":"IF(Z139=\"\",\"\",Z139)","v":""},null,{"$f":"IF(AB139=\"\",\"\",AB139)","v":""},null,{"$f":"IF(AD139=\"\",\"\",AD139)","v":""},null,{"$f":"IF(AF139=\"\",\"\",AF139)","v":""},null,{"$f":"IF(AH139=\"\",\"\",AH139)","v":""},null,{"$f":"IF(AJ139=\"\",\"\",AJ139)","v":""},null,{"$f":"IF(AL139=\"\",\"\",AL139)","v":""},null,null,{"$f":"IF(AO139=\"\",\"\",AO139)","v":""},null,null,{"$f":"IF(AR139=\"\",\"\",AR139)","v":""},null,null,null,null,{"$f":"IF(AW139=\"\",\"\",AW139)","v":""}]
[]
[]
[]
[null,null,null,null,null,null,null,null,null,null,null,null,null,null,null,null,null,{"$f":"IF(R143=\"\",\"\",R143)","v":""},null,{"$f":"IF(T143=\"\",\"\",T143)","v":""},null,{"$f":"IF(V143=\"\",\"\",V143)","v":""},null,{"$f":"IF(X143=\"\",\"\",X143)","v":""},null,{"$f":"IF(Z143=\"\",\"\",Z143)","v":""},null,{"$f":"IF(AB143=\"\",\"\",AB143)","v":""},null,{"$f":"IF(AD143=\"\",\"\",AD143)","v":""},null,{"$f":"IF(AF143=\"\",\"\",AF143)","v":""},null,{"$f":"IF(AH143=\"\",\"\",AH143)","v":""},null,{"$f":"IF(AJ143=\"\",\"\",AJ143)","v":""},null,{"$f":"IF(AL143=\"\",\"\",AL143)","v":""},null,null,{"$f":"IF(AO143=\"\",\"\",AO143)","v":""},null,null,{"$f":"IF(AR143=\"\",\"\",AR143)","v":""},null,null,null,null,{"$f":"IF(AW143=\"\",\"\",AW143)","v":""}]
[]
[]
[]
[null,null,null,null,null,null,null,null,null,null,null,null,null,null,null,null,null,{"$f":"IF(R147=\"\",\"\",R147)","v":""},null,{"$f":"IF(T147=\"\",\"\",T147)","v":""},null,{"$f":"IF(V147=\"\",\"\",V147)","v":""},null,{"$f":"IF(X147=\"\",\"\",X147)","v":""},null,{"$f":"IF(Z147=\"\",\"\",Z147)","v":""},null,{"$f":"IF(AB147=\"\",\"\",AB147)","v":""},null,{"$f":"IF(AD147=\"\",\"\",AD147)","v":""},null,{"$f":"IF(AF147=\"\",\"\",AF147)","v":""},null,{"$f":"IF(AH147=\"\",\"\",AH147)","v":""},null,{"$f":"IF(AJ147=\"\",\"\",AJ147)","v":""},null,{"$f":"IF(AL147=\"\",\"\",AL147)","v":""},null,null,{"$f":"IF(AO147=\"\",\"\",AO147)","v":""},null,null,{"$f":"IF(AR147=\"\",\"\",AR147)","v":""},null,null,null,null,{"$f":"IF(AW147=\"\",\"\",AW147)","v":""}]
[]
[]
[]
[null,null,null,null,null,null,null,null,null,null,null,null,null,null,null,null,null,{"$f":"IF(R151=\"\",\"\",R151)","v":""},null,{"$f":"IF(T151=\"\",\"\",T151)","v":""},null,{"$f":"IF(V151=\"\",\"\",V151)","v":""},null,{"$f":"IF(X151=\"\",\"\",X151)","v":""},null,{"$f":"IF(Z151=\"\",\"\",Z151)","v":""},null,{"$f":"IF(AB151=\"\",\"\",AB151)","v":""},null,{"$f":"IF(AD151=\"\",\"\",AD151)","v":""},null,{"$f":"IF(AF151=\"\",\"\",AF151)","v":""},null,{"$f":"IF(AH151=\"\",\"\",AH151)","v":""},null,{"$f":"IF(AJ151=\"\",\"\",AJ151)","v":""},null,{"$f":"IF(AL151=\"\",\"\",AL151)","v":""},null,null,{"$f":"IF(AO151=\"\",\"\",AO151)","v":""},null,null,{"$f":"IF(AR151=\"\",\"\",AR151)","v":""},null,null,null,null,{"$f":"IF(AW151=\"\",\"\",AW151)","v":""}]
[]
[]
[]
[null,null,null,null,null,null,null,null,null,null,null,null,null,null,null,null,null,{"$f":"IF(R155=\"\",\"\",R155)","v":""},null,{"$f":"IF(T155=\"\",\"\",T155)","v":""},null,{"$f":"IF(V155=\"\",\"\",V155)","v":""},null,{"$f":"IF(X155=\"\",\"\",X155)","v":""},null,{"$f":"IF(Z155=\"\",\"\",Z155)","v":""},null,{"$f":"IF(AB155=\"\",\"\",AB155)","v":""},null,{"$f":"IF(AD155=\"\",\"\",AD155)","v":""},null,{"$f":"IF(AF155=\"\",\"\",AF155)","v":""},null,{"$f":"IF(AH155=\"\",\"\",AH155)","v":""},null,{"$f":"IF(AJ155=\"\",\"\",AJ155)","v":""},null,{"$f":"IF(AL155=\"\",\"\",AL155)","v":""},null,null,{"$f":"IF(AO155=\"\",\"\",AO155)","v":""},null,null,{"$f":"IF(AR155=\"\",\"\",AR155)","v":""},null,null,null,null,{"$f":"IF(AW155=\"\",\"\",AW155)","v":""}]
[]
[]
[]
[null,null,null,null,null,null,null,null,null,null,null,null,null,null,null,null,null,{"$f":"IF(R159=\"\",\"\",R159)","v":""},null,{"$f":"IF(T159=\"\",\"\",T159)","v":""},null,{"$f":"IF(V159=\"\",\"\",V159)","v":""},null,{"$f":"IF(X159=\"\",\"\",X159)","v":""},null,{"$f":"IF(Z159=\"\",\"\",Z159)","v":""},null,{"$f":"IF(AB159=\"\",\"\",AB159)","v":""},null,{"$f":"IF(AD159=\"\",\"\",AD159)","v":""},null,{"$f":"IF(AF159=\"\",\"\",AF159)","v":""},null,{"$f":"IF(AH159=\"\",\"\",AH159)","v":""},null,{"$f":"IF(AJ159=\"\",\"\",AJ159)","v":""},null,{"$f":"IF(AL159=\"\",\"\",AL159)","v":""},null,null,{"$f":"IF(AO159=\"\",\"\",AO159)","v":""},null,null,{"$f":"IF(AR159=\"\",\"\",AR159)","v":""},null,null,null,null,{"$f":"IF(AW159=\"\",\"\",AW159)","v":""}]
[]
[]
[]
[null,null,null,null,null,null,null,null,null,null,null,null,null,null,null,null,null,{"$f":"IF(R163=\"\",\"\",R163)","v":""},null,{"$f":"IF(T163=\"\",\"\",T163)","v":""},null,{"$f":"IF(V163=\"\",\"\",V163)","v":""},null,{"$f":"IF(X163=\"\",\"\",X163)","v":""},null,{"$f":"IF(Z163=\"\",\"\",Z163)","v":""},null,{"$f":"IF(AB163=\"\",\"\",AB163)","v":""},null,{"$f":"IF(AD163=\"\",\"\",AD163)","v":""},null,{"$f":"IF(AF163=\"\",\"\",AF163)","v":""},null,{"$f":"IF(AH163=\"\",\"\",AH163)","v":""},null,{"$f":"IF(AJ163=\"\",\"\",AJ163)","v":""},null,{"$f":"IF(AL163=\"\",\"\",AL163)","v":""},null,null,{"$f":"IF(AO163=\"\",\"\",AO163)","v":""},null,null,{"$f":"IF(AR163=\"\",\"\",AR163)","v":""},null,null,null,null,{"$f":"IF(AW163=\"\",\"\",AW163)","v":""}]
[]
[]
[]
[null,null,null,null,null,null,null,null,null,null,null,null,null,null,null,null,null,{"$f":"IF(R167=\"\",\"\",R167)","v":""},null,{"$f":"IF(T167=\"\",\"\",T167)","v":""},null,{"$f":"IF(V167=\"\",\"\",V167)","v":""},null,{"$f":"IF(X167=\"\",\"\",X167)","v":""},null,{"$f":"IF(Z167=\"\",\"\",Z167)","v":""},null,{"$f":"IF(AB167=\"\",\"\",AB167)","v":""},null,{"$f":"IF(AD167=\"\",\"\",AD167)","v":""},null,{"$f":"IF(AF167=\"\",\"\",AF167)","v":""},null,{"$f":"IF(AH167=\"\",\"\",AH167)","v":""},null,{"$f":"IF(AJ167=\"\",\"\",AJ167)","v":""},null,{"$f":"IF(AL167=\"\",\"\",AL167)","v":""},null,null,{"$f":"IF(AO167=\"\",\"\",AO167)","v":""},null,null,{"$f":"IF(AR167=\"\",\"\",AR167)","v":""},null,null,null,null,{"$f":"IF(AW167=\"\",\"\",AW167)","v":""}]
[]
[]
[]
[null,null,null,null,null,null,null,null,null,null,null,null,null,null,null,null,null,{"$f":"IF(R171=\"\",\"\",R171)","v":""},null,{"$f":"IF(T171=\"\",\"\",T171)","v":""},null,{"$f":"IF(V171=\"\",\"\",V171)","v":""},null,{"$f":"IF(X171=\"\",\"\",X171)","v":""},null,{"$f":"IF(Z171=\"\",\"\",Z171)","v":""},null,{"$f":"IF(AB171=\"\",\"\",AB171)","v":""},null,{"$f":"IF(AD171=\"\",\"\",AD171)","v":""},null,{"$f":"IF(AF171=\"\",\"\",AF171)","v":""},null,{"$f":"IF(AH171=\"\",\"\",AH171)","v":""},null,{"$f":"IF(AJ171=\"\",\"\",AJ171)","v":""},null,{"$f":"IF(AL171=\"\",\"\",AL171)","v":""},null,null,{"$f":"IF(AO171=\"\",\"\",AO171)","v":""},null,null,{"$f":"IF(AR171=\"\",\"\",AR171)","v":""},null,null,null,null,{"$f":"IF(AW171=\"\",\"\",AW171)","v":""}]
[]
[]
[]
[null,null,null,null,null,null,null,null,null,null,null,null,null,null,null,null,null,null,null,null,null,null,null,null,null,null,null,null,null,null,null,null,null,null,null,null,null,"値引き等",null,null,null,null,null,null,null,null,null,null,{"$f":"IF(AW175=\"\",\"\",AW175)","v":""}]
[]
[]
[]
[]
[null,null,null,null,null,null,null,null,null,null,null,null,null,null,null,null,null,null,null,null,null,null,null,null,null,null,null,null,null,null,null,null,null,null,null,null,null,{"$f":"\"合計(\" & IF(税処理=2,\"税込\",\"税抜\")&\")\"","v":"合計(税抜)"},null,null,null,null,null,null,null,null,null,null,{"$f":"IF(AW180=\"\",\"\",AW180)","v":""}]

{"sheet":"細1-12","index":14,"n_rows":272,"n_cols":53,"rows_kept":272,"cut":false,"hidden":false,"merged":[[3,46,5,48],[3,49,5,51],[3,52,5,54],[8,37,11,40],[8,41,11,54],[3,41,5,45],[1,19,4,32],[2,1,5,11],[2,12,5,13],[8,1,11,5],[8,6,11,11],[8,12,11,15],[8,16,11,35],[14,43,17,47],[14,48,17,54],[14,1,17,5],[14,6,17,15],[14,17,17,20],[14,21,17,36],[18,1,21,5],[18,6,21,15],[18,17,21,18],[18,19,21,20],[14,37,17,39],[14,40,17,42],[18,21,21,36],[18,37,21,39],[18,40,21,42],[18,43,21,47],[26,1,29,5],[26,6,29,15],[26,17,29,18],[26,19,29,20],[18,48,21,54],[22,1,25,5],[22,6,25,15],[22,17,25,18],[22,19,25,20],[22,21,25,36],[26,21,29,36],[26,37,29,39],[26,40,29,42],[26,43,29,47],[22,37,25,39],[22,40,25,42],[22,43,25,47],[34,48,37,54],[26,48,29,54],[30,1,33,3],[30,4,33,5],[30,6,33,15],[30,17,33,18],[30,19,33,20],[22,48,25,54],[38,17,41,18],[38,19,41,20],[38,21,41,36],[38,37,41,39],[30,48,33,54],[34,1,37,5],[34,6,37,15],[34,17,37,18],[34,19,37,20],[34,21,37,36],[38,40,41,42],[38,43,41,47],[38,48,41,54],[30,21,33,36],[30,37,33,39],[30,40,33,42],[30,43,33,47],[34,37,37,39],[34,40,37,42],[34,43,37,47],[46,40,49,42],[46,43,49,47],[46,21,49,36],[46,37,49,39],[54,40,57,42],[54,43,57,47],[42,17,45,18],[42,19,45,20],[42,21,45,36],[42,37,45,39],[42,40,45,42],[42,43,45,47],[42,48,45,54],[46,48,49,54],[50,17,53,18],[50,19,53,20],[50,21,53,36],[50,37,53,39],[50,40,53,42],[50,43,53,47],[50,48,53,54],[46,17,49,18],[46,19,49,20],[58,17,61,18],[58,19,61,20],[58,21,61,36],[58,37,61,39],[58,40,61,42],[58,43,61,47],[58,48,61,54],[54,17,57,18],[54,19,57,20],[54,21,57,36],[54,37,57,39],[54,48,57,54],[62,40,65,42],[62,43,65,47],[62,21,65,36],[62,37,65,39],[70,40,73,42],[70,43,73,47],[70,48,73,54],[62,48,65,54],[66,17,69,18],[66,19,69,20],[66,21,69,36],[66,37,69,39],[66,40,69,42],[66,43,69,47],[66,48,69,54],[62,17,65,18],[62,19,65,20],[74,17,77,18],[74,19,77,20],[74,21,77,36],[74,37,77,39],[74,40,77,42],[74,43,77,47],[74,48,77,54],[70,17,73,18],[70,19,73,20],[70,21,73,36],[70,37,73,39],[78,48,81,54],[82,37,85,47],[82,48,85,54],[78,37,81,39],[78,40,81,42],[85,11,90,16],[85,17,90,25],[78,43,81,47],[83,26,84,30],[83,31,84,35],[78,17,81,18],[78,19,81,20],[78,21,81,36],[85,26,90,30],[85,31,90,35],[83,1,84,4],[83,5,84,10],[87,37,90,47],[83,11,84,16],[83,17,84,25],[95,46,97,48],[85,1,90,4],[85,5,90,10],[87,48,90,54],[95,49,97,51],[95,52,97,54],[100,1,103,5],[100,6,103,11],[100,12,103,15],[100,16,103,35],[100,37,103,40],[100,41,103,54],[93,19,96,32],[94,1,97,11],[94,12,97,13],[95,41,97,45],[106,37,109,39],[106,40,109,42],[106,43,109,47],[106,48,109,54],[106,1,109,5],[106,6,109,15],[106,17,109,20],[106,21,109,36],[110,21,113,36],[110,37,113,39],[110,40,113,42],[110,43,113,47],[110,1,113,5],[110,6,113,15],[110,17,113,18],[110,19,113,20],[110,48,113,54],[114,1,117,5],[114,6,117,15],[114,17,117,18],[114,19,117,20],[114,21,117,36],[114,37,117,39],[114,40,117,42],[114,43,117,47],[114,48,117,54],[118,21,121,36],[118,37,121,39],[118,40,121,42],[118,43,121,47],[118,1,121,5],[118,6,121,15],[118,17,121,18],[118,19,121,20],[118,48,121,54],[122,48,125,54],[126,1,129,5],[126,6,129,15],[126,17,129,18],[126,19,129,20],[126,21,129,36],[126,37,129,39],[126,40,129,42],[126,43,129,47],[126,48,129,54],[122,1,125,3],[122,4,125,5],[122,6,125,15],[122,17,125,18],[122,19,125,20],[122,21,125,36],[122,37,125,39],[122,40,125,42],[122,43,125,47],[130,40,133,42],[130,43,133,47],[130,21,133,36],[130,37,133,39],[138,40,141,42],[138,43,141,47],[138,48,141,54],[130,48,133,54],[134,17,137,18],[134,19,137,20],[134,21,137,36],[134,37,137,39],[134,40,137,42],[134,43,137,47],[134,48,137,54],[130,17,133,18],[130,19,133,20],[142,17,145,18],[142,19,145,20],[142,21,145,36],[142,37,145,39],[142,40,145,42],[142,43,145,47],[142,48,145,54],[138,17,141,18],[138,19,141,20],[138,21,141,36],[138,37,141,39],[154,48,157,54],[146,48,149,54],[150,17,153,18],[150,19,153,20],[150,21,153,36],[150,37,153,39],[150,40,153,42],[150,43,153,47],[150,48,153,54],[146,17,149,18],[146,19,149,20],[154,17,157,18],[154,19,157,20],[154,21,157,36],[154,37,157,39],[146,40,149,42],[146,43,149,47],[146,21,149,36],[146,37,149,39],[154,40,157,42],[154,43,157,47],[170,48,173,54],[174,37,177,47],[174,48,177,54],[170,17,173,18],[170,19,173,20],[158,17,161,18],[158,19,161,20],[158,21,161,36],[158,37,161,39],[158,40,161,42],[158,43,161,47],[158,48,161,54],[170,21,173,36],[170,37,173,39],[179,48,182,54],[185,19,188,32],[186,1,189,11],[186,12,189,13],[187,41,189,45],[192,37,195,40],[192,41,195,54],[162,40,165,42],[162,43,165,47],[162,21,165,36],[162,37,165,39],[187,46,189,48],[162,48,165,54],[166,17,169,18],[166,19,169,20],[166,21,169,36],[166,37,169,39],[166,40,169,42],[166,43,169,47],[166,48,169,54],[162,17,165,18],[162,19,165,20],[187,49,189,51],[187,52,189,54],[179,37,182,47],[170,40,173,42],[170,43,173,47],[198,48,201,54],[202,21,205,36],[202,37,205,39],[202,40,205,42],[202,43,205,47],[202,1,205,5],[202,6,205,15],[202,17,205,18],[202,19,205,20],[202,48,205,54],[198,1,201,5],[198,6,201,15],[198,17,201,20],[198,21,201,36],[198,37,201,39],[198,40,201,42],[198,43,201,47],[192,1,195,5],[192,6,195,11],[192,12,195,15],[192,16,195,35],[206,1,209,5],[206,6,209,15],[206,17,209,18],[206,19,209,20],[206,21,209,36],[206,37,209,39],[206,40,209,42],[206,43,209,47],[206,48,209,54],[210,21,213,36],[210,37,213,39],[210,40,213,42],[210,43,213,47],[210,1,213,5],[210,6,213,15],[210,17,213,18],[210,19,213,20],[210,48,213,54],[214,48,217,54],[218,1,221,5],[218,6,221,15],[218,17,221,18],[218,19,221,20],[218,21,221,36],[218,37,221,39],[218,40,221,42],[218,43,221,47],[218,48,221,54],[214,1,217,3],[214,4,217,5],[214,6,217,15],[214,17,217,18],[214,19,217,20],[214,21,217,36],[214,37,217,39],[214,40,217,42],[214,43,217,47],[222,40,225,42],[222,43,225,47],[222,21,225,36],[222,37,225,39],[230,40,233,42],[230,43,233,47],[230,48,233,54],[222,48,225,54],[226,17,229,18],[226,19,229,20],[226,21,229,36],[226,37,229,39],[226,40,229,42],[226,43,229,47],[226,48,229,54],[222,17,225,18],[222,19,225,20],[234,17,237,18],[234,19,237,20],[234,21,237,36],[234,37,237,39],[234,40,237,42],[234,43,237,47],[234,48,237,54],[230,17,233,18],[230,19,233,20],[230,21,233,36],[230,37,233,39],[242,17,245,18],[242,19,245,20],[242,21,245,36],[242,37,245,39],[242,40,245,42],[242,43,245,47],[242,48,245,54],[238,17,241,18],[238,19,241,20],[254,37,257,39],[238,40,241,42],[238,43,241,47],[238,21,241,36],[238,37,241,39],[246,40,249,42],[246,43,249,47],[246,48,249,54],[238,48,241,54],[250,17,253,18],[250,19,253,20],[250,21,253,36],[250,37,253,39],[250,40,253,42],[250,43,253,47],[250,48,253,54],[246,17,249,18],[246,19,249,20],[246,21,249,36],[246,37,249,39],[271,37,274,47],[254,48,257,54],[258,17,261,18],[258,19,261,20],[258,21,261,36],[258,37,261,39],[258,40,261,42],[258,43,261,47],[258,48,261,54],[254,17,257,18],[254,19,257,20],[271,48,274,54],[262,40,265,42],[262,43,265,47],[262,48,265,54],[266,37,269,47],[266,48,269,54],[262,17,265,18],[262,19,265,20],[262,21,265,36],[262,37,265,39],[254,40,257,42],[254,43,257,47],[254,21,257,36]]}
[]
[null,null,null,null,null,null,null,null,null,null,null,null,null,null,null,null,null,null,null,"請求書明細書 (正)"]
[null,"株 式 会 社 種 村 建 設",null,null,null,null,null,null,null,null,null,null,"御中"]
[null,null,null,null,null,null,null,null,null,null,null,null,null,null,null,null,null,null,null,null,null,null,null,null,null,null,null,null,null,null,null,null,null,null,null,null,null,null,null,null,null,"請求年月日",null,null,null,null,{"$f":"年","v":23},null,null,{"$f":"月","v":5},null,null,{"$f":"日","v":31}]
[]
[]
[]
[]
[null,"工事番号",null,null,null,null,null,null,null,null,null,null,"工事名",null,null,null,null,null,null,null,null,null,null,null,null,null,null,null,null,null,null,null,null,null,null,null,null,"業者名",null,null,null,{"$f":"社名","v":"例：㈱種村建設"}]
[]
[]
[]
[]
[]
[null,"注文番号",null,null,null,null,null,null,null,null,null,null,null,null,null,null,null,"月　日",null,null,null,"摘要･品名",null,null,null,null,null,null,null,null,null,null,null,null,null,null,null,"数 量",null,null,"単位",null,null,"単価",null,null,null,null,{"$f":"\"金額(\" & IF(税処理=2,\"税込\",\"税抜\")&\")\"","v":"金額(税抜)"}]
[]
[]
[]
[null,"契約金額",null,null,null,null,null,null,null,null,null,null,null,null,null,null,null,null,null,null,null,null,null,null,null,null,null,null,null,null,null,null,null,null,null,null,null,null,null,null,null,null,null,null,null,null,null,null,{"$f":"IF(V19=\"\",\"\",AL19*AR19)","v":""}]
[]
[]
[]
[null,"増減額",null,null,null,null,null,null,null,null,null,null,null,null,null,null,null,null,null,null,null,null,null,null,null,null,null,null,null,null,null,null,null,null,null,null,null,null,null,null,null,null,null,null,null,null,null,null,{"$f":"IF(V23=\"\",\"\",AL23*AR23)","v":""}]
[]
[]
[]
[null,"前回までの\n請求額",null,null,null,null,null,null,null,null,null,null,null,null,null,null,null,null,null,null,null,null,null,null,null,null,null,null,null,null,null,null,null,null,null,null,null,null,null,null,null,null,null,null,null,null,null,null,{"$f":"IF(V27=\"\",\"\",AL27*AR27)","v":""}]
[]
[]
[]
[null,"今回\n請求額",null,null,null,null,null,null,null,null,null,null,null,null,null,null,null,null,null,null,null,null,null,null,null,null,null,null,null,null,null,null,null,null,null,null,null,null,null,null,null,null,null,null,null,null,null,null,{"$f":"IF(V31=\"\",\"\",AL31*AR31)","v":""}]
[]
[]
[]
[null,"差引残高",null,null,null,null,{"$f":"IF(G19=\"\",\"\",G19+G23-G27-G31)","v":""},null,null,null,null,null,null,null,null,null,null,null,null,null,null,null,null,null,null,null,null,null,null,null,null,null,null,null,null,null,null,null,null,null,null,null,null,null,null,null,null,null,{"$f":"IF(V35=\"\",\"\",AL35*AR35)","v":""}]
[]
[]
[]
[null,null,null,null,null,null,null,null,null,null,null,null,null,null,null,null,null,null,null,null,null,null,null,null,null,null,null,null,null,null,null,null,null,null,null,null,null,null,null,null,null,null,null,null,null,null,null,null,{"$f":"IF(V39=\"\",\"\",AL39*AR39)","v":""}]
[]
[]
[]
[null,null,null,null,null,null,null,null,null,null,null,null,null,null,null,null,null,null,null,null,null,null,null,null,null,null,null,null,null,null,null,null,null,null,null,null,null,null,null,null,null,null,null,null,null,null,null,null,{"$f":"IF(V43=\"\",\"\",AL43*AR43)","v":""}]
[]
[]
[]
[null,null,null,null,null,null,null,null,null,null,null,null,null,null,null,null,null,null,null,null,null,null,null,null,null,null,null,null,null,null,null,null,null,null,null,null,null,null,null,null,null,null,null,null,null,null,null,null,{"$f":"IF(V47=\"\",\"\",AL47*AR47)","v":""}]
[]
[]
[]
[null,null,null,null,null,null,null,null,null,null,null,null,null,null,null,null,null,null,null,null,null,null,null,null,null,null,null,null,null,null,null,null,null,null,null,null,null,null,null,null,null,null,null,null,null,null,null,null,{"$f":"IF(V51=\"\",\"\",AL51*AR51)","v":""}]
[]
[]
[]
[null,null,null,null,null,null,null,null,null,null,null,null,null,null,null,null,null,null,null,null,null,null,null,null,null,null,null,null,null,null,null,null,null,null,null,null,null,null,null,null,null,null,null,null,null,null,null,null,{"$f":"IF(V55=\"\",\"\",AL55*AR55)","v":""}]
[]
[]
[]
[null,null,null,null,null,null,null,null,null,null,null,null,null,null,null,null,null,null,null,null,null,null,null,null,null,null,null,null,null,null,null,null,null,null,null,null,null,null,null,null,null,null,null,null,null,null,null,null,{"$f":"IF(V59=\"\",\"\",AL59*AR59)","v":""}]
[]
[]
[]
[null,null,null,null,null,null,null,null,null,null,null,null,null,null,null,null,null,null,null,null,null,null,null,null,null,null,null,null,null,null,null,null,null,null,null,null,null,null,null,null,null,null,null,null,null,null,null,null,{"$f":"IF(V63=\"\",\"\",AL63*AR63)","v":""}]
[]
[]
[]
[null,null,null,null,null,null,null,null,null,null,null,null,null,null,null,null,null,null,null,null,null,null,null,null,null,null,null,null,null,null,null,null,null,null,null,null,null,null,null,null,null,null,null,null,null,null,null,null,{"$f":"IF(V67=\"\",\"\",AL67*AR67)","v":""}]
[]
[]
[]
[null,null,null,null,null,null,null,null,null,null,null,null,null,null,null,null,null,null,null,null,null,null,null,null,null,null,null,null,null,null,null,null,null,null,null,null,null,null,null,null,null,null,null,null,null,null,null,null,{"$f":"IF(V71=\"\",\"\",AL71*AR71)","v":""}]
[]
[]
[]
[null,null,null,null,null,null,null,null,null,null,null,null,null,null,null,null,null,null,null,null,null,null,null,null,null,null,null,null,null,null,null,null,null,null,null,null,null,null,null,null,null,null,null,null,null,null,null,null,{"$f":"IF(V75=\"\",\"\",AL75*AR75)","v":""}]
[]
[]
[]
[null,null,null,null,null,null,null,null,null,null,null,null,null,null,null,null,null,null,null,null,null,null,null,null,null,null,null,null,null,null,null,null,null,null,null,null,null,null,null,null,null,null,null,null,null,null,null,null,{"$f":"IF(V79=\"\",\"\",AL79*AR79)","v":""}]
[]
[]
[]
[null,null,null,null,null,null,null,null,null,null,null,null,null,null,null,null,null,null,null,null,null,null,null,null,null,null,null,null,null,null,null,null,null,null,null,null,null,"値引き等"]
[null,"社長",null,null,null,"専務",null,null,null,null,null,"常務",null,null,null,null,null,"部長･工場長",null,null,null,null,null,null,null,null,"担当者",null,null,null,null,"受付"]
[]
[]
[]
[null,null,null,null,null,null,null,null,null,null,null,null,null,null,null,null,null,null,null,null,null,null,null,null,null,null,null,null,null,null,null,null,null,null,null,null,null,{"$f":"\"合計(\" & IF(税処理=2,\"税込\",\"税抜\")&\")\"","v":"合計(税抜)"},null,null,null,null,null,null,null,null,null,null,{"$f":"IF(AW19=\"\",\"\",SUM(AW19:AW79)+AW83)","v":""}]
[]
[]
[]
[]
[]
[null,null,null,null,null,null,null,null,null,null,null,null,null,null,null,null,null,null,null,"請求明細書 (現場控)"]
[null,"株 式 会 社 種 村 建 設",null,null,null,null,null,null,null,null,null,null,"御中"]
[null,null,null,null,null,null,null,null,null,null,null,null,null,null,null,null,null,null,null,null,null,null,null,null,null,null,null,null,null,null,null,null,null,null,null,null,null,null,null,null,null,"請求年月日",null,null,null,null,{"$f":"IF(AU4=\"\",\"\",AU4)","v":23},null,null,{"$f":"IF(AX4=\"\",\"\",AX4)","v":5},null,null,{"$f":"IF(BA4=\"\",\"\",BA4)","v":31}]
[]
[]
[]
[]
[null,"工事番号",null,null,null,null,{"$f":"IF(G9=\"\",\"\",G9)","v":""},null,null,null,null,null,"工事名",null,null,null,{"$f":"IF(Q9=\"\",\"\",Q9)","v":""},null,null,null,null,null,null,null,null,null,null,null,null,null,null,null,null,null,null,null,null,"業者名",null,null,null,{"$f":"IF(AP9=\"\",\"\",AP9)","v":"例：㈱種村建設"}]
[]
[]
[]
[]
[]
[null,"注文番号",null,null,null,null,{"$f":"IF(G15=\"\",\"\",G15)","v":""},null,null,null,null,null,null,null,null,null,null,"月　日",null,null,null,"摘要･品名",null,null,null,null,null,null,null,null,null,null,null,null,null,null,null,"数 量",null,null,"単位",null,null,"単価",null,null,null,null,{"$f":"\"金額(\" & IF(税処理=2,\"税込\",\"税抜\")&\")\"","v":"金額(税抜)"}]
[]
[]
[]
[null,"契約金額",null,null,null,null,{"$f":"IF(G19=\"\",\"\",G19)","v":""},null,null,null,null,null,null,null,null,null,null,{"$f":"IF(R19=\"\",\"\",R19)","v":""},null,{"$f":"IF(T19=\"\",\"\",T19)","v":""},null,{"$f":"IF(V19=\"\",\"\",V19)","v":""},null,{"$f":"IF(X19=\"\",\"\",X19)","v":""},null,{"$f":"IF(Z19=\"\",\"\",Z19)","v":""},null,{"$f":"IF(AB19=\"\",\"\",AB19)","v":""},null,{"$f":"IF(AD19=\"\",\"\",AD19)","v":""},null,{"$f":"IF(AF19=\"\",\"\",AF19)","v":""},null,{"$f":"IF(AH19=\"\",\"\",AH19)","v":""},null,{"$f":"IF(AJ19=\"\",\"\",AJ19)","v":""},null,{"$f":"IF(AL19=\"\",\"\",AL19)","v":""},null,null,{"$f":"IF(AO19=\"\",\"\",AO19)","v":""},null,null,{"$f":"IF(AR19=\"\",\"\",AR19)","v":""},null,null,null,null,{"$f":"IF(AW19=\"\",\"\",AW19)","v":""}]
[]
[]
[]
[null,"増減額",null,null,null,null,{"$f":"IF(G23=\"\",\"\",G23)","v":""},null,null,null,null,null,null,null,null,null,null,{"$f":"IF(R23=\"\",\"\",R23)","v":""},null,{"$f":"IF(T23=\"\",\"\",T23)","v":""},null,{"$f":"IF(V23=\"\",\"\",V23)","v":""},null,{"$f":"IF(X23=\"\",\"\",X23)","v":""},null,{"$f":"IF(Z23=\"\",\"\",Z23)","v":""},null,{"$f":"IF(AB23=\"\",\"\",AB23)","v":""},null,{"$f":"IF(AD23=\"\",\"\",AD23)","v":""},null,{"$f":"IF(AF23=\"\",\"\",AF23)","v":""},null,{"$f":"IF(AH23=\"\",\"\",AH23)","v":""},null,{"$f":"IF(AJ23=\"\",\"\",AJ23)","v":""},null,{"$f":"IF(AL23=\"\",\"\",AL23)","v":""},null,null,{"$f":"IF(AO23=\"\",\"\",AO23)","v":""},null,null,{"$f":"IF(AR23=\"\",\"\",AR23)","v":""},null,null,null,null,{"$f":"IF(AW23=\"\",\"\",AW23)","v":""}]
[]
[]
[]
[null,"前回までの\n請求額",null,null,null,null,{"$f":"IF(G27=\"\",\"\",G27)","v":""},null,null,null,null,null,null,null,null,null,null,{"$f":"IF(R27=\"\",\"\",R27)","v":""},null,{"$f":"IF(T27=\"\",\"\",T27)","v":""},null,{"$f":"IF(V27=\"\",\"\",V27)","v":""},null,{"$f":"IF(X27=\"\",\"\",X27)","v":""},null,{"$f":"IF(Z27=\"\",\"\",Z27)","v":""},null,{"$f":"IF(AB27=\"\",\"\",AB27)","v":""},null,{"$f":"IF(AD27=\"\",\"\",AD27)","v":""},null,{"$f":"IF(AF27=\"\",\"\",AF27)","v":""},null,{"$f":"IF(AH27=\"\",\"\",AH27)","v":""},null,{"$f":"IF(AJ27=\"\",\"\",AJ27)","v":""},null,{"$f":"IF(AL27=\"\",\"\",AL27)","v":""},null,null,{"$f":"IF(AO27=\"\",\"\",AO27)","v":""},null,null,{"$f":"IF(AR27=\"\",\"\",AR27)","v":""},null,null,null,null,{"$f":"IF(AW27=\"\",\"\",AW27)","v":""}]
[]
[]
[]
[null,"今回\n請求額",null,null,{"$f":"IF(E31=\"\",\"\",E31)","v":""},null,{"$f":"IF(G31=\"\",\"\",G31)","v":""},null,null,null,null,null,null,null,null,null,null,{"$f":"IF(R31=\"\",\"\",R31)","v":""},null,{"$f":"IF(T31=\"\",\"\",T31)","v":""},null,{"$f":"IF(V31=\"\",\"\",V31)","v":""},null,{"$f":"IF(X31=\"\",\"\",X31)","v":""},null,{"$f":"IF(Z31=\"\",\"\",Z31)","v":""},null,{"$f":"IF(AB31=\"\",\"\",AB31)","v":""},null,{"$f":"IF(AD31=\"\",\"\",AD31)","v":""},null,{"$f":"IF(AF31=\"\",\"\",AF31)","v":""},null,{"$f":"IF(AH31=\"\",\"\",AH31)","v":""},null,{"$f":"IF(AJ31=\"\",\"\",AJ31)","v":""},null,{"$f":"IF(AL31=\"\",\"\",AL31)","v":""},null,null,{"$f":"IF(AO31=\"\",\"\",AO31)","v":""},null,null,{"$f":"IF(AR31=\"\",\"\",AR31)","v":""},null,null,null,null,{"$f":"IF(AW31=\"\",\"\",AW31)","v":""}]
[]
[]
[]
[null,"差引残高",null,null,null,null,{"$f":"IF(G111=\"\",\"\",G111+G115-G119-G123)","v":""},null,null,null,null,null,null,null,null,null,null,{"$f":"IF(R35=\"\",\"\",R35)","v":""},null,{"$f":"IF(T35=\"\",\"\",T35)","v":""},null,{"$f":"IF(V35=\"\",\"\",V35)","v":""},null,{"$f":"IF(X35=\"\",\"\",X35)","v":""},null,{"$f":"IF(Z35=\"\",\"\",Z35)","v":""},null,{"$f":"IF(AB35=\"\",\"\",AB35)","v":""},null,{"$f":"IF(AD35=\"\",\"\",AD35)","v":""},null,{"$f":"IF(AF35=\"\",\"\",AF35)","v":""},null,{"$f":"IF(AH35=\"\",\"\",AH35)","v":""},null,{"$f":"IF(AJ35=\"\",\"\",AJ35)","v":""},null,{"$f":"IF(AL35=\"\",\"\",AL35)","v":""},null,null,{"$f":"IF(AO35=\"\",\"\",AO35)","v":""},null,null,{"$f":"IF(AR35=\"\",\"\",AR35)","v":""},null,null,null,null,{"$f":"IF(AW35=\"\",\"\",AW35)","v":""}]
[]
[]
[]
[null,null,null,null,null,null,null,null,null,null,null,null,null,null,null,null,null,{"$f":"IF(R39=\"\",\"\",R39)","v":""},null,{"$f":"IF(T39=\"\",\"\",T39)","v":""},null,{"$f":"IF(V39=\"\",\"\",V39)","v":""},null,{"$f":"IF(X39=\"\",\"\",X39)","v":""},null,{"$f":"IF(Z39=\"\",\"\",Z39)","v":""},null,{"$f":"IF(AB39=\"\",\"\",AB39)","v":""},null,{"$f":"IF(AD39=\"\",\"\",AD39)","v":""},null,{"$f":"IF(AF39=\"\",\"\",AF39)","v":""},null,{"$f":"IF(AH39=\"\",\"\",AH39)","v":""},null,{"$f":"IF(AJ39=\"\",\"\",AJ39)","v":""},null,{"$f":"IF(AL39=\"\",\"\",AL39)","v":""},null,null,{"$f":"IF(AO39=\"\",\"\",AO39)","v":""},null,null,{"$f":"IF(AR39=\"\",\"\",AR39)","v":""},null,null,null,null,{"$f":"IF(AW39=\"\",\"\",AW39)","v":""}]
[]
[]
[]
[null,null,null,null,null,null,null,null,null,null,null,null,null,null,null,null,null,{"$f":"IF(R43=\"\",\"\",R43)","v":""},null,{"$f":"IF(T43=\"\",\"\",T43)","v":""},null,{"$f":"IF(V43=\"\",\"\",V43)","v":""},null,{"$f":"IF(X43=\"\",\"\",X43)","v":""},null,{"$f":"IF(Z43=\"\",\"\",Z43)","v":""},null,{"$f":"IF(AB43=\"\",\"\",AB43)","v":""},null,{"$f":"IF(AD43=\"\",\"\",AD43)","v":""},null,{"$f":"IF(AF43=\"\",\"\",AF43)","v":""},null,{"$f":"IF(AH43=\"\",\"\",AH43)","v":""},null,{"$f":"IF(AJ43=\"\",\"\",AJ43)","v":""},null,{"$f":"IF(AL43=\"\",\"\",AL43)","v":""},null,null,{"$f":"IF(AO43=\"\",\"\",AO43)","v":""},null,null,{"$f":"IF(AR43=\"\",\"\",AR43)","v":""},null,null,null,null,{"$f":"IF(AW43=\"\",\"\",AW43)","v":""}]
[]
[]
[]
[null,null,null,null,null,null,null,null,null,null,null,null,null,null,null,null,null,{"$f":"IF(R47=\"\",\"\",R47)","v":""},null,{"$f":"IF(T47=\"\",\"\",T47)","v":""},null,{"$f":"IF(V47=\"\",\"\",V47)","v":""},null,{"$f":"IF(X47=\"\",\"\",X47)","v":""},null,{"$f":"IF(Z47=\"\",\"\",Z47)","v":""},null,{"$f":"IF(AB47=\"\",\"\",AB47)","v":""},null,{"$f":"IF(AD47=\"\",\"\",AD47)","v":""},null,{"$f":"IF(AF47=\"\",\"\",AF47)","v":""},null,{"$f":"IF(AH47=\"\",\"\",AH47)","v":""},null,{"$f":"IF(AJ47=\"\",\"\",AJ47)","v":""},null,{"$f":"IF(AL47=\"\",\"\",AL47)","v":""},null,null,{"$f":"IF(AO47=\"\",\"\",AO47)","v":""},null,null,{"$f":"IF(AR47=\"\",\"\",AR47)","v":""},null,null,null,null,{"$f":"IF(AW47=\"\",\"\",AW47)","v":""}]
[]
[]
[]
[null,null,null,null,null,null,null,null,null,null,null,null,null,null,null,null,null,{"$f":"IF(R51=\"\",\"\",R51)","v":""},null,{"$f":"IF(T51=\"\",\"\",T51)","v":""},null,{"$f":"IF(V51=\"\",\"\",V51)","v":""},null,{"$f":"IF(X51=\"\",\"\",X51)","v":""},null,{"$f":"IF(Z51=\"\",\"\",Z51)","v":""},null,{"$f":"IF(AB51=\"\",\"\",AB51)","v":""},null,{"$f":"IF(AD51=\"\",\"\",AD51)","v":""},null,{"$f":"IF(AF51=\"\",\"\",AF51)","v":""},null,{"$f":"IF(AH51=\"\",\"\",AH51)","v":""},null,{"$f":"IF(AJ51=\"\",\"\",AJ51)","v":""},null,{"$f":"IF(AL51=\"\",\"\",AL51)","v":""},null,null,{"$f":"IF(AO51=\"\",\"\",AO51)","v":""},null,null,{"$f":"IF(AR51=\"\",\"\",AR51)","v":""},null,null,null,null,{"$f":"IF(AW51=\"\",\"\",AW51)","v":""}]
[]
[]
[]
[null,null,null,null,null,null,null,null,null,null,null,null,null,null,null,null,null,{"$f":"IF(R55=\"\",\"\",R55)","v":""},null,{"$f":"IF(T55=\"\",\"\",T55)","v":""},null,{"$f":"IF(V55=\"\",\"\",V55)","v":""},null,{"$f":"IF(X55=\"\",\"\",X55)","v":""},null,{"$f":"IF(Z55=\"\",\"\",Z55)","v":""},null,{"$f":"IF(AB55=\"\",\"\",AB55)","v":""},null,{"$f":"IF(AD55=\"\",\"\",AD55)","v":""},null,{"$f":"IF(AF55=\"\",\"\",AF55)","v":""},null,{"$f":"IF(AH55=\"\",\"\",AH55)","v":""},null,{"$f":"IF(AJ55=\"\",\"\",AJ55)","v":""},null,{"$f":"IF(AL55=\"\",\"\",AL55)","v":""},null,null,{"$f":"IF(AO55=\"\",\"\",AO55)","v":""},null,null,{"$f":"IF(AR55=\"\",\"\",AR55)","v":""},null,null,null,null,{"$f":"IF(AW55=\"\",\"\",AW55)","v":""}]
[]
[]
[]
[null,null,null,null,null,null,null,null,null,null,null,null,null,null,null,null,null,{"$f":"IF(R59=\"\",\"\",R59)","v":""},null,{"$f":"IF(T59=\"\",\"\",T59)","v":""},null,{"$f":"IF(V59=\"\",\"\",V59)","v":""},null,{"$f":"IF(X59=\"\",\"\",X59)","v":""},null,{"$f":"IF(Z59=\"\",\"\",Z59)","v":""},null,{"$f":"IF(AB59=\"\",\"\",AB59)","v":""},null,{"$f":"IF(AD59=\"\",\"\",AD59)","v":""},null,{"$f":"IF(AF59=\"\",\"\",AF59)","v":""},null,{"$f":"IF(AH59=\"\",\"\",AH59)","v":""},null,{"$f":"IF(AJ59=\"\",\"\",AJ59)","v":""},null,{"$f":"IF(AL59=\"\",\"\",AL59)","v":""},null,null,{"$f":"IF(AO59=\"\",\"\",AO59)","v":""},null,null,{"$f":"IF(AR59=\"\",\"\",AR59)","v":""},null,null,null,null,{"$f":"IF(AW59=\"\",\"\",AW59)","v":""}]
[]
[]
[]
[null,null,null,null,null,null,null,null,null,null,null,null,null,null,null,null,null,{"$f":"IF(R63=\"\",\"\",R63)","v":""},null,{"$f":"IF(T63=\"\",\"\",T63)","v":""},null,{"$f":"IF(V63=\"\",\"\",V63)","v":""},null,{"$f":"IF(X63=\"\",\"\",X63)","v":""},null,{"$f":"IF(Z63=\"\",\"\",Z63)","v":""},null,{"$f":"IF(AB63=\"\",\"\",AB63)","v":""},null,{"$f":"IF(AD63=\"\",\"\",AD63)","v":""},null,{"$f":"IF(AF63=\"\",\"\",AF63)","v":""},null,{"$f":"IF(AH63=\"\",\"\",AH63)","v":""},null,{"$f":"IF(AJ63=\"\",\"\",AJ63)","v":""},null,{"$f":"IF(AL63=\"\",\"\",AL63)","v":""},null,null,{"$f":"IF(AO63=\"\",\"\",AO63)","v":""},null,null,{"$f":"IF(AR63=\"\",\"\",AR63)","v":""},null,null,null,null,{"$f":"IF(AW63=\"\",\"\",AW63)","v":""}]
[]
[]
[]
[null,null,null,null,null,null,null,null,null,null,null,null,null,null,null,null,null,{"$f":"IF(R67=\"\",\"\",R67)","v":""},null,{"$f":"IF(T67=\"\",\"\",T67)","v":""},null,{"$f":"IF(V67=\"\",\"\",V67)","v":""},null,{"$f":"IF(X67=\"\",\"\",X67)","v":""},null,{"$f":"IF(Z67=\"\",\"\",Z67)","v":""},null,{"$f":"IF(AB67=\"\",\"\",AB67)","v":""},null,{"$f":"IF(AD67=\"\",\"\",AD67)","v":""},null,{"$f":"IF(AF67=\"\",\"\",AF67)","v":""},null,{"$f":"IF(AH67=\"\",\"\",AH67)","v":""},null,{"$f":"IF(AJ67=\"\",\"\",AJ67)","v":""},null,{"$f":"IF(AL67=\"\",\"\",AL67)","v":""},null,null,{"$f":"IF(AO67=\"\",\"\",AO67)","v":""},null,null,{"$f":"IF(AR67=\"\",\"\",AR67)","v":""},null,null,null,null,{"$f":"IF(AW67=\"\",\"\",AW67)","v":""}]
[]
[]
[]
[null,null,null,null,null,null,null,null,null,null,null,null,null,null,null,null,null,{"$f":"IF(R71=\"\",\"\",R71)","v":""},null,{"$f":"IF(T71=\"\",\"\",T71)","v":""},null,{"$f":"IF(V71=\"\",\"\",V71)","v":""},null,{"$f":"IF(X71=\"\",\"\",X71)","v":""},null,{"$f":"IF(Z71=\"\",\"\",Z71)","v":""},null,{"$f":"IF(AB71=\"\",\"\",AB71)","v":""},null,{"$f":"IF(AD71=\"\",\"\",AD71)","v":""},null,{"$f":"IF(AF71=\"\",\"\",AF71)","v":""},null,{"$f":"IF(AH71=\"\",\"\",AH71)","v":""},null,{"$f":"IF(AJ71=\"\",\"\",AJ71)","v":""},null,{"$f":"IF(AL71=\"\",\"\",AL71)","v":""},null,null,{"$f":"IF(AO71=\"\",\"\",AO71)","v":""},null,null,{"$f":"IF(AR71=\"\",\"\",AR71)","v":""},null,null,null,null,{"$f":"IF(AW71=\"\",\"\",AW71)","v":""}]
[]
[]
[]
[null,null,null,null,null,null,null,null,null,null,null,null,null,null,null,null,null,{"$f":"IF(R75=\"\",\"\",R75)","v":""},null,{"$f":"IF(T75=\"\",\"\",T75)","v":""},null,{"$f":"IF(V75=\"\",\"\",V75)","v":""},null,{"$f":"IF(X75=\"\",\"\",X75)","v":""},null,{"$f":"IF(Z75=\"\",\"\",Z75)","v":""},null,{"$f":"IF(AB75=\"\",\"\",AB75)","v":""},null,{"$f":"IF(AD75=\"\",\"\",AD75)","v":""},null,{"$f":"IF(AF75=\"\",\"\",AF75)","v":""},null,{"$f":"IF(AH75=\"\",\"\",AH75)","v":""},null,{"$f":"IF(AJ75=\"\",\"\",AJ75)","v":""},null,{"$f":"IF(AL75=\"\",\"\",AL75)","v":""},null,null,{"$f":"IF(AO75=\"\",\"\",AO75)","v":""},null,null,{"$f":"IF(AR75=\"\",\"\",AR75)","v":""},null,null,null,null,{"$f":"IF(AW75=\"\",\"\",AW75)","v":""}]
[]
[]
[]
[null,null,null,null,null,null,null,null,null,null,null,null,null,null,null,null,null,{"$f":"IF(R79=\"\",\"\",R79)","v":""},null,{"$f":"IF(T79=\"\",\"\",T79)","v":""},null,{"$f":"IF(V79=\"\",\"\",V79)","v":""},null,{"$f":"IF(X79=\"\",\"\",X79)","v":""},null,{"$f":"IF(Z79=\"\",\"\",Z79)","v":""},null,{"$f":"IF(AB79=\"\",\"\",AB79)","v":""},null,{"$f":"IF(AD79=\"\",\"\",AD79)","v":""},null,{"$f":"IF(AF79=\"\",\"\",AF79)","v":""},null,{"$f":"IF(AH79=\"\",\"\",AH79)","v":""},null,{"$f":"IF(AJ79=\"\",\"\",AJ79)","v":""},null,{"$f":"IF(AL79=\"\",\"\",AL79)","v":""},null,null,{"$f":"IF(AO79=\"\",\"\",AO79)","v":""},null,null,{"$f":"IF(AR79=\"\",\"\",AR79)","v":""},null,null,null,null,{"$f":"IF(AW79=\"\",\"\",AW79)","v":""}]
[]
[]
[]
[null,null,null,null,null,null,null,null,null,null,null,null,null,null,null,null,null,null,null,null,null,null,null,null,null,null,null,null,null,null,null,null,null,null,null,null,null,"値引き等",null,null,null,null,null,null,null,null,null,null,{"$f":"IF(AW83=\"\",\"\",AW83)","v":""}]
[]
[]
[]
[]
[null,null,null,null,null,null,null,null,null,null,null,null,null,null,null,null,null,null,null,null,null,null,null,null,null,null,null,null,null,null,null,null,null,null,null,null,null,{"$f":"\"合計(\" & IF(税処理=2,\"税込\",\"税抜\")&\")\"","v":"合計(税抜)"},null,null,null,null,null,null,null,null,null,null,{"$f":"IF(AW88=\"\",\"\",AW88)","v":""}]
[]
[]
[]
[]
[]
[null,null,null,null,null,null,null,null,null,null,null,null,null,null,null,null,null,null,null,"請求明細書 (貴社控)"]
[null,"株 式 会 社 種 村 建 設",null,null,null,null,null,null,null,null,null,null,"御中"]
[null,null,null,null,null,null,null,null,null,null,null,null,null,null,null,null,null,null,null,null,null,null,null,null,null,null,null,null,null,null,null,null,null,null,null,null,null,null,null,null,null,"請求年月日",null,null,null,null,{"$f":"IF(AU96=\"\",\"\",AU96)","v":23},null,null,{"$f":"IF(AX96=\"\",\"\",AX96)","v":5},null,null,{"$f":"IF(BA96=\"\",\"\",BA96)","v":31}]
[]
[]
[]
[]
[null,"工事番号",null,null,null,null,{"$f":"IF(G101=\"\",\"\",G101)","v":""},null,null,null,null,null,"工事名",null,null,null,{"$f":"IF(Q101=\"\",\"\",Q101)","v":""},null,null,null,null,null,null,null,null,null,null,null,null,null,null,null,null,null,null,null,null,"業者名",null,null,null,{"$f":"IF(AP101=\"\",\"\",AP101)","v":"例：㈱種村建設"}]
[]
[]
[]
[]
[]
[null,"注文番号",null,null,null,null,{"$f":"IF(G107=\"\",\"\",G107)","v":""},null,null,null,null,null,null,null,null,null,null,"月　日",null,null,null,"摘要･品名",null,null,null,null,null,null,null,null,null,null,null,null,null,null,null,"数 量",null,null,"単位",null,null,"単価",null,null,null,null,{"$f":"\"金額(\" & IF(税処理=2,\"税込\",\"税抜\")&\")\"","v":"金額(税抜)"}]
[]
[]
[]
[null,"契約金額",null,null,null,null,{"$f":"IF(G111=\"\",\"\",G111)","v":""},null,null,null,null,null,null,null,null,null,null,{"$f":"IF(R111=\"\",\"\",R111)","v":""},null,{"$f":"IF(T111=\"\",\"\",T111)","v":""},null,{"$f":"IF(V111=\"\",\"\",V111)","v":""},null,{"$f":"IF(X111=\"\",\"\",X111)","v":""},null,{"$f":"IF(Z111=\"\",\"\",Z111)","v":""},null,{"$f":"IF(AB111=\"\",\"\",AB111)","v":""},null,{"$f":"IF(AD111=\"\",\"\",AD111)","v":""},null,{"$f":"IF(AF111=\"\",\"\",AF111)","v":""},null,{"$f":"IF(AH111=\"\",\"\",AH111)","v":""},null,{"$f":"IF(AJ111=\"\",\"\",AJ111)","v":""},null,{"$f":"IF(AL111=\"\",\"\",AL111)","v":""},null,null,{"$f":"IF(AO111=\"\",\"\",AO111)","v":""},null,null,{"$f":"IF(AR111=\"\",\"\",AR111)","v":""},null,null,null,null,{"$f":"IF(AW111=\"\",\"\",AW111)","v":""}]
[]
[]
[]
[null,"増減額",null,null,null,null,{"$f":"IF(G115=\"\",\"\",G115)","v":""},null,null,null,null,null,null,null,null,null,null,{"$f":"IF(R115=\"\",\"\",R115)","v":""},null,{"$f":"IF(T115=\"\",\"\",T115)","v":""},null,{"$f":"IF(V115=\"\",\"\",V115)","v":""},null,{"$f":"IF(X115=\"\",\"\",X115)","v":""},null,{"$f":"IF(Z115=\"\",\"\",Z115)","v":""},null,{"$f":"IF(AB115=\"\",\"\",AB115)","v":""},null,{"$f":"IF(AD115=\"\",\"\",AD115)","v":""},null,{"$f":"IF(AF115=\"\",\"\",AF115)","v":""},null,{"$f":"IF(AH115=\"\",\"\",AH115)","v":""},null,{"$f":"IF(AJ115=\"\",\"\",AJ115)","v":""},null,{"$f":"IF(AL115=\"\",\"\",AL115)","v":""},null,null,{"$f":"IF(AO115=\"\",\"\",AO115)","v":""},null,null,{"$f":"IF(AR115=\"\",\"\",AR115)","v":""},null,null,null,null,{"$f":"IF(AW115=\"\",\"\",AW115)","v":""}]
[]
[]
[]
[null,"前回までの\n請求額",null,null,null,null,{"$f":"IF(G119=\"\",\"\",G119)","v":""},null,null,null,null,null,null,null,null,null,null,{"$f":"IF(R119=\"\",\"\",R119)","v":""},null,{"$f":"IF(T119=\"\",\"\",T119)","v":""},null,{"$f":"IF(V119=\"\",\"\",V119)","v":""},null,{"$f":"IF(X119=\"\",\"\",X119)","v":""},null,{"$f":"IF(Z119=\"\",\"\",Z119)","v":""},null,{"$f":"IF(AB119=\"\",\"\",AB119)","v":""},null,{"$f":"IF(AD119=\"\",\"\",AD119)","v":""},null,{"$f":"IF(AF119=\"\",\"\",AF119)","v":""},null,{"$f":"IF(AH119=\"\",\"\",AH119)","v":""},null,{"$f":"IF(AJ119=\"\",\"\",AJ119)","v":""},null,{"$f":"IF(AL119=\"\",\"\",AL119)","v":""},null,null,{"$f":"IF(AO119=\"\",\"\",AO119)","v":""},null,null,{"$f":"IF(AR119=\"\",\"\",AR119)","v":""},null,null,null,null,{"$f":"IF(AW119=\"\",\"\",AW119)","v":""}]
[]
[]
[]
[null,"今回\n請求額",null,null,{"$f":"IF(E31=\"\",\"\",E31)","v":""},null,{"$f":"IF(G123=\"\",\"\",G123)","v":""},null,null,null,null,null,null,null,null,null,null,{"$f":"IF(R123=\"\",\"\",R123)","v":""},null,{"$f":"IF(T123=\"\",\"\",T123)","v":""},null,{"$f":"IF(V123=\"\",\"\",V123)","v":""},null,{"$f":"IF(X123=\"\",\"\",X123)","v":""},null,{"$f":"IF(Z123=\"\",\"\",Z123)","v":""},null,{"$f":"IF(AB123=\"\",\"\",AB123)","v":""},null,{"$f":"IF(AD123=\"\",\"\",AD123)","v":""},null,{"$f":"IF(AF123=\"\",\"\",AF123)","v":""},null,{"$f":"IF(AH123=\"\",\"\",AH123)","v":""},null,{"$f":"IF(AJ123=\"\",\"\",AJ123)","v":""},null,{"$f":"IF(AL123=\"\",\"\",AL123)","v":""},null,null,{"$f":"IF(AO123=\"\",\"\",AO123)","v":""},null,null,{"$f":"IF(AR123=\"\",\"\",AR123)","v":""},null,null,null,null,{"$f":"IF(AW123=\"\",\"\",AW123)","v":""}]
[]
[]
[]
[null,"差引残高",null,null,null,null,{"$f":"IF(G203=\"\",\"\",G203+G207-G211-G215)","v":""},null,null,null,null,null,null,null,null,null,null,{"$f":"IF(R127=\"\",\"\",R127)","v":""},null,{"$f":"IF(T127=\"\",\"\",T127)","v":""},null,{"$f":"IF(V127=\"\",\"\",V127)","v":""},null,{"$f":"IF(X127=\"\",\"\",X127)","v":""},null,{"$f":"IF(Z127=\"\",\"\",Z127)","v":""},null,{"$f":"IF(AB127=\"\",\"\",AB127)","v":""},null,{"$f":"IF(AD127=\"\",\"\",AD127)","v":""},null,{"$f":"IF(AF127=\"\",\"\",AF127)","v":""},null,{"$f":"IF(AH127=\"\",\"\",AH127)","v":""},null,{"$f":"IF(AJ127=\"\",\"\",AJ127)","v":""},null,{"$f":"IF(AL127=\"\",\"\",AL127)","v":""},null,null,{"$f":"IF(AO127=\"\",\"\",AO127)","v":""},null,null,{"$f":"IF(AR127=\"\",\"\",AR127)","v":""},null,null,null,null,{"$f":"IF(AW127=\"\",\"\",AW127)","v":""}]
[]
[]
[]
[null,null,null,null,null,null,null,null,null,null,null,null,null,null,null,null,null,{"$f":"IF(R131=\"\",\"\",R131)","v":""},null,{"$f":"IF(T131=\"\",\"\",T131)","v":""},null,{"$f":"IF(V131=\"\",\"\",V131)","v":""},null,{"$f":"IF(X131=\"\",\"\",X131)","v":""},null,{"$f":"IF(Z131=\"\",\"\",Z131)","v":""},null,{"$f":"IF(AB131=\"\",\"\",AB131)","v":""},null,{"$f":"IF(AD131=\"\",\"\",AD131)","v":""},null,{"$f":"IF(AF131=\"\",\"\",AF131)","v":""},null,{"$f":"IF(AH131=\"\",\"\",AH131)","v":""},null,{"$f":"IF(AJ131=\"\",\"\",AJ131)","v":""},null,{"$f":"IF(AL131=\"\",\"\",AL131)","v":""},null,null,{"$f":"IF(AO131=\"\",\"\",AO131)","v":""},null,null,{"$f":"IF(AR131=\"\",\"\",AR131)","v":""},null,null,null,null,{"$f":"IF(AW131=\"\",\"\",AW131)","v":""}]
[]
[]
[]
[null,null,null,null,null,null,null,null,null,null,null,null,null,null,null,null,null,{"$f":"IF(R135=\"\",\"\",R135)","v":""},null,{"$f":"IF(T135=\"\",\"\",T135)","v":""},null,{"$f":"IF(V135=\"\",\"\",V135)","v":""},null,{"$f":"IF(X135=\"\",\"\",X135)","v":""},null,{"$f":"IF(Z135=\"\",\"\",Z135)","v":""},null,{"$f":"IF(AB135=\"\",\"\",AB135)","v":""},null,{"$f":"IF(AD135=\"\",\"\",AD135)","v":""},null,{"$f":"IF(AF135=\"\",\"\",AF135)","v":""},null,{"$f":"IF(AH135=\"\",\"\",AH135)","v":""},null,{"$f":"IF(AJ135=\"\",\"\",AJ135)","v":""},null,{"$f":"IF(AL135=\"\",\"\",AL135)","v":""},null,null,{"$f":"IF(AO135=\"\",\"\",AO135)","v":""},null,null,{"$f":"IF(AR135=\"\",\"\",AR135)","v":""},null,null,null,null,{"$f":"IF(AW135=\"\",\"\",AW135)","v":""}]
[]
[]
[]
[null,null,null,null,null,null,null,null,null,null,null,null,null,null,null,null,null,{"$f":"IF(R139=\"\",\"\",R139)","v":""},null,{"$f":"IF(T139=\"\",\"\",T139)","v":""},null,{"$f":"IF(V139=\"\",\"\",V139)","v":""},null,{"$f":"IF(X139=\"\",\"\",X139)","v":""},null,{"$f":"IF(Z139=\"\",\"\",Z139)","v":""},null,{"$f":"IF(AB139=\"\",\"\",AB139)","v":""},null,{"$f":"IF(AD139=\"\",\"\",AD139)","v":""},null,{"$f":"IF(AF139=\"\",\"\",AF139)","v":""},null,{"$f":"IF(AH139=\"\",\"\",AH139)","v":""},null,{"$f":"IF(AJ139=\"\",\"\",AJ139)","v":""},null,{"$f":"IF(AL139=\"\",\"\",AL139)","v":""},null,null,{"$f":"IF(AO139=\"\",\"\",AO139)","v":""},null,null,{"$f":"IF(AR139=\"\",\"\",AR139)","v":""},null,null,null,null,{"$f":"IF(AW139=\"\",\"\",AW139)","v":""}]
[]
[]
[]
[null,null,null,null,null,null,null,null,null,null,null,null,null,null,null,null,null,{"$f":"IF(R143=\"\",\"\",R143)","v":""},null,{"$f":"IF(T143=\"\",\"\",T143)","v":""},null,{"$f":"IF(V143=\"\",\"\",V143)","v":""},null,{"$f":"IF(X143=\"\",\"\",X143)","v":""},null,{"$f":"IF(Z143=\"\",\"\",Z143)","v":""},null,{"$f":"IF(AB143=\"\",\"\",AB143)","v":""},null,{"$f":"IF(AD143=\"\",\"\",AD143)","v":""},null,{"$f":"IF(AF143=\"\",\"\",AF143)","v":""},null,{"$f":"IF(AH143=\"\",\"\",AH143)","v":""},null,{"$f":"IF(AJ143=\"\",\"\",AJ143)","v":""},null,{"$f":"IF(AL143=\"\",\"\",AL143)","v":""},null,null,{"$f":"IF(AO143=\"\",\"\",AO143)","v":""},null,null,{"$f":"IF(AR143=\"\",\"\",AR143)","v":""},null,null,null,null,{"$f":"IF(AW143=\"\",\"\",AW143)","v":""}]
[]
[]
[]
[null,null,null,null,null,null,null,null,null,null,null,null,null,null,null,null,null,{"$f":"IF(R147=\"\",\"\",R147)","v":""},null,{"$f":"IF(T147=\"\",\"\",T147)","v":""},null,{"$f":"IF(V147=\"\",\"\",V147)","v":""},null,{"$f":"IF(X147=\"\",\"\",X147)","v":""},null,{"$f":"IF(Z147=\"\",\"\",Z147)","v":""},null,{"$f":"IF(AB147=\"\",\"\",AB147)","v":""},null,{"$f":"IF(AD147=\"\",\"\",AD147)","v":""},null,{"$f":"IF(AF147=\"\",\"\",AF147)","v":""},null,{"$f":"IF(AH147=\"\",\"\",AH147)","v":""},null,{"$f":"IF(AJ147=\"\",\"\",AJ147)","v":""},null,{"$f":"IF(AL147=\"\",\"\",AL147)","v":""},null,null,{"$f":"IF(AO147=\"\",\"\",AO147)","v":""},null,null,{"$f":"IF(AR147=\"\",\"\",AR147)","v":""},null,null,null,null,{"$f":"IF(AW147=\"\",\"\",AW147)","v":""}]
[]
[]
[]
[null,null,null,null,null,null,null,null,null,null,null,null,null,null,null,null,null,{"$f":"IF(R151=\"\",\"\",R151)","v":""},null,{"$f":"IF(T151=\"\",\"\",T151)","v":""},null,{"$f":"IF(V151=\"\",\"\",V151)","v":""},null,{"$f":"IF(X151=\"\",\"\",X151)","v":""},null,{"$f":"IF(Z151=\"\",\"\",Z151)","v":""},null,{"$f":"IF(AB151=\"\",\"\",AB151)","v":""},null,{"$f":"IF(AD151=\"\",\"\",AD151)","v":""},null,{"$f":"IF(AF151=\"\",\"\",AF151)","v":""},null,{"$f":"IF(AH151=\"\",\"\",AH151)","v":""},null,{"$f":"IF(AJ151=\"\",\"\",AJ151)","v":""},null,{"$f":"IF(AL151=\"\",\"\",AL151)","v":""},null,null,{"$f":"IF(AO151=\"\",\"\",AO151)","v":""},null,null,{"$f":"IF(AR151=\"\",\"\",AR151)","v":""},null,null,null,null,{"$f":"IF(AW151=\"\",\"\",AW151)","v":""}]
[]
[]
[]
[null,null,null,null,null,null,null,null,null,null,null,null,null,null,null,null,null,{"$f":"IF(R155=\"\",\"\",R155)","v":""},null,{"$f":"IF(T155=\"\",\"\",T155)","v":""},null,{"$f":"IF(V155=\"\",\"\",V155)","v":""},null,{"$f":"IF(X155=\"\",\"\",X155)","v":""},null,{"$f":"IF(Z155=\"\",\"\",Z155)","v":""},null,{"$f":"IF(AB155=\"\",\"\",AB155)","v":""},null,{"$f":"IF(AD155=\"\",\"\",AD155)","v":""},null,{"$f":"IF(AF155=\"\",\"\",AF155)","v":""},null,{"$f":"IF(AH155=\"\",\"\",AH155)","v":""},null,{"$f":"IF(AJ155=\"\",\"\",AJ155)","v":""},null,{"$f":"IF(AL155=\"\",\"\",AL155)","v":""},null,null,{"$f":"IF(AO155=\"\",\"\",AO155)","v":""},null,null,{"$f":"IF(AR155=\"\",\"\",AR155)","v":""},null,null,null,null,{"$f":"IF(AW155=\"\",\"\",AW155)","v":""}]
[]
[]
[]
[null,null,null,null,null,null,null,null,null,null,null,null,null,null,null,null,null,{"$f":"IF(R159=\"\",\"\",R159)","v":""},null,{"$f":"IF(T159=\"\",\"\",T159)","v":""},null,{"$f":"IF(V159=\"\",\"\",V159)","v":""},null,{"$f":"IF(X159=\"\",\"\",X159)","v":""},null,{"$f":"IF(Z159=\"\",\"\",Z159)","v":""},null,{"$f":"IF(AB159=\"\",\"\",AB159)","v":""},null,{"$f":"IF(AD159=\"\",\"\",AD159)","v":""},null,{"$f":"IF(AF159=\"\",\"\",AF159)","v":""},null,{"$f":"IF(AH159=\"\",\"\",AH159)","v":""},null,{"$f":"IF(AJ159=\"\",\"\",AJ159)","v":""},null,{"$f":"IF(AL159=\"\",\"\",AL159)","v":""},null,null,{"$f":"IF(AO159=\"\",\"\",AO159)","v":""},null,null,{"$f":"IF(AR159=\"\",\"\",AR159)","v":""},null,null,null,null,{"$f":"IF(AW159=\"\",\"\",AW159)","v":""}]
[]
[]
[]
[null,null,null,null,null,null,null,null,null,null,null,null,null,null,null,null,null,{"$f":"IF(R163=\"\",\"\",R163)","v":""},null,{"$f":"IF(T163=\"\",\"\",T163)","v":""},null,{"$f":"IF(V163=\"\",\"\",V163)","v":""},null,{"$f":"IF(X163=\"\",\"\",X163)","v":""},null,{"$f":"IF(Z163=\"\",\"\",Z163)","v":""},null,{"$f":"IF(AB163=\"\",\"\",AB163)","v":""},null,{"$f":"IF(AD163=\"\",\"\",AD163)","v":""},null,{"$f":"IF(AF163=\"\",\"\",AF163)","v":""},null,{"$f":"IF(AH163=\"\",\"\",AH163)","v":""},null,{"$f":"IF(AJ163=\"\",\"\",AJ163)","v":""},null,{"$f":"IF(AL163=\"\",\"\",AL163)","v":""},null,null,{"$f":"IF(AO163=\"\",\"\",AO163)","v":""},null,null,{"$f":"IF(AR163=\"\",\"\",AR163)","v":""},null,null,null,null,{"$f":"IF(AW163=\"\",\"\",AW163)","v":""}]
[]
[]
[]
[null,null,null,null,null,null,null,null,null,null,null,null,null,null,null,null,null,{"$f":"IF(R167=\"\",\"\",R167)","v":""},null,{"$f":"IF(T167=\"\",\"\",T167)","v":""},null,{"$f":"IF(V167=\"\",\"\",V167)","v":""},null,{"$f":"IF(X167=\"\",\"\",X167)","v":""},null,{"$f":"IF(Z167=\"\",\"\",Z167)","v":""},null,{"$f":"IF(AB167=\"\",\"\",AB167)","v":""},null,{"$f":"IF(AD167=\"\",\"\",AD167)","v":""},null,{"$f":"IF(AF167=\"\",\"\",AF167)","v":""},null,{"$f":"IF(AH167=\"\",\"\",AH167)","v":""},null,{"$f":"IF(AJ167=\"\",\"\",AJ167)","v":""},null,{"$f":"IF(AL167=\"\",\"\",AL167)","v":""},null,null,{"$f":"IF(AO167=\"\",\"\",AO167)","v":""},null,null,{"$f":"IF(AR167=\"\",\"\",AR167)","v":""},null,null,null,null,{"$f":"IF(AW167=\"\",\"\",AW167)","v":""}]
[]
[]
[]
[null,null,null,null,null,null,null,null,null,null,null,null,null,null,null,null,null,{"$f":"IF(R171=\"\",\"\",R171)","v":""},null,{"$f":"IF(T171=\"\",\"\",T171)","v":""},null,{"$f":"IF(V171=\"\",\"\",V171)","v":""},null,{"$f":"IF(X171=\"\",\"\",X171)","v":""},null,{"$f":"IF(Z171=\"\",\"\",Z171)","v":""},null,{"$f":"IF(AB171=\"\",\"\",AB171)","v":""},null,{"$f":"IF(AD171=\"\",\"\",AD171)","v":""},null,{"$f":"IF(AF171=\"\",\"\",AF171)","v":""},null,{"$f":"IF(AH171=\"\",\"\",AH171)","v":""},null,{"$f":"IF(AJ171=\"\",\"\",AJ171)","v":""},null,{"$f":"IF(AL171=\"\",\"\",AL171)","v":""},null,null,{"$f":"IF(AO171=\"\",\"\",AO171)","v":""},null,null,{"$f":"IF(AR171=\"\",\"\",AR171)","v":""},null,null,null,null,{"$f":"IF(AW171=\"\",\"\",AW171)","v":""}]
[]
[]
[]
[null,null,null,null,null,null,null,null,null,null,null,null,null,null,null,null,null,null,null,null,null,null,null,null,null,null,null,null,null,null,null,null,null,null,null,null,null,"値引き等",null,null,null,null,null,null,null,null,null,null,{"$f":"IF(AW175=\"\",\"\",AW175)","v":""}]
[]
[]
[]
[]
[null,null,null,null,null,null,null,null,null,null,null,null,null,null,null,null,null,null,null,null,null,null,null,null,null,null,null,null,null,null,null,null,null,null,null,null,null,{"$f":"\"合計(\" & IF(税処理=2,\"税込\",\"税抜\")&\")\"","v":"合計(税抜)"},null,null,null,null,null,null,null,null,null,null,{"$f":"IF(AW180=\"\",\"\",AW180)","v":""}]

{"sheet":"細2-1","index":15,"n_rows":272,"n_cols":53,"rows_kept":272,"cut":false,"hidden":false,"merged":[[262,17,265,18],[262,19,265,20],[262,21,265,36],[262,37,265,39],[258,40,261,42],[271,48,274,54],[262,40,265,42],[262,43,265,47],[262,48,265,54],[266,37,269,47],[266,48,269,54],[250,40,253,42],[250,43,253,47],[250,48,253,54],[254,40,257,42],[254,43,257,47],[254,48,257,54],[271,37,274,47],[258,43,261,47],[258,48,261,54],[250,17,253,18],[250,19,253,20],[250,21,253,36],[250,37,253,39],[258,17,261,18],[258,19,261,20],[258,21,261,36],[258,37,261,39],[254,17,257,18],[254,19,257,20],[254,21,257,36],[254,37,257,39],[242,48,245,54],[246,17,249,18],[246,19,249,20],[246,21,249,36],[246,37,249,39],[246,40,249,42],[246,43,249,47],[246,48,249,54],[242,17,245,18],[242,19,245,20],[242,21,245,36],[242,37,245,39],[242,40,245,42],[242,43,245,47],[234,48,237,54],[238,17,241,18],[238,19,241,20],[238,21,241,36],[238,37,241,39],[238,40,241,42],[238,43,241,47],[238,48,241,54],[234,17,237,18],[234,19,237,20],[234,21,237,36],[234,37,237,39],[234,40,237,42],[234,43,237,47],[222,17,225,18],[222,19,225,20],[222,21,225,36],[222,37,225,39],[222,40,225,42],[222,43,225,47],[222,48,225,54],[226,48,229,54],[230,17,233,18],[230,19,233,20],[230,21,233,36],[230,37,233,39],[230,40,233,42],[230,43,233,47],[230,48,233,54],[226,17,229,18],[226,19,229,20],[226,21,229,36],[226,37,229,39],[226,40,229,42],[226,43,229,47],[214,21,217,36],[214,37,217,39],[214,40,217,42],[214,43,217,47],[214,48,217,54],[218,1,221,5],[218,6,221,15],[218,17,221,18],[218,19,221,20],[218,21,221,36],[218,40,221,42],[218,43,221,47],[218,37,221,39],[218,48,221,54],[202,6,205,15],[202,17,205,18],[202,19,205,20],[214,1,217,3],[214,4,217,5],[214,6,217,15],[214,17,217,18],[214,19,217,20],[206,1,209,5],[206,6,209,15],[206,17,209,18],[202,1,205,5],[210,1,213,5],[210,6,213,15],[210,17,213,18],[210,48,213,54],[202,43,205,47],[206,40,209,42],[202,40,205,42],[206,48,209,54],[206,43,209,47],[179,48,182,54],[185,19,188,32],[187,41,189,45],[187,46,189,48],[187,49,189,51],[187,52,189,54],[198,21,201,36],[206,19,209,20],[206,21,209,36],[206,37,209,39],[202,21,205,36],[202,37,205,39],[210,21,213,36],[210,37,213,39],[210,40,213,42],[210,43,213,47],[210,19,213,20],[198,48,201,54],[170,40,173,42],[170,43,173,47],[170,48,173,54],[174,48,177,54],[192,1,195,5],[192,6,195,11],[192,12,195,15],[192,16,195,35],[192,37,195,40],[192,41,195,54],[179,37,182,47],[170,21,173,36],[170,19,173,20],[174,37,177,47],[170,37,173,39],[162,37,165,39],[162,40,165,42],[162,43,165,47],[162,48,165,54],[158,19,161,20],[166,40,169,42],[166,43,169,47],[166,48,169,54],[158,37,161,39],[158,40,161,42],[166,21,169,36],[162,21,165,36],[166,37,169,39],[154,37,157,39],[154,40,157,42],[158,43,161,47],[158,48,161,54],[146,48,149,54],[142,17,145,18],[142,19,145,20],[150,37,153,39],[150,40,153,42],[150,43,153,47],[150,48,153,54],[146,17,149,18],[146,19,149,20],[146,21,149,36],[146,37,149,39],[146,40,149,42],[146,43,149,47],[142,21,145,36],[142,37,145,39],[142,40,145,42],[142,43,145,47],[158,21,161,36],[150,21,153,36],[154,17,157,18],[134,48,137,54],[138,17,141,18],[138,19,141,20],[138,21,141,36],[138,37,141,39],[138,40,141,42],[126,37,129,39],[126,40,129,42],[126,43,129,47],[134,17,137,18],[134,19,137,20],[134,21,137,36],[134,37,137,39],[134,40,137,42],[130,40,133,42],[130,21,133,36],[130,37,133,39],[130,48,133,54],[130,43,133,47],[130,17,133,18],[130,19,133,20],[134,43,137,47],[122,43,125,47],[122,48,125,54],[118,40,121,42],[118,43,121,47],[118,48,121,54],[122,40,125,42],[126,1,129,5],[126,6,129,15],[126,17,129,18],[126,19,129,20],[126,21,129,36],[122,17,125,18],[122,19,125,20],[122,21,125,36],[122,1,125,3],[122,4,125,5],[122,6,125,15],[126,48,129,54],[118,1,121,5],[118,6,121,15],[118,17,121,18],[118,19,121,20],[114,48,117,54],[93,19,96,32],[110,19,113,20],[110,21,113,36],[114,37,117,39],[114,21,117,36],[95,46,97,48],[95,49,97,51],[100,16,103,35],[100,37,103,40],[100,41,103,54],[95,52,97,54],[95,41,97,45],[110,48,113,54],[106,48,109,54],[106,1,109,5],[106,6,109,15],[82,37,85,47],[106,43,109,47],[110,40,113,42],[110,43,113,47],[110,37,113,39],[110,17,113,18],[114,40,117,42],[114,43,117,47],[114,17,117,18],[106,37,109,39],[106,40,109,42],[87,48,90,54],[100,1,103,5],[100,6,103,11],[100,12,103,15],[94,1,97,11],[94,12,97,13],[83,26,84,30],[83,31,84,35],[83,1,84,4],[85,1,90,4],[83,5,84,10],[83,11,84,16],[85,5,90,10],[85,11,90,16],[78,43,81,47],[78,48,81,54],[74,17,77,18],[74,19,77,20],[74,21,77,36],[74,37,77,39],[74,40,77,42],[74,43,77,47],[82,48,85,54],[74,48,77,54],[83,17,84,25],[78,21,81,36],[78,37,81,39],[78,40,81,42],[62,43,65,47],[62,21,65,36],[62,37,65,39],[70,43,73,47],[70,48,73,54],[62,48,65,54],[66,48,69,54],[70,40,73,42],[66,17,69,18],[66,19,69,20],[66,21,69,36],[66,37,69,39],[66,40,69,42],[66,43,69,47],[70,21,73,36],[70,17,73,18],[62,40,65,42],[50,43,53,47],[50,48,53,54],[46,17,49,18],[46,19,49,20],[46,21,49,36],[54,43,57,47],[54,48,57,54],[58,17,61,18],[58,19,61,20],[58,21,61,36],[54,40,57,42],[58,37,61,39],[58,40,61,42],[58,43,61,47],[58,48,61,54],[54,17,57,18],[54,19,57,20],[54,21,57,36],[46,37,49,39],[46,40,49,42],[50,40,53,42],[198,1,201,5],[198,6,201,15],[198,17,201,20],[186,1,189,11],[186,12,189,13],[158,17,161,18],[166,17,169,18],[166,19,169,20],[170,17,173,18],[162,17,165,18],[162,19,165,20],[14,1,17,5],[18,1,21,5],[22,1,25,5],[14,6,17,15],[18,6,21,15],[22,6,25,15],[62,17,65,18],[62,19,65,20],[34,1,37,5],[26,6,29,15],[30,6,33,15],[22,17,25,18],[22,19,25,20],[38,17,41,18],[38,19,41,20],[150,17,153,18],[150,19,153,20],[50,17,53,18],[50,19,53,20],[50,21,53,36],[50,37,53,39],[78,17,81,18],[78,19,81,20],[26,1,29,5],[30,1,33,3],[30,4,33,5],[30,17,33,18],[26,17,29,18],[26,19,29,20],[26,21,29,36],[54,37,57,39],[70,19,73,20],[70,37,73,39],[114,1,117,5],[114,6,117,15],[114,19,117,20],[87,37,90,47],[110,1,113,5],[110,6,113,15],[22,21,25,36],[18,17,21,18],[14,17,17,20],[34,6,37,15],[30,19,33,20],[202,48,205,54],[198,43,201,47],[154,43,157,47],[154,48,157,54],[138,43,141,47],[138,48,141,54],[142,48,145,54],[85,17,90,25],[85,26,90,30],[85,31,90,35],[154,19,157,20],[154,21,157,36],[198,37,201,39],[118,37,121,39],[122,37,125,39],[118,21,121,36],[198,40,201,42],[106,17,109,20],[106,21,109,36],[38,21,41,36],[38,37,41,39],[34,21,37,36],[34,37,37,39],[34,40,37,42],[42,17,45,18],[42,19,45,20],[42,21,45,36],[42,37,45,39],[26,40,29,42],[46,43,49,47],[46,48,49,54],[38,43,41,47],[38,48,41,54],[30,40,33,42],[26,43,29,47],[26,48,29,54],[42,40,45,42],[42,43,45,47],[42,48,45,54],[38,40,41,42],[22,37,25,39],[30,48,33,54],[34,17,37,18],[34,19,37,20],[34,43,37,47],[34,48,37,54],[14,43,17,47],[14,48,17,54],[18,37,21,39],[18,40,21,42],[18,43,21,47],[18,48,21,54],[14,40,17,42],[14,37,17,39],[22,43,25,47],[22,48,25,54],[22,40,25,42],[30,37,33,39],[30,21,33,36],[14,21,17,36],[18,19,21,20],[18,21,21,36],[30,43,33,47],[26,37,29,39],[2,1,5,11],[8,41,11,54],[2,12,5,13],[3,41,5,45],[3,46,5,48],[3,49,5,51],[8,1,11,5],[8,6,11,11],[8,12,11,15],[3,52,5,54],[8,37,11,40],[1,19,4,32],[8,16,11,35]]}
[]
[null,null,null,null,null,null,null,null,null,null,null,null,null,null,null,null,null,null,null,"請求書明細書 (正)"]
[null,"株 式 会 社 種 村 建 設",null,null,null,null,null,null,null,null,null,null,"御中"]
[null,null,null,null,null,null,null,null,null,null,null,null,null,null,null,null,null,null,null,null,null,null,null,null,null,null,null,null,null,null,null,null,null,null,null,null,null,null,null,null,null,"請求年月日",null,null,null,null,{"$f":"年","v":23},null,null,{"$f":"月","v":5},null,null,{"$f":"日","v":31}]
[]
[]
[]
[]
[null,"工事番号",null,null,null,null,null,null,null,null,null,null,"工事名",null,null,null,null,null,null,null,null,null,null,null,null,null,null,null,null,null,null,null,null,null,null,null,null,"業者名",null,null,null,{"$f":"社名","v":"例：㈱種村建設"}]
[]
[]
[]
[]
[]
[null,"注文番号",null,null,null,null,null,null,null,null,null,null,null,null,null,null,null,"月　日",null,null,null,"摘要･品名",null,null,null,null,null,null,null,null,null,null,null,null,null,null,null,"数 量",null,null,"単位",null,null,"単価",null,null,null,null,{"$f":"\"金額(\" & IF(税処理=2,\"税込\",\"税抜\")&\")\"","v":"金額(税抜)"}]
[]
[]
[]
[null,"契約金額",null,null,null,null,null,null,null,null,null,null,null,null,null,null,null,null,null,null,null,null,null,null,null,null,null,null,null,null,null,null,null,null,null,null,null,null,null,null,null,null,null,null,null,null,null,null,{"$f":"IF(V19=\"\",\"\",AL19*AR19)","v":""}]
[]
[]
[]
[null,"増減額",null,null,null,null,null,null,null,null,null,null,null,null,null,null,null,null,null,null,null,null,null,null,null,null,null,null,null,null,null,null,null,null,null,null,null,null,null,null,null,null,null,null,null,null,null,null,{"$f":"IF(V23=\"\",\"\",AL23*AR23)","v":""}]
[]
[]
[]
[null,"前回までの\n請求額",null,null,null,null,null,null,null,null,null,null,null,null,null,null,null,null,null,null,null,null,null,null,null,null,null,null,null,null,null,null,null,null,null,null,null,null,null,null,null,null,null,null,null,null,null,null,{"$f":"IF(V27=\"\",\"\",AL27*AR27)","v":""}]
[]
[]
[]
[null,"今回\n請求額",null,null,null,null,null,null,null,null,null,null,null,null,null,null,null,null,null,null,null,null,null,null,null,null,null,null,null,null,null,null,null,null,null,null,null,null,null,null,null,null,null,null,null,null,null,null,{"$f":"IF(V31=\"\",\"\",AL31*AR31)","v":""}]
[]
[]
[]
[null,"差引残高",null,null,null,null,{"$f":"IF(G19=\"\",\"\",G19+G23-G27-G31)","v":""},null,null,null,null,null,null,null,null,null,null,null,null,null,null,null,null,null,null,null,null,null,null,null,null,null,null,null,null,null,null,null,null,null,null,null,null,null,null,null,null,null,{"$f":"IF(V35=\"\",\"\",AL35*AR35)","v":""}]
[]
[]
[]
[null,null,null,null,null,null,null,null,null,null,null,null,null,null,null,null,null,null,null,null,null,null,null,null,null,null,null,null,null,null,null,null,null,null,null,null,null,null,null,null,null,null,null,null,null,null,null,null,{"$f":"IF(V39=\"\",\"\",AL39*AR39)","v":""}]
[]
[]
[]
[null,null,null,null,null,null,null,null,null,null,null,null,null,null,null,null,null,null,null,null,null,null,null,null,null,null,null,null,null,null,null,null,null,null,null,null,null,null,null,null,null,null,null,null,null,null,null,null,{"$f":"IF(V43=\"\",\"\",AL43*AR43)","v":""}]
[]
[]
[]
[null,null,null,null,null,null,null,null,null,null,null,null,null,null,null,null,null,null,null,null,null,null,null,null,null,null,null,null,null,null,null,null,null,null,null,null,null,null,null,null,null,null,null,null,null,null,null,null,{"$f":"IF(V47=\"\",\"\",AL47*AR47)","v":""}]
[]
[]
[]
[null,null,null,null,null,null,null,null,null,null,null,null,null,null,null,null,null,null,null,null,null,null,null,null,null,null,null,null,null,null,null,null,null,null,null,null,null,null,null,null,null,null,null,null,null,null,null,null,{"$f":"IF(V51=\"\",\"\",AL51*AR51)","v":""}]
[]
[]
[]
[null,null,null,null,null,null,null,null,null,null,null,null,null,null,null,null,null,null,null,null,null,null,null,null,null,null,null,null,null,null,null,null,null,null,null,null,null,null,null,null,null,null,null,null,null,null,null,null,{"$f":"IF(V55=\"\",\"\",AL55*AR55)","v":""}]
[]
[]
[]
[null,null,null,null,null,null,null,null,null,null,null,null,null,null,null,null,null,null,null,null,null,null,null,null,null,null,null,null,null,null,null,null,null,null,null,null,null,null,null,null,null,null,null,null,null,null,null,null,{"$f":"IF(V59=\"\",\"\",AL59*AR59)","v":""}]
[]
[]
[]
[null,null,null,null,null,null,null,null,null,null,null,null,null,null,null,null,null,null,null,null,null,null,null,null,null,null,null,null,null,null,null,null,null,null,null,null,null,null,null,null,null,null,null,null,null,null,null,null,{"$f":"IF(V63=\"\",\"\",AL63*AR63)","v":""}]
[]
[]
[]
[null,null,null,null,null,null,null,null,null,null,null,null,null,null,null,null,null,null,null,null,null,null,null,null,null,null,null,null,null,null,null,null,null,null,null,null,null,null,null,null,null,null,null,null,null,null,null,null,{"$f":"IF(V67=\"\",\"\",AL67*AR67)","v":""}]
[]
[]
[]
[null,null,null,null,null,null,null,null,null,null,null,null,null,null,null,null,null,null,null,null,null,null,null,null,null,null,null,null,null,null,null,null,null,null,null,null,null,null,null,null,null,null,null,null,null,null,null,null,{"$f":"IF(V71=\"\",\"\",AL71*AR71)","v":""}]
[]
[]
[]
[null,null,null,null,null,null,null,null,null,null,null,null,null,null,null,null,null,null,null,null,null,null,null,null,null,null,null,null,null,null,null,null,null,null,null,null,null,null,null,null,null,null,null,null,null,null,null,null,{"$f":"IF(V75=\"\",\"\",AL75*AR75)","v":""}]
[]
[]
[]
[null,null,null,null,null,null,null,null,null,null,null,null,null,null,null,null,null,null,null,null,null,null,null,null,null,null,null,null,null,null,null,null,null,null,null,null,null,null,null,null,null,null,null,null,null,null,null,null,{"$f":"IF(V79=\"\",\"\",AL79*AR79)","v":""}]
[]
[]
[]
[null,null,null,null,null,null,null,null,null,null,null,null,null,null,null,null,null,null,null,null,null,null,null,null,null,null,null,null,null,null,null,null,null,null,null,null,null,"値引き等"]
[null,"社長",null,null,null,"専務",null,null,null,null,null,"常務",null,null,null,null,null,"部長･工場長",null,null,null,null,null,null,null,null,"担当者",null,null,null,null,"受付"]
[]
[]
[]
[null,null,null,null,null,null,null,null,null,null,null,null,null,null,null,null,null,null,null,null,null,null,null,null,null,null,null,null,null,null,null,null,null,null,null,null,null,{"$f":"\"合計(\" & IF(税処理=2,\"税込\",\"税抜\")&\")\"","v":"合計(税抜)"},null,null,null,null,null,null,null,null,null,null,{"$f":"IF(AW19=\"\",\"\",SUM(AW19:AW79)+AW83)","v":""}]
[]
[]
[]
[]
[]
[null,null,null,null,null,null,null,null,null,null,null,null,null,null,null,null,null,null,null,"請求明細書 (現場控)"]
[null,"株 式 会 社 種 村 建 設",null,null,null,null,null,null,null,null,null,null,"御中"]
[null,null,null,null,null,null,null,null,null,null,null,null,null,null,null,null,null,null,null,null,null,null,null,null,null,null,null,null,null,null,null,null,null,null,null,null,null,null,null,null,null,"請求年月日",null,null,null,null,{"$f":"IF(AU4=\"\",\"\",AU4)","v":23},null,null,{"$f":"IF(AX4=\"\",\"\",AX4)","v":5},null,null,{"$f":"IF(BA4=\"\",\"\",BA4)","v":31}]
[]
[]
[]
[]
[null,"工事番号",null,null,null,null,{"$f":"IF(G9=\"\",\"\",G9)","v":""},null,null,null,null,null,"工事名",null,null,null,{"$f":"IF(Q9=\"\",\"\",Q9)","v":""},null,null,null,null,null,null,null,null,null,null,null,null,null,null,null,null,null,null,null,null,"業者名",null,null,null,{"$f":"IF(AP9=\"\",\"\",AP9)","v":"例：㈱種村建設"}]
[]
[]
[]
[]
[]
[null,"注文番号",null,null,null,null,{"$f":"IF(G15=\"\",\"\",G15)","v":""},null,null,null,null,null,null,null,null,null,null,"月　日",null,null,null,"摘要･品名",null,null,null,null,null,null,null,null,null,null,null,null,null,null,null,"数 量",null,null,"単位",null,null,"単価",null,null,null,null,{"$f":"\"金額(\" & IF(税処理=2,\"税込\",\"税抜\")&\")\"","v":"金額(税抜)"}]
[]
[]
[]
[null,"契約金額",null,null,null,null,{"$f":"IF(G19=\"\",\"\",G19)","v":""},null,null,null,null,null,null,null,null,null,null,{"$f":"IF(R19=\"\",\"\",R19)","v":""},null,{"$f":"IF(T19=\"\",\"\",T19)","v":""},null,{"$f":"IF(V19=\"\",\"\",V19)","v":""},null,{"$f":"IF(X19=\"\",\"\",X19)","v":""},null,{"$f":"IF(Z19=\"\",\"\",Z19)","v":""},null,{"$f":"IF(AB19=\"\",\"\",AB19)","v":""},null,{"$f":"IF(AD19=\"\",\"\",AD19)","v":""},null,{"$f":"IF(AF19=\"\",\"\",AF19)","v":""},null,{"$f":"IF(AH19=\"\",\"\",AH19)","v":""},null,{"$f":"IF(AJ19=\"\",\"\",AJ19)","v":""},null,{"$f":"IF(AL19=\"\",\"\",AL19)","v":""},null,null,{"$f":"IF(AO19=\"\",\"\",AO19)","v":""},null,null,{"$f":"IF(AR19=\"\",\"\",AR19)","v":""},null,null,null,null,{"$f":"IF(AW19=\"\",\"\",AW19)","v":""}]
[]
[]
[]
[null,"増減額",null,null,null,null,{"$f":"IF(G23=\"\",\"\",G23)","v":""},null,null,null,null,null,null,null,null,null,null,{"$f":"IF(R23=\"\",\"\",R23)","v":""},null,{"$f":"IF(T23=\"\",\"\",T23)","v":""},null,{"$f":"IF(V23=\"\",\"\",V23)","v":""},null,{"$f":"IF(X23=\"\",\"\",X23)","v":""},null,{"$f":"IF(Z23=\"\",\"\",Z23)","v":""},null,{"$f":"IF(AB23=\"\",\"\",AB23)","v":""},null,{"$f":"IF(AD23=\"\",\"\",AD23)","v":""},null,{"$f":"IF(AF23=\"\",\"\",AF23)","v":""},null,{"$f":"IF(AH23=\"\",\"\",AH23)","v":""},null,{"$f":"IF(AJ23=\"\",\"\",AJ23)","v":""},null,{"$f":"IF(AL23=\"\",\"\",AL23)","v":""},null,null,{"$f":"IF(AO23=\"\",\"\",AO23)","v":""},null,null,{"$f":"IF(AR23=\"\",\"\",AR23)","v":""},null,null,null,null,{"$f":"IF(AW23=\"\",\"\",AW23)","v":""}]
[]
[]
[]
[null,"前回までの\n請求額",null,null,null,null,{"$f":"IF(G27=\"\",\"\",G27)","v":""},null,null,null,null,null,null,null,null,null,null,{"$f":"IF(R27=\"\",\"\",R27)","v":""},null,{"$f":"IF(T27=\"\",\"\",T27)","v":""},null,{"$f":"IF(V27=\"\",\"\",V27)","v":""},null,{"$f":"IF(X27=\"\",\"\",X27)","v":""},null,{"$f":"IF(Z27=\"\",\"\",Z27)","v":""},null,{"$f":"IF(AB27=\"\",\"\",AB27)","v":""},null,{"$f":"IF(AD27=\"\",\"\",AD27)","v":""},null,{"$f":"IF(AF27=\"\",\"\",AF27)","v":""},null,{"$f":"IF(AH27=\"\",\"\",AH27)","v":""},null,{"$f":"IF(AJ27=\"\",\"\",AJ27)","v":""},null,{"$f":"IF(AL27=\"\",\"\",AL27)","v":""},null,null,{"$f":"IF(AO27=\"\",\"\",AO27)","v":""},null,null,{"$f":"IF(AR27=\"\",\"\",AR27)","v":""},null,null,null,null,{"$f":"IF(AW27=\"\",\"\",AW27)","v":""}]
[]
[]
[]
[null,"今回\n請求額",null,null,{"$f":"IF(E31=\"\",\"\",E31)","v":""},null,{"$f":"IF(G31=\"\",\"\",G31)","v":""},null,null,null,null,null,null,null,null,null,null,{"$f":"IF(R31=\"\",\"\",R31)","v":""},null,{"$f":"IF(T31=\"\",\"\",T31)","v":""},null,{"$f":"IF(V31=\"\",\"\",V31)","v":""},null,{"$f":"IF(X31=\"\",\"\",X31)","v":""},null,{"$f":"IF(Z31=\"\",\"\",Z31)","v":""},null,{"$f":"IF(AB31=\"\",\"\",AB31)","v":""},null,{"$f":"IF(AD31=\"\",\"\",AD31)","v":""},null,{"$f":"IF(AF31=\"\",\"\",AF31)","v":""},null,{"$f":"IF(AH31=\"\",\"\",AH31)","v":""},null,{"$f":"IF(AJ31=\"\",\"\",AJ31)","v":""},null,{"$f":"IF(AL31=\"\",\"\",AL31)","v":""},null,null,{"$f":"IF(AO31=\"\",\"\",AO31)","v":""},null,null,{"$f":"IF(AR31=\"\",\"\",AR31)","v":""},null,null,null,null,{"$f":"IF(AW31=\"\",\"\",AW31)","v":""}]
[]
[]
[]
[null,"差引残高",null,null,null,null,{"$f":"IF(G111=\"\",\"\",G111+G115-G119-G123)","v":""},null,null,null,null,null,null,null,null,null,null,{"$f":"IF(R35=\"\",\"\",R35)","v":""},null,{"$f":"IF(T35=\"\",\"\",T35)","v":""},null,{"$f":"IF(V35=\"\",\"\",V35)","v":""},null,{"$f":"IF(X35=\"\",\"\",X35)","v":""},null,{"$f":"IF(Z35=\"\",\"\",Z35)","v":""},null,{"$f":"IF(AB35=\"\",\"\",AB35)","v":""},null,{"$f":"IF(AD35=\"\",\"\",AD35)","v":""},null,{"$f":"IF(AF35=\"\",\"\",AF35)","v":""},null,{"$f":"IF(AH35=\"\",\"\",AH35)","v":""},null,{"$f":"IF(AJ35=\"\",\"\",AJ35)","v":""},null,{"$f":"IF(AL35=\"\",\"\",AL35)","v":""},null,null,{"$f":"IF(AO35=\"\",\"\",AO35)","v":""},null,null,{"$f":"IF(AR35=\"\",\"\",AR35)","v":""},null,null,null,null,{"$f":"IF(AW35=\"\",\"\",AW35)","v":""}]
[]
[]
[]
[null,null,null,null,null,null,null,null,null,null,null,null,null,null,null,null,null,{"$f":"IF(R39=\"\",\"\",R39)","v":""},null,{"$f":"IF(T39=\"\",\"\",T39)","v":""},null,{"$f":"IF(V39=\"\",\"\",V39)","v":""},null,{"$f":"IF(X39=\"\",\"\",X39)","v":""},null,{"$f":"IF(Z39=\"\",\"\",Z39)","v":""},null,{"$f":"IF(AB39=\"\",\"\",AB39)","v":""},null,{"$f":"IF(AD39=\"\",\"\",AD39)","v":""},null,{"$f":"IF(AF39=\"\",\"\",AF39)","v":""},null,{"$f":"IF(AH39=\"\",\"\",AH39)","v":""},null,{"$f":"IF(AJ39=\"\",\"\",AJ39)","v":""},null,{"$f":"IF(AL39=\"\",\"\",AL39)","v":""},null,null,{"$f":"IF(AO39=\"\",\"\",AO39)","v":""},null,null,{"$f":"IF(AR39=\"\",\"\",AR39)","v":""},null,null,null,null,{"$f":"IF(AW39=\"\",\"\",AW39)","v":""}]
[]
[]
[]
[null,null,null,null,null,null,null,null,null,null,null,null,null,null,null,null,null,{"$f":"IF(R43=\"\",\"\",R43)","v":""},null,{"$f":"IF(T43=\"\",\"\",T43)","v":""},null,{"$f":"IF(V43=\"\",\"\",V43)","v":""},null,{"$f":"IF(X43=\"\",\"\",X43)","v":""},null,{"$f":"IF(Z43=\"\",\"\",Z43)","v":""},null,{"$f":"IF(AB43=\"\",\"\",AB43)","v":""},null,{"$f":"IF(AD43=\"\",\"\",AD43)","v":""},null,{"$f":"IF(AF43=\"\",\"\",AF43)","v":""},null,{"$f":"IF(AH43=\"\",\"\",AH43)","v":""},null,{"$f":"IF(AJ43=\"\",\"\",AJ43)","v":""},null,{"$f":"IF(AL43=\"\",\"\",AL43)","v":""},null,null,{"$f":"IF(AO43=\"\",\"\",AO43)","v":""},null,null,{"$f":"IF(AR43=\"\",\"\",AR43)","v":""},null,null,null,null,{"$f":"IF(AW43=\"\",\"\",AW43)","v":""}]
[]
[]
[]
[null,null,null,null,null,null,null,null,null,null,null,null,null,null,null,null,null,{"$f":"IF(R47=\"\",\"\",R47)","v":""},null,{"$f":"IF(T47=\"\",\"\",T47)","v":""},null,{"$f":"IF(V47=\"\",\"\",V47)","v":""},null,{"$f":"IF(X47=\"\",\"\",X47)","v":""},null,{"$f":"IF(Z47=\"\",\"\",Z47)","v":""},null,{"$f":"IF(AB47=\"\",\"\",AB47)","v":""},null,{"$f":"IF(AD47=\"\",\"\",AD47)","v":""},null,{"$f":"IF(AF47=\"\",\"\",AF47)","v":""},null,{"$f":"IF(AH47=\"\",\"\",AH47)","v":""},null,{"$f":"IF(AJ47=\"\",\"\",AJ47)","v":""},null,{"$f":"IF(AL47=\"\",\"\",AL47)","v":""},null,null,{"$f":"IF(AO47=\"\",\"\",AO47)","v":""},null,null,{"$f":"IF(AR47=\"\",\"\",AR47)","v":""},null,null,null,null,{"$f":"IF(AW47=\"\",\"\",AW47)","v":""}]
[]
[]
[]
[null,null,null,null,null,null,null,null,null,null,null,null,null,null,null,null,null,{"$f":"IF(R51=\"\",\"\",R51)","v":""},null,{"$f":"IF(T51=\"\",\"\",T51)","v":""},null,{"$f":"IF(V51=\"\",\"\",V51)","v":""},null,{"$f":"IF(X51=\"\",\"\",X51)","v":""},null,{"$f":"IF(Z51=\"\",\"\",Z51)","v":""},null,{"$f":"IF(AB51=\"\",\"\",AB51)","v":""},null,{"$f":"IF(AD51=\"\",\"\",AD51)","v":""},null,{"$f":"IF(AF51=\"\",\"\",AF51)","v":""},null,{"$f":"IF(AH51=\"\",\"\",AH51)","v":""},null,{"$f":"IF(AJ51=\"\",\"\",AJ51)","v":""},null,{"$f":"IF(AL51=\"\",\"\",AL51)","v":""},null,null,{"$f":"IF(AO51=\"\",\"\",AO51)","v":""},null,null,{"$f":"IF(AR51=\"\",\"\",AR51)","v":""},null,null,null,null,{"$f":"IF(AW51=\"\",\"\",AW51)","v":""}]
[]
[]
[]
[null,null,null,null,null,null,null,null,null,null,null,null,null,null,null,null,null,{"$f":"IF(R55=\"\",\"\",R55)","v":""},null,{"$f":"IF(T55=\"\",\"\",T55)","v":""},null,{"$f":"IF(V55=\"\",\"\",V55)","v":""},null,{"$f":"IF(X55=\"\",\"\",X55)","v":""},null,{"$f":"IF(Z55=\"\",\"\",Z55)","v":""},null,{"$f":"IF(AB55=\"\",\"\",AB55)","v":""},null,{"$f":"IF(AD55=\"\",\"\",AD55)","v":""},null,{"$f":"IF(AF55=\"\",\"\",AF55)","v":""},null,{"$f":"IF(AH55=\"\",\"\",AH55)","v":""},null,{"$f":"IF(AJ55=\"\",\"\",AJ55)","v":""},null,{"$f":"IF(AL55=\"\",\"\",AL55)","v":""},null,null,{"$f":"IF(AO55=\"\",\"\",AO55)","v":""},null,null,{"$f":"IF(AR55=\"\",\"\",AR55)","v":""},null,null,null,null,{"$f":"IF(AW55=\"\",\"\",AW55)","v":""}]
[]
[]
[]
[null,null,null,null,null,null,null,null,null,null,null,null,null,null,null,null,null,{"$f":"IF(R59=\"\",\"\",R59)","v":""},null,{"$f":"IF(T59=\"\",\"\",T59)","v":""},null,{"$f":"IF(V59=\"\",\"\",V59)","v":""},null,{"$f":"IF(X59=\"\",\"\",X59)","v":""},null,{"$f":"IF(Z59=\"\",\"\",Z59)","v":""},null,{"$f":"IF(AB59=\"\",\"\",AB59)","v":""},null,{"$f":"IF(AD59=\"\",\"\",AD59)","v":""},null,{"$f":"IF(AF59=\"\",\"\",AF59)","v":""},null,{"$f":"IF(AH59=\"\",\"\",AH59)","v":""},null,{"$f":"IF(AJ59=\"\",\"\",AJ59)","v":""},null,{"$f":"IF(AL59=\"\",\"\",AL59)","v":""},null,null,{"$f":"IF(AO59=\"\",\"\",AO59)","v":""},null,null,{"$f":"IF(AR59=\"\",\"\",AR59)","v":""},null,null,null,null,{"$f":"IF(AW59=\"\",\"\",AW59)","v":""}]
[]
[]
[]
[null,null,null,null,null,null,null,null,null,null,null,null,null,null,null,null,null,{"$f":"IF(R63=\"\",\"\",R63)","v":""},null,{"$f":"IF(T63=\"\",\"\",T63)","v":""},null,{"$f":"IF(V63=\"\",\"\",V63)","v":""},null,{"$f":"IF(X63=\"\",\"\",X63)","v":""},null,{"$f":"IF(Z63=\"\",\"\",Z63)","v":""},null,{"$f":"IF(AB63=\"\",\"\",AB63)","v":""},null,{"$f":"IF(AD63=\"\",\"\",AD63)","v":""},null,{"$f":"IF(AF63=\"\",\"\",AF63)","v":""},null,{"$f":"IF(AH63=\"\",\"\",AH63)","v":""},null,{"$f":"IF(AJ63=\"\",\"\",AJ63)","v":""},null,{"$f":"IF(AL63=\"\",\"\",AL63)","v":""},null,null,{"$f":"IF(AO63=\"\",\"\",AO63)","v":""},null,null,{"$f":"IF(AR63=\"\",\"\",AR63)","v":""},null,null,null,null,{"$f":"IF(AW63=\"\",\"\",AW63)","v":""}]
[]
[]
[]
[null,null,null,null,null,null,null,null,null,null,null,null,null,null,null,null,null,{"$f":"IF(R67=\"\",\"\",R67)","v":""},null,{"$f":"IF(T67=\"\",\"\",T67)","v":""},null,{"$f":"IF(V67=\"\",\"\",V67)","v":""},null,{"$f":"IF(X67=\"\",\"\",X67)","v":""},null,{"$f":"IF(Z67=\"\",\"\",Z67)","v":""},null,{"$f":"IF(AB67=\"\",\"\",AB67)","v":""},null,{"$f":"IF(AD67=\"\",\"\",AD67)","v":""},null,{"$f":"IF(AF67=\"\",\"\",AF67)","v":""},null,{"$f":"IF(AH67=\"\",\"\",AH67)","v":""},null,{"$f":"IF(AJ67=\"\",\"\",AJ67)","v":""},null,{"$f":"IF(AL67=\"\",\"\",AL67)","v":""},null,null,{"$f":"IF(AO67=\"\",\"\",AO67)","v":""},null,null,{"$f":"IF(AR67=\"\",\"\",AR67)","v":""},null,null,null,null,{"$f":"IF(AW67=\"\",\"\",AW67)","v":""}]
[]
[]
[]
[null,null,null,null,null,null,null,null,null,null,null,null,null,null,null,null,null,{"$f":"IF(R71=\"\",\"\",R71)","v":""},null,{"$f":"IF(T71=\"\",\"\",T71)","v":""},null,{"$f":"IF(V71=\"\",\"\",V71)","v":""},null,{"$f":"IF(X71=\"\",\"\",X71)","v":""},null,{"$f":"IF(Z71=\"\",\"\",Z71)","v":""},null,{"$f":"IF(AB71=\"\",\"\",AB71)","v":""},null,{"$f":"IF(AD71=\"\",\"\",AD71)","v":""},null,{"$f":"IF(AF71=\"\",\"\",AF71)","v":""},null,{"$f":"IF(AH71=\"\",\"\",AH71)","v":""},null,{"$f":"IF(AJ71=\"\",\"\",AJ71)","v":""},null,{"$f":"IF(AL71=\"\",\"\",AL71)","v":""},null,null,{"$f":"IF(AO71=\"\",\"\",AO71)","v":""},null,null,{"$f":"IF(AR71=\"\",\"\",AR71)","v":""},null,null,null,null,{"$f":"IF(AW71=\"\",\"\",AW71)","v":""}]
[]
[]
[]
[null,null,null,null,null,null,null,null,null,null,null,null,null,null,null,null,null,{"$f":"IF(R75=\"\",\"\",R75)","v":""},null,{"$f":"IF(T75=\"\",\"\",T75)","v":""},null,{"$f":"IF(V75=\"\",\"\",V75)","v":""},null,{"$f":"IF(X75=\"\",\"\",X75)","v":""},null,{"$f":"IF(Z75=\"\",\"\",Z75)","v":""},null,{"$f":"IF(AB75=\"\",\"\",AB75)","v":""},null,{"$f":"IF(AD75=\"\",\"\",AD75)","v":""},null,{"$f":"IF(AF75=\"\",\"\",AF75)","v":""},null,{"$f":"IF(AH75=\"\",\"\",AH75)","v":""},null,{"$f":"IF(AJ75=\"\",\"\",AJ75)","v":""},null,{"$f":"IF(AL75=\"\",\"\",AL75)","v":""},null,null,{"$f":"IF(AO75=\"\",\"\",AO75)","v":""},null,null,{"$f":"IF(AR75=\"\",\"\",AR75)","v":""},null,null,null,null,{"$f":"IF(AW75=\"\",\"\",AW75)","v":""}]
[]
[]
[]
[null,null,null,null,null,null,null,null,null,null,null,null,null,null,null,null,null,{"$f":"IF(R79=\"\",\"\",R79)","v":""},null,{"$f":"IF(T79=\"\",\"\",T79)","v":""},null,{"$f":"IF(V79=\"\",\"\",V79)","v":""},null,{"$f":"IF(X79=\"\",\"\",X79)","v":""},null,{"$f":"IF(Z79=\"\",\"\",Z79)","v":""},null,{"$f":"IF(AB79=\"\",\"\",AB79)","v":""},null,{"$f":"IF(AD79=\"\",\"\",AD79)","v":""},null,{"$f":"IF(AF79=\"\",\"\",AF79)","v":""},null,{"$f":"IF(AH79=\"\",\"\",AH79)","v":""},null,{"$f":"IF(AJ79=\"\",\"\",AJ79)","v":""},null,{"$f":"IF(AL79=\"\",\"\",AL79)","v":""},null,null,{"$f":"IF(AO79=\"\",\"\",AO79)","v":""},null,null,{"$f":"IF(AR79=\"\",\"\",AR79)","v":""},null,null,null,null,{"$f":"IF(AW79=\"\",\"\",AW79)","v":""}]
[]
[]
[]
[null,null,null,null,null,null,null,null,null,null,null,null,null,null,null,null,null,null,null,null,null,null,null,null,null,null,null,null,null,null,null,null,null,null,null,null,null,"値引き等",null,null,null,null,null,null,null,null,null,null,{"$f":"IF(AW83=\"\",\"\",AW83)","v":""}]
[]
[]
[]
[]
[null,null,null,null,null,null,null,null,null,null,null,null,null,null,null,null,null,null,null,null,null,null,null,null,null,null,null,null,null,null,null,null,null,null,null,null,null,{"$f":"\"合計(\" & IF(税処理=2,\"税込\",\"税抜\")&\")\"","v":"合計(税抜)"},null,null,null,null,null,null,null,null,null,null,{"$f":"IF(AW88=\"\",\"\",AW88)","v":""}]
[]
[]
[]
[]
[]
[null,null,null,null,null,null,null,null,null,null,null,null,null,null,null,null,null,null,null,"請求明細書 (貴社控)"]
[null,"株 式 会 社 種 村 建 設",null,null,null,null,null,null,null,null,null,null,"御中"]
[null,null,null,null,null,null,null,null,null,null,null,null,null,null,null,null,null,null,null,null,null,null,null,null,null,null,null,null,null,null,null,null,null,null,null,null,null,null,null,null,null,"請求年月日",null,null,null,null,{"$f":"IF(AU96=\"\",\"\",AU96)","v":23},null,null,{"$f":"IF(AX96=\"\",\"\",AX96)","v":5},null,null,{"$f":"IF(BA96=\"\",\"\",BA96)","v":31}]
[]
[]
[]
[]
[null,"工事番号",null,null,null,null,{"$f":"IF(G101=\"\",\"\",G101)","v":""},null,null,null,null,null,"工事名",null,null,null,{"$f":"IF(Q101=\"\",\"\",Q101)","v":""},null,null,null,null,null,null,null,null,null,null,null,null,null,null,null,null,null,null,null,null,"業者名",null,null,null,{"$f":"IF(AP101=\"\",\"\",AP101)","v":"例：㈱種村建設"}]
[]
[]
[]
[]
[]
[null,"注文番号",null,null,null,null,{"$f":"IF(G107=\"\",\"\",G107)","v":""},null,null,null,null,null,null,null,null,null,null,"月　日",null,null,null,"摘要･品名",null,null,null,null,null,null,null,null,null,null,null,null,null,null,null,"数 量",null,null,"単位",null,null,"単価",null,null,null,null,{"$f":"\"金額(\" & IF(税処理=2,\"税込\",\"税抜\")&\")\"","v":"金額(税抜)"}]
[]
[]
[]
[null,"契約金額",null,null,null,null,{"$f":"IF(G111=\"\",\"\",G111)","v":""},null,null,null,null,null,null,null,null,null,null,{"$f":"IF(R111=\"\",\"\",R111)","v":""},null,{"$f":"IF(T111=\"\",\"\",T111)","v":""},null,{"$f":"IF(V111=\"\",\"\",V111)","v":""},null,{"$f":"IF(X111=\"\",\"\",X111)","v":""},null,{"$f":"IF(Z111=\"\",\"\",Z111)","v":""},null,{"$f":"IF(AB111=\"\",\"\",AB111)","v":""},null,{"$f":"IF(AD111=\"\",\"\",AD111)","v":""},null,{"$f":"IF(AF111=\"\",\"\",AF111)","v":""},null,{"$f":"IF(AH111=\"\",\"\",AH111)","v":""},null,{"$f":"IF(AJ111=\"\",\"\",AJ111)","v":""},null,{"$f":"IF(AL111=\"\",\"\",AL111)","v":""},null,null,{"$f":"IF(AO111=\"\",\"\",AO111)","v":""},null,null,{"$f":"IF(AR111=\"\",\"\",AR111)","v":""},null,null,null,null,{"$f":"IF(AW111=\"\",\"\",AW111)","v":""}]
[]
[]
[]
[null,"増減額",null,null,null,null,{"$f":"IF(G115=\"\",\"\",G115)","v":""},null,null,null,null,null,null,null,null,null,null,{"$f":"IF(R115=\"\",\"\",R115)","v":""},null,{"$f":"IF(T115=\"\",\"\",T115)","v":""},null,{"$f":"IF(V115=\"\",\"\",V115)","v":""},null,{"$f":"IF(X115=\"\",\"\",X115)","v":""},null,{"$f":"IF(Z115=\"\",\"\",Z115)","v":""},null,{"$f":"IF(AB115=\"\",\"\",AB115)","v":""},null,{"$f":"IF(AD115=\"\",\"\",AD115)","v":""},null,{"$f":"IF(AF115=\"\",\"\",AF115)","v":""},null,{"$f":"IF(AH115=\"\",\"\",AH115)","v":""},null,{"$f":"IF(AJ115=\"\",\"\",AJ115)","v":""},null,{"$f":"IF(AL115=\"\",\"\",AL115)","v":""},null,null,{"$f":"IF(AO115=\"\",\"\",AO115)","v":""},null,null,{"$f":"IF(AR115=\"\",\"\",AR115)","v":""},null,null,null,null,{"$f":"IF(AW115=\"\",\"\",AW115)","v":""}]
[]
[]
[]
[null,"前回までの\n請求額",null,null,null,null,{"$f":"IF(G119=\"\",\"\",G119)","v":""},null,null,null,null,null,null,null,null,null,null,{"$f":"IF(R119=\"\",\"\",R119)","v":""},null,{"$f":"IF(T119=\"\",\"\",T119)","v":""},null,{"$f":"IF(V119=\"\",\"\",V119)","v":""},null,{"$f":"IF(X119=\"\",\"\",X119)","v":""},null,{"$f":"IF(Z119=\"\",\"\",Z119)","v":""},null,{"$f":"IF(AB119=\"\",\"\",AB119)","v":""},null,{"$f":"IF(AD119=\"\",\"\",AD119)","v":""},null,{"$f":"IF(AF119=\"\",\"\",AF119)","v":""},null,{"$f":"IF(AH119=\"\",\"\",AH119)","v":""},null,{"$f":"IF(AJ119=\"\",\"\",AJ119)","v":""},null,{"$f":"IF(AL119=\"\",\"\",AL119)","v":""},null,null,{"$f":"IF(AO119=\"\",\"\",AO119)","v":""},null,null,{"$f":"IF(AR119=\"\",\"\",AR119)","v":""},null,null,null,null,{"$f":"IF(AW119=\"\",\"\",AW119)","v":""}]
[]
[]
[]
[null,"今回\n請求額",null,null,{"$f":"IF(E31=\"\",\"\",E31)","v":""},null,{"$f":"IF(G123=\"\",\"\",G123)","v":""},null,null,null,null,null,null,null,null,null,null,{"$f":"IF(R123=\"\",\"\",R123)","v":""},null,{"$f":"IF(T123=\"\",\"\",T123)","v":""},null,{"$f":"IF(V123=\"\",\"\",V123)","v":""},null,{"$f":"IF(X123=\"\",\"\",X123)","v":""},null,{"$f":"IF(Z123=\"\",\"\",Z123)","v":""},null,{"$f":"IF(AB123=\"\",\"\",AB123)","v":""},null,{"$f":"IF(AD123=\"\",\"\",AD123)","v":""},null,{"$f":"IF(AF123=\"\",\"\",AF123)","v":""},null,{"$f":"IF(AH123=\"\",\"\",AH123)","v":""},null,{"$f":"IF(AJ123=\"\",\"\",AJ123)","v":""},null,{"$f":"IF(AL123=\"\",\"\",AL123)","v":""},null,null,{"$f":"IF(AO123=\"\",\"\",AO123)","v":""},null,null,{"$f":"IF(AR123=\"\",\"\",AR123)","v":""},null,null,null,null,{"$f":"IF(AW123=\"\",\"\",AW123)","v":""}]
[]
[]
[]
[null,"差引残高",null,null,null,null,{"$f":"IF(G203=\"\",\"\",G203+G207-G211-G215)","v":""},null,null,null,null,null,null,null,null,null,null,{"$f":"IF(R127=\"\",\"\",R127)","v":""},null,{"$f":"IF(T127=\"\",\"\",T127)","v":""},null,{"$f":"IF(V127=\"\",\"\",V127)","v":""},null,{"$f":"IF(X127=\"\",\"\",X127)","v":""},null,{"$f":"IF(Z127=\"\",\"\",Z127)","v":""},null,{"$f":"IF(AB127=\"\",\"\",AB127)","v":""},null,{"$f":"IF(AD127=\"\",\"\",AD127)","v":""},null,{"$f":"IF(AF127=\"\",\"\",AF127)","v":""},null,{"$f":"IF(AH127=\"\",\"\",AH127)","v":""},null,{"$f":"IF(AJ127=\"\",\"\",AJ127)","v":""},null,{"$f":"IF(AL127=\"\",\"\",AL127)","v":""},null,null,{"$f":"IF(AO127=\"\",\"\",AO127)","v":""},null,null,{"$f":"IF(AR127=\"\",\"\",AR127)","v":""},null,null,null,null,{"$f":"IF(AW127=\"\",\"\",AW127)","v":""}]
[]
[]
[]
[null,null,null,null,null,null,null,null,null,null,null,null,null,null,null,null,null,{"$f":"IF(R131=\"\",\"\",R131)","v":""},null,{"$f":"IF(T131=\"\",\"\",T131)","v":""},null,{"$f":"IF(V131=\"\",\"\",V131)","v":""},null,{"$f":"IF(X131=\"\",\"\",X131)","v":""},null,{"$f":"IF(Z131=\"\",\"\",Z131)","v":""},null,{"$f":"IF(AB131=\"\",\"\",AB131)","v":""},null,{"$f":"IF(AD131=\"\",\"\",AD131)","v":""},null,{"$f":"IF(AF131=\"\",\"\",AF131)","v":""},null,{"$f":"IF(AH131=\"\",\"\",AH131)","v":""},null,{"$f":"IF(AJ131=\"\",\"\",AJ131)","v":""},null,{"$f":"IF(AL131=\"\",\"\",AL131)","v":""},null,null,{"$f":"IF(AO131=\"\",\"\",AO131)","v":""},null,null,{"$f":"IF(AR131=\"\",\"\",AR131)","v":""},null,null,null,null,{"$f":"IF(AW131=\"\",\"\",AW131)","v":""}]
[]
[]
[]
[null,null,null,null,null,null,null,null,null,null,null,null,null,null,null,null,null,{"$f":"IF(R135=\"\",\"\",R135)","v":""},null,{"$f":"IF(T135=\"\",\"\",T135)","v":""},null,{"$f":"IF(V135=\"\",\"\",V135)","v":""},null,{"$f":"IF(X135=\"\",\"\",X135)","v":""},null,{"$f":"IF(Z135=\"\",\"\",Z135)","v":""},null,{"$f":"IF(AB135=\"\",\"\",AB135)","v":""},null,{"$f":"IF(AD135=\"\",\"\",AD135)","v":""},null,{"$f":"IF(AF135=\"\",\"\",AF135)","v":""},null,{"$f":"IF(AH135=\"\",\"\",AH135)","v":""},null,{"$f":"IF(AJ135=\"\",\"\",AJ135)","v":""},null,{"$f":"IF(AL135=\"\",\"\",AL135)","v":""},null,null,{"$f":"IF(AO135=\"\",\"\",AO135)","v":""},null,null,{"$f":"IF(AR135=\"\",\"\",AR135)","v":""},null,null,null,null,{"$f":"IF(AW135=\"\",\"\",AW135)","v":""}]
[]
[]
[]
[null,null,null,null,null,null,null,null,null,null,null,null,null,null,null,null,null,{"$f":"IF(R139=\"\",\"\",R139)","v":""},null,{"$f":"IF(T139=\"\",\"\",T139)","v":""},null,{"$f":"IF(V139=\"\",\"\",V139)","v":""},null,{"$f":"IF(X139=\"\",\"\",X139)","v":""},null,{"$f":"IF(Z139=\"\",\"\",Z139)","v":""},null,{"$f":"IF(AB139=\"\",\"\",AB139)","v":""},null,{"$f":"IF(AD139=\"\",\"\",AD139)","v":""},null,{"$f":"IF(AF139=\"\",\"\",AF139)","v":""},null,{"$f":"IF(AH139=\"\",\"\",AH139)","v":""},null,{"$f":"IF(AJ139=\"\",\"\",AJ139)","v":""},null,{"$f":"IF(AL139=\"\",\"\",AL139)","v":""},null,null,{"$f":"IF(AO139=\"\",\"\",AO139)","v":""},null,null,{"$f":"IF(AR139=\"\",\"\",AR139)","v":""},null,null,null,null,{"$f":"IF(AW139=\"\",\"\",AW139)","v":""}]
[]
[]
[]
[null,null,null,null,null,null,null,null,null,null,null,null,null,null,null,null,null,{"$f":"IF(R143=\"\",\"\",R143)","v":""},null,{"$f":"IF(T143=\"\",\"\",T143)","v":""},null,{"$f":"IF(V143=\"\",\"\",V143)","v":""},null,{"$f":"IF(X143=\"\",\"\",X143)","v":""},null,{"$f":"IF(Z143=\"\",\"\",Z143)","v":""},null,{"$f":"IF(AB143=\"\",\"\",AB143)","v":""},null,{"$f":"IF(AD143=\"\",\"\",AD143)","v":""},null,{"$f":"IF(AF143=\"\",\"\",AF143)","v":""},null,{"$f":"IF(AH143=\"\",\"\",AH143)","v":""},null,{"$f":"IF(AJ143=\"\",\"\",AJ143)","v":""},null,{"$f":"IF(AL143=\"\",\"\",AL143)","v":""},null,null,{"$f":"IF(AO143=\"\",\"\",AO143)","v":""},null,null,{"$f":"IF(AR143=\"\",\"\",AR143)","v":""},null,null,null,null,{"$f":"IF(AW143=\"\",\"\",AW143)","v":""}]
[]
[]
[]
[null,null,null,null,null,null,null,null,null,null,null,null,null,null,null,null,null,{"$f":"IF(R147=\"\",\"\",R147)","v":""},null,{"$f":"IF(T147=\"\",\"\",T147)","v":""},null,{"$f":"IF(V147=\"\",\"\",V147)","v":""},null,{"$f":"IF(X147=\"\",\"\",X147)","v":""},null,{"$f":"IF(Z147=\"\",\"\",Z147)","v":""},null,{"$f":"IF(AB147=\"\",\"\",AB147)","v":""},null,{"$f":"IF(AD147=\"\",\"\",AD147)","v":""},null,{"$f":"IF(AF147=\"\",\"\",AF147)","v":""},null,{"$f":"IF(AH147=\"\",\"\",AH147)","v":""},null,{"$f":"IF(AJ147=\"\",\"\",AJ147)","v":""},null,{"$f":"IF(AL147=\"\",\"\",AL147)","v":""},null,null,{"$f":"IF(AO147=\"\",\"\",AO147)","v":""},null,null,{"$f":"IF(AR147=\"\",\"\",AR147)","v":""},null,null,null,null,{"$f":"IF(AW147=\"\",\"\",AW147)","v":""}]
[]
[]
[]
[null,null,null,null,null,null,null,null,null,null,null,null,null,null,null,null,null,{"$f":"IF(R151=\"\",\"\",R151)","v":""},null,{"$f":"IF(T151=\"\",\"\",T151)","v":""},null,{"$f":"IF(V151=\"\",\"\",V151)","v":""},null,{"$f":"IF(X151=\"\",\"\",X151)","v":""},null,{"$f":"IF(Z151=\"\",\"\",Z151)","v":""},null,{"$f":"IF(AB151=\"\",\"\",AB151)","v":""},null,{"$f":"IF(AD151=\"\",\"\",AD151)","v":""},null,{"$f":"IF(AF151=\"\",\"\",AF151)","v":""},null,{"$f":"IF(AH151=\"\",\"\",AH151)","v":""},null,{"$f":"IF(AJ151=\"\",\"\",AJ151)","v":""},null,{"$f":"IF(AL151=\"\",\"\",AL151)","v":""},null,null,{"$f":"IF(AO151=\"\",\"\",AO151)","v":""},null,null,{"$f":"IF(AR151=\"\",\"\",AR151)","v":""},null,null,null,null,{"$f":"IF(AW151=\"\",\"\",AW151)","v":""}]
[]
[]
[]
[null,null,null,null,null,null,null,null,null,null,null,null,null,null,null,null,null,{"$f":"IF(R155=\"\",\"\",R155)","v":""},null,{"$f":"IF(T155=\"\",\"\",T155)","v":""},null,{"$f":"IF(V155=\"\",\"\",V155)","v":""},null,{"$f":"IF(X155=\"\",\"\",X155)","v":""},null,{"$f":"IF(Z155=\"\",\"\",Z155)","v":""},null,{"$f":"IF(AB155=\"\",\"\",AB155)","v":""},null,{"$f":"IF(AD155=\"\",\"\",AD155)","v":""},null,{"$f":"IF(AF155=\"\",\"\",AF155)","v":""},null,{"$f":"IF(AH155=\"\",\"\",AH155)","v":""},null,{"$f":"IF(AJ155=\"\",\"\",AJ155)","v":""},null,{"$f":"IF(AL155=\"\",\"\",AL155)","v":""},null,null,{"$f":"IF(AO155=\"\",\"\",AO155)","v":""},null,null,{"$f":"IF(AR155=\"\",\"\",AR155)","v":""},null,null,null,null,{"$f":"IF(AW155=\"\",\"\",AW155)","v":""}]
[]
[]
[]
[null,null,null,null,null,null,null,null,null,null,null,null,null,null,null,null,null,{"$f":"IF(R159=\"\",\"\",R159)","v":""},null,{"$f":"IF(T159=\"\",\"\",T159)","v":""},null,{"$f":"IF(V159=\"\",\"\",V159)","v":""},null,{"$f":"IF(X159=\"\",\"\",X159)","v":""},null,{"$f":"IF(Z159=\"\",\"\",Z159)","v":""},null,{"$f":"IF(AB159=\"\",\"\",AB159)","v":""},null,{"$f":"IF(AD159=\"\",\"\",AD159)","v":""},null,{"$f":"IF(AF159=\"\",\"\",AF159)","v":""},null,{"$f":"IF(AH159=\"\",\"\",AH159)","v":""},null,{"$f":"IF(AJ159=\"\",\"\",AJ159)","v":""},null,{"$f":"IF(AL159=\"\",\"\",AL159)","v":""},null,null,{"$f":"IF(AO159=\"\",\"\",AO159)","v":""},null,null,{"$f":"IF(AR159=\"\",\"\",AR159)","v":""},null,null,null,null,{"$f":"IF(AW159=\"\",\"\",AW159)","v":""}]
[]
[]
[]
[null,null,null,null,null,null,null,null,null,null,null,null,null,null,null,null,null,{"$f":"IF(R163=\"\",\"\",R163)","v":""},null,{"$f":"IF(T163=\"\",\"\",T163)","v":""},null,{"$f":"IF(V163=\"\",\"\",V163)","v":""},null,{"$f":"IF(X163=\"\",\"\",X163)","v":""},null,{"$f":"IF(Z163=\"\",\"\",Z163)","v":""},null,{"$f":"IF(AB163=\"\",\"\",AB163)","v":""},null,{"$f":"IF(AD163=\"\",\"\",AD163)","v":""},null,{"$f":"IF(AF163=\"\",\"\",AF163)","v":""},null,{"$f":"IF(AH163=\"\",\"\",AH163)","v":""},null,{"$f":"IF(AJ163=\"\",\"\",AJ163)","v":""},null,{"$f":"IF(AL163=\"\",\"\",AL163)","v":""},null,null,{"$f":"IF(AO163=\"\",\"\",AO163)","v":""},null,null,{"$f":"IF(AR163=\"\",\"\",AR163)","v":""},null,null,null,null,{"$f":"IF(AW163=\"\",\"\",AW163)","v":""}]
[]
[]
[]
[null,null,null,null,null,null,null,null,null,null,null,null,null,null,null,null,null,{"$f":"IF(R167=\"\",\"\",R167)","v":""},null,{"$f":"IF(T167=\"\",\"\",T167)","v":""},null,{"$f":"IF(V167=\"\",\"\",V167)","v":""},null,{"$f":"IF(X167=\"\",\"\",X167)","v":""},null,{"$f":"IF(Z167=\"\",\"\",Z167)","v":""},null,{"$f":"IF(AB167=\"\",\"\",AB167)","v":""},null,{"$f":"IF(AD167=\"\",\"\",AD167)","v":""},null,{"$f":"IF(AF167=\"\",\"\",AF167)","v":""},null,{"$f":"IF(AH167=\"\",\"\",AH167)","v":""},null,{"$f":"IF(AJ167=\"\",\"\",AJ167)","v":""},null,{"$f":"IF(AL167=\"\",\"\",AL167)","v":""},null,null,{"$f":"IF(AO167=\"\",\"\",AO167)","v":""},null,null,{"$f":"IF(AR167=\"\",\"\",AR167)","v":""},null,null,null,null,{"$f":"IF(AW167=\"\",\"\",AW167)","v":""}]
[]
[]
[]
[null,null,null,null,null,null,null,null,null,null,null,null,null,null,null,null,null,{"$f":"IF(R171=\"\",\"\",R171)","v":""},null,{"$f":"IF(T171=\"\",\"\",T171)","v":""},null,{"$f":"IF(V171=\"\",\"\",V171)","v":""},null,{"$f":"IF(X171=\"\",\"\",X171)","v":""},null,{"$f":"IF(Z171=\"\",\"\",Z171)","v":""},null,{"$f":"IF(AB171=\"\",\"\",AB171)","v":""},null,{"$f":"IF(AD171=\"\",\"\",AD171)","v":""},null,{"$f":"IF(AF171=\"\",\"\",AF171)","v":""},null,{"$f":"IF(AH171=\"\",\"\",AH171)","v":""},null,{"$f":"IF(AJ171=\"\",\"\",AJ171)","v":""},null,{"$f":"IF(AL171=\"\",\"\",AL171)","v":""},null,null,{"$f":"IF(AO171=\"\",\"\",AO171)","v":""},null,null,{"$f":"IF(AR171=\"\",\"\",AR171)","v":""},null,null,null,null,{"$f":"IF(AW171=\"\",\"\",AW171)","v":""}]
[]
[]
[]
[null,null,null,null,null,null,null,null,null,null,null,null,null,null,null,null,null,null,null,null,null,null,null,null,null,null,null,null,null,null,null,null,null,null,null,null,null,"値引き等",null,null,null,null,null,null,null,null,null,null,{"$f":"IF(AW175=\"\",\"\",AW175)","v":""}]
[]
[]
[]
[]
[null,null,null,null,null,null,null,null,null,null,null,null,null,null,null,null,null,null,null,null,null,null,null,null,null,null,null,null,null,null,null,null,null,null,null,null,null,{"$f":"\"合計(\" & IF(税処理=2,\"税込\",\"税抜\")&\")\"","v":"合計(税抜)"},null,null,null,null,null,null,null,null,null,null,{"$f":"IF(AW180=\"\",\"\",AW180)","v":""}]

{"sheet":"細2-2","index":16,"n_rows":272,"n_cols":53,"rows_kept":272,"cut":false,"hidden":false,"merged":[[266,37,269,47],[266,48,269,54],[258,48,261,54],[262,17,265,18],[262,19,265,20],[262,21,265,36],[262,37,265,39],[258,43,261,47],[271,37,274,47],[271,48,274,54],[262,40,265,42],[262,43,265,47],[262,48,265,54],[258,17,261,18],[258,19,261,20],[258,21,261,36],[258,37,261,39],[258,40,261,42],[250,48,253,54],[254,17,257,18],[254,19,257,20],[254,21,257,36],[254,37,257,39],[254,40,257,42],[254,43,257,47],[254,48,257,54],[250,17,253,18],[250,19,253,20],[250,21,253,36],[250,37,253,39],[250,40,253,42],[250,43,253,47],[242,48,245,54],[246,17,249,18],[246,19,249,20],[246,21,249,36],[246,37,249,39],[246,40,249,42],[246,43,249,47],[246,48,249,54],[242,17,245,18],[242,19,245,20],[242,21,245,36],[242,37,245,39],[242,40,245,42],[242,43,245,47],[234,48,237,54],[238,17,241,18],[238,19,241,20],[238,21,241,36],[238,37,241,39],[238,40,241,42],[238,43,241,47],[238,48,241,54],[234,17,237,18],[234,19,237,20],[234,21,237,36],[234,37,237,39],[234,40,237,42],[234,43,237,47],[222,17,225,18],[222,19,225,20],[222,21,225,36],[222,37,225,39],[222,40,225,42],[222,43,225,47],[222,48,225,54],[226,48,229,54],[230,17,233,18],[230,19,233,20],[230,21,233,36],[230,37,233,39],[230,40,233,42],[230,43,233,47],[230,48,233,54],[226,17,229,18],[226,19,229,20],[226,21,229,36],[226,37,229,39],[226,40,229,42],[226,43,229,47],[218,1,221,5],[218,6,221,15],[218,17,221,18],[218,19,221,20],[218,21,221,36],[218,37,221,39],[218,40,221,42],[218,43,221,47],[218,48,221,54],[210,40,213,42],[210,43,213,47],[210,48,213,54],[214,1,217,3],[214,4,217,5],[214,6,217,15],[214,17,217,18],[214,19,217,20],[214,21,217,36],[214,37,217,39],[210,1,213,5],[210,6,213,15],[210,17,213,18],[210,19,213,20],[210,21,213,36],[210,37,213,39],[214,40,217,42],[214,43,217,47],[214,48,217,54],[206,1,209,5],[206,6,209,15],[206,17,209,18],[206,19,209,20],[206,21,209,36],[206,37,209,39],[206,40,209,42],[206,43,209,47],[206,48,209,54],[198,43,201,47],[198,48,201,54],[202,1,205,5],[202,6,205,15],[202,17,205,18],[202,19,205,20],[202,21,205,36],[202,37,205,39],[202,40,205,42],[202,43,205,47],[198,1,201,5],[198,6,201,15],[198,17,201,20],[198,21,201,36],[198,37,201,39],[198,40,201,42],[202,48,205,54],[187,52,189,54],[192,1,195,5],[192,6,195,11],[192,12,195,15],[192,16,195,35],[192,37,195,40],[192,41,195,54],[185,19,188,32],[186,1,189,11],[186,12,189,13],[187,41,189,45],[187,46,189,48],[187,49,189,51],[174,37,177,47],[174,48,177,54],[179,37,182,47],[179,48,182,54],[170,17,173,18],[170,19,173,20],[170,21,173,36],[170,37,173,39],[170,40,173,42],[170,43,173,47],[170,48,173,54],[166,17,169,18],[166,19,169,20],[162,43,165,47],[162,48,165,54],[158,17,161,18],[158,19,161,20],[158,21,161,36],[158,37,161,39],[158,40,161,42],[162,17,165,18],[162,19,165,20],[162,21,165,36],[162,37,165,39],[162,40,165,42],[166,48,169,54],[158,43,161,47],[166,21,169,36],[166,37,169,39],[166,40,169,42],[166,43,169,47],[158,48,161,54],[154,48,157,54],[150,17,153,18],[150,19,153,20],[146,43,149,47],[146,48,149,54],[142,17,145,18],[142,19,145,20],[142,21,145,36],[142,37,145,39],[142,40,145,42],[154,17,157,18],[154,19,157,20],[154,21,157,36],[154,37,157,39],[154,40,157,42],[154,43,157,47],[146,17,149,18],[146,19,149,20],[146,21,149,36],[146,37,149,39],[146,40,149,42],[150,48,153,54],[142,43,145,47],[150,21,153,36],[150,37,153,39],[150,40,153,42],[150,43,153,47],[142,48,145,54],[130,48,133,54],[134,48,137,54],[130,17,133,18],[130,19,133,20],[130,21,133,36],[130,37,133,39],[130,40,133,42],[130,43,133,47],[138,48,141,54],[134,17,137,18],[134,19,137,20],[134,21,137,36],[134,37,137,39],[134,40,137,42],[134,43,137,47],[138,17,141,18],[138,19,141,20],[138,21,141,36],[138,37,141,39],[138,40,141,42],[138,43,141,47],[126,1,129,5],[126,6,129,15],[126,17,129,18],[126,19,129,20],[126,21,129,36],[126,37,129,39],[126,40,129,42],[126,43,129,47],[126,48,129,54],[118,40,121,42],[118,43,121,47],[118,48,121,54],[122,1,125,3],[122,4,125,5],[122,6,125,15],[122,17,125,18],[122,19,125,20],[122,21,125,36],[122,37,125,39],[118,1,121,5],[118,6,121,15],[118,17,121,18],[118,19,121,20],[118,21,121,36],[118,37,121,39],[122,40,125,42],[122,43,125,47],[122,48,125,54],[114,1,117,5],[114,6,117,15],[114,17,117,18],[114,19,117,20],[114,21,117,36],[114,37,117,39],[114,40,117,42],[114,43,117,47],[114,48,117,54],[106,43,109,47],[106,48,109,54],[110,1,113,5],[110,6,113,15],[110,17,113,18],[110,19,113,20],[110,21,113,36],[110,37,113,39],[110,40,113,42],[110,43,113,47],[106,1,109,5],[106,6,109,15],[106,17,109,20],[106,21,109,36],[106,37,109,39],[106,40,109,42],[110,48,113,54],[95,49,97,51],[95,52,97,54],[100,1,103,5],[100,6,103,11],[100,12,103,15],[100,16,103,35],[100,37,103,40],[100,41,103,54],[93,19,96,32],[94,1,97,11],[94,12,97,13],[95,41,97,45],[83,1,84,4],[83,5,84,10],[87,37,90,47],[83,11,84,16],[83,17,84,25],[95,46,97,48],[85,1,90,4],[85,5,90,10],[85,11,90,16],[85,17,90,25],[78,43,81,47],[83,26,84,30],[83,31,84,35],[78,17,81,18],[78,19,81,20],[78,21,81,36],[85,26,90,30],[85,31,90,35],[74,48,77,54],[87,48,90,54],[78,48,81,54],[82,37,85,47],[82,48,85,54],[78,37,81,39],[78,40,81,42],[74,17,77,18],[74,19,77,20],[74,21,77,36],[74,37,77,39],[74,40,77,42],[74,43,77,47],[66,48,69,54],[70,17,73,18],[70,19,73,20],[70,21,73,36],[70,37,73,39],[70,40,73,42],[70,43,73,47],[70,48,73,54],[66,17,69,18],[66,19,69,20],[66,21,69,36],[66,37,69,39],[66,40,69,42],[66,43,69,47],[58,48,61,54],[62,17,65,18],[62,19,65,20],[62,21,65,36],[62,37,65,39],[62,40,65,42],[62,43,65,47],[62,48,65,54],[58,17,61,18],[58,19,61,20],[58,21,61,36],[58,37,61,39],[58,40,61,42],[58,43,61,47],[50,48,53,54],[54,17,57,18],[54,19,57,20],[54,21,57,36],[54,37,57,39],[54,40,57,42],[54,43,57,47],[54,48,57,54],[50,17,53,18],[50,19,53,20],[50,21,53,36],[50,37,53,39],[50,40,53,42],[50,43,53,47],[38,17,41,18],[38,19,41,20],[38,21,41,36],[38,37,41,39],[38,40,41,42],[38,43,41,47],[38,48,41,54],[42,48,45,54],[46,17,49,18],[46,19,49,20],[46,21,49,36],[46,37,49,39],[46,40,49,42],[46,43,49,47],[46,48,49,54],[42,17,45,18],[42,19,45,20],[42,21,45,36],[42,37,45,39],[42,40,45,42],[42,43,45,47],[34,1,37,5],[34,6,37,15],[34,17,37,18],[34,19,37,20],[34,21,37,36],[34,37,37,39],[34,40,37,42],[34,43,37,47],[34,48,37,54],[26,40,29,42],[26,43,29,47],[26,48,29,54],[30,1,33,3],[30,4,33,5],[30,6,33,15],[30,17,33,18],[30,19,33,20],[30,21,33,36],[30,37,33,39],[26,1,29,5],[26,6,29,15],[26,17,29,18],[26,19,29,20],[26,21,29,36],[26,37,29,39],[30,40,33,42],[30,43,33,47],[30,48,33,54],[22,1,25,5],[22,6,25,15],[22,17,25,18],[22,19,25,20],[22,21,25,36],[22,37,25,39],[22,40,25,42],[22,43,25,47],[22,48,25,54],[14,43,17,47],[14,48,17,54],[18,1,21,5],[18,6,21,15],[18,17,21,18],[18,19,21,20],[18,21,21,36],[18,37,21,39],[18,40,21,42],[18,43,21,47],[14,1,17,5],[14,6,17,15],[14,17,17,20],[14,21,17,36],[14,37,17,39],[14,40,17,42],[18,48,21,54],[3,52,5,54],[8,37,11,40],[8,41,11,54],[3,41,5,45],[1,19,4,32],[2,1,5,11],[2,12,5,13],[8,1,11,5],[8,6,11,11],[8,12,11,15],[8,16,11,35],[3,46,5,48],[3,49,5,51]]}
[]
[null,null,null,null,null,null,null,null,null,null,null,null,null,null,null,null,null,null,null,"請求書明細書 (正)"]
[null,"株 式 会 社 種 村 建 設",null,null,null,null,null,null,null,null,null,null,"御中"]
[null,null,null,null,null,null,null,null,null,null,null,null,null,null,null,null,null,null,null,null,null,null,null,null,null,null,null,null,null,null,null,null,null,null,null,null,null,null,null,null,null,"請求年月日",null,null,null,null,{"$f":"年","v":23},null,null,{"$f":"月","v":5},null,null,{"$f":"日","v":31}]
[]
[]
[]
[]
[null,"工事番号",null,null,null,null,null,null,null,null,null,null,"工事名",null,null,null,null,null,null,null,null,null,null,null,null,null,null,null,null,null,null,null,null,null,null,null,null,"業者名",null,null,null,{"$f":"社名","v":"例：㈱種村建設"}]
[]
[]
[]
[]
[]
[null,"注文番号",null,null,null,null,null,null,null,null,null,null,null,null,null,null,null,"月　日",null,null,null,"摘要･品名",null,null,null,null,null,null,null,null,null,null,null,null,null,null,null,"数 量",null,null,"単位",null,null,"単価",null,null,null,null,{"$f":"\"金額(\" & IF(税処理=2,\"税込\",\"税抜\")&\")\"","v":"金額(税抜)"}]
[]
[]
[]
[null,"契約金額",null,null,null,null,null,null,null,null,null,null,null,null,null,null,null,null,null,null,null,null,null,null,null,null,null,null,null,null,null,null,null,null,null,null,null,null,null,null,null,null,null,null,null,null,null,null,{"$f":"IF(V19=\"\",\"\",AL19*AR19)","v":""}]
[]
[]
[]
[null,"増減額",null,null,null,null,null,null,null,null,null,null,null,null,null,null,null,null,null,null,null,null,null,null,null,null,null,null,null,null,null,null,null,null,null,null,null,null,null,null,null,null,null,null,null,null,null,null,{"$f":"IF(V23=\"\",\"\",AL23*AR23)","v":""}]
[]
[]
[]
[null,"前回までの\n請求額",null,null,null,null,null,null,null,null,null,null,null,null,null,null,null,null,null,null,null,null,null,null,null,null,null,null,null,null,null,null,null,null,null,null,null,null,null,null,null,null,null,null,null,null,null,null,{"$f":"IF(V27=\"\",\"\",AL27*AR27)","v":""}]
[]
[]
[]
[null,"今回\n請求額",null,null,null,null,null,null,null,null,null,null,null,null,null,null,null,null,null,null,null,null,null,null,null,null,null,null,null,null,null,null,null,null,null,null,null,null,null,null,null,null,null,null,null,null,null,null,{"$f":"IF(V31=\"\",\"\",AL31*AR31)","v":""}]
[]
[]
[]
[null,"差引残高",null,null,null,null,{"$f":"IF(G19=\"\",\"\",G19+G23-G27-G31)","v":""},null,null,null,null,null,null,null,null,null,null,null,null,null,null,null,null,null,null,null,null,null,null,null,null,null,null,null,null,null,null,null,null,null,null,null,null,null,null,null,null,null,{"$f":"IF(V35=\"\",\"\",AL35*AR35)","v":""}]
[]
[]
[]
[null,null,null,null,null,null,null,null,null,null,null,null,null,null,null,null,null,null,null,null,null,null,null,null,null,null,null,null,null,null,null,null,null,null,null,null,null,null,null,null,null,null,null,null,null,null,null,null,{"$f":"IF(V39=\"\",\"\",AL39*AR39)","v":""}]
[]
[]
[]
[null,null,null,null,null,null,null,null,null,null,null,null,null,null,null,null,null,null,null,null,null,null,null,null,null,null,null,null,null,null,null,null,null,null,null,null,null,null,null,null,null,null,null,null,null,null,null,null,{"$f":"IF(V43=\"\",\"\",AL43*AR43)","v":""}]
[]
[]
[]
[null,null,null,null,null,null,null,null,null,null,null,null,null,null,null,null,null,null,null,null,null,null,null,null,null,null,null,null,null,null,null,null,null,null,null,null,null,null,null,null,null,null,null,null,null,null,null,null,{"$f":"IF(V47=\"\",\"\",AL47*AR47)","v":""}]
[]
[]
[]
[null,null,null,null,null,null,null,null,null,null,null,null,null,null,null,null,null,null,null,null,null,null,null,null,null,null,null,null,null,null,null,null,null,null,null,null,null,null,null,null,null,null,null,null,null,null,null,null,{"$f":"IF(V51=\"\",\"\",AL51*AR51)","v":""}]
[]
[]
[]
[null,null,null,null,null,null,null,null,null,null,null,null,null,null,null,null,null,null,null,null,null,null,null,null,null,null,null,null,null,null,null,null,null,null,null,null,null,null,null,null,null,null,null,null,null,null,null,null,{"$f":"IF(V55=\"\",\"\",AL55*AR55)","v":""}]
[]
[]
[]
[null,null,null,null,null,null,null,null,null,null,null,null,null,null,null,null,null,null,null,null,null,null,null,null,null,null,null,null,null,null,null,null,null,null,null,null,null,null,null,null,null,null,null,null,null,null,null,null,{"$f":"IF(V59=\"\",\"\",AL59*AR59)","v":""}]
[]
[]
[]
[null,null,null,null,null,null,null,null,null,null,null,null,null,null,null,null,null,null,null,null,null,null,null,null,null,null,null,null,null,null,null,null,null,null,null,null,null,null,null,null,null,null,null,null,null,null,null,null,{"$f":"IF(V63=\"\",\"\",AL63*AR63)","v":""}]
[]
[]
[]
[null,null,null,null,null,null,null,null,null,null,null,null,null,null,null,null,null,null,null,null,null,null,null,null,null,null,null,null,null,null,null,null,null,null,null,null,null,null,null,null,null,null,null,null,null,null,null,null,{"$f":"IF(V67=\"\",\"\",AL67*AR67)","v":""}]
[]
[]
[]
[null,null,null,null,null,null,null,null,null,null,null,null,null,null,null,null,null,null,null,null,null,null,null,null,null,null,null,null,null,null,null,null,null,null,null,null,null,null,null,null,null,null,null,null,null,null,null,null,{"$f":"IF(V71=\"\",\"\",AL71*AR71)","v":""}]
[]
[]
[]
[null,null,null,null,null,null,null,null,null,null,null,null,null,null,null,null,null,null,null,null,null,null,null,null,null,null,null,null,null,null,null,null,null,null,null,null,null,null,null,null,null,null,null,null,null,null,null,null,{"$f":"IF(V75=\"\",\"\",AL75*AR75)","v":""}]
[]
[]
[]
[null,null,null,null,null,null,null,null,null,null,null,null,null,null,null,null,null,null,null,null,null,null,null,null,null,null,null,null,null,null,null,null,null,null,null,null,null,null,null,null,null,null,null,null,null,null,null,null,{"$f":"IF(V79=\"\",\"\",AL79*AR79)","v":""}]
[]
[]
[]
[null,null,null,null,null,null,null,null,null,null,null,null,null,null,null,null,null,null,null,null,null,null,null,null,null,null,null,null,null,null,null,null,null,null,null,null,null,"値引き等"]
[null,"社長",null,null,null,"専務",null,null,null,null,null,"常務",null,null,null,null,null,"部長･工場長",null,null,null,null,null,null,null,null,"担当者",null,null,null,null,"受付"]
[]
[]
[]
[null,null,null,null,null,null,null,null,null,null,null,null,null,null,null,null,null,null,null,null,null,null,null,null,null,null,null,null,null,null,null,null,null,null,null,null,null,{"$f":"\"合計(\" & IF(税処理=2,\"税込\",\"税抜\")&\")\"","v":"合計(税抜)"},null,null,null,null,null,null,null,null,null,null,{"$f":"IF(AW19=\"\",\"\",SUM(AW19:AW79)+AW83)","v":""}]
[]
[]
[]
[]
[]
[null,null,null,null,null,null,null,null,null,null,null,null,null,null,null,null,null,null,null,"請求明細書 (現場控)"]
[null,"株 式 会 社 種 村 建 設",null,null,null,null,null,null,null,null,null,null,"御中"]
[null,null,null,null,null,null,null,null,null,null,null,null,null,null,null,null,null,null,null,null,null,null,null,null,null,null,null,null,null,null,null,null,null,null,null,null,null,null,null,null,null,"請求年月日",null,null,null,null,{"$f":"IF(AU4=\"\",\"\",AU4)","v":23},null,null,{"$f":"IF(AX4=\"\",\"\",AX4)","v":5},null,null,{"$f":"IF(BA4=\"\",\"\",BA4)","v":31}]
[]
[]
[]
[]
[null,"工事番号",null,null,null,null,{"$f":"IF(G9=\"\",\"\",G9)","v":""},null,null,null,null,null,"工事名",null,null,null,{"$f":"IF(Q9=\"\",\"\",Q9)","v":""},null,null,null,null,null,null,null,null,null,null,null,null,null,null,null,null,null,null,null,null,"業者名",null,null,null,{"$f":"IF(AP9=\"\",\"\",AP9)","v":"例：㈱種村建設"}]
[]
[]
[]
[]
[]
[null,"注文番号",null,null,null,null,{"$f":"IF(G15=\"\",\"\",G15)","v":""},null,null,null,null,null,null,null,null,null,null,"月　日",null,null,null,"摘要･品名",null,null,null,null,null,null,null,null,null,null,null,null,null,null,null,"数 量",null,null,"単位",null,null,"単価",null,null,null,null,{"$f":"\"金額(\" & IF(税処理=2,\"税込\",\"税抜\")&\")\"","v":"金額(税抜)"}]
[]
[]
[]
[null,"契約金額",null,null,null,null,{"$f":"IF(G19=\"\",\"\",G19)","v":""},null,null,null,null,null,null,null,null,null,null,{"$f":"IF(R19=\"\",\"\",R19)","v":""},null,{"$f":"IF(T19=\"\",\"\",T19)","v":""},null,{"$f":"IF(V19=\"\",\"\",V19)","v":""},null,{"$f":"IF(X19=\"\",\"\",X19)","v":""},null,{"$f":"IF(Z19=\"\",\"\",Z19)","v":""},null,{"$f":"IF(AB19=\"\",\"\",AB19)","v":""},null,{"$f":"IF(AD19=\"\",\"\",AD19)","v":""},null,{"$f":"IF(AF19=\"\",\"\",AF19)","v":""},null,{"$f":"IF(AH19=\"\",\"\",AH19)","v":""},null,{"$f":"IF(AJ19=\"\",\"\",AJ19)","v":""},null,{"$f":"IF(AL19=\"\",\"\",AL19)","v":""},null,null,{"$f":"IF(AO19=\"\",\"\",AO19)","v":""},null,null,{"$f":"IF(AR19=\"\",\"\",AR19)","v":""},null,null,null,null,{"$f":"IF(AW19=\"\",\"\",AW19)","v":""}]
[]
[]
[]
[null,"増減額",null,null,null,null,{"$f":"IF(G23=\"\",\"\",G23)","v":""},null,null,null,null,null,null,null,null,null,null,{"$f":"IF(R23=\"\",\"\",R23)","v":""},null,{"$f":"IF(T23=\"\",\"\",T23)","v":""},null,{"$f":"IF(V23=\"\",\"\",V23)","v":""},null,{"$f":"IF(X23=\"\",\"\",X23)","v":""},null,{"$f":"IF(Z23=\"\",\"\",Z23)","v":""},null,{"$f":"IF(AB23=\"\",\"\",AB23)","v":""},null,{"$f":"IF(AD23=\"\",\"\",AD23)","v":""},null,{"$f":"IF(AF23=\"\",\"\",AF23)","v":""},null,{"$f":"IF(AH23=\"\",\"\",AH23)","v":""},null,{"$f":"IF(AJ23=\"\",\"\",AJ23)","v":""},null,{"$f":"IF(AL23=\"\",\"\",AL23)","v":""},null,null,{"$f":"IF(AO23=\"\",\"\",AO23)","v":""},null,null,{"$f":"IF(AR23=\"\",\"\",AR23)","v":""},null,null,null,null,{"$f":"IF(AW23=\"\",\"\",AW23)","v":""}]
[]
[]
[]
[null,"前回までの\n請求額",null,null,null,null,{"$f":"IF(G27=\"\",\"\",G27)","v":""},null,null,null,null,null,null,null,null,null,null,{"$f":"IF(R27=\"\",\"\",R27)","v":""},null,{"$f":"IF(T27=\"\",\"\",T27)","v":""},null,{"$f":"IF(V27=\"\",\"\",V27)","v":""},null,{"$f":"IF(X27=\"\",\"\",X27)","v":""},null,{"$f":"IF(Z27=\"\",\"\",Z27)","v":""},null,{"$f":"IF(AB27=\"\",\"\",AB27)","v":""},null,{"$f":"IF(AD27=\"\",\"\",AD27)","v":""},null,{"$f":"IF(AF27=\"\",\"\",AF27)","v":""},null,{"$f":"IF(AH27=\"\",\"\",AH27)","v":""},null,{"$f":"IF(AJ27=\"\",\"\",AJ27)","v":""},null,{"$f":"IF(AL27=\"\",\"\",AL27)","v":""},null,null,{"$f":"IF(AO27=\"\",\"\",AO27)","v":""},null,null,{"$f":"IF(AR27=\"\",\"\",AR27)","v":""},null,null,null,null,{"$f":"IF(AW27=\"\",\"\",AW27)","v":""}]
[]
[]
[]
[null,"今回\n請求額",null,null,{"$f":"IF(E31=\"\",\"\",E31)","v":""},null,{"$f":"IF(G31=\"\",\"\",G31)","v":""},null,null,null,null,null,null,null,null,null,null,{"$f":"IF(R31=\"\",\"\",R31)","v":""},null,{"$f":"IF(T31=\"\",\"\",T31)","v":""},null,{"$f":"IF(V31=\"\",\"\",V31)","v":""},null,{"$f":"IF(X31=\"\",\"\",X31)","v":""},null,{"$f":"IF(Z31=\"\",\"\",Z31)","v":""},null,{"$f":"IF(AB31=\"\",\"\",AB31)","v":""},null,{"$f":"IF(AD31=\"\",\"\",AD31)","v":""},null,{"$f":"IF(AF31=\"\",\"\",AF31)","v":""},null,{"$f":"IF(AH31=\"\",\"\",AH31)","v":""},null,{"$f":"IF(AJ31=\"\",\"\",AJ31)","v":""},null,{"$f":"IF(AL31=\"\",\"\",AL31)","v":""},null,null,{"$f":"IF(AO31=\"\",\"\",AO31)","v":""},null,null,{"$f":"IF(AR31=\"\",\"\",AR31)","v":""},null,null,null,null,{"$f":"IF(AW31=\"\",\"\",AW31)","v":""}]
[]
[]
[]
[null,"差引残高",null,null,null,null,{"$f":"IF(G111=\"\",\"\",G111+G115-G119-G123)","v":""},null,null,null,null,null,null,null,null,null,null,{"$f":"IF(R35=\"\",\"\",R35)","v":""},null,{"$f":"IF(T35=\"\",\"\",T35)","v":""},null,{"$f":"IF(V35=\"\",\"\",V35)","v":""},null,{"$f":"IF(X35=\"\",\"\",X35)","v":""},null,{"$f":"IF(Z35=\"\",\"\",Z35)","v":""},null,{"$f":"IF(AB35=\"\",\"\",AB35)","v":""},null,{"$f":"IF(AD35=\"\",\"\",AD35)","v":""},null,{"$f":"IF(AF35=\"\",\"\",AF35)","v":""},null,{"$f":"IF(AH35=\"\",\"\",AH35)","v":""},null,{"$f":"IF(AJ35=\"\",\"\",AJ35)","v":""},null,{"$f":"IF(AL35=\"\",\"\",AL35)","v":""},null,null,{"$f":"IF(AO35=\"\",\"\",AO35)","v":""},null,null,{"$f":"IF(AR35=\"\",\"\",AR35)","v":""},null,null,null,null,{"$f":"IF(AW35=\"\",\"\",AW35)","v":""}]
[]
[]
[]
[null,null,null,null,null,null,null,null,null,null,null,null,null,null,null,null,null,{"$f":"IF(R39=\"\",\"\",R39)","v":""},null,{"$f":"IF(T39=\"\",\"\",T39)","v":""},null,{"$f":"IF(V39=\"\",\"\",V39)","v":""},null,{"$f":"IF(X39=\"\",\"\",X39)","v":""},null,{"$f":"IF(Z39=\"\",\"\",Z39)","v":""},null,{"$f":"IF(AB39=\"\",\"\",AB39)","v":""},null,{"$f":"IF(AD39=\"\",\"\",AD39)","v":""},null,{"$f":"IF(AF39=\"\",\"\",AF39)","v":""},null,{"$f":"IF(AH39=\"\",\"\",AH39)","v":""},null,{"$f":"IF(AJ39=\"\",\"\",AJ39)","v":""},null,{"$f":"IF(AL39=\"\",\"\",AL39)","v":""},null,null,{"$f":"IF(AO39=\"\",\"\",AO39)","v":""},null,null,{"$f":"IF(AR39=\"\",\"\",AR39)","v":""},null,null,null,null,{"$f":"IF(AW39=\"\",\"\",AW39)","v":""}]
[]
[]
[]
[null,null,null,null,null,null,null,null,null,null,null,null,null,null,null,null,null,{"$f":"IF(R43=\"\",\"\",R43)","v":""},null,{"$f":"IF(T43=\"\",\"\",T43)","v":""},null,{"$f":"IF(V43=\"\",\"\",V43)","v":""},null,{"$f":"IF(X43=\"\",\"\",X43)","v":""},null,{"$f":"IF(Z43=\"\",\"\",Z43)","v":""},null,{"$f":"IF(AB43=\"\",\"\",AB43)","v":""},null,{"$f":"IF(AD43=\"\",\"\",AD43)","v":""},null,{"$f":"IF(AF43=\"\",\"\",AF43)","v":""},null,{"$f":"IF(AH43=\"\",\"\",AH43)","v":""},null,{"$f":"IF(AJ43=\"\",\"\",AJ43)","v":""},null,{"$f":"IF(AL43=\"\",\"\",AL43)","v":""},null,null,{"$f":"IF(AO43=\"\",\"\",AO43)","v":""},null,null,{"$f":"IF(AR43=\"\",\"\",AR43)","v":""},null,null,null,null,{"$f":"IF(AW43=\"\",\"\",AW43)","v":""}]
[]
[]
[]
[null,null,null,null,null,null,null,null,null,null,null,null,null,null,null,null,null,{"$f":"IF(R47=\"\",\"\",R47)","v":""},null,{"$f":"IF(T47=\"\",\"\",T47)","v":""},null,{"$f":"IF(V47=\"\",\"\",V47)","v":""},null,{"$f":"IF(X47=\"\",\"\",X47)","v":""},null,{"$f":"IF(Z47=\"\",\"\",Z47)","v":""},null,{"$f":"IF(AB47=\"\",\"\",AB47)","v":""},null,{"$f":"IF(AD47=\"\",\"\",AD47)","v":""},null,{"$f":"IF(AF47=\"\",\"\",AF47)","v":""},null,{"$f":"IF(AH47=\"\",\"\",AH47)","v":""},null,{"$f":"IF(AJ47=\"\",\"\",AJ47)","v":""},null,{"$f":"IF(AL47=\"\",\"\",AL47)","v":""},null,null,{"$f":"IF(AO47=\"\",\"\",AO47)","v":""},null,null,{"$f":"IF(AR47=\"\",\"\",AR47)","v":""},null,null,null,null,{"$f":"IF(AW47=\"\",\"\",AW47)","v":""}]
[]
[]
[]
[null,null,null,null,null,null,null,null,null,null,null,null,null,null,null,null,null,{"$f":"IF(R51=\"\",\"\",R51)","v":""},null,{"$f":"IF(T51=\"\",\"\",T51)","v":""},null,{"$f":"IF(V51=\"\",\"\",V51)","v":""},null,{"$f":"IF(X51=\"\",\"\",X51)","v":""},null,{"$f":"IF(Z51=\"\",\"\",Z51)","v":""},null,{"$f":"IF(AB51=\"\",\"\",AB51)","v":""},null,{"$f":"IF(AD51=\"\",\"\",AD51)","v":""},null,{"$f":"IF(AF51=\"\",\"\",AF51)","v":""},null,{"$f":"IF(AH51=\"\",\"\",AH51)","v":""},null,{"$f":"IF(AJ51=\"\",\"\",AJ51)","v":""},null,{"$f":"IF(AL51=\"\",\"\",AL51)","v":""},null,null,{"$f":"IF(AO51=\"\",\"\",AO51)","v":""},null,null,{"$f":"IF(AR51=\"\",\"\",AR51)","v":""},null,null,null,null,{"$f":"IF(AW51=\"\",\"\",AW51)","v":""}]
[]
[]
[]
[null,null,null,null,null,null,null,null,null,null,null,null,null,null,null,null,null,{"$f":"IF(R55=\"\",\"\",R55)","v":""},null,{"$f":"IF(T55=\"\",\"\",T55)","v":""},null,{"$f":"IF(V55=\"\",\"\",V55)","v":""},null,{"$f":"IF(X55=\"\",\"\",X55)","v":""},null,{"$f":"IF(Z55=\"\",\"\",Z55)","v":""},null,{"$f":"IF(AB55=\"\",\"\",AB55)","v":""},null,{"$f":"IF(AD55=\"\",\"\",AD55)","v":""},null,{"$f":"IF(AF55=\"\",\"\",AF55)","v":""},null,{"$f":"IF(AH55=\"\",\"\",AH55)","v":""},null,{"$f":"IF(AJ55=\"\",\"\",AJ55)","v":""},null,{"$f":"IF(AL55=\"\",\"\",AL55)","v":""},null,null,{"$f":"IF(AO55=\"\",\"\",AO55)","v":""},null,null,{"$f":"IF(AR55=\"\",\"\",AR55)","v":""},null,null,null,null,{"$f":"IF(AW55=\"\",\"\",AW55)","v":""}]
[]
[]
[]
[null,null,null,null,null,null,null,null,null,null,null,null,null,null,null,null,null,{"$f":"IF(R59=\"\",\"\",R59)","v":""},null,{"$f":"IF(T59=\"\",\"\",T59)","v":""},null,{"$f":"IF(V59=\"\",\"\",V59)","v":""},null,{"$f":"IF(X59=\"\",\"\",X59)","v":""},null,{"$f":"IF(Z59=\"\",\"\",Z59)","v":""},null,{"$f":"IF(AB59=\"\",\"\",AB59)","v":""},null,{"$f":"IF(AD59=\"\",\"\",AD59)","v":""},null,{"$f":"IF(AF59=\"\",\"\",AF59)","v":""},null,{"$f":"IF(AH59=\"\",\"\",AH59)","v":""},null,{"$f":"IF(AJ59=\"\",\"\",AJ59)","v":""},null,{"$f":"IF(AL59=\"\",\"\",AL59)","v":""},null,null,{"$f":"IF(AO59=\"\",\"\",AO59)","v":""},null,null,{"$f":"IF(AR59=\"\",\"\",AR59)","v":""},null,null,null,null,{"$f":"IF(AW59=\"\",\"\",AW59)","v":""}]
[]
[]
[]
[null,null,null,null,null,null,null,null,null,null,null,null,null,null,null,null,null,{"$f":"IF(R63=\"\",\"\",R63)","v":""},null,{"$f":"IF(T63=\"\",\"\",T63)","v":""},null,{"$f":"IF(V63=\"\",\"\",V63)","v":""},null,{"$f":"IF(X63=\"\",\"\",X63)","v":""},null,{"$f":"IF(Z63=\"\",\"\",Z63)","v":""},null,{"$f":"IF(AB63=\"\",\"\",AB63)","v":""},null,{"$f":"IF(AD63=\"\",\"\",AD63)","v":""},null,{"$f":"IF(AF63=\"\",\"\",AF63)","v":""},null,{"$f":"IF(AH63=\"\",\"\",AH63)","v":""},null,{"$f":"IF(AJ63=\"\",\"\",AJ63)","v":""},null,{"$f":"IF(AL63=\"\",\"\",AL63)","v":""},null,null,{"$f":"IF(AO63=\"\",\"\",AO63)","v":""},null,null,{"$f":"IF(AR63=\"\",\"\",AR63)","v":""},null,null,null,null,{"$f":"IF(AW63=\"\",\"\",AW63)","v":""}]
[]
[]
[]
[null,null,null,null,null,null,null,null,null,null,null,null,null,null,null,null,null,{"$f":"IF(R67=\"\",\"\",R67)","v":""},null,{"$f":"IF(T67=\"\",\"\",T67)","v":""},null,{"$f":"IF(V67=\"\",\"\",V67)","v":""},null,{"$f":"IF(X67=\"\",\"\",X67)","v":""},null,{"$f":"IF(Z67=\"\",\"\",Z67)","v":""},null,{"$f":"IF(AB67=\"\",\"\",AB67)","v":""},null,{"$f":"IF(AD67=\"\",\"\",AD67)","v":""},null,{"$f":"IF(AF67=\"\",\"\",AF67)","v":""},null,{"$f":"IF(AH67=\"\",\"\",AH67)","v":""},null,{"$f":"IF(AJ67=\"\",\"\",AJ67)","v":""},null,{"$f":"IF(AL67=\"\",\"\",AL67)","v":""},null,null,{"$f":"IF(AO67=\"\",\"\",AO67)","v":""},null,null,{"$f":"IF(AR67=\"\",\"\",AR67)","v":""},null,null,null,null,{"$f":"IF(AW67=\"\",\"\",AW67)","v":""}]
[]
[]
[]
[null,null,null,null,null,null,null,null,null,null,null,null,null,null,null,null,null,{"$f":"IF(R71=\"\",\"\",R71)","v":""},null,{"$f":"IF(T71=\"\",\"\",T71)","v":""},null,{"$f":"IF(V71=\"\",\"\",V71)","v":""},null,{"$f":"IF(X71=\"\",\"\",X71)","v":""},null,{"$f":"IF(Z71=\"\",\"\",Z71)","v":""},null,{"$f":"IF(AB71=\"\",\"\",AB71)","v":""},null,{"$f":"IF(AD71=\"\",\"\",AD71)","v":""},null,{"$f":"IF(AF71=\"\",\"\",AF71)","v":""},null,{"$f":"IF(AH71=\"\",\"\",AH71)","v":""},null,{"$f":"IF(AJ71=\"\",\"\",AJ71)","v":""},null,{"$f":"IF(AL71=\"\",\"\",AL71)","v":""},null,null,{"$f":"IF(AO71=\"\",\"\",AO71)","v":""},null,null,{"$f":"IF(AR71=\"\",\"\",AR71)","v":""},null,null,null,null,{"$f":"IF(AW71=\"\",\"\",AW71)","v":""}]
[]
[]
[]
[null,null,null,null,null,null,null,null,null,null,null,null,null,null,null,null,null,{"$f":"IF(R75=\"\",\"\",R75)","v":""},null,{"$f":"IF(T75=\"\",\"\",T75)","v":""},null,{"$f":"IF(V75=\"\",\"\",V75)","v":""},null,{"$f":"IF(X75=\"\",\"\",X75)","v":""},null,{"$f":"IF(Z75=\"\",\"\",Z75)","v":""},null,{"$f":"IF(AB75=\"\",\"\",AB75)","v":""},null,{"$f":"IF(AD75=\"\",\"\",AD75)","v":""},null,{"$f":"IF(AF75=\"\",\"\",AF75)","v":""},null,{"$f":"IF(AH75=\"\",\"\",AH75)","v":""},null,{"$f":"IF(AJ75=\"\",\"\",AJ75)","v":""},null,{"$f":"IF(AL75=\"\",\"\",AL75)","v":""},null,null,{"$f":"IF(AO75=\"\",\"\",AO75)","v":""},null,null,{"$f":"IF(AR75=\"\",\"\",AR75)","v":""},null,null,null,null,{"$f":"IF(AW75=\"\",\"\",AW75)","v":""}]
[]
[]
[]
[null,null,null,null,null,null,null,null,null,null,null,null,null,null,null,null,null,{"$f":"IF(R79=\"\",\"\",R79)","v":""},null,{"$f":"IF(T79=\"\",\"\",T79)","v":""},null,{"$f":"IF(V79=\"\",\"\",V79)","v":""},null,{"$f":"IF(X79=\"\",\"\",X79)","v":""},null,{"$f":"IF(Z79=\"\",\"\",Z79)","v":""},null,{"$f":"IF(AB79=\"\",\"\",AB79)","v":""},null,{"$f":"IF(AD79=\"\",\"\",AD79)","v":""},null,{"$f":"IF(AF79=\"\",\"\",AF79)","v":""},null,{"$f":"IF(AH79=\"\",\"\",AH79)","v":""},null,{"$f":"IF(AJ79=\"\",\"\",AJ79)","v":""},null,{"$f":"IF(AL79=\"\",\"\",AL79)","v":""},null,null,{"$f":"IF(AO79=\"\",\"\",AO79)","v":""},null,null,{"$f":"IF(AR79=\"\",\"\",AR79)","v":""},null,null,null,null,{"$f":"IF(AW79=\"\",\"\",AW79)","v":""}]
[]
[]
[]
[null,null,null,null,null,null,null,null,null,null,null,null,null,null,null,null,null,null,null,null,null,null,null,null,null,null,null,null,null,null,null,null,null,null,null,null,null,"値引き等",null,null,null,null,null,null,null,null,null,null,{"$f":"IF(AW83=\"\",\"\",AW83)","v":""}]
[]
[]
[]
[]
[null,null,null,null,null,null,null,null,null,null,null,null,null,null,null,null,null,null,null,null,null,null,null,null,null,null,null,null,null,null,null,null,null,null,null,null,null,{"$f":"\"合計(\" & IF(税処理=2,\"税込\",\"税抜\")&\")\"","v":"合計(税抜)"},null,null,null,null,null,null,null,null,null,null,{"$f":"IF(AW88=\"\",\"\",AW88)","v":""}]
[]
[]
[]
[]
[]
[null,null,null,null,null,null,null,null,null,null,null,null,null,null,null,null,null,null,null,"請求明細書 (貴社控)"]
[null,"株 式 会 社 種 村 建 設",null,null,null,null,null,null,null,null,null,null,"御中"]
[null,null,null,null,null,null,null,null,null,null,null,null,null,null,null,null,null,null,null,null,null,null,null,null,null,null,null,null,null,null,null,null,null,null,null,null,null,null,null,null,null,"請求年月日",null,null,null,null,{"$f":"IF(AU96=\"\",\"\",AU96)","v":23},null,null,{"$f":"IF(AX96=\"\",\"\",AX96)","v":5},null,null,{"$f":"IF(BA96=\"\",\"\",BA96)","v":31}]
[]
[]
[]
[]
[null,"工事番号",null,null,null,null,{"$f":"IF(G101=\"\",\"\",G101)","v":""},null,null,null,null,null,"工事名",null,null,null,{"$f":"IF(Q101=\"\",\"\",Q101)","v":""},null,null,null,null,null,null,null,null,null,null,null,null,null,null,null,null,null,null,null,null,"業者名",null,null,null,{"$f":"IF(AP101=\"\",\"\",AP101)","v":"例：㈱種村建設"}]
[]
[]
[]
[]
[]
[null,"注文番号",null,null,null,null,{"$f":"IF(G107=\"\",\"\",G107)","v":""},null,null,null,null,null,null,null,null,null,null,"月　日",null,null,null,"摘要･品名",null,null,null,null,null,null,null,null,null,null,null,null,null,null,null,"数 量",null,null,"単位",null,null,"単価",null,null,null,null,{"$f":"\"金額(\" & IF(税処理=2,\"税込\",\"税抜\")&\")\"","v":"金額(税抜)"}]
[]
[]
[]
[null,"契約金額",null,null,null,null,{"$f":"IF(G111=\"\",\"\",G111)","v":""},null,null,null,null,null,null,null,null,null,null,{"$f":"IF(R111=\"\",\"\",R111)","v":""},null,{"$f":"IF(T111=\"\",\"\",T111)","v":""},null,{"$f":"IF(V111=\"\",\"\",V111)","v":""},null,{"$f":"IF(X111=\"\",\"\",X111)","v":""},null,{"$f":"IF(Z111=\"\",\"\",Z111)","v":""},null,{"$f":"IF(AB111=\"\",\"\",AB111)","v":""},null,{"$f":"IF(AD111=\"\",\"\",AD111)","v":""},null,{"$f":"IF(AF111=\"\",\"\",AF111)","v":""},null,{"$f":"IF(AH111=\"\",\"\",AH111)","v":""},null,{"$f":"IF(AJ111=\"\",\"\",AJ111)","v":""},null,{"$f":"IF(AL111=\"\",\"\",AL111)","v":""},null,null,{"$f":"IF(AO111=\"\",\"\",AO111)","v":""},null,null,{"$f":"IF(AR111=\"\",\"\",AR111)","v":""},null,null,null,null,{"$f":"IF(AW111=\"\",\"\",AW111)","v":""}]
[]
[]
[]
[null,"増減額",null,null,null,null,{"$f":"IF(G115=\"\",\"\",G115)","v":""},null,null,null,null,null,null,null,null,null,null,{"$f":"IF(R115=\"\",\"\",R115)","v":""},null,{"$f":"IF(T115=\"\",\"\",T115)","v":""},null,{"$f":"IF(V115=\"\",\"\",V115)","v":""},null,{"$f":"IF(X115=\"\",\"\",X115)","v":""},null,{"$f":"IF(Z115=\"\",\"\",Z115)","v":""},null,{"$f":"IF(AB115=\"\",\"\",AB115)","v":""},null,{"$f":"IF(AD115=\"\",\"\",AD115)","v":""},null,{"$f":"IF(AF115=\"\",\"\",AF115)","v":""},null,{"$f":"IF(AH115=\"\",\"\",AH115)","v":""},null,{"$f":"IF(AJ115=\"\",\"\",AJ115)","v":""},null,{"$f":"IF(AL115=\"\",\"\",AL115)","v":""},null,null,{"$f":"IF(AO115=\"\",\"\",AO115)","v":""},null,null,{"$f":"IF(AR115=\"\",\"\",AR115)","v":""},null,null,null,null,{"$f":"IF(AW115=\"\",\"\",AW115)","v":""}]
[]
[]
[]
[null,"前回までの\n請求額",null,null,null,null,{"$f":"IF(G119=\"\",\"\",G119)","v":""},null,null,null,null,null,null,null,null,null,null,{"$f":"IF(R119=\"\",\"\",R119)","v":""},null,{"$f":"IF(T119=\"\",\"\",T119)","v":""},null,{"$f":"IF(V119=\"\",\"\",V119)","v":""},null,{"$f":"IF(X119=\"\",\"\",X119)","v":""},null,{"$f":"IF(Z119=\"\",\"\",Z119)","v":""},null,{"$f":"IF(AB119=\"\",\"\",AB119)","v":""},null,{"$f":"IF(AD119=\"\",\"\",AD119)","v":""},null,{"$f":"IF(AF119=\"\",\"\",AF119)","v":""},null,{"$f":"IF(AH119=\"\",\"\",AH119)","v":""},null,{"$f":"IF(AJ119=\"\",\"\",AJ119)","v":""},null,{"$f":"IF(AL119=\"\",\"\",AL119)","v":""},null,null,{"$f":"IF(AO119=\"\",\"\",AO119)","v":""},null,null,{"$f":"IF(AR119=\"\",\"\",AR119)","v":""},null,null,null,null,{"$f":"IF(AW119=\"\",\"\",AW119)","v":""}]
[]
[]
[]
[null,"今回\n請求額",null,null,{"$f":"IF(E31=\"\",\"\",E31)","v":""},null,{"$f":"IF(G123=\"\",\"\",G123)","v":""},null,null,null,null,null,null,null,null,null,null,{"$f":"IF(R123=\"\",\"\",R123)","v":""},null,{"$f":"IF(T123=\"\",\"\",T123)","v":""},null,{"$f":"IF(V123=\"\",\"\",V123)","v":""},null,{"$f":"IF(X123=\"\",\"\",X123)","v":""},null,{"$f":"IF(Z123=\"\",\"\",Z123)","v":""},null,{"$f":"IF(AB123=\"\",\"\",AB123)","v":""},null,{"$f":"IF(AD123=\"\",\"\",AD123)","v":""},null,{"$f":"IF(AF123=\"\",\"\",AF123)","v":""},null,{"$f":"IF(AH123=\"\",\"\",AH123)","v":""},null,{"$f":"IF(AJ123=\"\",\"\",AJ123)","v":""},null,{"$f":"IF(AL123=\"\",\"\",AL123)","v":""},null,null,{"$f":"IF(AO123=\"\",\"\",AO123)","v":""},null,null,{"$f":"IF(AR123=\"\",\"\",AR123)","v":""},null,null,null,null,{"$f":"IF(AW123=\"\",\"\",AW123)","v":""}]
[]
[]
[]
[null,"差引残高",null,null,null,null,{"$f":"IF(G203=\"\",\"\",G203+G207-G211-G215)","v":""},null,null,null,null,null,null,null,null,null,null,{"$f":"IF(R127=\"\",\"\",R127)","v":""},null,{"$f":"IF(T127=\"\",\"\",T127)","v":""},null,{"$f":"IF(V127=\"\",\"\",V127)","v":""},null,{"$f":"IF(X127=\"\",\"\",X127)","v":""},null,{"$f":"IF(Z127=\"\",\"\",Z127)","v":""},null,{"$f":"IF(AB127=\"\",\"\",AB127)","v":""},null,{"$f":"IF(AD127=\"\",\"\",AD127)","v":""},null,{"$f":"IF(AF127=\"\",\"\",AF127)","v":""},null,{"$f":"IF(AH127=\"\",\"\",AH127)","v":""},null,{"$f":"IF(AJ127=\"\",\"\",AJ127)","v":""},null,{"$f":"IF(AL127=\"\",\"\",AL127)","v":""},null,null,{"$f":"IF(AO127=\"\",\"\",AO127)","v":""},null,null,{"$f":"IF(AR127=\"\",\"\",AR127)","v":""},null,null,null,null,{"$f":"IF(AW127=\"\",\"\",AW127)","v":""}]
[]
[]
[]
[null,null,null,null,null,null,null,null,null,null,null,null,null,null,null,null,null,{"$f":"IF(R131=\"\",\"\",R131)","v":""},null,{"$f":"IF(T131=\"\",\"\",T131)","v":""},null,{"$f":"IF(V131=\"\",\"\",V131)","v":""},null,{"$f":"IF(X131=\"\",\"\",X131)","v":""},null,{"$f":"IF(Z131=\"\",\"\",Z131)","v":""},null,{"$f":"IF(AB131=\"\",\"\",AB131)","v":""},null,{"$f":"IF(AD131=\"\",\"\",AD131)","v":""},null,{"$f":"IF(AF131=\"\",\"\",AF131)","v":""},null,{"$f":"IF(AH131=\"\",\"\",AH131)","v":""},null,{"$f":"IF(AJ131=\"\",\"\",AJ131)","v":""},null,{"$f":"IF(AL131=\"\",\"\",AL131)","v":""},null,null,{"$f":"IF(AO131=\"\",\"\",AO131)","v":""},null,null,{"$f":"IF(AR131=\"\",\"\",AR131)","v":""},null,null,null,null,{"$f":"IF(AW131=\"\",\"\",AW131)","v":""}]
[]
[]
[]
[null,null,null,null,null,null,null,null,null,null,null,null,null,null,null,null,null,{"$f":"IF(R135=\"\",\"\",R135)","v":""},null,{"$f":"IF(T135=\"\",\"\",T135)","v":""},null,{"$f":"IF(V135=\"\",\"\",V135)","v":""},null,{"$f":"IF(X135=\"\",\"\",X135)","v":""},null,{"$f":"IF(Z135=\"\",\"\",Z135)","v":""},null,{"$f":"IF(AB135=\"\",\"\",AB135)","v":""},null,{"$f":"IF(AD135=\"\",\"\",AD135)","v":""},null,{"$f":"IF(AF135=\"\",\"\",AF135)","v":""},null,{"$f":"IF(AH135=\"\",\"\",AH135)","v":""},null,{"$f":"IF(AJ135=\"\",\"\",AJ135)","v":""},null,{"$f":"IF(AL135=\"\",\"\",AL135)","v":""},null,null,{"$f":"IF(AO135=\"\",\"\",AO135)","v":""},null,null,{"$f":"IF(AR135=\"\",\"\",AR135)","v":""},null,null,null,null,{"$f":"IF(AW135=\"\",\"\",AW135)","v":""}]
[]
[]
[]
[null,null,null,null,null,null,null,null,null,null,null,null,null,null,null,null,null,{"$f":"IF(R139=\"\",\"\",R139)","v":""},null,{"$f":"IF(T139=\"\",\"\",T139)","v":""},null,{"$f":"IF(V139=\"\",\"\",V139)","v":""},null,{"$f":"IF(X139=\"\",\"\",X139)","v":""},null,{"$f":"IF(Z139=\"\",\"\",Z139)","v":""},null,{"$f":"IF(AB139=\"\",\"\",AB139)","v":""},null,{"$f":"IF(AD139=\"\",\"\",AD139)","v":""},null,{"$f":"IF(AF139=\"\",\"\",AF139)","v":""},null,{"$f":"IF(AH139=\"\",\"\",AH139)","v":""},null,{"$f":"IF(AJ139=\"\",\"\",AJ139)","v":""},null,{"$f":"IF(AL139=\"\",\"\",AL139)","v":""},null,null,{"$f":"IF(AO139=\"\",\"\",AO139)","v":""},null,null,{"$f":"IF(AR139=\"\",\"\",AR139)","v":""},null,null,null,null,{"$f":"IF(AW139=\"\",\"\",AW139)","v":""}]
[]
[]
[]
[null,null,null,null,null,null,null,null,null,null,null,null,null,null,null,null,null,{"$f":"IF(R143=\"\",\"\",R143)","v":""},null,{"$f":"IF(T143=\"\",\"\",T143)","v":""},null,{"$f":"IF(V143=\"\",\"\",V143)","v":""},null,{"$f":"IF(X143=\"\",\"\",X143)","v":""},null,{"$f":"IF(Z143=\"\",\"\",Z143)","v":""},null,{"$f":"IF(AB143=\"\",\"\",AB143)","v":""},null,{"$f":"IF(AD143=\"\",\"\",AD143)","v":""},null,{"$f":"IF(AF143=\"\",\"\",AF143)","v":""},null,{"$f":"IF(AH143=\"\",\"\",AH143)","v":""},null,{"$f":"IF(AJ143=\"\",\"\",AJ143)","v":""},null,{"$f":"IF(AL143=\"\",\"\",AL143)","v":""},null,null,{"$f":"IF(AO143=\"\",\"\",AO143)","v":""},null,null,{"$f":"IF(AR143=\"\",\"\",AR143)","v":""},null,null,null,null,{"$f":"IF(AW143=\"\",\"\",AW143)","v":""}]
[]
[]
[]
[null,null,null,null,null,null,null,null,null,null,null,null,null,null,null,null,null,{"$f":"IF(R147=\"\",\"\",R147)","v":""},null,{"$f":"IF(T147=\"\",\"\",T147)","v":""},null,{"$f":"IF(V147=\"\",\"\",V147)","v":""},null,{"$f":"IF(X147=\"\",\"\",X147)","v":""},null,{"$f":"IF(Z147=\"\",\"\",Z147)","v":""},null,{"$f":"IF(AB147=\"\",\"\",AB147)","v":""},null,{"$f":"IF(AD147=\"\",\"\",AD147)","v":""},null,{"$f":"IF(AF147=\"\",\"\",AF147)","v":""},null,{"$f":"IF(AH147=\"\",\"\",AH147)","v":""},null,{"$f":"IF(AJ147=\"\",\"\",AJ147)","v":""},null,{"$f":"IF(AL147=\"\",\"\",AL147)","v":""},null,null,{"$f":"IF(AO147=\"\",\"\",AO147)","v":""},null,null,{"$f":"IF(AR147=\"\",\"\",AR147)","v":""},null,null,null,null,{"$f":"IF(AW147=\"\",\"\",AW147)","v":""}]
[]
[]
[]
[null,null,null,null,null,null,null,null,null,null,null,null,null,null,null,null,null,{"$f":"IF(R151=\"\",\"\",R151)","v":""},null,{"$f":"IF(T151=\"\",\"\",T151)","v":""},null,{"$f":"IF(V151=\"\",\"\",V151)","v":""},null,{"$f":"IF(X151=\"\",\"\",X151)","v":""},null,{"$f":"IF(Z151=\"\",\"\",Z151)","v":""},null,{"$f":"IF(AB151=\"\",\"\",AB151)","v":""},null,{"$f":"IF(AD151=\"\",\"\",AD151)","v":""},null,{"$f":"IF(AF151=\"\",\"\",AF151)","v":""},null,{"$f":"IF(AH151=\"\",\"\",AH151)","v":""},null,{"$f":"IF(AJ151=\"\",\"\",AJ151)","v":""},null,{"$f":"IF(AL151=\"\",\"\",AL151)","v":""},null,null,{"$f":"IF(AO151=\"\",\"\",AO151)","v":""},null,null,{"$f":"IF(AR151=\"\",\"\",AR151)","v":""},null,null,null,null,{"$f":"IF(AW151=\"\",\"\",AW151)","v":""}]
[]
[]
[]
[null,null,null,null,null,null,null,null,null,null,null,null,null,null,null,null,null,{"$f":"IF(R155=\"\",\"\",R155)","v":""},null,{"$f":"IF(T155=\"\",\"\",T155)","v":""},null,{"$f":"IF(V155=\"\",\"\",V155)","v":""},null,{"$f":"IF(X155=\"\",\"\",X155)","v":""},null,{"$f":"IF(Z155=\"\",\"\",Z155)","v":""},null,{"$f":"IF(AB155=\"\",\"\",AB155)","v":""},null,{"$f":"IF(AD155=\"\",\"\",AD155)","v":""},null,{"$f":"IF(AF155=\"\",\"\",AF155)","v":""},null,{"$f":"IF(AH155=\"\",\"\",AH155)","v":""},null,{"$f":"IF(AJ155=\"\",\"\",AJ155)","v":""},null,{"$f":"IF(AL155=\"\",\"\",AL155)","v":""},null,null,{"$f":"IF(AO155=\"\",\"\",AO155)","v":""},null,null,{"$f":"IF(AR155=\"\",\"\",AR155)","v":""},null,null,null,null,{"$f":"IF(AW155=\"\",\"\",AW155)","v":""}]
[]
[]
[]
[null,null,null,null,null,null,null,null,null,null,null,null,null,null,null,null,null,{"$f":"IF(R159=\"\",\"\",R159)","v":""},null,{"$f":"IF(T159=\"\",\"\",T159)","v":""},null,{"$f":"IF(V159=\"\",\"\",V159)","v":""},null,{"$f":"IF(X159=\"\",\"\",X159)","v":""},null,{"$f":"IF(Z159=\"\",\"\",Z159)","v":""},null,{"$f":"IF(AB159=\"\",\"\",AB159)","v":""},null,{"$f":"IF(AD159=\"\",\"\",AD159)","v":""},null,{"$f":"IF(AF159=\"\",\"\",AF159)","v":""},null,{"$f":"IF(AH159=\"\",\"\",AH159)","v":""},null,{"$f":"IF(AJ159=\"\",\"\",AJ159)","v":""},null,{"$f":"IF(AL159=\"\",\"\",AL159)","v":""},null,null,{"$f":"IF(AO159=\"\",\"\",AO159)","v":""},null,null,{"$f":"IF(AR159=\"\",\"\",AR159)","v":""},null,null,null,null,{"$f":"IF(AW159=\"\",\"\",AW159)","v":""}]
[]
[]
[]
[null,null,null,null,null,null,null,null,null,null,null,null,null,null,null,null,null,{"$f":"IF(R163=\"\",\"\",R163)","v":""},null,{"$f":"IF(T163=\"\",\"\",T163)","v":""},null,{"$f":"IF(V163=\"\",\"\",V163)","v":""},null,{"$f":"IF(X163=\"\",\"\",X163)","v":""},null,{"$f":"IF(Z163=\"\",\"\",Z163)","v":""},null,{"$f":"IF(AB163=\"\",\"\",AB163)","v":""},null,{"$f":"IF(AD163=\"\",\"\",AD163)","v":""},null,{"$f":"IF(AF163=\"\",\"\",AF163)","v":""},null,{"$f":"IF(AH163=\"\",\"\",AH163)","v":""},null,{"$f":"IF(AJ163=\"\",\"\",AJ163)","v":""},null,{"$f":"IF(AL163=\"\",\"\",AL163)","v":""},null,null,{"$f":"IF(AO163=\"\",\"\",AO163)","v":""},null,null,{"$f":"IF(AR163=\"\",\"\",AR163)","v":""},null,null,null,null,{"$f":"IF(AW163=\"\",\"\",AW163)","v":""}]
[]
[]
[]
[null,null,null,null,null,null,null,null,null,null,null,null,null,null,null,null,null,{"$f":"IF(R167=\"\",\"\",R167)","v":""},null,{"$f":"IF(T167=\"\",\"\",T167)","v":""},null,{"$f":"IF(V167=\"\",\"\",V167)","v":""},null,{"$f":"IF(X167=\"\",\"\",X167)","v":""},null,{"$f":"IF(Z167=\"\",\"\",Z167)","v":""},null,{"$f":"IF(AB167=\"\",\"\",AB167)","v":""},null,{"$f":"IF(AD167=\"\",\"\",AD167)","v":""},null,{"$f":"IF(AF167=\"\",\"\",AF167)","v":""},null,{"$f":"IF(AH167=\"\",\"\",AH167)","v":""},null,{"$f":"IF(AJ167=\"\",\"\",AJ167)","v":""},null,{"$f":"IF(AL167=\"\",\"\",AL167)","v":""},null,null,{"$f":"IF(AO167=\"\",\"\",AO167)","v":""},null,null,{"$f":"IF(AR167=\"\",\"\",AR167)","v":""},null,null,null,null,{"$f":"IF(AW167=\"\",\"\",AW167)","v":""}]
[]
[]
[]
[null,null,null,null,null,null,null,null,null,null,null,null,null,null,null,null,null,{"$f":"IF(R171=\"\",\"\",R171)","v":""},null,{"$f":"IF(T171=\"\",\"\",T171)","v":""},null,{"$f":"IF(V171=\"\",\"\",V171)","v":""},null,{"$f":"IF(X171=\"\",\"\",X171)","v":""},null,{"$f":"IF(Z171=\"\",\"\",Z171)","v":""},null,{"$f":"IF(AB171=\"\",\"\",AB171)","v":""},null,{"$f":"IF(AD171=\"\",\"\",AD171)","v":""},null,{"$f":"IF(AF171=\"\",\"\",AF171)","v":""},null,{"$f":"IF(AH171=\"\",\"\",AH171)","v":""},null,{"$f":"IF(AJ171=\"\",\"\",AJ171)","v":""},null,{"$f":"IF(AL171=\"\",\"\",AL171)","v":""},null,null,{"$f":"IF(AO171=\"\",\"\",AO171)","v":""},null,null,{"$f":"IF(AR171=\"\",\"\",AR171)","v":""},null,null,null,null,{"$f":"IF(AW171=\"\",\"\",AW171)","v":""}]
[]
[]
[]
[null,null,null,null,null,null,null,null,null,null,null,null,null,null,null,null,null,null,null,null,null,null,null,null,null,null,null,null,null,null,null,null,null,null,null,null,null,"値引き等",null,null,null,null,null,null,null,null,null,null,{"$f":"IF(AW175=\"\",\"\",AW175)","v":""}]
[]
[]
[]
[]
[null,null,null,null,null,null,null,null,null,null,null,null,null,null,null,null,null,null,null,null,null,null,null,null,null,null,null,null,null,null,null,null,null,null,null,null,null,{"$f":"\"合計(\" & IF(税処理=2,\"税込\",\"税抜\")&\")\"","v":"合計(税抜)"},null,null,null,null,null,null,null,null,null,null,{"$f":"IF(AW180=\"\",\"\",AW180)","v":""}]

{"sheet":"細2-3","index":17,"n_rows":272,"n_cols":53,"rows_kept":272,"cut":false,"hidden":false,"merged":[[266,37,269,47],[266,48,269,54],[258,48,261,54],[262,17,265,18],[262,19,265,20],[262,21,265,36],[262,37,265,39],[258,43,261,47],[271,37,274,47],[271,48,274,54],[262,40,265,42],[262,43,265,47],[262,48,265,54],[258,17,261,18],[258,19,261,20],[258,21,261,36],[258,37,261,39],[258,40,261,42],[250,48,253,54],[254,17,257,18],[254,19,257,20],[254,21,257,36],[254,37,257,39],[254,40,257,42],[254,43,257,47],[254,48,257,54],[250,17,253,18],[250,19,253,20],[250,21,253,36],[250,37,253,39],[250,40,253,42],[250,43,253,47],[242,48,245,54],[246,17,249,18],[246,19,249,20],[246,21,249,36],[246,37,249,39],[246,40,249,42],[246,43,249,47],[246,48,249,54],[242,17,245,18],[242,19,245,20],[242,21,245,36],[242,37,245,39],[242,40,245,42],[242,43,245,47],[234,48,237,54],[238,17,241,18],[238,19,241,20],[238,21,241,36],[238,37,241,39],[238,40,241,42],[238,43,241,47],[238,48,241,54],[234,17,237,18],[234,19,237,20],[234,21,237,36],[234,37,237,39],[234,40,237,42],[234,43,237,47],[222,17,225,18],[222,19,225,20],[222,21,225,36],[222,37,225,39],[222,40,225,42],[222,43,225,47],[222,48,225,54],[226,48,229,54],[230,17,233,18],[230,19,233,20],[230,21,233,36],[230,37,233,39],[230,40,233,42],[230,43,233,47],[230,48,233,54],[226,17,229,18],[226,19,229,20],[226,21,229,36],[226,37,229,39],[226,40,229,42],[226,43,229,47],[218,1,221,5],[218,6,221,15],[218,17,221,18],[218,19,221,20],[218,21,221,36],[218,37,221,39],[218,40,221,42],[218,43,221,47],[218,48,221,54],[210,40,213,42],[210,43,213,47],[210,48,213,54],[214,1,217,3],[214,4,217,5],[214,6,217,15],[214,17,217,18],[214,19,217,20],[214,21,217,36],[214,37,217,39],[210,1,213,5],[210,6,213,15],[210,17,213,18],[210,19,213,20],[210,21,213,36],[210,37,213,39],[214,40,217,42],[214,43,217,47],[214,48,217,54],[206,1,209,5],[206,6,209,15],[206,17,209,18],[206,19,209,20],[206,21,209,36],[206,37,209,39],[206,40,209,42],[206,43,209,47],[206,48,209,54],[198,43,201,47],[198,48,201,54],[202,1,205,5],[202,6,205,15],[202,17,205,18],[202,19,205,20],[202,21,205,36],[202,37,205,39],[202,40,205,42],[202,43,205,47],[198,1,201,5],[198,6,201,15],[198,17,201,20],[198,21,201,36],[198,37,201,39],[198,40,201,42],[202,48,205,54],[187,52,189,54],[192,1,195,5],[192,6,195,11],[192,12,195,15],[192,16,195,35],[192,37,195,40],[192,41,195,54],[185,19,188,32],[186,1,189,11],[186,12,189,13],[187,41,189,45],[187,46,189,48],[187,49,189,51],[174,37,177,47],[174,48,177,54],[179,37,182,47],[179,48,182,54],[170,17,173,18],[170,19,173,20],[170,21,173,36],[170,37,173,39],[170,40,173,42],[170,43,173,47],[170,48,173,54],[166,17,169,18],[166,19,169,20],[162,43,165,47],[162,48,165,54],[158,17,161,18],[158,19,161,20],[158,21,161,36],[158,37,161,39],[158,40,161,42],[162,17,165,18],[162,19,165,20],[162,21,165,36],[162,37,165,39],[162,40,165,42],[166,48,169,54],[158,43,161,47],[166,21,169,36],[166,37,169,39],[166,40,169,42],[166,43,169,47],[158,48,161,54],[154,48,157,54],[150,17,153,18],[150,19,153,20],[146,43,149,47],[146,48,149,54],[142,17,145,18],[142,19,145,20],[142,21,145,36],[142,37,145,39],[142,40,145,42],[154,17,157,18],[154,19,157,20],[154,21,157,36],[154,37,157,39],[154,40,157,42],[154,43,157,47],[146,17,149,18],[146,19,149,20],[146,21,149,36],[146,37,149,39],[146,40,149,42],[150,48,153,54],[142,43,145,47],[150,21,153,36],[150,37,153,39],[150,40,153,42],[150,43,153,47],[142,48,145,54],[130,48,133,54],[134,48,137,54],[130,17,133,18],[130,19,133,20],[130,21,133,36],[130,37,133,39],[130,40,133,42],[130,43,133,47],[138,48,141,54],[134,17,137,18],[134,19,137,20],[134,21,137,36],[134,37,137,39],[134,40,137,42],[134,43,137,47],[138,17,141,18],[138,19,141,20],[138,21,141,36],[138,37,141,39],[138,40,141,42],[138,43,141,47],[126,1,129,5],[126,6,129,15],[126,17,129,18],[126,19,129,20],[126,21,129,36],[126,37,129,39],[126,40,129,42],[126,43,129,47],[126,48,129,54],[118,40,121,42],[118,43,121,47],[118,48,121,54],[122,1,125,3],[122,4,125,5],[122,6,125,15],[122,17,125,18],[122,19,125,20],[122,21,125,36],[122,37,125,39],[118,1,121,5],[118,6,121,15],[118,17,121,18],[118,19,121,20],[118,21,121,36],[118,37,121,39],[122,40,125,42],[122,43,125,47],[122,48,125,54],[114,1,117,5],[114,6,117,15],[114,17,117,18],[114,19,117,20],[114,21,117,36],[114,37,117,39],[114,40,117,42],[114,43,117,47],[114,48,117,54],[106,43,109,47],[106,48,109,54],[110,1,113,5],[110,6,113,15],[110,17,113,18],[110,19,113,20],[110,21,113,36],[110,37,113,39],[110,40,113,42],[110,43,113,47],[106,1,109,5],[106,6,109,15],[106,17,109,20],[106,21,109,36],[106,37,109,39],[106,40,109,42],[110,48,113,54],[95,49,97,51],[95,52,97,54],[100,1,103,5],[100,6,103,11],[100,12,103,15],[100,16,103,35],[100,37,103,40],[100,41,103,54],[93,19,96,32],[94,1,97,11],[94,12,97,13],[95,41,97,45],[83,1,84,4],[83,5,84,10],[87,37,90,47],[83,11,84,16],[83,17,84,25],[95,46,97,48],[85,1,90,4],[85,5,90,10],[85,11,90,16],[85,17,90,25],[78,43,81,47],[83,26,84,30],[83,31,84,35],[78,17,81,18],[78,19,81,20],[78,21,81,36],[85,26,90,30],[85,31,90,35],[74,48,77,54],[87,48,90,54],[78,48,81,54],[82,37,85,47],[82,48,85,54],[78,37,81,39],[78,40,81,42],[74,17,77,18],[74,19,77,20],[74,21,77,36],[74,37,77,39],[74,40,77,42],[74,43,77,47],[66,48,69,54],[70,17,73,18],[70,19,73,20],[70,21,73,36],[70,37,73,39],[70,40,73,42],[70,43,73,47],[70,48,73,54],[66,17,69,18],[66,19,69,20],[66,21,69,36],[66,37,69,39],[66,40,69,42],[66,43,69,47],[58,48,61,54],[62,17,65,18],[62,19,65,20],[62,21,65,36],[62,37,65,39],[62,40,65,42],[62,43,65,47],[62,48,65,54],[58,17,61,18],[58,19,61,20],[58,21,61,36],[58,37,61,39],[58,40,61,42],[58,43,61,47],[50,48,53,54],[54,17,57,18],[54,19,57,20],[54,21,57,36],[54,37,57,39],[54,40,57,42],[54,43,57,47],[54,48,57,54],[50,17,53,18],[50,19,53,20],[50,21,53,36],[50,37,53,39],[50,40,53,42],[50,43,53,47],[38,17,41,18],[38,19,41,20],[38,21,41,36],[38,37,41,39],[38,40,41,42],[38,43,41,47],[38,48,41,54],[42,48,45,54],[46,17,49,18],[46,19,49,20],[46,21,49,36],[46,37,49,39],[46,40,49,42],[46,43,49,47],[46,48,49,54],[42,17,45,18],[42,19,45,20],[42,21,45,36],[42,37,45,39],[42,40,45,42],[42,43,45,47],[34,1,37,5],[34,6,37,15],[34,17,37,18],[34,19,37,20],[34,21,37,36],[34,37,37,39],[34,40,37,42],[34,43,37,47],[34,48,37,54],[26,40,29,42],[26,43,29,47],[26,48,29,54],[30,1,33,3],[30,4,33,5],[30,6,33,15],[30,17,33,18],[30,19,33,20],[30,21,33,36],[30,37,33,39],[26,1,29,5],[26,6,29,15],[26,17,29,18],[26,19,29,20],[26,21,29,36],[26,37,29,39],[30,40,33,42],[30,43,33,47],[30,48,33,54],[22,1,25,5],[22,6,25,15],[22,17,25,18],[22,19,25,20],[22,21,25,36],[22,37,25,39],[22,40,25,42],[22,43,25,47],[22,48,25,54],[14,43,17,47],[14,48,17,54],[18,1,21,5],[18,6,21,15],[18,17,21,18],[18,19,21,20],[18,21,21,36],[18,37,21,39],[18,40,21,42],[18,43,21,47],[14,1,17,5],[14,6,17,15],[14,17,17,20],[14,21,17,36],[14,37,17,39],[14,40,17,42],[18,48,21,54],[3,52,5,54],[8,37,11,40],[8,41,11,54],[3,41,5,45],[1,19,4,32],[2,1,5,11],[2,12,5,13],[8,1,11,5],[8,6,11,11],[8,12,11,15],[8,16,11,35],[3,46,5,48],[3,49,5,51]]}
[]
[null,null,null,null,null,null,null,null,null,null,null,null,null,null,null,null,null,null,null,"請求書明細書 (正)"]
[null,"株 式 会 社 種 村 建 設",null,null,null,null,null,null,null,null,null,null,"御中"]
[null,null,null,null,null,null,null,null,null,null,null,null,null,null,null,null,null,null,null,null,null,null,null,null,null,null,null,null,null,null,null,null,null,null,null,null,null,null,null,null,null,"請求年月日",null,null,null,null,{"$f":"年","v":23},null,null,{"$f":"月","v":5},null,null,{"$f":"日","v":31}]
[]
[]
[]
[]
[null,"工事番号",null,null,null,null,null,null,null,null,null,null,"工事名",null,null,null,null,null,null,null,null,null,null,null,null,null,null,null,null,null,null,null,null,null,null,null,null,"業者名",null,null,null,{"$f":"社名","v":"例：㈱種村建設"}]
[]
[]
[]
[]
[]
[null,"注文番号",null,null,null,null,null,null,null,null,null,null,null,null,null,null,null,"月　日",null,null,null,"摘要･品名",null,null,null,null,null,null,null,null,null,null,null,null,null,null,null,"数 量",null,null,"単位",null,null,"単価",null,null,null,null,{"$f":"\"金額(\" & IF(税処理=2,\"税込\",\"税抜\")&\")\"","v":"金額(税抜)"}]
[]
[]
[]
[null,"契約金額",null,null,null,null,null,null,null,null,null,null,null,null,null,null,null,null,null,null,null,null,null,null,null,null,null,null,null,null,null,null,null,null,null,null,null,null,null,null,null,null,null,null,null,null,null,null,{"$f":"IF(V19=\"\",\"\",AL19*AR19)","v":""}]
[]
[]
[]
[null,"増減額",null,null,null,null,null,null,null,null,null,null,null,null,null,null,null,null,null,null,null,null,null,null,null,null,null,null,null,null,null,null,null,null,null,null,null,null,null,null,null,null,null,null,null,null,null,null,{"$f":"IF(V23=\"\",\"\",AL23*AR23)","v":""}]
[]
[]
[]
[null,"前回までの\n請求額",null,null,null,null,null,null,null,null,null,null,null,null,null,null,null,null,null,null,null,null,null,null,null,null,null,null,null,null,null,null,null,null,null,null,null,null,null,null,null,null,null,null,null,null,null,null,{"$f":"IF(V27=\"\",\"\",AL27*AR27)","v":""}]
[]
[]
[]
[null,"今回\n請求額",null,null,null,null,null,null,null,null,null,null,null,null,null,null,null,null,null,null,null,null,null,null,null,null,null,null,null,null,null,null,null,null,null,null,null,null,null,null,null,null,null,null,null,null,null,null,{"$f":"IF(V31=\"\",\"\",AL31*AR31)","v":""}]
[]
[]
[]
[null,"差引残高",null,null,null,null,{"$f":"IF(G19=\"\",\"\",G19+G23-G27-G31)","v":""},null,null,null,null,null,null,null,null,null,null,null,null,null,null,null,null,null,null,null,null,null,null,null,null,null,null,null,null,null,null,null,null,null,null,null,null,null,null,null,null,null,{"$f":"IF(V35=\"\",\"\",AL35*AR35)","v":""}]
[]
[]
[]
[null,null,null,null,null,null,null,null,null,null,null,null,null,null,null,null,null,null,null,null,null,null,null,null,null,null,null,null,null,null,null,null,null,null,null,null,null,null,null,null,null,null,null,null,null,null,null,null,{"$f":"IF(V39=\"\",\"\",AL39*AR39)","v":""}]
[]
[]
[]
[null,null,null,null,null,null,null,null,null,null,null,null,null,null,null,null,null,null,null,null,null,null,null,null,null,null,null,null,null,null,null,null,null,null,null,null,null,null,null,null,null,null,null,null,null,null,null,null,{"$f":"IF(V43=\"\",\"\",AL43*AR43)","v":""}]
[]
[]
[]
[null,null,null,null,null,null,null,null,null,null,null,null,null,null,null,null,null,null,null,null,null,null,null,null,null,null,null,null,null,null,null,null,null,null,null,null,null,null,null,null,null,null,null,null,null,null,null,null,{"$f":"IF(V47=\"\",\"\",AL47*AR47)","v":""}]
[]
[]
[]
[null,null,null,null,null,null,null,null,null,null,null,null,null,null,null,null,null,null,null,null,null,null,null,null,null,null,null,null,null,null,null,null,null,null,null,null,null,null,null,null,null,null,null,null,null,null,null,null,{"$f":"IF(V51=\"\",\"\",AL51*AR51)","v":""}]
[]
[]
[]
[null,null,null,null,null,null,null,null,null,null,null,null,null,null,null,null,null,null,null,null,null,null,null,null,null,null,null,null,null,null,null,null,null,null,null,null,null,null,null,null,null,null,null,null,null,null,null,null,{"$f":"IF(V55=\"\",\"\",AL55*AR55)","v":""}]
[]
[]
[]
[null,null,null,null,null,null,null,null,null,null,null,null,null,null,null,null,null,null,null,null,null,null,null,null,null,null,null,null,null,null,null,null,null,null,null,null,null,null,null,null,null,null,null,null,null,null,null,null,{"$f":"IF(V59=\"\",\"\",AL59*AR59)","v":""}]
[]
[]
[]
[null,null,null,null,null,null,null,null,null,null,null,null,null,null,null,null,null,null,null,null,null,null,null,null,null,null,null,null,null,null,null,null,null,null,null,null,null,null,null,null,null,null,null,null,null,null,null,null,{"$f":"IF(V63=\"\",\"\",AL63*AR63)","v":""}]
[]
[]
[]
[null,null,null,null,null,null,null,null,null,null,null,null,null,null,null,null,null,null,null,null,null,null,null,null,null,null,null,null,null,null,null,null,null,null,null,null,null,null,null,null,null,null,null,null,null,null,null,null,{"$f":"IF(V67=\"\",\"\",AL67*AR67)","v":""}]
[]
[]
[]
[null,null,null,null,null,null,null,null,null,null,null,null,null,null,null,null,null,null,null,null,null,null,null,null,null,null,null,null,null,null,null,null,null,null,null,null,null,null,null,null,null,null,null,null,null,null,null,null,{"$f":"IF(V71=\"\",\"\",AL71*AR71)","v":""}]
[]
[]
[]
[null,null,null,null,null,null,null,null,null,null,null,null,null,null,null,null,null,null,null,null,null,null,null,null,null,null,null,null,null,null,null,null,null,null,null,null,null,null,null,null,null,null,null,null,null,null,null,null,{"$f":"IF(V75=\"\",\"\",AL75*AR75)","v":""}]
[]
[]
[]
[null,null,null,null,null,null,null,null,null,null,null,null,null,null,null,null,null,null,null,null,null,null,null,null,null,null,null,null,null,null,null,null,null,null,null,null,null,null,null,null,null,null,null,null,null,null,null,null,{"$f":"IF(V79=\"\",\"\",AL79*AR79)","v":""}]
[]
[]
[]
[null,null,null,null,null,null,null,null,null,null,null,null,null,null,null,null,null,null,null,null,null,null,null,null,null,null,null,null,null,null,null,null,null,null,null,null,null,"値引き等"]
[null,"社長",null,null,null,"専務",null,null,null,null,null,"常務",null,null,null,null,null,"部長･工場長",null,null,null,null,null,null,null,null,"担当者",null,null,null,null,"受付"]
[]
[]
[]
[null,null,null,null,null,null,null,null,null,null,null,null,null,null,null,null,null,null,null,null,null,null,null,null,null,null,null,null,null,null,null,null,null,null,null,null,null,{"$f":"\"合計(\" & IF(税処理=2,\"税込\",\"税抜\")&\")\"","v":"合計(税抜)"},null,null,null,null,null,null,null,null,null,null,{"$f":"IF(AW19=\"\",\"\",SUM(AW19:AW79)+AW83)","v":""}]
[]
[]
[]
[]
[]
[null,null,null,null,null,null,null,null,null,null,null,null,null,null,null,null,null,null,null,"請求明細書 (現場控)"]
[null,"株 式 会 社 種 村 建 設",null,null,null,null,null,null,null,null,null,null,"御中"]
[null,null,null,null,null,null,null,null,null,null,null,null,null,null,null,null,null,null,null,null,null,null,null,null,null,null,null,null,null,null,null,null,null,null,null,null,null,null,null,null,null,"請求年月日",null,null,null,null,{"$f":"IF(AU4=\"\",\"\",AU4)","v":23},null,null,{"$f":"IF(AX4=\"\",\"\",AX4)","v":5},null,null,{"$f":"IF(BA4=\"\",\"\",BA4)","v":31}]
[]
[]
[]
[]
[null,"工事番号",null,null,null,null,{"$f":"IF(G9=\"\",\"\",G9)","v":""},null,null,null,null,null,"工事名",null,null,null,{"$f":"IF(Q9=\"\",\"\",Q9)","v":""},null,null,null,null,null,null,null,null,null,null,null,null,null,null,null,null,null,null,null,null,"業者名",null,null,null,{"$f":"IF(AP9=\"\",\"\",AP9)","v":"例：㈱種村建設"}]
[]
[]
[]
[]
[]
[null,"注文番号",null,null,null,null,{"$f":"IF(G15=\"\",\"\",G15)","v":""},null,null,null,null,null,null,null,null,null,null,"月　日",null,null,null,"摘要･品名",null,null,null,null,null,null,null,null,null,null,null,null,null,null,null,"数 量",null,null,"単位",null,null,"単価",null,null,null,null,{"$f":"\"金額(\" & IF(税処理=2,\"税込\",\"税抜\")&\")\"","v":"金額(税抜)"}]
[]
[]
[]
[null,"契約金額",null,null,null,null,{"$f":"IF(G19=\"\",\"\",G19)","v":""},null,null,null,null,null,null,null,null,null,null,{"$f":"IF(R19=\"\",\"\",R19)","v":""},null,{"$f":"IF(T19=\"\",\"\",T19)","v":""},null,{"$f":"IF(V19=\"\",\"\",V19)","v":""},null,{"$f":"IF(X19=\"\",\"\",X19)","v":""},null,{"$f":"IF(Z19=\"\",\"\",Z19)","v":""},null,{"$f":"IF(AB19=\"\",\"\",AB19)","v":""},null,{"$f":"IF(AD19=\"\",\"\",AD19)","v":""},null,{"$f":"IF(AF19=\"\",\"\",AF19)","v":""},null,{"$f":"IF(AH19=\"\",\"\",AH19)","v":""},null,{"$f":"IF(AJ19=\"\",\"\",AJ19)","v":""},null,{"$f":"IF(AL19=\"\",\"\",AL19)","v":""},null,null,{"$f":"IF(AO19=\"\",\"\",AO19)","v":""},null,null,{"$f":"IF(AR19=\"\",\"\",AR19)","v":""},null,null,null,null,{"$f":"IF(AW19=\"\",\"\",AW19)","v":""}]
[]
[]
[]
[null,"増減額",null,null,null,null,{"$f":"IF(G23=\"\",\"\",G23)","v":""},null,null,null,null,null,null,null,null,null,null,{"$f":"IF(R23=\"\",\"\",R23)","v":""},null,{"$f":"IF(T23=\"\",\"\",T23)","v":""},null,{"$f":"IF(V23=\"\",\"\",V23)","v":""},null,{"$f":"IF(X23=\"\",\"\",X23)","v":""},null,{"$f":"IF(Z23=\"\",\"\",Z23)","v":""},null,{"$f":"IF(AB23=\"\",\"\",AB23)","v":""},null,{"$f":"IF(AD23=\"\",\"\",AD23)","v":""},null,{"$f":"IF(AF23=\"\",\"\",AF23)","v":""},null,{"$f":"IF(AH23=\"\",\"\",AH23)","v":""},null,{"$f":"IF(AJ23=\"\",\"\",AJ23)","v":""},null,{"$f":"IF(AL23=\"\",\"\",AL23)","v":""},null,null,{"$f":"IF(AO23=\"\",\"\",AO23)","v":""},null,null,{"$f":"IF(AR23=\"\",\"\",AR23)","v":""},null,null,null,null,{"$f":"IF(AW23=\"\",\"\",AW23)","v":""}]
[]
[]
[]
[null,"前回までの\n請求額",null,null,null,null,{"$f":"IF(G27=\"\",\"\",G27)","v":""},null,null,null,null,null,null,null,null,null,null,{"$f":"IF(R27=\"\",\"\",R27)","v":""},null,{"$f":"IF(T27=\"\",\"\",T27)","v":""},null,{"$f":"IF(V27=\"\",\"\",V27)","v":""},null,{"$f":"IF(X27=\"\",\"\",X27)","v":""},null,{"$f":"IF(Z27=\"\",\"\",Z27)","v":""},null,{"$f":"IF(AB27=\"\",\"\",AB27)","v":""},null,{"$f":"IF(AD27=\"\",\"\",AD27)","v":""},null,{"$f":"IF(AF27=\"\",\"\",AF27)","v":""},null,{"$f":"IF(AH27=\"\",\"\",AH27)","v":""},null,{"$f":"IF(AJ27=\"\",\"\",AJ27)","v":""},null,{"$f":"IF(AL27=\"\",\"\",AL27)","v":""},null,null,{"$f":"IF(AO27=\"\",\"\",AO27)","v":""},null,null,{"$f":"IF(AR27=\"\",\"\",AR27)","v":""},null,null,null,null,{"$f":"IF(AW27=\"\",\"\",AW27)","v":""}]
[]
[]
[]
[null,"今回\n請求額",null,null,{"$f":"IF(E31=\"\",\"\",E31)","v":""},null,{"$f":"IF(G31=\"\",\"\",G31)","v":""},null,null,null,null,null,null,null,null,null,null,{"$f":"IF(R31=\"\",\"\",R31)","v":""},null,{"$f":"IF(T31=\"\",\"\",T31)","v":""},null,{"$f":"IF(V31=\"\",\"\",V31)","v":""},null,{"$f":"IF(X31=\"\",\"\",X31)","v":""},null,{"$f":"IF(Z31=\"\",\"\",Z31)","v":""},null,{"$f":"IF(AB31=\"\",\"\",AB31)","v":""},null,{"$f":"IF(AD31=\"\",\"\",AD31)","v":""},null,{"$f":"IF(AF31=\"\",\"\",AF31)","v":""},null,{"$f":"IF(AH31=\"\",\"\",AH31)","v":""},null,{"$f":"IF(AJ31=\"\",\"\",AJ31)","v":""},null,{"$f":"IF(AL31=\"\",\"\",AL31)","v":""},null,null,{"$f":"IF(AO31=\"\",\"\",AO31)","v":""},null,null,{"$f":"IF(AR31=\"\",\"\",AR31)","v":""},null,null,null,null,{"$f":"IF(AW31=\"\",\"\",AW31)","v":""}]
[]
[]
[]
[null,"差引残高",null,null,null,null,{"$f":"IF(G111=\"\",\"\",G111+G115-G119-G123)","v":""},null,null,null,null,null,null,null,null,null,null,{"$f":"IF(R35=\"\",\"\",R35)","v":""},null,{"$f":"IF(T35=\"\",\"\",T35)","v":""},null,{"$f":"IF(V35=\"\",\"\",V35)","v":""},null,{"$f":"IF(X35=\"\",\"\",X35)","v":""},null,{"$f":"IF(Z35=\"\",\"\",Z35)","v":""},null,{"$f":"IF(AB35=\"\",\"\",AB35)","v":""},null,{"$f":"IF(AD35=\"\",\"\",AD35)","v":""},null,{"$f":"IF(AF35=\"\",\"\",AF35)","v":""},null,{"$f":"IF(AH35=\"\",\"\",AH35)","v":""},null,{"$f":"IF(AJ35=\"\",\"\",AJ35)","v":""},null,{"$f":"IF(AL35=\"\",\"\",AL35)","v":""},null,null,{"$f":"IF(AO35=\"\",\"\",AO35)","v":""},null,null,{"$f":"IF(AR35=\"\",\"\",AR35)","v":""},null,null,null,null,{"$f":"IF(AW35=\"\",\"\",AW35)","v":""}]
[]
[]
[]
[null,null,null,null,null,null,null,null,null,null,null,null,null,null,null,null,null,{"$f":"IF(R39=\"\",\"\",R39)","v":""},null,{"$f":"IF(T39=\"\",\"\",T39)","v":""},null,{"$f":"IF(V39=\"\",\"\",V39)","v":""},null,{"$f":"IF(X39=\"\",\"\",X39)","v":""},null,{"$f":"IF(Z39=\"\",\"\",Z39)","v":""},null,{"$f":"IF(AB39=\"\",\"\",AB39)","v":""},null,{"$f":"IF(AD39=\"\",\"\",AD39)","v":""},null,{"$f":"IF(AF39=\"\",\"\",AF39)","v":""},null,{"$f":"IF(AH39=\"\",\"\",AH39)","v":""},null,{"$f":"IF(AJ39=\"\",\"\",AJ39)","v":""},null,{"$f":"IF(AL39=\"\",\"\",AL39)","v":""},null,null,{"$f":"IF(AO39=\"\",\"\",AO39)","v":""},null,null,{"$f":"IF(AR39=\"\",\"\",AR39)","v":""},null,null,null,null,{"$f":"IF(AW39=\"\",\"\",AW39)","v":""}]
[]
[]
[]
[null,null,null,null,null,null,null,null,null,null,null,null,null,null,null,null,null,{"$f":"IF(R43=\"\",\"\",R43)","v":""},null,{"$f":"IF(T43=\"\",\"\",T43)","v":""},null,{"$f":"IF(V43=\"\",\"\",V43)","v":""},null,{"$f":"IF(X43=\"\",\"\",X43)","v":""},null,{"$f":"IF(Z43=\"\",\"\",Z43)","v":""},null,{"$f":"IF(AB43=\"\",\"\",AB43)","v":""},null,{"$f":"IF(AD43=\"\",\"\",AD43)","v":""},null,{"$f":"IF(AF43=\"\",\"\",AF43)","v":""},null,{"$f":"IF(AH43=\"\",\"\",AH43)","v":""},null,{"$f":"IF(AJ43=\"\",\"\",AJ43)","v":""},null,{"$f":"IF(AL43=\"\",\"\",AL43)","v":""},null,null,{"$f":"IF(AO43=\"\",\"\",AO43)","v":""},null,null,{"$f":"IF(AR43=\"\",\"\",AR43)","v":""},null,null,null,null,{"$f":"IF(AW43=\"\",\"\",AW43)","v":""}]
[]
[]
[]
[null,null,null,null,null,null,null,null,null,null,null,null,null,null,null,null,null,{"$f":"IF(R47=\"\",\"\",R47)","v":""},null,{"$f":"IF(T47=\"\",\"\",T47)","v":""},null,{"$f":"IF(V47=\"\",\"\",V47)","v":""},null,{"$f":"IF(X47=\"\",\"\",X47)","v":""},null,{"$f":"IF(Z47=\"\",\"\",Z47)","v":""},null,{"$f":"IF(AB47=\"\",\"\",AB47)","v":""},null,{"$f":"IF(AD47=\"\",\"\",AD47)","v":""},null,{"$f":"IF(AF47=\"\",\"\",AF47)","v":""},null,{"$f":"IF(AH47=\"\",\"\",AH47)","v":""},null,{"$f":"IF(AJ47=\"\",\"\",AJ47)","v":""},null,{"$f":"IF(AL47=\"\",\"\",AL47)","v":""},null,null,{"$f":"IF(AO47=\"\",\"\",AO47)","v":""},null,null,{"$f":"IF(AR47=\"\",\"\",AR47)","v":""},null,null,null,null,{"$f":"IF(AW47=\"\",\"\",AW47)","v":""}]
[]
[]
[]
[null,null,null,null,null,null,null,null,null,null,null,null,null,null,null,null,null,{"$f":"IF(R51=\"\",\"\",R51)","v":""},null,{"$f":"IF(T51=\"\",\"\",T51)","v":""},null,{"$f":"IF(V51=\"\",\"\",V51)","v":""},null,{"$f":"IF(X51=\"\",\"\",X51)","v":""},null,{"$f":"IF(Z51=\"\",\"\",Z51)","v":""},null,{"$f":"IF(AB51=\"\",\"\",AB51)","v":""},null,{"$f":"IF(AD51=\"\",\"\",AD51)","v":""},null,{"$f":"IF(AF51=\"\",\"\",AF51)","v":""},null,{"$f":"IF(AH51=\"\",\"\",AH51)","v":""},null,{"$f":"IF(AJ51=\"\",\"\",AJ51)","v":""},null,{"$f":"IF(AL51=\"\",\"\",AL51)","v":""},null,null,{"$f":"IF(AO51=\"\",\"\",AO51)","v":""},null,null,{"$f":"IF(AR51=\"\",\"\",AR51)","v":""},null,null,null,null,{"$f":"IF(AW51=\"\",\"\",AW51)","v":""}]
[]
[]
[]
[null,null,null,null,null,null,null,null,null,null,null,null,null,null,null,null,null,{"$f":"IF(R55=\"\",\"\",R55)","v":""},null,{"$f":"IF(T55=\"\",\"\",T55)","v":""},null,{"$f":"IF(V55=\"\",\"\",V55)","v":""},null,{"$f":"IF(X55=\"\",\"\",X55)","v":""},null,{"$f":"IF(Z55=\"\",\"\",Z55)","v":""},null,{"$f":"IF(AB55=\"\",\"\",AB55)","v":""},null,{"$f":"IF(AD55=\"\",\"\",AD55)","v":""},null,{"$f":"IF(AF55=\"\",\"\",AF55)","v":""},null,{"$f":"IF(AH55=\"\",\"\",AH55)","v":""},null,{"$f":"IF(AJ55=\"\",\"\",AJ55)","v":""},null,{"$f":"IF(AL55=\"\",\"\",AL55)","v":""},null,null,{"$f":"IF(AO55=\"\",\"\",AO55)","v":""},null,null,{"$f":"IF(AR55=\"\",\"\",AR55)","v":""},null,null,null,null,{"$f":"IF(AW55=\"\",\"\",AW55)","v":""}]
[]
[]
[]
[null,null,null,null,null,null,null,null,null,null,null,null,null,null,null,null,null,{"$f":"IF(R59=\"\",\"\",R59)","v":""},null,{"$f":"IF(T59=\"\",\"\",T59)","v":""},null,{"$f":"IF(V59=\"\",\"\",V59)","v":""},null,{"$f":"IF(X59=\"\",\"\",X59)","v":""},null,{"$f":"IF(Z59=\"\",\"\",Z59)","v":""},null,{"$f":"IF(AB59=\"\",\"\",AB59)","v":""},null,{"$f":"IF(AD59=\"\",\"\",AD59)","v":""},null,{"$f":"IF(AF59=\"\",\"\",AF59)","v":""},null,{"$f":"IF(AH59=\"\",\"\",AH59)","v":""},null,{"$f":"IF(AJ59=\"\",\"\",AJ59)","v":""},null,{"$f":"IF(AL59=\"\",\"\",AL59)","v":""},null,null,{"$f":"IF(AO59=\"\",\"\",AO59)","v":""},null,null,{"$f":"IF(AR59=\"\",\"\",AR59)","v":""},null,null,null,null,{"$f":"IF(AW59=\"\",\"\",AW59)","v":""}]
[]
[]
[]
[null,null,null,null,null,null,null,null,null,null,null,null,null,null,null,null,null,{"$f":"IF(R63=\"\",\"\",R63)","v":""},null,{"$f":"IF(T63=\"\",\"\",T63)","v":""},null,{"$f":"IF(V63=\"\",\"\",V63)","v":""},null,{"$f":"IF(X63=\"\",\"\",X63)","v":""},null,{"$f":"IF(Z63=\"\",\"\",Z63)","v":""},null,{"$f":"IF(AB63=\"\",\"\",AB63)","v":""},null,{"$f":"IF(AD63=\"\",\"\",AD63)","v":""},null,{"$f":"IF(AF63=\"\",\"\",AF63)","v":""},null,{"$f":"IF(AH63=\"\",\"\",AH63)","v":""},null,{"$f":"IF(AJ63=\"\",\"\",AJ63)","v":""},null,{"$f":"IF(AL63=\"\",\"\",AL63)","v":""},null,null,{"$f":"IF(AO63=\"\",\"\",AO63)","v":""},null,null,{"$f":"IF(AR63=\"\",\"\",AR63)","v":""},null,null,null,null,{"$f":"IF(AW63=\"\",\"\",AW63)","v":""}]
[]
[]
[]
[null,null,null,null,null,null,null,null,null,null,null,null,null,null,null,null,null,{"$f":"IF(R67=\"\",\"\",R67)","v":""},null,{"$f":"IF(T67=\"\",\"\",T67)","v":""},null,{"$f":"IF(V67=\"\",\"\",V67)","v":""},null,{"$f":"IF(X67=\"\",\"\",X67)","v":""},null,{"$f":"IF(Z67=\"\",\"\",Z67)","v":""},null,{"$f":"IF(AB67=\"\",\"\",AB67)","v":""},null,{"$f":"IF(AD67=\"\",\"\",AD67)","v":""},null,{"$f":"IF(AF67=\"\",\"\",AF67)","v":""},null,{"$f":"IF(AH67=\"\",\"\",AH67)","v":""},null,{"$f":"IF(AJ67=\"\",\"\",AJ67)","v":""},null,{"$f":"IF(AL67=\"\",\"\",AL67)","v":""},null,null,{"$f":"IF(AO67=\"\",\"\",AO67)","v":""},null,null,{"$f":"IF(AR67=\"\",\"\",AR67)","v":""},null,null,null,null,{"$f":"IF(AW67=\"\",\"\",AW67)","v":""}]
[]
[]
[]
[null,null,null,null,null,null,null,null,null,null,null,null,null,null,null,null,null,{"$f":"IF(R71=\"\",\"\",R71)","v":""},null,{"$f":"IF(T71=\"\",\"\",T71)","v":""},null,{"$f":"IF(V71=\"\",\"\",V71)","v":""},null,{"$f":"IF(X71=\"\",\"\",X71)","v":""},null,{"$f":"IF(Z71=\"\",\"\",Z71)","v":""},null,{"$f":"IF(AB71=\"\",\"\",AB71)","v":""},null,{"$f":"IF(AD71=\"\",\"\",AD71)","v":""},null,{"$f":"IF(AF71=\"\",\"\",AF71)","v":""},null,{"$f":"IF(AH71=\"\",\"\",AH71)","v":""},null,{"$f":"IF(AJ71=\"\",\"\",AJ71)","v":""},null,{"$f":"IF(AL71=\"\",\"\",AL71)","v":""},null,null,{"$f":"IF(AO71=\"\",\"\",AO71)","v":""},null,null,{"$f":"IF(AR71=\"\",\"\",AR71)","v":""},null,null,null,null,{"$f":"IF(AW71=\"\",\"\",AW71)","v":""}]
[]
[]
[]
[null,null,null,null,null,null,null,null,null,null,null,null,null,null,null,null,null,{"$f":"IF(R75=\"\",\"\",R75)","v":""},null,{"$f":"IF(T75=\"\",\"\",T75)","v":""},null,{"$f":"IF(V75=\"\",\"\",V75)","v":""},null,{"$f":"IF(X75=\"\",\"\",X75)","v":""},null,{"$f":"IF(Z75=\"\",\"\",Z75)","v":""},null,{"$f":"IF(AB75=\"\",\"\",AB75)","v":""},null,{"$f":"IF(AD75=\"\",\"\",AD75)","v":""},null,{"$f":"IF(AF75=\"\",\"\",AF75)","v":""},null,{"$f":"IF(AH75=\"\",\"\",AH75)","v":""},null,{"$f":"IF(AJ75=\"\",\"\",AJ75)","v":""},null,{"$f":"IF(AL75=\"\",\"\",AL75)","v":""},null,null,{"$f":"IF(AO75=\"\",\"\",AO75)","v":""},null,null,{"$f":"IF(AR75=\"\",\"\",AR75)","v":""},null,null,null,null,{"$f":"IF(AW75=\"\",\"\",AW75)","v":""}]
[]
[]
[]
[null,null,null,null,null,null,null,null,null,null,null,null,null,null,null,null,null,{"$f":"IF(R79=\"\",\"\",R79)","v":""},null,{"$f":"IF(T79=\"\",\"\",T79)","v":""},null,{"$f":"IF(V79=\"\",\"\",V79)","v":""},null,{"$f":"IF(X79=\"\",\"\",X79)","v":""},null,{"$f":"IF(Z79=\"\",\"\",Z79)","v":""},null,{"$f":"IF(AB79=\"\",\"\",AB79)","v":""},null,{"$f":"IF(AD79=\"\",\"\",AD79)","v":""},null,{"$f":"IF(AF79=\"\",\"\",AF79)","v":""},null,{"$f":"IF(AH79=\"\",\"\",AH79)","v":""},null,{"$f":"IF(AJ79=\"\",\"\",AJ79)","v":""},null,{"$f":"IF(AL79=\"\",\"\",AL79)","v":""},null,null,{"$f":"IF(AO79=\"\",\"\",AO79)","v":""},null,null,{"$f":"IF(AR79=\"\",\"\",AR79)","v":""},null,null,null,null,{"$f":"IF(AW79=\"\",\"\",AW79)","v":""}]
[]
[]
[]
[null,null,null,null,null,null,null,null,null,null,null,null,null,null,null,null,null,null,null,null,null,null,null,null,null,null,null,null,null,null,null,null,null,null,null,null,null,"値引き等",null,null,null,null,null,null,null,null,null,null,{"$f":"IF(AW83=\"\",\"\",AW83)","v":""}]
[]
[]
[]
[]
[null,null,null,null,null,null,null,null,null,null,null,null,null,null,null,null,null,null,null,null,null,null,null,null,null,null,null,null,null,null,null,null,null,null,null,null,null,{"$f":"\"合計(\" & IF(税処理=2,\"税込\",\"税抜\")&\")\"","v":"合計(税抜)"},null,null,null,null,null,null,null,null,null,null,{"$f":"IF(AW88=\"\",\"\",AW88)","v":""}]
[]
[]
[]
[]
[]
[null,null,null,null,null,null,null,null,null,null,null,null,null,null,null,null,null,null,null,"請求明細書 (貴社控)"]
[null,"株 式 会 社 種 村 建 設",null,null,null,null,null,null,null,null,null,null,"御中"]
[null,null,null,null,null,null,null,null,null,null,null,null,null,null,null,null,null,null,null,null,null,null,null,null,null,null,null,null,null,null,null,null,null,null,null,null,null,null,null,null,null,"請求年月日",null,null,null,null,{"$f":"IF(AU96=\"\",\"\",AU96)","v":23},null,null,{"$f":"IF(AX96=\"\",\"\",AX96)","v":5},null,null,{"$f":"IF(BA96=\"\",\"\",BA96)","v":31}]
[]
[]
[]
[]
[null,"工事番号",null,null,null,null,{"$f":"IF(G101=\"\",\"\",G101)","v":""},null,null,null,null,null,"工事名",null,null,null,{"$f":"IF(Q101=\"\",\"\",Q101)","v":""},null,null,null,null,null,null,null,null,null,null,null,null,null,null,null,null,null,null,null,null,"業者名",null,null,null,{"$f":"IF(AP101=\"\",\"\",AP101)","v":"例：㈱種村建設"}]
[]
[]
[]
[]
[]
[null,"注文番号",null,null,null,null,{"$f":"IF(G107=\"\",\"\",G107)","v":""},null,null,null,null,null,null,null,null,null,null,"月　日",null,null,null,"摘要･品名",null,null,null,null,null,null,null,null,null,null,null,null,null,null,null,"数 量",null,null,"単位",null,null,"単価",null,null,null,null,{"$f":"\"金額(\" & IF(税処理=2,\"税込\",\"税抜\")&\")\"","v":"金額(税抜)"}]
[]
[]
[]
[null,"契約金額",null,null,null,null,{"$f":"IF(G111=\"\",\"\",G111)","v":""},null,null,null,null,null,null,null,null,null,null,{"$f":"IF(R111=\"\",\"\",R111)","v":""},null,{"$f":"IF(T111=\"\",\"\",T111)","v":""},null,{"$f":"IF(V111=\"\",\"\",V111)","v":""},null,{"$f":"IF(X111=\"\",\"\",X111)","v":""},null,{"$f":"IF(Z111=\"\",\"\",Z111)","v":""},null,{"$f":"IF(AB111=\"\",\"\",AB111)","v":""},null,{"$f":"IF(AD111=\"\",\"\",AD111)","v":""},null,{"$f":"IF(AF111=\"\",\"\",AF111)","v":""},null,{"$f":"IF(AH111=\"\",\"\",AH111)","v":""},null,{"$f":"IF(AJ111=\"\",\"\",AJ111)","v":""},null,{"$f":"IF(AL111=\"\",\"\",AL111)","v":""},null,null,{"$f":"IF(AO111=\"\",\"\",AO111)","v":""},null,null,{"$f":"IF(AR111=\"\",\"\",AR111)","v":""},null,null,null,null,{"$f":"IF(AW111=\"\",\"\",AW111)","v":""}]
[]
[]
[]
[null,"増減額",null,null,null,null,{"$f":"IF(G115=\"\",\"\",G115)","v":""},null,null,null,null,null,null,null,null,null,null,{"$f":"IF(R115=\"\",\"\",R115)","v":""},null,{"$f":"IF(T115=\"\",\"\",T115)","v":""},null,{"$f":"IF(V115=\"\",\"\",V115)","v":""},null,{"$f":"IF(X115=\"\",\"\",X115)","v":""},null,{"$f":"IF(Z115=\"\",\"\",Z115)","v":""},null,{"$f":"IF(AB115=\"\",\"\",AB115)","v":""},null,{"$f":"IF(AD115=\"\",\"\",AD115)","v":""},null,{"$f":"IF(AF115=\"\",\"\",AF115)","v":""},null,{"$f":"IF(AH115=\"\",\"\",AH115)","v":""},null,{"$f":"IF(AJ115=\"\",\"\",AJ115)","v":""},null,{"$f":"IF(AL115=\"\",\"\",AL115)","v":""},null,null,{"$f":"IF(AO115=\"\",\"\",AO115)","v":""},null,null,{"$f":"IF(AR115=\"\",\"\",AR115)","v":""},null,null,null,null,{"$f":"IF(AW115=\"\",\"\",AW115)","v":""}]
[]
[]
[]
[null,"前回までの\n請求額",null,null,null,null,{"$f":"IF(G119=\"\",\"\",G119)","v":""},null,null,null,null,null,null,null,null,null,null,{"$f":"IF(R119=\"\",\"\",R119)","v":""},null,{"$f":"IF(T119=\"\",\"\",T119)","v":""},null,{"$f":"IF(V119=\"\",\"\",V119)","v":""},null,{"$f":"IF(X119=\"\",\"\",X119)","v":""},null,{"$f":"IF(Z119=\"\",\"\",Z119)","v":""},null,{"$f":"IF(AB119=\"\",\"\",AB119)","v":""},null,{"$f":"IF(AD119=\"\",\"\",AD119)","v":""},null,{"$f":"IF(AF119=\"\",\"\",AF119)","v":""},null,{"$f":"IF(AH119=\"\",\"\",AH119)","v":""},null,{"$f":"IF(AJ119=\"\",\"\",AJ119)","v":""},null,{"$f":"IF(AL119=\"\",\"\",AL119)","v":""},null,null,{"$f":"IF(AO119=\"\",\"\",AO119)","v":""},null,null,{"$f":"IF(AR119=\"\",\"\",AR119)","v":""},null,null,null,null,{"$f":"IF(AW119=\"\",\"\",AW119)","v":""}]
[]
[]
[]
[null,"今回\n請求額",null,null,{"$f":"IF(E31=\"\",\"\",E31)","v":""},null,{"$f":"IF(G123=\"\",\"\",G123)","v":""},null,null,null,null,null,null,null,null,null,null,{"$f":"IF(R123=\"\",\"\",R123)","v":""},null,{"$f":"IF(T123=\"\",\"\",T123)","v":""},null,{"$f":"IF(V123=\"\",\"\",V123)","v":""},null,{"$f":"IF(X123=\"\",\"\",X123)","v":""},null,{"$f":"IF(Z123=\"\",\"\",Z123)","v":""},null,{"$f":"IF(AB123=\"\",\"\",AB123)","v":""},null,{"$f":"IF(AD123=\"\",\"\",AD123)","v":""},null,{"$f":"IF(AF123=\"\",\"\",AF123)","v":""},null,{"$f":"IF(AH123=\"\",\"\",AH123)","v":""},null,{"$f":"IF(AJ123=\"\",\"\",AJ123)","v":""},null,{"$f":"IF(AL123=\"\",\"\",AL123)","v":""},null,null,{"$f":"IF(AO123=\"\",\"\",AO123)","v":""},null,null,{"$f":"IF(AR123=\"\",\"\",AR123)","v":""},null,null,null,null,{"$f":"IF(AW123=\"\",\"\",AW123)","v":""}]
[]
[]
[]
[null,"差引残高",null,null,null,null,{"$f":"IF(G203=\"\",\"\",G203+G207-G211-G215)","v":""},null,null,null,null,null,null,null,null,null,null,{"$f":"IF(R127=\"\",\"\",R127)","v":""},null,{"$f":"IF(T127=\"\",\"\",T127)","v":""},null,{"$f":"IF(V127=\"\",\"\",V127)","v":""},null,{"$f":"IF(X127=\"\",\"\",X127)","v":""},null,{"$f":"IF(Z127=\"\",\"\",Z127)","v":""},null,{"$f":"IF(AB127=\"\",\"\",AB127)","v":""},null,{"$f":"IF(AD127=\"\",\"\",AD127)","v":""},null,{"$f":"IF(AF127=\"\",\"\",AF127)","v":""},null,{"$f":"IF(AH127=\"\",\"\",AH127)","v":""},null,{"$f":"IF(AJ127=\"\",\"\",AJ127)","v":""},null,{"$f":"IF(AL127=\"\",\"\",AL127)","v":""},null,null,{"$f":"IF(AO127=\"\",\"\",AO127)","v":""},null,null,{"$f":"IF(AR127=\"\",\"\",AR127)","v":""},null,null,null,null,{"$f":"IF(AW127=\"\",\"\",AW127)","v":""}]
[]
[]
[]
[null,null,null,null,null,null,null,null,null,null,null,null,null,null,null,null,null,{"$f":"IF(R131=\"\",\"\",R131)","v":""},null,{"$f":"IF(T131=\"\",\"\",T131)","v":""},null,{"$f":"IF(V131=\"\",\"\",V131)","v":""},null,{"$f":"IF(X131=\"\",\"\",X131)","v":""},null,{"$f":"IF(Z131=\"\",\"\",Z131)","v":""},null,{"$f":"IF(AB131=\"\",\"\",AB131)","v":""},null,{"$f":"IF(AD131=\"\",\"\",AD131)","v":""},null,{"$f":"IF(AF131=\"\",\"\",AF131)","v":""},null,{"$f":"IF(AH131=\"\",\"\",AH131)","v":""},null,{"$f":"IF(AJ131=\"\",\"\",AJ131)","v":""},null,{"$f":"IF(AL131=\"\",\"\",AL131)","v":""},null,null,{"$f":"IF(AO131=\"\",\"\",AO131)","v":""},null,null,{"$f":"IF(AR131=\"\",\"\",AR131)","v":""},null,null,null,null,{"$f":"IF(AW131=\"\",\"\",AW131)","v":""}]
[]
[]
[]
[null,null,null,null,null,null,null,null,null,null,null,null,null,null,null,null,null,{"$f":"IF(R135=\"\",\"\",R135)","v":""},null,{"$f":"IF(T135=\"\",\"\",T135)","v":""},null,{"$f":"IF(V135=\"\",\"\",V135)","v":""},null,{"$f":"IF(X135=\"\",\"\",X135)","v":""},null,{"$f":"IF(Z135=\"\",\"\",Z135)","v":""},null,{"$f":"IF(AB135=\"\",\"\",AB135)","v":""},null,{"$f":"IF(AD135=\"\",\"\",AD135)","v":""},null,{"$f":"IF(AF135=\"\",\"\",AF135)","v":""},null,{"$f":"IF(AH135=\"\",\"\",AH135)","v":""},null,{"$f":"IF(AJ135=\"\",\"\",AJ135)","v":""},null,{"$f":"IF(AL135=\"\",\"\",AL135)","v":""},null,null,{"$f":"IF(AO135=\"\",\"\",AO135)","v":""},null,null,{"$f":"IF(AR135=\"\",\"\",AR135)","v":""},null,null,null,null,{"$f":"IF(AW135=\"\",\"\",AW135)","v":""}]
[]
[]
[]
[null,null,null,null,null,null,null,null,null,null,null,null,null,null,null,null,null,{"$f":"IF(R139=\"\",\"\",R139)","v":""},null,{"$f":"IF(T139=\"\",\"\",T139)","v":""},null,{"$f":"IF(V139=\"\",\"\",V139)","v":""},null,{"$f":"IF(X139=\"\",\"\",X139)","v":""},null,{"$f":"IF(Z139=\"\",\"\",Z139)","v":""},null,{"$f":"IF(AB139=\"\",\"\",AB139)","v":""},null,{"$f":"IF(AD139=\"\",\"\",AD139)","v":""},null,{"$f":"IF(AF139=\"\",\"\",AF139)","v":""},null,{"$f":"IF(AH139=\"\",\"\",AH139)","v":""},null,{"$f":"IF(AJ139=\"\",\"\",AJ139)","v":""},null,{"$f":"IF(AL139=\"\",\"\",AL139)","v":""},null,null,{"$f":"IF(AO139=\"\",\"\",AO139)","v":""},null,null,{"$f":"IF(AR139=\"\",\"\",AR139)","v":""},null,null,null,null,{"$f":"IF(AW139=\"\",\"\",AW139)","v":""}]
[]
[]
[]
[null,null,null,null,null,null,null,null,null,null,null,null,null,null,null,null,null,{"$f":"IF(R143=\"\",\"\",R143)","v":""},null,{"$f":"IF(T143=\"\",\"\",T143)","v":""},null,{"$f":"IF(V143=\"\",\"\",V143)","v":""},null,{"$f":"IF(X143=\"\",\"\",X143)","v":""},null,{"$f":"IF(Z143=\"\",\"\",Z143)","v":""},null,{"$f":"IF(AB143=\"\",\"\",AB143)","v":""},null,{"$f":"IF(AD143=\"\",\"\",AD143)","v":""},null,{"$f":"IF(AF143=\"\",\"\",AF143)","v":""},null,{"$f":"IF(AH143=\"\",\"\",AH143)","v":""},null,{"$f":"IF(AJ143=\"\",\"\",AJ143)","v":""},null,{"$f":"IF(AL143=\"\",\"\",AL143)","v":""},null,null,{"$f":"IF(AO143=\"\",\"\",AO143)","v":""},null,null,{"$f":"IF(AR143=\"\",\"\",AR143)","v":""},null,null,null,null,{"$f":"IF(AW143=\"\",\"\",AW143)","v":""}]
[]
[]
[]
[null,null,null,null,null,null,null,null,null,null,null,null,null,null,null,null,null,{"$f":"IF(R147=\"\",\"\",R147)","v":""},null,{"$f":"IF(T147=\"\",\"\",T147)","v":""},null,{"$f":"IF(V147=\"\",\"\",V147)","v":""},null,{"$f":"IF(X147=\"\",\"\",X147)","v":""},null,{"$f":"IF(Z147=\"\",\"\",Z147)","v":""},null,{"$f":"IF(AB147=\"\",\"\",AB147)","v":""},null,{"$f":"IF(AD147=\"\",\"\",AD147)","v":""},null,{"$f":"IF(AF147=\"\",\"\",AF147)","v":""},null,{"$f":"IF(AH147=\"\",\"\",AH147)","v":""},null,{"$f":"IF(AJ147=\"\",\"\",AJ147)","v":""},null,{"$f":"IF(AL147=\"\",\"\",AL147)","v":""},null,null,{"$f":"IF(AO147=\"\",\"\",AO147)","v":""},null,null,{"$f":"IF(AR147=\"\",\"\",AR147)","v":""},null,null,null,null,{"$f":"IF(AW147=\"\",\"\",AW147)","v":""}]
[]
[]
[]
[null,null,null,null,null,null,null,null,null,null,null,null,null,null,null,null,null,{"$f":"IF(R151=\"\",\"\",R151)","v":""},null,{"$f":"IF(T151=\"\",\"\",T151)","v":""},null,{"$f":"IF(V151=\"\",\"\",V151)","v":""},null,{"$f":"IF(X151=\"\",\"\",X151)","v":""},null,{"$f":"IF(Z151=\"\",\"\",Z151)","v":""},null,{"$f":"IF(AB151=\"\",\"\",AB151)","v":""},null,{"$f":"IF(AD151=\"\",\"\",AD151)","v":""},null,{"$f":"IF(AF151=\"\",\"\",AF151)","v":""},null,{"$f":"IF(AH151=\"\",\"\",AH151)","v":""},null,{"$f":"IF(AJ151=\"\",\"\",AJ151)","v":""},null,{"$f":"IF(AL151=\"\",\"\",AL151)","v":""},null,null,{"$f":"IF(AO151=\"\",\"\",AO151)","v":""},null,null,{"$f":"IF(AR151=\"\",\"\",AR151)","v":""},null,null,null,null,{"$f":"IF(AW151=\"\",\"\",AW151)","v":""}]
[]
[]
[]
[null,null,null,null,null,null,null,null,null,null,null,null,null,null,null,null,null,{"$f":"IF(R155=\"\",\"\",R155)","v":""},null,{"$f":"IF(T155=\"\",\"\",T155)","v":""},null,{"$f":"IF(V155=\"\",\"\",V155)","v":""},null,{"$f":"IF(X155=\"\",\"\",X155)","v":""},null,{"$f":"IF(Z155=\"\",\"\",Z155)","v":""},null,{"$f":"IF(AB155=\"\",\"\",AB155)","v":""},null,{"$f":"IF(AD155=\"\",\"\",AD155)","v":""},null,{"$f":"IF(AF155=\"\",\"\",AF155)","v":""},null,{"$f":"IF(AH155=\"\",\"\",AH155)","v":""},null,{"$f":"IF(AJ155=\"\",\"\",AJ155)","v":""},null,{"$f":"IF(AL155=\"\",\"\",AL155)","v":""},null,null,{"$f":"IF(AO155=\"\",\"\",AO155)","v":""},null,null,{"$f":"IF(AR155=\"\",\"\",AR155)","v":""},null,null,null,null,{"$f":"IF(AW155=\"\",\"\",AW155)","v":""}]
[]
[]
[]
[null,null,null,null,null,null,null,null,null,null,null,null,null,null,null,null,null,{"$f":"IF(R159=\"\",\"\",R159)","v":""},null,{"$f":"IF(T159=\"\",\"\",T159)","v":""},null,{"$f":"IF(V159=\"\",\"\",V159)","v":""},null,{"$f":"IF(X159=\"\",\"\",X159)","v":""},null,{"$f":"IF(Z159=\"\",\"\",Z159)","v":""},null,{"$f":"IF(AB159=\"\",\"\",AB159)","v":""},null,{"$f":"IF(AD159=\"\",\"\",AD159)","v":""},null,{"$f":"IF(AF159=\"\",\"\",AF159)","v":""},null,{"$f":"IF(AH159=\"\",\"\",AH159)","v":""},null,{"$f":"IF(AJ159=\"\",\"\",AJ159)","v":""},null,{"$f":"IF(AL159=\"\",\"\",AL159)","v":""},null,null,{"$f":"IF(AO159=\"\",\"\",AO159)","v":""},null,null,{"$f":"IF(AR159=\"\",\"\",AR159)","v":""},null,null,null,null,{"$f":"IF(AW159=\"\",\"\",AW159)","v":""}]
[]
[]
[]
[null,null,null,null,null,null,null,null,null,null,null,null,null,null,null,null,null,{"$f":"IF(R163=\"\",\"\",R163)","v":""},null,{"$f":"IF(T163=\"\",\"\",T163)","v":""},null,{"$f":"IF(V163=\"\",\"\",V163)","v":""},null,{"$f":"IF(X163=\"\",\"\",X163)","v":""},null,{"$f":"IF(Z163=\"\",\"\",Z163)","v":""},null,{"$f":"IF(AB163=\"\",\"\",AB163)","v":""},null,{"$f":"IF(AD163=\"\",\"\",AD163)","v":""},null,{"$f":"IF(AF163=\"\",\"\",AF163)","v":""},null,{"$f":"IF(AH163=\"\",\"\",AH163)","v":""},null,{"$f":"IF(AJ163=\"\",\"\",AJ163)","v":""},null,{"$f":"IF(AL163=\"\",\"\",AL163)","v":""},null,null,{"$f":"IF(AO163=\"\",\"\",AO163)","v":""},null,null,{"$f":"IF(AR163=\"\",\"\",AR163)","v":""},null,null,null,null,{"$f":"IF(AW163=\"\",\"\",AW163)","v":""}]
[]
[]
[]
[null,null,null,null,null,null,null,null,null,null,null,null,null,null,null,null,null,{"$f":"IF(R167=\"\",\"\",R167)","v":""},null,{"$f":"IF(T167=\"\",\"\",T167)","v":""},null,{"$f":"IF(V167=\"\",\"\",V167)","v":""},null,{"$f":"IF(X167=\"\",\"\",X167)","v":""},null,{"$f":"IF(Z167=\"\",\"\",Z167)","v":""},null,{"$f":"IF(AB167=\"\",\"\",AB167)","v":""},null,{"$f":"IF(AD167=\"\",\"\",AD167)","v":""},null,{"$f":"IF(AF167=\"\",\"\",AF167)","v":""},null,{"$f":"IF(AH167=\"\",\"\",AH167)","v":""},null,{"$f":"IF(AJ167=\"\",\"\",AJ167)","v":""},null,{"$f":"IF(AL167=\"\",\"\",AL167)","v":""},null,null,{"$f":"IF(AO167=\"\",\"\",AO167)","v":""},null,null,{"$f":"IF(AR167=\"\",\"\",AR167)","v":""},null,null,null,null,{"$f":"IF(AW167=\"\",\"\",AW167)","v":""}]
[]
[]
[]
[null,null,null,null,null,null,null,null,null,null,null,null,null,null,null,null,null,{"$f":"IF(R171=\"\",\"\",R171)","v":""},null,{"$f":"IF(T171=\"\",\"\",T171)","v":""},null,{"$f":"IF(V171=\"\",\"\",V171)","v":""},null,{"$f":"IF(X171=\"\",\"\",X171)","v":""},null,{"$f":"IF(Z171=\"\",\"\",Z171)","v":""},null,{"$f":"IF(AB171=\"\",\"\",AB171)","v":""},null,{"$f":"IF(AD171=\"\",\"\",AD171)","v":""},null,{"$f":"IF(AF171=\"\",\"\",AF171)","v":""},null,{"$f":"IF(AH171=\"\",\"\",AH171)","v":""},null,{"$f":"IF(AJ171=\"\",\"\",AJ171)","v":""},null,{"$f":"IF(AL171=\"\",\"\",AL171)","v":""},null,null,{"$f":"IF(AO171=\"\",\"\",AO171)","v":""},null,null,{"$f":"IF(AR171=\"\",\"\",AR171)","v":""},null,null,null,null,{"$f":"IF(AW171=\"\",\"\",AW171)","v":""}]
[]
[]
[]
[null,null,null,null,null,null,null,null,null,null,null,null,null,null,null,null,null,null,null,null,null,null,null,null,null,null,null,null,null,null,null,null,null,null,null,null,null,"値引き等",null,null,null,null,null,null,null,null,null,null,{"$f":"IF(AW175=\"\",\"\",AW175)","v":""}]
[]
[]
[]
[]
[null,null,null,null,null,null,null,null,null,null,null,null,null,null,null,null,null,null,null,null,null,null,null,null,null,null,null,null,null,null,null,null,null,null,null,null,null,{"$f":"\"合計(\" & IF(税処理=2,\"税込\",\"税抜\")&\")\"","v":"合計(税抜)"},null,null,null,null,null,null,null,null,null,null,{"$f":"IF(AW180=\"\",\"\",AW180)","v":""}]

{"sheet":"細2-4","index":18,"n_rows":272,"n_cols":53,"rows_kept":272,"cut":false,"hidden":false,"merged":[[266,37,269,47],[266,48,269,54],[258,48,261,54],[262,17,265,18],[262,19,265,20],[262,21,265,36],[262,37,265,39],[258,43,261,47],[271,37,274,47],[271,48,274,54],[262,40,265,42],[262,43,265,47],[262,48,265,54],[258,17,261,18],[258,19,261,20],[258,21,261,36],[258,37,261,39],[258,40,261,42],[250,48,253,54],[254,17,257,18],[254,19,257,20],[254,21,257,36],[254,37,257,39],[254,40,257,42],[254,43,257,47],[254,48,257,54],[250,17,253,18],[250,19,253,20],[250,21,253,36],[250,37,253,39],[250,40,253,42],[250,43,253,47],[242,48,245,54],[246,17,249,18],[246,19,249,20],[246,21,249,36],[246,37,249,39],[246,40,249,42],[246,43,249,47],[246,48,249,54],[242,17,245,18],[242,19,245,20],[242,21,245,36],[242,37,245,39],[242,40,245,42],[242,43,245,47],[234,48,237,54],[238,17,241,18],[238,19,241,20],[238,21,241,36],[238,37,241,39],[238,40,241,42],[238,43,241,47],[238,48,241,54],[234,17,237,18],[234,19,237,20],[234,21,237,36],[234,37,237,39],[234,40,237,42],[234,43,237,47],[222,17,225,18],[222,19,225,20],[222,21,225,36],[222,37,225,39],[222,40,225,42],[222,43,225,47],[222,48,225,54],[226,48,229,54],[230,17,233,18],[230,19,233,20],[230,21,233,36],[230,37,233,39],[230,40,233,42],[230,43,233,47],[230,48,233,54],[226,17,229,18],[226,19,229,20],[226,21,229,36],[226,37,229,39],[226,40,229,42],[226,43,229,47],[218,1,221,5],[218,6,221,15],[218,17,221,18],[218,19,221,20],[218,21,221,36],[218,37,221,39],[218,40,221,42],[218,43,221,47],[218,48,221,54],[210,40,213,42],[210,43,213,47],[210,48,213,54],[214,1,217,3],[214,4,217,5],[214,6,217,15],[214,17,217,18],[214,19,217,20],[214,21,217,36],[214,37,217,39],[210,1,213,5],[210,6,213,15],[210,17,213,18],[210,19,213,20],[210,21,213,36],[210,37,213,39],[214,40,217,42],[214,43,217,47],[214,48,217,54],[206,1,209,5],[206,6,209,15],[206,17,209,18],[206,19,209,20],[206,21,209,36],[206,37,209,39],[206,40,209,42],[206,43,209,47],[206,48,209,54],[198,43,201,47],[198,48,201,54],[202,1,205,5],[202,6,205,15],[202,17,205,18],[202,19,205,20],[202,21,205,36],[202,37,205,39],[202,40,205,42],[202,43,205,47],[198,1,201,5],[198,6,201,15],[198,17,201,20],[198,21,201,36],[198,37,201,39],[198,40,201,42],[202,48,205,54],[187,52,189,54],[192,1,195,5],[192,6,195,11],[192,12,195,15],[192,16,195,35],[192,37,195,40],[192,41,195,54],[185,19,188,32],[186,1,189,11],[186,12,189,13],[187,41,189,45],[187,46,189,48],[187,49,189,51],[174,37,177,47],[174,48,177,54],[179,37,182,47],[179,48,182,54],[170,17,173,18],[170,19,173,20],[170,21,173,36],[170,37,173,39],[170,40,173,42],[170,43,173,47],[170,48,173,54],[166,17,169,18],[166,19,169,20],[162,43,165,47],[162,48,165,54],[158,17,161,18],[158,19,161,20],[158,21,161,36],[158,37,161,39],[158,40,161,42],[162,17,165,18],[162,19,165,20],[162,21,165,36],[162,37,165,39],[162,40,165,42],[166,48,169,54],[158,43,161,47],[166,21,169,36],[166,37,169,39],[166,40,169,42],[166,43,169,47],[158,48,161,54],[154,48,157,54],[150,17,153,18],[150,19,153,20],[146,43,149,47],[146,48,149,54],[142,17,145,18],[142,19,145,20],[142,21,145,36],[142,37,145,39],[142,40,145,42],[154,17,157,18],[154,19,157,20],[154,21,157,36],[154,37,157,39],[154,40,157,42],[154,43,157,47],[146,17,149,18],[146,19,149,20],[146,21,149,36],[146,37,149,39],[146,40,149,42],[150,48,153,54],[142,43,145,47],[150,21,153,36],[150,37,153,39],[150,40,153,42],[150,43,153,47],[142,48,145,54],[130,48,133,54],[134,48,137,54],[130,17,133,18],[130,19,133,20],[130,21,133,36],[130,37,133,39],[130,40,133,42],[130,43,133,47],[138,48,141,54],[134,17,137,18],[134,19,137,20],[134,21,137,36],[134,37,137,39],[134,40,137,42],[134,43,137,47],[138,17,141,18],[138,19,141,20],[138,21,141,36],[138,37,141,39],[138,40,141,42],[138,43,141,47],[126,1,129,5],[126,6,129,15],[126,17,129,18],[126,19,129,20],[126,21,129,36],[126,37,129,39],[126,40,129,42],[126,43,129,47],[126,48,129,54],[118,40,121,42],[118,43,121,47],[118,48,121,54],[122,1,125,3],[122,4,125,5],[122,6,125,15],[122,17,125,18],[122,19,125,20],[122,21,125,36],[122,37,125,39],[118,1,121,5],[118,6,121,15],[118,17,121,18],[118,19,121,20],[118,21,121,36],[118,37,121,39],[122,40,125,42],[122,43,125,47],[122,48,125,54],[114,1,117,5],[114,6,117,15],[114,17,117,18],[114,19,117,20],[114,21,117,36],[114,37,117,39],[114,40,117,42],[114,43,117,47],[114,48,117,54],[106,43,109,47],[106,48,109,54],[110,1,113,5],[110,6,113,15],[110,17,113,18],[110,19,113,20],[110,21,113,36],[110,37,113,39],[110,40,113,42],[110,43,113,47],[106,1,109,5],[106,6,109,15],[106,17,109,20],[106,21,109,36],[106,37,109,39],[106,40,109,42],[110,48,113,54],[95,49,97,51],[95,52,97,54],[100,1,103,5],[100,6,103,11],[100,12,103,15],[100,16,103,35],[100,37,103,40],[100,41,103,54],[93,19,96,32],[94,1,97,11],[94,12,97,13],[95,41,97,45],[83,1,84,4],[83,5,84,10],[87,37,90,47],[83,11,84,16],[83,17,84,25],[95,46,97,48],[85,1,90,4],[85,5,90,10],[85,11,90,16],[85,17,90,25],[78,43,81,47],[83,26,84,30],[83,31,84,35],[78,17,81,18],[78,19,81,20],[78,21,81,36],[85,26,90,30],[85,31,90,35],[74,48,77,54],[87,48,90,54],[78,48,81,54],[82,37,85,47],[82,48,85,54],[78,37,81,39],[78,40,81,42],[74,17,77,18],[74,19,77,20],[74,21,77,36],[74,37,77,39],[74,40,77,42],[74,43,77,47],[66,48,69,54],[70,17,73,18],[70,19,73,20],[70,21,73,36],[70,37,73,39],[70,40,73,42],[70,43,73,47],[70,48,73,54],[66,17,69,18],[66,19,69,20],[66,21,69,36],[66,37,69,39],[66,40,69,42],[66,43,69,47],[58,48,61,54],[62,17,65,18],[62,19,65,20],[62,21,65,36],[62,37,65,39],[62,40,65,42],[62,43,65,47],[62,48,65,54],[58,17,61,18],[58,19,61,20],[58,21,61,36],[58,37,61,39],[58,40,61,42],[58,43,61,47],[50,48,53,54],[54,17,57,18],[54,19,57,20],[54,21,57,36],[54,37,57,39],[54,40,57,42],[54,43,57,47],[54,48,57,54],[50,17,53,18],[50,19,53,20],[50,21,53,36],[50,37,53,39],[50,40,53,42],[50,43,53,47],[38,17,41,18],[38,19,41,20],[38,21,41,36],[38,37,41,39],[38,40,41,42],[38,43,41,47],[38,48,41,54],[42,48,45,54],[46,17,49,18],[46,19,49,20],[46,21,49,36],[46,37,49,39],[46,40,49,42],[46,43,49,47],[46,48,49,54],[42,17,45,18],[42,19,45,20],[42,21,45,36],[42,37,45,39],[42,40,45,42],[42,43,45,47],[34,1,37,5],[34,6,37,15],[34,17,37,18],[34,19,37,20],[34,21,37,36],[34,37,37,39],[34,40,37,42],[34,43,37,47],[34,48,37,54],[26,40,29,42],[26,43,29,47],[26,48,29,54],[30,1,33,3],[30,4,33,5],[30,6,33,15],[30,17,33,18],[30,19,33,20],[30,21,33,36],[30,37,33,39],[26,1,29,5],[26,6,29,15],[26,17,29,18],[26,19,29,20],[26,21,29,36],[26,37,29,39],[30,40,33,42],[30,43,33,47],[30,48,33,54],[22,1,25,5],[22,6,25,15],[22,17,25,18],[22,19,25,20],[22,21,25,36],[22,37,25,39],[22,40,25,42],[22,43,25,47],[22,48,25,54],[14,43,17,47],[14,48,17,54],[18,1,21,5],[18,6,21,15],[18,17,21,18],[18,19,21,20],[18,21,21,36],[18,37,21,39],[18,40,21,42],[18,43,21,47],[14,1,17,5],[14,6,17,15],[14,17,17,20],[14,21,17,36],[14,37,17,39],[14,40,17,42],[18,48,21,54],[3,52,5,54],[8,37,11,40],[8,41,11,54],[3,41,5,45],[1,19,4,32],[2,1,5,11],[2,12,5,13],[8,1,11,5],[8,6,11,11],[8,12,11,15],[8,16,11,35],[3,46,5,48],[3,49,5,51]]}
[]
[null,null,null,null,null,null,null,null,null,null,null,null,null,null,null,null,null,null,null,"請求書明細書 (正)"]
[null,"株 式 会 社 種 村 建 設",null,null,null,null,null,null,null,null,null,null,"御中"]
[null,null,null,null,null,null,null,null,null,null,null,null,null,null,null,null,null,null,null,null,null,null,null,null,null,null,null,null,null,null,null,null,null,null,null,null,null,null,null,null,null,"請求年月日",null,null,null,null,{"$f":"年","v":23},null,null,{"$f":"月","v":5},null,null,{"$f":"日","v":31}]
[]
[]
[]
[]
[null,"工事番号",null,null,null,null,null,null,null,null,null,null,"工事名",null,null,null,null,null,null,null,null,null,null,null,null,null,null,null,null,null,null,null,null,null,null,null,null,"業者名",null,null,null,{"$f":"社名","v":"例：㈱種村建設"}]
[]
[]
[]
[]
[]
[null,"注文番号",null,null,null,null,null,null,null,null,null,null,null,null,null,null,null,"月　日",null,null,null,"摘要･品名",null,null,null,null,null,null,null,null,null,null,null,null,null,null,null,"数 量",null,null,"単位",null,null,"単価",null,null,null,null,{"$f":"\"金額(\" & IF(税処理=2,\"税込\",\"税抜\")&\")\"","v":"金額(税抜)"}]
[]
[]
[]
[null,"契約金額",null,null,null,null,null,null,null,null,null,null,null,null,null,null,null,null,null,null,null,null,null,null,null,null,null,null,null,null,null,null,null,null,null,null,null,null,null,null,null,null,null,null,null,null,null,null,{"$f":"IF(V19=\"\",\"\",AL19*AR19)","v":""}]
[]
[]
[]
[null,"増減額",null,null,null,null,null,null,null,null,null,null,null,null,null,null,null,null,null,null,null,null,null,null,null,null,null,null,null,null,null,null,null,null,null,null,null,null,null,null,null,null,null,null,null,null,null,null,{"$f":"IF(V23=\"\",\"\",AL23*AR23)","v":""}]
[]
[]
[]
[null,"前回までの\n請求額",null,null,null,null,null,null,null,null,null,null,null,null,null,null,null,null,null,null,null,null,null,null,null,null,null,null,null,null,null,null,null,null,null,null,null,null,null,null,null,null,null,null,null,null,null,null,{"$f":"IF(V27=\"\",\"\",AL27*AR27)","v":""}]
[]
[]
[]
[null,"今回\n請求額",null,null,null,null,null,null,null,null,null,null,null,null,null,null,null,null,null,null,null,null,null,null,null,null,null,null,null,null,null,null,null,null,null,null,null,null,null,null,null,null,null,null,null,null,null,null,{"$f":"IF(V31=\"\",\"\",AL31*AR31)","v":""}]
[]
[]
[]
[null,"差引残高",null,null,null,null,{"$f":"IF(G19=\"\",\"\",G19+G23-G27-G31)","v":""},null,null,null,null,null,null,null,null,null,null,null,null,null,null,null,null,null,null,null,null,null,null,null,null,null,null,null,null,null,null,null,null,null,null,null,null,null,null,null,null,null,{"$f":"IF(V35=\"\",\"\",AL35*AR35)","v":""}]
[]
[]
[]
[null,null,null,null,null,null,null,null,null,null,null,null,null,null,null,null,null,null,null,null,null,null,null,null,null,null,null,null,null,null,null,null,null,null,null,null,null,null,null,null,null,null,null,null,null,null,null,null,{"$f":"IF(V39=\"\",\"\",AL39*AR39)","v":""}]
[]
[]
[]
[null,null,null,null,null,null,null,null,null,null,null,null,null,null,null,null,null,null,null,null,null,null,null,null,null,null,null,null,null,null,null,null,null,null,null,null,null,null,null,null,null,null,null,null,null,null,null,null,{"$f":"IF(V43=\"\",\"\",AL43*AR43)","v":""}]
[]
[]
[]
[null,null,null,null,null,null,null,null,null,null,null,null,null,null,null,null,null,null,null,null,null,null,null,null,null,null,null,null,null,null,null,null,null,null,null,null,null,null,null,null,null,null,null,null,null,null,null,null,{"$f":"IF(V47=\"\",\"\",AL47*AR47)","v":""}]
[]
[]
[]
[null,null,null,null,null,null,null,null,null,null,null,null,null,null,null,null,null,null,null,null,null,null,null,null,null,null,null,null,null,null,null,null,null,null,null,null,null,null,null,null,null,null,null,null,null,null,null,null,{"$f":"IF(V51=\"\",\"\",AL51*AR51)","v":""}]
[]
[]
[]
[null,null,null,null,null,null,null,null,null,null,null,null,null,null,null,null,null,null,null,null,null,null,null,null,null,null,null,null,null,null,null,null,null,null,null,null,null,null,null,null,null,null,null,null,null,null,null,null,{"$f":"IF(V55=\"\",\"\",AL55*AR55)","v":""}]
[]
[]
[]
[null,null,null,null,null,null,null,null,null,null,null,null,null,null,null,null,null,null,null,null,null,null,null,null,null,null,null,null,null,null,null,null,null,null,null,null,null,null,null,null,null,null,null,null,null,null,null,null,{"$f":"IF(V59=\"\",\"\",AL59*AR59)","v":""}]
[]
[]
[]
[null,null,null,null,null,null,null,null,null,null,null,null,null,null,null,null,null,null,null,null,null,null,null,null,null,null,null,null,null,null,null,null,null,null,null,null,null,null,null,null,null,null,null,null,null,null,null,null,{"$f":"IF(V63=\"\",\"\",AL63*AR63)","v":""}]
[]
[]
[]
[null,null,null,null,null,null,null,null,null,null,null,null,null,null,null,null,null,null,null,null,null,null,null,null,null,null,null,null,null,null,null,null,null,null,null,null,null,null,null,null,null,null,null,null,null,null,null,null,{"$f":"IF(V67=\"\",\"\",AL67*AR67)","v":""}]
[]
[]
[]
[null,null,null,null,null,null,null,null,null,null,null,null,null,null,null,null,null,null,null,null,null,null,null,null,null,null,null,null,null,null,null,null,null,null,null,null,null,null,null,null,null,null,null,null,null,null,null,null,{"$f":"IF(V71=\"\",\"\",AL71*AR71)","v":""}]
[]
[]
[]
[null,null,null,null,null,null,null,null,null,null,null,null,null,null,null,null,null,null,null,null,null,null,null,null,null,null,null,null,null,null,null,null,null,null,null,null,null,null,null,null,null,null,null,null,null,null,null,null,{"$f":"IF(V75=\"\",\"\",AL75*AR75)","v":""}]
[]
[]
[]
[null,null,null,null,null,null,null,null,null,null,null,null,null,null,null,null,null,null,null,null,null,null,null,null,null,null,null,null,null,null,null,null,null,null,null,null,null,null,null,null,null,null,null,null,null,null,null,null,{"$f":"IF(V79=\"\",\"\",AL79*AR79)","v":""}]
[]
[]
[]
[null,null,null,null,null,null,null,null,null,null,null,null,null,null,null,null,null,null,null,null,null,null,null,null,null,null,null,null,null,null,null,null,null,null,null,null,null,"値引き等"]
[null,"社長",null,null,null,"専務",null,null,null,null,null,"常務",null,null,null,null,null,"部長･工場長",null,null,null,null,null,null,null,null,"担当者",null,null,null,null,"受付"]
[]
[]
[]
[null,null,null,null,null,null,null,null,null,null,null,null,null,null,null,null,null,null,null,null,null,null,null,null,null,null,null,null,null,null,null,null,null,null,null,null,null,{"$f":"\"合計(\" & IF(税処理=2,\"税込\",\"税抜\")&\")\"","v":"合計(税抜)"},null,null,null,null,null,null,null,null,null,null,{"$f":"IF(AW19=\"\",\"\",SUM(AW19:AW79)+AW83)","v":""}]
[]
[]
[]
[]
[]
[null,null,null,null,null,null,null,null,null,null,null,null,null,null,null,null,null,null,null,"請求明細書 (現場控)"]
[null,"株 式 会 社 種 村 建 設",null,null,null,null,null,null,null,null,null,null,"御中"]
[null,null,null,null,null,null,null,null,null,null,null,null,null,null,null,null,null,null,null,null,null,null,null,null,null,null,null,null,null,null,null,null,null,null,null,null,null,null,null,null,null,"請求年月日",null,null,null,null,{"$f":"IF(AU4=\"\",\"\",AU4)","v":23},null,null,{"$f":"IF(AX4=\"\",\"\",AX4)","v":5},null,null,{"$f":"IF(BA4=\"\",\"\",BA4)","v":31}]
[]
[]
[]
[]
[null,"工事番号",null,null,null,null,{"$f":"IF(G9=\"\",\"\",G9)","v":""},null,null,null,null,null,"工事名",null,null,null,{"$f":"IF(Q9=\"\",\"\",Q9)","v":""},null,null,null,null,null,null,null,null,null,null,null,null,null,null,null,null,null,null,null,null,"業者名",null,null,null,{"$f":"IF(AP9=\"\",\"\",AP9)","v":"例：㈱種村建設"}]
[]
[]
[]
[]
[]
[null,"注文番号",null,null,null,null,{"$f":"IF(G15=\"\",\"\",G15)","v":""},null,null,null,null,null,null,null,null,null,null,"月　日",null,null,null,"摘要･品名",null,null,null,null,null,null,null,null,null,null,null,null,null,null,null,"数 量",null,null,"単位",null,null,"単価",null,null,null,null,{"$f":"\"金額(\" & IF(税処理=2,\"税込\",\"税抜\")&\")\"","v":"金額(税抜)"}]
[]
[]
[]
[null,"契約金額",null,null,null,null,{"$f":"IF(G19=\"\",\"\",G19)","v":""},null,null,null,null,null,null,null,null,null,null,{"$f":"IF(R19=\"\",\"\",R19)","v":""},null,{"$f":"IF(T19=\"\",\"\",T19)","v":""},null,{"$f":"IF(V19=\"\",\"\",V19)","v":""},null,{"$f":"IF(X19=\"\",\"\",X19)","v":""},null,{"$f":"IF(Z19=\"\",\"\",Z19)","v":""},null,{"$f":"IF(AB19=\"\",\"\",AB19)","v":""},null,{"$f":"IF(AD19=\"\",\"\",AD19)","v":""},null,{"$f":"IF(AF19=\"\",\"\",AF19)","v":""},null,{"$f":"IF(AH19=\"\",\"\",AH19)","v":""},null,{"$f":"IF(AJ19=\"\",\"\",AJ19)","v":""},null,{"$f":"IF(AL19=\"\",\"\",AL19)","v":""},null,null,{"$f":"IF(AO19=\"\",\"\",AO19)","v":""},null,null,{"$f":"IF(AR19=\"\",\"\",AR19)","v":""},null,null,null,null,{"$f":"IF(AW19=\"\",\"\",AW19)","v":""}]
[]
[]
[]
[null,"増減額",null,null,null,null,{"$f":"IF(G23=\"\",\"\",G23)","v":""},null,null,null,null,null,null,null,null,null,null,{"$f":"IF(R23=\"\",\"\",R23)","v":""},null,{"$f":"IF(T23=\"\",\"\",T23)","v":""},null,{"$f":"IF(V23=\"\",\"\",V23)","v":""},null,{"$f":"IF(X23=\"\",\"\",X23)","v":""},null,{"$f":"IF(Z23=\"\",\"\",Z23)","v":""},null,{"$f":"IF(AB23=\"\",\"\",AB23)","v":""},null,{"$f":"IF(AD23=\"\",\"\",AD23)","v":""},null,{"$f":"IF(AF23=\"\",\"\",AF23)","v":""},null,{"$f":"IF(AH23=\"\",\"\",AH23)","v":""},null,{"$f":"IF(AJ23=\"\",\"\",AJ23)","v":""},null,{"$f":"IF(AL23=\"\",\"\",AL23)","v":""},null,null,{"$f":"IF(AO23=\"\",\"\",AO23)","v":""},null,null,{"$f":"IF(AR23=\"\",\"\",AR23)","v":""},null,null,null,null,{"$f":"IF(AW23=\"\",\"\",AW23)","v":""}]
[]
[]
[]
[null,"前回までの\n請求額",null,null,null,null,{"$f":"IF(G27=\"\",\"\",G27)","v":""},null,null,null,null,null,null,null,null,null,null,{"$f":"IF(R27=\"\",\"\",R27)","v":""},null,{"$f":"IF(T27=\"\",\"\",T27)","v":""},null,{"$f":"IF(V27=\"\",\"\",V27)","v":""},null,{"$f":"IF(X27=\"\",\"\",X27)","v":""},null,{"$f":"IF(Z27=\"\",\"\",Z27)","v":""},null,{"$f":"IF(AB27=\"\",\"\",AB27)","v":""},null,{"$f":"IF(AD27=\"\",\"\",AD27)","v":""},null,{"$f":"IF(AF27=\"\",\"\",AF27)","v":""},null,{"$f":"IF(AH27=\"\",\"\",AH27)","v":""},null,{"$f":"IF(AJ27=\"\",\"\",AJ27)","v":""},null,{"$f":"IF(AL27=\"\",\"\",AL27)","v":""},null,null,{"$f":"IF(AO27=\"\",\"\",AO27)","v":""},null,null,{"$f":"IF(AR27=\"\",\"\",AR27)","v":""},null,null,null,null,{"$f":"IF(AW27=\"\",\"\",AW27)","v":""}]
[]
[]
[]
[null,"今回\n請求額",null,null,{"$f":"IF(E31=\"\",\"\",E31)","v":""},null,{"$f":"IF(G31=\"\",\"\",G31)","v":""},null,null,null,null,null,null,null,null,null,null,{"$f":"IF(R31=\"\",\"\",R31)","v":""},null,{"$f":"IF(T31=\"\",\"\",T31)","v":""},null,{"$f":"IF(V31=\"\",\"\",V31)","v":""},null,{"$f":"IF(X31=\"\",\"\",X31)","v":""},null,{"$f":"IF(Z31=\"\",\"\",Z31)","v":""},null,{"$f":"IF(AB31=\"\",\"\",AB31)","v":""},null,{"$f":"IF(AD31=\"\",\"\",AD31)","v":""},null,{"$f":"IF(AF31=\"\",\"\",AF31)","v":""},null,{"$f":"IF(AH31=\"\",\"\",AH31)","v":""},null,{"$f":"IF(AJ31=\"\",\"\",AJ31)","v":""},null,{"$f":"IF(AL31=\"\",\"\",AL31)","v":""},null,null,{"$f":"IF(AO31=\"\",\"\",AO31)","v":""},null,null,{"$f":"IF(AR31=\"\",\"\",AR31)","v":""},null,null,null,null,{"$f":"IF(AW31=\"\",\"\",AW31)","v":""}]
[]
[]
[]
[null,"差引残高",null,null,null,null,{"$f":"IF(G111=\"\",\"\",G111+G115-G119-G123)","v":""},null,null,null,null,null,null,null,null,null,null,{"$f":"IF(R35=\"\",\"\",R35)","v":""},null,{"$f":"IF(T35=\"\",\"\",T35)","v":""},null,{"$f":"IF(V35=\"\",\"\",V35)","v":""},null,{"$f":"IF(X35=\"\",\"\",X35)","v":""},null,{"$f":"IF(Z35=\"\",\"\",Z35)","v":""},null,{"$f":"IF(AB35=\"\",\"\",AB35)","v":""},null,{"$f":"IF(AD35=\"\",\"\",AD35)","v":""},null,{"$f":"IF(AF35=\"\",\"\",AF35)","v":""},null,{"$f":"IF(AH35=\"\",\"\",AH35)","v":""},null,{"$f":"IF(AJ35=\"\",\"\",AJ35)","v":""},null,{"$f":"IF(AL35=\"\",\"\",AL35)","v":""},null,null,{"$f":"IF(AO35=\"\",\"\",AO35)","v":""},null,null,{"$f":"IF(AR35=\"\",\"\",AR35)","v":""},null,null,null,null,{"$f":"IF(AW35=\"\",\"\",AW35)","v":""}]
[]
[]
[]
[null,null,null,null,null,null,null,null,null,null,null,null,null,null,null,null,null,{"$f":"IF(R39=\"\",\"\",R39)","v":""},null,{"$f":"IF(T39=\"\",\"\",T39)","v":""},null,{"$f":"IF(V39=\"\",\"\",V39)","v":""},null,{"$f":"IF(X39=\"\",\"\",X39)","v":""},null,{"$f":"IF(Z39=\"\",\"\",Z39)","v":""},null,{"$f":"IF(AB39=\"\",\"\",AB39)","v":""},null,{"$f":"IF(AD39=\"\",\"\",AD39)","v":""},null,{"$f":"IF(AF39=\"\",\"\",AF39)","v":""},null,{"$f":"IF(AH39=\"\",\"\",AH39)","v":""},null,{"$f":"IF(AJ39=\"\",\"\",AJ39)","v":""},null,{"$f":"IF(AL39=\"\",\"\",AL39)","v":""},null,null,{"$f":"IF(AO39=\"\",\"\",AO39)","v":""},null,null,{"$f":"IF(AR39=\"\",\"\",AR39)","v":""},null,null,null,null,{"$f":"IF(AW39=\"\",\"\",AW39)","v":""}]
[]
[]
[]
[null,null,null,null,null,null,null,null,null,null,null,null,null,null,null,null,null,{"$f":"IF(R43=\"\",\"\",R43)","v":""},null,{"$f":"IF(T43=\"\",\"\",T43)","v":""},null,{"$f":"IF(V43=\"\",\"\",V43)","v":""},null,{"$f":"IF(X43=\"\",\"\",X43)","v":""},null,{"$f":"IF(Z43=\"\",\"\",Z43)","v":""},null,{"$f":"IF(AB43=\"\",\"\",AB43)","v":""},null,{"$f":"IF(AD43=\"\",\"\",AD43)","v":""},null,{"$f":"IF(AF43=\"\",\"\",AF43)","v":""},null,{"$f":"IF(AH43=\"\",\"\",AH43)","v":""},null,{"$f":"IF(AJ43=\"\",\"\",AJ43)","v":""},null,{"$f":"IF(AL43=\"\",\"\",AL43)","v":""},null,null,{"$f":"IF(AO43=\"\",\"\",AO43)","v":""},null,null,{"$f":"IF(AR43=\"\",\"\",AR43)","v":""},null,null,null,null,{"$f":"IF(AW43=\"\",\"\",AW43)","v":""}]
[]
[]
[]
[null,null,null,null,null,null,null,null,null,null,null,null,null,null,null,null,null,{"$f":"IF(R47=\"\",\"\",R47)","v":""},null,{"$f":"IF(T47=\"\",\"\",T47)","v":""},null,{"$f":"IF(V47=\"\",\"\",V47)","v":""},null,{"$f":"IF(X47=\"\",\"\",X47)","v":""},null,{"$f":"IF(Z47=\"\",\"\",Z47)","v":""},null,{"$f":"IF(AB47=\"\",\"\",AB47)","v":""},null,{"$f":"IF(AD47=\"\",\"\",AD47)","v":""},null,{"$f":"IF(AF47=\"\",\"\",AF47)","v":""},null,{"$f":"IF(AH47=\"\",\"\",AH47)","v":""},null,{"$f":"IF(AJ47=\"\",\"\",AJ47)","v":""},null,{"$f":"IF(AL47=\"\",\"\",AL47)","v":""},null,null,{"$f":"IF(AO47=\"\",\"\",AO47)","v":""},null,null,{"$f":"IF(AR47=\"\",\"\",AR47)","v":""},null,null,null,null,{"$f":"IF(AW47=\"\",\"\",AW47)","v":""}]
[]
[]
[]
[null,null,null,null,null,null,null,null,null,null,null,null,null,null,null,null,null,{"$f":"IF(R51=\"\",\"\",R51)","v":""},null,{"$f":"IF(T51=\"\",\"\",T51)","v":""},null,{"$f":"IF(V51=\"\",\"\",V51)","v":""},null,{"$f":"IF(X51=\"\",\"\",X51)","v":""},null,{"$f":"IF(Z51=\"\",\"\",Z51)","v":""},null,{"$f":"IF(AB51=\"\",\"\",AB51)","v":""},null,{"$f":"IF(AD51=\"\",\"\",AD51)","v":""},null,{"$f":"IF(AF51=\"\",\"\",AF51)","v":""},null,{"$f":"IF(AH51=\"\",\"\",AH51)","v":""},null,{"$f":"IF(AJ51=\"\",\"\",AJ51)","v":""},null,{"$f":"IF(AL51=\"\",\"\",AL51)","v":""},null,null,{"$f":"IF(AO51=\"\",\"\",AO51)","v":""},null,null,{"$f":"IF(AR51=\"\",\"\",AR51)","v":""},null,null,null,null,{"$f":"IF(AW51=\"\",\"\",AW51)","v":""}]
[]
[]
[]
[null,null,null,null,null,null,null,null,null,null,null,null,null,null,null,null,null,{"$f":"IF(R55=\"\",\"\",R55)","v":""},null,{"$f":"IF(T55=\"\",\"\",T55)","v":""},null,{"$f":"IF(V55=\"\",\"\",V55)","v":""},null,{"$f":"IF(X55=\"\",\"\",X55)","v":""},null,{"$f":"IF(Z55=\"\",\"\",Z55)","v":""},null,{"$f":"IF(AB55=\"\",\"\",AB55)","v":""},null,{"$f":"IF(AD55=\"\",\"\",AD55)","v":""},null,{"$f":"IF(AF55=\"\",\"\",AF55)","v":""},null,{"$f":"IF(AH55=\"\",\"\",AH55)","v":""},null,{"$f":"IF(AJ55=\"\",\"\",AJ55)","v":""},null,{"$f":"IF(AL55=\"\",\"\",AL55)","v":""},null,null,{"$f":"IF(AO55=\"\",\"\",AO55)","v":""},null,null,{"$f":"IF(AR55=\"\",\"\",AR55)","v":""},null,null,null,null,{"$f":"IF(AW55=\"\",\"\",AW55)","v":""}]
[]
[]
[]
[null,null,null,null,null,null,null,null,null,null,null,null,null,null,null,null,null,{"$f":"IF(R59=\"\",\"\",R59)","v":""},null,{"$f":"IF(T59=\"\",\"\",T59)","v":""},null,{"$f":"IF(V59=\"\",\"\",V59)","v":""},null,{"$f":"IF(X59=\"\",\"\",X59)","v":""},null,{"$f":"IF(Z59=\"\",\"\",Z59)","v":""},null,{"$f":"IF(AB59=\"\",\"\",AB59)","v":""},null,{"$f":"IF(AD59=\"\",\"\",AD59)","v":""},null,{"$f":"IF(AF59=\"\",\"\",AF59)","v":""},null,{"$f":"IF(AH59=\"\",\"\",AH59)","v":""},null,{"$f":"IF(AJ59=\"\",\"\",AJ59)","v":""},null,{"$f":"IF(AL59=\"\",\"\",AL59)","v":""},null,null,{"$f":"IF(AO59=\"\",\"\",AO59)","v":""},null,null,{"$f":"IF(AR59=\"\",\"\",AR59)","v":""},null,null,null,null,{"$f":"IF(AW59=\"\",\"\",AW59)","v":""}]
[]
[]
[]
[null,null,null,null,null,null,null,null,null,null,null,null,null,null,null,null,null,{"$f":"IF(R63=\"\",\"\",R63)","v":""},null,{"$f":"IF(T63=\"\",\"\",T63)","v":""},null,{"$f":"IF(V63=\"\",\"\",V63)","v":""},null,{"$f":"IF(X63=\"\",\"\",X63)","v":""},null,{"$f":"IF(Z63=\"\",\"\",Z63)","v":""},null,{"$f":"IF(AB63=\"\",\"\",AB63)","v":""},null,{"$f":"IF(AD63=\"\",\"\",AD63)","v":""},null,{"$f":"IF(AF63=\"\",\"\",AF63)","v":""},null,{"$f":"IF(AH63=\"\",\"\",AH63)","v":""},null,{"$f":"IF(AJ63=\"\",\"\",AJ63)","v":""},null,{"$f":"IF(AL63=\"\",\"\",AL63)","v":""},null,null,{"$f":"IF(AO63=\"\",\"\",AO63)","v":""},null,null,{"$f":"IF(AR63=\"\",\"\",AR63)","v":""},null,null,null,null,{"$f":"IF(AW63=\"\",\"\",AW63)","v":""}]
[]
[]
[]
[null,null,null,null,null,null,null,null,null,null,null,null,null,null,null,null,null,{"$f":"IF(R67=\"\",\"\",R67)","v":""},null,{"$f":"IF(T67=\"\",\"\",T67)","v":""},null,{"$f":"IF(V67=\"\",\"\",V67)","v":""},null,{"$f":"IF(X67=\"\",\"\",X67)","v":""},null,{"$f":"IF(Z67=\"\",\"\",Z67)","v":""},null,{"$f":"IF(AB67=\"\",\"\",AB67)","v":""},null,{"$f":"IF(AD67=\"\",\"\",AD67)","v":""},null,{"$f":"IF(AF67=\"\",\"\",AF67)","v":""},null,{"$f":"IF(AH67=\"\",\"\",AH67)","v":""},null,{"$f":"IF(AJ67=\"\",\"\",AJ67)","v":""},null,{"$f":"IF(AL67=\"\",\"\",AL67)","v":""},null,null,{"$f":"IF(AO67=\"\",\"\",AO67)","v":""},null,null,{"$f":"IF(AR67=\"\",\"\",AR67)","v":""},null,null,null,null,{"$f":"IF(AW67=\"\",\"\",AW67)","v":""}]
[]
[]
[]
[null,null,null,null,null,null,null,null,null,null,null,null,null,null,null,null,null,{"$f":"IF(R71=\"\",\"\",R71)","v":""},null,{"$f":"IF(T71=\"\",\"\",T71)","v":""},null,{"$f":"IF(V71=\"\",\"\",V71)","v":""},null,{"$f":"IF(X71=\"\",\"\",X71)","v":""},null,{"$f":"IF(Z71=\"\",\"\",Z71)","v":""},null,{"$f":"IF(AB71=\"\",\"\",AB71)","v":""},null,{"$f":"IF(AD71=\"\",\"\",AD71)","v":""},null,{"$f":"IF(AF71=\"\",\"\",AF71)","v":""},null,{"$f":"IF(AH71=\"\",\"\",AH71)","v":""},null,{"$f":"IF(AJ71=\"\",\"\",AJ71)","v":""},null,{"$f":"IF(AL71=\"\",\"\",AL71)","v":""},null,null,{"$f":"IF(AO71=\"\",\"\",AO71)","v":""},null,null,{"$f":"IF(AR71=\"\",\"\",AR71)","v":""},null,null,null,null,{"$f":"IF(AW71=\"\",\"\",AW71)","v":""}]
[]
[]
[]
[null,null,null,null,null,null,null,null,null,null,null,null,null,null,null,null,null,{"$f":"IF(R75=\"\",\"\",R75)","v":""},null,{"$f":"IF(T75=\"\",\"\",T75)","v":""},null,{"$f":"IF(V75=\"\",\"\",V75)","v":""},null,{"$f":"IF(X75=\"\",\"\",X75)","v":""},null,{"$f":"IF(Z75=\"\",\"\",Z75)","v":""},null,{"$f":"IF(AB75=\"\",\"\",AB75)","v":""},null,{"$f":"IF(AD75=\"\",\"\",AD75)","v":""},null,{"$f":"IF(AF75=\"\",\"\",AF75)","v":""},null,{"$f":"IF(AH75=\"\",\"\",AH75)","v":""},null,{"$f":"IF(AJ75=\"\",\"\",AJ75)","v":""},null,{"$f":"IF(AL75=\"\",\"\",AL75)","v":""},null,null,{"$f":"IF(AO75=\"\",\"\",AO75)","v":""},null,null,{"$f":"IF(AR75=\"\",\"\",AR75)","v":""},null,null,null,null,{"$f":"IF(AW75=\"\",\"\",AW75)","v":""}]
[]
[]
[]
[null,null,null,null,null,null,null,null,null,null,null,null,null,null,null,null,null,{"$f":"IF(R79=\"\",\"\",R79)","v":""},null,{"$f":"IF(T79=\"\",\"\",T79)","v":""},null,{"$f":"IF(V79=\"\",\"\",V79)","v":""},null,{"$f":"IF(X79=\"\",\"\",X79)","v":""},null,{"$f":"IF(Z79=\"\",\"\",Z79)","v":""},null,{"$f":"IF(AB79=\"\",\"\",AB79)","v":""},null,{"$f":"IF(AD79=\"\",\"\",AD79)","v":""},null,{"$f":"IF(AF79=\"\",\"\",AF79)","v":""},null,{"$f":"IF(AH79=\"\",\"\",AH79)","v":""},null,{"$f":"IF(AJ79=\"\",\"\",AJ79)","v":""},null,{"$f":"IF(AL79=\"\",\"\",AL79)","v":""},null,null,{"$f":"IF(AO79=\"\",\"\",AO79)","v":""},null,null,{"$f":"IF(AR79=\"\",\"\",AR79)","v":""},null,null,null,null,{"$f":"IF(AW79=\"\",\"\",AW79)","v":""}]
[]
[]
[]
[null,null,null,null,null,null,null,null,null,null,null,null,null,null,null,null,null,null,null,null,null,null,null,null,null,null,null,null,null,null,null,null,null,null,null,null,null,"値引き等",null,null,null,null,null,null,null,null,null,null,{"$f":"IF(AW83=\"\",\"\",AW83)","v":""}]
[]
[]
[]
[]
[null,null,null,null,null,null,null,null,null,null,null,null,null,null,null,null,null,null,null,null,null,null,null,null,null,null,null,null,null,null,null,null,null,null,null,null,null,{"$f":"\"合計(\" & IF(税処理=2,\"税込\",\"税抜\")&\")\"","v":"合計(税抜)"},null,null,null,null,null,null,null,null,null,null,{"$f":"IF(AW88=\"\",\"\",AW88)","v":""}]
[]
[]
[]
[]
[]
[null,null,null,null,null,null,null,null,null,null,null,null,null,null,null,null,null,null,null,"請求明細書 (貴社控)"]
[null,"株 式 会 社 種 村 建 設",null,null,null,null,null,null,null,null,null,null,"御中"]
[null,null,null,null,null,null,null,null,null,null,null,null,null,null,null,null,null,null,null,null,null,null,null,null,null,null,null,null,null,null,null,null,null,null,null,null,null,null,null,null,null,"請求年月日",null,null,null,null,{"$f":"IF(AU96=\"\",\"\",AU96)","v":23},null,null,{"$f":"IF(AX96=\"\",\"\",AX96)","v":5},null,null,{"$f":"IF(BA96=\"\",\"\",BA96)","v":31}]
[]
[]
[]
[]
[null,"工事番号",null,null,null,null,{"$f":"IF(G101=\"\",\"\",G101)","v":""},null,null,null,null,null,"工事名",null,null,null,{"$f":"IF(Q101=\"\",\"\",Q101)","v":""},null,null,null,null,null,null,null,null,null,null,null,null,null,null,null,null,null,null,null,null,"業者名",null,null,null,{"$f":"IF(AP101=\"\",\"\",AP101)","v":"例：㈱種村建設"}]
[]
[]
[]
[]
[]
[null,"注文番号",null,null,null,null,{"$f":"IF(G107=\"\",\"\",G107)","v":""},null,null,null,null,null,null,null,null,null,null,"月　日",null,null,null,"摘要･品名",null,null,null,null,null,null,null,null,null,null,null,null,null,null,null,"数 量",null,null,"単位",null,null,"単価",null,null,null,null,{"$f":"\"金額(\" & IF(税処理=2,\"税込\",\"税抜\")&\")\"","v":"金額(税抜)"}]
[]
[]
[]
[null,"契約金額",null,null,null,null,{"$f":"IF(G111=\"\",\"\",G111)","v":""},null,null,null,null,null,null,null,null,null,null,{"$f":"IF(R111=\"\",\"\",R111)","v":""},null,{"$f":"IF(T111=\"\",\"\",T111)","v":""},null,{"$f":"IF(V111=\"\",\"\",V111)","v":""},null,{"$f":"IF(X111=\"\",\"\",X111)","v":""},null,{"$f":"IF(Z111=\"\",\"\",Z111)","v":""},null,{"$f":"IF(AB111=\"\",\"\",AB111)","v":""},null,{"$f":"IF(AD111=\"\",\"\",AD111)","v":""},null,{"$f":"IF(AF111=\"\",\"\",AF111)","v":""},null,{"$f":"IF(AH111=\"\",\"\",AH111)","v":""},null,{"$f":"IF(AJ111=\"\",\"\",AJ111)","v":""},null,{"$f":"IF(AL111=\"\",\"\",AL111)","v":""},null,null,{"$f":"IF(AO111=\"\",\"\",AO111)","v":""},null,null,{"$f":"IF(AR111=\"\",\"\",AR111)","v":""},null,null,null,null,{"$f":"IF(AW111=\"\",\"\",AW111)","v":""}]
[]
[]
[]
[null,"増減額",null,null,null,null,{"$f":"IF(G115=\"\",\"\",G115)","v":""},null,null,null,null,null,null,null,null,null,null,{"$f":"IF(R115=\"\",\"\",R115)","v":""},null,{"$f":"IF(T115=\"\",\"\",T115)","v":""},null,{"$f":"IF(V115=\"\",\"\",V115)","v":""},null,{"$f":"IF(X115=\"\",\"\",X115)","v":""},null,{"$f":"IF(Z115=\"\",\"\",Z115)","v":""},null,{"$f":"IF(AB115=\"\",\"\",AB115)","v":""},null,{"$f":"IF(AD115=\"\",\"\",AD115)","v":""},null,{"$f":"IF(AF115=\"\",\"\",AF115)","v":""},null,{"$f":"IF(AH115=\"\",\"\",AH115)","v":""},null,{"$f":"IF(AJ115=\"\",\"\",AJ115)","v":""},null,{"$f":"IF(AL115=\"\",\"\",AL115)","v":""},null,null,{"$f":"IF(AO115=\"\",\"\",AO115)","v":""},null,null,{"$f":"IF(AR115=\"\",\"\",AR115)","v":""},null,null,null,null,{"$f":"IF(AW115=\"\",\"\",AW115)","v":""}]
[]
[]
[]
[null,"前回までの\n請求額",null,null,null,null,{"$f":"IF(G119=\"\",\"\",G119)","v":""},null,null,null,null,null,null,null,null,null,null,{"$f":"IF(R119=\"\",\"\",R119)","v":""},null,{"$f":"IF(T119=\"\",\"\",T119)","v":""},null,{"$f":"IF(V119=\"\",\"\",V119)","v":""},null,{"$f":"IF(X119=\"\",\"\",X119)","v":""},null,{"$f":"IF(Z119=\"\",\"\",Z119)","v":""},null,{"$f":"IF(AB119=\"\",\"\",AB119)","v":""},null,{"$f":"IF(AD119=\"\",\"\",AD119)","v":""},null,{"$f":"IF(AF119=\"\",\"\",AF119)","v":""},null,{"$f":"IF(AH119=\"\",\"\",AH119)","v":""},null,{"$f":"IF(AJ119=\"\",\"\",AJ119)","v":""},null,{"$f":"IF(AL119=\"\",\"\",AL119)","v":""},null,null,{"$f":"IF(AO119=\"\",\"\",AO119)","v":""},null,null,{"$f":"IF(AR119=\"\",\"\",AR119)","v":""},null,null,null,null,{"$f":"IF(AW119=\"\",\"\",AW119)","v":""}]
[]
[]
[]
[null,"今回\n請求額",null,null,{"$f":"IF(E31=\"\",\"\",E31)","v":""},null,{"$f":"IF(G123=\"\",\"\",G123)","v":""},null,null,null,null,null,null,null,null,null,null,{"$f":"IF(R123=\"\",\"\",R123)","v":""},null,{"$f":"IF(T123=\"\",\"\",T123)","v":""},null,{"$f":"IF(V123=\"\",\"\",V123)","v":""},null,{"$f":"IF(X123=\"\",\"\",X123)","v":""},null,{"$f":"IF(Z123=\"\",\"\",Z123)","v":""},null,{"$f":"IF(AB123=\"\",\"\",AB123)","v":""},null,{"$f":"IF(AD123=\"\",\"\",AD123)","v":""},null,{"$f":"IF(AF123=\"\",\"\",AF123)","v":""},null,{"$f":"IF(AH123=\"\",\"\",AH123)","v":""},null,{"$f":"IF(AJ123=\"\",\"\",AJ123)","v":""},null,{"$f":"IF(AL123=\"\",\"\",AL123)","v":""},null,null,{"$f":"IF(AO123=\"\",\"\",AO123)","v":""},null,null,{"$f":"IF(AR123=\"\",\"\",AR123)","v":""},null,null,null,null,{"$f":"IF(AW123=\"\",\"\",AW123)","v":""}]
[]
[]
[]
[null,"差引残高",null,null,null,null,{"$f":"IF(G203=\"\",\"\",G203+G207-G211-G215)","v":""},null,null,null,null,null,null,null,null,null,null,{"$f":"IF(R127=\"\",\"\",R127)","v":""},null,{"$f":"IF(T127=\"\",\"\",T127)","v":""},null,{"$f":"IF(V127=\"\",\"\",V127)","v":""},null,{"$f":"IF(X127=\"\",\"\",X127)","v":""},null,{"$f":"IF(Z127=\"\",\"\",Z127)","v":""},null,{"$f":"IF(AB127=\"\",\"\",AB127)","v":""},null,{"$f":"IF(AD127=\"\",\"\",AD127)","v":""},null,{"$f":"IF(AF127=\"\",\"\",AF127)","v":""},null,{"$f":"IF(AH127=\"\",\"\",AH127)","v":""},null,{"$f":"IF(AJ127=\"\",\"\",AJ127)","v":""},null,{"$f":"IF(AL127=\"\",\"\",AL127)","v":""},null,null,{"$f":"IF(AO127=\"\",\"\",AO127)","v":""},null,null,{"$f":"IF(AR127=\"\",\"\",AR127)","v":""},null,null,null,null,{"$f":"IF(AW127=\"\",\"\",AW127)","v":""}]
[]
[]
[]
[null,null,null,null,null,null,null,null,null,null,null,null,null,null,null,null,null,{"$f":"IF(R131=\"\",\"\",R131)","v":""},null,{"$f":"IF(T131=\"\",\"\",T131)","v":""},null,{"$f":"IF(V131=\"\",\"\",V131)","v":""},null,{"$f":"IF(X131=\"\",\"\",X131)","v":""},null,{"$f":"IF(Z131=\"\",\"\",Z131)","v":""},null,{"$f":"IF(AB131=\"\",\"\",AB131)","v":""},null,{"$f":"IF(AD131=\"\",\"\",AD131)","v":""},null,{"$f":"IF(AF131=\"\",\"\",AF131)","v":""},null,{"$f":"IF(AH131=\"\",\"\",AH131)","v":""},null,{"$f":"IF(AJ131=\"\",\"\",AJ131)","v":""},null,{"$f":"IF(AL131=\"\",\"\",AL131)","v":""},null,null,{"$f":"IF(AO131=\"\",\"\",AO131)","v":""},null,null,{"$f":"IF(AR131=\"\",\"\",AR131)","v":""},null,null,null,null,{"$f":"IF(AW131=\"\",\"\",AW131)","v":""}]
[]
[]
[]
[null,null,null,null,null,null,null,null,null,null,null,null,null,null,null,null,null,{"$f":"IF(R135=\"\",\"\",R135)","v":""},null,{"$f":"IF(T135=\"\",\"\",T135)","v":""},null,{"$f":"IF(V135=\"\",\"\",V135)","v":""},null,{"$f":"IF(X135=\"\",\"\",X135)","v":""},null,{"$f":"IF(Z135=\"\",\"\",Z135)","v":""},null,{"$f":"IF(AB135=\"\",\"\",AB135)","v":""},null,{"$f":"IF(AD135=\"\",\"\",AD135)","v":""},null,{"$f":"IF(AF135=\"\",\"\",AF135)","v":""},null,{"$f":"IF(AH135=\"\",\"\",AH135)","v":""},null,{"$f":"IF(AJ135=\"\",\"\",AJ135)","v":""},null,{"$f":"IF(AL135=\"\",\"\",AL135)","v":""},null,null,{"$f":"IF(AO135=\"\",\"\",AO135)","v":""},null,null,{"$f":"IF(AR135=\"\",\"\",AR135)","v":""},null,null,null,null,{"$f":"IF(AW135=\"\",\"\",AW135)","v":""}]
[]
[]
[]
[null,null,null,null,null,null,null,null,null,null,null,null,null,null,null,null,null,{"$f":"IF(R139=\"\",\"\",R139)","v":""},null,{"$f":"IF(T139=\"\",\"\",T139)","v":""},null,{"$f":"IF(V139=\"\",\"\",V139)","v":""},null,{"$f":"IF(X139=\"\",\"\",X139)","v":""},null,{"$f":"IF(Z139=\"\",\"\",Z139)","v":""},null,{"$f":"IF(AB139=\"\",\"\",AB139)","v":""},null,{"$f":"IF(AD139=\"\",\"\",AD139)","v":""},null,{"$f":"IF(AF139=\"\",\"\",AF139)","v":""},null,{"$f":"IF(AH139=\"\",\"\",AH139)","v":""},null,{"$f":"IF(AJ139=\"\",\"\",AJ139)","v":""},null,{"$f":"IF(AL139=\"\",\"\",AL139)","v":""},null,null,{"$f":"IF(AO139=\"\",\"\",AO139)","v":""},null,null,{"$f":"IF(AR139=\"\",\"\",AR139)","v":""},null,null,null,null,{"$f":"IF(AW139=\"\",\"\",AW139)","v":""}]
[]
[]
[]
[null,null,null,null,null,null,null,null,null,null,null,null,null,null,null,null,null,{"$f":"IF(R143=\"\",\"\",R143)","v":""},null,{"$f":"IF(T143=\"\",\"\",T143)","v":""},null,{"$f":"IF(V143=\"\",\"\",V143)","v":""},null,{"$f":"IF(X143=\"\",\"\",X143)","v":""},null,{"$f":"IF(Z143=\"\",\"\",Z143)","v":""},null,{"$f":"IF(AB143=\"\",\"\",AB143)","v":""},null,{"$f":"IF(AD143=\"\",\"\",AD143)","v":""},null,{"$f":"IF(AF143=\"\",\"\",AF143)","v":""},null,{"$f":"IF(AH143=\"\",\"\",AH143)","v":""},null,{"$f":"IF(AJ143=\"\",\"\",AJ143)","v":""},null,{"$f":"IF(AL143=\"\",\"\",AL143)","v":""},null,null,{"$f":"IF(AO143=\"\",\"\",AO143)","v":""},null,null,{"$f":"IF(AR143=\"\",\"\",AR143)","v":""},null,null,null,null,{"$f":"IF(AW143=\"\",\"\",AW143)","v":""}]
[]
[]
[]
[null,null,null,null,null,null,null,null,null,null,null,null,null,null,null,null,null,{"$f":"IF(R147=\"\",\"\",R147)","v":""},null,{"$f":"IF(T147=\"\",\"\",T147)","v":""},null,{"$f":"IF(V147=\"\",\"\",V147)","v":""},null,{"$f":"IF(X147=\"\",\"\",X147)","v":""},null,{"$f":"IF(Z147=\"\",\"\",Z147)","v":""},null,{"$f":"IF(AB147=\"\",\"\",AB147)","v":""},null,{"$f":"IF(AD147=\"\",\"\",AD147)","v":""},null,{"$f":"IF(AF147=\"\",\"\",AF147)","v":""},null,{"$f":"IF(AH147=\"\",\"\",AH147)","v":""},null,{"$f":"IF(AJ147=\"\",\"\",AJ147)","v":""},null,{"$f":"IF(AL147=\"\",\"\",AL147)","v":""},null,null,{"$f":"IF(AO147=\"\",\"\",AO147)","v":""},null,null,{"$f":"IF(AR147=\"\",\"\",AR147)","v":""},null,null,null,null,{"$f":"IF(AW147=\"\",\"\",AW147)","v":""}]
[]
[]
[]
[null,null,null,null,null,null,null,null,null,null,null,null,null,null,null,null,null,{"$f":"IF(R151=\"\",\"\",R151)","v":""},null,{"$f":"IF(T151=\"\",\"\",T151)","v":""},null,{"$f":"IF(V151=\"\",\"\",V151)","v":""},null,{"$f":"IF(X151=\"\",\"\",X151)","v":""},null,{"$f":"IF(Z151=\"\",\"\",Z151)","v":""},null,{"$f":"IF(AB151=\"\",\"\",AB151)","v":""},null,{"$f":"IF(AD151=\"\",\"\",AD151)","v":""},null,{"$f":"IF(AF151=\"\",\"\",AF151)","v":""},null,{"$f":"IF(AH151=\"\",\"\",AH151)","v":""},null,{"$f":"IF(AJ151=\"\",\"\",AJ151)","v":""},null,{"$f":"IF(AL151=\"\",\"\",AL151)","v":""},null,null,{"$f":"IF(AO151=\"\",\"\",AO151)","v":""},null,null,{"$f":"IF(AR151=\"\",\"\",AR151)","v":""},null,null,null,null,{"$f":"IF(AW151=\"\",\"\",AW151)","v":""}]
[]
[]
[]
[null,null,null,null,null,null,null,null,null,null,null,null,null,null,null,null,null,{"$f":"IF(R155=\"\",\"\",R155)","v":""},null,{"$f":"IF(T155=\"\",\"\",T155)","v":""},null,{"$f":"IF(V155=\"\",\"\",V155)","v":""},null,{"$f":"IF(X155=\"\",\"\",X155)","v":""},null,{"$f":"IF(Z155=\"\",\"\",Z155)","v":""},null,{"$f":"IF(AB155=\"\",\"\",AB155)","v":""},null,{"$f":"IF(AD155=\"\",\"\",AD155)","v":""},null,{"$f":"IF(AF155=\"\",\"\",AF155)","v":""},null,{"$f":"IF(AH155=\"\",\"\",AH155)","v":""},null,{"$f":"IF(AJ155=\"\",\"\",AJ155)","v":""},null,{"$f":"IF(AL155=\"\",\"\",AL155)","v":""},null,null,{"$f":"IF(AO155=\"\",\"\",AO155)","v":""},null,null,{"$f":"IF(AR155=\"\",\"\",AR155)","v":""},null,null,null,null,{"$f":"IF(AW155=\"\",\"\",AW155)","v":""}]
[]
[]
[]
[null,null,null,null,null,null,null,null,null,null,null,null,null,null,null,null,null,{"$f":"IF(R159=\"\",\"\",R159)","v":""},null,{"$f":"IF(T159=\"\",\"\",T159)","v":""},null,{"$f":"IF(V159=\"\",\"\",V159)","v":""},null,{"$f":"IF(X159=\"\",\"\",X159)","v":""},null,{"$f":"IF(Z159=\"\",\"\",Z159)","v":""},null,{"$f":"IF(AB159=\"\",\"\",AB159)","v":""},null,{"$f":"IF(AD159=\"\",\"\",AD159)","v":""},null,{"$f":"IF(AF159=\"\",\"\",AF159)","v":""},null,{"$f":"IF(AH159=\"\",\"\",AH159)","v":""},null,{"$f":"IF(AJ159=\"\",\"\",AJ159)","v":""},null,{"$f":"IF(AL159=\"\",\"\",AL159)","v":""},null,null,{"$f":"IF(AO159=\"\",\"\",AO159)","v":""},null,null,{"$f":"IF(AR159=\"\",\"\",AR159)","v":""},null,null,null,null,{"$f":"IF(AW159=\"\",\"\",AW159)","v":""}]
[]
[]
[]
[null,null,null,null,null,null,null,null,null,null,null,null,null,null,null,null,null,{"$f":"IF(R163=\"\",\"\",R163)","v":""},null,{"$f":"IF(T163=\"\",\"\",T163)","v":""},null,{"$f":"IF(V163=\"\",\"\",V163)","v":""},null,{"$f":"IF(X163=\"\",\"\",X163)","v":""},null,{"$f":"IF(Z163=\"\",\"\",Z163)","v":""},null,{"$f":"IF(AB163=\"\",\"\",AB163)","v":""},null,{"$f":"IF(AD163=\"\",\"\",AD163)","v":""},null,{"$f":"IF(AF163=\"\",\"\",AF163)","v":""},null,{"$f":"IF(AH163=\"\",\"\",AH163)","v":""},null,{"$f":"IF(AJ163=\"\",\"\",AJ163)","v":""},null,{"$f":"IF(AL163=\"\",\"\",AL163)","v":""},null,null,{"$f":"IF(AO163=\"\",\"\",AO163)","v":""},null,null,{"$f":"IF(AR163=\"\",\"\",AR163)","v":""},null,null,null,null,{"$f":"IF(AW163=\"\",\"\",AW163)","v":""}]
[]
[]
[]
[null,null,null,null,null,null,null,null,null,null,null,null,null,null,null,null,null,{"$f":"IF(R167=\"\",\"\",R167)","v":""},null,{"$f":"IF(T167=\"\",\"\",T167)","v":""},null,{"$f":"IF(V167=\"\",\"\",V167)","v":""},null,{"$f":"IF(X167=\"\",\"\",X167)","v":""},null,{"$f":"IF(Z167=\"\",\"\",Z167)","v":""},null,{"$f":"IF(AB167=\"\",\"\",AB167)","v":""},null,{"$f":"IF(AD167=\"\",\"\",AD167)","v":""},null,{"$f":"IF(AF167=\"\",\"\",AF167)","v":""},null,{"$f":"IF(AH167=\"\",\"\",AH167)","v":""},null,{"$f":"IF(AJ167=\"\",\"\",AJ167)","v":""},null,{"$f":"IF(AL167=\"\",\"\",AL167)","v":""},null,null,{"$f":"IF(AO167=\"\",\"\",AO167)","v":""},null,null,{"$f":"IF(AR167=\"\",\"\",AR167)","v":""},null,null,null,null,{"$f":"IF(AW167=\"\",\"\",AW167)","v":""}]
[]
[]
[]
[null,null,null,null,null,null,null,null,null,null,null,null,null,null,null,null,null,{"$f":"IF(R171=\"\",\"\",R171)","v":""},null,{"$f":"IF(T171=\"\",\"\",T171)","v":""},null,{"$f":"IF(V171=\"\",\"\",V171)","v":""},null,{"$f":"IF(X171=\"\",\"\",X171)","v":""},null,{"$f":"IF(Z171=\"\",\"\",Z171)","v":""},null,{"$f":"IF(AB171=\"\",\"\",AB171)","v":""},null,{"$f":"IF(AD171=\"\",\"\",AD171)","v":""},null,{"$f":"IF(AF171=\"\",\"\",AF171)","v":""},null,{"$f":"IF(AH171=\"\",\"\",AH171)","v":""},null,{"$f":"IF(AJ171=\"\",\"\",AJ171)","v":""},null,{"$f":"IF(AL171=\"\",\"\",AL171)","v":""},null,null,{"$f":"IF(AO171=\"\",\"\",AO171)","v":""},null,null,{"$f":"IF(AR171=\"\",\"\",AR171)","v":""},null,null,null,null,{"$f":"IF(AW171=\"\",\"\",AW171)","v":""}]
[]
[]
[]
[null,null,null,null,null,null,null,null,null,null,null,null,null,null,null,null,null,null,null,null,null,null,null,null,null,null,null,null,null,null,null,null,null,null,null,null,null,"値引き等",null,null,null,null,null,null,null,null,null,null,{"$f":"IF(AW175=\"\",\"\",AW175)","v":""}]
[]
[]
[]
[]
[null,null,null,null,null,null,null,null,null,null,null,null,null,null,null,null,null,null,null,null,null,null,null,null,null,null,null,null,null,null,null,null,null,null,null,null,null,{"$f":"\"合計(\" & IF(税処理=2,\"税込\",\"税抜\")&\")\"","v":"合計(税抜)"},null,null,null,null,null,null,null,null,null,null,{"$f":"IF(AW180=\"\",\"\",AW180)","v":""}]

{"sheet":"細2-5","index":19,"n_rows":272,"n_cols":53,"rows_kept":272,"cut":false,"hidden":false,"merged":[[266,37,269,47],[266,48,269,54],[258,48,261,54],[262,17,265,18],[262,19,265,20],[262,21,265,36],[262,37,265,39],[258,43,261,47],[271,37,274,47],[271,48,274,54],[262,40,265,42],[262,43,265,47],[262,48,265,54],[258,17,261,18],[258,19,261,20],[258,21,261,36],[258,37,261,39],[258,40,261,42],[250,48,253,54],[254,17,257,18],[254,19,257,20],[254,21,257,36],[254,37,257,39],[254,40,257,42],[254,43,257,47],[254,48,257,54],[250,17,253,18],[250,19,253,20],[250,21,253,36],[250,37,253,39],[250,40,253,42],[250,43,253,47],[242,48,245,54],[246,17,249,18],[246,19,249,20],[246,21,249,36],[246,37,249,39],[246,40,249,42],[246,43,249,47],[246,48,249,54],[242,17,245,18],[242,19,245,20],[242,21,245,36],[242,37,245,39],[242,40,245,42],[242,43,245,47],[234,48,237,54],[238,17,241,18],[238,19,241,20],[238,21,241,36],[238,37,241,39],[238,40,241,42],[238,43,241,47],[238,48,241,54],[234,17,237,18],[234,19,237,20],[234,21,237,36],[234,37,237,39],[234,40,237,42],[234,43,237,47],[222,17,225,18],[222,19,225,20],[222,21,225,36],[222,37,225,39],[222,40,225,42],[222,43,225,47],[222,48,225,54],[226,48,229,54],[230,17,233,18],[230,19,233,20],[230,21,233,36],[230,37,233,39],[230,40,233,42],[230,43,233,47],[230,48,233,54],[226,17,229,18],[226,19,229,20],[226,21,229,36],[226,37,229,39],[226,40,229,42],[226,43,229,47],[218,1,221,5],[218,6,221,15],[218,17,221,18],[218,19,221,20],[218,21,221,36],[218,37,221,39],[218,40,221,42],[218,43,221,47],[218,48,221,54],[210,40,213,42],[210,43,213,47],[210,48,213,54],[214,1,217,3],[214,4,217,5],[214,6,217,15],[214,17,217,18],[214,19,217,20],[214,21,217,36],[214,37,217,39],[210,1,213,5],[210,6,213,15],[210,17,213,18],[210,19,213,20],[210,21,213,36],[210,37,213,39],[214,40,217,42],[214,43,217,47],[214,48,217,54],[206,1,209,5],[206,6,209,15],[206,17,209,18],[206,19,209,20],[206,21,209,36],[206,37,209,39],[206,40,209,42],[206,43,209,47],[206,48,209,54],[198,43,201,47],[198,48,201,54],[202,1,205,5],[202,6,205,15],[202,17,205,18],[202,19,205,20],[202,21,205,36],[202,37,205,39],[202,40,205,42],[202,43,205,47],[198,1,201,5],[198,6,201,15],[198,17,201,20],[198,21,201,36],[198,37,201,39],[198,40,201,42],[202,48,205,54],[187,52,189,54],[192,1,195,5],[192,6,195,11],[192,12,195,15],[192,16,195,35],[192,37,195,40],[192,41,195,54],[185,19,188,32],[186,1,189,11],[186,12,189,13],[187,41,189,45],[187,46,189,48],[187,49,189,51],[174,37,177,47],[174,48,177,54],[179,37,182,47],[179,48,182,54],[170,17,173,18],[170,19,173,20],[170,21,173,36],[170,37,173,39],[170,40,173,42],[170,43,173,47],[170,48,173,54],[166,17,169,18],[166,19,169,20],[162,43,165,47],[162,48,165,54],[158,17,161,18],[158,19,161,20],[158,21,161,36],[158,37,161,39],[158,40,161,42],[162,17,165,18],[162,19,165,20],[162,21,165,36],[162,37,165,39],[162,40,165,42],[166,48,169,54],[158,43,161,47],[166,21,169,36],[166,37,169,39],[166,40,169,42],[166,43,169,47],[158,48,161,54],[154,48,157,54],[150,17,153,18],[150,19,153,20],[146,43,149,47],[146,48,149,54],[142,17,145,18],[142,19,145,20],[142,21,145,36],[142,37,145,39],[142,40,145,42],[154,17,157,18],[154,19,157,20],[154,21,157,36],[154,37,157,39],[154,40,157,42],[154,43,157,47],[146,17,149,18],[146,19,149,20],[146,21,149,36],[146,37,149,39],[146,40,149,42],[150,48,153,54],[142,43,145,47],[150,21,153,36],[150,37,153,39],[150,40,153,42],[150,43,153,47],[142,48,145,54],[130,48,133,54],[134,48,137,54],[130,17,133,18],[130,19,133,20],[130,21,133,36],[130,37,133,39],[130,40,133,42],[130,43,133,47],[138,48,141,54],[134,17,137,18],[134,19,137,20],[134,21,137,36],[134,37,137,39],[134,40,137,42],[134,43,137,47],[138,17,141,18],[138,19,141,20],[138,21,141,36],[138,37,141,39],[138,40,141,42],[138,43,141,47],[126,1,129,5],[126,6,129,15],[126,17,129,18],[126,19,129,20],[126,21,129,36],[126,37,129,39],[126,40,129,42],[126,43,129,47],[126,48,129,54],[118,40,121,42],[118,43,121,47],[118,48,121,54],[122,1,125,3],[122,4,125,5],[122,6,125,15],[122,17,125,18],[122,19,125,20],[122,21,125,36],[122,37,125,39],[118,1,121,5],[118,6,121,15],[118,17,121,18],[118,19,121,20],[118,21,121,36],[118,37,121,39],[122,40,125,42],[122,43,125,47],[122,48,125,54],[114,1,117,5],[114,6,117,15],[114,17,117,18],[114,19,117,20],[114,21,117,36],[114,37,117,39],[114,40,117,42],[114,43,117,47],[114,48,117,54],[106,43,109,47],[106,48,109,54],[110,1,113,5],[110,6,113,15],[110,17,113,18],[110,19,113,20],[110,21,113,36],[110,37,113,39],[110,40,113,42],[110,43,113,47],[106,1,109,5],[106,6,109,15],[106,17,109,20],[106,21,109,36],[106,37,109,39],[106,40,109,42],[110,48,113,54],[95,49,97,51],[95,52,97,54],[100,1,103,5],[100,6,103,11],[100,12,103,15],[100,16,103,35],[100,37,103,40],[100,41,103,54],[93,19,96,32],[94,1,97,11],[94,12,97,13],[95,41,97,45],[83,1,84,4],[83,5,84,10],[87,37,90,47],[83,11,84,16],[83,17,84,25],[95,46,97,48],[85,1,90,4],[85,5,90,10],[85,11,90,16],[85,17,90,25],[78,43,81,47],[83,26,84,30],[83,31,84,35],[78,17,81,18],[78,19,81,20],[78,21,81,36],[85,26,90,30],[85,31,90,35],[74,48,77,54],[87,48,90,54],[78,48,81,54],[82,37,85,47],[82,48,85,54],[78,37,81,39],[78,40,81,42],[74,17,77,18],[74,19,77,20],[74,21,77,36],[74,37,77,39],[74,40,77,42],[74,43,77,47],[66,48,69,54],[70,17,73,18],[70,19,73,20],[70,21,73,36],[70,37,73,39],[70,40,73,42],[70,43,73,47],[70,48,73,54],[66,17,69,18],[66,19,69,20],[66,21,69,36],[66,37,69,39],[66,40,69,42],[66,43,69,47],[58,48,61,54],[62,17,65,18],[62,19,65,20],[62,21,65,36],[62,37,65,39],[62,40,65,42],[62,43,65,47],[62,48,65,54],[58,17,61,18],[58,19,61,20],[58,21,61,36],[58,37,61,39],[58,40,61,42],[58,43,61,47],[50,48,53,54],[54,17,57,18],[54,19,57,20],[54,21,57,36],[54,37,57,39],[54,40,57,42],[54,43,57,47],[54,48,57,54],[50,17,53,18],[50,19,53,20],[50,21,53,36],[50,37,53,39],[50,40,53,42],[50,43,53,47],[38,17,41,18],[38,19,41,20],[38,21,41,36],[38,37,41,39],[38,40,41,42],[38,43,41,47],[38,48,41,54],[42,48,45,54],[46,17,49,18],[46,19,49,20],[46,21,49,36],[46,37,49,39],[46,40,49,42],[46,43,49,47],[46,48,49,54],[42,17,45,18],[42,19,45,20],[42,21,45,36],[42,37,45,39],[42,40,45,42],[42,43,45,47],[34,1,37,5],[34,6,37,15],[34,17,37,18],[34,19,37,20],[34,21,37,36],[34,37,37,39],[34,40,37,42],[34,43,37,47],[34,48,37,54],[26,40,29,42],[26,43,29,47],[26,48,29,54],[30,1,33,3],[30,4,33,5],[30,6,33,15],[30,17,33,18],[30,19,33,20],[30,21,33,36],[30,37,33,39],[26,1,29,5],[26,6,29,15],[26,17,29,18],[26,19,29,20],[26,21,29,36],[26,37,29,39],[30,40,33,42],[30,43,33,47],[30,48,33,54],[22,1,25,5],[22,6,25,15],[22,17,25,18],[22,19,25,20],[22,21,25,36],[22,37,25,39],[22,40,25,42],[22,43,25,47],[22,48,25,54],[14,43,17,47],[14,48,17,54],[18,1,21,5],[18,6,21,15],[18,17,21,18],[18,19,21,20],[18,21,21,36],[18,37,21,39],[18,40,21,42],[18,43,21,47],[14,1,17,5],[14,6,17,15],[14,17,17,20],[14,21,17,36],[14,37,17,39],[14,40,17,42],[18,48,21,54],[3,52,5,54],[8,37,11,40],[8,41,11,54],[3,41,5,45],[1,19,4,32],[2,1,5,11],[2,12,5,13],[8,1,11,5],[8,6,11,11],[8,12,11,15],[8,16,11,35],[3,46,5,48],[3,49,5,51]]}
[]
[null,null,null,null,null,null,null,null,null,null,null,null,null,null,null,null,null,null,null,"請求書明細書 (正)"]
[null,"株 式 会 社 種 村 建 設",null,null,null,null,null,null,null,null,null,null,"御中"]
[null,null,null,null,null,null,null,null,null,null,null,null,null,null,null,null,null,null,null,null,null,null,null,null,null,null,null,null,null,null,null,null,null,null,null,null,null,null,null,null,null,"請求年月日",null,null,null,null,{"$f":"年","v":23},null,null,{"$f":"月","v":5},null,null,{"$f":"日","v":31}]
[]
[]
[]
[]
[null,"工事番号",null,null,null,null,null,null,null,null,null,null,"工事名",null,null,null,null,null,null,null,null,null,null,null,null,null,null,null,null,null,null,null,null,null,null,null,null,"業者名",null,null,null,{"$f":"社名","v":"例：㈱種村建設"}]
[]
[]
[]
[]
[]
[null,"注文番号",null,null,null,null,null,null,null,null,null,null,null,null,null,null,null,"月　日",null,null,null,"摘要･品名",null,null,null,null,null,null,null,null,null,null,null,null,null,null,null,"数 量",null,null,"単位",null,null,"単価",null,null,null,null,{"$f":"\"金額(\" & IF(税処理=2,\"税込\",\"税抜\")&\")\"","v":"金額(税抜)"}]
[]
[]
[]
[null,"契約金額",null,null,null,null,null,null,null,null,null,null,null,null,null,null,null,null,null,null,null,null,null,null,null,null,null,null,null,null,null,null,null,null,null,null,null,null,null,null,null,null,null,null,null,null,null,null,{"$f":"IF(V19=\"\",\"\",AL19*AR19)","v":""}]
[]
[]
[]
[null,"増減額",null,null,null,null,null,null,null,null,null,null,null,null,null,null,null,null,null,null,null,null,null,null,null,null,null,null,null,null,null,null,null,null,null,null,null,null,null,null,null,null,null,null,null,null,null,null,{"$f":"IF(V23=\"\",\"\",AL23*AR23)","v":""}]
[]
[]
[]
[null,"前回までの\n請求額",null,null,null,null,null,null,null,null,null,null,null,null,null,null,null,null,null,null,null,null,null,null,null,null,null,null,null,null,null,null,null,null,null,null,null,null,null,null,null,null,null,null,null,null,null,null,{"$f":"IF(V27=\"\",\"\",AL27*AR27)","v":""}]
[]
[]
[]
[null,"今回\n請求額",null,null,null,null,null,null,null,null,null,null,null,null,null,null,null,null,null,null,null,null,null,null,null,null,null,null,null,null,null,null,null,null,null,null,null,null,null,null,null,null,null,null,null,null,null,null,{"$f":"IF(V31=\"\",\"\",AL31*AR31)","v":""}]
[]
[]
[]
[null,"差引残高",null,null,null,null,{"$f":"IF(G19=\"\",\"\",G19+G23-G27-G31)","v":""},null,null,null,null,null,null,null,null,null,null,null,null,null,null,null,null,null,null,null,null,null,null,null,null,null,null,null,null,null,null,null,null,null,null,null,null,null,null,null,null,null,{"$f":"IF(V35=\"\",\"\",AL35*AR35)","v":""}]
[]
[]
[]
[null,null,null,null,null,null,null,null,null,null,null,null,null,null,null,null,null,null,null,null,null,null,null,null,null,null,null,null,null,null,null,null,null,null,null,null,null,null,null,null,null,null,null,null,null,null,null,null,{"$f":"IF(V39=\"\",\"\",AL39*AR39)","v":""}]
[]
[]
[]
[null,null,null,null,null,null,null,null,null,null,null,null,null,null,null,null,null,null,null,null,null,null,null,null,null,null,null,null,null,null,null,null,null,null,null,null,null,null,null,null,null,null,null,null,null,null,null,null,{"$f":"IF(V43=\"\",\"\",AL43*AR43)","v":""}]
[]
[]
[]
[null,null,null,null,null,null,null,null,null,null,null,null,null,null,null,null,null,null,null,null,null,null,null,null,null,null,null,null,null,null,null,null,null,null,null,null,null,null,null,null,null,null,null,null,null,null,null,null,{"$f":"IF(V47=\"\",\"\",AL47*AR47)","v":""}]
[]
[]
[]
[null,null,null,null,null,null,null,null,null,null,null,null,null,null,null,null,null,null,null,null,null,null,null,null,null,null,null,null,null,null,null,null,null,null,null,null,null,null,null,null,null,null,null,null,null,null,null,null,{"$f":"IF(V51=\"\",\"\",AL51*AR51)","v":""}]
[]
[]
[]
[null,null,null,null,null,null,null,null,null,null,null,null,null,null,null,null,null,null,null,null,null,null,null,null,null,null,null,null,null,null,null,null,null,null,null,null,null,null,null,null,null,null,null,null,null,null,null,null,{"$f":"IF(V55=\"\",\"\",AL55*AR55)","v":""}]
[]
[]
[]
[null,null,null,null,null,null,null,null,null,null,null,null,null,null,null,null,null,null,null,null,null,null,null,null,null,null,null,null,null,null,null,null,null,null,null,null,null,null,null,null,null,null,null,null,null,null,null,null,{"$f":"IF(V59=\"\",\"\",AL59*AR59)","v":""}]
[]
[]
[]
[null,null,null,null,null,null,null,null,null,null,null,null,null,null,null,null,null,null,null,null,null,null,null,null,null,null,null,null,null,null,null,null,null,null,null,null,null,null,null,null,null,null,null,null,null,null,null,null,{"$f":"IF(V63=\"\",\"\",AL63*AR63)","v":""}]
[]
[]
[]
[null,null,null,null,null,null,null,null,null,null,null,null,null,null,null,null,null,null,null,null,null,null,null,null,null,null,null,null,null,null,null,null,null,null,null,null,null,null,null,null,null,null,null,null,null,null,null,null,{"$f":"IF(V67=\"\",\"\",AL67*AR67)","v":""}]
[]
[]
[]
[null,null,null,null,null,null,null,null,null,null,null,null,null,null,null,null,null,null,null,null,null,null,null,null,null,null,null,null,null,null,null,null,null,null,null,null,null,null,null,null,null,null,null,null,null,null,null,null,{"$f":"IF(V71=\"\",\"\",AL71*AR71)","v":""}]
[]
[]
[]
[null,null,null,null,null,null,null,null,null,null,null,null,null,null,null,null,null,null,null,null,null,null,null,null,null,null,null,null,null,null,null,null,null,null,null,null,null,null,null,null,null,null,null,null,null,null,null,null,{"$f":"IF(V75=\"\",\"\",AL75*AR75)","v":""}]
[]
[]
[]
[null,null,null,null,null,null,null,null,null,null,null,null,null,null,null,null,null,null,null,null,null,null,null,null,null,null,null,null,null,null,null,null,null,null,null,null,null,null,null,null,null,null,null,null,null,null,null,null,{"$f":"IF(V79=\"\",\"\",AL79*AR79)","v":""}]
[]
[]
[]
[null,null,null,null,null,null,null,null,null,null,null,null,null,null,null,null,null,null,null,null,null,null,null,null,null,null,null,null,null,null,null,null,null,null,null,null,null,"値引き等"]
[null,"社長",null,null,null,"専務",null,null,null,null,null,"常務",null,null,null,null,null,"部長･工場長",null,null,null,null,null,null,null,null,"担当者",null,null,null,null,"受付"]
[]
[]
[]
[null,null,null,null,null,null,null,null,null,null,null,null,null,null,null,null,null,null,null,null,null,null,null,null,null,null,null,null,null,null,null,null,null,null,null,null,null,{"$f":"\"合計(\" & IF(税処理=2,\"税込\",\"税抜\")&\")\"","v":"合計(税抜)"},null,null,null,null,null,null,null,null,null,null,{"$f":"IF(AW19=\"\",\"\",SUM(AW19:AW79)+AW83)","v":""}]
[]
[]
[]
[]
[]
[null,null,null,null,null,null,null,null,null,null,null,null,null,null,null,null,null,null,null,"請求明細書 (現場控)"]
[null,"株 式 会 社 種 村 建 設",null,null,null,null,null,null,null,null,null,null,"御中"]
[null,null,null,null,null,null,null,null,null,null,null,null,null,null,null,null,null,null,null,null,null,null,null,null,null,null,null,null,null,null,null,null,null,null,null,null,null,null,null,null,null,"請求年月日",null,null,null,null,{"$f":"IF(AU4=\"\",\"\",AU4)","v":23},null,null,{"$f":"IF(AX4=\"\",\"\",AX4)","v":5},null,null,{"$f":"IF(BA4=\"\",\"\",BA4)","v":31}]
[]
[]
[]
[]
[null,"工事番号",null,null,null,null,{"$f":"IF(G9=\"\",\"\",G9)","v":""},null,null,null,null,null,"工事名",null,null,null,{"$f":"IF(Q9=\"\",\"\",Q9)","v":""},null,null,null,null,null,null,null,null,null,null,null,null,null,null,null,null,null,null,null,null,"業者名",null,null,null,{"$f":"IF(AP9=\"\",\"\",AP9)","v":"例：㈱種村建設"}]
[]
[]
[]
[]
[]
[null,"注文番号",null,null,null,null,{"$f":"IF(G15=\"\",\"\",G15)","v":""},null,null,null,null,null,null,null,null,null,null,"月　日",null,null,null,"摘要･品名",null,null,null,null,null,null,null,null,null,null,null,null,null,null,null,"数 量",null,null,"単位",null,null,"単価",null,null,null,null,{"$f":"\"金額(\" & IF(税処理=2,\"税込\",\"税抜\")&\")\"","v":"金額(税抜)"}]
[]
[]
[]
[null,"契約金額",null,null,null,null,{"$f":"IF(G19=\"\",\"\",G19)","v":""},null,null,null,null,null,null,null,null,null,null,{"$f":"IF(R19=\"\",\"\",R19)","v":""},null,{"$f":"IF(T19=\"\",\"\",T19)","v":""},null,{"$f":"IF(V19=\"\",\"\",V19)","v":""},null,{"$f":"IF(X19=\"\",\"\",X19)","v":""},null,{"$f":"IF(Z19=\"\",\"\",Z19)","v":""},null,{"$f":"IF(AB19=\"\",\"\",AB19)","v":""},null,{"$f":"IF(AD19=\"\",\"\",AD19)","v":""},null,{"$f":"IF(AF19=\"\",\"\",AF19)","v":""},null,{"$f":"IF(AH19=\"\",\"\",AH19)","v":""},null,{"$f":"IF(AJ19=\"\",\"\",AJ19)","v":""},null,{"$f":"IF(AL19=\"\",\"\",AL19)","v":""},null,null,{"$f":"IF(AO19=\"\",\"\",AO19)","v":""},null,null,{"$f":"IF(AR19=\"\",\"\",AR19)","v":""},null,null,null,null,{"$f":"IF(AW19=\"\",\"\",AW19)","v":""}]
[]
[]
[]
[null,"増減額",null,null,null,null,{"$f":"IF(G23=\"\",\"\",G23)","v":""},null,null,null,null,null,null,null,null,null,null,{"$f":"IF(R23=\"\",\"\",R23)","v":""},null,{"$f":"IF(T23=\"\",\"\",T23)","v":""},null,{"$f":"IF(V23=\"\",\"\",V23)","v":""},null,{"$f":"IF(X23=\"\",\"\",X23)","v":""},null,{"$f":"IF(Z23=\"\",\"\",Z23)","v":""},null,{"$f":"IF(AB23=\"\",\"\",AB23)","v":""},null,{"$f":"IF(AD23=\"\",\"\",AD23)","v":""},null,{"$f":"IF(AF23=\"\",\"\",AF23)","v":""},null,{"$f":"IF(AH23=\"\",\"\",AH23)","v":""},null,{"$f":"IF(AJ23=\"\",\"\",AJ23)","v":""},null,{"$f":"IF(AL23=\"\",\"\",AL23)","v":""},null,null,{"$f":"IF(AO23=\"\",\"\",AO23)","v":""},null,null,{"$f":"IF(AR23=\"\",\"\",AR23)","v":""},null,null,null,null,{"$f":"IF(AW23=\"\",\"\",AW23)","v":""}]
[]
[]
[]
[null,"前回までの\n請求額",null,null,null,null,{"$f":"IF(G27=\"\",\"\",G27)","v":""},null,null,null,null,null,null,null,null,null,null,{"$f":"IF(R27=\"\",\"\",R27)","v":""},null,{"$f":"IF(T27=\"\",\"\",T27)","v":""},null,{"$f":"IF(V27=\"\",\"\",V27)","v":""},null,{"$f":"IF(X27=\"\",\"\",X27)","v":""},null,{"$f":"IF(Z27=\"\",\"\",Z27)","v":""},null,{"$f":"IF(AB27=\"\",\"\",AB27)","v":""},null,{"$f":"IF(AD27=\"\",\"\",AD27)","v":""},null,{"$f":"IF(AF27=\"\",\"\",AF27)","v":""},null,{"$f":"IF(AH27=\"\",\"\",AH27)","v":""},null,{"$f":"IF(AJ27=\"\",\"\",AJ27)","v":""},null,{"$f":"IF(AL27=\"\",\"\",AL27)","v":""},null,null,{"$f":"IF(AO27=\"\",\"\",AO27)","v":""},null,null,{"$f":"IF(AR27=\"\",\"\",AR27)","v":""},null,null,null,null,{"$f":"IF(AW27=\"\",\"\",AW27)","v":""}]
[]
[]
[]
[null,"今回\n請求額",null,null,{"$f":"IF(E31=\"\",\"\",E31)","v":""},null,{"$f":"IF(G31=\"\",\"\",G31)","v":""},null,null,null,null,null,null,null,null,null,null,{"$f":"IF(R31=\"\",\"\",R31)","v":""},null,{"$f":"IF(T31=\"\",\"\",T31)","v":""},null,{"$f":"IF(V31=\"\",\"\",V31)","v":""},null,{"$f":"IF(X31=\"\",\"\",X31)","v":""},null,{"$f":"IF(Z31=\"\",\"\",Z31)","v":""},null,{"$f":"IF(AB31=\"\",\"\",AB31)","v":""},null,{"$f":"IF(AD31=\"\",\"\",AD31)","v":""},null,{"$f":"IF(AF31=\"\",\"\",AF31)","v":""},null,{"$f":"IF(AH31=\"\",\"\",AH31)","v":""},null,{"$f":"IF(AJ31=\"\",\"\",AJ31)","v":""},null,{"$f":"IF(AL31=\"\",\"\",AL31)","v":""},null,null,{"$f":"IF(AO31=\"\",\"\",AO31)","v":""},null,null,{"$f":"IF(AR31=\"\",\"\",AR31)","v":""},null,null,null,null,{"$f":"IF(AW31=\"\",\"\",AW31)","v":""}]
[]
[]
[]
[null,"差引残高",null,null,null,null,{"$f":"IF(G111=\"\",\"\",G111+G115-G119-G123)","v":""},null,null,null,null,null,null,null,null,null,null,{"$f":"IF(R35=\"\",\"\",R35)","v":""},null,{"$f":"IF(T35=\"\",\"\",T35)","v":""},null,{"$f":"IF(V35=\"\",\"\",V35)","v":""},null,{"$f":"IF(X35=\"\",\"\",X35)","v":""},null,{"$f":"IF(Z35=\"\",\"\",Z35)","v":""},null,{"$f":"IF(AB35=\"\",\"\",AB35)","v":""},null,{"$f":"IF(AD35=\"\",\"\",AD35)","v":""},null,{"$f":"IF(AF35=\"\",\"\",AF35)","v":""},null,{"$f":"IF(AH35=\"\",\"\",AH35)","v":""},null,{"$f":"IF(AJ35=\"\",\"\",AJ35)","v":""},null,{"$f":"IF(AL35=\"\",\"\",AL35)","v":""},null,null,{"$f":"IF(AO35=\"\",\"\",AO35)","v":""},null,null,{"$f":"IF(AR35=\"\",\"\",AR35)","v":""},null,null,null,null,{"$f":"IF(AW35=\"\",\"\",AW35)","v":""}]
[]
[]
[]
[null,null,null,null,null,null,null,null,null,null,null,null,null,null,null,null,null,{"$f":"IF(R39=\"\",\"\",R39)","v":""},null,{"$f":"IF(T39=\"\",\"\",T39)","v":""},null,{"$f":"IF(V39=\"\",\"\",V39)","v":""},null,{"$f":"IF(X39=\"\",\"\",X39)","v":""},null,{"$f":"IF(Z39=\"\",\"\",Z39)","v":""},null,{"$f":"IF(AB39=\"\",\"\",AB39)","v":""},null,{"$f":"IF(AD39=\"\",\"\",AD39)","v":""},null,{"$f":"IF(AF39=\"\",\"\",AF39)","v":""},null,{"$f":"IF(AH39=\"\",\"\",AH39)","v":""},null,{"$f":"IF(AJ39=\"\",\"\",AJ39)","v":""},null,{"$f":"IF(AL39=\"\",\"\",AL39)","v":""},null,null,{"$f":"IF(AO39=\"\",\"\",AO39)","v":""},null,null,{"$f":"IF(AR39=\"\",\"\",AR39)","v":""},null,null,null,null,{"$f":"IF(AW39=\"\",\"\",AW39)","v":""}]
[]
[]
[]
[null,null,null,null,null,null,null,null,null,null,null,null,null,null,null,null,null,{"$f":"IF(R43=\"\",\"\",R43)","v":""},null,{"$f":"IF(T43=\"\",\"\",T43)","v":""},null,{"$f":"IF(V43=\"\",\"\",V43)","v":""},null,{"$f":"IF(X43=\"\",\"\",X43)","v":""},null,{"$f":"IF(Z43=\"\",\"\",Z43)","v":""},null,{"$f":"IF(AB43=\"\",\"\",AB43)","v":""},null,{"$f":"IF(AD43=\"\",\"\",AD43)","v":""},null,{"$f":"IF(AF43=\"\",\"\",AF43)","v":""},null,{"$f":"IF(AH43=\"\",\"\",AH43)","v":""},null,{"$f":"IF(AJ43=\"\",\"\",AJ43)","v":""},null,{"$f":"IF(AL43=\"\",\"\",AL43)","v":""},null,null,{"$f":"IF(AO43=\"\",\"\",AO43)","v":""},null,null,{"$f":"IF(AR43=\"\",\"\",AR43)","v":""},null,null,null,null,{"$f":"IF(AW43=\"\",\"\",AW43)","v":""}]
[]
[]
[]
[null,null,null,null,null,null,null,null,null,null,null,null,null,null,null,null,null,{"$f":"IF(R47=\"\",\"\",R47)","v":""},null,{"$f":"IF(T47=\"\",\"\",T47)","v":""},null,{"$f":"IF(V47=\"\",\"\",V47)","v":""},null,{"$f":"IF(X47=\"\",\"\",X47)","v":""},null,{"$f":"IF(Z47=\"\",\"\",Z47)","v":""},null,{"$f":"IF(AB47=\"\",\"\",AB47)","v":""},null,{"$f":"IF(AD47=\"\",\"\",AD47)","v":""},null,{"$f":"IF(AF47=\"\",\"\",AF47)","v":""},null,{"$f":"IF(AH47=\"\",\"\",AH47)","v":""},null,{"$f":"IF(AJ47=\"\",\"\",AJ47)","v":""},null,{"$f":"IF(AL47=\"\",\"\",AL47)","v":""},null,null,{"$f":"IF(AO47=\"\",\"\",AO47)","v":""},null,null,{"$f":"IF(AR47=\"\",\"\",AR47)","v":""},null,null,null,null,{"$f":"IF(AW47=\"\",\"\",AW47)","v":""}]
[]
[]
[]
[null,null,null,null,null,null,null,null,null,null,null,null,null,null,null,null,null,{"$f":"IF(R51=\"\",\"\",R51)","v":""},null,{"$f":"IF(T51=\"\",\"\",T51)","v":""},null,{"$f":"IF(V51=\"\",\"\",V51)","v":""},null,{"$f":"IF(X51=\"\",\"\",X51)","v":""},null,{"$f":"IF(Z51=\"\",\"\",Z51)","v":""},null,{"$f":"IF(AB51=\"\",\"\",AB51)","v":""},null,{"$f":"IF(AD51=\"\",\"\",AD51)","v":""},null,{"$f":"IF(AF51=\"\",\"\",AF51)","v":""},null,{"$f":"IF(AH51=\"\",\"\",AH51)","v":""},null,{"$f":"IF(AJ51=\"\",\"\",AJ51)","v":""},null,{"$f":"IF(AL51=\"\",\"\",AL51)","v":""},null,null,{"$f":"IF(AO51=\"\",\"\",AO51)","v":""},null,null,{"$f":"IF(AR51=\"\",\"\",AR51)","v":""},null,null,null,null,{"$f":"IF(AW51=\"\",\"\",AW51)","v":""}]
[]
[]
[]
[null,null,null,null,null,null,null,null,null,null,null,null,null,null,null,null,null,{"$f":"IF(R55=\"\",\"\",R55)","v":""},null,{"$f":"IF(T55=\"\",\"\",T55)","v":""},null,{"$f":"IF(V55=\"\",\"\",V55)","v":""},null,{"$f":"IF(X55=\"\",\"\",X55)","v":""},null,{"$f":"IF(Z55=\"\",\"\",Z55)","v":""},null,{"$f":"IF(AB55=\"\",\"\",AB55)","v":""},null,{"$f":"IF(AD55=\"\",\"\",AD55)","v":""},null,{"$f":"IF(AF55=\"\",\"\",AF55)","v":""},null,{"$f":"IF(AH55=\"\",\"\",AH55)","v":""},null,{"$f":"IF(AJ55=\"\",\"\",AJ55)","v":""},null,{"$f":"IF(AL55=\"\",\"\",AL55)","v":""},null,null,{"$f":"IF(AO55=\"\",\"\",AO55)","v":""},null,null,{"$f":"IF(AR55=\"\",\"\",AR55)","v":""},null,null,null,null,{"$f":"IF(AW55=\"\",\"\",AW55)","v":""}]
[]
[]
[]
[null,null,null,null,null,null,null,null,null,null,null,null,null,null,null,null,null,{"$f":"IF(R59=\"\",\"\",R59)","v":""},null,{"$f":"IF(T59=\"\",\"\",T59)","v":""},null,{"$f":"IF(V59=\"\",\"\",V59)","v":""},null,{"$f":"IF(X59=\"\",\"\",X59)","v":""},null,{"$f":"IF(Z59=\"\",\"\",Z59)","v":""},null,{"$f":"IF(AB59=\"\",\"\",AB59)","v":""},null,{"$f":"IF(AD59=\"\",\"\",AD59)","v":""},null,{"$f":"IF(AF59=\"\",\"\",AF59)","v":""},null,{"$f":"IF(AH59=\"\",\"\",AH59)","v":""},null,{"$f":"IF(AJ59=\"\",\"\",AJ59)","v":""},null,{"$f":"IF(AL59=\"\",\"\",AL59)","v":""},null,null,{"$f":"IF(AO59=\"\",\"\",AO59)","v":""},null,null,{"$f":"IF(AR59=\"\",\"\",AR59)","v":""},null,null,null,null,{"$f":"IF(AW59=\"\",\"\",AW59)","v":""}]
[]
[]
[]
[null,null,null,null,null,null,null,null,null,null,null,null,null,null,null,null,null,{"$f":"IF(R63=\"\",\"\",R63)","v":""},null,{"$f":"IF(T63=\"\",\"\",T63)","v":""},null,{"$f":"IF(V63=\"\",\"\",V63)","v":""},null,{"$f":"IF(X63=\"\",\"\",X63)","v":""},null,{"$f":"IF(Z63=\"\",\"\",Z63)","v":""},null,{"$f":"IF(AB63=\"\",\"\",AB63)","v":""},null,{"$f":"IF(AD63=\"\",\"\",AD63)","v":""},null,{"$f":"IF(AF63=\"\",\"\",AF63)","v":""},null,{"$f":"IF(AH63=\"\",\"\",AH63)","v":""},null,{"$f":"IF(AJ63=\"\",\"\",AJ63)","v":""},null,{"$f":"IF(AL63=\"\",\"\",AL63)","v":""},null,null,{"$f":"IF(AO63=\"\",\"\",AO63)","v":""},null,null,{"$f":"IF(AR63=\"\",\"\",AR63)","v":""},null,null,null,null,{"$f":"IF(AW63=\"\",\"\",AW63)","v":""}]
[]
[]
[]
[null,null,null,null,null,null,null,null,null,null,null,null,null,null,null,null,null,{"$f":"IF(R67=\"\",\"\",R67)","v":""},null,{"$f":"IF(T67=\"\",\"\",T67)","v":""},null,{"$f":"IF(V67=\"\",\"\",V67)","v":""},null,{"$f":"IF(X67=\"\",\"\",X67)","v":""},null,{"$f":"IF(Z67=\"\",\"\",Z67)","v":""},null,{"$f":"IF(AB67=\"\",\"\",AB67)","v":""},null,{"$f":"IF(AD67=\"\",\"\",AD67)","v":""},null,{"$f":"IF(AF67=\"\",\"\",AF67)","v":""},null,{"$f":"IF(AH67=\"\",\"\",AH67)","v":""},null,{"$f":"IF(AJ67=\"\",\"\",AJ67)","v":""},null,{"$f":"IF(AL67=\"\",\"\",AL67)","v":""},null,null,{"$f":"IF(AO67=\"\",\"\",AO67)","v":""},null,null,{"$f":"IF(AR67=\"\",\"\",AR67)","v":""},null,null,null,null,{"$f":"IF(AW67=\"\",\"\",AW67)","v":""}]
[]
[]
[]
[null,null,null,null,null,null,null,null,null,null,null,null,null,null,null,null,null,{"$f":"IF(R71=\"\",\"\",R71)","v":""},null,{"$f":"IF(T71=\"\",\"\",T71)","v":""},null,{"$f":"IF(V71=\"\",\"\",V71)","v":""},null,{"$f":"IF(X71=\"\",\"\",X71)","v":""},null,{"$f":"IF(Z71=\"\",\"\",Z71)","v":""},null,{"$f":"IF(AB71=\"\",\"\",AB71)","v":""},null,{"$f":"IF(AD71=\"\",\"\",AD71)","v":""},null,{"$f":"IF(AF71=\"\",\"\",AF71)","v":""},null,{"$f":"IF(AH71=\"\",\"\",AH71)","v":""},null,{"$f":"IF(AJ71=\"\",\"\",AJ71)","v":""},null,{"$f":"IF(AL71=\"\",\"\",AL71)","v":""},null,null,{"$f":"IF(AO71=\"\",\"\",AO71)","v":""},null,null,{"$f":"IF(AR71=\"\",\"\",AR71)","v":""},null,null,null,null,{"$f":"IF(AW71=\"\",\"\",AW71)","v":""}]
[]
[]
[]
[null,null,null,null,null,null,null,null,null,null,null,null,null,null,null,null,null,{"$f":"IF(R75=\"\",\"\",R75)","v":""},null,{"$f":"IF(T75=\"\",\"\",T75)","v":""},null,{"$f":"IF(V75=\"\",\"\",V75)","v":""},null,{"$f":"IF(X75=\"\",\"\",X75)","v":""},null,{"$f":"IF(Z75=\"\",\"\",Z75)","v":""},null,{"$f":"IF(AB75=\"\",\"\",AB75)","v":""},null,{"$f":"IF(AD75=\"\",\"\",AD75)","v":""},null,{"$f":"IF(AF75=\"\",\"\",AF75)","v":""},null,{"$f":"IF(AH75=\"\",\"\",AH75)","v":""},null,{"$f":"IF(AJ75=\"\",\"\",AJ75)","v":""},null,{"$f":"IF(AL75=\"\",\"\",AL75)","v":""},null,null,{"$f":"IF(AO75=\"\",\"\",AO75)","v":""},null,null,{"$f":"IF(AR75=\"\",\"\",AR75)","v":""},null,null,null,null,{"$f":"IF(AW75=\"\",\"\",AW75)","v":""}]
[]
[]
[]
[null,null,null,null,null,null,null,null,null,null,null,null,null,null,null,null,null,{"$f":"IF(R79=\"\",\"\",R79)","v":""},null,{"$f":"IF(T79=\"\",\"\",T79)","v":""},null,{"$f":"IF(V79=\"\",\"\",V79)","v":""},null,{"$f":"IF(X79=\"\",\"\",X79)","v":""},null,{"$f":"IF(Z79=\"\",\"\",Z79)","v":""},null,{"$f":"IF(AB79=\"\",\"\",AB79)","v":""},null,{"$f":"IF(AD79=\"\",\"\",AD79)","v":""},null,{"$f":"IF(AF79=\"\",\"\",AF79)","v":""},null,{"$f":"IF(AH79=\"\",\"\",AH79)","v":""},null,{"$f":"IF(AJ79=\"\",\"\",AJ79)","v":""},null,{"$f":"IF(AL79=\"\",\"\",AL79)","v":""},null,null,{"$f":"IF(AO79=\"\",\"\",AO79)","v":""},null,null,{"$f":"IF(AR79=\"\",\"\",AR79)","v":""},null,null,null,null,{"$f":"IF(AW79=\"\",\"\",AW79)","v":""}]
[]
[]
[]
[null,null,null,null,null,null,null,null,null,null,null,null,null,null,null,null,null,null,null,null,null,null,null,null,null,null,null,null,null,null,null,null,null,null,null,null,null,"値引き等",null,null,null,null,null,null,null,null,null,null,{"$f":"IF(AW83=\"\",\"\",AW83)","v":""}]
[]
[]
[]
[]
[null,null,null,null,null,null,null,null,null,null,null,null,null,null,null,null,null,null,null,null,null,null,null,null,null,null,null,null,null,null,null,null,null,null,null,null,null,{"$f":"\"合計(\" & IF(税処理=2,\"税込\",\"税抜\")&\")\"","v":"合計(税抜)"},null,null,null,null,null,null,null,null,null,null,{"$f":"IF(AW88=\"\",\"\",AW88)","v":""}]
[]
[]
[]
[]
[]
[null,null,null,null,null,null,null,null,null,null,null,null,null,null,null,null,null,null,null,"請求明細書 (貴社控)"]
[null,"株 式 会 社 種 村 建 設",null,null,null,null,null,null,null,null,null,null,"御中"]
[null,null,null,null,null,null,null,null,null,null,null,null,null,null,null,null,null,null,null,null,null,null,null,null,null,null,null,null,null,null,null,null,null,null,null,null,null,null,null,null,null,"請求年月日",null,null,null,null,{"$f":"IF(AU96=\"\",\"\",AU96)","v":23},null,null,{"$f":"IF(AX96=\"\",\"\",AX96)","v":5},null,null,{"$f":"IF(BA96=\"\",\"\",BA96)","v":31}]
[]
[]
[]
[]
[null,"工事番号",null,null,null,null,{"$f":"IF(G101=\"\",\"\",G101)","v":""},null,null,null,null,null,"工事名",null,null,null,{"$f":"IF(Q101=\"\",\"\",Q101)","v":""},null,null,null,null,null,null,null,null,null,null,null,null,null,null,null,null,null,null,null,null,"業者名",null,null,null,{"$f":"IF(AP101=\"\",\"\",AP101)","v":"例：㈱種村建設"}]
[]
[]
[]
[]
[]
[null,"注文番号",null,null,null,null,{"$f":"IF(G107=\"\",\"\",G107)","v":""},null,null,null,null,null,null,null,null,null,null,"月　日",null,null,null,"摘要･品名",null,null,null,null,null,null,null,null,null,null,null,null,null,null,null,"数 量",null,null,"単位",null,null,"単価",null,null,null,null,{"$f":"\"金額(\" & IF(税処理=2,\"税込\",\"税抜\")&\")\"","v":"金額(税抜)"}]
[]
[]
[]
[null,"契約金額",null,null,null,null,{"$f":"IF(G111=\"\",\"\",G111)","v":""},null,null,null,null,null,null,null,null,null,null,{"$f":"IF(R111=\"\",\"\",R111)","v":""},null,{"$f":"IF(T111=\"\",\"\",T111)","v":""},null,{"$f":"IF(V111=\"\",\"\",V111)","v":""},null,{"$f":"IF(X111=\"\",\"\",X111)","v":""},null,{"$f":"IF(Z111=\"\",\"\",Z111)","v":""},null,{"$f":"IF(AB111=\"\",\"\",AB111)","v":""},null,{"$f":"IF(AD111=\"\",\"\",AD111)","v":""},null,{"$f":"IF(AF111=\"\",\"\",AF111)","v":""},null,{"$f":"IF(AH111=\"\",\"\",AH111)","v":""},null,{"$f":"IF(AJ111=\"\",\"\",AJ111)","v":""},null,{"$f":"IF(AL111=\"\",\"\",AL111)","v":""},null,null,{"$f":"IF(AO111=\"\",\"\",AO111)","v":""},null,null,{"$f":"IF(AR111=\"\",\"\",AR111)","v":""},null,null,null,null,{"$f":"IF(AW111=\"\",\"\",AW111)","v":""}]
[]
[]
[]
[null,"増減額",null,null,null,null,{"$f":"IF(G115=\"\",\"\",G115)","v":""},null,null,null,null,null,null,null,null,null,null,{"$f":"IF(R115=\"\",\"\",R115)","v":""},null,{"$f":"IF(T115=\"\",\"\",T115)","v":""},null,{"$f":"IF(V115=\"\",\"\",V115)","v":""},null,{"$f":"IF(X115=\"\",\"\",X115)","v":""},null,{"$f":"IF(Z115=\"\",\"\",Z115)","v":""},null,{"$f":"IF(AB115=\"\",\"\",AB115)","v":""},null,{"$f":"IF(AD115=\"\",\"\",AD115)","v":""},null,{"$f":"IF(AF115=\"\",\"\",AF115)","v":""},null,{"$f":"IF(AH115=\"\",\"\",AH115)","v":""},null,{"$f":"IF(AJ115=\"\",\"\",AJ115)","v":""},null,{"$f":"IF(AL115=\"\",\"\",AL115)","v":""},null,null,{"$f":"IF(AO115=\"\",\"\",AO115)","v":""},null,null,{"$f":"IF(AR115=\"\",\"\",AR115)","v":""},null,null,null,null,{"$f":"IF(AW115=\"\",\"\",AW115)","v":""}]
[]
[]
[]
[null,"前回までの\n請求額",null,null,null,null,{"$f":"IF(G119=\"\",\"\",G119)","v":""},null,null,null,null,null,null,null,null,null,null,{"$f":"IF(R119=\"\",\"\",R119)","v":""},null,{"$f":"IF(T119=\"\",\"\",T119)","v":""},null,{"$f":"IF(V119=\"\",\"\",V119)","v":""},null,{"$f":"IF(X119=\"\",\"\",X119)","v":""},null,{"$f":"IF(Z119=\"\",\"\",Z119)","v":""},null,{"$f":"IF(AB119=\"\",\"\",AB119)","v":""},null,{"$f":"IF(AD119=\"\",\"\",AD119)","v":""},null,{"$f":"IF(AF119=\"\",\"\",AF119)","v":""},null,{"$f":"IF(AH119=\"\",\"\",AH119)","v":""},null,{"$f":"IF(AJ119=\"\",\"\",AJ119)","v":""},null,{"$f":"IF(AL119=\"\",\"\",AL119)","v":""},null,null,{"$f":"IF(AO119=\"\",\"\",AO119)","v":""},null,null,{"$f":"IF(AR119=\"\",\"\",AR119)","v":""},null,null,null,null,{"$f":"IF(AW119=\"\",\"\",AW119)","v":""}]
[]
[]
[]
[null,"今回\n請求額",null,null,{"$f":"IF(E31=\"\",\"\",E31)","v":""},null,{"$f":"IF(G123=\"\",\"\",G123)","v":""},null,null,null,null,null,null,null,null,null,null,{"$f":"IF(R123=\"\",\"\",R123)","v":""},null,{"$f":"IF(T123=\"\",\"\",T123)","v":""},null,{"$f":"IF(V123=\"\",\"\",V123)","v":""},null,{"$f":"IF(X123=\"\",\"\",X123)","v":""},null,{"$f":"IF(Z123=\"\",\"\",Z123)","v":""},null,{"$f":"IF(AB123=\"\",\"\",AB123)","v":""},null,{"$f":"IF(AD123=\"\",\"\",AD123)","v":""},null,{"$f":"IF(AF123=\"\",\"\",AF123)","v":""},null,{"$f":"IF(AH123=\"\",\"\",AH123)","v":""},null,{"$f":"IF(AJ123=\"\",\"\",AJ123)","v":""},null,{"$f":"IF(AL123=\"\",\"\",AL123)","v":""},null,null,{"$f":"IF(AO123=\"\",\"\",AO123)","v":""},null,null,{"$f":"IF(AR123=\"\",\"\",AR123)","v":""},null,null,null,null,{"$f":"IF(AW123=\"\",\"\",AW123)","v":""}]
[]
[]
[]
[null,"差引残高",null,null,null,null,{"$f":"IF(G203=\"\",\"\",G203+G207-G211-G215)","v":""},null,null,null,null,null,null,null,null,null,null,{"$f":"IF(R127=\"\",\"\",R127)","v":""},null,{"$f":"IF(T127=\"\",\"\",T127)","v":""},null,{"$f":"IF(V127=\"\",\"\",V127)","v":""},null,{"$f":"IF(X127=\"\",\"\",X127)","v":""},null,{"$f":"IF(Z127=\"\",\"\",Z127)","v":""},null,{"$f":"IF(AB127=\"\",\"\",AB127)","v":""},null,{"$f":"IF(AD127=\"\",\"\",AD127)","v":""},null,{"$f":"IF(AF127=\"\",\"\",AF127)","v":""},null,{"$f":"IF(AH127=\"\",\"\",AH127)","v":""},null,{"$f":"IF(AJ127=\"\",\"\",AJ127)","v":""},null,{"$f":"IF(AL127=\"\",\"\",AL127)","v":""},null,null,{"$f":"IF(AO127=\"\",\"\",AO127)","v":""},null,null,{"$f":"IF(AR127=\"\",\"\",AR127)","v":""},null,null,null,null,{"$f":"IF(AW127=\"\",\"\",AW127)","v":""}]
[]
[]
[]
[null,null,null,null,null,null,null,null,null,null,null,null,null,null,null,null,null,{"$f":"IF(R131=\"\",\"\",R131)","v":""},null,{"$f":"IF(T131=\"\",\"\",T131)","v":""},null,{"$f":"IF(V131=\"\",\"\",V131)","v":""},null,{"$f":"IF(X131=\"\",\"\",X131)","v":""},null,{"$f":"IF(Z131=\"\",\"\",Z131)","v":""},null,{"$f":"IF(AB131=\"\",\"\",AB131)","v":""},null,{"$f":"IF(AD131=\"\",\"\",AD131)","v":""},null,{"$f":"IF(AF131=\"\",\"\",AF131)","v":""},null,{"$f":"IF(AH131=\"\",\"\",AH131)","v":""},null,{"$f":"IF(AJ131=\"\",\"\",AJ131)","v":""},null,{"$f":"IF(AL131=\"\",\"\",AL131)","v":""},null,null,{"$f":"IF(AO131=\"\",\"\",AO131)","v":""},null,null,{"$f":"IF(AR131=\"\",\"\",AR131)","v":""},null,null,null,null,{"$f":"IF(AW131=\"\",\"\",AW131)","v":""}]
[]
[]
[]
[null,null,null,null,null,null,null,null,null,null,null,null,null,null,null,null,null,{"$f":"IF(R135=\"\",\"\",R135)","v":""},null,{"$f":"IF(T135=\"\",\"\",T135)","v":""},null,{"$f":"IF(V135=\"\",\"\",V135)","v":""},null,{"$f":"IF(X135=\"\",\"\",X135)","v":""},null,{"$f":"IF(Z135=\"\",\"\",Z135)","v":""},null,{"$f":"IF(AB135=\"\",\"\",AB135)","v":""},null,{"$f":"IF(AD135=\"\",\"\",AD135)","v":""},null,{"$f":"IF(AF135=\"\",\"\",AF135)","v":""},null,{"$f":"IF(AH135=\"\",\"\",AH135)","v":""},null,{"$f":"IF(AJ135=\"\",\"\",AJ135)","v":""},null,{"$f":"IF(AL135=\"\",\"\",AL135)","v":""},null,null,{"$f":"IF(AO135=\"\",\"\",AO135)","v":""},null,null,{"$f":"IF(AR135=\"\",\"\",AR135)","v":""},null,null,null,null,{"$f":"IF(AW135=\"\",\"\",AW135)","v":""}]
[]
[]
[]
[null,null,null,null,null,null,null,null,null,null,null,null,null,null,null,null,null,{"$f":"IF(R139=\"\",\"\",R139)","v":""},null,{"$f":"IF(T139=\"\",\"\",T139)","v":""},null,{"$f":"IF(V139=\"\",\"\",V139)","v":""},null,{"$f":"IF(X139=\"\",\"\",X139)","v":""},null,{"$f":"IF(Z139=\"\",\"\",Z139)","v":""},null,{"$f":"IF(AB139=\"\",\"\",AB139)","v":""},null,{"$f":"IF(AD139=\"\",\"\",AD139)","v":""},null,{"$f":"IF(AF139=\"\",\"\",AF139)","v":""},null,{"$f":"IF(AH139=\"\",\"\",AH139)","v":""},null,{"$f":"IF(AJ139=\"\",\"\",AJ139)","v":""},null,{"$f":"IF(AL139=\"\",\"\",AL139)","v":""},null,null,{"$f":"IF(AO139=\"\",\"\",AO139)","v":""},null,null,{"$f":"IF(AR139=\"\",\"\",AR139)","v":""},null,null,null,null,{"$f":"IF(AW139=\"\",\"\",AW139)","v":""}]
[]
[]
[]
[null,null,null,null,null,null,null,null,null,null,null,null,null,null,null,null,null,{"$f":"IF(R143=\"\",\"\",R143)","v":""},null,{"$f":"IF(T143=\"\",\"\",T143)","v":""},null,{"$f":"IF(V143=\"\",\"\",V143)","v":""},null,{"$f":"IF(X143=\"\",\"\",X143)","v":""},null,{"$f":"IF(Z143=\"\",\"\",Z143)","v":""},null,{"$f":"IF(AB143=\"\",\"\",AB143)","v":""},null,{"$f":"IF(AD143=\"\",\"\",AD143)","v":""},null,{"$f":"IF(AF143=\"\",\"\",AF143)","v":""},null,{"$f":"IF(AH143=\"\",\"\",AH143)","v":""},null,{"$f":"IF(AJ143=\"\",\"\",AJ143)","v":""},null,{"$f":"IF(AL143=\"\",\"\",AL143)","v":""},null,null,{"$f":"IF(AO143=\"\",\"\",AO143)","v":""},null,null,{"$f":"IF(AR143=\"\",\"\",AR143)","v":""},null,null,null,null,{"$f":"IF(AW143=\"\",\"\",AW143)","v":""}]
[]
[]
[]
[null,null,null,null,null,null,null,null,null,null,null,null,null,null,null,null,null,{"$f":"IF(R147=\"\",\"\",R147)","v":""},null,{"$f":"IF(T147=\"\",\"\",T147)","v":""},null,{"$f":"IF(V147=\"\",\"\",V147)","v":""},null,{"$f":"IF(X147=\"\",\"\",X147)","v":""},null,{"$f":"IF(Z147=\"\",\"\",Z147)","v":""},null,{"$f":"IF(AB147=\"\",\"\",AB147)","v":""},null,{"$f":"IF(AD147=\"\",\"\",AD147)","v":""},null,{"$f":"IF(AF147=\"\",\"\",AF147)","v":""},null,{"$f":"IF(AH147=\"\",\"\",AH147)","v":""},null,{"$f":"IF(AJ147=\"\",\"\",AJ147)","v":""},null,{"$f":"IF(AL147=\"\",\"\",AL147)","v":""},null,null,{"$f":"IF(AO147=\"\",\"\",AO147)","v":""},null,null,{"$f":"IF(AR147=\"\",\"\",AR147)","v":""},null,null,null,null,{"$f":"IF(AW147=\"\",\"\",AW147)","v":""}]
[]
[]
[]
[null,null,null,null,null,null,null,null,null,null,null,null,null,null,null,null,null,{"$f":"IF(R151=\"\",\"\",R151)","v":""},null,{"$f":"IF(T151=\"\",\"\",T151)","v":""},null,{"$f":"IF(V151=\"\",\"\",V151)","v":""},null,{"$f":"IF(X151=\"\",\"\",X151)","v":""},null,{"$f":"IF(Z151=\"\",\"\",Z151)","v":""},null,{"$f":"IF(AB151=\"\",\"\",AB151)","v":""},null,{"$f":"IF(AD151=\"\",\"\",AD151)","v":""},null,{"$f":"IF(AF151=\"\",\"\",AF151)","v":""},null,{"$f":"IF(AH151=\"\",\"\",AH151)","v":""},null,{"$f":"IF(AJ151=\"\",\"\",AJ151)","v":""},null,{"$f":"IF(AL151=\"\",\"\",AL151)","v":""},null,null,{"$f":"IF(AO151=\"\",\"\",AO151)","v":""},null,null,{"$f":"IF(AR151=\"\",\"\",AR151)","v":""},null,null,null,null,{"$f":"IF(AW151=\"\",\"\",AW151)","v":""}]
[]
[]
[]
[null,null,null,null,null,null,null,null,null,null,null,null,null,null,null,null,null,{"$f":"IF(R155=\"\",\"\",R155)","v":""},null,{"$f":"IF(T155=\"\",\"\",T155)","v":""},null,{"$f":"IF(V155=\"\",\"\",V155)","v":""},null,{"$f":"IF(X155=\"\",\"\",X155)","v":""},null,{"$f":"IF(Z155=\"\",\"\",Z155)","v":""},null,{"$f":"IF(AB155=\"\",\"\",AB155)","v":""},null,{"$f":"IF(AD155=\"\",\"\",AD155)","v":""},null,{"$f":"IF(AF155=\"\",\"\",AF155)","v":""},null,{"$f":"IF(AH155=\"\",\"\",AH155)","v":""},null,{"$f":"IF(AJ155=\"\",\"\",AJ155)","v":""},null,{"$f":"IF(AL155=\"\",\"\",AL155)","v":""},null,null,{"$f":"IF(AO155=\"\",\"\",AO155)","v":""},null,null,{"$f":"IF(AR155=\"\",\"\",AR155)","v":""},null,null,null,null,{"$f":"IF(AW155=\"\",\"\",AW155)","v":""}]
[]
[]
[]
[null,null,null,null,null,null,null,null,null,null,null,null,null,null,null,null,null,{"$f":"IF(R159=\"\",\"\",R159)","v":""},null,{"$f":"IF(T159=\"\",\"\",T159)","v":""},null,{"$f":"IF(V159=\"\",\"\",V159)","v":""},null,{"$f":"IF(X159=\"\",\"\",X159)","v":""},null,{"$f":"IF(Z159=\"\",\"\",Z159)","v":""},null,{"$f":"IF(AB159=\"\",\"\",AB159)","v":""},null,{"$f":"IF(AD159=\"\",\"\",AD159)","v":""},null,{"$f":"IF(AF159=\"\",\"\",AF159)","v":""},null,{"$f":"IF(AH159=\"\",\"\",AH159)","v":""},null,{"$f":"IF(AJ159=\"\",\"\",AJ159)","v":""},null,{"$f":"IF(AL159=\"\",\"\",AL159)","v":""},null,null,{"$f":"IF(AO159=\"\",\"\",AO159)","v":""},null,null,{"$f":"IF(AR159=\"\",\"\",AR159)","v":""},null,null,null,null,{"$f":"IF(AW159=\"\",\"\",AW159)","v":""}]
[]
[]
[]
[null,null,null,null,null,null,null,null,null,null,null,null,null,null,null,null,null,{"$f":"IF(R163=\"\",\"\",R163)","v":""},null,{"$f":"IF(T163=\"\",\"\",T163)","v":""},null,{"$f":"IF(V163=\"\",\"\",V163)","v":""},null,{"$f":"IF(X163=\"\",\"\",X163)","v":""},null,{"$f":"IF(Z163=\"\",\"\",Z163)","v":""},null,{"$f":"IF(AB163=\"\",\"\",AB163)","v":""},null,{"$f":"IF(AD163=\"\",\"\",AD163)","v":""},null,{"$f":"IF(AF163=\"\",\"\",AF163)","v":""},null,{"$f":"IF(AH163=\"\",\"\",AH163)","v":""},null,{"$f":"IF(AJ163=\"\",\"\",AJ163)","v":""},null,{"$f":"IF(AL163=\"\",\"\",AL163)","v":""},null,null,{"$f":"IF(AO163=\"\",\"\",AO163)","v":""},null,null,{"$f":"IF(AR163=\"\",\"\",AR163)","v":""},null,null,null,null,{"$f":"IF(AW163=\"\",\"\",AW163)","v":""}]
[]
[]
[]
[null,null,null,null,null,null,null,null,null,null,null,null,null,null,null,null,null,{"$f":"IF(R167=\"\",\"\",R167)","v":""},null,{"$f":"IF(T167=\"\",\"\",T167)","v":""},null,{"$f":"IF(V167=\"\",\"\",V167)","v":""},null,{"$f":"IF(X167=\"\",\"\",X167)","v":""},null,{"$f":"IF(Z167=\"\",\"\",Z167)","v":""},null,{"$f":"IF(AB167=\"\",\"\",AB167)","v":""},null,{"$f":"IF(AD167=\"\",\"\",AD167)","v":""},null,{"$f":"IF(AF167=\"\",\"\",AF167)","v":""},null,{"$f":"IF(AH167=\"\",\"\",AH167)","v":""},null,{"$f":"IF(AJ167=\"\",\"\",AJ167)","v":""},null,{"$f":"IF(AL167=\"\",\"\",AL167)","v":""},null,null,{"$f":"IF(AO167=\"\",\"\",AO167)","v":""},null,null,{"$f":"IF(AR167=\"\",\"\",AR167)","v":""},null,null,null,null,{"$f":"IF(AW167=\"\",\"\",AW167)","v":""}]
[]
[]
[]
[null,null,null,null,null,null,null,null,null,null,null,null,null,null,null,null,null,{"$f":"IF(R171=\"\",\"\",R171)","v":""},null,{"$f":"IF(T171=\"\",\"\",T171)","v":""},null,{"$f":"IF(V171=\"\",\"\",V171)","v":""},null,{"$f":"IF(X171=\"\",\"\",X171)","v":""},null,{"$f":"IF(Z171=\"\",\"\",Z171)","v":""},null,{"$f":"IF(AB171=\"\",\"\",AB171)","v":""},null,{"$f":"IF(AD171=\"\",\"\",AD171)","v":""},null,{"$f":"IF(AF171=\"\",\"\",AF171)","v":""},null,{"$f":"IF(AH171=\"\",\"\",AH171)","v":""},null,{"$f":"IF(AJ171=\"\",\"\",AJ171)","v":""},null,{"$f":"IF(AL171=\"\",\"\",AL171)","v":""},null,null,{"$f":"IF(AO171=\"\",\"\",AO171)","v":""},null,null,{"$f":"IF(AR171=\"\",\"\",AR171)","v":""},null,null,null,null,{"$f":"IF(AW171=\"\",\"\",AW171)","v":""}]
[]
[]
[]
[null,null,null,null,null,null,null,null,null,null,null,null,null,null,null,null,null,null,null,null,null,null,null,null,null,null,null,null,null,null,null,null,null,null,null,null,null,"値引き等",null,null,null,null,null,null,null,null,null,null,{"$f":"IF(AW175=\"\",\"\",AW175)","v":""}]
[]
[]
[]
[]
[null,null,null,null,null,null,null,null,null,null,null,null,null,null,null,null,null,null,null,null,null,null,null,null,null,null,null,null,null,null,null,null,null,null,null,null,null,{"$f":"\"合計(\" & IF(税処理=2,\"税込\",\"税抜\")&\")\"","v":"合計(税抜)"},null,null,null,null,null,null,null,null,null,null,{"$f":"IF(AW180=\"\",\"\",AW180)","v":""}]

{"sheet":"細2-6","index":20,"n_rows":272,"n_cols":53,"rows_kept":272,"cut":false,"hidden":false,"merged":[[3,46,5,48],[3,49,5,51],[3,52,5,54],[8,37,11,40],[8,41,11,54],[3,41,5,45],[1,19,4,32],[2,1,5,11],[2,12,5,13],[8,1,11,5],[8,6,11,11],[8,12,11,15],[8,16,11,35],[14,43,17,47],[14,48,17,54],[14,1,17,5],[14,6,17,15],[14,17,17,20],[14,21,17,36],[18,1,21,5],[18,6,21,15],[18,17,21,18],[18,19,21,20],[14,37,17,39],[14,40,17,42],[18,21,21,36],[18,37,21,39],[18,40,21,42],[18,43,21,47],[26,1,29,5],[26,6,29,15],[26,17,29,18],[26,19,29,20],[18,48,21,54],[22,1,25,5],[22,6,25,15],[22,17,25,18],[22,19,25,20],[22,21,25,36],[26,21,29,36],[26,37,29,39],[26,40,29,42],[26,43,29,47],[22,37,25,39],[22,40,25,42],[22,43,25,47],[34,48,37,54],[26,48,29,54],[30,1,33,3],[30,4,33,5],[30,6,33,15],[30,17,33,18],[30,19,33,20],[22,48,25,54],[38,17,41,18],[38,19,41,20],[38,21,41,36],[38,37,41,39],[30,48,33,54],[34,1,37,5],[34,6,37,15],[34,17,37,18],[34,19,37,20],[34,21,37,36],[38,40,41,42],[38,43,41,47],[38,48,41,54],[30,21,33,36],[30,37,33,39],[30,40,33,42],[30,43,33,47],[34,37,37,39],[34,40,37,42],[34,43,37,47],[46,40,49,42],[46,43,49,47],[46,21,49,36],[46,37,49,39],[54,40,57,42],[54,43,57,47],[42,17,45,18],[42,19,45,20],[42,21,45,36],[42,37,45,39],[42,40,45,42],[42,43,45,47],[42,48,45,54],[46,48,49,54],[50,17,53,18],[50,19,53,20],[50,21,53,36],[50,37,53,39],[50,40,53,42],[50,43,53,47],[50,48,53,54],[46,17,49,18],[46,19,49,20],[58,17,61,18],[58,19,61,20],[58,21,61,36],[58,37,61,39],[58,40,61,42],[58,43,61,47],[58,48,61,54],[54,17,57,18],[54,19,57,20],[54,21,57,36],[54,37,57,39],[54,48,57,54],[62,40,65,42],[62,43,65,47],[62,21,65,36],[62,37,65,39],[70,40,73,42],[70,43,73,47],[70,48,73,54],[62,48,65,54],[66,17,69,18],[66,19,69,20],[66,21,69,36],[66,37,69,39],[66,40,69,42],[66,43,69,47],[66,48,69,54],[62,17,65,18],[62,19,65,20],[74,17,77,18],[74,19,77,20],[74,21,77,36],[74,37,77,39],[74,40,77,42],[74,43,77,47],[74,48,77,54],[70,17,73,18],[70,19,73,20],[70,21,73,36],[70,37,73,39],[78,48,81,54],[82,37,85,47],[82,48,85,54],[78,37,81,39],[78,40,81,42],[85,11,90,16],[85,17,90,25],[78,43,81,47],[83,26,84,30],[83,31,84,35],[78,17,81,18],[78,19,81,20],[78,21,81,36],[85,26,90,30],[85,31,90,35],[83,1,84,4],[83,5,84,10],[87,37,90,47],[83,11,84,16],[83,17,84,25],[95,46,97,48],[85,1,90,4],[85,5,90,10],[87,48,90,54],[95,49,97,51],[95,52,97,54],[100,1,103,5],[100,6,103,11],[100,12,103,15],[100,16,103,35],[100,37,103,40],[100,41,103,54],[93,19,96,32],[94,1,97,11],[94,12,97,13],[95,41,97,45],[106,37,109,39],[106,40,109,42],[106,43,109,47],[106,48,109,54],[106,1,109,5],[106,6,109,15],[106,17,109,20],[106,21,109,36],[110,21,113,36],[110,37,113,39],[110,40,113,42],[110,43,113,47],[110,1,113,5],[110,6,113,15],[110,17,113,18],[110,19,113,20],[110,48,113,54],[114,1,117,5],[114,6,117,15],[114,17,117,18],[114,19,117,20],[114,21,117,36],[114,37,117,39],[114,40,117,42],[114,43,117,47],[114,48,117,54],[118,21,121,36],[118,37,121,39],[118,40,121,42],[118,43,121,47],[118,1,121,5],[118,6,121,15],[118,17,121,18],[118,19,121,20],[118,48,121,54],[122,48,125,54],[126,1,129,5],[126,6,129,15],[126,17,129,18],[126,19,129,20],[126,21,129,36],[126,37,129,39],[126,40,129,42],[126,43,129,47],[126,48,129,54],[122,1,125,3],[122,4,125,5],[122,6,125,15],[122,17,125,18],[122,19,125,20],[122,21,125,36],[122,37,125,39],[122,40,125,42],[122,43,125,47],[130,40,133,42],[130,43,133,47],[130,21,133,36],[130,37,133,39],[138,40,141,42],[138,43,141,47],[138,48,141,54],[130,48,133,54],[134,17,137,18],[134,19,137,20],[134,21,137,36],[134,37,137,39],[134,40,137,42],[134,43,137,47],[134,48,137,54],[130,17,133,18],[130,19,133,20],[142,17,145,18],[142,19,145,20],[142,21,145,36],[142,37,145,39],[142,40,145,42],[142,43,145,47],[142,48,145,54],[138,17,141,18],[138,19,141,20],[138,21,141,36],[138,37,141,39],[154,48,157,54],[146,48,149,54],[150,17,153,18],[150,19,153,20],[150,21,153,36],[150,37,153,39],[150,40,153,42],[150,43,153,47],[150,48,153,54],[146,17,149,18],[146,19,149,20],[154,17,157,18],[154,19,157,20],[154,21,157,36],[154,37,157,39],[146,40,149,42],[146,43,149,47],[146,21,149,36],[146,37,149,39],[154,40,157,42],[154,43,157,47],[170,48,173,54],[174,37,177,47],[174,48,177,54],[170,17,173,18],[170,19,173,20],[158,17,161,18],[158,19,161,20],[158,21,161,36],[158,37,161,39],[158,40,161,42],[158,43,161,47],[158,48,161,54],[170,21,173,36],[170,37,173,39],[179,48,182,54],[185,19,188,32],[186,1,189,11],[186,12,189,13],[187,41,189,45],[192,37,195,40],[192,41,195,54],[162,40,165,42],[162,43,165,47],[162,21,165,36],[162,37,165,39],[187,46,189,48],[162,48,165,54],[166,17,169,18],[166,19,169,20],[166,21,169,36],[166,37,169,39],[166,40,169,42],[166,43,169,47],[166,48,169,54],[162,17,165,18],[162,19,165,20],[187,49,189,51],[187,52,189,54],[179,37,182,47],[170,40,173,42],[170,43,173,47],[198,48,201,54],[202,21,205,36],[202,37,205,39],[202,40,205,42],[202,43,205,47],[202,1,205,5],[202,6,205,15],[202,17,205,18],[202,19,205,20],[202,48,205,54],[198,1,201,5],[198,6,201,15],[198,17,201,20],[198,21,201,36],[198,37,201,39],[198,40,201,42],[198,43,201,47],[192,1,195,5],[192,6,195,11],[192,12,195,15],[192,16,195,35],[206,1,209,5],[206,6,209,15],[206,17,209,18],[206,19,209,20],[206,21,209,36],[206,37,209,39],[206,40,209,42],[206,43,209,47],[206,48,209,54],[210,21,213,36],[210,37,213,39],[210,40,213,42],[210,43,213,47],[210,1,213,5],[210,6,213,15],[210,17,213,18],[210,19,213,20],[210,48,213,54],[214,48,217,54],[218,1,221,5],[218,6,221,15],[218,17,221,18],[218,19,221,20],[218,21,221,36],[218,37,221,39],[218,40,221,42],[218,43,221,47],[218,48,221,54],[214,1,217,3],[214,4,217,5],[214,6,217,15],[214,17,217,18],[214,19,217,20],[214,21,217,36],[214,37,217,39],[214,40,217,42],[214,43,217,47],[222,40,225,42],[222,43,225,47],[222,21,225,36],[222,37,225,39],[230,40,233,42],[230,43,233,47],[230,48,233,54],[222,48,225,54],[226,17,229,18],[226,19,229,20],[226,21,229,36],[226,37,229,39],[226,40,229,42],[226,43,229,47],[226,48,229,54],[222,17,225,18],[222,19,225,20],[234,17,237,18],[234,19,237,20],[234,21,237,36],[234,37,237,39],[234,40,237,42],[234,43,237,47],[234,48,237,54],[230,17,233,18],[230,19,233,20],[230,21,233,36],[230,37,233,39],[242,17,245,18],[242,19,245,20],[242,21,245,36],[242,37,245,39],[242,40,245,42],[242,43,245,47],[242,48,245,54],[238,17,241,18],[238,19,241,20],[254,37,257,39],[238,40,241,42],[238,43,241,47],[238,21,241,36],[238,37,241,39],[246,40,249,42],[246,43,249,47],[246,48,249,54],[238,48,241,54],[250,17,253,18],[250,19,253,20],[250,21,253,36],[250,37,253,39],[250,40,253,42],[250,43,253,47],[250,48,253,54],[246,17,249,18],[246,19,249,20],[246,21,249,36],[246,37,249,39],[271,37,274,47],[254,48,257,54],[258,17,261,18],[258,19,261,20],[258,21,261,36],[258,37,261,39],[258,40,261,42],[258,43,261,47],[258,48,261,54],[254,17,257,18],[254,19,257,20],[271,48,274,54],[262,40,265,42],[262,43,265,47],[262,48,265,54],[266,37,269,47],[266,48,269,54],[262,17,265,18],[262,19,265,20],[262,21,265,36],[262,37,265,39],[254,40,257,42],[254,43,257,47],[254,21,257,36]]}
[]
[null,null,null,null,null,null,null,null,null,null,null,null,null,null,null,null,null,null,null,"請求書明細書 (正)"]
[null,"株 式 会 社 種 村 建 設",null,null,null,null,null,null,null,null,null,null,"御中"]
[null,null,null,null,null,null,null,null,null,null,null,null,null,null,null,null,null,null,null,null,null,null,null,null,null,null,null,null,null,null,null,null,null,null,null,null,null,null,null,null,null,"請求年月日",null,null,null,null,{"$f":"年","v":23},null,null,{"$f":"月","v":5},null,null,{"$f":"日","v":31}]
[]
[]
[]
[]
[null,"工事番号",null,null,null,null,null,null,null,null,null,null,"工事名",null,null,null,null,null,null,null,null,null,null,null,null,null,null,null,null,null,null,null,null,null,null,null,null,"業者名",null,null,null,{"$f":"社名","v":"例：㈱種村建設"}]
[]
[]
[]
[]
[]
[null,"注文番号",null,null,null,null,null,null,null,null,null,null,null,null,null,null,null,"月　日",null,null,null,"摘要･品名",null,null,null,null,null,null,null,null,null,null,null,null,null,null,null,"数 量",null,null,"単位",null,null,"単価",null,null,null,null,{"$f":"\"金額(\" & IF(税処理=2,\"税込\",\"税抜\")&\")\"","v":"金額(税抜)"}]
[]
[]
[]
[null,"契約金額",null,null,null,null,null,null,null,null,null,null,null,null,null,null,null,null,null,null,null,null,null,null,null,null,null,null,null,null,null,null,null,null,null,null,null,null,null,null,null,null,null,null,null,null,null,null,{"$f":"IF(V19=\"\",\"\",AL19*AR19)","v":""}]
[]
[]
[]
[null,"増減額",null,null,null,null,null,null,null,null,null,null,null,null,null,null,null,null,null,null,null,null,null,null,null,null,null,null,null,null,null,null,null,null,null,null,null,null,null,null,null,null,null,null,null,null,null,null,{"$f":"IF(V23=\"\",\"\",AL23*AR23)","v":""}]
[]
[]
[]
[null,"前回までの\n請求額",null,null,null,null,null,null,null,null,null,null,null,null,null,null,null,null,null,null,null,null,null,null,null,null,null,null,null,null,null,null,null,null,null,null,null,null,null,null,null,null,null,null,null,null,null,null,{"$f":"IF(V27=\"\",\"\",AL27*AR27)","v":""}]
[]
[]
[]
[null,"今回\n請求額",null,null,null,null,null,null,null,null,null,null,null,null,null,null,null,null,null,null,null,null,null,null,null,null,null,null,null,null,null,null,null,null,null,null,null,null,null,null,null,null,null,null,null,null,null,null,{"$f":"IF(V31=\"\",\"\",AL31*AR31)","v":""}]
[]
[]
[]
[null,"差引残高",null,null,null,null,{"$f":"IF(G19=\"\",\"\",G19+G23-G27-G31)","v":""},null,null,null,null,null,null,null,null,null,null,null,null,null,null,null,null,null,null,null,null,null,null,null,null,null,null,null,null,null,null,null,null,null,null,null,null,null,null,null,null,null,{"$f":"IF(V35=\"\",\"\",AL35*AR35)","v":""}]
[]
[]
[]
[null,null,null,null,null,null,null,null,null,null,null,null,null,null,null,null,null,null,null,null,null,null,null,null,null,null,null,null,null,null,null,null,null,null,null,null,null,null,null,null,null,null,null,null,null,null,null,null,{"$f":"IF(V39=\"\",\"\",AL39*AR39)","v":""}]
[]
[]
[]
[null,null,null,null,null,null,null,null,null,null,null,null,null,null,null,null,null,null,null,null,null,null,null,null,null,null,null,null,null,null,null,null,null,null,null,null,null,null,null,null,null,null,null,null,null,null,null,null,{"$f":"IF(V43=\"\",\"\",AL43*AR43)","v":""}]
[]
[]
[]
[null,null,null,null,null,null,null,null,null,null,null,null,null,null,null,null,null,null,null,null,null,null,null,null,null,null,null,null,null,null,null,null,null,null,null,null,null,null,null,null,null,null,null,null,null,null,null,null,{"$f":"IF(V47=\"\",\"\",AL47*AR47)","v":""}]
[]
[]
[]
[null,null,null,null,null,null,null,null,null,null,null,null,null,null,null,null,null,null,null,null,null,null,null,null,null,null,null,null,null,null,null,null,null,null,null,null,null,null,null,null,null,null,null,null,null,null,null,null,{"$f":"IF(V51=\"\",\"\",AL51*AR51)","v":""}]
[]
[]
[]
[null,null,null,null,null,null,null,null,null,null,null,null,null,null,null,null,null,null,null,null,null,null,null,null,null,null,null,null,null,null,null,null,null,null,null,null,null,null,null,null,null,null,null,null,null,null,null,null,{"$f":"IF(V55=\"\",\"\",AL55*AR55)","v":""}]
[]
[]
[]
[null,null,null,null,null,null,null,null,null,null,null,null,null,null,null,null,null,null,null,null,null,null,null,null,null,null,null,null,null,null,null,null,null,null,null,null,null,null,null,null,null,null,null,null,null,null,null,null,{"$f":"IF(V59=\"\",\"\",AL59*AR59)","v":""}]
[]
[]
[]
[null,null,null,null,null,null,null,null,null,null,null,null,null,null,null,null,null,null,null,null,null,null,null,null,null,null,null,null,null,null,null,null,null,null,null,null,null,null,null,null,null,null,null,null,null,null,null,null,{"$f":"IF(V63=\"\",\"\",AL63*AR63)","v":""}]
[]
[]
[]
[null,null,null,null,null,null,null,null,null,null,null,null,null,null,null,null,null,null,null,null,null,null,null,null,null,null,null,null,null,null,null,null,null,null,null,null,null,null,null,null,null,null,null,null,null,null,null,null,{"$f":"IF(V67=\"\",\"\",AL67*AR67)","v":""}]
[]
[]
[]
[null,null,null,null,null,null,null,null,null,null,null,null,null,null,null,null,null,null,null,null,null,null,null,null,null,null,null,null,null,null,null,null,null,null,null,null,null,null,null,null,null,null,null,null,null,null,null,null,{"$f":"IF(V71=\"\",\"\",AL71*AR71)","v":""}]
[]
[]
[]
[null,null,null,null,null,null,null,null,null,null,null,null,null,null,null,null,null,null,null,null,null,null,null,null,null,null,null,null,null,null,null,null,null,null,null,null,null,null,null,null,null,null,null,null,null,null,null,null,{"$f":"IF(V75=\"\",\"\",AL75*AR75)","v":""}]
[]
[]
[]
[null,null,null,null,null,null,null,null,null,null,null,null,null,null,null,null,null,null,null,null,null,null,null,null,null,null,null,null,null,null,null,null,null,null,null,null,null,null,null,null,null,null,null,null,null,null,null,null,{"$f":"IF(V79=\"\",\"\",AL79*AR79)","v":""}]
[]
[]
[]
[null,null,null,null,null,null,null,null,null,null,null,null,null,null,null,null,null,null,null,null,null,null,null,null,null,null,null,null,null,null,null,null,null,null,null,null,null,"値引き等"]
[null,"社長",null,null,null,"専務",null,null,null,null,null,"常務",null,null,null,null,null,"部長･工場長",null,null,null,null,null,null,null,null,"担当者",null,null,null,null,"受付"]
[]
[]
[]
[null,null,null,null,null,null,null,null,null,null,null,null,null,null,null,null,null,null,null,null,null,null,null,null,null,null,null,null,null,null,null,null,null,null,null,null,null,{"$f":"\"合計(\" & IF(税処理=2,\"税込\",\"税抜\")&\")\"","v":"合計(税抜)"},null,null,null,null,null,null,null,null,null,null,{"$f":"IF(AW19=\"\",\"\",SUM(AW19:AW79)+AW83)","v":""}]
[]
[]
[]
[]
[]
[null,null,null,null,null,null,null,null,null,null,null,null,null,null,null,null,null,null,null,"請求明細書 (現場控)"]
[null,"株 式 会 社 種 村 建 設",null,null,null,null,null,null,null,null,null,null,"御中"]
[null,null,null,null,null,null,null,null,null,null,null,null,null,null,null,null,null,null,null,null,null,null,null,null,null,null,null,null,null,null,null,null,null,null,null,null,null,null,null,null,null,"請求年月日",null,null,null,null,{"$f":"IF(AU4=\"\",\"\",AU4)","v":23},null,null,{"$f":"IF(AX4=\"\",\"\",AX4)","v":5},null,null,{"$f":"IF(BA4=\"\",\"\",BA4)","v":31}]
[]
[]
[]
[]
[null,"工事番号",null,null,null,null,{"$f":"IF(G9=\"\",\"\",G9)","v":""},null,null,null,null,null,"工事名",null,null,null,{"$f":"IF(Q9=\"\",\"\",Q9)","v":""},null,null,null,null,null,null,null,null,null,null,null,null,null,null,null,null,null,null,null,null,"業者名",null,null,null,{"$f":"IF(AP9=\"\",\"\",AP9)","v":"例：㈱種村建設"}]
[]
[]
[]
[]
[]
[null,"注文番号",null,null,null,null,{"$f":"IF(G15=\"\",\"\",G15)","v":""},null,null,null,null,null,null,null,null,null,null,"月　日",null,null,null,"摘要･品名",null,null,null,null,null,null,null,null,null,null,null,null,null,null,null,"数 量",null,null,"単位",null,null,"単価",null,null,null,null,{"$f":"\"金額(\" & IF(税処理=2,\"税込\",\"税抜\")&\")\"","v":"金額(税抜)"}]
[]
[]
[]
[null,"契約金額",null,null,null,null,{"$f":"IF(G19=\"\",\"\",G19)","v":""},null,null,null,null,null,null,null,null,null,null,{"$f":"IF(R19=\"\",\"\",R19)","v":""},null,{"$f":"IF(T19=\"\",\"\",T19)","v":""},null,{"$f":"IF(V19=\"\",\"\",V19)","v":""},null,{"$f":"IF(X19=\"\",\"\",X19)","v":""},null,{"$f":"IF(Z19=\"\",\"\",Z19)","v":""},null,{"$f":"IF(AB19=\"\",\"\",AB19)","v":""},null,{"$f":"IF(AD19=\"\",\"\",AD19)","v":""},null,{"$f":"IF(AF19=\"\",\"\",AF19)","v":""},null,{"$f":"IF(AH19=\"\",\"\",AH19)","v":""},null,{"$f":"IF(AJ19=\"\",\"\",AJ19)","v":""},null,{"$f":"IF(AL19=\"\",\"\",AL19)","v":""},null,null,{"$f":"IF(AO19=\"\",\"\",AO19)","v":""},null,null,{"$f":"IF(AR19=\"\",\"\",AR19)","v":""},null,null,null,null,{"$f":"IF(AW19=\"\",\"\",AW19)","v":""}]
[]
[]
[]
[null,"増減額",null,null,null,null,{"$f":"IF(G23=\"\",\"\",G23)","v":""},null,null,null,null,null,null,null,null,null,null,{"$f":"IF(R23=\"\",\"\",R23)","v":""},null,{"$f":"IF(T23=\"\",\"\",T23)","v":""},null,{"$f":"IF(V23=\"\",\"\",V23)","v":""},null,{"$f":"IF(X23=\"\",\"\",X23)","v":""},null,{"$f":"IF(Z23=\"\",\"\",Z23)","v":""},null,{"$f":"IF(AB23=\"\",\"\",AB23)","v":""},null,{"$f":"IF(AD23=\"\",\"\",AD23)","v":""},null,{"$f":"IF(AF23=\"\",\"\",AF23)","v":""},null,{"$f":"IF(AH23=\"\",\"\",AH23)","v":""},null,{"$f":"IF(AJ23=\"\",\"\",AJ23)","v":""},null,{"$f":"IF(AL23=\"\",\"\",AL23)","v":""},null,null,{"$f":"IF(AO23=\"\",\"\",AO23)","v":""},null,null,{"$f":"IF(AR23=\"\",\"\",AR23)","v":""},null,null,null,null,{"$f":"IF(AW23=\"\",\"\",AW23)","v":""}]
[]
[]
[]
[null,"前回までの\n請求額",null,null,null,null,{"$f":"IF(G27=\"\",\"\",G27)","v":""},null,null,null,null,null,null,null,null,null,null,{"$f":"IF(R27=\"\",\"\",R27)","v":""},null,{"$f":"IF(T27=\"\",\"\",T27)","v":""},null,{"$f":"IF(V27=\"\",\"\",V27)","v":""},null,{"$f":"IF(X27=\"\",\"\",X27)","v":""},null,{"$f":"IF(Z27=\"\",\"\",Z27)","v":""},null,{"$f":"IF(AB27=\"\",\"\",AB27)","v":""},null,{"$f":"IF(AD27=\"\",\"\",AD27)","v":""},null,{"$f":"IF(AF27=\"\",\"\",AF27)","v":""},null,{"$f":"IF(AH27=\"\",\"\",AH27)","v":""},null,{"$f":"IF(AJ27=\"\",\"\",AJ27)","v":""},null,{"$f":"IF(AL27=\"\",\"\",AL27)","v":""},null,null,{"$f":"IF(AO27=\"\",\"\",AO27)","v":""},null,null,{"$f":"IF(AR27=\"\",\"\",AR27)","v":""},null,null,null,null,{"$f":"IF(AW27=\"\",\"\",AW27)","v":""}]
[]
[]
[]
[null,"今回\n請求額",null,null,{"$f":"IF(E31=\"\",\"\",E31)","v":""},null,{"$f":"IF(G31=\"\",\"\",G31)","v":""},null,null,null,null,null,null,null,null,null,null,{"$f":"IF(R31=\"\",\"\",R31)","v":""},null,{"$f":"IF(T31=\"\",\"\",T31)","v":""},null,{"$f":"IF(V31=\"\",\"\",V31)","v":""},null,{"$f":"IF(X31=\"\",\"\",X31)","v":""},null,{"$f":"IF(Z31=\"\",\"\",Z31)","v":""},null,{"$f":"IF(AB31=\"\",\"\",AB31)","v":""},null,{"$f":"IF(AD31=\"\",\"\",AD31)","v":""},null,{"$f":"IF(AF31=\"\",\"\",AF31)","v":""},null,{"$f":"IF(AH31=\"\",\"\",AH31)","v":""},null,{"$f":"IF(AJ31=\"\",\"\",AJ31)","v":""},null,{"$f":"IF(AL31=\"\",\"\",AL31)","v":""},null,null,{"$f":"IF(AO31=\"\",\"\",AO31)","v":""},null,null,{"$f":"IF(AR31=\"\",\"\",AR31)","v":""},null,null,null,null,{"$f":"IF(AW31=\"\",\"\",AW31)","v":""}]
[]
[]
[]
[null,"差引残高",null,null,null,null,{"$f":"IF(G111=\"\",\"\",G111+G115-G119-G123)","v":""},null,null,null,null,null,null,null,null,null,null,{"$f":"IF(R35=\"\",\"\",R35)","v":""},null,{"$f":"IF(T35=\"\",\"\",T35)","v":""},null,{"$f":"IF(V35=\"\",\"\",V35)","v":""},null,{"$f":"IF(X35=\"\",\"\",X35)","v":""},null,{"$f":"IF(Z35=\"\",\"\",Z35)","v":""},null,{"$f":"IF(AB35=\"\",\"\",AB35)","v":""},null,{"$f":"IF(AD35=\"\",\"\",AD35)","v":""},null,{"$f":"IF(AF35=\"\",\"\",AF35)","v":""},null,{"$f":"IF(AH35=\"\",\"\",AH35)","v":""},null,{"$f":"IF(AJ35=\"\",\"\",AJ35)","v":""},null,{"$f":"IF(AL35=\"\",\"\",AL35)","v":""},null,null,{"$f":"IF(AO35=\"\",\"\",AO35)","v":""},null,null,{"$f":"IF(AR35=\"\",\"\",AR35)","v":""},null,null,null,null,{"$f":"IF(AW35=\"\",\"\",AW35)","v":""}]
[]
[]
[]
[null,null,null,null,null,null,null,null,null,null,null,null,null,null,null,null,null,{"$f":"IF(R39=\"\",\"\",R39)","v":""},null,{"$f":"IF(T39=\"\",\"\",T39)","v":""},null,{"$f":"IF(V39=\"\",\"\",V39)","v":""},null,{"$f":"IF(X39=\"\",\"\",X39)","v":""},null,{"$f":"IF(Z39=\"\",\"\",Z39)","v":""},null,{"$f":"IF(AB39=\"\",\"\",AB39)","v":""},null,{"$f":"IF(AD39=\"\",\"\",AD39)","v":""},null,{"$f":"IF(AF39=\"\",\"\",AF39)","v":""},null,{"$f":"IF(AH39=\"\",\"\",AH39)","v":""},null,{"$f":"IF(AJ39=\"\",\"\",AJ39)","v":""},null,{"$f":"IF(AL39=\"\",\"\",AL39)","v":""},null,null,{"$f":"IF(AO39=\"\",\"\",AO39)","v":""},null,null,{"$f":"IF(AR39=\"\",\"\",AR39)","v":""},null,null,null,null,{"$f":"IF(AW39=\"\",\"\",AW39)","v":""}]
[]
[]
[]
[null,null,null,null,null,null,null,null,null,null,null,null,null,null,null,null,null,{"$f":"IF(R43=\"\",\"\",R43)","v":""},null,{"$f":"IF(T43=\"\",\"\",T43)","v":""},null,{"$f":"IF(V43=\"\",\"\",V43)","v":""},null,{"$f":"IF(X43=\"\",\"\",X43)","v":""},null,{"$f":"IF(Z43=\"\",\"\",Z43)","v":""},null,{"$f":"IF(AB43=\"\",\"\",AB43)","v":""},null,{"$f":"IF(AD43=\"\",\"\",AD43)","v":""},null,{"$f":"IF(AF43=\"\",\"\",AF43)","v":""},null,{"$f":"IF(AH43=\"\",\"\",AH43)","v":""},null,{"$f":"IF(AJ43=\"\",\"\",AJ43)","v":""},null,{"$f":"IF(AL43=\"\",\"\",AL43)","v":""},null,null,{"$f":"IF(AO43=\"\",\"\",AO43)","v":""},null,null,{"$f":"IF(AR43=\"\",\"\",AR43)","v":""},null,null,null,null,{"$f":"IF(AW43=\"\",\"\",AW43)","v":""}]
[]
[]
[]
[null,null,null,null,null,null,null,null,null,null,null,null,null,null,null,null,null,{"$f":"IF(R47=\"\",\"\",R47)","v":""},null,{"$f":"IF(T47=\"\",\"\",T47)","v":""},null,{"$f":"IF(V47=\"\",\"\",V47)","v":""},null,{"$f":"IF(X47=\"\",\"\",X47)","v":""},null,{"$f":"IF(Z47=\"\",\"\",Z47)","v":""},null,{"$f":"IF(AB47=\"\",\"\",AB47)","v":""},null,{"$f":"IF(AD47=\"\",\"\",AD47)","v":""},null,{"$f":"IF(AF47=\"\",\"\",AF47)","v":""},null,{"$f":"IF(AH47=\"\",\"\",AH47)","v":""},null,{"$f":"IF(AJ47=\"\",\"\",AJ47)","v":""},null,{"$f":"IF(AL47=\"\",\"\",AL47)","v":""},null,null,{"$f":"IF(AO47=\"\",\"\",AO47)","v":""},null,null,{"$f":"IF(AR47=\"\",\"\",AR47)","v":""},null,null,null,null,{"$f":"IF(AW47=\"\",\"\",AW47)","v":""}]
[]
[]
[]
[null,null,null,null,null,null,null,null,null,null,null,null,null,null,null,null,null,{"$f":"IF(R51=\"\",\"\",R51)","v":""},null,{"$f":"IF(T51=\"\",\"\",T51)","v":""},null,{"$f":"IF(V51=\"\",\"\",V51)","v":""},null,{"$f":"IF(X51=\"\",\"\",X51)","v":""},null,{"$f":"IF(Z51=\"\",\"\",Z51)","v":""},null,{"$f":"IF(AB51=\"\",\"\",AB51)","v":""},null,{"$f":"IF(AD51=\"\",\"\",AD51)","v":""},null,{"$f":"IF(AF51=\"\",\"\",AF51)","v":""},null,{"$f":"IF(AH51=\"\",\"\",AH51)","v":""},null,{"$f":"IF(AJ51=\"\",\"\",AJ51)","v":""},null,{"$f":"IF(AL51=\"\",\"\",AL51)","v":""},null,null,{"$f":"IF(AO51=\"\",\"\",AO51)","v":""},null,null,{"$f":"IF(AR51=\"\",\"\",AR51)","v":""},null,null,null,null,{"$f":"IF(AW51=\"\",\"\",AW51)","v":""}]
[]
[]
[]
[null,null,null,null,null,null,null,null,null,null,null,null,null,null,null,null,null,{"$f":"IF(R55=\"\",\"\",R55)","v":""},null,{"$f":"IF(T55=\"\",\"\",T55)","v":""},null,{"$f":"IF(V55=\"\",\"\",V55)","v":""},null,{"$f":"IF(X55=\"\",\"\",X55)","v":""},null,{"$f":"IF(Z55=\"\",\"\",Z55)","v":""},null,{"$f":"IF(AB55=\"\",\"\",AB55)","v":""},null,{"$f":"IF(AD55=\"\",\"\",AD55)","v":""},null,{"$f":"IF(AF55=\"\",\"\",AF55)","v":""},null,{"$f":"IF(AH55=\"\",\"\",AH55)","v":""},null,{"$f":"IF(AJ55=\"\",\"\",AJ55)","v":""},null,{"$f":"IF(AL55=\"\",\"\",AL55)","v":""},null,null,{"$f":"IF(AO55=\"\",\"\",AO55)","v":""},null,null,{"$f":"IF(AR55=\"\",\"\",AR55)","v":""},null,null,null,null,{"$f":"IF(AW55=\"\",\"\",AW55)","v":""}]
[]
[]
[]
[null,null,null,null,null,null,null,null,null,null,null,null,null,null,null,null,null,{"$f":"IF(R59=\"\",\"\",R59)","v":""},null,{"$f":"IF(T59=\"\",\"\",T59)","v":""},null,{"$f":"IF(V59=\"\",\"\",V59)","v":""},null,{"$f":"IF(X59=\"\",\"\",X59)","v":""},null,{"$f":"IF(Z59=\"\",\"\",Z59)","v":""},null,{"$f":"IF(AB59=\"\",\"\",AB59)","v":""},null,{"$f":"IF(AD59=\"\",\"\",AD59)","v":""},null,{"$f":"IF(AF59=\"\",\"\",AF59)","v":""},null,{"$f":"IF(AH59=\"\",\"\",AH59)","v":""},null,{"$f":"IF(AJ59=\"\",\"\",AJ59)","v":""},null,{"$f":"IF(AL59=\"\",\"\",AL59)","v":""},null,null,{"$f":"IF(AO59=\"\",\"\",AO59)","v":""},null,null,{"$f":"IF(AR59=\"\",\"\",AR59)","v":""},null,null,null,null,{"$f":"IF(AW59=\"\",\"\",AW59)","v":""}]
[]
[]
[]
[null,null,null,null,null,null,null,null,null,null,null,null,null,null,null,null,null,{"$f":"IF(R63=\"\",\"\",R63)","v":""},null,{"$f":"IF(T63=\"\",\"\",T63)","v":""},null,{"$f":"IF(V63=\"\",\"\",V63)","v":""},null,{"$f":"IF(X63=\"\",\"\",X63)","v":""},null,{"$f":"IF(Z63=\"\",\"\",Z63)","v":""},null,{"$f":"IF(AB63=\"\",\"\",AB63)","v":""},null,{"$f":"IF(AD63=\"\",\"\",AD63)","v":""},null,{"$f":"IF(AF63=\"\",\"\",AF63)","v":""},null,{"$f":"IF(AH63=\"\",\"\",AH63)","v":""},null,{"$f":"IF(AJ63=\"\",\"\",AJ63)","v":""},null,{"$f":"IF(AL63=\"\",\"\",AL63)","v":""},null,null,{"$f":"IF(AO63=\"\",\"\",AO63)","v":""},null,null,{"$f":"IF(AR63=\"\",\"\",AR63)","v":""},null,null,null,null,{"$f":"IF(AW63=\"\",\"\",AW63)","v":""}]
[]
[]
[]
[null,null,null,null,null,null,null,null,null,null,null,null,null,null,null,null,null,{"$f":"IF(R67=\"\",\"\",R67)","v":""},null,{"$f":"IF(T67=\"\",\"\",T67)","v":""},null,{"$f":"IF(V67=\"\",\"\",V67)","v":""},null,{"$f":"IF(X67=\"\",\"\",X67)","v":""},null,{"$f":"IF(Z67=\"\",\"\",Z67)","v":""},null,{"$f":"IF(AB67=\"\",\"\",AB67)","v":""},null,{"$f":"IF(AD67=\"\",\"\",AD67)","v":""},null,{"$f":"IF(AF67=\"\",\"\",AF67)","v":""},null,{"$f":"IF(AH67=\"\",\"\",AH67)","v":""},null,{"$f":"IF(AJ67=\"\",\"\",AJ67)","v":""},null,{"$f":"IF(AL67=\"\",\"\",AL67)","v":""},null,null,{"$f":"IF(AO67=\"\",\"\",AO67)","v":""},null,null,{"$f":"IF(AR67=\"\",\"\",AR67)","v":""},null,null,null,null,{"$f":"IF(AW67=\"\",\"\",AW67)","v":""}]
[]
[]
[]
[null,null,null,null,null,null,null,null,null,null,null,null,null,null,null,null,null,{"$f":"IF(R71=\"\",\"\",R71)","v":""},null,{"$f":"IF(T71=\"\",\"\",T71)","v":""},null,{"$f":"IF(V71=\"\",\"\",V71)","v":""},null,{"$f":"IF(X71=\"\",\"\",X71)","v":""},null,{"$f":"IF(Z71=\"\",\"\",Z71)","v":""},null,{"$f":"IF(AB71=\"\",\"\",AB71)","v":""},null,{"$f":"IF(AD71=\"\",\"\",AD71)","v":""},null,{"$f":"IF(AF71=\"\",\"\",AF71)","v":""},null,{"$f":"IF(AH71=\"\",\"\",AH71)","v":""},null,{"$f":"IF(AJ71=\"\",\"\",AJ71)","v":""},null,{"$f":"IF(AL71=\"\",\"\",AL71)","v":""},null,null,{"$f":"IF(AO71=\"\",\"\",AO71)","v":""},null,null,{"$f":"IF(AR71=\"\",\"\",AR71)","v":""},null,null,null,null,{"$f":"IF(AW71=\"\",\"\",AW71)","v":""}]
[]
[]
[]
[null,null,null,null,null,null,null,null,null,null,null,null,null,null,null,null,null,{"$f":"IF(R75=\"\",\"\",R75)","v":""},null,{"$f":"IF(T75=\"\",\"\",T75)","v":""},null,{"$f":"IF(V75=\"\",\"\",V75)","v":""},null,{"$f":"IF(X75=\"\",\"\",X75)","v":""},null,{"$f":"IF(Z75=\"\",\"\",Z75)","v":""},null,{"$f":"IF(AB75=\"\",\"\",AB75)","v":""},null,{"$f":"IF(AD75=\"\",\"\",AD75)","v":""},null,{"$f":"IF(AF75=\"\",\"\",AF75)","v":""},null,{"$f":"IF(AH75=\"\",\"\",AH75)","v":""},null,{"$f":"IF(AJ75=\"\",\"\",AJ75)","v":""},null,{"$f":"IF(AL75=\"\",\"\",AL75)","v":""},null,null,{"$f":"IF(AO75=\"\",\"\",AO75)","v":""},null,null,{"$f":"IF(AR75=\"\",\"\",AR75)","v":""},null,null,null,null,{"$f":"IF(AW75=\"\",\"\",AW75)","v":""}]
[]
[]
[]
[null,null,null,null,null,null,null,null,null,null,null,null,null,null,null,null,null,{"$f":"IF(R79=\"\",\"\",R79)","v":""},null,{"$f":"IF(T79=\"\",\"\",T79)","v":""},null,{"$f":"IF(V79=\"\",\"\",V79)","v":""},null,{"$f":"IF(X79=\"\",\"\",X79)","v":""},null,{"$f":"IF(Z79=\"\",\"\",Z79)","v":""},null,{"$f":"IF(AB79=\"\",\"\",AB79)","v":""},null,{"$f":"IF(AD79=\"\",\"\",AD79)","v":""},null,{"$f":"IF(AF79=\"\",\"\",AF79)","v":""},null,{"$f":"IF(AH79=\"\",\"\",AH79)","v":""},null,{"$f":"IF(AJ79=\"\",\"\",AJ79)","v":""},null,{"$f":"IF(AL79=\"\",\"\",AL79)","v":""},null,null,{"$f":"IF(AO79=\"\",\"\",AO79)","v":""},null,null,{"$f":"IF(AR79=\"\",\"\",AR79)","v":""},null,null,null,null,{"$f":"IF(AW79=\"\",\"\",AW79)","v":""}]
[]
[]
[]
[null,null,null,null,null,null,null,null,null,null,null,null,null,null,null,null,null,null,null,null,null,null,null,null,null,null,null,null,null,null,null,null,null,null,null,null,null,"値引き等",null,null,null,null,null,null,null,null,null,null,{"$f":"IF(AW83=\"\",\"\",AW83)","v":""}]
[]
[]
[]
[]
[null,null,null,null,null,null,null,null,null,null,null,null,null,null,null,null,null,null,null,null,null,null,null,null,null,null,null,null,null,null,null,null,null,null,null,null,null,{"$f":"\"合計(\" & IF(税処理=2,\"税込\",\"税抜\")&\")\"","v":"合計(税抜)"},null,null,null,null,null,null,null,null,null,null,{"$f":"IF(AW88=\"\",\"\",AW88)","v":""}]
[]
[]
[]
[]
[]
[null,null,null,null,null,null,null,null,null,null,null,null,null,null,null,null,null,null,null,"請求明細書 (貴社控)"]
[null,"株 式 会 社 種 村 建 設",null,null,null,null,null,null,null,null,null,null,"御中"]
[null,null,null,null,null,null,null,null,null,null,null,null,null,null,null,null,null,null,null,null,null,null,null,null,null,null,null,null,null,null,null,null,null,null,null,null,null,null,null,null,null,"請求年月日",null,null,null,null,{"$f":"IF(AU96=\"\",\"\",AU96)","v":23},null,null,{"$f":"IF(AX96=\"\",\"\",AX96)","v":5},null,null,{"$f":"IF(BA96=\"\",\"\",BA96)","v":31}]
[]
[]
[]
[]
[null,"工事番号",null,null,null,null,{"$f":"IF(G101=\"\",\"\",G101)","v":""},null,null,null,null,null,"工事名",null,null,null,{"$f":"IF(Q101=\"\",\"\",Q101)","v":""},null,null,null,null,null,null,null,null,null,null,null,null,null,null,null,null,null,null,null,null,"業者名",null,null,null,{"$f":"IF(AP101=\"\",\"\",AP101)","v":"例：㈱種村建設"}]
[]
[]
[]
[]
[]
[null,"注文番号",null,null,null,null,{"$f":"IF(G107=\"\",\"\",G107)","v":""},null,null,null,null,null,null,null,null,null,null,"月　日",null,null,null,"摘要･品名",null,null,null,null,null,null,null,null,null,null,null,null,null,null,null,"数 量",null,null,"単位",null,null,"単価",null,null,null,null,{"$f":"\"金額(\" & IF(税処理=2,\"税込\",\"税抜\")&\")\"","v":"金額(税抜)"}]
[]
[]
[]
[null,"契約金額",null,null,null,null,{"$f":"IF(G111=\"\",\"\",G111)","v":""},null,null,null,null,null,null,null,null,null,null,{"$f":"IF(R111=\"\",\"\",R111)","v":""},null,{"$f":"IF(T111=\"\",\"\",T111)","v":""},null,{"$f":"IF(V111=\"\",\"\",V111)","v":""},null,{"$f":"IF(X111=\"\",\"\",X111)","v":""},null,{"$f":"IF(Z111=\"\",\"\",Z111)","v":""},null,{"$f":"IF(AB111=\"\",\"\",AB111)","v":""},null,{"$f":"IF(AD111=\"\",\"\",AD111)","v":""},null,{"$f":"IF(AF111=\"\",\"\",AF111)","v":""},null,{"$f":"IF(AH111=\"\",\"\",AH111)","v":""},null,{"$f":"IF(AJ111=\"\",\"\",AJ111)","v":""},null,{"$f":"IF(AL111=\"\",\"\",AL111)","v":""},null,null,{"$f":"IF(AO111=\"\",\"\",AO111)","v":""},null,null,{"$f":"IF(AR111=\"\",\"\",AR111)","v":""},null,null,null,null,{"$f":"IF(AW111=\"\",\"\",AW111)","v":""}]
[]
[]
[]
[null,"増減額",null,null,null,null,{"$f":"IF(G115=\"\",\"\",G115)","v":""},null,null,null,null,null,null,null,null,null,null,{"$f":"IF(R115=\"\",\"\",R115)","v":""},null,{"$f":"IF(T115=\"\",\"\",T115)","v":""},null,{"$f":"IF(V115=\"\",\"\",V115)","v":""},null,{"$f":"IF(X115=\"\",\"\",X115)","v":""},null,{"$f":"IF(Z115=\"\",\"\",Z115)","v":""},null,{"$f":"IF(AB115=\"\",\"\",AB115)","v":""},null,{"$f":"IF(AD115=\"\",\"\",AD115)","v":""},null,{"$f":"IF(AF115=\"\",\"\",AF115)","v":""},null,{"$f":"IF(AH115=\"\",\"\",AH115)","v":""},null,{"$f":"IF(AJ115=\"\",\"\",AJ115)","v":""},null,{"$f":"IF(AL115=\"\",\"\",AL115)","v":""},null,null,{"$f":"IF(AO115=\"\",\"\",AO115)","v":""},null,null,{"$f":"IF(AR115=\"\",\"\",AR115)","v":""},null,null,null,null,{"$f":"IF(AW115=\"\",\"\",AW115)","v":""}]
[]
[]
[]
[null,"前回までの\n請求額",null,null,null,null,{"$f":"IF(G119=\"\",\"\",G119)","v":""},null,null,null,null,null,null,null,null,null,null,{"$f":"IF(R119=\"\",\"\",R119)","v":""},null,{"$f":"IF(T119=\"\",\"\",T119)","v":""},null,{"$f":"IF(V119=\"\",\"\",V119)","v":""},null,{"$f":"IF(X119=\"\",\"\",X119)","v":""},null,{"$f":"IF(Z119=\"\",\"\",Z119)","v":""},null,{"$f":"IF(AB119=\"\",\"\",AB119)","v":""},null,{"$f":"IF(AD119=\"\",\"\",AD119)","v":""},null,{"$f":"IF(AF119=\"\",\"\",AF119)","v":""},null,{"$f":"IF(AH119=\"\",\"\",AH119)","v":""},null,{"$f":"IF(AJ119=\"\",\"\",AJ119)","v":""},null,{"$f":"IF(AL119=\"\",\"\",AL119)","v":""},null,null,{"$f":"IF(AO119=\"\",\"\",AO119)","v":""},null,null,{"$f":"IF(AR119=\"\",\"\",AR119)","v":""},null,null,null,null,{"$f":"IF(AW119=\"\",\"\",AW119)","v":""}]
[]
[]
[]
[null,"今回\n請求額",null,null,{"$f":"IF(E31=\"\",\"\",E31)","v":""},null,{"$f":"IF(G123=\"\",\"\",G123)","v":""},null,null,null,null,null,null,null,null,null,null,{"$f":"IF(R123=\"\",\"\",R123)","v":""},null,{"$f":"IF(T123=\"\",\"\",T123)","v":""},null,{"$f":"IF(V123=\"\",\"\",V123)","v":""},null,{"$f":"IF(X123=\"\",\"\",X123)","v":""},null,{"$f":"IF(Z123=\"\",\"\",Z123)","v":""},null,{"$f":"IF(AB123=\"\",\"\",AB123)","v":""},null,{"$f":"IF(AD123=\"\",\"\",AD123)","v":""},null,{"$f":"IF(AF123=\"\",\"\",AF123)","v":""},null,{"$f":"IF(AH123=\"\",\"\",AH123)","v":""},null,{"$f":"IF(AJ123=\"\",\"\",AJ123)","v":""},null,{"$f":"IF(AL123=\"\",\"\",AL123)","v":""},null,null,{"$f":"IF(AO123=\"\",\"\",AO123)","v":""},null,null,{"$f":"IF(AR123=\"\",\"\",AR123)","v":""},null,null,null,null,{"$f":"IF(AW123=\"\",\"\",AW123)","v":""}]
[]
[]
[]
[null,"差引残高",null,null,null,null,{"$f":"IF(G203=\"\",\"\",G203+G207-G211-G215)","v":""},null,null,null,null,null,null,null,null,null,null,{"$f":"IF(R127=\"\",\"\",R127)","v":""},null,{"$f":"IF(T127=\"\",\"\",T127)","v":""},null,{"$f":"IF(V127=\"\",\"\",V127)","v":""},null,{"$f":"IF(X127=\"\",\"\",X127)","v":""},null,{"$f":"IF(Z127=\"\",\"\",Z127)","v":""},null,{"$f":"IF(AB127=\"\",\"\",AB127)","v":""},null,{"$f":"IF(AD127=\"\",\"\",AD127)","v":""},null,{"$f":"IF(AF127=\"\",\"\",AF127)","v":""},null,{"$f":"IF(AH127=\"\",\"\",AH127)","v":""},null,{"$f":"IF(AJ127=\"\",\"\",AJ127)","v":""},null,{"$f":"IF(AL127=\"\",\"\",AL127)","v":""},null,null,{"$f":"IF(AO127=\"\",\"\",AO127)","v":""},null,null,{"$f":"IF(AR127=\"\",\"\",AR127)","v":""},null,null,null,null,{"$f":"IF(AW127=\"\",\"\",AW127)","v":""}]
[]
[]
[]
[null,null,null,null,null,null,null,null,null,null,null,null,null,null,null,null,null,{"$f":"IF(R131=\"\",\"\",R131)","v":""},null,{"$f":"IF(T131=\"\",\"\",T131)","v":""},null,{"$f":"IF(V131=\"\",\"\",V131)","v":""},null,{"$f":"IF(X131=\"\",\"\",X131)","v":""},null,{"$f":"IF(Z131=\"\",\"\",Z131)","v":""},null,{"$f":"IF(AB131=\"\",\"\",AB131)","v":""},null,{"$f":"IF(AD131=\"\",\"\",AD131)","v":""},null,{"$f":"IF(AF131=\"\",\"\",AF131)","v":""},null,{"$f":"IF(AH131=\"\",\"\",AH131)","v":""},null,{"$f":"IF(AJ131=\"\",\"\",AJ131)","v":""},null,{"$f":"IF(AL131=\"\",\"\",AL131)","v":""},null,null,{"$f":"IF(AO131=\"\",\"\",AO131)","v":""},null,null,{"$f":"IF(AR131=\"\",\"\",AR131)","v":""},null,null,null,null,{"$f":"IF(AW131=\"\",\"\",AW131)","v":""}]
[]
[]
[]
[null,null,null,null,null,null,null,null,null,null,null,null,null,null,null,null,null,{"$f":"IF(R135=\"\",\"\",R135)","v":""},null,{"$f":"IF(T135=\"\",\"\",T135)","v":""},null,{"$f":"IF(V135=\"\",\"\",V135)","v":""},null,{"$f":"IF(X135=\"\",\"\",X135)","v":""},null,{"$f":"IF(Z135=\"\",\"\",Z135)","v":""},null,{"$f":"IF(AB135=\"\",\"\",AB135)","v":""},null,{"$f":"IF(AD135=\"\",\"\",AD135)","v":""},null,{"$f":"IF(AF135=\"\",\"\",AF135)","v":""},null,{"$f":"IF(AH135=\"\",\"\",AH135)","v":""},null,{"$f":"IF(AJ135=\"\",\"\",AJ135)","v":""},null,{"$f":"IF(AL135=\"\",\"\",AL135)","v":""},null,null,{"$f":"IF(AO135=\"\",\"\",AO135)","v":""},null,null,{"$f":"IF(AR135=\"\",\"\",AR135)","v":""},null,null,null,null,{"$f":"IF(AW135=\"\",\"\",AW135)","v":""}]
[]
[]
[]
[null,null,null,null,null,null,null,null,null,null,null,null,null,null,null,null,null,{"$f":"IF(R139=\"\",\"\",R139)","v":""},null,{"$f":"IF(T139=\"\",\"\",T139)","v":""},null,{"$f":"IF(V139=\"\",\"\",V139)","v":""},null,{"$f":"IF(X139=\"\",\"\",X139)","v":""},null,{"$f":"IF(Z139=\"\",\"\",Z139)","v":""},null,{"$f":"IF(AB139=\"\",\"\",AB139)","v":""},null,{"$f":"IF(AD139=\"\",\"\",AD139)","v":""},null,{"$f":"IF(AF139=\"\",\"\",AF139)","v":""},null,{"$f":"IF(AH139=\"\",\"\",AH139)","v":""},null,{"$f":"IF(AJ139=\"\",\"\",AJ139)","v":""},null,{"$f":"IF(AL139=\"\",\"\",AL139)","v":""},null,null,{"$f":"IF(AO139=\"\",\"\",AO139)","v":""},null,null,{"$f":"IF(AR139=\"\",\"\",AR139)","v":""},null,null,null,null,{"$f":"IF(AW139=\"\",\"\",AW139)","v":""}]
[]
[]
[]
[null,null,null,null,null,null,null,null,null,null,null,null,null,null,null,null,null,{"$f":"IF(R143=\"\",\"\",R143)","v":""},null,{"$f":"IF(T143=\"\",\"\",T143)","v":""},null,{"$f":"IF(V143=\"\",\"\",V143)","v":""},null,{"$f":"IF(X143=\"\",\"\",X143)","v":""},null,{"$f":"IF(Z143=\"\",\"\",Z143)","v":""},null,{"$f":"IF(AB143=\"\",\"\",AB143)","v":""},null,{"$f":"IF(AD143=\"\",\"\",AD143)","v":""},null,{"$f":"IF(AF143=\"\",\"\",AF143)","v":""},null,{"$f":"IF(AH143=\"\",\"\",AH143)","v":""},null,{"$f":"IF(AJ143=\"\",\"\",AJ143)","v":""},null,{"$f":"IF(AL143=\"\",\"\",AL143)","v":""},null,null,{"$f":"IF(AO143=\"\",\"\",AO143)","v":""},null,null,{"$f":"IF(AR143=\"\",\"\",AR143)","v":""},null,null,null,null,{"$f":"IF(AW143=\"\",\"\",AW143)","v":""}]
[]
[]
[]
[null,null,null,null,null,null,null,null,null,null,null,null,null,null,null,null,null,{"$f":"IF(R147=\"\",\"\",R147)","v":""},null,{"$f":"IF(T147=\"\",\"\",T147)","v":""},null,{"$f":"IF(V147=\"\",\"\",V147)","v":""},null,{"$f":"IF(X147=\"\",\"\",X147)","v":""},null,{"$f":"IF(Z147=\"\",\"\",Z147)","v":""},null,{"$f":"IF(AB147=\"\",\"\",AB147)","v":""},null,{"$f":"IF(AD147=\"\",\"\",AD147)","v":""},null,{"$f":"IF(AF147=\"\",\"\",AF147)","v":""},null,{"$f":"IF(AH147=\"\",\"\",AH147)","v":""},null,{"$f":"IF(AJ147=\"\",\"\",AJ147)","v":""},null,{"$f":"IF(AL147=\"\",\"\",AL147)","v":""},null,null,{"$f":"IF(AO147=\"\",\"\",AO147)","v":""},null,null,{"$f":"IF(AR147=\"\",\"\",AR147)","v":""},null,null,null,null,{"$f":"IF(AW147=\"\",\"\",AW147)","v":""}]
[]
[]
[]
[null,null,null,null,null,null,null,null,null,null,null,null,null,null,null,null,null,{"$f":"IF(R151=\"\",\"\",R151)","v":""},null,{"$f":"IF(T151=\"\",\"\",T151)","v":""},null,{"$f":"IF(V151=\"\",\"\",V151)","v":""},null,{"$f":"IF(X151=\"\",\"\",X151)","v":""},null,{"$f":"IF(Z151=\"\",\"\",Z151)","v":""},null,{"$f":"IF(AB151=\"\",\"\",AB151)","v":""},null,{"$f":"IF(AD151=\"\",\"\",AD151)","v":""},null,{"$f":"IF(AF151=\"\",\"\",AF151)","v":""},null,{"$f":"IF(AH151=\"\",\"\",AH151)","v":""},null,{"$f":"IF(AJ151=\"\",\"\",AJ151)","v":""},null,{"$f":"IF(AL151=\"\",\"\",AL151)","v":""},null,null,{"$f":"IF(AO151=\"\",\"\",AO151)","v":""},null,null,{"$f":"IF(AR151=\"\",\"\",AR151)","v":""},null,null,null,null,{"$f":"IF(AW151=\"\",\"\",AW151)","v":""}]
[]
[]
[]
[null,null,null,null,null,null,null,null,null,null,null,null,null,null,null,null,null,{"$f":"IF(R155=\"\",\"\",R155)","v":""},null,{"$f":"IF(T155=\"\",\"\",T155)","v":""},null,{"$f":"IF(V155=\"\",\"\",V155)","v":""},null,{"$f":"IF(X155=\"\",\"\",X155)","v":""},null,{"$f":"IF(Z155=\"\",\"\",Z155)","v":""},null,{"$f":"IF(AB155=\"\",\"\",AB155)","v":""},null,{"$f":"IF(AD155=\"\",\"\",AD155)","v":""},null,{"$f":"IF(AF155=\"\",\"\",AF155)","v":""},null,{"$f":"IF(AH155=\"\",\"\",AH155)","v":""},null,{"$f":"IF(AJ155=\"\",\"\",AJ155)","v":""},null,{"$f":"IF(AL155=\"\",\"\",AL155)","v":""},null,null,{"$f":"IF(AO155=\"\",\"\",AO155)","v":""},null,null,{"$f":"IF(AR155=\"\",\"\",AR155)","v":""},null,null,null,null,{"$f":"IF(AW155=\"\",\"\",AW155)","v":""}]
[]
[]
[]
[null,null,null,null,null,null,null,null,null,null,null,null,null,null,null,null,null,{"$f":"IF(R159=\"\",\"\",R159)","v":""},null,{"$f":"IF(T159=\"\",\"\",T159)","v":""},null,{"$f":"IF(V159=\"\",\"\",V159)","v":""},null,{"$f":"IF(X159=\"\",\"\",X159)","v":""},null,{"$f":"IF(Z159=\"\",\"\",Z159)","v":""},null,{"$f":"IF(AB159=\"\",\"\",AB159)","v":""},null,{"$f":"IF(AD159=\"\",\"\",AD159)","v":""},null,{"$f":"IF(AF159=\"\",\"\",AF159)","v":""},null,{"$f":"IF(AH159=\"\",\"\",AH159)","v":""},null,{"$f":"IF(AJ159=\"\",\"\",AJ159)","v":""},null,{"$f":"IF(AL159=\"\",\"\",AL159)","v":""},null,null,{"$f":"IF(AO159=\"\",\"\",AO159)","v":""},null,null,{"$f":"IF(AR159=\"\",\"\",AR159)","v":""},null,null,null,null,{"$f":"IF(AW159=\"\",\"\",AW159)","v":""}]
[]
[]
[]
[null,null,null,null,null,null,null,null,null,null,null,null,null,null,null,null,null,{"$f":"IF(R163=\"\",\"\",R163)","v":""},null,{"$f":"IF(T163=\"\",\"\",T163)","v":""},null,{"$f":"IF(V163=\"\",\"\",V163)","v":""},null,{"$f":"IF(X163=\"\",\"\",X163)","v":""},null,{"$f":"IF(Z163=\"\",\"\",Z163)","v":""},null,{"$f":"IF(AB163=\"\",\"\",AB163)","v":""},null,{"$f":"IF(AD163=\"\",\"\",AD163)","v":""},null,{"$f":"IF(AF163=\"\",\"\",AF163)","v":""},null,{"$f":"IF(AH163=\"\",\"\",AH163)","v":""},null,{"$f":"IF(AJ163=\"\",\"\",AJ163)","v":""},null,{"$f":"IF(AL163=\"\",\"\",AL163)","v":""},null,null,{"$f":"IF(AO163=\"\",\"\",AO163)","v":""},null,null,{"$f":"IF(AR163=\"\",\"\",AR163)","v":""},null,null,null,null,{"$f":"IF(AW163=\"\",\"\",AW163)","v":""}]
[]
[]
[]
[null,null,null,null,null,null,null,null,null,null,null,null,null,null,null,null,null,{"$f":"IF(R167=\"\",\"\",R167)","v":""},null,{"$f":"IF(T167=\"\",\"\",T167)","v":""},null,{"$f":"IF(V167=\"\",\"\",V167)","v":""},null,{"$f":"IF(X167=\"\",\"\",X167)","v":""},null,{"$f":"IF(Z167=\"\",\"\",Z167)","v":""},null,{"$f":"IF(AB167=\"\",\"\",AB167)","v":""},null,{"$f":"IF(AD167=\"\",\"\",AD167)","v":""},null,{"$f":"IF(AF167=\"\",\"\",AF167)","v":""},null,{"$f":"IF(AH167=\"\",\"\",AH167)","v":""},null,{"$f":"IF(AJ167=\"\",\"\",AJ167)","v":""},null,{"$f":"IF(AL167=\"\",\"\",AL167)","v":""},null,null,{"$f":"IF(AO167=\"\",\"\",AO167)","v":""},null,null,{"$f":"IF(AR167=\"\",\"\",AR167)","v":""},null,null,null,null,{"$f":"IF(AW167=\"\",\"\",AW167)","v":""}]
[]
[]
[]
[null,null,null,null,null,null,null,null,null,null,null,null,null,null,null,null,null,{"$f":"IF(R171=\"\",\"\",R171)","v":""},null,{"$f":"IF(T171=\"\",\"\",T171)","v":""},null,{"$f":"IF(V171=\"\",\"\",V171)","v":""},null,{"$f":"IF(X171=\"\",\"\",X171)","v":""},null,{"$f":"IF(Z171=\"\",\"\",Z171)","v":""},null,{"$f":"IF(AB171=\"\",\"\",AB171)","v":""},null,{"$f":"IF(AD171=\"\",\"\",AD171)","v":""},null,{"$f":"IF(AF171=\"\",\"\",AF171)","v":""},null,{"$f":"IF(AH171=\"\",\"\",AH171)","v":""},null,{"$f":"IF(AJ171=\"\",\"\",AJ171)","v":""},null,{"$f":"IF(AL171=\"\",\"\",AL171)","v":""},null,null,{"$f":"IF(AO171=\"\",\"\",AO171)","v":""},null,null,{"$f":"IF(AR171=\"\",\"\",AR171)","v":""},null,null,null,null,{"$f":"IF(AW171=\"\",\"\",AW171)","v":""}]
[]
[]
[]
[null,null,null,null,null,null,null,null,null,null,null,null,null,null,null,null,null,null,null,null,null,null,null,null,null,null,null,null,null,null,null,null,null,null,null,null,null,"値引き等",null,null,null,null,null,null,null,null,null,null,{"$f":"IF(AW175=\"\",\"\",AW175)","v":""}]
[]
[]
[]
[]
[null,null,null,null,null,null,null,null,null,null,null,null,null,null,null,null,null,null,null,null,null,null,null,null,null,null,null,null,null,null,null,null,null,null,null,null,null,{"$f":"\"合計(\" & IF(税処理=2,\"税込\",\"税抜\")&\")\"","v":"合計(税抜)"},null,null,null,null,null,null,null,null,null,null,{"$f":"IF(AW180=\"\",\"\",AW180)","v":""}]

{"sheet":"細2-7","index":21,"n_rows":272,"n_cols":53,"rows_kept":272,"cut":false,"hidden":false,"merged":[[266,37,269,47],[266,48,269,54],[258,48,261,54],[262,17,265,18],[262,19,265,20],[262,21,265,36],[262,37,265,39],[258,43,261,47],[271,37,274,47],[271,48,274,54],[262,40,265,42],[262,43,265,47],[262,48,265,54],[258,17,261,18],[258,19,261,20],[258,21,261,36],[258,37,261,39],[258,40,261,42],[250,48,253,54],[254,17,257,18],[254,19,257,20],[254,21,257,36],[254,37,257,39],[254,40,257,42],[254,43,257,47],[254,48,257,54],[250,17,253,18],[250,19,253,20],[250,21,253,36],[250,37,253,39],[250,40,253,42],[250,43,253,47],[242,48,245,54],[246,17,249,18],[246,19,249,20],[246,21,249,36],[246,37,249,39],[246,40,249,42],[246,43,249,47],[246,48,249,54],[242,17,245,18],[242,19,245,20],[242,21,245,36],[242,37,245,39],[242,40,245,42],[242,43,245,47],[234,48,237,54],[238,17,241,18],[238,19,241,20],[238,21,241,36],[238,37,241,39],[238,40,241,42],[238,43,241,47],[238,48,241,54],[234,17,237,18],[234,19,237,20],[234,21,237,36],[234,37,237,39],[234,40,237,42],[234,43,237,47],[222,17,225,18],[222,19,225,20],[222,21,225,36],[222,37,225,39],[222,40,225,42],[222,43,225,47],[222,48,225,54],[226,48,229,54],[230,17,233,18],[230,19,233,20],[230,21,233,36],[230,37,233,39],[230,40,233,42],[230,43,233,47],[230,48,233,54],[226,17,229,18],[226,19,229,20],[226,21,229,36],[226,37,229,39],[226,40,229,42],[226,43,229,47],[218,1,221,5],[218,6,221,15],[218,17,221,18],[218,19,221,20],[218,21,221,36],[218,37,221,39],[218,40,221,42],[218,43,221,47],[218,48,221,54],[210,40,213,42],[210,43,213,47],[210,48,213,54],[214,1,217,3],[214,4,217,5],[214,6,217,15],[214,17,217,18],[214,19,217,20],[214,21,217,36],[214,37,217,39],[210,1,213,5],[210,6,213,15],[210,17,213,18],[210,19,213,20],[210,21,213,36],[210,37,213,39],[214,40,217,42],[214,43,217,47],[214,48,217,54],[206,1,209,5],[206,6,209,15],[206,17,209,18],[206,19,209,20],[206,21,209,36],[206,37,209,39],[206,40,209,42],[206,43,209,47],[206,48,209,54],[198,43,201,47],[198,48,201,54],[202,1,205,5],[202,6,205,15],[202,17,205,18],[202,19,205,20],[202,21,205,36],[202,37,205,39],[202,40,205,42],[202,43,205,47],[198,1,201,5],[198,6,201,15],[198,17,201,20],[198,21,201,36],[198,37,201,39],[198,40,201,42],[202,48,205,54],[187,52,189,54],[192,1,195,5],[192,6,195,11],[192,12,195,15],[192,16,195,35],[192,37,195,40],[192,41,195,54],[185,19,188,32],[186,1,189,11],[186,12,189,13],[187,41,189,45],[187,46,189,48],[187,49,189,51],[174,37,177,47],[174,48,177,54],[179,37,182,47],[179,48,182,54],[170,17,173,18],[170,19,173,20],[170,21,173,36],[170,37,173,39],[170,40,173,42],[170,43,173,47],[170,48,173,54],[166,17,169,18],[166,19,169,20],[162,43,165,47],[162,48,165,54],[158,17,161,18],[158,19,161,20],[158,21,161,36],[158,37,161,39],[158,40,161,42],[162,17,165,18],[162,19,165,20],[162,21,165,36],[162,37,165,39],[162,40,165,42],[166,48,169,54],[158,43,161,47],[166,21,169,36],[166,37,169,39],[166,40,169,42],[166,43,169,47],[158,48,161,54],[154,48,157,54],[150,17,153,18],[150,19,153,20],[146,43,149,47],[146,48,149,54],[142,17,145,18],[142,19,145,20],[142,21,145,36],[142,37,145,39],[142,40,145,42],[154,17,157,18],[154,19,157,20],[154,21,157,36],[154,37,157,39],[154,40,157,42],[154,43,157,47],[146,17,149,18],[146,19,149,20],[146,21,149,36],[146,37,149,39],[146,40,149,42],[150,48,153,54],[142,43,145,47],[150,21,153,36],[150,37,153,39],[150,40,153,42],[150,43,153,47],[142,48,145,54],[130,48,133,54],[134,48,137,54],[130,17,133,18],[130,19,133,20],[130,21,133,36],[130,37,133,39],[130,40,133,42],[130,43,133,47],[138,48,141,54],[134,17,137,18],[134,19,137,20],[134,21,137,36],[134,37,137,39],[134,40,137,42],[134,43,137,47],[138,17,141,18],[138,19,141,20],[138,21,141,36],[138,37,141,39],[138,40,141,42],[138,43,141,47],[126,1,129,5],[126,6,129,15],[126,17,129,18],[126,19,129,20],[126,21,129,36],[126,37,129,39],[126,40,129,42],[126,43,129,47],[126,48,129,54],[118,40,121,42],[118,43,121,47],[118,48,121,54],[122,1,125,3],[122,4,125,5],[122,6,125,15],[122,17,125,18],[122,19,125,20],[122,21,125,36],[122,37,125,39],[118,1,121,5],[118,6,121,15],[118,17,121,18],[118,19,121,20],[118,21,121,36],[118,37,121,39],[122,40,125,42],[122,43,125,47],[122,48,125,54],[114,1,117,5],[114,6,117,15],[114,17,117,18],[114,19,117,20],[114,21,117,36],[114,37,117,39],[114,40,117,42],[114,43,117,47],[114,48,117,54],[106,43,109,47],[106,48,109,54],[110,1,113,5],[110,6,113,15],[110,17,113,18],[110,19,113,20],[110,21,113,36],[110,37,113,39],[110,40,113,42],[110,43,113,47],[106,1,109,5],[106,6,109,15],[106,17,109,20],[106,21,109,36],[106,37,109,39],[106,40,109,42],[110,48,113,54],[95,49,97,51],[95,52,97,54],[100,1,103,5],[100,6,103,11],[100,12,103,15],[100,16,103,35],[100,37,103,40],[100,41,103,54],[93,19,96,32],[94,1,97,11],[94,12,97,13],[95,41,97,45],[83,1,84,4],[83,5,84,10],[87,37,90,47],[83,11,84,16],[83,17,84,25],[95,46,97,48],[85,1,90,4],[85,5,90,10],[85,11,90,16],[85,17,90,25],[78,43,81,47],[83,26,84,30],[83,31,84,35],[78,17,81,18],[78,19,81,20],[78,21,81,36],[85,26,90,30],[85,31,90,35],[74,48,77,54],[87,48,90,54],[78,48,81,54],[82,37,85,47],[82,48,85,54],[78,37,81,39],[78,40,81,42],[74,17,77,18],[74,19,77,20],[74,21,77,36],[74,37,77,39],[74,40,77,42],[74,43,77,47],[66,48,69,54],[70,17,73,18],[70,19,73,20],[70,21,73,36],[70,37,73,39],[70,40,73,42],[70,43,73,47],[70,48,73,54],[66,17,69,18],[66,19,69,20],[66,21,69,36],[66,37,69,39],[66,40,69,42],[66,43,69,47],[58,48,61,54],[62,17,65,18],[62,19,65,20],[62,21,65,36],[62,37,65,39],[62,40,65,42],[62,43,65,47],[62,48,65,54],[58,17,61,18],[58,19,61,20],[58,21,61,36],[58,37,61,39],[58,40,61,42],[58,43,61,47],[50,48,53,54],[54,17,57,18],[54,19,57,20],[54,21,57,36],[54,37,57,39],[54,40,57,42],[54,43,57,47],[54,48,57,54],[50,17,53,18],[50,19,53,20],[50,21,53,36],[50,37,53,39],[50,40,53,42],[50,43,53,47],[38,17,41,18],[38,19,41,20],[38,21,41,36],[38,37,41,39],[38,40,41,42],[38,43,41,47],[38,48,41,54],[42,48,45,54],[46,17,49,18],[46,19,49,20],[46,21,49,36],[46,37,49,39],[46,40,49,42],[46,43,49,47],[46,48,49,54],[42,17,45,18],[42,19,45,20],[42,21,45,36],[42,37,45,39],[42,40,45,42],[42,43,45,47],[34,1,37,5],[34,6,37,15],[34,17,37,18],[34,19,37,20],[34,21,37,36],[34,37,37,39],[34,40,37,42],[34,43,37,47],[34,48,37,54],[26,40,29,42],[26,43,29,47],[26,48,29,54],[30,1,33,3],[30,4,33,5],[30,6,33,15],[30,17,33,18],[30,19,33,20],[30,21,33,36],[30,37,33,39],[26,1,29,5],[26,6,29,15],[26,17,29,18],[26,19,29,20],[26,21,29,36],[26,37,29,39],[30,40,33,42],[30,43,33,47],[30,48,33,54],[22,1,25,5],[22,6,25,15],[22,17,25,18],[22,19,25,20],[22,21,25,36],[22,37,25,39],[22,40,25,42],[22,43,25,47],[22,48,25,54],[14,43,17,47],[14,48,17,54],[18,1,21,5],[18,6,21,15],[18,17,21,18],[18,19,21,20],[18,21,21,36],[18,37,21,39],[18,40,21,42],[18,43,21,47],[14,1,17,5],[14,6,17,15],[14,17,17,20],[14,21,17,36],[14,37,17,39],[14,40,17,42],[18,48,21,54],[3,52,5,54],[8,37,11,40],[8,41,11,54],[3,41,5,45],[1,19,4,32],[2,1,5,11],[2,12,5,13],[8,1,11,5],[8,6,11,11],[8,12,11,15],[8,16,11,35],[3,46,5,48],[3,49,5,51]]}
[]
[null,null,null,null,null,null,null,null,null,null,null,null,null,null,null,null,null,null,null,"請求書明細書 (正)"]
[null,"株 式 会 社 種 村 建 設",null,null,null,null,null,null,null,null,null,null,"御中"]
[null,null,null,null,null,null,null,null,null,null,null,null,null,null,null,null,null,null,null,null,null,null,null,null,null,null,null,null,null,null,null,null,null,null,null,null,null,null,null,null,null,"請求年月日",null,null,null,null,{"$f":"年","v":23},null,null,{"$f":"月","v":5},null,null,{"$f":"日","v":31}]
[]
[]
[]
[]
[null,"工事番号",null,null,null,null,null,null,null,null,null,null,"工事名",null,null,null,null,null,null,null,null,null,null,null,null,null,null,null,null,null,null,null,null,null,null,null,null,"業者名",null,null,null,{"$f":"社名","v":"例：㈱種村建設"}]
[]
[]
[]
[]
[]
[null,"注文番号",null,null,null,null,null,null,null,null,null,null,null,null,null,null,null,"月　日",null,null,null,"摘要･品名",null,null,null,null,null,null,null,null,null,null,null,null,null,null,null,"数 量",null,null,"単位",null,null,"単価",null,null,null,null,{"$f":"\"金額(\" & IF(税処理=2,\"税込\",\"税抜\")&\")\"","v":"金額(税抜)"}]
[]
[]
[]
[null,"契約金額",null,null,null,null,null,null,null,null,null,null,null,null,null,null,null,null,null,null,null,null,null,null,null,null,null,null,null,null,null,null,null,null,null,null,null,null,null,null,null,null,null,null,null,null,null,null,{"$f":"IF(V19=\"\",\"\",AL19*AR19)","v":""}]
[]
[]
[]
[null,"増減額",null,null,null,null,null,null,null,null,null,null,null,null,null,null,null,null,null,null,null,null,null,null,null,null,null,null,null,null,null,null,null,null,null,null,null,null,null,null,null,null,null,null,null,null,null,null,{"$f":"IF(V23=\"\",\"\",AL23*AR23)","v":""}]
[]
[]
[]
[null,"前回までの\n請求額",null,null,null,null,null,null,null,null,null,null,null,null,null,null,null,null,null,null,null,null,null,null,null,null,null,null,null,null,null,null,null,null,null,null,null,null,null,null,null,null,null,null,null,null,null,null,{"$f":"IF(V27=\"\",\"\",AL27*AR27)","v":""}]
[]
[]
[]
[null,"今回\n請求額",null,null,null,null,null,null,null,null,null,null,null,null,null,null,null,null,null,null,null,null,null,null,null,null,null,null,null,null,null,null,null,null,null,null,null,null,null,null,null,null,null,null,null,null,null,null,{"$f":"IF(V31=\"\",\"\",AL31*AR31)","v":""}]
[]
[]
[]
[null,"差引残高",null,null,null,null,{"$f":"IF(G19=\"\",\"\",G19+G23-G27-G31)","v":""},null,null,null,null,null,null,null,null,null,null,null,null,null,null,null,null,null,null,null,null,null,null,null,null,null,null,null,null,null,null,null,null,null,null,null,null,null,null,null,null,null,{"$f":"IF(V35=\"\",\"\",AL35*AR35)","v":""}]
[]
[]
[]
[null,null,null,null,null,null,null,null,null,null,null,null,null,null,null,null,null,null,null,null,null,null,null,null,null,null,null,null,null,null,null,null,null,null,null,null,null,null,null,null,null,null,null,null,null,null,null,null,{"$f":"IF(V39=\"\",\"\",AL39*AR39)","v":""}]
[]
[]
[]
[null,null,null,null,null,null,null,null,null,null,null,null,null,null,null,null,null,null,null,null,null,null,null,null,null,null,null,null,null,null,null,null,null,null,null,null,null,null,null,null,null,null,null,null,null,null,null,null,{"$f":"IF(V43=\"\",\"\",AL43*AR43)","v":""}]
[]
[]
[]
[null,null,null,null,null,null,null,null,null,null,null,null,null,null,null,null,null,null,null,null,null,null,null,null,null,null,null,null,null,null,null,null,null,null,null,null,null,null,null,null,null,null,null,null,null,null,null,null,{"$f":"IF(V47=\"\",\"\",AL47*AR47)","v":""}]
[]
[]
[]
[null,null,null,null,null,null,null,null,null,null,null,null,null,null,null,null,null,null,null,null,null,null,null,null,null,null,null,null,null,null,null,null,null,null,null,null,null,null,null,null,null,null,null,null,null,null,null,null,{"$f":"IF(V51=\"\",\"\",AL51*AR51)","v":""}]
[]
[]
[]
[null,null,null,null,null,null,null,null,null,null,null,null,null,null,null,null,null,null,null,null,null,null,null,null,null,null,null,null,null,null,null,null,null,null,null,null,null,null,null,null,null,null,null,null,null,null,null,null,{"$f":"IF(V55=\"\",\"\",AL55*AR55)","v":""}]
[]
[]
[]
[null,null,null,null,null,null,null,null,null,null,null,null,null,null,null,null,null,null,null,null,null,null,null,null,null,null,null,null,null,null,null,null,null,null,null,null,null,null,null,null,null,null,null,null,null,null,null,null,{"$f":"IF(V59=\"\",\"\",AL59*AR59)","v":""}]
[]
[]
[]
[null,null,null,null,null,null,null,null,null,null,null,null,null,null,null,null,null,null,null,null,null,null,null,null,null,null,null,null,null,null,null,null,null,null,null,null,null,null,null,null,null,null,null,null,null,null,null,null,{"$f":"IF(V63=\"\",\"\",AL63*AR63)","v":""}]
[]
[]
[]
[null,null,null,null,null,null,null,null,null,null,null,null,null,null,null,null,null,null,null,null,null,null,null,null,null,null,null,null,null,null,null,null,null,null,null,null,null,null,null,null,null,null,null,null,null,null,null,null,{"$f":"IF(V67=\"\",\"\",AL67*AR67)","v":""}]
[]
[]
[]
[null,null,null,null,null,null,null,null,null,null,null,null,null,null,null,null,null,null,null,null,null,null,null,null,null,null,null,null,null,null,null,null,null,null,null,null,null,null,null,null,null,null,null,null,null,null,null,null,{"$f":"IF(V71=\"\",\"\",AL71*AR71)","v":""}]
[]
[]
[]
[null,null,null,null,null,null,null,null,null,null,null,null,null,null,null,null,null,null,null,null,null,null,null,null,null,null,null,null,null,null,null,null,null,null,null,null,null,null,null,null,null,null,null,null,null,null,null,null,{"$f":"IF(V75=\"\",\"\",AL75*AR75)","v":""}]
[]
[]
[]
[null,null,null,null,null,null,null,null,null,null,null,null,null,null,null,null,null,null,null,null,null,null,null,null,null,null,null,null,null,null,null,null,null,null,null,null,null,null,null,null,null,null,null,null,null,null,null,null,{"$f":"IF(V79=\"\",\"\",AL79*AR79)","v":""}]
[]
[]
[]
[null,null,null,null,null,null,null,null,null,null,null,null,null,null,null,null,null,null,null,null,null,null,null,null,null,null,null,null,null,null,null,null,null,null,null,null,null,"値引き等"]
[null,"社長",null,null,null,"専務",null,null,null,null,null,"常務",null,null,null,null,null,"部長･工場長",null,null,null,null,null,null,null,null,"担当者",null,null,null,null,"受付"]
[]
[]
[]
[null,null,null,null,null,null,null,null,null,null,null,null,null,null,null,null,null,null,null,null,null,null,null,null,null,null,null,null,null,null,null,null,null,null,null,null,null,{"$f":"\"合計(\" & IF(税処理=2,\"税込\",\"税抜\")&\")\"","v":"合計(税抜)"},null,null,null,null,null,null,null,null,null,null,{"$f":"IF(AW19=\"\",\"\",SUM(AW19:AW79)+AW83)","v":""}]
[]
[]
[]
[]
[]
[null,null,null,null,null,null,null,null,null,null,null,null,null,null,null,null,null,null,null,"請求明細書 (現場控)"]
[null,"株 式 会 社 種 村 建 設",null,null,null,null,null,null,null,null,null,null,"御中"]
[null,null,null,null,null,null,null,null,null,null,null,null,null,null,null,null,null,null,null,null,null,null,null,null,null,null,null,null,null,null,null,null,null,null,null,null,null,null,null,null,null,"請求年月日",null,null,null,null,{"$f":"IF(AU4=\"\",\"\",AU4)","v":23},null,null,{"$f":"IF(AX4=\"\",\"\",AX4)","v":5},null,null,{"$f":"IF(BA4=\"\",\"\",BA4)","v":31}]
[]
[]
[]
[]
[null,"工事番号",null,null,null,null,{"$f":"IF(G9=\"\",\"\",G9)","v":""},null,null,null,null,null,"工事名",null,null,null,{"$f":"IF(Q9=\"\",\"\",Q9)","v":""},null,null,null,null,null,null,null,null,null,null,null,null,null,null,null,null,null,null,null,null,"業者名",null,null,null,{"$f":"IF(AP9=\"\",\"\",AP9)","v":"例：㈱種村建設"}]
[]
[]
[]
[]
[]
[null,"注文番号",null,null,null,null,{"$f":"IF(G15=\"\",\"\",G15)","v":""},null,null,null,null,null,null,null,null,null,null,"月　日",null,null,null,"摘要･品名",null,null,null,null,null,null,null,null,null,null,null,null,null,null,null,"数 量",null,null,"単位",null,null,"単価",null,null,null,null,{"$f":"\"金額(\" & IF(税処理=2,\"税込\",\"税抜\")&\")\"","v":"金額(税抜)"}]
[]
[]
[]
[null,"契約金額",null,null,null,null,{"$f":"IF(G19=\"\",\"\",G19)","v":""},null,null,null,null,null,null,null,null,null,null,{"$f":"IF(R19=\"\",\"\",R19)","v":""},null,{"$f":"IF(T19=\"\",\"\",T19)","v":""},null,{"$f":"IF(V19=\"\",\"\",V19)","v":""},null,{"$f":"IF(X19=\"\",\"\",X19)","v":""},null,{"$f":"IF(Z19=\"\",\"\",Z19)","v":""},null,{"$f":"IF(AB19=\"\",\"\",AB19)","v":""},null,{"$f":"IF(AD19=\"\",\"\",AD19)","v":""},null,{"$f":"IF(AF19=\"\",\"\",AF19)","v":""},null,{"$f":"IF(AH19=\"\",\"\",AH19)","v":""},null,{"$f":"IF(AJ19=\"\",\"\",AJ19)","v":""},null,{"$f":"IF(AL19=\"\",\"\",AL19)","v":""},null,null,{"$f":"IF(AO19=\"\",\"\",AO19)","v":""},null,null,{"$f":"IF(AR19=\"\",\"\",AR19)","v":""},null,null,null,null,{"$f":"IF(AW19=\"\",\"\",AW19)","v":""}]
[]
[]
[]
[null,"増減額",null,null,null,null,{"$f":"IF(G23=\"\",\"\",G23)","v":""},null,null,null,null,null,null,null,null,null,null,{"$f":"IF(R23=\"\",\"\",R23)","v":""},null,{"$f":"IF(T23=\"\",\"\",T23)","v":""},null,{"$f":"IF(V23=\"\",\"\",V23)","v":""},null,{"$f":"IF(X23=\"\",\"\",X23)","v":""},null,{"$f":"IF(Z23=\"\",\"\",Z23)","v":""},null,{"$f":"IF(AB23=\"\",\"\",AB23)","v":""},null,{"$f":"IF(AD23=\"\",\"\",AD23)","v":""},null,{"$f":"IF(AF23=\"\",\"\",AF23)","v":""},null,{"$f":"IF(AH23=\"\",\"\",AH23)","v":""},null,{"$f":"IF(AJ23=\"\",\"\",AJ23)","v":""},null,{"$f":"IF(AL23=\"\",\"\",AL23)","v":""},null,null,{"$f":"IF(AO23=\"\",\"\",AO23)","v":""},null,null,{"$f":"IF(AR23=\"\",\"\",AR23)","v":""},null,null,null,null,{"$f":"IF(AW23=\"\",\"\",AW23)","v":""}]
[]
[]
[]
[null,"前回までの\n請求額",null,null,null,null,{"$f":"IF(G27=\"\",\"\",G27)","v":""},null,null,null,null,null,null,null,null,null,null,{"$f":"IF(R27=\"\",\"\",R27)","v":""},null,{"$f":"IF(T27=\"\",\"\",T27)","v":""},null,{"$f":"IF(V27=\"\",\"\",V27)","v":""},null,{"$f":"IF(X27=\"\",\"\",X27)","v":""},null,{"$f":"IF(Z27=\"\",\"\",Z27)","v":""},null,{"$f":"IF(AB27=\"\",\"\",AB27)","v":""},null,{"$f":"IF(AD27=\"\",\"\",AD27)","v":""},null,{"$f":"IF(AF27=\"\",\"\",AF27)","v":""},null,{"$f":"IF(AH27=\"\",\"\",AH27)","v":""},null,{"$f":"IF(AJ27=\"\",\"\",AJ27)","v":""},null,{"$f":"IF(AL27=\"\",\"\",AL27)","v":""},null,null,{"$f":"IF(AO27=\"\",\"\",AO27)","v":""},null,null,{"$f":"IF(AR27=\"\",\"\",AR27)","v":""},null,null,null,null,{"$f":"IF(AW27=\"\",\"\",AW27)","v":""}]
[]
[]
[]
[null,"今回\n請求額",null,null,{"$f":"IF(E31=\"\",\"\",E31)","v":""},null,{"$f":"IF(G31=\"\",\"\",G31)","v":""},null,null,null,null,null,null,null,null,null,null,{"$f":"IF(R31=\"\",\"\",R31)","v":""},null,{"$f":"IF(T31=\"\",\"\",T31)","v":""},null,{"$f":"IF(V31=\"\",\"\",V31)","v":""},null,{"$f":"IF(X31=\"\",\"\",X31)","v":""},null,{"$f":"IF(Z31=\"\",\"\",Z31)","v":""},null,{"$f":"IF(AB31=\"\",\"\",AB31)","v":""},null,{"$f":"IF(AD31=\"\",\"\",AD31)","v":""},null,{"$f":"IF(AF31=\"\",\"\",AF31)","v":""},null,{"$f":"IF(AH31=\"\",\"\",AH31)","v":""},null,{"$f":"IF(AJ31=\"\",\"\",AJ31)","v":""},null,{"$f":"IF(AL31=\"\",\"\",AL31)","v":""},null,null,{"$f":"IF(AO31=\"\",\"\",AO31)","v":""},null,null,{"$f":"IF(AR31=\"\",\"\",AR31)","v":""},null,null,null,null,{"$f":"IF(AW31=\"\",\"\",AW31)","v":""}]
[]
[]
[]
[null,"差引残高",null,null,null,null,{"$f":"IF(G111=\"\",\"\",G111+G115-G119-G123)","v":""},null,null,null,null,null,null,null,null,null,null,{"$f":"IF(R35=\"\",\"\",R35)","v":""},null,{"$f":"IF(T35=\"\",\"\",T35)","v":""},null,{"$f":"IF(V35=\"\",\"\",V35)","v":""},null,{"$f":"IF(X35=\"\",\"\",X35)","v":""},null,{"$f":"IF(Z35=\"\",\"\",Z35)","v":""},null,{"$f":"IF(AB35=\"\",\"\",AB35)","v":""},null,{"$f":"IF(AD35=\"\",\"\",AD35)","v":""},null,{"$f":"IF(AF35=\"\",\"\",AF35)","v":""},null,{"$f":"IF(AH35=\"\",\"\",AH35)","v":""},null,{"$f":"IF(AJ35=\"\",\"\",AJ35)","v":""},null,{"$f":"IF(AL35=\"\",\"\",AL35)","v":""},null,null,{"$f":"IF(AO35=\"\",\"\",AO35)","v":""},null,null,{"$f":"IF(AR35=\"\",\"\",AR35)","v":""},null,null,null,null,{"$f":"IF(AW35=\"\",\"\",AW35)","v":""}]
[]
[]
[]
[null,null,null,null,null,null,null,null,null,null,null,null,null,null,null,null,null,{"$f":"IF(R39=\"\",\"\",R39)","v":""},null,{"$f":"IF(T39=\"\",\"\",T39)","v":""},null,{"$f":"IF(V39=\"\",\"\",V39)","v":""},null,{"$f":"IF(X39=\"\",\"\",X39)","v":""},null,{"$f":"IF(Z39=\"\",\"\",Z39)","v":""},null,{"$f":"IF(AB39=\"\",\"\",AB39)","v":""},null,{"$f":"IF(AD39=\"\",\"\",AD39)","v":""},null,{"$f":"IF(AF39=\"\",\"\",AF39)","v":""},null,{"$f":"IF(AH39=\"\",\"\",AH39)","v":""},null,{"$f":"IF(AJ39=\"\",\"\",AJ39)","v":""},null,{"$f":"IF(AL39=\"\",\"\",AL39)","v":""},null,null,{"$f":"IF(AO39=\"\",\"\",AO39)","v":""},null,null,{"$f":"IF(AR39=\"\",\"\",AR39)","v":""},null,null,null,null,{"$f":"IF(AW39=\"\",\"\",AW39)","v":""}]
[]
[]
[]
[null,null,null,null,null,null,null,null,null,null,null,null,null,null,null,null,null,{"$f":"IF(R43=\"\",\"\",R43)","v":""},null,{"$f":"IF(T43=\"\",\"\",T43)","v":""},null,{"$f":"IF(V43=\"\",\"\",V43)","v":""},null,{"$f":"IF(X43=\"\",\"\",X43)","v":""},null,{"$f":"IF(Z43=\"\",\"\",Z43)","v":""},null,{"$f":"IF(AB43=\"\",\"\",AB43)","v":""},null,{"$f":"IF(AD43=\"\",\"\",AD43)","v":""},null,{"$f":"IF(AF43=\"\",\"\",AF43)","v":""},null,{"$f":"IF(AH43=\"\",\"\",AH43)","v":""},null,{"$f":"IF(AJ43=\"\",\"\",AJ43)","v":""},null,{"$f":"IF(AL43=\"\",\"\",AL43)","v":""},null,null,{"$f":"IF(AO43=\"\",\"\",AO43)","v":""},null,null,{"$f":"IF(AR43=\"\",\"\",AR43)","v":""},null,null,null,null,{"$f":"IF(AW43=\"\",\"\",AW43)","v":""}]
[]
[]
[]
[null,null,null,null,null,null,null,null,null,null,null,null,null,null,null,null,null,{"$f":"IF(R47=\"\",\"\",R47)","v":""},null,{"$f":"IF(T47=\"\",\"\",T47)","v":""},null,{"$f":"IF(V47=\"\",\"\",V47)","v":""},null,{"$f":"IF(X47=\"\",\"\",X47)","v":""},null,{"$f":"IF(Z47=\"\",\"\",Z47)","v":""},null,{"$f":"IF(AB47=\"\",\"\",AB47)","v":""},null,{"$f":"IF(AD47=\"\",\"\",AD47)","v":""},null,{"$f":"IF(AF47=\"\",\"\",AF47)","v":""},null,{"$f":"IF(AH47=\"\",\"\",AH47)","v":""},null,{"$f":"IF(AJ47=\"\",\"\",AJ47)","v":""},null,{"$f":"IF(AL47=\"\",\"\",AL47)","v":""},null,null,{"$f":"IF(AO47=\"\",\"\",AO47)","v":""},null,null,{"$f":"IF(AR47=\"\",\"\",AR47)","v":""},null,null,null,null,{"$f":"IF(AW47=\"\",\"\",AW47)","v":""}]
[]
[]
[]
[null,null,null,null,null,null,null,null,null,null,null,null,null,null,null,null,null,{"$f":"IF(R51=\"\",\"\",R51)","v":""},null,{"$f":"IF(T51=\"\",\"\",T51)","v":""},null,{"$f":"IF(V51=\"\",\"\",V51)","v":""},null,{"$f":"IF(X51=\"\",\"\",X51)","v":""},null,{"$f":"IF(Z51=\"\",\"\",Z51)","v":""},null,{"$f":"IF(AB51=\"\",\"\",AB51)","v":""},null,{"$f":"IF(AD51=\"\",\"\",AD51)","v":""},null,{"$f":"IF(AF51=\"\",\"\",AF51)","v":""},null,{"$f":"IF(AH51=\"\",\"\",AH51)","v":""},null,{"$f":"IF(AJ51=\"\",\"\",AJ51)","v":""},null,{"$f":"IF(AL51=\"\",\"\",AL51)","v":""},null,null,{"$f":"IF(AO51=\"\",\"\",AO51)","v":""},null,null,{"$f":"IF(AR51=\"\",\"\",AR51)","v":""},null,null,null,null,{"$f":"IF(AW51=\"\",\"\",AW51)","v":""}]
[]
[]
[]
[null,null,null,null,null,null,null,null,null,null,null,null,null,null,null,null,null,{"$f":"IF(R55=\"\",\"\",R55)","v":""},null,{"$f":"IF(T55=\"\",\"\",T55)","v":""},null,{"$f":"IF(V55=\"\",\"\",V55)","v":""},null,{"$f":"IF(X55=\"\",\"\",X55)","v":""},null,{"$f":"IF(Z55=\"\",\"\",Z55)","v":""},null,{"$f":"IF(AB55=\"\",\"\",AB55)","v":""},null,{"$f":"IF(AD55=\"\",\"\",AD55)","v":""},null,{"$f":"IF(AF55=\"\",\"\",AF55)","v":""},null,{"$f":"IF(AH55=\"\",\"\",AH55)","v":""},null,{"$f":"IF(AJ55=\"\",\"\",AJ55)","v":""},null,{"$f":"IF(AL55=\"\",\"\",AL55)","v":""},null,null,{"$f":"IF(AO55=\"\",\"\",AO55)","v":""},null,null,{"$f":"IF(AR55=\"\",\"\",AR55)","v":""},null,null,null,null,{"$f":"IF(AW55=\"\",\"\",AW55)","v":""}]
[]
[]
[]
[null,null,null,null,null,null,null,null,null,null,null,null,null,null,null,null,null,{"$f":"IF(R59=\"\",\"\",R59)","v":""},null,{"$f":"IF(T59=\"\",\"\",T59)","v":""},null,{"$f":"IF(V59=\"\",\"\",V59)","v":""},null,{"$f":"IF(X59=\"\",\"\",X59)","v":""},null,{"$f":"IF(Z59=\"\",\"\",Z59)","v":""},null,{"$f":"IF(AB59=\"\",\"\",AB59)","v":""},null,{"$f":"IF(AD59=\"\",\"\",AD59)","v":""},null,{"$f":"IF(AF59=\"\",\"\",AF59)","v":""},null,{"$f":"IF(AH59=\"\",\"\",AH59)","v":""},null,{"$f":"IF(AJ59=\"\",\"\",AJ59)","v":""},null,{"$f":"IF(AL59=\"\",\"\",AL59)","v":""},null,null,{"$f":"IF(AO59=\"\",\"\",AO59)","v":""},null,null,{"$f":"IF(AR59=\"\",\"\",AR59)","v":""},null,null,null,null,{"$f":"IF(AW59=\"\",\"\",AW59)","v":""}]
[]
[]
[]
[null,null,null,null,null,null,null,null,null,null,null,null,null,null,null,null,null,{"$f":"IF(R63=\"\",\"\",R63)","v":""},null,{"$f":"IF(T63=\"\",\"\",T63)","v":""},null,{"$f":"IF(V63=\"\",\"\",V63)","v":""},null,{"$f":"IF(X63=\"\",\"\",X63)","v":""},null,{"$f":"IF(Z63=\"\",\"\",Z63)","v":""},null,{"$f":"IF(AB63=\"\",\"\",AB63)","v":""},null,{"$f":"IF(AD63=\"\",\"\",AD63)","v":""},null,{"$f":"IF(AF63=\"\",\"\",AF63)","v":""},null,{"$f":"IF(AH63=\"\",\"\",AH63)","v":""},null,{"$f":"IF(AJ63=\"\",\"\",AJ63)","v":""},null,{"$f":"IF(AL63=\"\",\"\",AL63)","v":""},null,null,{"$f":"IF(AO63=\"\",\"\",AO63)","v":""},null,null,{"$f":"IF(AR63=\"\",\"\",AR63)","v":""},null,null,null,null,{"$f":"IF(AW63=\"\",\"\",AW63)","v":""}]
[]
[]
[]
[null,null,null,null,null,null,null,null,null,null,null,null,null,null,null,null,null,{"$f":"IF(R67=\"\",\"\",R67)","v":""},null,{"$f":"IF(T67=\"\",\"\",T67)","v":""},null,{"$f":"IF(V67=\"\",\"\",V67)","v":""},null,{"$f":"IF(X67=\"\",\"\",X67)","v":""},null,{"$f":"IF(Z67=\"\",\"\",Z67)","v":""},null,{"$f":"IF(AB67=\"\",\"\",AB67)","v":""},null,{"$f":"IF(AD67=\"\",\"\",AD67)","v":""},null,{"$f":"IF(AF67=\"\",\"\",AF67)","v":""},null,{"$f":"IF(AH67=\"\",\"\",AH67)","v":""},null,{"$f":"IF(AJ67=\"\",\"\",AJ67)","v":""},null,{"$f":"IF(AL67=\"\",\"\",AL67)","v":""},null,null,{"$f":"IF(AO67=\"\",\"\",AO67)","v":""},null,null,{"$f":"IF(AR67=\"\",\"\",AR67)","v":""},null,null,null,null,{"$f":"IF(AW67=\"\",\"\",AW67)","v":""}]
[]
[]
[]
[null,null,null,null,null,null,null,null,null,null,null,null,null,null,null,null,null,{"$f":"IF(R71=\"\",\"\",R71)","v":""},null,{"$f":"IF(T71=\"\",\"\",T71)","v":""},null,{"$f":"IF(V71=\"\",\"\",V71)","v":""},null,{"$f":"IF(X71=\"\",\"\",X71)","v":""},null,{"$f":"IF(Z71=\"\",\"\",Z71)","v":""},null,{"$f":"IF(AB71=\"\",\"\",AB71)","v":""},null,{"$f":"IF(AD71=\"\",\"\",AD71)","v":""},null,{"$f":"IF(AF71=\"\",\"\",AF71)","v":""},null,{"$f":"IF(AH71=\"\",\"\",AH71)","v":""},null,{"$f":"IF(AJ71=\"\",\"\",AJ71)","v":""},null,{"$f":"IF(AL71=\"\",\"\",AL71)","v":""},null,null,{"$f":"IF(AO71=\"\",\"\",AO71)","v":""},null,null,{"$f":"IF(AR71=\"\",\"\",AR71)","v":""},null,null,null,null,{"$f":"IF(AW71=\"\",\"\",AW71)","v":""}]
[]
[]
[]
[null,null,null,null,null,null,null,null,null,null,null,null,null,null,null,null,null,{"$f":"IF(R75=\"\",\"\",R75)","v":""},null,{"$f":"IF(T75=\"\",\"\",T75)","v":""},null,{"$f":"IF(V75=\"\",\"\",V75)","v":""},null,{"$f":"IF(X75=\"\",\"\",X75)","v":""},null,{"$f":"IF(Z75=\"\",\"\",Z75)","v":""},null,{"$f":"IF(AB75=\"\",\"\",AB75)","v":""},null,{"$f":"IF(AD75=\"\",\"\",AD75)","v":""},null,{"$f":"IF(AF75=\"\",\"\",AF75)","v":""},null,{"$f":"IF(AH75=\"\",\"\",AH75)","v":""},null,{"$f":"IF(AJ75=\"\",\"\",AJ75)","v":""},null,{"$f":"IF(AL75=\"\",\"\",AL75)","v":""},null,null,{"$f":"IF(AO75=\"\",\"\",AO75)","v":""},null,null,{"$f":"IF(AR75=\"\",\"\",AR75)","v":""},null,null,null,null,{"$f":"IF(AW75=\"\",\"\",AW75)","v":""}]
[]
[]
[]
[null,null,null,null,null,null,null,null,null,null,null,null,null,null,null,null,null,{"$f":"IF(R79=\"\",\"\",R79)","v":""},null,{"$f":"IF(T79=\"\",\"\",T79)","v":""},null,{"$f":"IF(V79=\"\",\"\",V79)","v":""},null,{"$f":"IF(X79=\"\",\"\",X79)","v":""},null,{"$f":"IF(Z79=\"\",\"\",Z79)","v":""},null,{"$f":"IF(AB79=\"\",\"\",AB79)","v":""},null,{"$f":"IF(AD79=\"\",\"\",AD79)","v":""},null,{"$f":"IF(AF79=\"\",\"\",AF79)","v":""},null,{"$f":"IF(AH79=\"\",\"\",AH79)","v":""},null,{"$f":"IF(AJ79=\"\",\"\",AJ79)","v":""},null,{"$f":"IF(AL79=\"\",\"\",AL79)","v":""},null,null,{"$f":"IF(AO79=\"\",\"\",AO79)","v":""},null,null,{"$f":"IF(AR79=\"\",\"\",AR79)","v":""},null,null,null,null,{"$f":"IF(AW79=\"\",\"\",AW79)","v":""}]
[]
[]
[]
[null,null,null,null,null,null,null,null,null,null,null,null,null,null,null,null,null,null,null,null,null,null,null,null,null,null,null,null,null,null,null,null,null,null,null,null,null,"値引き等",null,null,null,null,null,null,null,null,null,null,{"$f":"IF(AW83=\"\",\"\",AW83)","v":""}]
[]
[]
[]
[]
[null,null,null,null,null,null,null,null,null,null,null,null,null,null,null,null,null,null,null,null,null,null,null,null,null,null,null,null,null,null,null,null,null,null,null,null,null,{"$f":"\"合計(\" & IF(税処理=2,\"税込\",\"税抜\")&\")\"","v":"合計(税抜)"},null,null,null,null,null,null,null,null,null,null,{"$f":"IF(AW88=\"\",\"\",AW88)","v":""}]
[]
[]
[]
[]
[]
[null,null,null,null,null,null,null,null,null,null,null,null,null,null,null,null,null,null,null,"請求明細書 (貴社控)"]
[null,"株 式 会 社 種 村 建 設",null,null,null,null,null,null,null,null,null,null,"御中"]
[null,null,null,null,null,null,null,null,null,null,null,null,null,null,null,null,null,null,null,null,null,null,null,null,null,null,null,null,null,null,null,null,null,null,null,null,null,null,null,null,null,"請求年月日",null,null,null,null,{"$f":"IF(AU96=\"\",\"\",AU96)","v":23},null,null,{"$f":"IF(AX96=\"\",\"\",AX96)","v":5},null,null,{"$f":"IF(BA96=\"\",\"\",BA96)","v":31}]
[]
[]
[]
[]
[null,"工事番号",null,null,null,null,{"$f":"IF(G101=\"\",\"\",G101)","v":""},null,null,null,null,null,"工事名",null,null,null,{"$f":"IF(Q101=\"\",\"\",Q101)","v":""},null,null,null,null,null,null,null,null,null,null,null,null,null,null,null,null,null,null,null,null,"業者名",null,null,null,{"$f":"IF(AP101=\"\",\"\",AP101)","v":"例：㈱種村建設"}]
[]
[]
[]
[]
[]
[null,"注文番号",null,null,null,null,{"$f":"IF(G107=\"\",\"\",G107)","v":""},null,null,null,null,null,null,null,null,null,null,"月　日",null,null,null,"摘要･品名",null,null,null,null,null,null,null,null,null,null,null,null,null,null,null,"数 量",null,null,"単位",null,null,"単価",null,null,null,null,{"$f":"\"金額(\" & IF(税処理=2,\"税込\",\"税抜\")&\")\"","v":"金額(税抜)"}]
[]
[]
[]
[null,"契約金額",null,null,null,null,{"$f":"IF(G111=\"\",\"\",G111)","v":""},null,null,null,null,null,null,null,null,null,null,{"$f":"IF(R111=\"\",\"\",R111)","v":""},null,{"$f":"IF(T111=\"\",\"\",T111)","v":""},null,{"$f":"IF(V111=\"\",\"\",V111)","v":""},null,{"$f":"IF(X111=\"\",\"\",X111)","v":""},null,{"$f":"IF(Z111=\"\",\"\",Z111)","v":""},null,{"$f":"IF(AB111=\"\",\"\",AB111)","v":""},null,{"$f":"IF(AD111=\"\",\"\",AD111)","v":""},null,{"$f":"IF(AF111=\"\",\"\",AF111)","v":""},null,{"$f":"IF(AH111=\"\",\"\",AH111)","v":""},null,{"$f":"IF(AJ111=\"\",\"\",AJ111)","v":""},null,{"$f":"IF(AL111=\"\",\"\",AL111)","v":""},null,null,{"$f":"IF(AO111=\"\",\"\",AO111)","v":""},null,null,{"$f":"IF(AR111=\"\",\"\",AR111)","v":""},null,null,null,null,{"$f":"IF(AW111=\"\",\"\",AW111)","v":""}]
[]
[]
[]
[null,"増減額",null,null,null,null,{"$f":"IF(G115=\"\",\"\",G115)","v":""},null,null,null,null,null,null,null,null,null,null,{"$f":"IF(R115=\"\",\"\",R115)","v":""},null,{"$f":"IF(T115=\"\",\"\",T115)","v":""},null,{"$f":"IF(V115=\"\",\"\",V115)","v":""},null,{"$f":"IF(X115=\"\",\"\",X115)","v":""},null,{"$f":"IF(Z115=\"\",\"\",Z115)","v":""},null,{"$f":"IF(AB115=\"\",\"\",AB115)","v":""},null,{"$f":"IF(AD115=\"\",\"\",AD115)","v":""},null,{"$f":"IF(AF115=\"\",\"\",AF115)","v":""},null,{"$f":"IF(AH115=\"\",\"\",AH115)","v":""},null,{"$f":"IF(AJ115=\"\",\"\",AJ115)","v":""},null,{"$f":"IF(AL115=\"\",\"\",AL115)","v":""},null,null,{"$f":"IF(AO115=\"\",\"\",AO115)","v":""},null,null,{"$f":"IF(AR115=\"\",\"\",AR115)","v":""},null,null,null,null,{"$f":"IF(AW115=\"\",\"\",AW115)","v":""}]
[]
[]
[]
[null,"前回までの\n請求額",null,null,null,null,{"$f":"IF(G119=\"\",\"\",G119)","v":""},null,null,null,null,null,null,null,null,null,null,{"$f":"IF(R119=\"\",\"\",R119)","v":""},null,{"$f":"IF(T119=\"\",\"\",T119)","v":""},null,{"$f":"IF(V119=\"\",\"\",V119)","v":""},null,{"$f":"IF(X119=\"\",\"\",X119)","v":""},null,{"$f":"IF(Z119=\"\",\"\",Z119)","v":""},null,{"$f":"IF(AB119=\"\",\"\",AB119)","v":""},null,{"$f":"IF(AD119=\"\",\"\",AD119)","v":""},null,{"$f":"IF(AF119=\"\",\"\",AF119)","v":""},null,{"$f":"IF(AH119=\"\",\"\",AH119)","v":""},null,{"$f":"IF(AJ119=\"\",\"\",AJ119)","v":""},null,{"$f":"IF(AL119=\"\",\"\",AL119)","v":""},null,null,{"$f":"IF(AO119=\"\",\"\",AO119)","v":""},null,null,{"$f":"IF(AR119=\"\",\"\",AR119)","v":""},null,null,null,null,{"$f":"IF(AW119=\"\",\"\",AW119)","v":""}]
[]
[]
[]
[null,"今回\n請求額",null,null,{"$f":"IF(E31=\"\",\"\",E31)","v":""},null,{"$f":"IF(G123=\"\",\"\",G123)","v":""},null,null,null,null,null,null,null,null,null,null,{"$f":"IF(R123=\"\",\"\",R123)","v":""},null,{"$f":"IF(T123=\"\",\"\",T123)","v":""},null,{"$f":"IF(V123=\"\",\"\",V123)","v":""},null,{"$f":"IF(X123=\"\",\"\",X123)","v":""},null,{"$f":"IF(Z123=\"\",\"\",Z123)","v":""},null,{"$f":"IF(AB123=\"\",\"\",AB123)","v":""},null,{"$f":"IF(AD123=\"\",\"\",AD123)","v":""},null,{"$f":"IF(AF123=\"\",\"\",AF123)","v":""},null,{"$f":"IF(AH123=\"\",\"\",AH123)","v":""},null,{"$f":"IF(AJ123=\"\",\"\",AJ123)","v":""},null,{"$f":"IF(AL123=\"\",\"\",AL123)","v":""},null,null,{"$f":"IF(AO123=\"\",\"\",AO123)","v":""},null,null,{"$f":"IF(AR123=\"\",\"\",AR123)","v":""},null,null,null,null,{"$f":"IF(AW123=\"\",\"\",AW123)","v":""}]
[]
[]
[]
[null,"差引残高",null,null,null,null,{"$f":"IF(G203=\"\",\"\",G203+G207-G211-G215)","v":""},null,null,null,null,null,null,null,null,null,null,{"$f":"IF(R127=\"\",\"\",R127)","v":""},null,{"$f":"IF(T127=\"\",\"\",T127)","v":""},null,{"$f":"IF(V127=\"\",\"\",V127)","v":""},null,{"$f":"IF(X127=\"\",\"\",X127)","v":""},null,{"$f":"IF(Z127=\"\",\"\",Z127)","v":""},null,{"$f":"IF(AB127=\"\",\"\",AB127)","v":""},null,{"$f":"IF(AD127=\"\",\"\",AD127)","v":""},null,{"$f":"IF(AF127=\"\",\"\",AF127)","v":""},null,{"$f":"IF(AH127=\"\",\"\",AH127)","v":""},null,{"$f":"IF(AJ127=\"\",\"\",AJ127)","v":""},null,{"$f":"IF(AL127=\"\",\"\",AL127)","v":""},null,null,{"$f":"IF(AO127=\"\",\"\",AO127)","v":""},null,null,{"$f":"IF(AR127=\"\",\"\",AR127)","v":""},null,null,null,null,{"$f":"IF(AW127=\"\",\"\",AW127)","v":""}]
[]
[]
[]
[null,null,null,null,null,null,null,null,null,null,null,null,null,null,null,null,null,{"$f":"IF(R131=\"\",\"\",R131)","v":""},null,{"$f":"IF(T131=\"\",\"\",T131)","v":""},null,{"$f":"IF(V131=\"\",\"\",V131)","v":""},null,{"$f":"IF(X131=\"\",\"\",X131)","v":""},null,{"$f":"IF(Z131=\"\",\"\",Z131)","v":""},null,{"$f":"IF(AB131=\"\",\"\",AB131)","v":""},null,{"$f":"IF(AD131=\"\",\"\",AD131)","v":""},null,{"$f":"IF(AF131=\"\",\"\",AF131)","v":""},null,{"$f":"IF(AH131=\"\",\"\",AH131)","v":""},null,{"$f":"IF(AJ131=\"\",\"\",AJ131)","v":""},null,{"$f":"IF(AL131=\"\",\"\",AL131)","v":""},null,null,{"$f":"IF(AO131=\"\",\"\",AO131)","v":""},null,null,{"$f":"IF(AR131=\"\",\"\",AR131)","v":""},null,null,null,null,{"$f":"IF(AW131=\"\",\"\",AW131)","v":""}]
[]
[]
[]
[null,null,null,null,null,null,null,null,null,null,null,null,null,null,null,null,null,{"$f":"IF(R135=\"\",\"\",R135)","v":""},null,{"$f":"IF(T135=\"\",\"\",T135)","v":""},null,{"$f":"IF(V135=\"\",\"\",V135)","v":""},null,{"$f":"IF(X135=\"\",\"\",X135)","v":""},null,{"$f":"IF(Z135=\"\",\"\",Z135)","v":""},null,{"$f":"IF(AB135=\"\",\"\",AB135)","v":""},null,{"$f":"IF(AD135=\"\",\"\",AD135)","v":""},null,{"$f":"IF(AF135=\"\",\"\",AF135)","v":""},null,{"$f":"IF(AH135=\"\",\"\",AH135)","v":""},null,{"$f":"IF(AJ135=\"\",\"\",AJ135)","v":""},null,{"$f":"IF(AL135=\"\",\"\",AL135)","v":""},null,null,{"$f":"IF(AO135=\"\",\"\",AO135)","v":""},null,null,{"$f":"IF(AR135=\"\",\"\",AR135)","v":""},null,null,null,null,{"$f":"IF(AW135=\"\",\"\",AW135)","v":""}]
[]
[]
[]
[null,null,null,null,null,null,null,null,null,null,null,null,null,null,null,null,null,{"$f":"IF(R139=\"\",\"\",R139)","v":""},null,{"$f":"IF(T139=\"\",\"\",T139)","v":""},null,{"$f":"IF(V139=\"\",\"\",V139)","v":""},null,{"$f":"IF(X139=\"\",\"\",X139)","v":""},null,{"$f":"IF(Z139=\"\",\"\",Z139)","v":""},null,{"$f":"IF(AB139=\"\",\"\",AB139)","v":""},null,{"$f":"IF(AD139=\"\",\"\",AD139)","v":""},null,{"$f":"IF(AF139=\"\",\"\",AF139)","v":""},null,{"$f":"IF(AH139=\"\",\"\",AH139)","v":""},null,{"$f":"IF(AJ139=\"\",\"\",AJ139)","v":""},null,{"$f":"IF(AL139=\"\",\"\",AL139)","v":""},null,null,{"$f":"IF(AO139=\"\",\"\",AO139)","v":""},null,null,{"$f":"IF(AR139=\"\",\"\",AR139)","v":""},null,null,null,null,{"$f":"IF(AW139=\"\",\"\",AW139)","v":""}]
[]
[]
[]
[null,null,null,null,null,null,null,null,null,null,null,null,null,null,null,null,null,{"$f":"IF(R143=\"\",\"\",R143)","v":""},null,{"$f":"IF(T143=\"\",\"\",T143)","v":""},null,{"$f":"IF(V143=\"\",\"\",V143)","v":""},null,{"$f":"IF(X143=\"\",\"\",X143)","v":""},null,{"$f":"IF(Z143=\"\",\"\",Z143)","v":""},null,{"$f":"IF(AB143=\"\",\"\",AB143)","v":""},null,{"$f":"IF(AD143=\"\",\"\",AD143)","v":""},null,{"$f":"IF(AF143=\"\",\"\",AF143)","v":""},null,{"$f":"IF(AH143=\"\",\"\",AH143)","v":""},null,{"$f":"IF(AJ143=\"\",\"\",AJ143)","v":""},null,{"$f":"IF(AL143=\"\",\"\",AL143)","v":""},null,null,{"$f":"IF(AO143=\"\",\"\",AO143)","v":""},null,null,{"$f":"IF(AR143=\"\",\"\",AR143)","v":""},null,null,null,null,{"$f":"IF(AW143=\"\",\"\",AW143)","v":""}]
[]
[]
[]
[null,null,null,null,null,null,null,null,null,null,null,null,null,null,null,null,null,{"$f":"IF(R147=\"\",\"\",R147)","v":""},null,{"$f":"IF(T147=\"\",\"\",T147)","v":""},null,{"$f":"IF(V147=\"\",\"\",V147)","v":""},null,{"$f":"IF(X147=\"\",\"\",X147)","v":""},null,{"$f":"IF(Z147=\"\",\"\",Z147)","v":""},null,{"$f":"IF(AB147=\"\",\"\",AB147)","v":""},null,{"$f":"IF(AD147=\"\",\"\",AD147)","v":""},null,{"$f":"IF(AF147=\"\",\"\",AF147)","v":""},null,{"$f":"IF(AH147=\"\",\"\",AH147)","v":""},null,{"$f":"IF(AJ147=\"\",\"\",AJ147)","v":""},null,{"$f":"IF(AL147=\"\",\"\",AL147)","v":""},null,null,{"$f":"IF(AO147=\"\",\"\",AO147)","v":""},null,null,{"$f":"IF(AR147=\"\",\"\",AR147)","v":""},null,null,null,null,{"$f":"IF(AW147=\"\",\"\",AW147)","v":""}]
[]
[]
[]
[null,null,null,null,null,null,null,null,null,null,null,null,null,null,null,null,null,{"$f":"IF(R151=\"\",\"\",R151)","v":""},null,{"$f":"IF(T151=\"\",\"\",T151)","v":""},null,{"$f":"IF(V151=\"\",\"\",V151)","v":""},null,{"$f":"IF(X151=\"\",\"\",X151)","v":""},null,{"$f":"IF(Z151=\"\",\"\",Z151)","v":""},null,{"$f":"IF(AB151=\"\",\"\",AB151)","v":""},null,{"$f":"IF(AD151=\"\",\"\",AD151)","v":""},null,{"$f":"IF(AF151=\"\",\"\",AF151)","v":""},null,{"$f":"IF(AH151=\"\",\"\",AH151)","v":""},null,{"$f":"IF(AJ151=\"\",\"\",AJ151)","v":""},null,{"$f":"IF(AL151=\"\",\"\",AL151)","v":""},null,null,{"$f":"IF(AO151=\"\",\"\",AO151)","v":""},null,null,{"$f":"IF(AR151=\"\",\"\",AR151)","v":""},null,null,null,null,{"$f":"IF(AW151=\"\",\"\",AW151)","v":""}]
[]
[]
[]
[null,null,null,null,null,null,null,null,null,null,null,null,null,null,null,null,null,{"$f":"IF(R155=\"\",\"\",R155)","v":""},null,{"$f":"IF(T155=\"\",\"\",T155)","v":""},null,{"$f":"IF(V155=\"\",\"\",V155)","v":""},null,{"$f":"IF(X155=\"\",\"\",X155)","v":""},null,{"$f":"IF(Z155=\"\",\"\",Z155)","v":""},null,{"$f":"IF(AB155=\"\",\"\",AB155)","v":""},null,{"$f":"IF(AD155=\"\",\"\",AD155)","v":""},null,{"$f":"IF(AF155=\"\",\"\",AF155)","v":""},null,{"$f":"IF(AH155=\"\",\"\",AH155)","v":""},null,{"$f":"IF(AJ155=\"\",\"\",AJ155)","v":""},null,{"$f":"IF(AL155=\"\",\"\",AL155)","v":""},null,null,{"$f":"IF(AO155=\"\",\"\",AO155)","v":""},null,null,{"$f":"IF(AR155=\"\",\"\",AR155)","v":""},null,null,null,null,{"$f":"IF(AW155=\"\",\"\",AW155)","v":""}]
[]
[]
[]
[null,null,null,null,null,null,null,null,null,null,null,null,null,null,null,null,null,{"$f":"IF(R159=\"\",\"\",R159)","v":""},null,{"$f":"IF(T159=\"\",\"\",T159)","v":""},null,{"$f":"IF(V159=\"\",\"\",V159)","v":""},null,{"$f":"IF(X159=\"\",\"\",X159)","v":""},null,{"$f":"IF(Z159=\"\",\"\",Z159)","v":""},null,{"$f":"IF(AB159=\"\",\"\",AB159)","v":""},null,{"$f":"IF(AD159=\"\",\"\",AD159)","v":""},null,{"$f":"IF(AF159=\"\",\"\",AF159)","v":""},null,{"$f":"IF(AH159=\"\",\"\",AH159)","v":""},null,{"$f":"IF(AJ159=\"\",\"\",AJ159)","v":""},null,{"$f":"IF(AL159=\"\",\"\",AL159)","v":""},null,null,{"$f":"IF(AO159=\"\",\"\",AO159)","v":""},null,null,{"$f":"IF(AR159=\"\",\"\",AR159)","v":""},null,null,null,null,{"$f":"IF(AW159=\"\",\"\",AW159)","v":""}]
[]
[]
[]
[null,null,null,null,null,null,null,null,null,null,null,null,null,null,null,null,null,{"$f":"IF(R163=\"\",\"\",R163)","v":""},null,{"$f":"IF(T163=\"\",\"\",T163)","v":""},null,{"$f":"IF(V163=\"\",\"\",V163)","v":""},null,{"$f":"IF(X163=\"\",\"\",X163)","v":""},null,{"$f":"IF(Z163=\"\",\"\",Z163)","v":""},null,{"$f":"IF(AB163=\"\",\"\",AB163)","v":""},null,{"$f":"IF(AD163=\"\",\"\",AD163)","v":""},null,{"$f":"IF(AF163=\"\",\"\",AF163)","v":""},null,{"$f":"IF(AH163=\"\",\"\",AH163)","v":""},null,{"$f":"IF(AJ163=\"\",\"\",AJ163)","v":""},null,{"$f":"IF(AL163=\"\",\"\",AL163)","v":""},null,null,{"$f":"IF(AO163=\"\",\"\",AO163)","v":""},null,null,{"$f":"IF(AR163=\"\",\"\",AR163)","v":""},null,null,null,null,{"$f":"IF(AW163=\"\",\"\",AW163)","v":""}]
[]
[]
[]
[null,null,null,null,null,null,null,null,null,null,null,null,null,null,null,null,null,{"$f":"IF(R167=\"\",\"\",R167)","v":""},null,{"$f":"IF(T167=\"\",\"\",T167)","v":""},null,{"$f":"IF(V167=\"\",\"\",V167)","v":""},null,{"$f":"IF(X167=\"\",\"\",X167)","v":""},null,{"$f":"IF(Z167=\"\",\"\",Z167)","v":""},null,{"$f":"IF(AB167=\"\",\"\",AB167)","v":""},null,{"$f":"IF(AD167=\"\",\"\",AD167)","v":""},null,{"$f":"IF(AF167=\"\",\"\",AF167)","v":""},null,{"$f":"IF(AH167=\"\",\"\",AH167)","v":""},null,{"$f":"IF(AJ167=\"\",\"\",AJ167)","v":""},null,{"$f":"IF(AL167=\"\",\"\",AL167)","v":""},null,null,{"$f":"IF(AO167=\"\",\"\",AO167)","v":""},null,null,{"$f":"IF(AR167=\"\",\"\",AR167)","v":""},null,null,null,null,{"$f":"IF(AW167=\"\",\"\",AW167)","v":""}]
[]
[]
[]
[null,null,null,null,null,null,null,null,null,null,null,null,null,null,null,null,null,{"$f":"IF(R171=\"\",\"\",R171)","v":""},null,{"$f":"IF(T171=\"\",\"\",T171)","v":""},null,{"$f":"IF(V171=\"\",\"\",V171)","v":""},null,{"$f":"IF(X171=\"\",\"\",X171)","v":""},null,{"$f":"IF(Z171=\"\",\"\",Z171)","v":""},null,{"$f":"IF(AB171=\"\",\"\",AB171)","v":""},null,{"$f":"IF(AD171=\"\",\"\",AD171)","v":""},null,{"$f":"IF(AF171=\"\",\"\",AF171)","v":""},null,{"$f":"IF(AH171=\"\",\"\",AH171)","v":""},null,{"$f":"IF(AJ171=\"\",\"\",AJ171)","v":""},null,{"$f":"IF(AL171=\"\",\"\",AL171)","v":""},null,null,{"$f":"IF(AO171=\"\",\"\",AO171)","v":""},null,null,{"$f":"IF(AR171=\"\",\"\",AR171)","v":""},null,null,null,null,{"$f":"IF(AW171=\"\",\"\",AW171)","v":""}]
[]
[]
[]
[null,null,null,null,null,null,null,null,null,null,null,null,null,null,null,null,null,null,null,null,null,null,null,null,null,null,null,null,null,null,null,null,null,null,null,null,null,"値引き等",null,null,null,null,null,null,null,null,null,null,{"$f":"IF(AW175=\"\",\"\",AW175)","v":""}]
[]
[]
[]
[]
[null,null,null,null,null,null,null,null,null,null,null,null,null,null,null,null,null,null,null,null,null,null,null,null,null,null,null,null,null,null,null,null,null,null,null,null,null,{"$f":"\"合計(\" & IF(税処理=2,\"税込\",\"税抜\")&\")\"","v":"合計(税抜)"},null,null,null,null,null,null,null,null,null,null,{"$f":"IF(AW180=\"\",\"\",AW180)","v":""}]

{"sheet":"細2-8","index":22,"n_rows":272,"n_cols":53,"rows_kept":272,"cut":false,"hidden":false,"merged":[[3,46,5,48],[3,49,5,51],[3,52,5,54],[8,37,11,40],[8,41,11,54],[3,41,5,45],[1,19,4,32],[2,1,5,11],[2,12,5,13],[8,1,11,5],[8,6,11,11],[8,12,11,15],[8,16,11,35],[14,43,17,47],[14,48,17,54],[14,1,17,5],[14,6,17,15],[14,17,17,20],[14,21,17,36],[18,1,21,5],[18,6,21,15],[18,17,21,18],[18,19,21,20],[14,37,17,39],[14,40,17,42],[18,21,21,36],[18,37,21,39],[18,40,21,42],[18,43,21,47],[26,1,29,5],[26,6,29,15],[26,17,29,18],[26,19,29,20],[18,48,21,54],[22,1,25,5],[22,6,25,15],[22,17,25,18],[22,19,25,20],[22,21,25,36],[26,21,29,36],[26,37,29,39],[26,40,29,42],[26,43,29,47],[22,37,25,39],[22,40,25,42],[22,43,25,47],[34,48,37,54],[26,48,29,54],[30,1,33,3],[30,4,33,5],[30,6,33,15],[30,17,33,18],[30,19,33,20],[22,48,25,54],[38,17,41,18],[38,19,41,20],[38,21,41,36],[38,37,41,39],[30,48,33,54],[34,1,37,5],[34,6,37,15],[34,17,37,18],[34,19,37,20],[34,21,37,36],[38,40,41,42],[38,43,41,47],[38,48,41,54],[30,21,33,36],[30,37,33,39],[30,40,33,42],[30,43,33,47],[34,37,37,39],[34,40,37,42],[34,43,37,47],[46,40,49,42],[46,43,49,47],[46,21,49,36],[46,37,49,39],[54,40,57,42],[54,43,57,47],[42,17,45,18],[42,19,45,20],[42,21,45,36],[42,37,45,39],[42,40,45,42],[42,43,45,47],[42,48,45,54],[46,48,49,54],[50,17,53,18],[50,19,53,20],[50,21,53,36],[50,37,53,39],[50,40,53,42],[50,43,53,47],[50,48,53,54],[46,17,49,18],[46,19,49,20],[58,17,61,18],[58,19,61,20],[58,21,61,36],[58,37,61,39],[58,40,61,42],[58,43,61,47],[58,48,61,54],[54,17,57,18],[54,19,57,20],[54,21,57,36],[54,37,57,39],[54,48,57,54],[62,40,65,42],[62,43,65,47],[62,21,65,36],[62,37,65,39],[70,40,73,42],[70,43,73,47],[70,48,73,54],[62,48,65,54],[66,17,69,18],[66,19,69,20],[66,21,69,36],[66,37,69,39],[66,40,69,42],[66,43,69,47],[66,48,69,54],[62,17,65,18],[62,19,65,20],[74,17,77,18],[74,19,77,20],[74,21,77,36],[74,37,77,39],[74,40,77,42],[74,43,77,47],[74,48,77,54],[70,17,73,18],[70,19,73,20],[70,21,73,36],[70,37,73,39],[78,48,81,54],[82,37,85,47],[82,48,85,54],[78,37,81,39],[78,40,81,42],[85,11,90,16],[85,17,90,25],[78,43,81,47],[83,26,84,30],[83,31,84,35],[78,17,81,18],[78,19,81,20],[78,21,81,36],[85,26,90,30],[85,31,90,35],[83,1,84,4],[83,5,84,10],[87,37,90,47],[83,11,84,16],[83,17,84,25],[95,46,97,48],[85,1,90,4],[85,5,90,10],[87,48,90,54],[95,49,97,51],[95,52,97,54],[100,1,103,5],[100,6,103,11],[100,12,103,15],[100,16,103,35],[100,37,103,40],[100,41,103,54],[93,19,96,32],[94,1,97,11],[94,12,97,13],[95,41,97,45],[106,37,109,39],[106,40,109,42],[106,43,109,47],[106,48,109,54],[106,1,109,5],[106,6,109,15],[106,17,109,20],[106,21,109,36],[110,21,113,36],[110,37,113,39],[110,40,113,42],[110,43,113,47],[110,1,113,5],[110,6,113,15],[110,17,113,18],[110,19,113,20],[110,48,113,54],[114,1,117,5],[114,6,117,15],[114,17,117,18],[114,19,117,20],[114,21,117,36],[114,37,117,39],[114,40,117,42],[114,43,117,47],[114,48,117,54],[118,21,121,36],[118,37,121,39],[118,40,121,42],[118,43,121,47],[118,1,121,5],[118,6,121,15],[118,17,121,18],[118,19,121,20],[118,48,121,54],[122,48,125,54],[126,1,129,5],[126,6,129,15],[126,17,129,18],[126,19,129,20],[126,21,129,36],[126,37,129,39],[126,40,129,42],[126,43,129,47],[126,48,129,54],[122,1,125,3],[122,4,125,5],[122,6,125,15],[122,17,125,18],[122,19,125,20],[122,21,125,36],[122,37,125,39],[122,40,125,42],[122,43,125,47],[130,40,133,42],[130,43,133,47],[130,21,133,36],[130,37,133,39],[138,40,141,42],[138,43,141,47],[138,48,141,54],[130,48,133,54],[134,17,137,18],[134,19,137,20],[134,21,137,36],[134,37,137,39],[134,40,137,42],[134,43,137,47],[134,48,137,54],[130,17,133,18],[130,19,133,20],[142,17,145,18],[142,19,145,20],[142,21,145,36],[142,37,145,39],[142,40,145,42],[142,43,145,47],[142,48,145,54],[138,17,141,18],[138,19,141,20],[138,21,141,36],[138,37,141,39],[154,48,157,54],[146,48,149,54],[150,17,153,18],[150,19,153,20],[150,21,153,36],[150,37,153,39],[150,40,153,42],[150,43,153,47],[150,48,153,54],[146,17,149,18],[146,19,149,20],[154,17,157,18],[154,19,157,20],[154,21,157,36],[154,37,157,39],[146,40,149,42],[146,43,149,47],[146,21,149,36],[146,37,149,39],[154,40,157,42],[154,43,157,47],[170,48,173,54],[174,37,177,47],[174,48,177,54],[170,17,173,18],[170,19,173,20],[158,17,161,18],[158,19,161,20],[158,21,161,36],[158,37,161,39],[158,40,161,42],[158,43,161,47],[158,48,161,54],[170,21,173,36],[170,37,173,39],[179,48,182,54],[185,19,188,32],[186,1,189,11],[186,12,189,13],[187,41,189,45],[192,37,195,40],[192,41,195,54],[162,40,165,42],[162,43,165,47],[162,21,165,36],[162,37,165,39],[187,46,189,48],[162,48,165,54],[166,17,169,18],[166,19,169,20],[166,21,169,36],[166,37,169,39],[166,40,169,42],[166,43,169,47],[166,48,169,54],[162,17,165,18],[162,19,165,20],[187,49,189,51],[187,52,189,54],[179,37,182,47],[170,40,173,42],[170,43,173,47],[198,48,201,54],[202,21,205,36],[202,37,205,39],[202,40,205,42],[202,43,205,47],[202,1,205,5],[202,6,205,15],[202,17,205,18],[202,19,205,20],[202,48,205,54],[198,1,201,5],[198,6,201,15],[198,17,201,20],[198,21,201,36],[198,37,201,39],[198,40,201,42],[198,43,201,47],[192,1,195,5],[192,6,195,11],[192,12,195,15],[192,16,195,35],[206,1,209,5],[206,6,209,15],[206,17,209,18],[206,19,209,20],[206,21,209,36],[206,37,209,39],[206,40,209,42],[206,43,209,47],[206,48,209,54],[210,21,213,36],[210,37,213,39],[210,40,213,42],[210,43,213,47],[210,1,213,5],[210,6,213,15],[210,17,213,18],[210,19,213,20],[210,48,213,54],[214,48,217,54],[218,1,221,5],[218,6,221,15],[218,17,221,18],[218,19,221,20],[218,21,221,36],[218,37,221,39],[218,40,221,42],[218,43,221,47],[218,48,221,54],[214,1,217,3],[214,4,217,5],[214,6,217,15],[214,17,217,18],[214,19,217,20],[214,21,217,36],[214,37,217,39],[214,40,217,42],[214,43,217,47],[222,40,225,42],[222,43,225,47],[222,21,225,36],[222,37,225,39],[230,40,233,42],[230,43,233,47],[230,48,233,54],[222,48,225,54],[226,17,229,18],[226,19,229,20],[226,21,229,36],[226,37,229,39],[226,40,229,42],[226,43,229,47],[226,48,229,54],[222,17,225,18],[222,19,225,20],[234,17,237,18],[234,19,237,20],[234,21,237,36],[234,37,237,39],[234,40,237,42],[234,43,237,47],[234,48,237,54],[230,17,233,18],[230,19,233,20],[230,21,233,36],[230,37,233,39],[242,17,245,18],[242,19,245,20],[242,21,245,36],[242,37,245,39],[242,40,245,42],[242,43,245,47],[242,48,245,54],[238,17,241,18],[238,19,241,20],[254,37,257,39],[238,40,241,42],[238,43,241,47],[238,21,241,36],[238,37,241,39],[246,40,249,42],[246,43,249,47],[246,48,249,54],[238,48,241,54],[250,17,253,18],[250,19,253,20],[250,21,253,36],[250,37,253,39],[250,40,253,42],[250,43,253,47],[250,48,253,54],[246,17,249,18],[246,19,249,20],[246,21,249,36],[246,37,249,39],[271,37,274,47],[254,48,257,54],[258,17,261,18],[258,19,261,20],[258,21,261,36],[258,37,261,39],[258,40,261,42],[258,43,261,47],[258,48,261,54],[254,17,257,18],[254,19,257,20],[271,48,274,54],[262,40,265,42],[262,43,265,47],[262,48,265,54],[266,37,269,47],[266,48,269,54],[262,17,265,18],[262,19,265,20],[262,21,265,36],[262,37,265,39],[254,40,257,42],[254,43,257,47],[254,21,257,36]]}
[]
[null,null,null,null,null,null,null,null,null,null,null,null,null,null,null,null,null,null,null,"請求書明細書 (正)"]
[null,"株 式 会 社 種 村 建 設",null,null,null,null,null,null,null,null,null,null,"御中"]
[null,null,null,null,null,null,null,null,null,null,null,null,null,null,null,null,null,null,null,null,null,null,null,null,null,null,null,null,null,null,null,null,null,null,null,null,null,null,null,null,null,"請求年月日",null,null,null,null,{"$f":"年","v":23},null,null,{"$f":"月","v":5},null,null,{"$f":"日","v":31}]
[]
[]
[]
[]
[null,"工事番号",null,null,null,null,null,null,null,null,null,null,"工事名",null,null,null,null,null,null,null,null,null,null,null,null,null,null,null,null,null,null,null,null,null,null,null,null,"業者名",null,null,null,{"$f":"社名","v":"例：㈱種村建設"}]
[]
[]
[]
[]
[]
[null,"注文番号",null,null,null,null,"1032-75101-1-1",null,null,null,null,null,null,null,null,null,null,"月　日",null,null,null,"摘要･品名",null,null,null,null,null,null,null,null,null,null,null,null,null,null,null,"数 量",null,null,"単位",null,null,"単価",null,null,null,null,{"$f":"\"金額(\" & IF(税処理=2,\"税込\",\"税抜\")&\")\"","v":"金額(税抜)"}]
[]
[]
[]
[null,"契約金額",null,null,null,null,null,null,null,null,null,null,null,null,null,null,null,null,null,null,null,null,null,null,null,null,null,null,null,null,null,null,null,null,null,null,null,null,null,null,null,null,null,null,null,null,null,null,{"$f":"IF(V19=\"\",\"\",AL19*AR19)","v":""}]
[]
[]
[]
[null,"増減額",null,null,null,null,null,null,null,null,null,null,null,null,null,null,null,null,null,null,null,null,null,null,null,null,null,null,null,null,null,null,null,null,null,null,null,null,null,null,null,null,null,null,null,null,null,null,{"$f":"IF(V23=\"\",\"\",AL23*AR23)","v":""}]
[]
[]
[]
[null,"前回までの\n請求額",null,null,null,null,null,null,null,null,null,null,null,null,null,null,null,null,null,null,null,null,null,null,null,null,null,null,null,null,null,null,null,null,null,null,null,null,null,null,null,null,null,null,null,null,null,null,{"$f":"IF(V27=\"\",\"\",AL27*AR27)","v":""}]
[]
[]
[]
[null,"今回\n請求額",null,null,null,null,null,null,null,null,null,null,null,null,null,null,null,null,null,null,null,null,null,null,null,null,null,null,null,null,null,null,null,null,null,null,null,null,null,null,null,null,null,null,null,null,null,null,{"$f":"IF(V31=\"\",\"\",AL31*AR31)","v":""}]
[]
[]
[]
[null,"差引残高",null,null,null,null,{"$f":"IF(G19=\"\",\"\",G19+G23-G27-G31)","v":""},null,null,null,null,null,null,null,null,null,null,null,null,null,null,null,null,null,null,null,null,null,null,null,null,null,null,null,null,null,null,null,null,null,null,null,null,null,null,null,null,null,{"$f":"IF(V35=\"\",\"\",AL35*AR35)","v":""}]
[]
[]
[]
[null,null,null,null,null,null,null,null,null,null,null,null,null,null,null,null,null,null,null,null,null,null,null,null,null,null,null,null,null,null,null,null,null,null,null,null,null,null,null,null,null,null,null,null,null,null,null,null,{"$f":"IF(V39=\"\",\"\",AL39*AR39)","v":""}]
[]
[]
[]
[null,null,null,null,null,null,null,null,null,null,null,null,null,null,null,null,null,null,null,null,null,null,null,null,null,null,null,null,null,null,null,null,null,null,null,null,null,null,null,null,null,null,null,null,null,null,null,null,{"$f":"IF(V43=\"\",\"\",AL43*AR43)","v":""}]
[]
[]
[]
[null,null,null,null,null,null,null,null,null,null,null,null,null,null,null,null,null,null,null,null,null,null,null,null,null,null,null,null,null,null,null,null,null,null,null,null,null,null,null,null,null,null,null,null,null,null,null,null,{"$f":"IF(V47=\"\",\"\",AL47*AR47)","v":""}]
[]
[]
[]
[null,null,null,null,null,null,null,null,null,null,null,null,null,null,null,null,null,null,null,null,null,null,null,null,null,null,null,null,null,null,null,null,null,null,null,null,null,null,null,null,null,null,null,null,null,null,null,null,{"$f":"IF(V51=\"\",\"\",AL51*AR51)","v":""}]
[]
[]
[]
[null,null,null,null,null,null,null,null,null,null,null,null,null,null,null,null,null,null,null,null,null,null,null,null,null,null,null,null,null,null,null,null,null,null,null,null,null,null,null,null,null,null,null,null,null,null,null,null,{"$f":"IF(V55=\"\",\"\",AL55*AR55)","v":""}]
[]
[]
[]
[null,null,null,null,null,null,null,null,null,null,null,null,null,null,null,null,null,null,null,null,null,null,null,null,null,null,null,null,null,null,null,null,null,null,null,null,null,null,null,null,null,null,null,null,null,null,null,null,{"$f":"IF(V59=\"\",\"\",AL59*AR59)","v":""}]
[]
[]
[]
[null,null,null,null,null,null,null,null,null,null,null,null,null,null,null,null,null,null,null,null,null,null,null,null,null,null,null,null,null,null,null,null,null,null,null,null,null,null,null,null,null,null,null,null,null,null,null,null,{"$f":"IF(V63=\"\",\"\",AL63*AR63)","v":""}]
[]
[]
[]
[null,null,null,null,null,null,null,null,null,null,null,null,null,null,null,null,null,null,null,null,null,null,null,null,null,null,null,null,null,null,null,null,null,null,null,null,null,null,null,null,null,null,null,null,null,null,null,null,{"$f":"IF(V67=\"\",\"\",AL67*AR67)","v":""}]
[]
[]
[]
[null,null,null,null,null,null,null,null,null,null,null,null,null,null,null,null,null,null,null,null,null,null,null,null,null,null,null,null,null,null,null,null,null,null,null,null,null,null,null,null,null,null,null,null,null,null,null,null,{"$f":"IF(V71=\"\",\"\",AL71*AR71)","v":""}]
[]
[]
[]
[null,null,null,null,null,null,null,null,null,null,null,null,null,null,null,null,null,null,null,null,null,null,null,null,null,null,null,null,null,null,null,null,null,null,null,null,null,null,null,null,null,null,null,null,null,null,null,null,{"$f":"IF(V75=\"\",\"\",AL75*AR75)","v":""}]
[]
[]
[]
[null,null,null,null,null,null,null,null,null,null,null,null,null,null,null,null,null,null,null,null,null,null,null,null,null,null,null,null,null,null,null,null,null,null,null,null,null,null,null,null,null,null,null,null,null,null,null,null,{"$f":"IF(V79=\"\",\"\",AL79*AR79)","v":""}]
[]
[]
[]
[null,null,null,null,null,null,null,null,null,null,null,null,null,null,null,null,null,null,null,null,null,null,null,null,null,null,null,null,null,null,null,null,null,null,null,null,null,"値引き等"]
[null,"社長",null,null,null,"専務",null,null,null,null,null,"常務",null,null,null,null,null,"部長･工場長",null,null,null,null,null,null,null,null,"担当者",null,null,null,null,"受付"]
[]
[]
[]
[null,null,null,null,null,null,null,null,null,null,null,null,null,null,null,null,null,null,null,null,null,null,null,null,null,null,null,null,null,null,null,null,null,null,null,null,null,{"$f":"\"合計(\" & IF(税処理=2,\"税込\",\"税抜\")&\")\"","v":"合計(税抜)"},null,null,null,null,null,null,null,null,null,null,{"$f":"IF(AW19=\"\",\"\",SUM(AW19:AW79)+AW83)","v":""}]
[]
[]
[]
[]
[]
[null,null,null,null,null,null,null,null,null,null,null,null,null,null,null,null,null,null,null,"請求明細書 (現場控)"]
[null,"株 式 会 社 種 村 建 設",null,null,null,null,null,null,null,null,null,null,"御中"]
[null,null,null,null,null,null,null,null,null,null,null,null,null,null,null,null,null,null,null,null,null,null,null,null,null,null,null,null,null,null,null,null,null,null,null,null,null,null,null,null,null,"請求年月日",null,null,null,null,{"$f":"IF(AU4=\"\",\"\",AU4)","v":23},null,null,{"$f":"IF(AX4=\"\",\"\",AX4)","v":5},null,null,{"$f":"IF(BA4=\"\",\"\",BA4)","v":31}]
[]
[]
[]
[]
[null,"工事番号",null,null,null,null,{"$f":"IF(G9=\"\",\"\",G9)","v":""},null,null,null,null,null,"工事名",null,null,null,{"$f":"IF(Q9=\"\",\"\",Q9)","v":""},null,null,null,null,null,null,null,null,null,null,null,null,null,null,null,null,null,null,null,null,"業者名",null,null,null,{"$f":"IF(AP9=\"\",\"\",AP9)","v":"例：㈱種村建設"}]
[]
[]
[]
[]
[]
[null,"注文番号",null,null,null,null,{"$f":"IF(G15=\"\",\"\",G15)","v":"1032-75101-1-1"},null,null,null,null,null,null,null,null,null,null,"月　日",null,null,null,"摘要･品名",null,null,null,null,null,null,null,null,null,null,null,null,null,null,null,"数 量",null,null,"単位",null,null,"単価",null,null,null,null,{"$f":"\"金額(\" & IF(税処理=2,\"税込\",\"税抜\")&\")\"","v":"金額(税抜)"}]
[]
[]
[]
[null,"契約金額",null,null,null,null,{"$f":"IF(G19=\"\",\"\",G19)","v":""},null,null,null,null,null,null,null,null,null,null,{"$f":"IF(R19=\"\",\"\",R19)","v":""},null,{"$f":"IF(T19=\"\",\"\",T19)","v":""},null,{"$f":"IF(V19=\"\",\"\",V19)","v":""},null,{"$f":"IF(X19=\"\",\"\",X19)","v":""},null,{"$f":"IF(Z19=\"\",\"\",Z19)","v":""},null,{"$f":"IF(AB19=\"\",\"\",AB19)","v":""},null,{"$f":"IF(AD19=\"\",\"\",AD19)","v":""},null,{"$f":"IF(AF19=\"\",\"\",AF19)","v":""},null,{"$f":"IF(AH19=\"\",\"\",AH19)","v":""},null,{"$f":"IF(AJ19=\"\",\"\",AJ19)","v":""},null,{"$f":"IF(AL19=\"\",\"\",AL19)","v":""},null,null,{"$f":"IF(AO19=\"\",\"\",AO19)","v":""},null,null,{"$f":"IF(AR19=\"\",\"\",AR19)","v":""},null,null,null,null,{"$f":"IF(AW19=\"\",\"\",AW19)","v":""}]
[]
[]
[]
[null,"増減額",null,null,null,null,{"$f":"IF(G23=\"\",\"\",G23)","v":""},null,null,null,null,null,null,null,null,null,null,{"$f":"IF(R23=\"\",\"\",R23)","v":""},null,{"$f":"IF(T23=\"\",\"\",T23)","v":""},null,{"$f":"IF(V23=\"\",\"\",V23)","v":""},null,{"$f":"IF(X23=\"\",\"\",X23)","v":""},null,{"$f":"IF(Z23=\"\",\"\",Z23)","v":""},null,{"$f":"IF(AB23=\"\",\"\",AB23)","v":""},null,{"$f":"IF(AD23=\"\",\"\",AD23)","v":""},null,{"$f":"IF(AF23=\"\",\"\",AF23)","v":""},null,{"$f":"IF(AH23=\"\",\"\",AH23)","v":""},null,{"$f":"IF(AJ23=\"\",\"\",AJ23)","v":""},null,{"$f":"IF(AL23=\"\",\"\",AL23)","v":""},null,null,{"$f":"IF(AO23=\"\",\"\",AO23)","v":""},null,null,{"$f":"IF(AR23=\"\",\"\",AR23)","v":""},null,null,null,null,{"$f":"IF(AW23=\"\",\"\",AW23)","v":""}]
[]
[]
[]
[null,"前回までの\n請求額",null,null,null,null,{"$f":"IF(G27=\"\",\"\",G27)","v":""},null,null,null,null,null,null,null,null,null,null,{"$f":"IF(R27=\"\",\"\",R27)","v":""},null,{"$f":"IF(T27=\"\",\"\",T27)","v":""},null,{"$f":"IF(V27=\"\",\"\",V27)","v":""},null,{"$f":"IF(X27=\"\",\"\",X27)","v":""},null,{"$f":"IF(Z27=\"\",\"\",Z27)","v":""},null,{"$f":"IF(AB27=\"\",\"\",AB27)","v":""},null,{"$f":"IF(AD27=\"\",\"\",AD27)","v":""},null,{"$f":"IF(AF27=\"\",\"\",AF27)","v":""},null,{"$f":"IF(AH27=\"\",\"\",AH27)","v":""},null,{"$f":"IF(AJ27=\"\",\"\",AJ27)","v":""},null,{"$f":"IF(AL27=\"\",\"\",AL27)","v":""},null,null,{"$f":"IF(AO27=\"\",\"\",AO27)","v":""},null,null,{"$f":"IF(AR27=\"\",\"\",AR27)","v":""},null,null,null,null,{"$f":"IF(AW27=\"\",\"\",AW27)","v":""}]
[]
[]
[]
[null,"今回\n請求額",null,null,{"$f":"IF(E31=\"\",\"\",E31)","v":""},null,{"$f":"IF(G31=\"\",\"\",G31)","v":""},null,null,null,null,null,null,null,null,null,null,{"$f":"IF(R31=\"\",\"\",R31)","v":""},null,{"$f":"IF(T31=\"\",\"\",T31)","v":""},null,{"$f":"IF(V31=\"\",\"\",V31)","v":""},null,{"$f":"IF(X31=\"\",\"\",X31)","v":""},null,{"$f":"IF(Z31=\"\",\"\",Z31)","v":""},null,{"$f":"IF(AB31=\"\",\"\",AB31)","v":""},null,{"$f":"IF(AD31=\"\",\"\",AD31)","v":""},null,{"$f":"IF(AF31=\"\",\"\",AF31)","v":""},null,{"$f":"IF(AH31=\"\",\"\",AH31)","v":""},null,{"$f":"IF(AJ31=\"\",\"\",AJ31)","v":""},null,{"$f":"IF(AL31=\"\",\"\",AL31)","v":""},null,null,{"$f":"IF(AO31=\"\",\"\",AO31)","v":""},null,null,{"$f":"IF(AR31=\"\",\"\",AR31)","v":""},null,null,null,null,{"$f":"IF(AW31=\"\",\"\",AW31)","v":""}]
[]
[]
[]
[null,"差引残高",null,null,null,null,{"$f":"IF(G111=\"\",\"\",G111+G115-G119-G123)","v":""},null,null,null,null,null,null,null,null,null,null,{"$f":"IF(R35=\"\",\"\",R35)","v":""},null,{"$f":"IF(T35=\"\",\"\",T35)","v":""},null,{"$f":"IF(V35=\"\",\"\",V35)","v":""},null,{"$f":"IF(X35=\"\",\"\",X35)","v":""},null,{"$f":"IF(Z35=\"\",\"\",Z35)","v":""},null,{"$f":"IF(AB35=\"\",\"\",AB35)","v":""},null,{"$f":"IF(AD35=\"\",\"\",AD35)","v":""},null,{"$f":"IF(AF35=\"\",\"\",AF35)","v":""},null,{"$f":"IF(AH35=\"\",\"\",AH35)","v":""},null,{"$f":"IF(AJ35=\"\",\"\",AJ35)","v":""},null,{"$f":"IF(AL35=\"\",\"\",AL35)","v":""},null,null,{"$f":"IF(AO35=\"\",\"\",AO35)","v":""},null,null,{"$f":"IF(AR35=\"\",\"\",AR35)","v":""},null,null,null,null,{"$f":"IF(AW35=\"\",\"\",AW35)","v":""}]
[]
[]
[]
[null,null,null,null,null,null,null,null,null,null,null,null,null,null,null,null,null,{"$f":"IF(R39=\"\",\"\",R39)","v":""},null,{"$f":"IF(T39=\"\",\"\",T39)","v":""},null,{"$f":"IF(V39=\"\",\"\",V39)","v":""},null,{"$f":"IF(X39=\"\",\"\",X39)","v":""},null,{"$f":"IF(Z39=\"\",\"\",Z39)","v":""},null,{"$f":"IF(AB39=\"\",\"\",AB39)","v":""},null,{"$f":"IF(AD39=\"\",\"\",AD39)","v":""},null,{"$f":"IF(AF39=\"\",\"\",AF39)","v":""},null,{"$f":"IF(AH39=\"\",\"\",AH39)","v":""},null,{"$f":"IF(AJ39=\"\",\"\",AJ39)","v":""},null,{"$f":"IF(AL39=\"\",\"\",AL39)","v":""},null,null,{"$f":"IF(AO39=\"\",\"\",AO39)","v":""},null,null,{"$f":"IF(AR39=\"\",\"\",AR39)","v":""},null,null,null,null,{"$f":"IF(AW39=\"\",\"\",AW39)","v":""}]
[]
[]
[]
[null,null,null,null,null,null,null,null,null,null,null,null,null,null,null,null,null,{"$f":"IF(R43=\"\",\"\",R43)","v":""},null,{"$f":"IF(T43=\"\",\"\",T43)","v":""},null,{"$f":"IF(V43=\"\",\"\",V43)","v":""},null,{"$f":"IF(X43=\"\",\"\",X43)","v":""},null,{"$f":"IF(Z43=\"\",\"\",Z43)","v":""},null,{"$f":"IF(AB43=\"\",\"\",AB43)","v":""},null,{"$f":"IF(AD43=\"\",\"\",AD43)","v":""},null,{"$f":"IF(AF43=\"\",\"\",AF43)","v":""},null,{"$f":"IF(AH43=\"\",\"\",AH43)","v":""},null,{"$f":"IF(AJ43=\"\",\"\",AJ43)","v":""},null,{"$f":"IF(AL43=\"\",\"\",AL43)","v":""},null,null,{"$f":"IF(AO43=\"\",\"\",AO43)","v":""},null,null,{"$f":"IF(AR43=\"\",\"\",AR43)","v":""},null,null,null,null,{"$f":"IF(AW43=\"\",\"\",AW43)","v":""}]
[]
[]
[]
[null,null,null,null,null,null,null,null,null,null,null,null,null,null,null,null,null,{"$f":"IF(R47=\"\",\"\",R47)","v":""},null,{"$f":"IF(T47=\"\",\"\",T47)","v":""},null,{"$f":"IF(V47=\"\",\"\",V47)","v":""},null,{"$f":"IF(X47=\"\",\"\",X47)","v":""},null,{"$f":"IF(Z47=\"\",\"\",Z47)","v":""},null,{"$f":"IF(AB47=\"\",\"\",AB47)","v":""},null,{"$f":"IF(AD47=\"\",\"\",AD47)","v":""},null,{"$f":"IF(AF47=\"\",\"\",AF47)","v":""},null,{"$f":"IF(AH47=\"\",\"\",AH47)","v":""},null,{"$f":"IF(AJ47=\"\",\"\",AJ47)","v":""},null,{"$f":"IF(AL47=\"\",\"\",AL47)","v":""},null,null,{"$f":"IF(AO47=\"\",\"\",AO47)","v":""},null,null,{"$f":"IF(AR47=\"\",\"\",AR47)","v":""},null,null,null,null,{"$f":"IF(AW47=\"\",\"\",AW47)","v":""}]
[]
[]
[]
[null,null,null,null,null,null,null,null,null,null,null,null,null,null,null,null,null,{"$f":"IF(R51=\"\",\"\",R51)","v":""},null,{"$f":"IF(T51=\"\",\"\",T51)","v":""},null,{"$f":"IF(V51=\"\",\"\",V51)","v":""},null,{"$f":"IF(X51=\"\",\"\",X51)","v":""},null,{"$f":"IF(Z51=\"\",\"\",Z51)","v":""},null,{"$f":"IF(AB51=\"\",\"\",AB51)","v":""},null,{"$f":"IF(AD51=\"\",\"\",AD51)","v":""},null,{"$f":"IF(AF51=\"\",\"\",AF51)","v":""},null,{"$f":"IF(AH51=\"\",\"\",AH51)","v":""},null,{"$f":"IF(AJ51=\"\",\"\",AJ51)","v":""},null,{"$f":"IF(AL51=\"\",\"\",AL51)","v":""},null,null,{"$f":"IF(AO51=\"\",\"\",AO51)","v":""},null,null,{"$f":"IF(AR51=\"\",\"\",AR51)","v":""},null,null,null,null,{"$f":"IF(AW51=\"\",\"\",AW51)","v":""}]
[]
[]
[]
[null,null,null,null,null,null,null,null,null,null,null,null,null,null,null,null,null,{"$f":"IF(R55=\"\",\"\",R55)","v":""},null,{"$f":"IF(T55=\"\",\"\",T55)","v":""},null,{"$f":"IF(V55=\"\",\"\",V55)","v":""},null,{"$f":"IF(X55=\"\",\"\",X55)","v":""},null,{"$f":"IF(Z55=\"\",\"\",Z55)","v":""},null,{"$f":"IF(AB55=\"\",\"\",AB55)","v":""},null,{"$f":"IF(AD55=\"\",\"\",AD55)","v":""},null,{"$f":"IF(AF55=\"\",\"\",AF55)","v":""},null,{"$f":"IF(AH55=\"\",\"\",AH55)","v":""},null,{"$f":"IF(AJ55=\"\",\"\",AJ55)","v":""},null,{"$f":"IF(AL55=\"\",\"\",AL55)","v":""},null,null,{"$f":"IF(AO55=\"\",\"\",AO55)","v":""},null,null,{"$f":"IF(AR55=\"\",\"\",AR55)","v":""},null,null,null,null,{"$f":"IF(AW55=\"\",\"\",AW55)","v":""}]
[]
[]
[]
[null,null,null,null,null,null,null,null,null,null,null,null,null,null,null,null,null,{"$f":"IF(R59=\"\",\"\",R59)","v":""},null,{"$f":"IF(T59=\"\",\"\",T59)","v":""},null,{"$f":"IF(V59=\"\",\"\",V59)","v":""},null,{"$f":"IF(X59=\"\",\"\",X59)","v":""},null,{"$f":"IF(Z59=\"\",\"\",Z59)","v":""},null,{"$f":"IF(AB59=\"\",\"\",AB59)","v":""},null,{"$f":"IF(AD59=\"\",\"\",AD59)","v":""},null,{"$f":"IF(AF59=\"\",\"\",AF59)","v":""},null,{"$f":"IF(AH59=\"\",\"\",AH59)","v":""},null,{"$f":"IF(AJ59=\"\",\"\",AJ59)","v":""},null,{"$f":"IF(AL59=\"\",\"\",AL59)","v":""},null,null,{"$f":"IF(AO59=\"\",\"\",AO59)","v":""},null,null,{"$f":"IF(AR59=\"\",\"\",AR59)","v":""},null,null,null,null,{"$f":"IF(AW59=\"\",\"\",AW59)","v":""}]
[]
[]
[]
[null,null,null,null,null,null,null,null,null,null,null,null,null,null,null,null,null,{"$f":"IF(R63=\"\",\"\",R63)","v":""},null,{"$f":"IF(T63=\"\",\"\",T63)","v":""},null,{"$f":"IF(V63=\"\",\"\",V63)","v":""},null,{"$f":"IF(X63=\"\",\"\",X63)","v":""},null,{"$f":"IF(Z63=\"\",\"\",Z63)","v":""},null,{"$f":"IF(AB63=\"\",\"\",AB63)","v":""},null,{"$f":"IF(AD63=\"\",\"\",AD63)","v":""},null,{"$f":"IF(AF63=\"\",\"\",AF63)","v":""},null,{"$f":"IF(AH63=\"\",\"\",AH63)","v":""},null,{"$f":"IF(AJ63=\"\",\"\",AJ63)","v":""},null,{"$f":"IF(AL63=\"\",\"\",AL63)","v":""},null,null,{"$f":"IF(AO63=\"\",\"\",AO63)","v":""},null,null,{"$f":"IF(AR63=\"\",\"\",AR63)","v":""},null,null,null,null,{"$f":"IF(AW63=\"\",\"\",AW63)","v":""}]
[]
[]
[]
[null,null,null,null,null,null,null,null,null,null,null,null,null,null,null,null,null,{"$f":"IF(R67=\"\",\"\",R67)","v":""},null,{"$f":"IF(T67=\"\",\"\",T67)","v":""},null,{"$f":"IF(V67=\"\",\"\",V67)","v":""},null,{"$f":"IF(X67=\"\",\"\",X67)","v":""},null,{"$f":"IF(Z67=\"\",\"\",Z67)","v":""},null,{"$f":"IF(AB67=\"\",\"\",AB67)","v":""},null,{"$f":"IF(AD67=\"\",\"\",AD67)","v":""},null,{"$f":"IF(AF67=\"\",\"\",AF67)","v":""},null,{"$f":"IF(AH67=\"\",\"\",AH67)","v":""},null,{"$f":"IF(AJ67=\"\",\"\",AJ67)","v":""},null,{"$f":"IF(AL67=\"\",\"\",AL67)","v":""},null,null,{"$f":"IF(AO67=\"\",\"\",AO67)","v":""},null,null,{"$f":"IF(AR67=\"\",\"\",AR67)","v":""},null,null,null,null,{"$f":"IF(AW67=\"\",\"\",AW67)","v":""}]
[]
[]
[]
[null,null,null,null,null,null,null,null,null,null,null,null,null,null,null,null,null,{"$f":"IF(R71=\"\",\"\",R71)","v":""},null,{"$f":"IF(T71=\"\",\"\",T71)","v":""},null,{"$f":"IF(V71=\"\",\"\",V71)","v":""},null,{"$f":"IF(X71=\"\",\"\",X71)","v":""},null,{"$f":"IF(Z71=\"\",\"\",Z71)","v":""},null,{"$f":"IF(AB71=\"\",\"\",AB71)","v":""},null,{"$f":"IF(AD71=\"\",\"\",AD71)","v":""},null,{"$f":"IF(AF71=\"\",\"\",AF71)","v":""},null,{"$f":"IF(AH71=\"\",\"\",AH71)","v":""},null,{"$f":"IF(AJ71=\"\",\"\",AJ71)","v":""},null,{"$f":"IF(AL71=\"\",\"\",AL71)","v":""},null,null,{"$f":"IF(AO71=\"\",\"\",AO71)","v":""},null,null,{"$f":"IF(AR71=\"\",\"\",AR71)","v":""},null,null,null,null,{"$f":"IF(AW71=\"\",\"\",AW71)","v":""}]
[]
[]
[]
[null,null,null,null,null,null,null,null,null,null,null,null,null,null,null,null,null,{"$f":"IF(R75=\"\",\"\",R75)","v":""},null,{"$f":"IF(T75=\"\",\"\",T75)","v":""},null,{"$f":"IF(V75=\"\",\"\",V75)","v":""},null,{"$f":"IF(X75=\"\",\"\",X75)","v":""},null,{"$f":"IF(Z75=\"\",\"\",Z75)","v":""},null,{"$f":"IF(AB75=\"\",\"\",AB75)","v":""},null,{"$f":"IF(AD75=\"\",\"\",AD75)","v":""},null,{"$f":"IF(AF75=\"\",\"\",AF75)","v":""},null,{"$f":"IF(AH75=\"\",\"\",AH75)","v":""},null,{"$f":"IF(AJ75=\"\",\"\",AJ75)","v":""},null,{"$f":"IF(AL75=\"\",\"\",AL75)","v":""},null,null,{"$f":"IF(AO75=\"\",\"\",AO75)","v":""},null,null,{"$f":"IF(AR75=\"\",\"\",AR75)","v":""},null,null,null,null,{"$f":"IF(AW75=\"\",\"\",AW75)","v":""}]
[]
[]
[]
[null,null,null,null,null,null,null,null,null,null,null,null,null,null,null,null,null,{"$f":"IF(R79=\"\",\"\",R79)","v":""},null,{"$f":"IF(T79=\"\",\"\",T79)","v":""},null,{"$f":"IF(V79=\"\",\"\",V79)","v":""},null,{"$f":"IF(X79=\"\",\"\",X79)","v":""},null,{"$f":"IF(Z79=\"\",\"\",Z79)","v":""},null,{"$f":"IF(AB79=\"\",\"\",AB79)","v":""},null,{"$f":"IF(AD79=\"\",\"\",AD79)","v":""},null,{"$f":"IF(AF79=\"\",\"\",AF79)","v":""},null,{"$f":"IF(AH79=\"\",\"\",AH79)","v":""},null,{"$f":"IF(AJ79=\"\",\"\",AJ79)","v":""},null,{"$f":"IF(AL79=\"\",\"\",AL79)","v":""},null,null,{"$f":"IF(AO79=\"\",\"\",AO79)","v":""},null,null,{"$f":"IF(AR79=\"\",\"\",AR79)","v":""},null,null,null,null,{"$f":"IF(AW79=\"\",\"\",AW79)","v":""}]
[]
[]
[]
[null,null,null,null,null,null,null,null,null,null,null,null,null,null,null,null,null,null,null,null,null,null,null,null,null,null,null,null,null,null,null,null,null,null,null,null,null,"値引き等",null,null,null,null,null,null,null,null,null,null,{"$f":"IF(AW83=\"\",\"\",AW83)","v":""}]
[]
[]
[]
[]
[null,null,null,null,null,null,null,null,null,null,null,null,null,null,null,null,null,null,null,null,null,null,null,null,null,null,null,null,null,null,null,null,null,null,null,null,null,{"$f":"\"合計(\" & IF(税処理=2,\"税込\",\"税抜\")&\")\"","v":"合計(税抜)"},null,null,null,null,null,null,null,null,null,null,{"$f":"IF(AW88=\"\",\"\",AW88)","v":""}]
[]
[]
[]
[]
[]
[null,null,null,null,null,null,null,null,null,null,null,null,null,null,null,null,null,null,null,"請求明細書 (貴社控)"]
[null,"株 式 会 社 種 村 建 設",null,null,null,null,null,null,null,null,null,null,"御中"]
[null,null,null,null,null,null,null,null,null,null,null,null,null,null,null,null,null,null,null,null,null,null,null,null,null,null,null,null,null,null,null,null,null,null,null,null,null,null,null,null,null,"請求年月日",null,null,null,null,{"$f":"IF(AU96=\"\",\"\",AU96)","v":23},null,null,{"$f":"IF(AX96=\"\",\"\",AX96)","v":5},null,null,{"$f":"IF(BA96=\"\",\"\",BA96)","v":31}]
[]
[]
[]
[]
[null,"工事番号",null,null,null,null,{"$f":"IF(G101=\"\",\"\",G101)","v":""},null,null,null,null,null,"工事名",null,null,null,{"$f":"IF(Q101=\"\",\"\",Q101)","v":""},null,null,null,null,null,null,null,null,null,null,null,null,null,null,null,null,null,null,null,null,"業者名",null,null,null,{"$f":"IF(AP101=\"\",\"\",AP101)","v":"例：㈱種村建設"}]
[]
[]
[]
[]
[]
[null,"注文番号",null,null,null,null,{"$f":"IF(G107=\"\",\"\",G107)","v":"1032-75101-1-1"},null,null,null,null,null,null,null,null,null,null,"月　日",null,null,null,"摘要･品名",null,null,null,null,null,null,null,null,null,null,null,null,null,null,null,"数 量",null,null,"単位",null,null,"単価",null,null,null,null,{"$f":"\"金額(\" & IF(税処理=2,\"税込\",\"税抜\")&\")\"","v":"金額(税抜)"}]
[]
[]
[]
[null,"契約金額",null,null,null,null,{"$f":"IF(G111=\"\",\"\",G111)","v":""},null,null,null,null,null,null,null,null,null,null,{"$f":"IF(R111=\"\",\"\",R111)","v":""},null,{"$f":"IF(T111=\"\",\"\",T111)","v":""},null,{"$f":"IF(V111=\"\",\"\",V111)","v":""},null,{"$f":"IF(X111=\"\",\"\",X111)","v":""},null,{"$f":"IF(Z111=\"\",\"\",Z111)","v":""},null,{"$f":"IF(AB111=\"\",\"\",AB111)","v":""},null,{"$f":"IF(AD111=\"\",\"\",AD111)","v":""},null,{"$f":"IF(AF111=\"\",\"\",AF111)","v":""},null,{"$f":"IF(AH111=\"\",\"\",AH111)","v":""},null,{"$f":"IF(AJ111=\"\",\"\",AJ111)","v":""},null,{"$f":"IF(AL111=\"\",\"\",AL111)","v":""},null,null,{"$f":"IF(AO111=\"\",\"\",AO111)","v":""},null,null,{"$f":"IF(AR111=\"\",\"\",AR111)","v":""},null,null,null,null,{"$f":"IF(AW111=\"\",\"\",AW111)","v":""}]
[]
[]
[]
[null,"増減額",null,null,null,null,{"$f":"IF(G115=\"\",\"\",G115)","v":""},null,null,null,null,null,null,null,null,null,null,{"$f":"IF(R115=\"\",\"\",R115)","v":""},null,{"$f":"IF(T115=\"\",\"\",T115)","v":""},null,{"$f":"IF(V115=\"\",\"\",V115)","v":""},null,{"$f":"IF(X115=\"\",\"\",X115)","v":""},null,{"$f":"IF(Z115=\"\",\"\",Z115)","v":""},null,{"$f":"IF(AB115=\"\",\"\",AB115)","v":""},null,{"$f":"IF(AD115=\"\",\"\",AD115)","v":""},null,{"$f":"IF(AF115=\"\",\"\",AF115)","v":""},null,{"$f":"IF(AH115=\"\",\"\",AH115)","v":""},null,{"$f":"IF(AJ115=\"\",\"\",AJ115)","v":""},null,{"$f":"IF(AL115=\"\",\"\",AL115)","v":""},null,null,{"$f":"IF(AO115=\"\",\"\",AO115)","v":""},null,null,{"$f":"IF(AR115=\"\",\"\",AR115)","v":""},null,null,null,null,{"$f":"IF(AW115=\"\",\"\",AW115)","v":""}]
[]
[]
[]
[null,"前回までの\n請求額",null,null,null,null,{"$f":"IF(G119=\"\",\"\",G119)","v":""},null,null,null,null,null,null,null,null,null,null,{"$f":"IF(R119=\"\",\"\",R119)","v":""},null,{"$f":"IF(T119=\"\",\"\",T119)","v":""},null,{"$f":"IF(V119=\"\",\"\",V119)","v":""},null,{"$f":"IF(X119=\"\",\"\",X119)","v":""},null,{"$f":"IF(Z119=\"\",\"\",Z119)","v":""},null,{"$f":"IF(AB119=\"\",\"\",AB119)","v":""},null,{"$f":"IF(AD119=\"\",\"\",AD119)","v":""},null,{"$f":"IF(AF119=\"\",\"\",AF119)","v":""},null,{"$f":"IF(AH119=\"\",\"\",AH119)","v":""},null,{"$f":"IF(AJ119=\"\",\"\",AJ119)","v":""},null,{"$f":"IF(AL119=\"\",\"\",AL119)","v":""},null,null,{"$f":"IF(AO119=\"\",\"\",AO119)","v":""},null,null,{"$f":"IF(AR119=\"\",\"\",AR119)","v":""},null,null,null,null,{"$f":"IF(AW119=\"\",\"\",AW119)","v":""}]
[]
[]
[]
[null,"今回\n請求額",null,null,{"$f":"IF(E31=\"\",\"\",E31)","v":""},null,{"$f":"IF(G123=\"\",\"\",G123)","v":""},null,null,null,null,null,null,null,null,null,null,{"$f":"IF(R123=\"\",\"\",R123)","v":""},null,{"$f":"IF(T123=\"\",\"\",T123)","v":""},null,{"$f":"IF(V123=\"\",\"\",V123)","v":""},null,{"$f":"IF(X123=\"\",\"\",X123)","v":""},null,{"$f":"IF(Z123=\"\",\"\",Z123)","v":""},null,{"$f":"IF(AB123=\"\",\"\",AB123)","v":""},null,{"$f":"IF(AD123=\"\",\"\",AD123)","v":""},null,{"$f":"IF(AF123=\"\",\"\",AF123)","v":""},null,{"$f":"IF(AH123=\"\",\"\",AH123)","v":""},null,{"$f":"IF(AJ123=\"\",\"\",AJ123)","v":""},null,{"$f":"IF(AL123=\"\",\"\",AL123)","v":""},null,null,{"$f":"IF(AO123=\"\",\"\",AO123)","v":""},null,null,{"$f":"IF(AR123=\"\",\"\",AR123)","v":""},null,null,null,null,{"$f":"IF(AW123=\"\",\"\",AW123)","v":""}]
[]
[]
[]
[null,"差引残高",null,null,null,null,{"$f":"IF(G203=\"\",\"\",G203+G207-G211-G215)","v":""},null,null,null,null,null,null,null,null,null,null,{"$f":"IF(R127=\"\",\"\",R127)","v":""},null,{"$f":"IF(T127=\"\",\"\",T127)","v":""},null,{"$f":"IF(V127=\"\",\"\",V127)","v":""},null,{"$f":"IF(X127=\"\",\"\",X127)","v":""},null,{"$f":"IF(Z127=\"\",\"\",Z127)","v":""},null,{"$f":"IF(AB127=\"\",\"\",AB127)","v":""},null,{"$f":"IF(AD127=\"\",\"\",AD127)","v":""},null,{"$f":"IF(AF127=\"\",\"\",AF127)","v":""},null,{"$f":"IF(AH127=\"\",\"\",AH127)","v":""},null,{"$f":"IF(AJ127=\"\",\"\",AJ127)","v":""},null,{"$f":"IF(AL127=\"\",\"\",AL127)","v":""},null,null,{"$f":"IF(AO127=\"\",\"\",AO127)","v":""},null,null,{"$f":"IF(AR127=\"\",\"\",AR127)","v":""},null,null,null,null,{"$f":"IF(AW127=\"\",\"\",AW127)","v":""}]
[]
[]
[]
[null,null,null,null,null,null,null,null,null,null,null,null,null,null,null,null,null,{"$f":"IF(R131=\"\",\"\",R131)","v":""},null,{"$f":"IF(T131=\"\",\"\",T131)","v":""},null,{"$f":"IF(V131=\"\",\"\",V131)","v":""},null,{"$f":"IF(X131=\"\",\"\",X131)","v":""},null,{"$f":"IF(Z131=\"\",\"\",Z131)","v":""},null,{"$f":"IF(AB131=\"\",\"\",AB131)","v":""},null,{"$f":"IF(AD131=\"\",\"\",AD131)","v":""},null,{"$f":"IF(AF131=\"\",\"\",AF131)","v":""},null,{"$f":"IF(AH131=\"\",\"\",AH131)","v":""},null,{"$f":"IF(AJ131=\"\",\"\",AJ131)","v":""},null,{"$f":"IF(AL131=\"\",\"\",AL131)","v":""},null,null,{"$f":"IF(AO131=\"\",\"\",AO131)","v":""},null,null,{"$f":"IF(AR131=\"\",\"\",AR131)","v":""},null,null,null,null,{"$f":"IF(AW131=\"\",\"\",AW131)","v":""}]
[]
[]
[]
[null,null,null,null,null,null,null,null,null,null,null,null,null,null,null,null,null,{"$f":"IF(R135=\"\",\"\",R135)","v":""},null,{"$f":"IF(T135=\"\",\"\",T135)","v":""},null,{"$f":"IF(V135=\"\",\"\",V135)","v":""},null,{"$f":"IF(X135=\"\",\"\",X135)","v":""},null,{"$f":"IF(Z135=\"\",\"\",Z135)","v":""},null,{"$f":"IF(AB135=\"\",\"\",AB135)","v":""},null,{"$f":"IF(AD135=\"\",\"\",AD135)","v":""},null,{"$f":"IF(AF135=\"\",\"\",AF135)","v":""},null,{"$f":"IF(AH135=\"\",\"\",AH135)","v":""},null,{"$f":"IF(AJ135=\"\",\"\",AJ135)","v":""},null,{"$f":"IF(AL135=\"\",\"\",AL135)","v":""},null,null,{"$f":"IF(AO135=\"\",\"\",AO135)","v":""},null,null,{"$f":"IF(AR135=\"\",\"\",AR135)","v":""},null,null,null,null,{"$f":"IF(AW135=\"\",\"\",AW135)","v":""}]
[]
[]
[]
[null,null,null,null,null,null,null,null,null,null,null,null,null,null,null,null,null,{"$f":"IF(R139=\"\",\"\",R139)","v":""},null,{"$f":"IF(T139=\"\",\"\",T139)","v":""},null,{"$f":"IF(V139=\"\",\"\",V139)","v":""},null,{"$f":"IF(X139=\"\",\"\",X139)","v":""},null,{"$f":"IF(Z139=\"\",\"\",Z139)","v":""},null,{"$f":"IF(AB139=\"\",\"\",AB139)","v":""},null,{"$f":"IF(AD139=\"\",\"\",AD139)","v":""},null,{"$f":"IF(AF139=\"\",\"\",AF139)","v":""},null,{"$f":"IF(AH139=\"\",\"\",AH139)","v":""},null,{"$f":"IF(AJ139=\"\",\"\",AJ139)","v":""},null,{"$f":"IF(AL139=\"\",\"\",AL139)","v":""},null,null,{"$f":"IF(AO139=\"\",\"\",AO139)","v":""},null,null,{"$f":"IF(AR139=\"\",\"\",AR139)","v":""},null,null,null,null,{"$f":"IF(AW139=\"\",\"\",AW139)","v":""}]
[]
[]
[]
[null,null,null,null,null,null,null,null,null,null,null,null,null,null,null,null,null,{"$f":"IF(R143=\"\",\"\",R143)","v":""},null,{"$f":"IF(T143=\"\",\"\",T143)","v":""},null,{"$f":"IF(V143=\"\",\"\",V143)","v":""},null,{"$f":"IF(X143=\"\",\"\",X143)","v":""},null,{"$f":"IF(Z143=\"\",\"\",Z143)","v":""},null,{"$f":"IF(AB143=\"\",\"\",AB143)","v":""},null,{"$f":"IF(AD143=\"\",\"\",AD143)","v":""},null,{"$f":"IF(AF143=\"\",\"\",AF143)","v":""},null,{"$f":"IF(AH143=\"\",\"\",AH143)","v":""},null,{"$f":"IF(AJ143=\"\",\"\",AJ143)","v":""},null,{"$f":"IF(AL143=\"\",\"\",AL143)","v":""},null,null,{"$f":"IF(AO143=\"\",\"\",AO143)","v":""},null,null,{"$f":"IF(AR143=\"\",\"\",AR143)","v":""},null,null,null,null,{"$f":"IF(AW143=\"\",\"\",AW143)","v":""}]
[]
[]
[]
[null,null,null,null,null,null,null,null,null,null,null,null,null,null,null,null,null,{"$f":"IF(R147=\"\",\"\",R147)","v":""},null,{"$f":"IF(T147=\"\",\"\",T147)","v":""},null,{"$f":"IF(V147=\"\",\"\",V147)","v":""},null,{"$f":"IF(X147=\"\",\"\",X147)","v":""},null,{"$f":"IF(Z147=\"\",\"\",Z147)","v":""},null,{"$f":"IF(AB147=\"\",\"\",AB147)","v":""},null,{"$f":"IF(AD147=\"\",\"\",AD147)","v":""},null,{"$f":"IF(AF147=\"\",\"\",AF147)","v":""},null,{"$f":"IF(AH147=\"\",\"\",AH147)","v":""},null,{"$f":"IF(AJ147=\"\",\"\",AJ147)","v":""},null,{"$f":"IF(AL147=\"\",\"\",AL147)","v":""},null,null,{"$f":"IF(AO147=\"\",\"\",AO147)","v":""},null,null,{"$f":"IF(AR147=\"\",\"\",AR147)","v":""},null,null,null,null,{"$f":"IF(AW147=\"\",\"\",AW147)","v":""}]
[]
[]
[]
[null,null,null,null,null,null,null,null,null,null,null,null,null,null,null,null,null,{"$f":"IF(R151=\"\",\"\",R151)","v":""},null,{"$f":"IF(T151=\"\",\"\",T151)","v":""},null,{"$f":"IF(V151=\"\",\"\",V151)","v":""},null,{"$f":"IF(X151=\"\",\"\",X151)","v":""},null,{"$f":"IF(Z151=\"\",\"\",Z151)","v":""},null,{"$f":"IF(AB151=\"\",\"\",AB151)","v":""},null,{"$f":"IF(AD151=\"\",\"\",AD151)","v":""},null,{"$f":"IF(AF151=\"\",\"\",AF151)","v":""},null,{"$f":"IF(AH151=\"\",\"\",AH151)","v":""},null,{"$f":"IF(AJ151=\"\",\"\",AJ151)","v":""},null,{"$f":"IF(AL151=\"\",\"\",AL151)","v":""},null,null,{"$f":"IF(AO151=\"\",\"\",AO151)","v":""},null,null,{"$f":"IF(AR151=\"\",\"\",AR151)","v":""},null,null,null,null,{"$f":"IF(AW151=\"\",\"\",AW151)","v":""}]
[]
[]
[]
[null,null,null,null,null,null,null,null,null,null,null,null,null,null,null,null,null,{"$f":"IF(R155=\"\",\"\",R155)","v":""},null,{"$f":"IF(T155=\"\",\"\",T155)","v":""},null,{"$f":"IF(V155=\"\",\"\",V155)","v":""},null,{"$f":"IF(X155=\"\",\"\",X155)","v":""},null,{"$f":"IF(Z155=\"\",\"\",Z155)","v":""},null,{"$f":"IF(AB155=\"\",\"\",AB155)","v":""},null,{"$f":"IF(AD155=\"\",\"\",AD155)","v":""},null,{"$f":"IF(AF155=\"\",\"\",AF155)","v":""},null,{"$f":"IF(AH155=\"\",\"\",AH155)","v":""},null,{"$f":"IF(AJ155=\"\",\"\",AJ155)","v":""},null,{"$f":"IF(AL155=\"\",\"\",AL155)","v":""},null,null,{"$f":"IF(AO155=\"\",\"\",AO155)","v":""},null,null,{"$f":"IF(AR155=\"\",\"\",AR155)","v":""},null,null,null,null,{"$f":"IF(AW155=\"\",\"\",AW155)","v":""}]
[]
[]
[]
[null,null,null,null,null,null,null,null,null,null,null,null,null,null,null,null,null,{"$f":"IF(R159=\"\",\"\",R159)","v":""},null,{"$f":"IF(T159=\"\",\"\",T159)","v":""},null,{"$f":"IF(V159=\"\",\"\",V159)","v":""},null,{"$f":"IF(X159=\"\",\"\",X159)","v":""},null,{"$f":"IF(Z159=\"\",\"\",Z159)","v":""},null,{"$f":"IF(AB159=\"\",\"\",AB159)","v":""},null,{"$f":"IF(AD159=\"\",\"\",AD159)","v":""},null,{"$f":"IF(AF159=\"\",\"\",AF159)","v":""},null,{"$f":"IF(AH159=\"\",\"\",AH159)","v":""},null,{"$f":"IF(AJ159=\"\",\"\",AJ159)","v":""},null,{"$f":"IF(AL159=\"\",\"\",AL159)","v":""},null,null,{"$f":"IF(AO159=\"\",\"\",AO159)","v":""},null,null,{"$f":"IF(AR159=\"\",\"\",AR159)","v":""},null,null,null,null,{"$f":"IF(AW159=\"\",\"\",AW159)","v":""}]
[]
[]
[]
[null,null,null,null,null,null,null,null,null,null,null,null,null,null,null,null,null,{"$f":"IF(R163=\"\",\"\",R163)","v":""},null,{"$f":"IF(T163=\"\",\"\",T163)","v":""},null,{"$f":"IF(V163=\"\",\"\",V163)","v":""},null,{"$f":"IF(X163=\"\",\"\",X163)","v":""},null,{"$f":"IF(Z163=\"\",\"\",Z163)","v":""},null,{"$f":"IF(AB163=\"\",\"\",AB163)","v":""},null,{"$f":"IF(AD163=\"\",\"\",AD163)","v":""},null,{"$f":"IF(AF163=\"\",\"\",AF163)","v":""},null,{"$f":"IF(AH163=\"\",\"\",AH163)","v":""},null,{"$f":"IF(AJ163=\"\",\"\",AJ163)","v":""},null,{"$f":"IF(AL163=\"\",\"\",AL163)","v":""},null,null,{"$f":"IF(AO163=\"\",\"\",AO163)","v":""},null,null,{"$f":"IF(AR163=\"\",\"\",AR163)","v":""},null,null,null,null,{"$f":"IF(AW163=\"\",\"\",AW163)","v":""}]
[]
[]
[]
[null,null,null,null,null,null,null,null,null,null,null,null,null,null,null,null,null,{"$f":"IF(R167=\"\",\"\",R167)","v":""},null,{"$f":"IF(T167=\"\",\"\",T167)","v":""},null,{"$f":"IF(V167=\"\",\"\",V167)","v":""},null,{"$f":"IF(X167=\"\",\"\",X167)","v":""},null,{"$f":"IF(Z167=\"\",\"\",Z167)","v":""},null,{"$f":"IF(AB167=\"\",\"\",AB167)","v":""},null,{"$f":"IF(AD167=\"\",\"\",AD167)","v":""},null,{"$f":"IF(AF167=\"\",\"\",AF167)","v":""},null,{"$f":"IF(AH167=\"\",\"\",AH167)","v":""},null,{"$f":"IF(AJ167=\"\",\"\",AJ167)","v":""},null,{"$f":"IF(AL167=\"\",\"\",AL167)","v":""},null,null,{"$f":"IF(AO167=\"\",\"\",AO167)","v":""},null,null,{"$f":"IF(AR167=\"\",\"\",AR167)","v":""},null,null,null,null,{"$f":"IF(AW167=\"\",\"\",AW167)","v":""}]
[]
[]
[]
[null,null,null,null,null,null,null,null,null,null,null,null,null,null,null,null,null,{"$f":"IF(R171=\"\",\"\",R171)","v":""},null,{"$f":"IF(T171=\"\",\"\",T171)","v":""},null,{"$f":"IF(V171=\"\",\"\",V171)","v":""},null,{"$f":"IF(X171=\"\",\"\",X171)","v":""},null,{"$f":"IF(Z171=\"\",\"\",Z171)","v":""},null,{"$f":"IF(AB171=\"\",\"\",AB171)","v":""},null,{"$f":"IF(AD171=\"\",\"\",AD171)","v":""},null,{"$f":"IF(AF171=\"\",\"\",AF171)","v":""},null,{"$f":"IF(AH171=\"\",\"\",AH171)","v":""},null,{"$f":"IF(AJ171=\"\",\"\",AJ171)","v":""},null,{"$f":"IF(AL171=\"\",\"\",AL171)","v":""},null,null,{"$f":"IF(AO171=\"\",\"\",AO171)","v":""},null,null,{"$f":"IF(AR171=\"\",\"\",AR171)","v":""},null,null,null,null,{"$f":"IF(AW171=\"\",\"\",AW171)","v":""}]
[]
[]
[]
[null,null,null,null,null,null,null,null,null,null,null,null,null,null,null,null,null,null,null,null,null,null,null,null,null,null,null,null,null,null,null,null,null,null,null,null,null,"値引き等",null,null,null,null,null,null,null,null,null,null,{"$f":"IF(AW175=\"\",\"\",AW175)","v":""}]
[]
[]
[]
[]
[null,null,null,null,null,null,null,null,null,null,null,null,null,null,null,null,null,null,null,null,null,null,null,null,null,null,null,null,null,null,null,null,null,null,null,null,null,{"$f":"\"合計(\" & IF(税処理=2,\"税込\",\"税抜\")&\")\"","v":"合計(税抜)"},null,null,null,null,null,null,null,null,null,null,{"$f":"IF(AW180=\"\",\"\",AW180)","v":""}]

{"sheet":"細2-9","index":23,"n_rows":272,"n_cols":53,"rows_kept":272,"cut":false,"hidden":false,"merged":[[266,37,269,47],[266,48,269,54],[258,48,261,54],[262,17,265,18],[262,19,265,20],[262,21,265,36],[262,37,265,39],[258,43,261,47],[271,37,274,47],[271,48,274,54],[262,40,265,42],[262,43,265,47],[262,48,265,54],[258,17,261,18],[258,19,261,20],[258,21,261,36],[258,37,261,39],[258,40,261,42],[250,48,253,54],[254,17,257,18],[254,19,257,20],[254,21,257,36],[254,37,257,39],[254,40,257,42],[254,43,257,47],[254,48,257,54],[250,17,253,18],[250,19,253,20],[250,21,253,36],[250,37,253,39],[250,40,253,42],[250,43,253,47],[242,48,245,54],[246,17,249,18],[246,19,249,20],[246,21,249,36],[246,37,249,39],[246,40,249,42],[246,43,249,47],[246,48,249,54],[242,17,245,18],[242,19,245,20],[242,21,245,36],[242,37,245,39],[242,40,245,42],[242,43,245,47],[234,48,237,54],[238,17,241,18],[238,19,241,20],[238,21,241,36],[238,37,241,39],[238,40,241,42],[238,43,241,47],[238,48,241,54],[234,17,237,18],[234,19,237,20],[234,21,237,36],[234,37,237,39],[234,40,237,42],[234,43,237,47],[222,17,225,18],[222,19,225,20],[222,21,225,36],[222,37,225,39],[222,40,225,42],[222,43,225,47],[222,48,225,54],[226,48,229,54],[230,17,233,18],[230,19,233,20],[230,21,233,36],[230,37,233,39],[230,40,233,42],[230,43,233,47],[230,48,233,54],[226,17,229,18],[226,19,229,20],[226,21,229,36],[226,37,229,39],[226,40,229,42],[226,43,229,47],[218,1,221,5],[218,6,221,15],[218,17,221,18],[218,19,221,20],[218,21,221,36],[218,37,221,39],[218,40,221,42],[218,43,221,47],[218,48,221,54],[210,40,213,42],[210,43,213,47],[210,48,213,54],[214,1,217,3],[214,4,217,5],[214,6,217,15],[214,17,217,18],[214,19,217,20],[214,21,217,36],[214,37,217,39],[210,1,213,5],[210,6,213,15],[210,17,213,18],[210,19,213,20],[210,21,213,36],[210,37,213,39],[214,40,217,42],[214,43,217,47],[214,48,217,54],[206,1,209,5],[206,6,209,15],[206,17,209,18],[206,19,209,20],[206,21,209,36],[206,37,209,39],[206,40,209,42],[206,43,209,47],[206,48,209,54],[198,43,201,47],[198,48,201,54],[202,1,205,5],[202,6,205,15],[202,17,205,18],[202,19,205,20],[202,21,205,36],[202,37,205,39],[202,40,205,42],[202,43,205,47],[198,1,201,5],[198,6,201,15],[198,17,201,20],[198,21,201,36],[198,37,201,39],[198,40,201,42],[202,48,205,54],[187,52,189,54],[192,1,195,5],[192,6,195,11],[192,12,195,15],[192,16,195,35],[192,37,195,40],[192,41,195,54],[185,19,188,32],[186,1,189,11],[186,12,189,13],[187,41,189,45],[187,46,189,48],[187,49,189,51],[174,37,177,47],[174,48,177,54],[179,37,182,47],[179,48,182,54],[170,17,173,18],[170,19,173,20],[170,21,173,36],[170,37,173,39],[170,40,173,42],[170,43,173,47],[170,48,173,54],[166,17,169,18],[166,19,169,20],[162,43,165,47],[162,48,165,54],[158,17,161,18],[158,19,161,20],[158,21,161,36],[158,37,161,39],[158,40,161,42],[162,17,165,18],[162,19,165,20],[162,21,165,36],[162,37,165,39],[162,40,165,42],[166,48,169,54],[158,43,161,47],[166,21,169,36],[166,37,169,39],[166,40,169,42],[166,43,169,47],[158,48,161,54],[154,48,157,54],[150,17,153,18],[150,19,153,20],[146,43,149,47],[146,48,149,54],[142,17,145,18],[142,19,145,20],[142,21,145,36],[142,37,145,39],[142,40,145,42],[154,17,157,18],[154,19,157,20],[154,21,157,36],[154,37,157,39],[154,40,157,42],[154,43,157,47],[146,17,149,18],[146,19,149,20],[146,21,149,36],[146,37,149,39],[146,40,149,42],[150,48,153,54],[142,43,145,47],[150,21,153,36],[150,37,153,39],[150,40,153,42],[150,43,153,47],[142,48,145,54],[130,48,133,54],[134,48,137,54],[130,17,133,18],[130,19,133,20],[130,21,133,36],[130,37,133,39],[130,40,133,42],[130,43,133,47],[138,48,141,54],[134,17,137,18],[134,19,137,20],[134,21,137,36],[134,37,137,39],[134,40,137,42],[134,43,137,47],[138,17,141,18],[138,19,141,20],[138,21,141,36],[138,37,141,39],[138,40,141,42],[138,43,141,47],[126,1,129,5],[126,6,129,15],[126,17,129,18],[126,19,129,20],[126,21,129,36],[126,37,129,39],[126,40,129,42],[126,43,129,47],[126,48,129,54],[118,40,121,42],[118,43,121,47],[118,48,121,54],[122,1,125,3],[122,4,125,5],[122,6,125,15],[122,17,125,18],[122,19,125,20],[122,21,125,36],[122,37,125,39],[118,1,121,5],[118,6,121,15],[118,17,121,18],[118,19,121,20],[118,21,121,36],[118,37,121,39],[122,40,125,42],[122,43,125,47],[122,48,125,54],[114,1,117,5],[114,6,117,15],[114,17,117,18],[114,19,117,20],[114,21,117,36],[114,37,117,39],[114,40,117,42],[114,43,117,47],[114,48,117,54],[106,43,109,47],[106,48,109,54],[110,1,113,5],[110,6,113,15],[110,17,113,18],[110,19,113,20],[110,21,113,36],[110,37,113,39],[110,40,113,42],[110,43,113,47],[106,1,109,5],[106,6,109,15],[106,17,109,20],[106,21,109,36],[106,37,109,39],[106,40,109,42],[110,48,113,54],[95,49,97,51],[95,52,97,54],[100,1,103,5],[100,6,103,11],[100,12,103,15],[100,16,103,35],[100,37,103,40],[100,41,103,54],[93,19,96,32],[94,1,97,11],[94,12,97,13],[95,41,97,45],[83,1,84,4],[83,5,84,10],[87,37,90,47],[83,11,84,16],[83,17,84,25],[95,46,97,48],[85,1,90,4],[85,5,90,10],[85,11,90,16],[85,17,90,25],[78,43,81,47],[83,26,84,30],[83,31,84,35],[78,17,81,18],[78,19,81,20],[78,21,81,36],[85,26,90,30],[85,31,90,35],[74,48,77,54],[87,48,90,54],[78,48,81,54],[82,37,85,47],[82,48,85,54],[78,37,81,39],[78,40,81,42],[74,17,77,18],[74,19,77,20],[74,21,77,36],[74,37,77,39],[74,40,77,42],[74,43,77,47],[66,48,69,54],[70,17,73,18],[70,19,73,20],[70,21,73,36],[70,37,73,39],[70,40,73,42],[70,43,73,47],[70,48,73,54],[66,17,69,18],[66,19,69,20],[66,21,69,36],[66,37,69,39],[66,40,69,42],[66,43,69,47],[58,48,61,54],[62,17,65,18],[62,19,65,20],[62,21,65,36],[62,37,65,39],[62,40,65,42],[62,43,65,47],[62,48,65,54],[58,17,61,18],[58,19,61,20],[58,21,61,36],[58,37,61,39],[58,40,61,42],[58,43,61,47],[50,48,53,54],[54,17,57,18],[54,19,57,20],[54,21,57,36],[54,37,57,39],[54,40,57,42],[54,43,57,47],[54,48,57,54],[50,17,53,18],[50,19,53,20],[50,21,53,36],[50,37,53,39],[50,40,53,42],[50,43,53,47],[38,17,41,18],[38,19,41,20],[38,21,41,36],[38,37,41,39],[38,40,41,42],[38,43,41,47],[38,48,41,54],[42,48,45,54],[46,17,49,18],[46,19,49,20],[46,21,49,36],[46,37,49,39],[46,40,49,42],[46,43,49,47],[46,48,49,54],[42,17,45,18],[42,19,45,20],[42,21,45,36],[42,37,45,39],[42,40,45,42],[42,43,45,47],[34,1,37,5],[34,6,37,15],[34,17,37,18],[34,19,37,20],[34,21,37,36],[34,37,37,39],[34,40,37,42],[34,43,37,47],[34,48,37,54],[26,40,29,42],[26,43,29,47],[26,48,29,54],[30,1,33,3],[30,4,33,5],[30,6,33,15],[30,17,33,18],[30,19,33,20],[30,21,33,36],[30,37,33,39],[26,1,29,5],[26,6,29,15],[26,17,29,18],[26,19,29,20],[26,21,29,36],[26,37,29,39],[30,40,33,42],[30,43,33,47],[30,48,33,54],[22,1,25,5],[22,6,25,15],[22,17,25,18],[22,19,25,20],[22,21,25,36],[22,37,25,39],[22,40,25,42],[22,43,25,47],[22,48,25,54],[14,43,17,47],[14,48,17,54],[18,1,21,5],[18,6,21,15],[18,17,21,18],[18,19,21,20],[18,21,21,36],[18,37,21,39],[18,40,21,42],[18,43,21,47],[14,1,17,5],[14,6,17,15],[14,17,17,20],[14,21,17,36],[14,37,17,39],[14,40,17,42],[18,48,21,54],[3,52,5,54],[8,37,11,40],[8,41,11,54],[3,41,5,45],[1,19,4,32],[2,1,5,11],[2,12,5,13],[8,1,11,5],[8,6,11,11],[8,12,11,15],[8,16,11,35],[3,46,5,48],[3,49,5,51]]}
[]
[null,null,null,null,null,null,null,null,null,null,null,null,null,null,null,null,null,null,null,"請求書明細書 (正)"]
[null,"株 式 会 社 種 村 建 設",null,null,null,null,null,null,null,null,null,null,"御中"]
[null,null,null,null,null,null,null,null,null,null,null,null,null,null,null,null,null,null,null,null,null,null,null,null,null,null,null,null,null,null,null,null,null,null,null,null,null,null,null,null,null,"請求年月日",null,null,null,null,{"$f":"年","v":23},null,null,{"$f":"月","v":5},null,null,{"$f":"日","v":31}]
[]
[]
[]
[]
[null,"工事番号",null,null,null,null,null,null,null,null,null,null,"工事名",null,null,null,null,null,null,null,null,null,null,null,null,null,null,null,null,null,null,null,null,null,null,null,null,"業者名",null,null,null,{"$f":"社名","v":"例：㈱種村建設"}]
[]
[]
[]
[]
[]
[null,"注文番号",null,null,null,null,null,null,null,null,null,null,null,null,null,null,null,"月　日",null,null,null,"摘要･品名",null,null,null,null,null,null,null,null,null,null,null,null,null,null,null,"数 量",null,null,"単位",null,null,"単価",null,null,null,null,{"$f":"\"金額(\" & IF(税処理=2,\"税込\",\"税抜\")&\")\"","v":"金額(税抜)"}]
[]
[]
[]
[null,"契約金額",null,null,null,null,null,null,null,null,null,null,null,null,null,null,null,null,null,null,null,null,null,null,null,null,null,null,null,null,null,null,null,null,null,null,null,null,null,null,null,null,null,null,null,null,null,null,{"$f":"IF(V19=\"\",\"\",AL19*AR19)","v":""}]
[]
[]
[]
[null,"増減額",null,null,null,null,null,null,null,null,null,null,null,null,null,null,null,null,null,null,null,null,null,null,null,null,null,null,null,null,null,null,null,null,null,null,null,null,null,null,null,null,null,null,null,null,null,null,{"$f":"IF(V23=\"\",\"\",AL23*AR23)","v":""}]
[]
[]
[]
[null,"前回までの\n請求額",null,null,null,null,null,null,null,null,null,null,null,null,null,null,null,null,null,null,null,null,null,null,null,null,null,null,null,null,null,null,null,null,null,null,null,null,null,null,null,null,null,null,null,null,null,null,{"$f":"IF(V27=\"\",\"\",AL27*AR27)","v":""}]
[]
[]
[]
[null,"今回\n請求額",null,null,null,null,null,null,null,null,null,null,null,null,null,null,null,null,null,null,null,null,null,null,null,null,null,null,null,null,null,null,null,null,null,null,null,null,null,null,null,null,null,null,null,null,null,null,{"$f":"IF(V31=\"\",\"\",AL31*AR31)","v":""}]
[]
[]
[]
[null,"差引残高",null,null,null,null,{"$f":"IF(G19=\"\",\"\",G19+G23-G27-G31)","v":""},null,null,null,null,null,null,null,null,null,null,null,null,null,null,null,null,null,null,null,null,null,null,null,null,null,null,null,null,null,null,null,null,null,null,null,null,null,null,null,null,null,{"$f":"IF(V35=\"\",\"\",AL35*AR35)","v":""}]
[]
[]
[]
[null,null,null,null,null,null,null,null,null,null,null,null,null,null,null,null,null,null,null,null,null,null,null,null,null,null,null,null,null,null,null,null,null,null,null,null,null,null,null,null,null,null,null,null,null,null,null,null,{"$f":"IF(V39=\"\",\"\",AL39*AR39)","v":""}]
[]
[]
[]
[null,null,null,null,null,null,null,null,null,null,null,null,null,null,null,null,null,null,null,null,null,null,null,null,null,null,null,null,null,null,null,null,null,null,null,null,null,null,null,null,null,null,null,null,null,null,null,null,{"$f":"IF(V43=\"\",\"\",AL43*AR43)","v":""}]
[]
[]
[]
[null,null,null,null,null,null,null,null,null,null,null,null,null,null,null,null,null,null,null,null,null,null,null,null,null,null,null,null,null,null,null,null,null,null,null,null,null,null,null,null,null,null,null,null,null,null,null,null,{"$f":"IF(V47=\"\",\"\",AL47*AR47)","v":""}]
[]
[]
[]
[null,null,null,null,null,null,null,null,null,null,null,null,null,null,null,null,null,null,null,null,null,null,null,null,null,null,null,null,null,null,null,null,null,null,null,null,null,null,null,null,null,null,null,null,null,null,null,null,{"$f":"IF(V51=\"\",\"\",AL51*AR51)","v":""}]
[]
[]
[]
[null,null,null,null,null,null,null,null,null,null,null,null,null,null,null,null,null,null,null,null,null,null,null,null,null,null,null,null,null,null,null,null,null,null,null,null,null,null,null,null,null,null,null,null,null,null,null,null,{"$f":"IF(V55=\"\",\"\",AL55*AR55)","v":""}]
[]
[]
[]
[null,null,null,null,null,null,null,null,null,null,null,null,null,null,null,null,null,null,null,null,null,null,null,null,null,null,null,null,null,null,null,null,null,null,null,null,null,null,null,null,null,null,null,null,null,null,null,null,{"$f":"IF(V59=\"\",\"\",AL59*AR59)","v":""}]
[]
[]
[]
[null,null,null,null,null,null,null,null,null,null,null,null,null,null,null,null,null,null,null,null,null,null,null,null,null,null,null,null,null,null,null,null,null,null,null,null,null,null,null,null,null,null,null,null,null,null,null,null,{"$f":"IF(V63=\"\",\"\",AL63*AR63)","v":""}]
[]
[]
[]
[null,null,null,null,null,null,null,null,null,null,null,null,null,null,null,null,null,null,null,null,null,null,null,null,null,null,null,null,null,null,null,null,null,null,null,null,null,null,null,null,null,null,null,null,null,null,null,null,{"$f":"IF(V67=\"\",\"\",AL67*AR67)","v":""}]
[]
[]
[]
[null,null,null,null,null,null,null,null,null,null,null,null,null,null,null,null,null,null,null,null,null,null,null,null,null,null,null,null,null,null,null,null,null,null,null,null,null,null,null,null,null,null,null,null,null,null,null,null,{"$f":"IF(V71=\"\",\"\",AL71*AR71)","v":""}]
[]
[]
[]
[null,null,null,null,null,null,null,null,null,null,null,null,null,null,null,null,null,null,null,null,null,null,null,null,null,null,null,null,null,null,null,null,null,null,null,null,null,null,null,null,null,null,null,null,null,null,null,null,{"$f":"IF(V75=\"\",\"\",AL75*AR75)","v":""}]
[]
[]
[]
[null,null,null,null,null,null,null,null,null,null,null,null,null,null,null,null,null,null,null,null,null,null,null,null,null,null,null,null,null,null,null,null,null,null,null,null,null,null,null,null,null,null,null,null,null,null,null,null,{"$f":"IF(V79=\"\",\"\",AL79*AR79)","v":""}]
[]
[]
[]
[null,null,null,null,null,null,null,null,null,null,null,null,null,null,null,null,null,null,null,null,null,null,null,null,null,null,null,null,null,null,null,null,null,null,null,null,null,"値引き等"]
[null,"社長",null,null,null,"専務",null,null,null,null,null,"常務",null,null,null,null,null,"部長･工場長",null,null,null,null,null,null,null,null,"担当者",null,null,null,null,"受付"]
[]
[]
[]
[null,null,null,null,null,null,null,null,null,null,null,null,null,null,null,null,null,null,null,null,null,null,null,null,null,null,null,null,null,null,null,null,null,null,null,null,null,{"$f":"\"合計(\" & IF(税処理=2,\"税込\",\"税抜\")&\")\"","v":"合計(税抜)"},null,null,null,null,null,null,null,null,null,null,{"$f":"IF(AW19=\"\",\"\",SUM(AW19:AW79)+AW83)","v":""}]
[]
[]
[]
[]
[]
[null,null,null,null,null,null,null,null,null,null,null,null,null,null,null,null,null,null,null,"請求明細書 (現場控)"]
[null,"株 式 会 社 種 村 建 設",null,null,null,null,null,null,null,null,null,null,"御中"]
[null,null,null,null,null,null,null,null,null,null,null,null,null,null,null,null,null,null,null,null,null,null,null,null,null,null,null,null,null,null,null,null,null,null,null,null,null,null,null,null,null,"請求年月日",null,null,null,null,{"$f":"IF(AU4=\"\",\"\",AU4)","v":23},null,null,{"$f":"IF(AX4=\"\",\"\",AX4)","v":5},null,null,{"$f":"IF(BA4=\"\",\"\",BA4)","v":31}]
[]
[]
[]
[]
[null,"工事番号",null,null,null,null,{"$f":"IF(G9=\"\",\"\",G9)","v":""},null,null,null,null,null,"工事名",null,null,null,{"$f":"IF(Q9=\"\",\"\",Q9)","v":""},null,null,null,null,null,null,null,null,null,null,null,null,null,null,null,null,null,null,null,null,"業者名",null,null,null,{"$f":"IF(AP9=\"\",\"\",AP9)","v":"例：㈱種村建設"}]
[]
[]
[]
[]
[]
[null,"注文番号",null,null,null,null,{"$f":"IF(G15=\"\",\"\",G15)","v":""},null,null,null,null,null,null,null,null,null,null,"月　日",null,null,null,"摘要･品名",null,null,null,null,null,null,null,null,null,null,null,null,null,null,null,"数 量",null,null,"単位",null,null,"単価",null,null,null,null,{"$f":"\"金額(\" & IF(税処理=2,\"税込\",\"税抜\")&\")\"","v":"金額(税抜)"}]
[]
[]
[]
[null,"契約金額",null,null,null,null,{"$f":"IF(G19=\"\",\"\",G19)","v":""},null,null,null,null,null,null,null,null,null,null,{"$f":"IF(R19=\"\",\"\",R19)","v":""},null,{"$f":"IF(T19=\"\",\"\",T19)","v":""},null,{"$f":"IF(V19=\"\",\"\",V19)","v":""},null,{"$f":"IF(X19=\"\",\"\",X19)","v":""},null,{"$f":"IF(Z19=\"\",\"\",Z19)","v":""},null,{"$f":"IF(AB19=\"\",\"\",AB19)","v":""},null,{"$f":"IF(AD19=\"\",\"\",AD19)","v":""},null,{"$f":"IF(AF19=\"\",\"\",AF19)","v":""},null,{"$f":"IF(AH19=\"\",\"\",AH19)","v":""},null,{"$f":"IF(AJ19=\"\",\"\",AJ19)","v":""},null,{"$f":"IF(AL19=\"\",\"\",AL19)","v":""},null,null,{"$f":"IF(AO19=\"\",\"\",AO19)","v":""},null,null,{"$f":"IF(AR19=\"\",\"\",AR19)","v":""},null,null,null,null,{"$f":"IF(AW19=\"\",\"\",AW19)","v":""}]
[]
[]
[]
[null,"増減額",null,null,null,null,{"$f":"IF(G23=\"\",\"\",G23)","v":""},null,null,null,null,null,null,null,null,null,null,{"$f":"IF(R23=\"\",\"\",R23)","v":""},null,{"$f":"IF(T23=\"\",\"\",T23)","v":""},null,{"$f":"IF(V23=\"\",\"\",V23)","v":""},null,{"$f":"IF(X23=\"\",\"\",X23)","v":""},null,{"$f":"IF(Z23=\"\",\"\",Z23)","v":""},null,{"$f":"IF(AB23=\"\",\"\",AB23)","v":""},null,{"$f":"IF(AD23=\"\",\"\",AD23)","v":""},null,{"$f":"IF(AF23=\"\",\"\",AF23)","v":""},null,{"$f":"IF(AH23=\"\",\"\",AH23)","v":""},null,{"$f":"IF(AJ23=\"\",\"\",AJ23)","v":""},null,{"$f":"IF(AL23=\"\",\"\",AL23)","v":""},null,null,{"$f":"IF(AO23=\"\",\"\",AO23)","v":""},null,null,{"$f":"IF(AR23=\"\",\"\",AR23)","v":""},null,null,null,null,{"$f":"IF(AW23=\"\",\"\",AW23)","v":""}]
[]
[]
[]
[null,"前回までの\n請求額",null,null,null,null,{"$f":"IF(G27=\"\",\"\",G27)","v":""},null,null,null,null,null,null,null,null,null,null,{"$f":"IF(R27=\"\",\"\",R27)","v":""},null,{"$f":"IF(T27=\"\",\"\",T27)","v":""},null,{"$f":"IF(V27=\"\",\"\",V27)","v":""},null,{"$f":"IF(X27=\"\",\"\",X27)","v":""},null,{"$f":"IF(Z27=\"\",\"\",Z27)","v":""},null,{"$f":"IF(AB27=\"\",\"\",AB27)","v":""},null,{"$f":"IF(AD27=\"\",\"\",AD27)","v":""},null,{"$f":"IF(AF27=\"\",\"\",AF27)","v":""},null,{"$f":"IF(AH27=\"\",\"\",AH27)","v":""},null,{"$f":"IF(AJ27=\"\",\"\",AJ27)","v":""},null,{"$f":"IF(AL27=\"\",\"\",AL27)","v":""},null,null,{"$f":"IF(AO27=\"\",\"\",AO27)","v":""},null,null,{"$f":"IF(AR27=\"\",\"\",AR27)","v":""},null,null,null,null,{"$f":"IF(AW27=\"\",\"\",AW27)","v":""}]
[]
[]
[]
[null,"今回\n請求額",null,null,{"$f":"IF(E31=\"\",\"\",E31)","v":""},null,{"$f":"IF(G31=\"\",\"\",G31)","v":""},null,null,null,null,null,null,null,null,null,null,{"$f":"IF(R31=\"\",\"\",R31)","v":""},null,{"$f":"IF(T31=\"\",\"\",T31)","v":""},null,{"$f":"IF(V31=\"\",\"\",V31)","v":""},null,{"$f":"IF(X31=\"\",\"\",X31)","v":""},null,{"$f":"IF(Z31=\"\",\"\",Z31)","v":""},null,{"$f":"IF(AB31=\"\",\"\",AB31)","v":""},null,{"$f":"IF(AD31=\"\",\"\",AD31)","v":""},null,{"$f":"IF(AF31=\"\",\"\",AF31)","v":""},null,{"$f":"IF(AH31=\"\",\"\",AH31)","v":""},null,{"$f":"IF(AJ31=\"\",\"\",AJ31)","v":""},null,{"$f":"IF(AL31=\"\",\"\",AL31)","v":""},null,null,{"$f":"IF(AO31=\"\",\"\",AO31)","v":""},null,null,{"$f":"IF(AR31=\"\",\"\",AR31)","v":""},null,null,null,null,{"$f":"IF(AW31=\"\",\"\",AW31)","v":""}]
[]
[]
[]
[null,"差引残高",null,null,null,null,{"$f":"IF(G111=\"\",\"\",G111+G115-G119-G123)","v":""},null,null,null,null,null,null,null,null,null,null,{"$f":"IF(R35=\"\",\"\",R35)","v":""},null,{"$f":"IF(T35=\"\",\"\",T35)","v":""},null,{"$f":"IF(V35=\"\",\"\",V35)","v":""},null,{"$f":"IF(X35=\"\",\"\",X35)","v":""},null,{"$f":"IF(Z35=\"\",\"\",Z35)","v":""},null,{"$f":"IF(AB35=\"\",\"\",AB35)","v":""},null,{"$f":"IF(AD35=\"\",\"\",AD35)","v":""},null,{"$f":"IF(AF35=\"\",\"\",AF35)","v":""},null,{"$f":"IF(AH35=\"\",\"\",AH35)","v":""},null,{"$f":"IF(AJ35=\"\",\"\",AJ35)","v":""},null,{"$f":"IF(AL35=\"\",\"\",AL35)","v":""},null,null,{"$f":"IF(AO35=\"\",\"\",AO35)","v":""},null,null,{"$f":"IF(AR35=\"\",\"\",AR35)","v":""},null,null,null,null,{"$f":"IF(AW35=\"\",\"\",AW35)","v":""}]
[]
[]
[]
[null,null,null,null,null,null,null,null,null,null,null,null,null,null,null,null,null,{"$f":"IF(R39=\"\",\"\",R39)","v":""},null,{"$f":"IF(T39=\"\",\"\",T39)","v":""},null,{"$f":"IF(V39=\"\",\"\",V39)","v":""},null,{"$f":"IF(X39=\"\",\"\",X39)","v":""},null,{"$f":"IF(Z39=\"\",\"\",Z39)","v":""},null,{"$f":"IF(AB39=\"\",\"\",AB39)","v":""},null,{"$f":"IF(AD39=\"\",\"\",AD39)","v":""},null,{"$f":"IF(AF39=\"\",\"\",AF39)","v":""},null,{"$f":"IF(AH39=\"\",\"\",AH39)","v":""},null,{"$f":"IF(AJ39=\"\",\"\",AJ39)","v":""},null,{"$f":"IF(AL39=\"\",\"\",AL39)","v":""},null,null,{"$f":"IF(AO39=\"\",\"\",AO39)","v":""},null,null,{"$f":"IF(AR39=\"\",\"\",AR39)","v":""},null,null,null,null,{"$f":"IF(AW39=\"\",\"\",AW39)","v":""}]
[]
[]
[]
[null,null,null,null,null,null,null,null,null,null,null,null,null,null,null,null,null,{"$f":"IF(R43=\"\",\"\",R43)","v":""},null,{"$f":"IF(T43=\"\",\"\",T43)","v":""},null,{"$f":"IF(V43=\"\",\"\",V43)","v":""},null,{"$f":"IF(X43=\"\",\"\",X43)","v":""},null,{"$f":"IF(Z43=\"\",\"\",Z43)","v":""},null,{"$f":"IF(AB43=\"\",\"\",AB43)","v":""},null,{"$f":"IF(AD43=\"\",\"\",AD43)","v":""},null,{"$f":"IF(AF43=\"\",\"\",AF43)","v":""},null,{"$f":"IF(AH43=\"\",\"\",AH43)","v":""},null,{"$f":"IF(AJ43=\"\",\"\",AJ43)","v":""},null,{"$f":"IF(AL43=\"\",\"\",AL43)","v":""},null,null,{"$f":"IF(AO43=\"\",\"\",AO43)","v":""},null,null,{"$f":"IF(AR43=\"\",\"\",AR43)","v":""},null,null,null,null,{"$f":"IF(AW43=\"\",\"\",AW43)","v":""}]
[]
[]
[]
[null,null,null,null,null,null,null,null,null,null,null,null,null,null,null,null,null,{"$f":"IF(R47=\"\",\"\",R47)","v":""},null,{"$f":"IF(T47=\"\",\"\",T47)","v":""},null,{"$f":"IF(V47=\"\",\"\",V47)","v":""},null,{"$f":"IF(X47=\"\",\"\",X47)","v":""},null,{"$f":"IF(Z47=\"\",\"\",Z47)","v":""},null,{"$f":"IF(AB47=\"\",\"\",AB47)","v":""},null,{"$f":"IF(AD47=\"\",\"\",AD47)","v":""},null,{"$f":"IF(AF47=\"\",\"\",AF47)","v":""},null,{"$f":"IF(AH47=\"\",\"\",AH47)","v":""},null,{"$f":"IF(AJ47=\"\",\"\",AJ47)","v":""},null,{"$f":"IF(AL47=\"\",\"\",AL47)","v":""},null,null,{"$f":"IF(AO47=\"\",\"\",AO47)","v":""},null,null,{"$f":"IF(AR47=\"\",\"\",AR47)","v":""},null,null,null,null,{"$f":"IF(AW47=\"\",\"\",AW47)","v":""}]
[]
[]
[]
[null,null,null,null,null,null,null,null,null,null,null,null,null,null,null,null,null,{"$f":"IF(R51=\"\",\"\",R51)","v":""},null,{"$f":"IF(T51=\"\",\"\",T51)","v":""},null,{"$f":"IF(V51=\"\",\"\",V51)","v":""},null,{"$f":"IF(X51=\"\",\"\",X51)","v":""},null,{"$f":"IF(Z51=\"\",\"\",Z51)","v":""},null,{"$f":"IF(AB51=\"\",\"\",AB51)","v":""},null,{"$f":"IF(AD51=\"\",\"\",AD51)","v":""},null,{"$f":"IF(AF51=\"\",\"\",AF51)","v":""},null,{"$f":"IF(AH51=\"\",\"\",AH51)","v":""},null,{"$f":"IF(AJ51=\"\",\"\",AJ51)","v":""},null,{"$f":"IF(AL51=\"\",\"\",AL51)","v":""},null,null,{"$f":"IF(AO51=\"\",\"\",AO51)","v":""},null,null,{"$f":"IF(AR51=\"\",\"\",AR51)","v":""},null,null,null,null,{"$f":"IF(AW51=\"\",\"\",AW51)","v":""}]
[]
[]
[]
[null,null,null,null,null,null,null,null,null,null,null,null,null,null,null,null,null,{"$f":"IF(R55=\"\",\"\",R55)","v":""},null,{"$f":"IF(T55=\"\",\"\",T55)","v":""},null,{"$f":"IF(V55=\"\",\"\",V55)","v":""},null,{"$f":"IF(X55=\"\",\"\",X55)","v":""},null,{"$f":"IF(Z55=\"\",\"\",Z55)","v":""},null,{"$f":"IF(AB55=\"\",\"\",AB55)","v":""},null,{"$f":"IF(AD55=\"\",\"\",AD55)","v":""},null,{"$f":"IF(AF55=\"\",\"\",AF55)","v":""},null,{"$f":"IF(AH55=\"\",\"\",AH55)","v":""},null,{"$f":"IF(AJ55=\"\",\"\",AJ55)","v":""},null,{"$f":"IF(AL55=\"\",\"\",AL55)","v":""},null,null,{"$f":"IF(AO55=\"\",\"\",AO55)","v":""},null,null,{"$f":"IF(AR55=\"\",\"\",AR55)","v":""},null,null,null,null,{"$f":"IF(AW55=\"\",\"\",AW55)","v":""}]
[]
[]
[]
[null,null,null,null,null,null,null,null,null,null,null,null,null,null,null,null,null,{"$f":"IF(R59=\"\",\"\",R59)","v":""},null,{"$f":"IF(T59=\"\",\"\",T59)","v":""},null,{"$f":"IF(V59=\"\",\"\",V59)","v":""},null,{"$f":"IF(X59=\"\",\"\",X59)","v":""},null,{"$f":"IF(Z59=\"\",\"\",Z59)","v":""},null,{"$f":"IF(AB59=\"\",\"\",AB59)","v":""},null,{"$f":"IF(AD59=\"\",\"\",AD59)","v":""},null,{"$f":"IF(AF59=\"\",\"\",AF59)","v":""},null,{"$f":"IF(AH59=\"\",\"\",AH59)","v":""},null,{"$f":"IF(AJ59=\"\",\"\",AJ59)","v":""},null,{"$f":"IF(AL59=\"\",\"\",AL59)","v":""},null,null,{"$f":"IF(AO59=\"\",\"\",AO59)","v":""},null,null,{"$f":"IF(AR59=\"\",\"\",AR59)","v":""},null,null,null,null,{"$f":"IF(AW59=\"\",\"\",AW59)","v":""}]
[]
[]
[]
[null,null,null,null,null,null,null,null,null,null,null,null,null,null,null,null,null,{"$f":"IF(R63=\"\",\"\",R63)","v":""},null,{"$f":"IF(T63=\"\",\"\",T63)","v":""},null,{"$f":"IF(V63=\"\",\"\",V63)","v":""},null,{"$f":"IF(X63=\"\",\"\",X63)","v":""},null,{"$f":"IF(Z63=\"\",\"\",Z63)","v":""},null,{"$f":"IF(AB63=\"\",\"\",AB63)","v":""},null,{"$f":"IF(AD63=\"\",\"\",AD63)","v":""},null,{"$f":"IF(AF63=\"\",\"\",AF63)","v":""},null,{"$f":"IF(AH63=\"\",\"\",AH63)","v":""},null,{"$f":"IF(AJ63=\"\",\"\",AJ63)","v":""},null,{"$f":"IF(AL63=\"\",\"\",AL63)","v":""},null,null,{"$f":"IF(AO63=\"\",\"\",AO63)","v":""},null,null,{"$f":"IF(AR63=\"\",\"\",AR63)","v":""},null,null,null,null,{"$f":"IF(AW63=\"\",\"\",AW63)","v":""}]
[]
[]
[]
[null,null,null,null,null,null,null,null,null,null,null,null,null,null,null,null,null,{"$f":"IF(R67=\"\",\"\",R67)","v":""},null,{"$f":"IF(T67=\"\",\"\",T67)","v":""},null,{"$f":"IF(V67=\"\",\"\",V67)","v":""},null,{"$f":"IF(X67=\"\",\"\",X67)","v":""},null,{"$f":"IF(Z67=\"\",\"\",Z67)","v":""},null,{"$f":"IF(AB67=\"\",\"\",AB67)","v":""},null,{"$f":"IF(AD67=\"\",\"\",AD67)","v":""},null,{"$f":"IF(AF67=\"\",\"\",AF67)","v":""},null,{"$f":"IF(AH67=\"\",\"\",AH67)","v":""},null,{"$f":"IF(AJ67=\"\",\"\",AJ67)","v":""},null,{"$f":"IF(AL67=\"\",\"\",AL67)","v":""},null,null,{"$f":"IF(AO67=\"\",\"\",AO67)","v":""},null,null,{"$f":"IF(AR67=\"\",\"\",AR67)","v":""},null,null,null,null,{"$f":"IF(AW67=\"\",\"\",AW67)","v":""}]
[]
[]
[]
[null,null,null,null,null,null,null,null,null,null,null,null,null,null,null,null,null,{"$f":"IF(R71=\"\",\"\",R71)","v":""},null,{"$f":"IF(T71=\"\",\"\",T71)","v":""},null,{"$f":"IF(V71=\"\",\"\",V71)","v":""},null,{"$f":"IF(X71=\"\",\"\",X71)","v":""},null,{"$f":"IF(Z71=\"\",\"\",Z71)","v":""},null,{"$f":"IF(AB71=\"\",\"\",AB71)","v":""},null,{"$f":"IF(AD71=\"\",\"\",AD71)","v":""},null,{"$f":"IF(AF71=\"\",\"\",AF71)","v":""},null,{"$f":"IF(AH71=\"\",\"\",AH71)","v":""},null,{"$f":"IF(AJ71=\"\",\"\",AJ71)","v":""},null,{"$f":"IF(AL71=\"\",\"\",AL71)","v":""},null,null,{"$f":"IF(AO71=\"\",\"\",AO71)","v":""},null,null,{"$f":"IF(AR71=\"\",\"\",AR71)","v":""},null,null,null,null,{"$f":"IF(AW71=\"\",\"\",AW71)","v":""}]
[]
[]
[]
[null,null,null,null,null,null,null,null,null,null,null,null,null,null,null,null,null,{"$f":"IF(R75=\"\",\"\",R75)","v":""},null,{"$f":"IF(T75=\"\",\"\",T75)","v":""},null,{"$f":"IF(V75=\"\",\"\",V75)","v":""},null,{"$f":"IF(X75=\"\",\"\",X75)","v":""},null,{"$f":"IF(Z75=\"\",\"\",Z75)","v":""},null,{"$f":"IF(AB75=\"\",\"\",AB75)","v":""},null,{"$f":"IF(AD75=\"\",\"\",AD75)","v":""},null,{"$f":"IF(AF75=\"\",\"\",AF75)","v":""},null,{"$f":"IF(AH75=\"\",\"\",AH75)","v":""},null,{"$f":"IF(AJ75=\"\",\"\",AJ75)","v":""},null,{"$f":"IF(AL75=\"\",\"\",AL75)","v":""},null,null,{"$f":"IF(AO75=\"\",\"\",AO75)","v":""},null,null,{"$f":"IF(AR75=\"\",\"\",AR75)","v":""},null,null,null,null,{"$f":"IF(AW75=\"\",\"\",AW75)","v":""}]
[]
[]
[]
[null,null,null,null,null,null,null,null,null,null,null,null,null,null,null,null,null,{"$f":"IF(R79=\"\",\"\",R79)","v":""},null,{"$f":"IF(T79=\"\",\"\",T79)","v":""},null,{"$f":"IF(V79=\"\",\"\",V79)","v":""},null,{"$f":"IF(X79=\"\",\"\",X79)","v":""},null,{"$f":"IF(Z79=\"\",\"\",Z79)","v":""},null,{"$f":"IF(AB79=\"\",\"\",AB79)","v":""},null,{"$f":"IF(AD79=\"\",\"\",AD79)","v":""},null,{"$f":"IF(AF79=\"\",\"\",AF79)","v":""},null,{"$f":"IF(AH79=\"\",\"\",AH79)","v":""},null,{"$f":"IF(AJ79=\"\",\"\",AJ79)","v":""},null,{"$f":"IF(AL79=\"\",\"\",AL79)","v":""},null,null,{"$f":"IF(AO79=\"\",\"\",AO79)","v":""},null,null,{"$f":"IF(AR79=\"\",\"\",AR79)","v":""},null,null,null,null,{"$f":"IF(AW79=\"\",\"\",AW79)","v":""}]
[]
[]
[]
[null,null,null,null,null,null,null,null,null,null,null,null,null,null,null,null,null,null,null,null,null,null,null,null,null,null,null,null,null,null,null,null,null,null,null,null,null,"値引き等",null,null,null,null,null,null,null,null,null,null,{"$f":"IF(AW83=\"\",\"\",AW83)","v":""}]
[]
[]
[]
[]
[null,null,null,null,null,null,null,null,null,null,null,null,null,null,null,null,null,null,null,null,null,null,null,null,null,null,null,null,null,null,null,null,null,null,null,null,null,{"$f":"\"合計(\" & IF(税処理=2,\"税込\",\"税抜\")&\")\"","v":"合計(税抜)"},null,null,null,null,null,null,null,null,null,null,{"$f":"IF(AW88=\"\",\"\",AW88)","v":""}]
[]
[]
[]
[]
[]
[null,null,null,null,null,null,null,null,null,null,null,null,null,null,null,null,null,null,null,"請求明細書 (貴社控)"]
[null,"株 式 会 社 種 村 建 設",null,null,null,null,null,null,null,null,null,null,"御中"]
[null,null,null,null,null,null,null,null,null,null,null,null,null,null,null,null,null,null,null,null,null,null,null,null,null,null,null,null,null,null,null,null,null,null,null,null,null,null,null,null,null,"請求年月日",null,null,null,null,{"$f":"IF(AU96=\"\",\"\",AU96)","v":23},null,null,{"$f":"IF(AX96=\"\",\"\",AX96)","v":5},null,null,{"$f":"IF(BA96=\"\",\"\",BA96)","v":31}]
[]
[]
[]
[]
[null,"工事番号",null,null,null,null,{"$f":"IF(G101=\"\",\"\",G101)","v":""},null,null,null,null,null,"工事名",null,null,null,{"$f":"IF(Q101=\"\",\"\",Q101)","v":""},null,null,null,null,null,null,null,null,null,null,null,null,null,null,null,null,null,null,null,null,"業者名",null,null,null,{"$f":"IF(AP101=\"\",\"\",AP101)","v":"例：㈱種村建設"}]
[]
[]
[]
[]
[]
[null,"注文番号",null,null,null,null,{"$f":"IF(G107=\"\",\"\",G107)","v":""},null,null,null,null,null,null,null,null,null,null,"月　日",null,null,null,"摘要･品名",null,null,null,null,null,null,null,null,null,null,null,null,null,null,null,"数 量",null,null,"単位",null,null,"単価",null,null,null,null,{"$f":"\"金額(\" & IF(税処理=2,\"税込\",\"税抜\")&\")\"","v":"金額(税抜)"}]
[]
[]
[]
[null,"契約金額",null,null,null,null,{"$f":"IF(G111=\"\",\"\",G111)","v":""},null,null,null,null,null,null,null,null,null,null,{"$f":"IF(R111=\"\",\"\",R111)","v":""},null,{"$f":"IF(T111=\"\",\"\",T111)","v":""},null,{"$f":"IF(V111=\"\",\"\",V111)","v":""},null,{"$f":"IF(X111=\"\",\"\",X111)","v":""},null,{"$f":"IF(Z111=\"\",\"\",Z111)","v":""},null,{"$f":"IF(AB111=\"\",\"\",AB111)","v":""},null,{"$f":"IF(AD111=\"\",\"\",AD111)","v":""},null,{"$f":"IF(AF111=\"\",\"\",AF111)","v":""},null,{"$f":"IF(AH111=\"\",\"\",AH111)","v":""},null,{"$f":"IF(AJ111=\"\",\"\",AJ111)","v":""},null,{"$f":"IF(AL111=\"\",\"\",AL111)","v":""},null,null,{"$f":"IF(AO111=\"\",\"\",AO111)","v":""},null,null,{"$f":"IF(AR111=\"\",\"\",AR111)","v":""},null,null,null,null,{"$f":"IF(AW111=\"\",\"\",AW111)","v":""}]
[]
[]
[]
[null,"増減額",null,null,null,null,{"$f":"IF(G115=\"\",\"\",G115)","v":""},null,null,null,null,null,null,null,null,null,null,{"$f":"IF(R115=\"\",\"\",R115)","v":""},null,{"$f":"IF(T115=\"\",\"\",T115)","v":""},null,{"$f":"IF(V115=\"\",\"\",V115)","v":""},null,{"$f":"IF(X115=\"\",\"\",X115)","v":""},null,{"$f":"IF(Z115=\"\",\"\",Z115)","v":""},null,{"$f":"IF(AB115=\"\",\"\",AB115)","v":""},null,{"$f":"IF(AD115=\"\",\"\",AD115)","v":""},null,{"$f":"IF(AF115=\"\",\"\",AF115)","v":""},null,{"$f":"IF(AH115=\"\",\"\",AH115)","v":""},null,{"$f":"IF(AJ115=\"\",\"\",AJ115)","v":""},null,{"$f":"IF(AL115=\"\",\"\",AL115)","v":""},null,null,{"$f":"IF(AO115=\"\",\"\",AO115)","v":""},null,null,{"$f":"IF(AR115=\"\",\"\",AR115)","v":""},null,null,null,null,{"$f":"IF(AW115=\"\",\"\",AW115)","v":""}]
[]
[]
[]
[null,"前回までの\n請求額",null,null,null,null,{"$f":"IF(G119=\"\",\"\",G119)","v":""},null,null,null,null,null,null,null,null,null,null,{"$f":"IF(R119=\"\",\"\",R119)","v":""},null,{"$f":"IF(T119=\"\",\"\",T119)","v":""},null,{"$f":"IF(V119=\"\",\"\",V119)","v":""},null,{"$f":"IF(X119=\"\",\"\",X119)","v":""},null,{"$f":"IF(Z119=\"\",\"\",Z119)","v":""},null,{"$f":"IF(AB119=\"\",\"\",AB119)","v":""},null,{"$f":"IF(AD119=\"\",\"\",AD119)","v":""},null,{"$f":"IF(AF119=\"\",\"\",AF119)","v":""},null,{"$f":"IF(AH119=\"\",\"\",AH119)","v":""},null,{"$f":"IF(AJ119=\"\",\"\",AJ119)","v":""},null,{"$f":"IF(AL119=\"\",\"\",AL119)","v":""},null,null,{"$f":"IF(AO119=\"\",\"\",AO119)","v":""},null,null,{"$f":"IF(AR119=\"\",\"\",AR119)","v":""},null,null,null,null,{"$f":"IF(AW119=\"\",\"\",AW119)","v":""}]
[]
[]
[]
[null,"今回\n請求額",null,null,{"$f":"IF(E31=\"\",\"\",E31)","v":""},null,{"$f":"IF(G123=\"\",\"\",G123)","v":""},null,null,null,null,null,null,null,null,null,null,{"$f":"IF(R123=\"\",\"\",R123)","v":""},null,{"$f":"IF(T123=\"\",\"\",T123)","v":""},null,{"$f":"IF(V123=\"\",\"\",V123)","v":""},null,{"$f":"IF(X123=\"\",\"\",X123)","v":""},null,{"$f":"IF(Z123=\"\",\"\",Z123)","v":""},null,{"$f":"IF(AB123=\"\",\"\",AB123)","v":""},null,{"$f":"IF(AD123=\"\",\"\",AD123)","v":""},null,{"$f":"IF(AF123=\"\",\"\",AF123)","v":""},null,{"$f":"IF(AH123=\"\",\"\",AH123)","v":""},null,{"$f":"IF(AJ123=\"\",\"\",AJ123)","v":""},null,{"$f":"IF(AL123=\"\",\"\",AL123)","v":""},null,null,{"$f":"IF(AO123=\"\",\"\",AO123)","v":""},null,null,{"$f":"IF(AR123=\"\",\"\",AR123)","v":""},null,null,null,null,{"$f":"IF(AW123=\"\",\"\",AW123)","v":""}]
[]
[]
[]
[null,"差引残高",null,null,null,null,{"$f":"IF(G203=\"\",\"\",G203+G207-G211-G215)","v":""},null,null,null,null,null,null,null,null,null,null,{"$f":"IF(R127=\"\",\"\",R127)","v":""},null,{"$f":"IF(T127=\"\",\"\",T127)","v":""},null,{"$f":"IF(V127=\"\",\"\",V127)","v":""},null,{"$f":"IF(X127=\"\",\"\",X127)","v":""},null,{"$f":"IF(Z127=\"\",\"\",Z127)","v":""},null,{"$f":"IF(AB127=\"\",\"\",AB127)","v":""},null,{"$f":"IF(AD127=\"\",\"\",AD127)","v":""},null,{"$f":"IF(AF127=\"\",\"\",AF127)","v":""},null,{"$f":"IF(AH127=\"\",\"\",AH127)","v":""},null,{"$f":"IF(AJ127=\"\",\"\",AJ127)","v":""},null,{"$f":"IF(AL127=\"\",\"\",AL127)","v":""},null,null,{"$f":"IF(AO127=\"\",\"\",AO127)","v":""},null,null,{"$f":"IF(AR127=\"\",\"\",AR127)","v":""},null,null,null,null,{"$f":"IF(AW127=\"\",\"\",AW127)","v":""}]
[]
[]
[]
[null,null,null,null,null,null,null,null,null,null,null,null,null,null,null,null,null,{"$f":"IF(R131=\"\",\"\",R131)","v":""},null,{"$f":"IF(T131=\"\",\"\",T131)","v":""},null,{"$f":"IF(V131=\"\",\"\",V131)","v":""},null,{"$f":"IF(X131=\"\",\"\",X131)","v":""},null,{"$f":"IF(Z131=\"\",\"\",Z131)","v":""},null,{"$f":"IF(AB131=\"\",\"\",AB131)","v":""},null,{"$f":"IF(AD131=\"\",\"\",AD131)","v":""},null,{"$f":"IF(AF131=\"\",\"\",AF131)","v":""},null,{"$f":"IF(AH131=\"\",\"\",AH131)","v":""},null,{"$f":"IF(AJ131=\"\",\"\",AJ131)","v":""},null,{"$f":"IF(AL131=\"\",\"\",AL131)","v":""},null,null,{"$f":"IF(AO131=\"\",\"\",AO131)","v":""},null,null,{"$f":"IF(AR131=\"\",\"\",AR131)","v":""},null,null,null,null,{"$f":"IF(AW131=\"\",\"\",AW131)","v":""}]
[]
[]
[]
[null,null,null,null,null,null,null,null,null,null,null,null,null,null,null,null,null,{"$f":"IF(R135=\"\",\"\",R135)","v":""},null,{"$f":"IF(T135=\"\",\"\",T135)","v":""},null,{"$f":"IF(V135=\"\",\"\",V135)","v":""},null,{"$f":"IF(X135=\"\",\"\",X135)","v":""},null,{"$f":"IF(Z135=\"\",\"\",Z135)","v":""},null,{"$f":"IF(AB135=\"\",\"\",AB135)","v":""},null,{"$f":"IF(AD135=\"\",\"\",AD135)","v":""},null,{"$f":"IF(AF135=\"\",\"\",AF135)","v":""},null,{"$f":"IF(AH135=\"\",\"\",AH135)","v":""},null,{"$f":"IF(AJ135=\"\",\"\",AJ135)","v":""},null,{"$f":"IF(AL135=\"\",\"\",AL135)","v":""},null,null,{"$f":"IF(AO135=\"\",\"\",AO135)","v":""},null,null,{"$f":"IF(AR135=\"\",\"\",AR135)","v":""},null,null,null,null,{"$f":"IF(AW135=\"\",\"\",AW135)","v":""}]
[]
[]
[]
[null,null,null,null,null,null,null,null,null,null,null,null,null,null,null,null,null,{"$f":"IF(R139=\"\",\"\",R139)","v":""},null,{"$f":"IF(T139=\"\",\"\",T139)","v":""},null,{"$f":"IF(V139=\"\",\"\",V139)","v":""},null,{"$f":"IF(X139=\"\",\"\",X139)","v":""},null,{"$f":"IF(Z139=\"\",\"\",Z139)","v":""},null,{"$f":"IF(AB139=\"\",\"\",AB139)","v":""},null,{"$f":"IF(AD139=\"\",\"\",AD139)","v":""},null,{"$f":"IF(AF139=\"\",\"\",AF139)","v":""},null,{"$f":"IF(AH139=\"\",\"\",AH139)","v":""},null,{"$f":"IF(AJ139=\"\",\"\",AJ139)","v":""},null,{"$f":"IF(AL139=\"\",\"\",AL139)","v":""},null,null,{"$f":"IF(AO139=\"\",\"\",AO139)","v":""},null,null,{"$f":"IF(AR139=\"\",\"\",AR139)","v":""},null,null,null,null,{"$f":"IF(AW139=\"\",\"\",AW139)","v":""}]
[]
[]
[]
[null,null,null,null,null,null,null,null,null,null,null,null,null,null,null,null,null,{"$f":"IF(R143=\"\",\"\",R143)","v":""},null,{"$f":"IF(T143=\"\",\"\",T143)","v":""},null,{"$f":"IF(V143=\"\",\"\",V143)","v":""},null,{"$f":"IF(X143=\"\",\"\",X143)","v":""},null,{"$f":"IF(Z143=\"\",\"\",Z143)","v":""},null,{"$f":"IF(AB143=\"\",\"\",AB143)","v":""},null,{"$f":"IF(AD143=\"\",\"\",AD143)","v":""},null,{"$f":"IF(AF143=\"\",\"\",AF143)","v":""},null,{"$f":"IF(AH143=\"\",\"\",AH143)","v":""},null,{"$f":"IF(AJ143=\"\",\"\",AJ143)","v":""},null,{"$f":"IF(AL143=\"\",\"\",AL143)","v":""},null,null,{"$f":"IF(AO143=\"\",\"\",AO143)","v":""},null,null,{"$f":"IF(AR143=\"\",\"\",AR143)","v":""},null,null,null,null,{"$f":"IF(AW143=\"\",\"\",AW143)","v":""}]
[]
[]
[]
[null,null,null,null,null,null,null,null,null,null,null,null,null,null,null,null,null,{"$f":"IF(R147=\"\",\"\",R147)","v":""},null,{"$f":"IF(T147=\"\",\"\",T147)","v":""},null,{"$f":"IF(V147=\"\",\"\",V147)","v":""},null,{"$f":"IF(X147=\"\",\"\",X147)","v":""},null,{"$f":"IF(Z147=\"\",\"\",Z147)","v":""},null,{"$f":"IF(AB147=\"\",\"\",AB147)","v":""},null,{"$f":"IF(AD147=\"\",\"\",AD147)","v":""},null,{"$f":"IF(AF147=\"\",\"\",AF147)","v":""},null,{"$f":"IF(AH147=\"\",\"\",AH147)","v":""},null,{"$f":"IF(AJ147=\"\",\"\",AJ147)","v":""},null,{"$f":"IF(AL147=\"\",\"\",AL147)","v":""},null,null,{"$f":"IF(AO147=\"\",\"\",AO147)","v":""},null,null,{"$f":"IF(AR147=\"\",\"\",AR147)","v":""},null,null,null,null,{"$f":"IF(AW147=\"\",\"\",AW147)","v":""}]
[]
[]
[]
[null,null,null,null,null,null,null,null,null,null,null,null,null,null,null,null,null,{"$f":"IF(R151=\"\",\"\",R151)","v":""},null,{"$f":"IF(T151=\"\",\"\",T151)","v":""},null,{"$f":"IF(V151=\"\",\"\",V151)","v":""},null,{"$f":"IF(X151=\"\",\"\",X151)","v":""},null,{"$f":"IF(Z151=\"\",\"\",Z151)","v":""},null,{"$f":"IF(AB151=\"\",\"\",AB151)","v":""},null,{"$f":"IF(AD151=\"\",\"\",AD151)","v":""},null,{"$f":"IF(AF151=\"\",\"\",AF151)","v":""},null,{"$f":"IF(AH151=\"\",\"\",AH151)","v":""},null,{"$f":"IF(AJ151=\"\",\"\",AJ151)","v":""},null,{"$f":"IF(AL151=\"\",\"\",AL151)","v":""},null,null,{"$f":"IF(AO151=\"\",\"\",AO151)","v":""},null,null,{"$f":"IF(AR151=\"\",\"\",AR151)","v":""},null,null,null,null,{"$f":"IF(AW151=\"\",\"\",AW151)","v":""}]
[]
[]
[]
[null,null,null,null,null,null,null,null,null,null,null,null,null,null,null,null,null,{"$f":"IF(R155=\"\",\"\",R155)","v":""},null,{"$f":"IF(T155=\"\",\"\",T155)","v":""},null,{"$f":"IF(V155=\"\",\"\",V155)","v":""},null,{"$f":"IF(X155=\"\",\"\",X155)","v":""},null,{"$f":"IF(Z155=\"\",\"\",Z155)","v":""},null,{"$f":"IF(AB155=\"\",\"\",AB155)","v":""},null,{"$f":"IF(AD155=\"\",\"\",AD155)","v":""},null,{"$f":"IF(AF155=\"\",\"\",AF155)","v":""},null,{"$f":"IF(AH155=\"\",\"\",AH155)","v":""},null,{"$f":"IF(AJ155=\"\",\"\",AJ155)","v":""},null,{"$f":"IF(AL155=\"\",\"\",AL155)","v":""},null,null,{"$f":"IF(AO155=\"\",\"\",AO155)","v":""},null,null,{"$f":"IF(AR155=\"\",\"\",AR155)","v":""},null,null,null,null,{"$f":"IF(AW155=\"\",\"\",AW155)","v":""}]
[]
[]
[]
[null,null,null,null,null,null,null,null,null,null,null,null,null,null,null,null,null,{"$f":"IF(R159=\"\",\"\",R159)","v":""},null,{"$f":"IF(T159=\"\",\"\",T159)","v":""},null,{"$f":"IF(V159=\"\",\"\",V159)","v":""},null,{"$f":"IF(X159=\"\",\"\",X159)","v":""},null,{"$f":"IF(Z159=\"\",\"\",Z159)","v":""},null,{"$f":"IF(AB159=\"\",\"\",AB159)","v":""},null,{"$f":"IF(AD159=\"\",\"\",AD159)","v":""},null,{"$f":"IF(AF159=\"\",\"\",AF159)","v":""},null,{"$f":"IF(AH159=\"\",\"\",AH159)","v":""},null,{"$f":"IF(AJ159=\"\",\"\",AJ159)","v":""},null,{"$f":"IF(AL159=\"\",\"\",AL159)","v":""},null,null,{"$f":"IF(AO159=\"\",\"\",AO159)","v":""},null,null,{"$f":"IF(AR159=\"\",\"\",AR159)","v":""},null,null,null,null,{"$f":"IF(AW159=\"\",\"\",AW159)","v":""}]
[]
[]
[]
[null,null,null,null,null,null,null,null,null,null,null,null,null,null,null,null,null,{"$f":"IF(R163=\"\",\"\",R163)","v":""},null,{"$f":"IF(T163=\"\",\"\",T163)","v":""},null,{"$f":"IF(V163=\"\",\"\",V163)","v":""},null,{"$f":"IF(X163=\"\",\"\",X163)","v":""},null,{"$f":"IF(Z163=\"\",\"\",Z163)","v":""},null,{"$f":"IF(AB163=\"\",\"\",AB163)","v":""},null,{"$f":"IF(AD163=\"\",\"\",AD163)","v":""},null,{"$f":"IF(AF163=\"\",\"\",AF163)","v":""},null,{"$f":"IF(AH163=\"\",\"\",AH163)","v":""},null,{"$f":"IF(AJ163=\"\",\"\",AJ163)","v":""},null,{"$f":"IF(AL163=\"\",\"\",AL163)","v":""},null,null,{"$f":"IF(AO163=\"\",\"\",AO163)","v":""},null,null,{"$f":"IF(AR163=\"\",\"\",AR163)","v":""},null,null,null,null,{"$f":"IF(AW163=\"\",\"\",AW163)","v":""}]
[]
[]
[]
[null,null,null,null,null,null,null,null,null,null,null,null,null,null,null,null,null,{"$f":"IF(R167=\"\",\"\",R167)","v":""},null,{"$f":"IF(T167=\"\",\"\",T167)","v":""},null,{"$f":"IF(V167=\"\",\"\",V167)","v":""},null,{"$f":"IF(X167=\"\",\"\",X167)","v":""},null,{"$f":"IF(Z167=\"\",\"\",Z167)","v":""},null,{"$f":"IF(AB167=\"\",\"\",AB167)","v":""},null,{"$f":"IF(AD167=\"\",\"\",AD167)","v":""},null,{"$f":"IF(AF167=\"\",\"\",AF167)","v":""},null,{"$f":"IF(AH167=\"\",\"\",AH167)","v":""},null,{"$f":"IF(AJ167=\"\",\"\",AJ167)","v":""},null,{"$f":"IF(AL167=\"\",\"\",AL167)","v":""},null,null,{"$f":"IF(AO167=\"\",\"\",AO167)","v":""},null,null,{"$f":"IF(AR167=\"\",\"\",AR167)","v":""},null,null,null,null,{"$f":"IF(AW167=\"\",\"\",AW167)","v":""}]
[]
[]
[]
[null,null,null,null,null,null,null,null,null,null,null,null,null,null,null,null,null,{"$f":"IF(R171=\"\",\"\",R171)","v":""},null,{"$f":"IF(T171=\"\",\"\",T171)","v":""},null,{"$f":"IF(V171=\"\",\"\",V171)","v":""},null,{"$f":"IF(X171=\"\",\"\",X171)","v":""},null,{"$f":"IF(Z171=\"\",\"\",Z171)","v":""},null,{"$f":"IF(AB171=\"\",\"\",AB171)","v":""},null,{"$f":"IF(AD171=\"\",\"\",AD171)","v":""},null,{"$f":"IF(AF171=\"\",\"\",AF171)","v":""},null,{"$f":"IF(AH171=\"\",\"\",AH171)","v":""},null,{"$f":"IF(AJ171=\"\",\"\",AJ171)","v":""},null,{"$f":"IF(AL171=\"\",\"\",AL171)","v":""},null,null,{"$f":"IF(AO171=\"\",\"\",AO171)","v":""},null,null,{"$f":"IF(AR171=\"\",\"\",AR171)","v":""},null,null,null,null,{"$f":"IF(AW171=\"\",\"\",AW171)","v":""}]
[]
[]
[]
[null,null,null,null,null,null,null,null,null,null,null,null,null,null,null,null,null,null,null,null,null,null,null,null,null,null,null,null,null,null,null,null,null,null,null,null,null,"値引き等",null,null,null,null,null,null,null,null,null,null,{"$f":"IF(AW175=\"\",\"\",AW175)","v":""}]
[]
[]
[]
[]
[null,null,null,null,null,null,null,null,null,null,null,null,null,null,null,null,null,null,null,null,null,null,null,null,null,null,null,null,null,null,null,null,null,null,null,null,null,{"$f":"\"合計(\" & IF(税処理=2,\"税込\",\"税抜\")&\")\"","v":"合計(税抜)"},null,null,null,null,null,null,null,null,null,null,{"$f":"IF(AW180=\"\",\"\",AW180)","v":""}]

{"sheet":"細2-10","index":24,"n_rows":272,"n_cols":53,"rows_kept":272,"cut":false,"hidden":false,"merged":[[3,46,5,48],[3,49,5,51],[3,52,5,54],[8,37,11,40],[8,41,11,54],[3,41,5,45],[1,19,4,32],[2,1,5,11],[2,12,5,13],[8,1,11,5],[8,6,11,11],[8,12,11,15],[8,16,11,35],[14,43,17,47],[14,48,17,54],[14,1,17,5],[14,6,17,15],[14,17,17,20],[14,21,17,36],[18,1,21,5],[18,6,21,15],[18,17,21,18],[18,19,21,20],[14,37,17,39],[14,40,17,42],[18,21,21,36],[18,37,21,39],[18,40,21,42],[18,43,21,47],[26,1,29,5],[26,6,29,15],[26,17,29,18],[26,19,29,20],[18,48,21,54],[22,1,25,5],[22,6,25,15],[22,17,25,18],[22,19,25,20],[22,21,25,36],[26,21,29,36],[26,37,29,39],[26,40,29,42],[26,43,29,47],[22,37,25,39],[22,40,25,42],[22,43,25,47],[34,48,37,54],[26,48,29,54],[30,1,33,3],[30,4,33,5],[30,6,33,15],[30,17,33,18],[30,19,33,20],[22,48,25,54],[38,17,41,18],[38,19,41,20],[38,21,41,36],[38,37,41,39],[30,48,33,54],[34,1,37,5],[34,6,37,15],[34,17,37,18],[34,19,37,20],[34,21,37,36],[38,40,41,42],[38,43,41,47],[38,48,41,54],[30,21,33,36],[30,37,33,39],[30,40,33,42],[30,43,33,47],[34,37,37,39],[34,40,37,42],[34,43,37,47],[46,40,49,42],[46,43,49,47],[46,21,49,36],[46,37,49,39],[54,40,57,42],[54,43,57,47],[42,17,45,18],[42,19,45,20],[42,21,45,36],[42,37,45,39],[42,40,45,42],[42,43,45,47],[42,48,45,54],[46,48,49,54],[50,17,53,18],[50,19,53,20],[50,21,53,36],[50,37,53,39],[50,40,53,42],[50,43,53,47],[50,48,53,54],[46,17,49,18],[46,19,49,20],[58,17,61,18],[58,19,61,20],[58,21,61,36],[58,37,61,39],[58,40,61,42],[58,43,61,47],[58,48,61,54],[54,17,57,18],[54,19,57,20],[54,21,57,36],[54,37,57,39],[54,48,57,54],[62,40,65,42],[62,43,65,47],[62,21,65,36],[62,37,65,39],[70,40,73,42],[70,43,73,47],[70,48,73,54],[62,48,65,54],[66,17,69,18],[66,19,69,20],[66,21,69,36],[66,37,69,39],[66,40,69,42],[66,43,69,47],[66,48,69,54],[62,17,65,18],[62,19,65,20],[74,17,77,18],[74,19,77,20],[74,21,77,36],[74,37,77,39],[74,40,77,42],[74,43,77,47],[74,48,77,54],[70,17,73,18],[70,19,73,20],[70,21,73,36],[70,37,73,39],[78,48,81,54],[82,37,85,47],[82,48,85,54],[78,37,81,39],[78,40,81,42],[85,11,90,16],[85,17,90,25],[78,43,81,47],[83,26,84,30],[83,31,84,35],[78,17,81,18],[78,19,81,20],[78,21,81,36],[85,26,90,30],[85,31,90,35],[83,1,84,4],[83,5,84,10],[87,37,90,47],[83,11,84,16],[83,17,84,25],[95,46,97,48],[85,1,90,4],[85,5,90,10],[87,48,90,54],[95,49,97,51],[95,52,97,54],[100,1,103,5],[100,6,103,11],[100,12,103,15],[100,16,103,35],[100,37,103,40],[100,41,103,54],[93,19,96,32],[94,1,97,11],[94,12,97,13],[95,41,97,45],[106,37,109,39],[106,40,109,42],[106,43,109,47],[106,48,109,54],[106,1,109,5],[106,6,109,15],[106,17,109,20],[106,21,109,36],[110,21,113,36],[110,37,113,39],[110,40,113,42],[110,43,113,47],[110,1,113,5],[110,6,113,15],[110,17,113,18],[110,19,113,20],[110,48,113,54],[114,1,117,5],[114,6,117,15],[114,17,117,18],[114,19,117,20],[114,21,117,36],[114,37,117,39],[114,40,117,42],[114,43,117,47],[114,48,117,54],[118,21,121,36],[118,37,121,39],[118,40,121,42],[118,43,121,47],[118,1,121,5],[118,6,121,15],[118,17,121,18],[118,19,121,20],[118,48,121,54],[122,48,125,54],[126,1,129,5],[126,6,129,15],[126,17,129,18],[126,19,129,20],[126,21,129,36],[126,37,129,39],[126,40,129,42],[126,43,129,47],[126,48,129,54],[122,1,125,3],[122,4,125,5],[122,6,125,15],[122,17,125,18],[122,19,125,20],[122,21,125,36],[122,37,125,39],[122,40,125,42],[122,43,125,47],[130,40,133,42],[130,43,133,47],[130,21,133,36],[130,37,133,39],[138,40,141,42],[138,43,141,47],[138,48,141,54],[130,48,133,54],[134,17,137,18],[134,19,137,20],[134,21,137,36],[134,37,137,39],[134,40,137,42],[134,43,137,47],[134,48,137,54],[130,17,133,18],[130,19,133,20],[142,17,145,18],[142,19,145,20],[142,21,145,36],[142,37,145,39],[142,40,145,42],[142,43,145,47],[142,48,145,54],[138,17,141,18],[138,19,141,20],[138,21,141,36],[138,37,141,39],[154,48,157,54],[146,48,149,54],[150,17,153,18],[150,19,153,20],[150,21,153,36],[150,37,153,39],[150,40,153,42],[150,43,153,47],[150,48,153,54],[146,17,149,18],[146,19,149,20],[154,17,157,18],[154,19,157,20],[154,21,157,36],[154,37,157,39],[146,40,149,42],[146,43,149,47],[146,21,149,36],[146,37,149,39],[154,40,157,42],[154,43,157,47],[170,48,173,54],[174,37,177,47],[174,48,177,54],[170,17,173,18],[170,19,173,20],[158,17,161,18],[158,19,161,20],[158,21,161,36],[158,37,161,39],[158,40,161,42],[158,43,161,47],[158,48,161,54],[170,21,173,36],[170,37,173,39],[179,48,182,54],[185,19,188,32],[186,1,189,11],[186,12,189,13],[187,41,189,45],[192,37,195,40],[192,41,195,54],[162,40,165,42],[162,43,165,47],[162,21,165,36],[162,37,165,39],[187,46,189,48],[162,48,165,54],[166,17,169,18],[166,19,169,20],[166,21,169,36],[166,37,169,39],[166,40,169,42],[166,43,169,47],[166,48,169,54],[162,17,165,18],[162,19,165,20],[187,49,189,51],[187,52,189,54],[179,37,182,47],[170,40,173,42],[170,43,173,47],[198,48,201,54],[202,21,205,36],[202,37,205,39],[202,40,205,42],[202,43,205,47],[202,1,205,5],[202,6,205,15],[202,17,205,18],[202,19,205,20],[202,48,205,54],[198,1,201,5],[198,6,201,15],[198,17,201,20],[198,21,201,36],[198,37,201,39],[198,40,201,42],[198,43,201,47],[192,1,195,5],[192,6,195,11],[192,12,195,15],[192,16,195,35],[206,1,209,5],[206,6,209,15],[206,17,209,18],[206,19,209,20],[206,21,209,36],[206,37,209,39],[206,40,209,42],[206,43,209,47],[206,48,209,54],[210,21,213,36],[210,37,213,39],[210,40,213,42],[210,43,213,47],[210,1,213,5],[210,6,213,15],[210,17,213,18],[210,19,213,20],[210,48,213,54],[214,48,217,54],[218,1,221,5],[218,6,221,15],[218,17,221,18],[218,19,221,20],[218,21,221,36],[218,37,221,39],[218,40,221,42],[218,43,221,47],[218,48,221,54],[214,1,217,3],[214,4,217,5],[214,6,217,15],[214,17,217,18],[214,19,217,20],[214,21,217,36],[214,37,217,39],[214,40,217,42],[214,43,217,47],[222,40,225,42],[222,43,225,47],[222,21,225,36],[222,37,225,39],[230,40,233,42],[230,43,233,47],[230,48,233,54],[222,48,225,54],[226,17,229,18],[226,19,229,20],[226,21,229,36],[226,37,229,39],[226,40,229,42],[226,43,229,47],[226,48,229,54],[222,17,225,18],[222,19,225,20],[234,17,237,18],[234,19,237,20],[234,21,237,36],[234,37,237,39],[234,40,237,42],[234,43,237,47],[234,48,237,54],[230,17,233,18],[230,19,233,20],[230,21,233,36],[230,37,233,39],[242,17,245,18],[242,19,245,20],[242,21,245,36],[242,37,245,39],[242,40,245,42],[242,43,245,47],[242,48,245,54],[238,17,241,18],[238,19,241,20],[254,37,257,39],[238,40,241,42],[238,43,241,47],[238,21,241,36],[238,37,241,39],[246,40,249,42],[246,43,249,47],[246,48,249,54],[238,48,241,54],[250,17,253,18],[250,19,253,20],[250,21,253,36],[250,37,253,39],[250,40,253,42],[250,43,253,47],[250,48,253,54],[246,17,249,18],[246,19,249,20],[246,21,249,36],[246,37,249,39],[271,37,274,47],[254,48,257,54],[258,17,261,18],[258,19,261,20],[258,21,261,36],[258,37,261,39],[258,40,261,42],[258,43,261,47],[258,48,261,54],[254,17,257,18],[254,19,257,20],[271,48,274,54],[262,40,265,42],[262,43,265,47],[262,48,265,54],[266,37,269,47],[266,48,269,54],[262,17,265,18],[262,19,265,20],[262,21,265,36],[262,37,265,39],[254,40,257,42],[254,43,257,47],[254,21,257,36]]}
[]
[null,null,null,null,null,null,null,null,null,null,null,null,null,null,null,null,null,null,null,"請求書明細書 (正)"]
[null,"株 式 会 社 種 村 建 設",null,null,null,null,null,null,null,null,null,null,"御中"]
[null,null,null,null,null,null,null,null,null,null,null,null,null,null,null,null,null,null,null,null,null,null,null,null,null,null,null,null,null,null,null,null,null,null,null,null,null,null,null,null,null,"請求年月日",null,null,null,null,{"$f":"年","v":23},null,null,{"$f":"月","v":5},null,null,{"$f":"日","v":31}]
[]
[]
[]
[]
[null,"工事番号",null,null,null,null,null,null,null,null,null,null,"工事名",null,null,null,null,null,null,null,null,null,null,null,null,null,null,null,null,null,null,null,null,null,null,null,null,"業者名",null,null,null,{"$f":"社名","v":"例：㈱種村建設"}]
[]
[]
[]
[]
[]
[null,"注文番号",null,null,null,null,null,null,null,null,null,null,null,null,null,null,null,"月　日",null,null,null,"摘要･品名",null,null,null,null,null,null,null,null,null,null,null,null,null,null,null,"数 量",null,null,"単位",null,null,"単価",null,null,null,null,{"$f":"\"金額(\" & IF(税処理=2,\"税込\",\"税抜\")&\")\"","v":"金額(税抜)"}]
[]
[]
[]
[null,"契約金額",null,null,null,null,null,null,null,null,null,null,null,null,null,null,null,null,null,null,null,null,null,null,null,null,null,null,null,null,null,null,null,null,null,null,null,null,null,null,null,null,null,null,null,null,null,null,{"$f":"IF(V19=\"\",\"\",AL19*AR19)","v":""}]
[]
[]
[]
[null,"増減額",null,null,null,null,null,null,null,null,null,null,null,null,null,null,null,null,null,null,null,null,null,null,null,null,null,null,null,null,null,null,null,null,null,null,null,null,null,null,null,null,null,null,null,null,null,null,{"$f":"IF(V23=\"\",\"\",AL23*AR23)","v":""}]
[]
[]
[]
[null,"前回までの\n請求額",null,null,null,null,null,null,null,null,null,null,null,null,null,null,null,null,null,null,null,null,null,null,null,null,null,null,null,null,null,null,null,null,null,null,null,null,null,null,null,null,null,null,null,null,null,null,{"$f":"IF(V27=\"\",\"\",AL27*AR27)","v":""}]
[]
[]
[]
[null,"今回\n請求額",null,null,null,null,null,null,null,null,null,null,null,null,null,null,null,null,null,null,null,null,null,null,null,null,null,null,null,null,null,null,null,null,null,null,null,null,null,null,null,null,null,null,null,null,null,null,{"$f":"IF(V31=\"\",\"\",AL31*AR31)","v":""}]
[]
[]
[]
[null,"差引残高",null,null,null,null,{"$f":"IF(G19=\"\",\"\",G19+G23-G27-G31)","v":""},null,null,null,null,null,null,null,null,null,null,null,null,null,null,null,null,null,null,null,null,null,null,null,null,null,null,null,null,null,null,null,null,null,null,null,null,null,null,null,null,null,{"$f":"IF(V35=\"\",\"\",AL35*AR35)","v":""}]
[]
[]
[]
[null,null,null,null,null,null,null,null,null,null,null,null,null,null,null,null,null,null,null,null,null,null,null,null,null,null,null,null,null,null,null,null,null,null,null,null,null,null,null,null,null,null,null,null,null,null,null,null,{"$f":"IF(V39=\"\",\"\",AL39*AR39)","v":""}]
[]
[]
[]
[null,null,null,null,null,null,null,null,null,null,null,null,null,null,null,null,null,null,null,null,null,null,null,null,null,null,null,null,null,null,null,null,null,null,null,null,null,null,null,null,null,null,null,null,null,null,null,null,{"$f":"IF(V43=\"\",\"\",AL43*AR43)","v":""}]
[]
[]
[]
[null,null,null,null,null,null,null,null,null,null,null,null,null,null,null,null,null,null,null,null,null,null,null,null,null,null,null,null,null,null,null,null,null,null,null,null,null,null,null,null,null,null,null,null,null,null,null,null,{"$f":"IF(V47=\"\",\"\",AL47*AR47)","v":""}]
[]
[]
[]
[null,null,null,null,null,null,null,null,null,null,null,null,null,null,null,null,null,null,null,null,null,null,null,null,null,null,null,null,null,null,null,null,null,null,null,null,null,null,null,null,null,null,null,null,null,null,null,null,{"$f":"IF(V51=\"\",\"\",AL51*AR51)","v":""}]
[]
[]
[]
[null,null,null,null,null,null,null,null,null,null,null,null,null,null,null,null,null,null,null,null,null,null,null,null,null,null,null,null,null,null,null,null,null,null,null,null,null,null,null,null,null,null,null,null,null,null,null,null,{"$f":"IF(V55=\"\",\"\",AL55*AR55)","v":""}]
[]
[]
[]
[null,null,null,null,null,null,null,null,null,null,null,null,null,null,null,null,null,null,null,null,null,null,null,null,null,null,null,null,null,null,null,null,null,null,null,null,null,null,null,null,null,null,null,null,null,null,null,null,{"$f":"IF(V59=\"\",\"\",AL59*AR59)","v":""}]
[]
[]
[]
[null,null,null,null,null,null,null,null,null,null,null,null,null,null,null,null,null,null,null,null,null,null,null,null,null,null,null,null,null,null,null,null,null,null,null,null,null,null,null,null,null,null,null,null,null,null,null,null,{"$f":"IF(V63=\"\",\"\",AL63*AR63)","v":""}]
[]
[]
[]
[null,null,null,null,null,null,null,null,null,null,null,null,null,null,null,null,null,null,null,null,null,null,null,null,null,null,null,null,null,null,null,null,null,null,null,null,null,null,null,null,null,null,null,null,null,null,null,null,{"$f":"IF(V67=\"\",\"\",AL67*AR67)","v":""}]
[]
[]
[]
[null,null,null,null,null,null,null,null,null,null,null,null,null,null,null,null,null,null,null,null,null,null,null,null,null,null,null,null,null,null,null,null,null,null,null,null,null,null,null,null,null,null,null,null,null,null,null,null,{"$f":"IF(V71=\"\",\"\",AL71*AR71)","v":""}]
[]
[]
[]
[null,null,null,null,null,null,null,null,null,null,null,null,null,null,null,null,null,null,null,null,null,null,null,null,null,null,null,null,null,null,null,null,null,null,null,null,null,null,null,null,null,null,null,null,null,null,null,null,{"$f":"IF(V75=\"\",\"\",AL75*AR75)","v":""}]
[]
[]
[]
[null,null,null,null,null,null,null,null,null,null,null,null,null,null,null,null,null,null,null,null,null,null,null,null,null,null,null,null,null,null,null,null,null,null,null,null,null,null,null,null,null,null,null,null,null,null,null,null,{"$f":"IF(V79=\"\",\"\",AL79*AR79)","v":""}]
[]
[]
[]
[null,null,null,null,null,null,null,null,null,null,null,null,null,null,null,null,null,null,null,null,null,null,null,null,null,null,null,null,null,null,null,null,null,null,null,null,null,"値引き等"]
[null,"社長",null,null,null,"専務",null,null,null,null,null,"常務",null,null,null,null,null,"部長･工場長",null,null,null,null,null,null,null,null,"担当者",null,null,null,null,"受付"]
[]
[]
[]
[null,null,null,null,null,null,null,null,null,null,null,null,null,null,null,null,null,null,null,null,null,null,null,null,null,null,null,null,null,null,null,null,null,null,null,null,null,{"$f":"\"合計(\" & IF(税処理=2,\"税込\",\"税抜\")&\")\"","v":"合計(税抜)"},null,null,null,null,null,null,null,null,null,null,{"$f":"IF(AW19=\"\",\"\",SUM(AW19:AW79)+AW83)","v":""}]
[]
[]
[]
[]
[]
[null,null,null,null,null,null,null,null,null,null,null,null,null,null,null,null,null,null,null,"請求明細書 (現場控)"]
[null,"株 式 会 社 種 村 建 設",null,null,null,null,null,null,null,null,null,null,"御中"]
[null,null,null,null,null,null,null,null,null,null,null,null,null,null,null,null,null,null,null,null,null,null,null,null,null,null,null,null,null,null,null,null,null,null,null,null,null,null,null,null,null,"請求年月日",null,null,null,null,{"$f":"IF(AU4=\"\",\"\",AU4)","v":23},null,null,{"$f":"IF(AX4=\"\",\"\",AX4)","v":5},null,null,{"$f":"IF(BA4=\"\",\"\",BA4)","v":31}]
[]
[]
[]
[]
[null,"工事番号",null,null,null,null,{"$f":"IF(G9=\"\",\"\",G9)","v":""},null,null,null,null,null,"工事名",null,null,null,{"$f":"IF(Q9=\"\",\"\",Q9)","v":""},null,null,null,null,null,null,null,null,null,null,null,null,null,null,null,null,null,null,null,null,"業者名",null,null,null,{"$f":"IF(AP9=\"\",\"\",AP9)","v":"例：㈱種村建設"}]
[]
[]
[]
[]
[]
[null,"注文番号",null,null,null,null,{"$f":"IF(G15=\"\",\"\",G15)","v":""},null,null,null,null,null,null,null,null,null,null,"月　日",null,null,null,"摘要･品名",null,null,null,null,null,null,null,null,null,null,null,null,null,null,null,"数 量",null,null,"単位",null,null,"単価",null,null,null,null,{"$f":"\"金額(\" & IF(税処理=2,\"税込\",\"税抜\")&\")\"","v":"金額(税抜)"}]
[]
[]
[]
[null,"契約金額",null,null,null,null,{"$f":"IF(G19=\"\",\"\",G19)","v":""},null,null,null,null,null,null,null,null,null,null,{"$f":"IF(R19=\"\",\"\",R19)","v":""},null,{"$f":"IF(T19=\"\",\"\",T19)","v":""},null,{"$f":"IF(V19=\"\",\"\",V19)","v":""},null,{"$f":"IF(X19=\"\",\"\",X19)","v":""},null,{"$f":"IF(Z19=\"\",\"\",Z19)","v":""},null,{"$f":"IF(AB19=\"\",\"\",AB19)","v":""},null,{"$f":"IF(AD19=\"\",\"\",AD19)","v":""},null,{"$f":"IF(AF19=\"\",\"\",AF19)","v":""},null,{"$f":"IF(AH19=\"\",\"\",AH19)","v":""},null,{"$f":"IF(AJ19=\"\",\"\",AJ19)","v":""},null,{"$f":"IF(AL19=\"\",\"\",AL19)","v":""},null,null,{"$f":"IF(AO19=\"\",\"\",AO19)","v":""},null,null,{"$f":"IF(AR19=\"\",\"\",AR19)","v":""},null,null,null,null,{"$f":"IF(AW19=\"\",\"\",AW19)","v":""}]
[]
[]
[]
[null,"増減額",null,null,null,null,{"$f":"IF(G23=\"\",\"\",G23)","v":""},null,null,null,null,null,null,null,null,null,null,{"$f":"IF(R23=\"\",\"\",R23)","v":""},null,{"$f":"IF(T23=\"\",\"\",T23)","v":""},null,{"$f":"IF(V23=\"\",\"\",V23)","v":""},null,{"$f":"IF(X23=\"\",\"\",X23)","v":""},null,{"$f":"IF(Z23=\"\",\"\",Z23)","v":""},null,{"$f":"IF(AB23=\"\",\"\",AB23)","v":""},null,{"$f":"IF(AD23=\"\",\"\",AD23)","v":""},null,{"$f":"IF(AF23=\"\",\"\",AF23)","v":""},null,{"$f":"IF(AH23=\"\",\"\",AH23)","v":""},null,{"$f":"IF(AJ23=\"\",\"\",AJ23)","v":""},null,{"$f":"IF(AL23=\"\",\"\",AL23)","v":""},null,null,{"$f":"IF(AO23=\"\",\"\",AO23)","v":""},null,null,{"$f":"IF(AR23=\"\",\"\",AR23)","v":""},null,null,null,null,{"$f":"IF(AW23=\"\",\"\",AW23)","v":""}]
[]
[]
[]
[null,"前回までの\n請求額",null,null,null,null,{"$f":"IF(G27=\"\",\"\",G27)","v":""},null,null,null,null,null,null,null,null,null,null,{"$f":"IF(R27=\"\",\"\",R27)","v":""},null,{"$f":"IF(T27=\"\",\"\",T27)","v":""},null,{"$f":"IF(V27=\"\",\"\",V27)","v":""},null,{"$f":"IF(X27=\"\",\"\",X27)","v":""},null,{"$f":"IF(Z27=\"\",\"\",Z27)","v":""},null,{"$f":"IF(AB27=\"\",\"\",AB27)","v":""},null,{"$f":"IF(AD27=\"\",\"\",AD27)","v":""},null,{"$f":"IF(AF27=\"\",\"\",AF27)","v":""},null,{"$f":"IF(AH27=\"\",\"\",AH27)","v":""},null,{"$f":"IF(AJ27=\"\",\"\",AJ27)","v":""},null,{"$f":"IF(AL27=\"\",\"\",AL27)","v":""},null,null,{"$f":"IF(AO27=\"\",\"\",AO27)","v":""},null,null,{"$f":"IF(AR27=\"\",\"\",AR27)","v":""},null,null,null,null,{"$f":"IF(AW27=\"\",\"\",AW27)","v":""}]
[]
[]
[]
[null,"今回\n請求額",null,null,{"$f":"IF(E31=\"\",\"\",E31)","v":""},null,{"$f":"IF(G31=\"\",\"\",G31)","v":""},null,null,null,null,null,null,null,null,null,null,{"$f":"IF(R31=\"\",\"\",R31)","v":""},null,{"$f":"IF(T31=\"\",\"\",T31)","v":""},null,{"$f":"IF(V31=\"\",\"\",V31)","v":""},null,{"$f":"IF(X31=\"\",\"\",X31)","v":""},null,{"$f":"IF(Z31=\"\",\"\",Z31)","v":""},null,{"$f":"IF(AB31=\"\",\"\",AB31)","v":""},null,{"$f":"IF(AD31=\"\",\"\",AD31)","v":""},null,{"$f":"IF(AF31=\"\",\"\",AF31)","v":""},null,{"$f":"IF(AH31=\"\",\"\",AH31)","v":""},null,{"$f":"IF(AJ31=\"\",\"\",AJ31)","v":""},null,{"$f":"IF(AL31=\"\",\"\",AL31)","v":""},null,null,{"$f":"IF(AO31=\"\",\"\",AO31)","v":""},null,null,{"$f":"IF(AR31=\"\",\"\",AR31)","v":""},null,null,null,null,{"$f":"IF(AW31=\"\",\"\",AW31)","v":""}]
[]
[]
[]
[null,"差引残高",null,null,null,null,{"$f":"IF(G111=\"\",\"\",G111+G115-G119-G123)","v":""},null,null,null,null,null,null,null,null,null,null,{"$f":"IF(R35=\"\",\"\",R35)","v":""},null,{"$f":"IF(T35=\"\",\"\",T35)","v":""},null,{"$f":"IF(V35=\"\",\"\",V35)","v":""},null,{"$f":"IF(X35=\"\",\"\",X35)","v":""},null,{"$f":"IF(Z35=\"\",\"\",Z35)","v":""},null,{"$f":"IF(AB35=\"\",\"\",AB35)","v":""},null,{"$f":"IF(AD35=\"\",\"\",AD35)","v":""},null,{"$f":"IF(AF35=\"\",\"\",AF35)","v":""},null,{"$f":"IF(AH35=\"\",\"\",AH35)","v":""},null,{"$f":"IF(AJ35=\"\",\"\",AJ35)","v":""},null,{"$f":"IF(AL35=\"\",\"\",AL35)","v":""},null,null,{"$f":"IF(AO35=\"\",\"\",AO35)","v":""},null,null,{"$f":"IF(AR35=\"\",\"\",AR35)","v":""},null,null,null,null,{"$f":"IF(AW35=\"\",\"\",AW35)","v":""}]
[]
[]
[]
[null,null,null,null,null,null,null,null,null,null,null,null,null,null,null,null,null,{"$f":"IF(R39=\"\",\"\",R39)","v":""},null,{"$f":"IF(T39=\"\",\"\",T39)","v":""},null,{"$f":"IF(V39=\"\",\"\",V39)","v":""},null,{"$f":"IF(X39=\"\",\"\",X39)","v":""},null,{"$f":"IF(Z39=\"\",\"\",Z39)","v":""},null,{"$f":"IF(AB39=\"\",\"\",AB39)","v":""},null,{"$f":"IF(AD39=\"\",\"\",AD39)","v":""},null,{"$f":"IF(AF39=\"\",\"\",AF39)","v":""},null,{"$f":"IF(AH39=\"\",\"\",AH39)","v":""},null,{"$f":"IF(AJ39=\"\",\"\",AJ39)","v":""},null,{"$f":"IF(AL39=\"\",\"\",AL39)","v":""},null,null,{"$f":"IF(AO39=\"\",\"\",AO39)","v":""},null,null,{"$f":"IF(AR39=\"\",\"\",AR39)","v":""},null,null,null,null,{"$f":"IF(AW39=\"\",\"\",AW39)","v":""}]
[]
[]
[]
[null,null,null,null,null,null,null,null,null,null,null,null,null,null,null,null,null,{"$f":"IF(R43=\"\",\"\",R43)","v":""},null,{"$f":"IF(T43=\"\",\"\",T43)","v":""},null,{"$f":"IF(V43=\"\",\"\",V43)","v":""},null,{"$f":"IF(X43=\"\",\"\",X43)","v":""},null,{"$f":"IF(Z43=\"\",\"\",Z43)","v":""},null,{"$f":"IF(AB43=\"\",\"\",AB43)","v":""},null,{"$f":"IF(AD43=\"\",\"\",AD43)","v":""},null,{"$f":"IF(AF43=\"\",\"\",AF43)","v":""},null,{"$f":"IF(AH43=\"\",\"\",AH43)","v":""},null,{"$f":"IF(AJ43=\"\",\"\",AJ43)","v":""},null,{"$f":"IF(AL43=\"\",\"\",AL43)","v":""},null,null,{"$f":"IF(AO43=\"\",\"\",AO43)","v":""},null,null,{"$f":"IF(AR43=\"\",\"\",AR43)","v":""},null,null,null,null,{"$f":"IF(AW43=\"\",\"\",AW43)","v":""}]
[]
[]
[]
[null,null,null,null,null,null,null,null,null,null,null,null,null,null,null,null,null,{"$f":"IF(R47=\"\",\"\",R47)","v":""},null,{"$f":"IF(T47=\"\",\"\",T47)","v":""},null,{"$f":"IF(V47=\"\",\"\",V47)","v":""},null,{"$f":"IF(X47=\"\",\"\",X47)","v":""},null,{"$f":"IF(Z47=\"\",\"\",Z47)","v":""},null,{"$f":"IF(AB47=\"\",\"\",AB47)","v":""},null,{"$f":"IF(AD47=\"\",\"\",AD47)","v":""},null,{"$f":"IF(AF47=\"\",\"\",AF47)","v":""},null,{"$f":"IF(AH47=\"\",\"\",AH47)","v":""},null,{"$f":"IF(AJ47=\"\",\"\",AJ47)","v":""},null,{"$f":"IF(AL47=\"\",\"\",AL47)","v":""},null,null,{"$f":"IF(AO47=\"\",\"\",AO47)","v":""},null,null,{"$f":"IF(AR47=\"\",\"\",AR47)","v":""},null,null,null,null,{"$f":"IF(AW47=\"\",\"\",AW47)","v":""}]
[]
[]
[]
[null,null,null,null,null,null,null,null,null,null,null,null,null,null,null,null,null,{"$f":"IF(R51=\"\",\"\",R51)","v":""},null,{"$f":"IF(T51=\"\",\"\",T51)","v":""},null,{"$f":"IF(V51=\"\",\"\",V51)","v":""},null,{"$f":"IF(X51=\"\",\"\",X51)","v":""},null,{"$f":"IF(Z51=\"\",\"\",Z51)","v":""},null,{"$f":"IF(AB51=\"\",\"\",AB51)","v":""},null,{"$f":"IF(AD51=\"\",\"\",AD51)","v":""},null,{"$f":"IF(AF51=\"\",\"\",AF51)","v":""},null,{"$f":"IF(AH51=\"\",\"\",AH51)","v":""},null,{"$f":"IF(AJ51=\"\",\"\",AJ51)","v":""},null,{"$f":"IF(AL51=\"\",\"\",AL51)","v":""},null,null,{"$f":"IF(AO51=\"\",\"\",AO51)","v":""},null,null,{"$f":"IF(AR51=\"\",\"\",AR51)","v":""},null,null,null,null,{"$f":"IF(AW51=\"\",\"\",AW51)","v":""}]
[]
[]
[]
[null,null,null,null,null,null,null,null,null,null,null,null,null,null,null,null,null,{"$f":"IF(R55=\"\",\"\",R55)","v":""},null,{"$f":"IF(T55=\"\",\"\",T55)","v":""},null,{"$f":"IF(V55=\"\",\"\",V55)","v":""},null,{"$f":"IF(X55=\"\",\"\",X55)","v":""},null,{"$f":"IF(Z55=\"\",\"\",Z55)","v":""},null,{"$f":"IF(AB55=\"\",\"\",AB55)","v":""},null,{"$f":"IF(AD55=\"\",\"\",AD55)","v":""},null,{"$f":"IF(AF55=\"\",\"\",AF55)","v":""},null,{"$f":"IF(AH55=\"\",\"\",AH55)","v":""},null,{"$f":"IF(AJ55=\"\",\"\",AJ55)","v":""},null,{"$f":"IF(AL55=\"\",\"\",AL55)","v":""},null,null,{"$f":"IF(AO55=\"\",\"\",AO55)","v":""},null,null,{"$f":"IF(AR55=\"\",\"\",AR55)","v":""},null,null,null,null,{"$f":"IF(AW55=\"\",\"\",AW55)","v":""}]
[]
[]
[]
[null,null,null,null,null,null,null,null,null,null,null,null,null,null,null,null,null,{"$f":"IF(R59=\"\",\"\",R59)","v":""},null,{"$f":"IF(T59=\"\",\"\",T59)","v":""},null,{"$f":"IF(V59=\"\",\"\",V59)","v":""},null,{"$f":"IF(X59=\"\",\"\",X59)","v":""},null,{"$f":"IF(Z59=\"\",\"\",Z59)","v":""},null,{"$f":"IF(AB59=\"\",\"\",AB59)","v":""},null,{"$f":"IF(AD59=\"\",\"\",AD59)","v":""},null,{"$f":"IF(AF59=\"\",\"\",AF59)","v":""},null,{"$f":"IF(AH59=\"\",\"\",AH59)","v":""},null,{"$f":"IF(AJ59=\"\",\"\",AJ59)","v":""},null,{"$f":"IF(AL59=\"\",\"\",AL59)","v":""},null,null,{"$f":"IF(AO59=\"\",\"\",AO59)","v":""},null,null,{"$f":"IF(AR59=\"\",\"\",AR59)","v":""},null,null,null,null,{"$f":"IF(AW59=\"\",\"\",AW59)","v":""}]
[]
[]
[]
[null,null,null,null,null,null,null,null,null,null,null,null,null,null,null,null,null,{"$f":"IF(R63=\"\",\"\",R63)","v":""},null,{"$f":"IF(T63=\"\",\"\",T63)","v":""},null,{"$f":"IF(V63=\"\",\"\",V63)","v":""},null,{"$f":"IF(X63=\"\",\"\",X63)","v":""},null,{"$f":"IF(Z63=\"\",\"\",Z63)","v":""},null,{"$f":"IF(AB63=\"\",\"\",AB63)","v":""},null,{"$f":"IF(AD63=\"\",\"\",AD63)","v":""},null,{"$f":"IF(AF63=\"\",\"\",AF63)","v":""},null,{"$f":"IF(AH63=\"\",\"\",AH63)","v":""},null,{"$f":"IF(AJ63=\"\",\"\",AJ63)","v":""},null,{"$f":"IF(AL63=\"\",\"\",AL63)","v":""},null,null,{"$f":"IF(AO63=\"\",\"\",AO63)","v":""},null,null,{"$f":"IF(AR63=\"\",\"\",AR63)","v":""},null,null,null,null,{"$f":"IF(AW63=\"\",\"\",AW63)","v":""}]
[]
[]
[]
[null,null,null,null,null,null,null,null,null,null,null,null,null,null,null,null,null,{"$f":"IF(R67=\"\",\"\",R67)","v":""},null,{"$f":"IF(T67=\"\",\"\",T67)","v":""},null,{"$f":"IF(V67=\"\",\"\",V67)","v":""},null,{"$f":"IF(X67=\"\",\"\",X67)","v":""},null,{"$f":"IF(Z67=\"\",\"\",Z67)","v":""},null,{"$f":"IF(AB67=\"\",\"\",AB67)","v":""},null,{"$f":"IF(AD67=\"\",\"\",AD67)","v":""},null,{"$f":"IF(AF67=\"\",\"\",AF67)","v":""},null,{"$f":"IF(AH67=\"\",\"\",AH67)","v":""},null,{"$f":"IF(AJ67=\"\",\"\",AJ67)","v":""},null,{"$f":"IF(AL67=\"\",\"\",AL67)","v":""},null,null,{"$f":"IF(AO67=\"\",\"\",AO67)","v":""},null,null,{"$f":"IF(AR67=\"\",\"\",AR67)","v":""},null,null,null,null,{"$f":"IF(AW67=\"\",\"\",AW67)","v":""}]
[]
[]
[]
[null,null,null,null,null,null,null,null,null,null,null,null,null,null,null,null,null,{"$f":"IF(R71=\"\",\"\",R71)","v":""},null,{"$f":"IF(T71=\"\",\"\",T71)","v":""},null,{"$f":"IF(V71=\"\",\"\",V71)","v":""},null,{"$f":"IF(X71=\"\",\"\",X71)","v":""},null,{"$f":"IF(Z71=\"\",\"\",Z71)","v":""},null,{"$f":"IF(AB71=\"\",\"\",AB71)","v":""},null,{"$f":"IF(AD71=\"\",\"\",AD71)","v":""},null,{"$f":"IF(AF71=\"\",\"\",AF71)","v":""},null,{"$f":"IF(AH71=\"\",\"\",AH71)","v":""},null,{"$f":"IF(AJ71=\"\",\"\",AJ71)","v":""},null,{"$f":"IF(AL71=\"\",\"\",AL71)","v":""},null,null,{"$f":"IF(AO71=\"\",\"\",AO71)","v":""},null,null,{"$f":"IF(AR71=\"\",\"\",AR71)","v":""},null,null,null,null,{"$f":"IF(AW71=\"\",\"\",AW71)","v":""}]
[]
[]
[]
[null,null,null,null,null,null,null,null,null,null,null,null,null,null,null,null,null,{"$f":"IF(R75=\"\",\"\",R75)","v":""},null,{"$f":"IF(T75=\"\",\"\",T75)","v":""},null,{"$f":"IF(V75=\"\",\"\",V75)","v":""},null,{"$f":"IF(X75=\"\",\"\",X75)","v":""},null,{"$f":"IF(Z75=\"\",\"\",Z75)","v":""},null,{"$f":"IF(AB75=\"\",\"\",AB75)","v":""},null,{"$f":"IF(AD75=\"\",\"\",AD75)","v":""},null,{"$f":"IF(AF75=\"\",\"\",AF75)","v":""},null,{"$f":"IF(AH75=\"\",\"\",AH75)","v":""},null,{"$f":"IF(AJ75=\"\",\"\",AJ75)","v":""},null,{"$f":"IF(AL75=\"\",\"\",AL75)","v":""},null,null,{"$f":"IF(AO75=\"\",\"\",AO75)","v":""},null,null,{"$f":"IF(AR75=\"\",\"\",AR75)","v":""},null,null,null,null,{"$f":"IF(AW75=\"\",\"\",AW75)","v":""}]
[]
[]
[]
[null,null,null,null,null,null,null,null,null,null,null,null,null,null,null,null,null,{"$f":"IF(R79=\"\",\"\",R79)","v":""},null,{"$f":"IF(T79=\"\",\"\",T79)","v":""},null,{"$f":"IF(V79=\"\",\"\",V79)","v":""},null,{"$f":"IF(X79=\"\",\"\",X79)","v":""},null,{"$f":"IF(Z79=\"\",\"\",Z79)","v":""},null,{"$f":"IF(AB79=\"\",\"\",AB79)","v":""},null,{"$f":"IF(AD79=\"\",\"\",AD79)","v":""},null,{"$f":"IF(AF79=\"\",\"\",AF79)","v":""},null,{"$f":"IF(AH79=\"\",\"\",AH79)","v":""},null,{"$f":"IF(AJ79=\"\",\"\",AJ79)","v":""},null,{"$f":"IF(AL79=\"\",\"\",AL79)","v":""},null,null,{"$f":"IF(AO79=\"\",\"\",AO79)","v":""},null,null,{"$f":"IF(AR79=\"\",\"\",AR79)","v":""},null,null,null,null,{"$f":"IF(AW79=\"\",\"\",AW79)","v":""}]
[]
[]
[]
[null,null,null,null,null,null,null,null,null,null,null,null,null,null,null,null,null,null,null,null,null,null,null,null,null,null,null,null,null,null,null,null,null,null,null,null,null,"値引き等",null,null,null,null,null,null,null,null,null,null,{"$f":"IF(AW83=\"\",\"\",AW83)","v":""}]
[]
[]
[]
[]
[null,null,null,null,null,null,null,null,null,null,null,null,null,null,null,null,null,null,null,null,null,null,null,null,null,null,null,null,null,null,null,null,null,null,null,null,null,{"$f":"\"合計(\" & IF(税処理=2,\"税込\",\"税抜\")&\")\"","v":"合計(税抜)"},null,null,null,null,null,null,null,null,null,null,{"$f":"IF(AW88=\"\",\"\",AW88)","v":""}]
[]
[]
[]
[]
[]
[null,null,null,null,null,null,null,null,null,null,null,null,null,null,null,null,null,null,null,"請求明細書 (貴社控)"]
[null,"株 式 会 社 種 村 建 設",null,null,null,null,null,null,null,null,null,null,"御中"]
[null,null,null,null,null,null,null,null,null,null,null,null,null,null,null,null,null,null,null,null,null,null,null,null,null,null,null,null,null,null,null,null,null,null,null,null,null,null,null,null,null,"請求年月日",null,null,null,null,{"$f":"IF(AU96=\"\",\"\",AU96)","v":23},null,null,{"$f":"IF(AX96=\"\",\"\",AX96)","v":5},null,null,{"$f":"IF(BA96=\"\",\"\",BA96)","v":31}]
[]
[]
[]
[]
[null,"工事番号",null,null,null,null,{"$f":"IF(G101=\"\",\"\",G101)","v":""},null,null,null,null,null,"工事名",null,null,null,{"$f":"IF(Q101=\"\",\"\",Q101)","v":""},null,null,null,null,null,null,null,null,null,null,null,null,null,null,null,null,null,null,null,null,"業者名",null,null,null,{"$f":"IF(AP101=\"\",\"\",AP101)","v":"例：㈱種村建設"}]
[]
[]
[]
[]
[]
[null,"注文番号",null,null,null,null,{"$f":"IF(G107=\"\",\"\",G107)","v":""},null,null,null,null,null,null,null,null,null,null,"月　日",null,null,null,"摘要･品名",null,null,null,null,null,null,null,null,null,null,null,null,null,null,null,"数 量",null,null,"単位",null,null,"単価",null,null,null,null,{"$f":"\"金額(\" & IF(税処理=2,\"税込\",\"税抜\")&\")\"","v":"金額(税抜)"}]
[]
[]
[]
[null,"契約金額",null,null,null,null,{"$f":"IF(G111=\"\",\"\",G111)","v":""},null,null,null,null,null,null,null,null,null,null,{"$f":"IF(R111=\"\",\"\",R111)","v":""},null,{"$f":"IF(T111=\"\",\"\",T111)","v":""},null,{"$f":"IF(V111=\"\",\"\",V111)","v":""},null,{"$f":"IF(X111=\"\",\"\",X111)","v":""},null,{"$f":"IF(Z111=\"\",\"\",Z111)","v":""},null,{"$f":"IF(AB111=\"\",\"\",AB111)","v":""},null,{"$f":"IF(AD111=\"\",\"\",AD111)","v":""},null,{"$f":"IF(AF111=\"\",\"\",AF111)","v":""},null,{"$f":"IF(AH111=\"\",\"\",AH111)","v":""},null,{"$f":"IF(AJ111=\"\",\"\",AJ111)","v":""},null,{"$f":"IF(AL111=\"\",\"\",AL111)","v":""},null,null,{"$f":"IF(AO111=\"\",\"\",AO111)","v":""},null,null,{"$f":"IF(AR111=\"\",\"\",AR111)","v":""},null,null,null,null,{"$f":"IF(AW111=\"\",\"\",AW111)","v":""}]
[]
[]
[]
[null,"増減額",null,null,null,null,{"$f":"IF(G115=\"\",\"\",G115)","v":""},null,null,null,null,null,null,null,null,null,null,{"$f":"IF(R115=\"\",\"\",R115)","v":""},null,{"$f":"IF(T115=\"\",\"\",T115)","v":""},null,{"$f":"IF(V115=\"\",\"\",V115)","v":""},null,{"$f":"IF(X115=\"\",\"\",X115)","v":""},null,{"$f":"IF(Z115=\"\",\"\",Z115)","v":""},null,{"$f":"IF(AB115=\"\",\"\",AB115)","v":""},null,{"$f":"IF(AD115=\"\",\"\",AD115)","v":""},null,{"$f":"IF(AF115=\"\",\"\",AF115)","v":""},null,{"$f":"IF(AH115=\"\",\"\",AH115)","v":""},null,{"$f":"IF(AJ115=\"\",\"\",AJ115)","v":""},null,{"$f":"IF(AL115=\"\",\"\",AL115)","v":""},null,null,{"$f":"IF(AO115=\"\",\"\",AO115)","v":""},null,null,{"$f":"IF(AR115=\"\",\"\",AR115)","v":""},null,null,null,null,{"$f":"IF(AW115=\"\",\"\",AW115)","v":""}]
[]
[]
[]
[null,"前回までの\n請求額",null,null,null,null,{"$f":"IF(G119=\"\",\"\",G119)","v":""},null,null,null,null,null,null,null,null,null,null,{"$f":"IF(R119=\"\",\"\",R119)","v":""},null,{"$f":"IF(T119=\"\",\"\",T119)","v":""},null,{"$f":"IF(V119=\"\",\"\",V119)","v":""},null,{"$f":"IF(X119=\"\",\"\",X119)","v":""},null,{"$f":"IF(Z119=\"\",\"\",Z119)","v":""},null,{"$f":"IF(AB119=\"\",\"\",AB119)","v":""},null,{"$f":"IF(AD119=\"\",\"\",AD119)","v":""},null,{"$f":"IF(AF119=\"\",\"\",AF119)","v":""},null,{"$f":"IF(AH119=\"\",\"\",AH119)","v":""},null,{"$f":"IF(AJ119=\"\",\"\",AJ119)","v":""},null,{"$f":"IF(AL119=\"\",\"\",AL119)","v":""},null,null,{"$f":"IF(AO119=\"\",\"\",AO119)","v":""},null,null,{"$f":"IF(AR119=\"\",\"\",AR119)","v":""},null,null,null,null,{"$f":"IF(AW119=\"\",\"\",AW119)","v":""}]
[]
[]
[]
[null,"今回\n請求額",null,null,{"$f":"IF(E31=\"\",\"\",E31)","v":""},null,{"$f":"IF(G123=\"\",\"\",G123)","v":""},null,null,null,null,null,null,null,null,null,null,{"$f":"IF(R123=\"\",\"\",R123)","v":""},null,{"$f":"IF(T123=\"\",\"\",T123)","v":""},null,{"$f":"IF(V123=\"\",\"\",V123)","v":""},null,{"$f":"IF(X123=\"\",\"\",X123)","v":""},null,{"$f":"IF(Z123=\"\",\"\",Z123)","v":""},null,{"$f":"IF(AB123=\"\",\"\",AB123)","v":""},null,{"$f":"IF(AD123=\"\",\"\",AD123)","v":""},null,{"$f":"IF(AF123=\"\",\"\",AF123)","v":""},null,{"$f":"IF(AH123=\"\",\"\",AH123)","v":""},null,{"$f":"IF(AJ123=\"\",\"\",AJ123)","v":""},null,{"$f":"IF(AL123=\"\",\"\",AL123)","v":""},null,null,{"$f":"IF(AO123=\"\",\"\",AO123)","v":""},null,null,{"$f":"IF(AR123=\"\",\"\",AR123)","v":""},null,null,null,null,{"$f":"IF(AW123=\"\",\"\",AW123)","v":""}]
[]
[]
[]
[null,"差引残高",null,null,null,null,{"$f":"IF(G203=\"\",\"\",G203+G207-G211-G215)","v":""},null,null,null,null,null,null,null,null,null,null,{"$f":"IF(R127=\"\",\"\",R127)","v":""},null,{"$f":"IF(T127=\"\",\"\",T127)","v":""},null,{"$f":"IF(V127=\"\",\"\",V127)","v":""},null,{"$f":"IF(X127=\"\",\"\",X127)","v":""},null,{"$f":"IF(Z127=\"\",\"\",Z127)","v":""},null,{"$f":"IF(AB127=\"\",\"\",AB127)","v":""},null,{"$f":"IF(AD127=\"\",\"\",AD127)","v":""},null,{"$f":"IF(AF127=\"\",\"\",AF127)","v":""},null,{"$f":"IF(AH127=\"\",\"\",AH127)","v":""},null,{"$f":"IF(AJ127=\"\",\"\",AJ127)","v":""},null,{"$f":"IF(AL127=\"\",\"\",AL127)","v":""},null,null,{"$f":"IF(AO127=\"\",\"\",AO127)","v":""},null,null,{"$f":"IF(AR127=\"\",\"\",AR127)","v":""},null,null,null,null,{"$f":"IF(AW127=\"\",\"\",AW127)","v":""}]
[]
[]
[]
[null,null,null,null,null,null,null,null,null,null,null,null,null,null,null,null,null,{"$f":"IF(R131=\"\",\"\",R131)","v":""},null,{"$f":"IF(T131=\"\",\"\",T131)","v":""},null,{"$f":"IF(V131=\"\",\"\",V131)","v":""},null,{"$f":"IF(X131=\"\",\"\",X131)","v":""},null,{"$f":"IF(Z131=\"\",\"\",Z131)","v":""},null,{"$f":"IF(AB131=\"\",\"\",AB131)","v":""},null,{"$f":"IF(AD131=\"\",\"\",AD131)","v":""},null,{"$f":"IF(AF131=\"\",\"\",AF131)","v":""},null,{"$f":"IF(AH131=\"\",\"\",AH131)","v":""},null,{"$f":"IF(AJ131=\"\",\"\",AJ131)","v":""},null,{"$f":"IF(AL131=\"\",\"\",AL131)","v":""},null,null,{"$f":"IF(AO131=\"\",\"\",AO131)","v":""},null,null,{"$f":"IF(AR131=\"\",\"\",AR131)","v":""},null,null,null,null,{"$f":"IF(AW131=\"\",\"\",AW131)","v":""}]
[]
[]
[]
[null,null,null,null,null,null,null,null,null,null,null,null,null,null,null,null,null,{"$f":"IF(R135=\"\",\"\",R135)","v":""},null,{"$f":"IF(T135=\"\",\"\",T135)","v":""},null,{"$f":"IF(V135=\"\",\"\",V135)","v":""},null,{"$f":"IF(X135=\"\",\"\",X135)","v":""},null,{"$f":"IF(Z135=\"\",\"\",Z135)","v":""},null,{"$f":"IF(AB135=\"\",\"\",AB135)","v":""},null,{"$f":"IF(AD135=\"\",\"\",AD135)","v":""},null,{"$f":"IF(AF135=\"\",\"\",AF135)","v":""},null,{"$f":"IF(AH135=\"\",\"\",AH135)","v":""},null,{"$f":"IF(AJ135=\"\",\"\",AJ135)","v":""},null,{"$f":"IF(AL135=\"\",\"\",AL135)","v":""},null,null,{"$f":"IF(AO135=\"\",\"\",AO135)","v":""},null,null,{"$f":"IF(AR135=\"\",\"\",AR135)","v":""},null,null,null,null,{"$f":"IF(AW135=\"\",\"\",AW135)","v":""}]
[]
[]
[]
[null,null,null,null,null,null,null,null,null,null,null,null,null,null,null,null,null,{"$f":"IF(R139=\"\",\"\",R139)","v":""},null,{"$f":"IF(T139=\"\",\"\",T139)","v":""},null,{"$f":"IF(V139=\"\",\"\",V139)","v":""},null,{"$f":"IF(X139=\"\",\"\",X139)","v":""},null,{"$f":"IF(Z139=\"\",\"\",Z139)","v":""},null,{"$f":"IF(AB139=\"\",\"\",AB139)","v":""},null,{"$f":"IF(AD139=\"\",\"\",AD139)","v":""},null,{"$f":"IF(AF139=\"\",\"\",AF139)","v":""},null,{"$f":"IF(AH139=\"\",\"\",AH139)","v":""},null,{"$f":"IF(AJ139=\"\",\"\",AJ139)","v":""},null,{"$f":"IF(AL139=\"\",\"\",AL139)","v":""},null,null,{"$f":"IF(AO139=\"\",\"\",AO139)","v":""},null,null,{"$f":"IF(AR139=\"\",\"\",AR139)","v":""},null,null,null,null,{"$f":"IF(AW139=\"\",\"\",AW139)","v":""}]
[]
[]
[]
[null,null,null,null,null,null,null,null,null,null,null,null,null,null,null,null,null,{"$f":"IF(R143=\"\",\"\",R143)","v":""},null,{"$f":"IF(T143=\"\",\"\",T143)","v":""},null,{"$f":"IF(V143=\"\",\"\",V143)","v":""},null,{"$f":"IF(X143=\"\",\"\",X143)","v":""},null,{"$f":"IF(Z143=\"\",\"\",Z143)","v":""},null,{"$f":"IF(AB143=\"\",\"\",AB143)","v":""},null,{"$f":"IF(AD143=\"\",\"\",AD143)","v":""},null,{"$f":"IF(AF143=\"\",\"\",AF143)","v":""},null,{"$f":"IF(AH143=\"\",\"\",AH143)","v":""},null,{"$f":"IF(AJ143=\"\",\"\",AJ143)","v":""},null,{"$f":"IF(AL143=\"\",\"\",AL143)","v":""},null,null,{"$f":"IF(AO143=\"\",\"\",AO143)","v":""},null,null,{"$f":"IF(AR143=\"\",\"\",AR143)","v":""},null,null,null,null,{"$f":"IF(AW143=\"\",\"\",AW143)","v":""}]
[]
[]
[]
[null,null,null,null,null,null,null,null,null,null,null,null,null,null,null,null,null,{"$f":"IF(R147=\"\",\"\",R147)","v":""},null,{"$f":"IF(T147=\"\",\"\",T147)","v":""},null,{"$f":"IF(V147=\"\",\"\",V147)","v":""},null,{"$f":"IF(X147=\"\",\"\",X147)","v":""},null,{"$f":"IF(Z147=\"\",\"\",Z147)","v":""},null,{"$f":"IF(AB147=\"\",\"\",AB147)","v":""},null,{"$f":"IF(AD147=\"\",\"\",AD147)","v":""},null,{"$f":"IF(AF147=\"\",\"\",AF147)","v":""},null,{"$f":"IF(AH147=\"\",\"\",AH147)","v":""},null,{"$f":"IF(AJ147=\"\",\"\",AJ147)","v":""},null,{"$f":"IF(AL147=\"\",\"\",AL147)","v":""},null,null,{"$f":"IF(AO147=\"\",\"\",AO147)","v":""},null,null,{"$f":"IF(AR147=\"\",\"\",AR147)","v":""},null,null,null,null,{"$f":"IF(AW147=\"\",\"\",AW147)","v":""}]
[]
[]
[]
[null,null,null,null,null,null,null,null,null,null,null,null,null,null,null,null,null,{"$f":"IF(R151=\"\",\"\",R151)","v":""},null,{"$f":"IF(T151=\"\",\"\",T151)","v":""},null,{"$f":"IF(V151=\"\",\"\",V151)","v":""},null,{"$f":"IF(X151=\"\",\"\",X151)","v":""},null,{"$f":"IF(Z151=\"\",\"\",Z151)","v":""},null,{"$f":"IF(AB151=\"\",\"\",AB151)","v":""},null,{"$f":"IF(AD151=\"\",\"\",AD151)","v":""},null,{"$f":"IF(AF151=\"\",\"\",AF151)","v":""},null,{"$f":"IF(AH151=\"\",\"\",AH151)","v":""},null,{"$f":"IF(AJ151=\"\",\"\",AJ151)","v":""},null,{"$f":"IF(AL151=\"\",\"\",AL151)","v":""},null,null,{"$f":"IF(AO151=\"\",\"\",AO151)","v":""},null,null,{"$f":"IF(AR151=\"\",\"\",AR151)","v":""},null,null,null,null,{"$f":"IF(AW151=\"\",\"\",AW151)","v":""}]
[]
[]
[]
[null,null,null,null,null,null,null,null,null,null,null,null,null,null,null,null,null,{"$f":"IF(R155=\"\",\"\",R155)","v":""},null,{"$f":"IF(T155=\"\",\"\",T155)","v":""},null,{"$f":"IF(V155=\"\",\"\",V155)","v":""},null,{"$f":"IF(X155=\"\",\"\",X155)","v":""},null,{"$f":"IF(Z155=\"\",\"\",Z155)","v":""},null,{"$f":"IF(AB155=\"\",\"\",AB155)","v":""},null,{"$f":"IF(AD155=\"\",\"\",AD155)","v":""},null,{"$f":"IF(AF155=\"\",\"\",AF155)","v":""},null,{"$f":"IF(AH155=\"\",\"\",AH155)","v":""},null,{"$f":"IF(AJ155=\"\",\"\",AJ155)","v":""},null,{"$f":"IF(AL155=\"\",\"\",AL155)","v":""},null,null,{"$f":"IF(AO155=\"\",\"\",AO155)","v":""},null,null,{"$f":"IF(AR155=\"\",\"\",AR155)","v":""},null,null,null,null,{"$f":"IF(AW155=\"\",\"\",AW155)","v":""}]
[]
[]
[]
[null,null,null,null,null,null,null,null,null,null,null,null,null,null,null,null,null,{"$f":"IF(R159=\"\",\"\",R159)","v":""},null,{"$f":"IF(T159=\"\",\"\",T159)","v":""},null,{"$f":"IF(V159=\"\",\"\",V159)","v":""},null,{"$f":"IF(X159=\"\",\"\",X159)","v":""},null,{"$f":"IF(Z159=\"\",\"\",Z159)","v":""},null,{"$f":"IF(AB159=\"\",\"\",AB159)","v":""},null,{"$f":"IF(AD159=\"\",\"\",AD159)","v":""},null,{"$f":"IF(AF159=\"\",\"\",AF159)","v":""},null,{"$f":"IF(AH159=\"\",\"\",AH159)","v":""},null,{"$f":"IF(AJ159=\"\",\"\",AJ159)","v":""},null,{"$f":"IF(AL159=\"\",\"\",AL159)","v":""},null,null,{"$f":"IF(AO159=\"\",\"\",AO159)","v":""},null,null,{"$f":"IF(AR159=\"\",\"\",AR159)","v":""},null,null,null,null,{"$f":"IF(AW159=\"\",\"\",AW159)","v":""}]
[]
[]
[]
[null,null,null,null,null,null,null,null,null,null,null,null,null,null,null,null,null,{"$f":"IF(R163=\"\",\"\",R163)","v":""},null,{"$f":"IF(T163=\"\",\"\",T163)","v":""},null,{"$f":"IF(V163=\"\",\"\",V163)","v":""},null,{"$f":"IF(X163=\"\",\"\",X163)","v":""},null,{"$f":"IF(Z163=\"\",\"\",Z163)","v":""},null,{"$f":"IF(AB163=\"\",\"\",AB163)","v":""},null,{"$f":"IF(AD163=\"\",\"\",AD163)","v":""},null,{"$f":"IF(AF163=\"\",\"\",AF163)","v":""},null,{"$f":"IF(AH163=\"\",\"\",AH163)","v":""},null,{"$f":"IF(AJ163=\"\",\"\",AJ163)","v":""},null,{"$f":"IF(AL163=\"\",\"\",AL163)","v":""},null,null,{"$f":"IF(AO163=\"\",\"\",AO163)","v":""},null,null,{"$f":"IF(AR163=\"\",\"\",AR163)","v":""},null,null,null,null,{"$f":"IF(AW163=\"\",\"\",AW163)","v":""}]
[]
[]
[]
[null,null,null,null,null,null,null,null,null,null,null,null,null,null,null,null,null,{"$f":"IF(R167=\"\",\"\",R167)","v":""},null,{"$f":"IF(T167=\"\",\"\",T167)","v":""},null,{"$f":"IF(V167=\"\",\"\",V167)","v":""},null,{"$f":"IF(X167=\"\",\"\",X167)","v":""},null,{"$f":"IF(Z167=\"\",\"\",Z167)","v":""},null,{"$f":"IF(AB167=\"\",\"\",AB167)","v":""},null,{"$f":"IF(AD167=\"\",\"\",AD167)","v":""},null,{"$f":"IF(AF167=\"\",\"\",AF167)","v":""},null,{"$f":"IF(AH167=\"\",\"\",AH167)","v":""},null,{"$f":"IF(AJ167=\"\",\"\",AJ167)","v":""},null,{"$f":"IF(AL167=\"\",\"\",AL167)","v":""},null,null,{"$f":"IF(AO167=\"\",\"\",AO167)","v":""},null,null,{"$f":"IF(AR167=\"\",\"\",AR167)","v":""},null,null,null,null,{"$f":"IF(AW167=\"\",\"\",AW167)","v":""}]
[]
[]
[]
[null,null,null,null,null,null,null,null,null,null,null,null,null,null,null,null,null,{"$f":"IF(R171=\"\",\"\",R171)","v":""},null,{"$f":"IF(T171=\"\",\"\",T171)","v":""},null,{"$f":"IF(V171=\"\",\"\",V171)","v":""},null,{"$f":"IF(X171=\"\",\"\",X171)","v":""},null,{"$f":"IF(Z171=\"\",\"\",Z171)","v":""},null,{"$f":"IF(AB171=\"\",\"\",AB171)","v":""},null,{"$f":"IF(AD171=\"\",\"\",AD171)","v":""},null,{"$f":"IF(AF171=\"\",\"\",AF171)","v":""},null,{"$f":"IF(AH171=\"\",\"\",AH171)","v":""},null,{"$f":"IF(AJ171=\"\",\"\",AJ171)","v":""},null,{"$f":"IF(AL171=\"\",\"\",AL171)","v":""},null,null,{"$f":"IF(AO171=\"\",\"\",AO171)","v":""},null,null,{"$f":"IF(AR171=\"\",\"\",AR171)","v":""},null,null,null,null,{"$f":"IF(AW171=\"\",\"\",AW171)","v":""}]
[]
[]
[]
[null,null,null,null,null,null,null,null,null,null,null,null,null,null,null,null,null,null,null,null,null,null,null,null,null,null,null,null,null,null,null,null,null,null,null,null,null,"値引き等",null,null,null,null,null,null,null,null,null,null,{"$f":"IF(AW175=\"\",\"\",AW175)","v":""}]
[]
[]
[]
[]
[null,null,null,null,null,null,null,null,null,null,null,null,null,null,null,null,null,null,null,null,null,null,null,null,null,null,null,null,null,null,null,null,null,null,null,null,null,{"$f":"\"合計(\" & IF(税処理=2,\"税込\",\"税抜\")&\")\"","v":"合計(税抜)"},null,null,null,null,null,null,null,null,null,null,{"$f":"IF(AW180=\"\",\"\",AW180)","v":""}]

{"sheet":"細2-11","index":25,"n_rows":272,"n_cols":53,"rows_kept":272,"cut":false,"hidden":false,"merged":[[266,37,269,47],[266,48,269,54],[258,48,261,54],[262,17,265,18],[262,19,265,20],[262,21,265,36],[262,37,265,39],[258,43,261,47],[271,37,274,47],[271,48,274,54],[262,40,265,42],[262,43,265,47],[262,48,265,54],[258,17,261,18],[258,19,261,20],[258,21,261,36],[258,37,261,39],[258,40,261,42],[250,48,253,54],[254,17,257,18],[254,19,257,20],[254,21,257,36],[254,37,257,39],[254,40,257,42],[254,43,257,47],[254,48,257,54],[250,17,253,18],[250,19,253,20],[250,21,253,36],[250,37,253,39],[250,40,253,42],[250,43,253,47],[242,48,245,54],[246,17,249,18],[246,19,249,20],[246,21,249,36],[246,37,249,39],[246,40,249,42],[246,43,249,47],[246,48,249,54],[242,17,245,18],[242,19,245,20],[242,21,245,36],[242,37,245,39],[242,40,245,42],[242,43,245,47],[234,48,237,54],[238,17,241,18],[238,19,241,20],[238,21,241,36],[238,37,241,39],[238,40,241,42],[238,43,241,47],[238,48,241,54],[234,17,237,18],[234,19,237,20],[234,21,237,36],[234,37,237,39],[234,40,237,42],[234,43,237,47],[222,17,225,18],[222,19,225,20],[222,21,225,36],[222,37,225,39],[222,40,225,42],[222,43,225,47],[222,48,225,54],[226,48,229,54],[230,17,233,18],[230,19,233,20],[230,21,233,36],[230,37,233,39],[230,40,233,42],[230,43,233,47],[230,48,233,54],[226,17,229,18],[226,19,229,20],[226,21,229,36],[226,37,229,39],[226,40,229,42],[226,43,229,47],[218,1,221,5],[218,6,221,15],[218,17,221,18],[218,19,221,20],[218,21,221,36],[218,37,221,39],[218,40,221,42],[218,43,221,47],[218,48,221,54],[210,40,213,42],[210,43,213,47],[210,48,213,54],[214,1,217,3],[214,4,217,5],[214,6,217,15],[214,17,217,18],[214,19,217,20],[214,21,217,36],[214,37,217,39],[210,1,213,5],[210,6,213,15],[210,17,213,18],[210,19,213,20],[210,21,213,36],[210,37,213,39],[214,40,217,42],[214,43,217,47],[214,48,217,54],[206,1,209,5],[206,6,209,15],[206,17,209,18],[206,19,209,20],[206,21,209,36],[206,37,209,39],[206,40,209,42],[206,43,209,47],[206,48,209,54],[198,43,201,47],[198,48,201,54],[202,1,205,5],[202,6,205,15],[202,17,205,18],[202,19,205,20],[202,21,205,36],[202,37,205,39],[202,40,205,42],[202,43,205,47],[198,1,201,5],[198,6,201,15],[198,17,201,20],[198,21,201,36],[198,37,201,39],[198,40,201,42],[202,48,205,54],[187,52,189,54],[192,1,195,5],[192,6,195,11],[192,12,195,15],[192,16,195,35],[192,37,195,40],[192,41,195,54],[185,19,188,32],[186,1,189,11],[186,12,189,13],[187,41,189,45],[187,46,189,48],[187,49,189,51],[174,37,177,47],[174,48,177,54],[179,37,182,47],[179,48,182,54],[170,17,173,18],[170,19,173,20],[170,21,173,36],[170,37,173,39],[170,40,173,42],[170,43,173,47],[170,48,173,54],[166,17,169,18],[166,19,169,20],[162,43,165,47],[162,48,165,54],[158,17,161,18],[158,19,161,20],[158,21,161,36],[158,37,161,39],[158,40,161,42],[162,17,165,18],[162,19,165,20],[162,21,165,36],[162,37,165,39],[162,40,165,42],[166,48,169,54],[158,43,161,47],[166,21,169,36],[166,37,169,39],[166,40,169,42],[166,43,169,47],[158,48,161,54],[154,48,157,54],[150,17,153,18],[150,19,153,20],[146,43,149,47],[146,48,149,54],[142,17,145,18],[142,19,145,20],[142,21,145,36],[142,37,145,39],[142,40,145,42],[154,17,157,18],[154,19,157,20],[154,21,157,36],[154,37,157,39],[154,40,157,42],[154,43,157,47],[146,17,149,18],[146,19,149,20],[146,21,149,36],[146,37,149,39],[146,40,149,42],[150,48,153,54],[142,43,145,47],[150,21,153,36],[150,37,153,39],[150,40,153,42],[150,43,153,47],[142,48,145,54],[130,48,133,54],[134,48,137,54],[130,17,133,18],[130,19,133,20],[130,21,133,36],[130,37,133,39],[130,40,133,42],[130,43,133,47],[138,48,141,54],[134,17,137,18],[134,19,137,20],[134,21,137,36],[134,37,137,39],[134,40,137,42],[134,43,137,47],[138,17,141,18],[138,19,141,20],[138,21,141,36],[138,37,141,39],[138,40,141,42],[138,43,141,47],[126,1,129,5],[126,6,129,15],[126,17,129,18],[126,19,129,20],[126,21,129,36],[126,37,129,39],[126,40,129,42],[126,43,129,47],[126,48,129,54],[118,40,121,42],[118,43,121,47],[118,48,121,54],[122,1,125,3],[122,4,125,5],[122,6,125,15],[122,17,125,18],[122,19,125,20],[122,21,125,36],[122,37,125,39],[118,1,121,5],[118,6,121,15],[118,17,121,18],[118,19,121,20],[118,21,121,36],[118,37,121,39],[122,40,125,42],[122,43,125,47],[122,48,125,54],[114,1,117,5],[114,6,117,15],[114,17,117,18],[114,19,117,20],[114,21,117,36],[114,37,117,39],[114,40,117,42],[114,43,117,47],[114,48,117,54],[106,43,109,47],[106,48,109,54],[110,1,113,5],[110,6,113,15],[110,17,113,18],[110,19,113,20],[110,21,113,36],[110,37,113,39],[110,40,113,42],[110,43,113,47],[106,1,109,5],[106,6,109,15],[106,17,109,20],[106,21,109,36],[106,37,109,39],[106,40,109,42],[110,48,113,54],[95,49,97,51],[95,52,97,54],[100,1,103,5],[100,6,103,11],[100,12,103,15],[100,16,103,35],[100,37,103,40],[100,41,103,54],[93,19,96,32],[94,1,97,11],[94,12,97,13],[95,41,97,45],[83,1,84,4],[83,5,84,10],[87,37,90,47],[83,11,84,16],[83,17,84,25],[95,46,97,48],[85,1,90,4],[85,5,90,10],[85,11,90,16],[85,17,90,25],[78,43,81,47],[83,26,84,30],[83,31,84,35],[78,17,81,18],[78,19,81,20],[78,21,81,36],[85,26,90,30],[85,31,90,35],[74,48,77,54],[87,48,90,54],[78,48,81,54],[82,37,85,47],[82,48,85,54],[78,37,81,39],[78,40,81,42],[74,17,77,18],[74,19,77,20],[74,21,77,36],[74,37,77,39],[74,40,77,42],[74,43,77,47],[66,48,69,54],[70,17,73,18],[70,19,73,20],[70,21,73,36],[70,37,73,39],[70,40,73,42],[70,43,73,47],[70,48,73,54],[66,17,69,18],[66,19,69,20],[66,21,69,36],[66,37,69,39],[66,40,69,42],[66,43,69,47],[58,48,61,54],[62,17,65,18],[62,19,65,20],[62,21,65,36],[62,37,65,39],[62,40,65,42],[62,43,65,47],[62,48,65,54],[58,17,61,18],[58,19,61,20],[58,21,61,36],[58,37,61,39],[58,40,61,42],[58,43,61,47],[50,48,53,54],[54,17,57,18],[54,19,57,20],[54,21,57,36],[54,37,57,39],[54,40,57,42],[54,43,57,47],[54,48,57,54],[50,17,53,18],[50,19,53,20],[50,21,53,36],[50,37,53,39],[50,40,53,42],[50,43,53,47],[38,17,41,18],[38,19,41,20],[38,21,41,36],[38,37,41,39],[38,40,41,42],[38,43,41,47],[38,48,41,54],[42,48,45,54],[46,17,49,18],[46,19,49,20],[46,21,49,36],[46,37,49,39],[46,40,49,42],[46,43,49,47],[46,48,49,54],[42,17,45,18],[42,19,45,20],[42,21,45,36],[42,37,45,39],[42,40,45,42],[42,43,45,47],[34,1,37,5],[34,6,37,15],[34,17,37,18],[34,19,37,20],[34,21,37,36],[34,37,37,39],[34,40,37,42],[34,43,37,47],[34,48,37,54],[26,40,29,42],[26,43,29,47],[26,48,29,54],[30,1,33,3],[30,4,33,5],[30,6,33,15],[30,17,33,18],[30,19,33,20],[30,21,33,36],[30,37,33,39],[26,1,29,5],[26,6,29,15],[26,17,29,18],[26,19,29,20],[26,21,29,36],[26,37,29,39],[30,40,33,42],[30,43,33,47],[30,48,33,54],[22,1,25,5],[22,6,25,15],[22,17,25,18],[22,19,25,20],[22,21,25,36],[22,37,25,39],[22,40,25,42],[22,43,25,47],[22,48,25,54],[14,43,17,47],[14,48,17,54],[18,1,21,5],[18,6,21,15],[18,17,21,18],[18,19,21,20],[18,21,21,36],[18,37,21,39],[18,40,21,42],[18,43,21,47],[14,1,17,5],[14,6,17,15],[14,17,17,20],[14,21,17,36],[14,37,17,39],[14,40,17,42],[18,48,21,54],[3,52,5,54],[8,37,11,40],[8,41,11,54],[3,41,5,45],[1,19,4,32],[2,1,5,11],[2,12,5,13],[8,1,11,5],[8,6,11,11],[8,12,11,15],[8,16,11,35],[3,46,5,48],[3,49,5,51]]}
[]
[null,null,null,null,null,null,null,null,null,null,null,null,null,null,null,null,null,null,null,"請求書明細書 (正)"]
[null,"株 式 会 社 種 村 建 設",null,null,null,null,null,null,null,null,null,null,"御中"]
[null,null,null,null,null,null,null,null,null,null,null,null,null,null,null,null,null,null,null,null,null,null,null,null,null,null,null,null,null,null,null,null,null,null,null,null,null,null,null,null,null,"請求年月日",null,null,null,null,{"$f":"年","v":23},null,null,{"$f":"月","v":5},null,null,{"$f":"日","v":31}]
[]
[]
[]
[]
[null,"工事番号",null,null,null,null,null,null,null,null,null,null,"工事名",null,null,null,null,null,null,null,null,null,null,null,null,null,null,null,null,null,null,null,null,null,null,null,null,"業者名",null,null,null,{"$f":"社名","v":"例：㈱種村建設"}]
[]
[]
[]
[]
[]
[null,"注文番号",null,null,null,null,null,null,null,null,null,null,null,null,null,null,null,"月　日",null,null,null,"摘要･品名",null,null,null,null,null,null,null,null,null,null,null,null,null,null,null,"数 量",null,null,"単位",null,null,"単価",null,null,null,null,{"$f":"\"金額(\" & IF(税処理=2,\"税込\",\"税抜\")&\")\"","v":"金額(税抜)"}]
[]
[]
[]
[null,"契約金額",null,null,null,null,null,null,null,null,null,null,null,null,null,null,null,null,null,null,null,null,null,null,null,null,null,null,null,null,null,null,null,null,null,null,null,null,null,null,null,null,null,null,null,null,null,null,{"$f":"IF(V19=\"\",\"\",AL19*AR19)","v":""}]
[]
[]
[]
[null,"増減額",null,null,null,null,null,null,null,null,null,null,null,null,null,null,null,null,null,null,null,null,null,null,null,null,null,null,null,null,null,null,null,null,null,null,null,null,null,null,null,null,null,null,null,null,null,null,{"$f":"IF(V23=\"\",\"\",AL23*AR23)","v":""}]
[]
[]
[]
[null,"前回までの\n請求額",null,null,null,null,null,null,null,null,null,null,null,null,null,null,null,null,null,null,null,null,null,null,null,null,null,null,null,null,null,null,null,null,null,null,null,null,null,null,null,null,null,null,null,null,null,null,{"$f":"IF(V27=\"\",\"\",AL27*AR27)","v":""}]
[]
[]
[]
[null,"今回\n請求額",null,null,null,null,null,null,null,null,null,null,null,null,null,null,null,null,null,null,null,null,null,null,null,null,null,null,null,null,null,null,null,null,null,null,null,null,null,null,null,null,null,null,null,null,null,null,{"$f":"IF(V31=\"\",\"\",AL31*AR31)","v":""}]
[]
[]
[]
[null,"差引残高",null,null,null,null,{"$f":"IF(G19=\"\",\"\",G19+G23-G27-G31)","v":""},null,null,null,null,null,null,null,null,null,null,null,null,null,null,null,null,null,null,null,null,null,null,null,null,null,null,null,null,null,null,null,null,null,null,null,null,null,null,null,null,null,{"$f":"IF(V35=\"\",\"\",AL35*AR35)","v":""}]
[]
[]
[]
[null,null,null,null,null,null,null,null,null,null,null,null,null,null,null,null,null,null,null,null,null,null,null,null,null,null,null,null,null,null,null,null,null,null,null,null,null,null,null,null,null,null,null,null,null,null,null,null,{"$f":"IF(V39=\"\",\"\",AL39*AR39)","v":""}]
[]
[]
[]
[null,null,null,null,null,null,null,null,null,null,null,null,null,null,null,null,null,null,null,null,null,null,null,null,null,null,null,null,null,null,null,null,null,null,null,null,null,null,null,null,null,null,null,null,null,null,null,null,{"$f":"IF(V43=\"\",\"\",AL43*AR43)","v":""}]
[]
[]
[]
[null,null,null,null,null,null,null,null,null,null,null,null,null,null,null,null,null,null,null,null,null,null,null,null,null,null,null,null,null,null,null,null,null,null,null,null,null,null,null,null,null,null,null,null,null,null,null,null,{"$f":"IF(V47=\"\",\"\",AL47*AR47)","v":""}]
[]
[]
[]
[null,null,null,null,null,null,null,null,null,null,null,null,null,null,null,null,null,null,null,null,null,null,null,null,null,null,null,null,null,null,null,null,null,null,null,null,null,null,null,null,null,null,null,null,null,null,null,null,{"$f":"IF(V51=\"\",\"\",AL51*AR51)","v":""}]
[]
[]
[]
[null,null,null,null,null,null,null,null,null,null,null,null,null,null,null,null,null,null,null,null,null,null,null,null,null,null,null,null,null,null,null,null,null,null,null,null,null,null,null,null,null,null,null,null,null,null,null,null,{"$f":"IF(V55=\"\",\"\",AL55*AR55)","v":""}]
[]
[]
[]
[null,null,null,null,null,null,null,null,null,null,null,null,null,null,null,null,null,null,null,null,null,null,null,null,null,null,null,null,null,null,null,null,null,null,null,null,null,null,null,null,null,null,null,null,null,null,null,null,{"$f":"IF(V59=\"\",\"\",AL59*AR59)","v":""}]
[]
[]
[]
[null,null,null,null,null,null,null,null,null,null,null,null,null,null,null,null,null,null,null,null,null,null,null,null,null,null,null,null,null,null,null,null,null,null,null,null,null,null,null,null,null,null,null,null,null,null,null,null,{"$f":"IF(V63=\"\",\"\",AL63*AR63)","v":""}]
[]
[]
[]
[null,null,null,null,null,null,null,null,null,null,null,null,null,null,null,null,null,null,null,null,null,null,null,null,null,null,null,null,null,null,null,null,null,null,null,null,null,null,null,null,null,null,null,null,null,null,null,null,{"$f":"IF(V67=\"\",\"\",AL67*AR67)","v":""}]
[]
[]
[]
[null,null,null,null,null,null,null,null,null,null,null,null,null,null,null,null,null,null,null,null,null,null,null,null,null,null,null,null,null,null,null,null,null,null,null,null,null,null,null,null,null,null,null,null,null,null,null,null,{"$f":"IF(V71=\"\",\"\",AL71*AR71)","v":""}]
[]
[]
[]
[null,null,null,null,null,null,null,null,null,null,null,null,null,null,null,null,null,null,null,null,null,null,null,null,null,null,null,null,null,null,null,null,null,null,null,null,null,null,null,null,null,null,null,null,null,null,null,null,{"$f":"IF(V75=\"\",\"\",AL75*AR75)","v":""}]
[]
[]
[]
[null,null,null,null,null,null,null,null,null,null,null,null,null,null,null,null,null,null,null,null,null,null,null,null,null,null,null,null,null,null,null,null,null,null,null,null,null,null,null,null,null,null,null,null,null,null,null,null,{"$f":"IF(V79=\"\",\"\",AL79*AR79)","v":""}]
[]
[]
[]
[null,null,null,null,null,null,null,null,null,null,null,null,null,null,null,null,null,null,null,null,null,null,null,null,null,null,null,null,null,null,null,null,null,null,null,null,null,"値引き等"]
[null,"社長",null,null,null,"専務",null,null,null,null,null,"常務",null,null,null,null,null,"部長･工場長",null,null,null,null,null,null,null,null,"担当者",null,null,null,null,"受付"]
[]
[]
[]
[null,null,null,null,null,null,null,null,null,null,null,null,null,null,null,null,null,null,null,null,null,null,null,null,null,null,null,null,null,null,null,null,null,null,null,null,null,{"$f":"\"合計(\" & IF(税処理=2,\"税込\",\"税抜\")&\")\"","v":"合計(税抜)"},null,null,null,null,null,null,null,null,null,null,{"$f":"IF(AW19=\"\",\"\",SUM(AW19:AW79)+AW83)","v":""}]
[]
[]
[]
[]
[]
[null,null,null,null,null,null,null,null,null,null,null,null,null,null,null,null,null,null,null,"請求明細書 (現場控)"]
[null,"株 式 会 社 種 村 建 設",null,null,null,null,null,null,null,null,null,null,"御中"]
[null,null,null,null,null,null,null,null,null,null,null,null,null,null,null,null,null,null,null,null,null,null,null,null,null,null,null,null,null,null,null,null,null,null,null,null,null,null,null,null,null,"請求年月日",null,null,null,null,{"$f":"IF(AU4=\"\",\"\",AU4)","v":23},null,null,{"$f":"IF(AX4=\"\",\"\",AX4)","v":5},null,null,{"$f":"IF(BA4=\"\",\"\",BA4)","v":31}]
[]
[]
[]
[]
[null,"工事番号",null,null,null,null,{"$f":"IF(G9=\"\",\"\",G9)","v":""},null,null,null,null,null,"工事名",null,null,null,{"$f":"IF(Q9=\"\",\"\",Q9)","v":""},null,null,null,null,null,null,null,null,null,null,null,null,null,null,null,null,null,null,null,null,"業者名",null,null,null,{"$f":"IF(AP9=\"\",\"\",AP9)","v":"例：㈱種村建設"}]
[]
[]
[]
[]
[]
[null,"注文番号",null,null,null,null,{"$f":"IF(G15=\"\",\"\",G15)","v":""},null,null,null,null,null,null,null,null,null,null,"月　日",null,null,null,"摘要･品名",null,null,null,null,null,null,null,null,null,null,null,null,null,null,null,"数 量",null,null,"単位",null,null,"単価",null,null,null,null,{"$f":"\"金額(\" & IF(税処理=2,\"税込\",\"税抜\")&\")\"","v":"金額(税抜)"}]
[]
[]
[]
[null,"契約金額",null,null,null,null,{"$f":"IF(G19=\"\",\"\",G19)","v":""},null,null,null,null,null,null,null,null,null,null,{"$f":"IF(R19=\"\",\"\",R19)","v":""},null,{"$f":"IF(T19=\"\",\"\",T19)","v":""},null,{"$f":"IF(V19=\"\",\"\",V19)","v":""},null,{"$f":"IF(X19=\"\",\"\",X19)","v":""},null,{"$f":"IF(Z19=\"\",\"\",Z19)","v":""},null,{"$f":"IF(AB19=\"\",\"\",AB19)","v":""},null,{"$f":"IF(AD19=\"\",\"\",AD19)","v":""},null,{"$f":"IF(AF19=\"\",\"\",AF19)","v":""},null,{"$f":"IF(AH19=\"\",\"\",AH19)","v":""},null,{"$f":"IF(AJ19=\"\",\"\",AJ19)","v":""},null,{"$f":"IF(AL19=\"\",\"\",AL19)","v":""},null,null,{"$f":"IF(AO19=\"\",\"\",AO19)","v":""},null,null,{"$f":"IF(AR19=\"\",\"\",AR19)","v":""},null,null,null,null,{"$f":"IF(AW19=\"\",\"\",AW19)","v":""}]
[]
[]
[]
[null,"増減額",null,null,null,null,{"$f":"IF(G23=\"\",\"\",G23)","v":""},null,null,null,null,null,null,null,null,null,null,{"$f":"IF(R23=\"\",\"\",R23)","v":""},null,{"$f":"IF(T23=\"\",\"\",T23)","v":""},null,{"$f":"IF(V23=\"\",\"\",V23)","v":""},null,{"$f":"IF(X23=\"\",\"\",X23)","v":""},null,{"$f":"IF(Z23=\"\",\"\",Z23)","v":""},null,{"$f":"IF(AB23=\"\",\"\",AB23)","v":""},null,{"$f":"IF(AD23=\"\",\"\",AD23)","v":""},null,{"$f":"IF(AF23=\"\",\"\",AF23)","v":""},null,{"$f":"IF(AH23=\"\",\"\",AH23)","v":""},null,{"$f":"IF(AJ23=\"\",\"\",AJ23)","v":""},null,{"$f":"IF(AL23=\"\",\"\",AL23)","v":""},null,null,{"$f":"IF(AO23=\"\",\"\",AO23)","v":""},null,null,{"$f":"IF(AR23=\"\",\"\",AR23)","v":""},null,null,null,null,{"$f":"IF(AW23=\"\",\"\",AW23)","v":""}]
[]
[]
[]
[null,"前回までの\n請求額",null,null,null,null,{"$f":"IF(G27=\"\",\"\",G27)","v":""},null,null,null,null,null,null,null,null,null,null,{"$f":"IF(R27=\"\",\"\",R27)","v":""},null,{"$f":"IF(T27=\"\",\"\",T27)","v":""},null,{"$f":"IF(V27=\"\",\"\",V27)","v":""},null,{"$f":"IF(X27=\"\",\"\",X27)","v":""},null,{"$f":"IF(Z27=\"\",\"\",Z27)","v":""},null,{"$f":"IF(AB27=\"\",\"\",AB27)","v":""},null,{"$f":"IF(AD27=\"\",\"\",AD27)","v":""},null,{"$f":"IF(AF27=\"\",\"\",AF27)","v":""},null,{"$f":"IF(AH27=\"\",\"\",AH27)","v":""},null,{"$f":"IF(AJ27=\"\",\"\",AJ27)","v":""},null,{"$f":"IF(AL27=\"\",\"\",AL27)","v":""},null,null,{"$f":"IF(AO27=\"\",\"\",AO27)","v":""},null,null,{"$f":"IF(AR27=\"\",\"\",AR27)","v":""},null,null,null,null,{"$f":"IF(AW27=\"\",\"\",AW27)","v":""}]
[]
[]
[]
[null,"今回\n請求額",null,null,{"$f":"IF(E31=\"\",\"\",E31)","v":""},null,{"$f":"IF(G31=\"\",\"\",G31)","v":""},null,null,null,null,null,null,null,null,null,null,{"$f":"IF(R31=\"\",\"\",R31)","v":""},null,{"$f":"IF(T31=\"\",\"\",T31)","v":""},null,{"$f":"IF(V31=\"\",\"\",V31)","v":""},null,{"$f":"IF(X31=\"\",\"\",X31)","v":""},null,{"$f":"IF(Z31=\"\",\"\",Z31)","v":""},null,{"$f":"IF(AB31=\"\",\"\",AB31)","v":""},null,{"$f":"IF(AD31=\"\",\"\",AD31)","v":""},null,{"$f":"IF(AF31=\"\",\"\",AF31)","v":""},null,{"$f":"IF(AH31=\"\",\"\",AH31)","v":""},null,{"$f":"IF(AJ31=\"\",\"\",AJ31)","v":""},null,{"$f":"IF(AL31=\"\",\"\",AL31)","v":""},null,null,{"$f":"IF(AO31=\"\",\"\",AO31)","v":""},null,null,{"$f":"IF(AR31=\"\",\"\",AR31)","v":""},null,null,null,null,{"$f":"IF(AW31=\"\",\"\",AW31)","v":""}]
[]
[]
[]
[null,"差引残高",null,null,null,null,{"$f":"IF(G111=\"\",\"\",G111+G115-G119-G123)","v":""},null,null,null,null,null,null,null,null,null,null,{"$f":"IF(R35=\"\",\"\",R35)","v":""},null,{"$f":"IF(T35=\"\",\"\",T35)","v":""},null,{"$f":"IF(V35=\"\",\"\",V35)","v":""},null,{"$f":"IF(X35=\"\",\"\",X35)","v":""},null,{"$f":"IF(Z35=\"\",\"\",Z35)","v":""},null,{"$f":"IF(AB35=\"\",\"\",AB35)","v":""},null,{"$f":"IF(AD35=\"\",\"\",AD35)","v":""},null,{"$f":"IF(AF35=\"\",\"\",AF35)","v":""},null,{"$f":"IF(AH35=\"\",\"\",AH35)","v":""},null,{"$f":"IF(AJ35=\"\",\"\",AJ35)","v":""},null,{"$f":"IF(AL35=\"\",\"\",AL35)","v":""},null,null,{"$f":"IF(AO35=\"\",\"\",AO35)","v":""},null,null,{"$f":"IF(AR35=\"\",\"\",AR35)","v":""},null,null,null,null,{"$f":"IF(AW35=\"\",\"\",AW35)","v":""}]
[]
[]
[]
[null,null,null,null,null,null,null,null,null,null,null,null,null,null,null,null,null,{"$f":"IF(R39=\"\",\"\",R39)","v":""},null,{"$f":"IF(T39=\"\",\"\",T39)","v":""},null,{"$f":"IF(V39=\"\",\"\",V39)","v":""},null,{"$f":"IF(X39=\"\",\"\",X39)","v":""},null,{"$f":"IF(Z39=\"\",\"\",Z39)","v":""},null,{"$f":"IF(AB39=\"\",\"\",AB39)","v":""},null,{"$f":"IF(AD39=\"\",\"\",AD39)","v":""},null,{"$f":"IF(AF39=\"\",\"\",AF39)","v":""},null,{"$f":"IF(AH39=\"\",\"\",AH39)","v":""},null,{"$f":"IF(AJ39=\"\",\"\",AJ39)","v":""},null,{"$f":"IF(AL39=\"\",\"\",AL39)","v":""},null,null,{"$f":"IF(AO39=\"\",\"\",AO39)","v":""},null,null,{"$f":"IF(AR39=\"\",\"\",AR39)","v":""},null,null,null,null,{"$f":"IF(AW39=\"\",\"\",AW39)","v":""}]
[]
[]
[]
[null,null,null,null,null,null,null,null,null,null,null,null,null,null,null,null,null,{"$f":"IF(R43=\"\",\"\",R43)","v":""},null,{"$f":"IF(T43=\"\",\"\",T43)","v":""},null,{"$f":"IF(V43=\"\",\"\",V43)","v":""},null,{"$f":"IF(X43=\"\",\"\",X43)","v":""},null,{"$f":"IF(Z43=\"\",\"\",Z43)","v":""},null,{"$f":"IF(AB43=\"\",\"\",AB43)","v":""},null,{"$f":"IF(AD43=\"\",\"\",AD43)","v":""},null,{"$f":"IF(AF43=\"\",\"\",AF43)","v":""},null,{"$f":"IF(AH43=\"\",\"\",AH43)","v":""},null,{"$f":"IF(AJ43=\"\",\"\",AJ43)","v":""},null,{"$f":"IF(AL43=\"\",\"\",AL43)","v":""},null,null,{"$f":"IF(AO43=\"\",\"\",AO43)","v":""},null,null,{"$f":"IF(AR43=\"\",\"\",AR43)","v":""},null,null,null,null,{"$f":"IF(AW43=\"\",\"\",AW43)","v":""}]
[]
[]
[]
[null,null,null,null,null,null,null,null,null,null,null,null,null,null,null,null,null,{"$f":"IF(R47=\"\",\"\",R47)","v":""},null,{"$f":"IF(T47=\"\",\"\",T47)","v":""},null,{"$f":"IF(V47=\"\",\"\",V47)","v":""},null,{"$f":"IF(X47=\"\",\"\",X47)","v":""},null,{"$f":"IF(Z47=\"\",\"\",Z47)","v":""},null,{"$f":"IF(AB47=\"\",\"\",AB47)","v":""},null,{"$f":"IF(AD47=\"\",\"\",AD47)","v":""},null,{"$f":"IF(AF47=\"\",\"\",AF47)","v":""},null,{"$f":"IF(AH47=\"\",\"\",AH47)","v":""},null,{"$f":"IF(AJ47=\"\",\"\",AJ47)","v":""},null,{"$f":"IF(AL47=\"\",\"\",AL47)","v":""},null,null,{"$f":"IF(AO47=\"\",\"\",AO47)","v":""},null,null,{"$f":"IF(AR47=\"\",\"\",AR47)","v":""},null,null,null,null,{"$f":"IF(AW47=\"\",\"\",AW47)","v":""}]
[]
[]
[]
[null,null,null,null,null,null,null,null,null,null,null,null,null,null,null,null,null,{"$f":"IF(R51=\"\",\"\",R51)","v":""},null,{"$f":"IF(T51=\"\",\"\",T51)","v":""},null,{"$f":"IF(V51=\"\",\"\",V51)","v":""},null,{"$f":"IF(X51=\"\",\"\",X51)","v":""},null,{"$f":"IF(Z51=\"\",\"\",Z51)","v":""},null,{"$f":"IF(AB51=\"\",\"\",AB51)","v":""},null,{"$f":"IF(AD51=\"\",\"\",AD51)","v":""},null,{"$f":"IF(AF51=\"\",\"\",AF51)","v":""},null,{"$f":"IF(AH51=\"\",\"\",AH51)","v":""},null,{"$f":"IF(AJ51=\"\",\"\",AJ51)","v":""},null,{"$f":"IF(AL51=\"\",\"\",AL51)","v":""},null,null,{"$f":"IF(AO51=\"\",\"\",AO51)","v":""},null,null,{"$f":"IF(AR51=\"\",\"\",AR51)","v":""},null,null,null,null,{"$f":"IF(AW51=\"\",\"\",AW51)","v":""}]
[]
[]
[]
[null,null,null,null,null,null,null,null,null,null,null,null,null,null,null,null,null,{"$f":"IF(R55=\"\",\"\",R55)","v":""},null,{"$f":"IF(T55=\"\",\"\",T55)","v":""},null,{"$f":"IF(V55=\"\",\"\",V55)","v":""},null,{"$f":"IF(X55=\"\",\"\",X55)","v":""},null,{"$f":"IF(Z55=\"\",\"\",Z55)","v":""},null,{"$f":"IF(AB55=\"\",\"\",AB55)","v":""},null,{"$f":"IF(AD55=\"\",\"\",AD55)","v":""},null,{"$f":"IF(AF55=\"\",\"\",AF55)","v":""},null,{"$f":"IF(AH55=\"\",\"\",AH55)","v":""},null,{"$f":"IF(AJ55=\"\",\"\",AJ55)","v":""},null,{"$f":"IF(AL55=\"\",\"\",AL55)","v":""},null,null,{"$f":"IF(AO55=\"\",\"\",AO55)","v":""},null,null,{"$f":"IF(AR55=\"\",\"\",AR55)","v":""},null,null,null,null,{"$f":"IF(AW55=\"\",\"\",AW55)","v":""}]
[]
[]
[]
[null,null,null,null,null,null,null,null,null,null,null,null,null,null,null,null,null,{"$f":"IF(R59=\"\",\"\",R59)","v":""},null,{"$f":"IF(T59=\"\",\"\",T59)","v":""},null,{"$f":"IF(V59=\"\",\"\",V59)","v":""},null,{"$f":"IF(X59=\"\",\"\",X59)","v":""},null,{"$f":"IF(Z59=\"\",\"\",Z59)","v":""},null,{"$f":"IF(AB59=\"\",\"\",AB59)","v":""},null,{"$f":"IF(AD59=\"\",\"\",AD59)","v":""},null,{"$f":"IF(AF59=\"\",\"\",AF59)","v":""},null,{"$f":"IF(AH59=\"\",\"\",AH59)","v":""},null,{"$f":"IF(AJ59=\"\",\"\",AJ59)","v":""},null,{"$f":"IF(AL59=\"\",\"\",AL59)","v":""},null,null,{"$f":"IF(AO59=\"\",\"\",AO59)","v":""},null,null,{"$f":"IF(AR59=\"\",\"\",AR59)","v":""},null,null,null,null,{"$f":"IF(AW59=\"\",\"\",AW59)","v":""}]
[]
[]
[]
[null,null,null,null,null,null,null,null,null,null,null,null,null,null,null,null,null,{"$f":"IF(R63=\"\",\"\",R63)","v":""},null,{"$f":"IF(T63=\"\",\"\",T63)","v":""},null,{"$f":"IF(V63=\"\",\"\",V63)","v":""},null,{"$f":"IF(X63=\"\",\"\",X63)","v":""},null,{"$f":"IF(Z63=\"\",\"\",Z63)","v":""},null,{"$f":"IF(AB63=\"\",\"\",AB63)","v":""},null,{"$f":"IF(AD63=\"\",\"\",AD63)","v":""},null,{"$f":"IF(AF63=\"\",\"\",AF63)","v":""},null,{"$f":"IF(AH63=\"\",\"\",AH63)","v":""},null,{"$f":"IF(AJ63=\"\",\"\",AJ63)","v":""},null,{"$f":"IF(AL63=\"\",\"\",AL63)","v":""},null,null,{"$f":"IF(AO63=\"\",\"\",AO63)","v":""},null,null,{"$f":"IF(AR63=\"\",\"\",AR63)","v":""},null,null,null,null,{"$f":"IF(AW63=\"\",\"\",AW63)","v":""}]
[]
[]
[]
[null,null,null,null,null,null,null,null,null,null,null,null,null,null,null,null,null,{"$f":"IF(R67=\"\",\"\",R67)","v":""},null,{"$f":"IF(T67=\"\",\"\",T67)","v":""},null,{"$f":"IF(V67=\"\",\"\",V67)","v":""},null,{"$f":"IF(X67=\"\",\"\",X67)","v":""},null,{"$f":"IF(Z67=\"\",\"\",Z67)","v":""},null,{"$f":"IF(AB67=\"\",\"\",AB67)","v":""},null,{"$f":"IF(AD67=\"\",\"\",AD67)","v":""},null,{"$f":"IF(AF67=\"\",\"\",AF67)","v":""},null,{"$f":"IF(AH67=\"\",\"\",AH67)","v":""},null,{"$f":"IF(AJ67=\"\",\"\",AJ67)","v":""},null,{"$f":"IF(AL67=\"\",\"\",AL67)","v":""},null,null,{"$f":"IF(AO67=\"\",\"\",AO67)","v":""},null,null,{"$f":"IF(AR67=\"\",\"\",AR67)","v":""},null,null,null,null,{"$f":"IF(AW67=\"\",\"\",AW67)","v":""}]
[]
[]
[]
[null,null,null,null,null,null,null,null,null,null,null,null,null,null,null,null,null,{"$f":"IF(R71=\"\",\"\",R71)","v":""},null,{"$f":"IF(T71=\"\",\"\",T71)","v":""},null,{"$f":"IF(V71=\"\",\"\",V71)","v":""},null,{"$f":"IF(X71=\"\",\"\",X71)","v":""},null,{"$f":"IF(Z71=\"\",\"\",Z71)","v":""},null,{"$f":"IF(AB71=\"\",\"\",AB71)","v":""},null,{"$f":"IF(AD71=\"\",\"\",AD71)","v":""},null,{"$f":"IF(AF71=\"\",\"\",AF71)","v":""},null,{"$f":"IF(AH71=\"\",\"\",AH71)","v":""},null,{"$f":"IF(AJ71=\"\",\"\",AJ71)","v":""},null,{"$f":"IF(AL71=\"\",\"\",AL71)","v":""},null,null,{"$f":"IF(AO71=\"\",\"\",AO71)","v":""},null,null,{"$f":"IF(AR71=\"\",\"\",AR71)","v":""},null,null,null,null,{"$f":"IF(AW71=\"\",\"\",AW71)","v":""}]
[]
[]
[]
[null,null,null,null,null,null,null,null,null,null,null,null,null,null,null,null,null,{"$f":"IF(R75=\"\",\"\",R75)","v":""},null,{"$f":"IF(T75=\"\",\"\",T75)","v":""},null,{"$f":"IF(V75=\"\",\"\",V75)","v":""},null,{"$f":"IF(X75=\"\",\"\",X75)","v":""},null,{"$f":"IF(Z75=\"\",\"\",Z75)","v":""},null,{"$f":"IF(AB75=\"\",\"\",AB75)","v":""},null,{"$f":"IF(AD75=\"\",\"\",AD75)","v":""},null,{"$f":"IF(AF75=\"\",\"\",AF75)","v":""},null,{"$f":"IF(AH75=\"\",\"\",AH75)","v":""},null,{"$f":"IF(AJ75=\"\",\"\",AJ75)","v":""},null,{"$f":"IF(AL75=\"\",\"\",AL75)","v":""},null,null,{"$f":"IF(AO75=\"\",\"\",AO75)","v":""},null,null,{"$f":"IF(AR75=\"\",\"\",AR75)","v":""},null,null,null,null,{"$f":"IF(AW75=\"\",\"\",AW75)","v":""}]
[]
[]
[]
[null,null,null,null,null,null,null,null,null,null,null,null,null,null,null,null,null,{"$f":"IF(R79=\"\",\"\",R79)","v":""},null,{"$f":"IF(T79=\"\",\"\",T79)","v":""},null,{"$f":"IF(V79=\"\",\"\",V79)","v":""},null,{"$f":"IF(X79=\"\",\"\",X79)","v":""},null,{"$f":"IF(Z79=\"\",\"\",Z79)","v":""},null,{"$f":"IF(AB79=\"\",\"\",AB79)","v":""},null,{"$f":"IF(AD79=\"\",\"\",AD79)","v":""},null,{"$f":"IF(AF79=\"\",\"\",AF79)","v":""},null,{"$f":"IF(AH79=\"\",\"\",AH79)","v":""},null,{"$f":"IF(AJ79=\"\",\"\",AJ79)","v":""},null,{"$f":"IF(AL79=\"\",\"\",AL79)","v":""},null,null,{"$f":"IF(AO79=\"\",\"\",AO79)","v":""},null,null,{"$f":"IF(AR79=\"\",\"\",AR79)","v":""},null,null,null,null,{"$f":"IF(AW79=\"\",\"\",AW79)","v":""}]
[]
[]
[]
[null,null,null,null,null,null,null,null,null,null,null,null,null,null,null,null,null,null,null,null,null,null,null,null,null,null,null,null,null,null,null,null,null,null,null,null,null,"値引き等",null,null,null,null,null,null,null,null,null,null,{"$f":"IF(AW83=\"\",\"\",AW83)","v":""}]
[]
[]
[]
[]
[null,null,null,null,null,null,null,null,null,null,null,null,null,null,null,null,null,null,null,null,null,null,null,null,null,null,null,null,null,null,null,null,null,null,null,null,null,{"$f":"\"合計(\" & IF(税処理=2,\"税込\",\"税抜\")&\")\"","v":"合計(税抜)"},null,null,null,null,null,null,null,null,null,null,{"$f":"IF(AW88=\"\",\"\",AW88)","v":""}]
[]
[]
[]
[]
[]
[null,null,null,null,null,null,null,null,null,null,null,null,null,null,null,null,null,null,null,"請求明細書 (貴社控)"]
[null,"株 式 会 社 種 村 建 設",null,null,null,null,null,null,null,null,null,null,"御中"]
[null,null,null,null,null,null,null,null,null,null,null,null,null,null,null,null,null,null,null,null,null,null,null,null,null,null,null,null,null,null,null,null,null,null,null,null,null,null,null,null,null,"請求年月日",null,null,null,null,{"$f":"IF(AU96=\"\",\"\",AU96)","v":23},null,null,{"$f":"IF(AX96=\"\",\"\",AX96)","v":5},null,null,{"$f":"IF(BA96=\"\",\"\",BA96)","v":31}]
[]
[]
[]
[]
[null,"工事番号",null,null,null,null,{"$f":"IF(G101=\"\",\"\",G101)","v":""},null,null,null,null,null,"工事名",null,null,null,{"$f":"IF(Q101=\"\",\"\",Q101)","v":""},null,null,null,null,null,null,null,null,null,null,null,null,null,null,null,null,null,null,null,null,"業者名",null,null,null,{"$f":"IF(AP101=\"\",\"\",AP101)","v":"例：㈱種村建設"}]
[]
[]
[]
[]
[]
[null,"注文番号",null,null,null,null,{"$f":"IF(G107=\"\",\"\",G107)","v":""},null,null,null,null,null,null,null,null,null,null,"月　日",null,null,null,"摘要･品名",null,null,null,null,null,null,null,null,null,null,null,null,null,null,null,"数 量",null,null,"単位",null,null,"単価",null,null,null,null,{"$f":"\"金額(\" & IF(税処理=2,\"税込\",\"税抜\")&\")\"","v":"金額(税抜)"}]
[]
[]
[]
[null,"契約金額",null,null,null,null,{"$f":"IF(G111=\"\",\"\",G111)","v":""},null,null,null,null,null,null,null,null,null,null,{"$f":"IF(R111=\"\",\"\",R111)","v":""},null,{"$f":"IF(T111=\"\",\"\",T111)","v":""},null,{"$f":"IF(V111=\"\",\"\",V111)","v":""},null,{"$f":"IF(X111=\"\",\"\",X111)","v":""},null,{"$f":"IF(Z111=\"\",\"\",Z111)","v":""},null,{"$f":"IF(AB111=\"\",\"\",AB111)","v":""},null,{"$f":"IF(AD111=\"\",\"\",AD111)","v":""},null,{"$f":"IF(AF111=\"\",\"\",AF111)","v":""},null,{"$f":"IF(AH111=\"\",\"\",AH111)","v":""},null,{"$f":"IF(AJ111=\"\",\"\",AJ111)","v":""},null,{"$f":"IF(AL111=\"\",\"\",AL111)","v":""},null,null,{"$f":"IF(AO111=\"\",\"\",AO111)","v":""},null,null,{"$f":"IF(AR111=\"\",\"\",AR111)","v":""},null,null,null,null,{"$f":"IF(AW111=\"\",\"\",AW111)","v":""}]
[]
[]
[]
[null,"増減額",null,null,null,null,{"$f":"IF(G115=\"\",\"\",G115)","v":""},null,null,null,null,null,null,null,null,null,null,{"$f":"IF(R115=\"\",\"\",R115)","v":""},null,{"$f":"IF(T115=\"\",\"\",T115)","v":""},null,{"$f":"IF(V115=\"\",\"\",V115)","v":""},null,{"$f":"IF(X115=\"\",\"\",X115)","v":""},null,{"$f":"IF(Z115=\"\",\"\",Z115)","v":""},null,{"$f":"IF(AB115=\"\",\"\",AB115)","v":""},null,{"$f":"IF(AD115=\"\",\"\",AD115)","v":""},null,{"$f":"IF(AF115=\"\",\"\",AF115)","v":""},null,{"$f":"IF(AH115=\"\",\"\",AH115)","v":""},null,{"$f":"IF(AJ115=\"\",\"\",AJ115)","v":""},null,{"$f":"IF(AL115=\"\",\"\",AL115)","v":""},null,null,{"$f":"IF(AO115=\"\",\"\",AO115)","v":""},null,null,{"$f":"IF(AR115=\"\",\"\",AR115)","v":""},null,null,null,null,{"$f":"IF(AW115=\"\",\"\",AW115)","v":""}]
[]
[]
[]
[null,"前回までの\n請求額",null,null,null,null,{"$f":"IF(G119=\"\",\"\",G119)","v":""},null,null,null,null,null,null,null,null,null,null,{"$f":"IF(R119=\"\",\"\",R119)","v":""},null,{"$f":"IF(T119=\"\",\"\",T119)","v":""},null,{"$f":"IF(V119=\"\",\"\",V119)","v":""},null,{"$f":"IF(X119=\"\",\"\",X119)","v":""},null,{"$f":"IF(Z119=\"\",\"\",Z119)","v":""},null,{"$f":"IF(AB119=\"\",\"\",AB119)","v":""},null,{"$f":"IF(AD119=\"\",\"\",AD119)","v":""},null,{"$f":"IF(AF119=\"\",\"\",AF119)","v":""},null,{"$f":"IF(AH119=\"\",\"\",AH119)","v":""},null,{"$f":"IF(AJ119=\"\",\"\",AJ119)","v":""},null,{"$f":"IF(AL119=\"\",\"\",AL119)","v":""},null,null,{"$f":"IF(AO119=\"\",\"\",AO119)","v":""},null,null,{"$f":"IF(AR119=\"\",\"\",AR119)","v":""},null,null,null,null,{"$f":"IF(AW119=\"\",\"\",AW119)","v":""}]
[]
[]
[]
[null,"今回\n請求額",null,null,{"$f":"IF(E31=\"\",\"\",E31)","v":""},null,{"$f":"IF(G123=\"\",\"\",G123)","v":""},null,null,null,null,null,null,null,null,null,null,{"$f":"IF(R123=\"\",\"\",R123)","v":""},null,{"$f":"IF(T123=\"\",\"\",T123)","v":""},null,{"$f":"IF(V123=\"\",\"\",V123)","v":""},null,{"$f":"IF(X123=\"\",\"\",X123)","v":""},null,{"$f":"IF(Z123=\"\",\"\",Z123)","v":""},null,{"$f":"IF(AB123=\"\",\"\",AB123)","v":""},null,{"$f":"IF(AD123=\"\",\"\",AD123)","v":""},null,{"$f":"IF(AF123=\"\",\"\",AF123)","v":""},null,{"$f":"IF(AH123=\"\",\"\",AH123)","v":""},null,{"$f":"IF(AJ123=\"\",\"\",AJ123)","v":""},null,{"$f":"IF(AL123=\"\",\"\",AL123)","v":""},null,null,{"$f":"IF(AO123=\"\",\"\",AO123)","v":""},null,null,{"$f":"IF(AR123=\"\",\"\",AR123)","v":""},null,null,null,null,{"$f":"IF(AW123=\"\",\"\",AW123)","v":""}]
[]
[]
[]
[null,"差引残高",null,null,null,null,{"$f":"IF(G203=\"\",\"\",G203+G207-G211-G215)","v":""},null,null,null,null,null,null,null,null,null,null,{"$f":"IF(R127=\"\",\"\",R127)","v":""},null,{"$f":"IF(T127=\"\",\"\",T127)","v":""},null,{"$f":"IF(V127=\"\",\"\",V127)","v":""},null,{"$f":"IF(X127=\"\",\"\",X127)","v":""},null,{"$f":"IF(Z127=\"\",\"\",Z127)","v":""},null,{"$f":"IF(AB127=\"\",\"\",AB127)","v":""},null,{"$f":"IF(AD127=\"\",\"\",AD127)","v":""},null,{"$f":"IF(AF127=\"\",\"\",AF127)","v":""},null,{"$f":"IF(AH127=\"\",\"\",AH127)","v":""},null,{"$f":"IF(AJ127=\"\",\"\",AJ127)","v":""},null,{"$f":"IF(AL127=\"\",\"\",AL127)","v":""},null,null,{"$f":"IF(AO127=\"\",\"\",AO127)","v":""},null,null,{"$f":"IF(AR127=\"\",\"\",AR127)","v":""},null,null,null,null,{"$f":"IF(AW127=\"\",\"\",AW127)","v":""}]
[]
[]
[]
[null,null,null,null,null,null,null,null,null,null,null,null,null,null,null,null,null,{"$f":"IF(R131=\"\",\"\",R131)","v":""},null,{"$f":"IF(T131=\"\",\"\",T131)","v":""},null,{"$f":"IF(V131=\"\",\"\",V131)","v":""},null,{"$f":"IF(X131=\"\",\"\",X131)","v":""},null,{"$f":"IF(Z131=\"\",\"\",Z131)","v":""},null,{"$f":"IF(AB131=\"\",\"\",AB131)","v":""},null,{"$f":"IF(AD131=\"\",\"\",AD131)","v":""},null,{"$f":"IF(AF131=\"\",\"\",AF131)","v":""},null,{"$f":"IF(AH131=\"\",\"\",AH131)","v":""},null,{"$f":"IF(AJ131=\"\",\"\",AJ131)","v":""},null,{"$f":"IF(AL131=\"\",\"\",AL131)","v":""},null,null,{"$f":"IF(AO131=\"\",\"\",AO131)","v":""},null,null,{"$f":"IF(AR131=\"\",\"\",AR131)","v":""},null,null,null,null,{"$f":"IF(AW131=\"\",\"\",AW131)","v":""}]
[]
[]
[]
[null,null,null,null,null,null,null,null,null,null,null,null,null,null,null,null,null,{"$f":"IF(R135=\"\",\"\",R135)","v":""},null,{"$f":"IF(T135=\"\",\"\",T135)","v":""},null,{"$f":"IF(V135=\"\",\"\",V135)","v":""},null,{"$f":"IF(X135=\"\",\"\",X135)","v":""},null,{"$f":"IF(Z135=\"\",\"\",Z135)","v":""},null,{"$f":"IF(AB135=\"\",\"\",AB135)","v":""},null,{"$f":"IF(AD135=\"\",\"\",AD135)","v":""},null,{"$f":"IF(AF135=\"\",\"\",AF135)","v":""},null,{"$f":"IF(AH135=\"\",\"\",AH135)","v":""},null,{"$f":"IF(AJ135=\"\",\"\",AJ135)","v":""},null,{"$f":"IF(AL135=\"\",\"\",AL135)","v":""},null,null,{"$f":"IF(AO135=\"\",\"\",AO135)","v":""},null,null,{"$f":"IF(AR135=\"\",\"\",AR135)","v":""},null,null,null,null,{"$f":"IF(AW135=\"\",\"\",AW135)","v":""}]
[]
[]
[]
[null,null,null,null,null,null,null,null,null,null,null,null,null,null,null,null,null,{"$f":"IF(R139=\"\",\"\",R139)","v":""},null,{"$f":"IF(T139=\"\",\"\",T139)","v":""},null,{"$f":"IF(V139=\"\",\"\",V139)","v":""},null,{"$f":"IF(X139=\"\",\"\",X139)","v":""},null,{"$f":"IF(Z139=\"\",\"\",Z139)","v":""},null,{"$f":"IF(AB139=\"\",\"\",AB139)","v":""},null,{"$f":"IF(AD139=\"\",\"\",AD139)","v":""},null,{"$f":"IF(AF139=\"\",\"\",AF139)","v":""},null,{"$f":"IF(AH139=\"\",\"\",AH139)","v":""},null,{"$f":"IF(AJ139=\"\",\"\",AJ139)","v":""},null,{"$f":"IF(AL139=\"\",\"\",AL139)","v":""},null,null,{"$f":"IF(AO139=\"\",\"\",AO139)","v":""},null,null,{"$f":"IF(AR139=\"\",\"\",AR139)","v":""},null,null,null,null,{"$f":"IF(AW139=\"\",\"\",AW139)","v":""}]
[]
[]
[]
[null,null,null,null,null,null,null,null,null,null,null,null,null,null,null,null,null,{"$f":"IF(R143=\"\",\"\",R143)","v":""},null,{"$f":"IF(T143=\"\",\"\",T143)","v":""},null,{"$f":"IF(V143=\"\",\"\",V143)","v":""},null,{"$f":"IF(X143=\"\",\"\",X143)","v":""},null,{"$f":"IF(Z143=\"\",\"\",Z143)","v":""},null,{"$f":"IF(AB143=\"\",\"\",AB143)","v":""},null,{"$f":"IF(AD143=\"\",\"\",AD143)","v":""},null,{"$f":"IF(AF143=\"\",\"\",AF143)","v":""},null,{"$f":"IF(AH143=\"\",\"\",AH143)","v":""},null,{"$f":"IF(AJ143=\"\",\"\",AJ143)","v":""},null,{"$f":"IF(AL143=\"\",\"\",AL143)","v":""},null,null,{"$f":"IF(AO143=\"\",\"\",AO143)","v":""},null,null,{"$f":"IF(AR143=\"\",\"\",AR143)","v":""},null,null,null,null,{"$f":"IF(AW143=\"\",\"\",AW143)","v":""}]
[]
[]
[]
[null,null,null,null,null,null,null,null,null,null,null,null,null,null,null,null,null,{"$f":"IF(R147=\"\",\"\",R147)","v":""},null,{"$f":"IF(T147=\"\",\"\",T147)","v":""},null,{"$f":"IF(V147=\"\",\"\",V147)","v":""},null,{"$f":"IF(X147=\"\",\"\",X147)","v":""},null,{"$f":"IF(Z147=\"\",\"\",Z147)","v":""},null,{"$f":"IF(AB147=\"\",\"\",AB147)","v":""},null,{"$f":"IF(AD147=\"\",\"\",AD147)","v":""},null,{"$f":"IF(AF147=\"\",\"\",AF147)","v":""},null,{"$f":"IF(AH147=\"\",\"\",AH147)","v":""},null,{"$f":"IF(AJ147=\"\",\"\",AJ147)","v":""},null,{"$f":"IF(AL147=\"\",\"\",AL147)","v":""},null,null,{"$f":"IF(AO147=\"\",\"\",AO147)","v":""},null,null,{"$f":"IF(AR147=\"\",\"\",AR147)","v":""},null,null,null,null,{"$f":"IF(AW147=\"\",\"\",AW147)","v":""}]
[]
[]
[]
[null,null,null,null,null,null,null,null,null,null,null,null,null,null,null,null,null,{"$f":"IF(R151=\"\",\"\",R151)","v":""},null,{"$f":"IF(T151=\"\",\"\",T151)","v":""},null,{"$f":"IF(V151=\"\",\"\",V151)","v":""},null,{"$f":"IF(X151=\"\",\"\",X151)","v":""},null,{"$f":"IF(Z151=\"\",\"\",Z151)","v":""},null,{"$f":"IF(AB151=\"\",\"\",AB151)","v":""},null,{"$f":"IF(AD151=\"\",\"\",AD151)","v":""},null,{"$f":"IF(AF151=\"\",\"\",AF151)","v":""},null,{"$f":"IF(AH151=\"\",\"\",AH151)","v":""},null,{"$f":"IF(AJ151=\"\",\"\",AJ151)","v":""},null,{"$f":"IF(AL151=\"\",\"\",AL151)","v":""},null,null,{"$f":"IF(AO151=\"\",\"\",AO151)","v":""},null,null,{"$f":"IF(AR151=\"\",\"\",AR151)","v":""},null,null,null,null,{"$f":"IF(AW151=\"\",\"\",AW151)","v":""}]
[]
[]
[]
[null,null,null,null,null,null,null,null,null,null,null,null,null,null,null,null,null,{"$f":"IF(R155=\"\",\"\",R155)","v":""},null,{"$f":"IF(T155=\"\",\"\",T155)","v":""},null,{"$f":"IF(V155=\"\",\"\",V155)","v":""},null,{"$f":"IF(X155=\"\",\"\",X155)","v":""},null,{"$f":"IF(Z155=\"\",\"\",Z155)","v":""},null,{"$f":"IF(AB155=\"\",\"\",AB155)","v":""},null,{"$f":"IF(AD155=\"\",\"\",AD155)","v":""},null,{"$f":"IF(AF155=\"\",\"\",AF155)","v":""},null,{"$f":"IF(AH155=\"\",\"\",AH155)","v":""},null,{"$f":"IF(AJ155=\"\",\"\",AJ155)","v":""},null,{"$f":"IF(AL155=\"\",\"\",AL155)","v":""},null,null,{"$f":"IF(AO155=\"\",\"\",AO155)","v":""},null,null,{"$f":"IF(AR155=\"\",\"\",AR155)","v":""},null,null,null,null,{"$f":"IF(AW155=\"\",\"\",AW155)","v":""}]
[]
[]
[]
[null,null,null,null,null,null,null,null,null,null,null,null,null,null,null,null,null,{"$f":"IF(R159=\"\",\"\",R159)","v":""},null,{"$f":"IF(T159=\"\",\"\",T159)","v":""},null,{"$f":"IF(V159=\"\",\"\",V159)","v":""},null,{"$f":"IF(X159=\"\",\"\",X159)","v":""},null,{"$f":"IF(Z159=\"\",\"\",Z159)","v":""},null,{"$f":"IF(AB159=\"\",\"\",AB159)","v":""},null,{"$f":"IF(AD159=\"\",\"\",AD159)","v":""},null,{"$f":"IF(AF159=\"\",\"\",AF159)","v":""},null,{"$f":"IF(AH159=\"\",\"\",AH159)","v":""},null,{"$f":"IF(AJ159=\"\",\"\",AJ159)","v":""},null,{"$f":"IF(AL159=\"\",\"\",AL159)","v":""},null,null,{"$f":"IF(AO159=\"\",\"\",AO159)","v":""},null,null,{"$f":"IF(AR159=\"\",\"\",AR159)","v":""},null,null,null,null,{"$f":"IF(AW159=\"\",\"\",AW159)","v":""}]
[]
[]
[]
[null,null,null,null,null,null,null,null,null,null,null,null,null,null,null,null,null,{"$f":"IF(R163=\"\",\"\",R163)","v":""},null,{"$f":"IF(T163=\"\",\"\",T163)","v":""},null,{"$f":"IF(V163=\"\",\"\",V163)","v":""},null,{"$f":"IF(X163=\"\",\"\",X163)","v":""},null,{"$f":"IF(Z163=\"\",\"\",Z163)","v":""},null,{"$f":"IF(AB163=\"\",\"\",AB163)","v":""},null,{"$f":"IF(AD163=\"\",\"\",AD163)","v":""},null,{"$f":"IF(AF163=\"\",\"\",AF163)","v":""},null,{"$f":"IF(AH163=\"\",\"\",AH163)","v":""},null,{"$f":"IF(AJ163=\"\",\"\",AJ163)","v":""},null,{"$f":"IF(AL163=\"\",\"\",AL163)","v":""},null,null,{"$f":"IF(AO163=\"\",\"\",AO163)","v":""},null,null,{"$f":"IF(AR163=\"\",\"\",AR163)","v":""},null,null,null,null,{"$f":"IF(AW163=\"\",\"\",AW163)","v":""}]
[]
[]
[]
[null,null,null,null,null,null,null,null,null,null,null,null,null,null,null,null,null,{"$f":"IF(R167=\"\",\"\",R167)","v":""},null,{"$f":"IF(T167=\"\",\"\",T167)","v":""},null,{"$f":"IF(V167=\"\",\"\",V167)","v":""},null,{"$f":"IF(X167=\"\",\"\",X167)","v":""},null,{"$f":"IF(Z167=\"\",\"\",Z167)","v":""},null,{"$f":"IF(AB167=\"\",\"\",AB167)","v":""},null,{"$f":"IF(AD167=\"\",\"\",AD167)","v":""},null,{"$f":"IF(AF167=\"\",\"\",AF167)","v":""},null,{"$f":"IF(AH167=\"\",\"\",AH167)","v":""},null,{"$f":"IF(AJ167=\"\",\"\",AJ167)","v":""},null,{"$f":"IF(AL167=\"\",\"\",AL167)","v":""},null,null,{"$f":"IF(AO167=\"\",\"\",AO167)","v":""},null,null,{"$f":"IF(AR167=\"\",\"\",AR167)","v":""},null,null,null,null,{"$f":"IF(AW167=\"\",\"\",AW167)","v":""}]
[]
[]
[]
[null,null,null,null,null,null,null,null,null,null,null,null,null,null,null,null,null,{"$f":"IF(R171=\"\",\"\",R171)","v":""},null,{"$f":"IF(T171=\"\",\"\",T171)","v":""},null,{"$f":"IF(V171=\"\",\"\",V171)","v":""},null,{"$f":"IF(X171=\"\",\"\",X171)","v":""},null,{"$f":"IF(Z171=\"\",\"\",Z171)","v":""},null,{"$f":"IF(AB171=\"\",\"\",AB171)","v":""},null,{"$f":"IF(AD171=\"\",\"\",AD171)","v":""},null,{"$f":"IF(AF171=\"\",\"\",AF171)","v":""},null,{"$f":"IF(AH171=\"\",\"\",AH171)","v":""},null,{"$f":"IF(AJ171=\"\",\"\",AJ171)","v":""},null,{"$f":"IF(AL171=\"\",\"\",AL171)","v":""},null,null,{"$f":"IF(AO171=\"\",\"\",AO171)","v":""},null,null,{"$f":"IF(AR171=\"\",\"\",AR171)","v":""},null,null,null,null,{"$f":"IF(AW171=\"\",\"\",AW171)","v":""}]
[]
[]
[]
[null,null,null,null,null,null,null,null,null,null,null,null,null,null,null,null,null,null,null,null,null,null,null,null,null,null,null,null,null,null,null,null,null,null,null,null,null,"値引き等",null,null,null,null,null,null,null,null,null,null,{"$f":"IF(AW175=\"\",\"\",AW175)","v":""}]
[]
[]
[]
[]
[null,null,null,null,null,null,null,null,null,null,null,null,null,null,null,null,null,null,null,null,null,null,null,null,null,null,null,null,null,null,null,null,null,null,null,null,null,{"$f":"\"合計(\" & IF(税処理=2,\"税込\",\"税抜\")&\")\"","v":"合計(税抜)"},null,null,null,null,null,null,null,null,null,null,{"$f":"IF(AW180=\"\",\"\",AW180)","v":""}]

{"sheet":"細2-12","index":26,"n_rows":272,"n_cols":53,"rows_kept":272,"cut":false,"hidden":false,"merged":[[3,46,5,48],[3,49,5,51],[3,52,5,54],[8,37,11,40],[8,41,11,54],[3,41,5,45],[1,19,4,32],[2,1,5,11],[2,12,5,13],[8,1,11,5],[8,6,11,11],[8,12,11,15],[8,16,11,35],[14,43,17,47],[14,48,17,54],[14,1,17,5],[14,6,17,15],[14,17,17,20],[14,21,17,36],[18,1,21,5],[18,6,21,15],[18,17,21,18],[18,19,21,20],[14,37,17,39],[14,40,17,42],[18,21,21,36],[18,37,21,39],[18,40,21,42],[18,43,21,47],[26,1,29,5],[26,6,29,15],[26,17,29,18],[26,19,29,20],[18,48,21,54],[22,1,25,5],[22,6,25,15],[22,17,25,18],[22,19,25,20],[22,21,25,36],[26,21,29,36],[26,37,29,39],[26,40,29,42],[26,43,29,47],[22,37,25,39],[22,40,25,42],[22,43,25,47],[34,48,37,54],[26,48,29,54],[30,1,33,3],[30,4,33,5],[30,6,33,15],[30,17,33,18],[30,19,33,20],[22,48,25,54],[38,17,41,18],[38,19,41,20],[38,21,41,36],[38,37,41,39],[30,48,33,54],[34,1,37,5],[34,6,37,15],[34,17,37,18],[34,19,37,20],[34,21,37,36],[38,40,41,42],[38,43,41,47],[38,48,41,54],[30,21,33,36],[30,37,33,39],[30,40,33,42],[30,43,33,47],[34,37,37,39],[34,40,37,42],[34,43,37,47],[46,40,49,42],[46,43,49,47],[46,21,49,36],[46,37,49,39],[54,40,57,42],[54,43,57,47],[42,17,45,18],[42,19,45,20],[42,21,45,36],[42,37,45,39],[42,40,45,42],[42,43,45,47],[42,48,45,54],[46,48,49,54],[50,17,53,18],[50,19,53,20],[50,21,53,36],[50,37,53,39],[50,40,53,42],[50,43,53,47],[50,48,53,54],[46,17,49,18],[46,19,49,20],[58,17,61,18],[58,19,61,20],[58,21,61,36],[58,37,61,39],[58,40,61,42],[58,43,61,47],[58,48,61,54],[54,17,57,18],[54,19,57,20],[54,21,57,36],[54,37,57,39],[54,48,57,54],[62,40,65,42],[62,43,65,47],[62,21,65,36],[62,37,65,39],[70,40,73,42],[70,43,73,47],[70,48,73,54],[62,48,65,54],[66,17,69,18],[66,19,69,20],[66,21,69,36],[66,37,69,39],[66,40,69,42],[66,43,69,47],[66,48,69,54],[62,17,65,18],[62,19,65,20],[74,17,77,18],[74,19,77,20],[74,21,77,36],[74,37,77,39],[74,40,77,42],[74,43,77,47],[74,48,77,54],[70,17,73,18],[70,19,73,20],[70,21,73,36],[70,37,73,39],[78,48,81,54],[82,37,85,47],[82,48,85,54],[78,37,81,39],[78,40,81,42],[85,11,90,16],[85,17,90,25],[78,43,81,47],[83,26,84,30],[83,31,84,35],[78,17,81,18],[78,19,81,20],[78,21,81,36],[85,26,90,30],[85,31,90,35],[83,1,84,4],[83,5,84,10],[87,37,90,47],[83,11,84,16],[83,17,84,25],[95,46,97,48],[85,1,90,4],[85,5,90,10],[87,48,90,54],[95,49,97,51],[95,52,97,54],[100,1,103,5],[100,6,103,11],[100,12,103,15],[100,16,103,35],[100,37,103,40],[100,41,103,54],[93,19,96,32],[94,1,97,11],[94,12,97,13],[95,41,97,45],[106,37,109,39],[106,40,109,42],[106,43,109,47],[106,48,109,54],[106,1,109,5],[106,6,109,15],[106,17,109,20],[106,21,109,36],[110,21,113,36],[110,37,113,39],[110,40,113,42],[110,43,113,47],[110,1,113,5],[110,6,113,15],[110,17,113,18],[110,19,113,20],[110,48,113,54],[114,1,117,5],[114,6,117,15],[114,17,117,18],[114,19,117,20],[114,21,117,36],[114,37,117,39],[114,40,117,42],[114,43,117,47],[114,48,117,54],[118,21,121,36],[118,37,121,39],[118,40,121,42],[118,43,121,47],[118,1,121,5],[118,6,121,15],[118,17,121,18],[118,19,121,20],[118,48,121,54],[122,48,125,54],[126,1,129,5],[126,6,129,15],[126,17,129,18],[126,19,129,20],[126,21,129,36],[126,37,129,39],[126,40,129,42],[126,43,129,47],[126,48,129,54],[122,1,125,3],[122,4,125,5],[122,6,125,15],[122,17,125,18],[122,19,125,20],[122,21,125,36],[122,37,125,39],[122,40,125,42],[122,43,125,47],[130,40,133,42],[130,43,133,47],[130,21,133,36],[130,37,133,39],[138,40,141,42],[138,43,141,47],[138,48,141,54],[130,48,133,54],[134,17,137,18],[134,19,137,20],[134,21,137,36],[134,37,137,39],[134,40,137,42],[134,43,137,47],[134,48,137,54],[130,17,133,18],[130,19,133,20],[142,17,145,18],[142,19,145,20],[142,21,145,36],[142,37,145,39],[142,40,145,42],[142,43,145,47],[142,48,145,54],[138,17,141,18],[138,19,141,20],[138,21,141,36],[138,37,141,39],[154,48,157,54],[146,48,149,54],[150,17,153,18],[150,19,153,20],[150,21,153,36],[150,37,153,39],[150,40,153,42],[150,43,153,47],[150,48,153,54],[146,17,149,18],[146,19,149,20],[154,17,157,18],[154,19,157,20],[154,21,157,36],[154,37,157,39],[146,40,149,42],[146,43,149,47],[146,21,149,36],[146,37,149,39],[154,40,157,42],[154,43,157,47],[170,48,173,54],[174,37,177,47],[174,48,177,54],[170,17,173,18],[170,19,173,20],[158,17,161,18],[158,19,161,20],[158,21,161,36],[158,37,161,39],[158,40,161,42],[158,43,161,47],[158,48,161,54],[170,21,173,36],[170,37,173,39],[179,48,182,54],[185,19,188,32],[186,1,189,11],[186,12,189,13],[187,41,189,45],[192,37,195,40],[192,41,195,54],[162,40,165,42],[162,43,165,47],[162,21,165,36],[162,37,165,39],[187,46,189,48],[162,48,165,54],[166,17,169,18],[166,19,169,20],[166,21,169,36],[166,37,169,39],[166,40,169,42],[166,43,169,47],[166,48,169,54],[162,17,165,18],[162,19,165,20],[187,49,189,51],[187,52,189,54],[179,37,182,47],[170,40,173,42],[170,43,173,47],[198,48,201,54],[202,21,205,36],[202,37,205,39],[202,40,205,42],[202,43,205,47],[202,1,205,5],[202,6,205,15],[202,17,205,18],[202,19,205,20],[202,48,205,54],[198,1,201,5],[198,6,201,15],[198,17,201,20],[198,21,201,36],[198,37,201,39],[198,40,201,42],[198,43,201,47],[192,1,195,5],[192,6,195,11],[192,12,195,15],[192,16,195,35],[206,1,209,5],[206,6,209,15],[206,17,209,18],[206,19,209,20],[206,21,209,36],[206,37,209,39],[206,40,209,42],[206,43,209,47],[206,48,209,54],[210,21,213,36],[210,37,213,39],[210,40,213,42],[210,43,213,47],[210,1,213,5],[210,6,213,15],[210,17,213,18],[210,19,213,20],[210,48,213,54],[214,48,217,54],[218,1,221,5],[218,6,221,15],[218,17,221,18],[218,19,221,20],[218,21,221,36],[218,37,221,39],[218,40,221,42],[218,43,221,47],[218,48,221,54],[214,1,217,3],[214,4,217,5],[214,6,217,15],[214,17,217,18],[214,19,217,20],[214,21,217,36],[214,37,217,39],[214,40,217,42],[214,43,217,47],[222,40,225,42],[222,43,225,47],[222,21,225,36],[222,37,225,39],[230,40,233,42],[230,43,233,47],[230,48,233,54],[222,48,225,54],[226,17,229,18],[226,19,229,20],[226,21,229,36],[226,37,229,39],[226,40,229,42],[226,43,229,47],[226,48,229,54],[222,17,225,18],[222,19,225,20],[234,17,237,18],[234,19,237,20],[234,21,237,36],[234,37,237,39],[234,40,237,42],[234,43,237,47],[234,48,237,54],[230,17,233,18],[230,19,233,20],[230,21,233,36],[230,37,233,39],[242,17,245,18],[242,19,245,20],[242,21,245,36],[242,37,245,39],[242,40,245,42],[242,43,245,47],[242,48,245,54],[238,17,241,18],[238,19,241,20],[254,37,257,39],[238,40,241,42],[238,43,241,47],[238,21,241,36],[238,37,241,39],[246,40,249,42],[246,43,249,47],[246,48,249,54],[238,48,241,54],[250,17,253,18],[250,19,253,20],[250,21,253,36],[250,37,253,39],[250,40,253,42],[250,43,253,47],[250,48,253,54],[246,17,249,18],[246,19,249,20],[246,21,249,36],[246,37,249,39],[271,37,274,47],[254,48,257,54],[258,17,261,18],[258,19,261,20],[258,21,261,36],[258,37,261,39],[258,40,261,42],[258,43,261,47],[258,48,261,54],[254,17,257,18],[254,19,257,20],[271,48,274,54],[262,40,265,42],[262,43,265,47],[262,48,265,54],[266,37,269,47],[266,48,269,54],[262,17,265,18],[262,19,265,20],[262,21,265,36],[262,37,265,39],[254,40,257,42],[254,43,257,47],[254,21,257,36]]}
[]
[null,null,null,null,null,null,null,null,null,null,null,null,null,null,null,null,null,null,null,"請求書明細書 (正)"]
[null,"株 式 会 社 種 村 建 設",null,null,null,null,null,null,null,null,null,null,"御中"]
[null,null,null,null,null,null,null,null,null,null,null,null,null,null,null,null,null,null,null,null,null,null,null,null,null,null,null,null,null,null,null,null,null,null,null,null,null,null,null,null,null,"請求年月日",null,null,null,null,{"$f":"年","v":23},null,null,{"$f":"月","v":5},null,null,{"$f":"日","v":31}]
[]
[]
[]
[]
[null,"工事番号",null,null,null,null,null,null,null,null,null,null,"工事名",null,null,null,null,null,null,null,null,null,null,null,null,null,null,null,null,null,null,null,null,null,null,null,null,"業者名",null,null,null,{"$f":"社名","v":"例：㈱種村建設"}]
[]
[]
[]
[]
[]
[null,"注文番号",null,null,null,null,null,null,null,null,null,null,null,null,null,null,null,"月　日",null,null,null,"摘要･品名",null,null,null,null,null,null,null,null,null,null,null,null,null,null,null,"数 量",null,null,"単位",null,null,"単価",null,null,null,null,{"$f":"\"金額(\" & IF(税処理=2,\"税込\",\"税抜\")&\")\"","v":"金額(税抜)"}]
[]
[]
[]
[null,"契約金額",null,null,null,null,null,null,null,null,null,null,null,null,null,null,null,null,null,null,null,null,null,null,null,null,null,null,null,null,null,null,null,null,null,null,null,null,null,null,null,null,null,null,null,null,null,null,{"$f":"IF(V19=\"\",\"\",AL19*AR19)","v":""}]
[]
[]
[]
[null,"増減額",null,null,null,null,null,null,null,null,null,null,null,null,null,null,null,null,null,null,null,null,null,null,null,null,null,null,null,null,null,null,null,null,null,null,null,null,null,null,null,null,null,null,null,null,null,null,{"$f":"IF(V23=\"\",\"\",AL23*AR23)","v":""}]
[]
[]
[]
[null,"前回までの\n請求額",null,null,null,null,null,null,null,null,null,null,null,null,null,null,null,null,null,null,null,null,null,null,null,null,null,null,null,null,null,null,null,null,null,null,null,null,null,null,null,null,null,null,null,null,null,null,{"$f":"IF(V27=\"\",\"\",AL27*AR27)","v":""}]
[]
[]
[]
[null,"今回\n請求額",null,null,null,null,null,null,null,null,null,null,null,null,null,null,null,null,null,null,null,null,null,null,null,null,null,null,null,null,null,null,null,null,null,null,null,null,null,null,null,null,null,null,null,null,null,null,{"$f":"IF(V31=\"\",\"\",AL31*AR31)","v":""}]
[]
[]
[]
[null,"差引残高",null,null,null,null,{"$f":"IF(G19=\"\",\"\",G19+G23-G27-G31)","v":""},null,null,null,null,null,null,null,null,null,null,null,null,null,null,null,null,null,null,null,null,null,null,null,null,null,null,null,null,null,null,null,null,null,null,null,null,null,null,null,null,null,{"$f":"IF(V35=\"\",\"\",AL35*AR35)","v":""}]
[]
[]
[]
[null,null,null,null,null,null,null,null,null,null,null,null,null,null,null,null,null,null,null,null,null,null,null,null,null,null,null,null,null,null,null,null,null,null,null,null,null,null,null,null,null,null,null,null,null,null,null,null,{"$f":"IF(V39=\"\",\"\",AL39*AR39)","v":""}]
[]
[]
[]
[null,null,null,null,null,null,null,null,null,null,null,null,null,null,null,null,null,null,null,null,null,null,null,null,null,null,null,null,null,null,null,null,null,null,null,null,null,null,null,null,null,null,null,null,null,null,null,null,{"$f":"IF(V43=\"\",\"\",AL43*AR43)","v":""}]
[]
[]
[]
[null,null,null,null,null,null,null,null,null,null,null,null,null,null,null,null,null,null,null,null,null,null,null,null,null,null,null,null,null,null,null,null,null,null,null,null,null,null,null,null,null,null,null,null,null,null,null,null,{"$f":"IF(V47=\"\",\"\",AL47*AR47)","v":""}]
[]
[]
[]
[null,null,null,null,null,null,null,null,null,null,null,null,null,null,null,null,null,null,null,null,null,null,null,null,null,null,null,null,null,null,null,null,null,null,null,null,null,null,null,null,null,null,null,null,null,null,null,null,{"$f":"IF(V51=\"\",\"\",AL51*AR51)","v":""}]
[]
[]
[]
[null,null,null,null,null,null,null,null,null,null,null,null,null,null,null,null,null,null,null,null,null,null,null,null,null,null,null,null,null,null,null,null,null,null,null,null,null,null,null,null,null,null,null,null,null,null,null,null,{"$f":"IF(V55=\"\",\"\",AL55*AR55)","v":""}]
[]
[]
[]
[null,null,null,null,null,null,null,null,null,null,null,null,null,null,null,null,null,null,null,null,null,null,null,null,null,null,null,null,null,null,null,null,null,null,null,null,null,null,null,null,null,null,null,null,null,null,null,null,{"$f":"IF(V59=\"\",\"\",AL59*AR59)","v":""}]
[]
[]
[]
[null,null,null,null,null,null,null,null,null,null,null,null,null,null,null,null,null,null,null,null,null,null,null,null,null,null,null,null,null,null,null,null,null,null,null,null,null,null,null,null,null,null,null,null,null,null,null,null,{"$f":"IF(V63=\"\",\"\",AL63*AR63)","v":""}]
[]
[]
[]
[null,null,null,null,null,null,null,null,null,null,null,null,null,null,null,null,null,null,null,null,null,null,null,null,null,null,null,null,null,null,null,null,null,null,null,null,null,null,null,null,null,null,null,null,null,null,null,null,{"$f":"IF(V67=\"\",\"\",AL67*AR67)","v":""}]
[]
[]
[]
[null,null,null,null,null,null,null,null,null,null,null,null,null,null,null,null,null,null,null,null,null,null,null,null,null,null,null,null,null,null,null,null,null,null,null,null,null,null,null,null,null,null,null,null,null,null,null,null,{"$f":"IF(V71=\"\",\"\",AL71*AR71)","v":""}]
[]
[]
[]
[null,null,null,null,null,null,null,null,null,null,null,null,null,null,null,null,null,null,null,null,null,null,null,null,null,null,null,null,null,null,null,null,null,null,null,null,null,null,null,null,null,null,null,null,null,null,null,null,{"$f":"IF(V75=\"\",\"\",AL75*AR75)","v":""}]
[]
[]
[]
[null,null,null,null,null,null,null,null,null,null,null,null,null,null,null,null,null,null,null,null,null,null,null,null,null,null,null,null,null,null,null,null,null,null,null,null,null,null,null,null,null,null,null,null,null,null,null,null,{"$f":"IF(V79=\"\",\"\",AL79*AR79)","v":""}]
[]
[]
[]
[null,null,null,null,null,null,null,null,null,null,null,null,null,null,null,null,null,null,null,null,null,null,null,null,null,null,null,null,null,null,null,null,null,null,null,null,null,"値引き等"]
[null,"社長",null,null,null,"専務",null,null,null,null,null,"常務",null,null,null,null,null,"部長･工場長",null,null,null,null,null,null,null,null,"担当者",null,null,null,null,"受付"]
[]
[]
[]
[null,null,null,null,null,null,null,null,null,null,null,null,null,null,null,null,null,null,null,null,null,null,null,null,null,null,null,null,null,null,null,null,null,null,null,null,null,{"$f":"\"合計(\" & IF(税処理=2,\"税込\",\"税抜\")&\")\"","v":"合計(税抜)"},null,null,null,null,null,null,null,null,null,null,{"$f":"IF(AW19=\"\",\"\",SUM(AW19:AW79)+AW83)","v":""}]
[]
[]
[]
[]
[]
[null,null,null,null,null,null,null,null,null,null,null,null,null,null,null,null,null,null,null,"請求明細書 (現場控)"]
[null,"株 式 会 社 種 村 建 設",null,null,null,null,null,null,null,null,null,null,"御中"]
[null,null,null,null,null,null,null,null,null,null,null,null,null,null,null,null,null,null,null,null,null,null,null,null,null,null,null,null,null,null,null,null,null,null,null,null,null,null,null,null,null,"請求年月日",null,null,null,null,{"$f":"IF(AU4=\"\",\"\",AU4)","v":23},null,null,{"$f":"IF(AX4=\"\",\"\",AX4)","v":5},null,null,{"$f":"IF(BA4=\"\",\"\",BA4)","v":31}]
[]
[]
[]
[]
[null,"工事番号",null,null,null,null,{"$f":"IF(G9=\"\",\"\",G9)","v":""},null,null,null,null,null,"工事名",null,null,null,{"$f":"IF(Q9=\"\",\"\",Q9)","v":""},null,null,null,null,null,null,null,null,null,null,null,null,null,null,null,null,null,null,null,null,"業者名",null,null,null,{"$f":"IF(AP9=\"\",\"\",AP9)","v":"例：㈱種村建設"}]
[]
[]
[]
[]
[]
[null,"注文番号",null,null,null,null,{"$f":"IF(G15=\"\",\"\",G15)","v":""},null,null,null,null,null,null,null,null,null,null,"月　日",null,null,null,"摘要･品名",null,null,null,null,null,null,null,null,null,null,null,null,null,null,null,"数 量",null,null,"単位",null,null,"単価",null,null,null,null,{"$f":"\"金額(\" & IF(税処理=2,\"税込\",\"税抜\")&\")\"","v":"金額(税抜)"}]
[]
[]
[]
[null,"契約金額",null,null,null,null,{"$f":"IF(G19=\"\",\"\",G19)","v":""},null,null,null,null,null,null,null,null,null,null,{"$f":"IF(R19=\"\",\"\",R19)","v":""},null,{"$f":"IF(T19=\"\",\"\",T19)","v":""},null,{"$f":"IF(V19=\"\",\"\",V19)","v":""},null,{"$f":"IF(X19=\"\",\"\",X19)","v":""},null,{"$f":"IF(Z19=\"\",\"\",Z19)","v":""},null,{"$f":"IF(AB19=\"\",\"\",AB19)","v":""},null,{"$f":"IF(AD19=\"\",\"\",AD19)","v":""},null,{"$f":"IF(AF19=\"\",\"\",AF19)","v":""},null,{"$f":"IF(AH19=\"\",\"\",AH19)","v":""},null,{"$f":"IF(AJ19=\"\",\"\",AJ19)","v":""},null,{"$f":"IF(AL19=\"\",\"\",AL19)","v":""},null,null,{"$f":"IF(AO19=\"\",\"\",AO19)","v":""},null,null,{"$f":"IF(AR19=\"\",\"\",AR19)","v":""},null,null,null,null,{"$f":"IF(AW19=\"\",\"\",AW19)","v":""}]
[]
[]
[]
[null,"増減額",null,null,null,null,{"$f":"IF(G23=\"\",\"\",G23)","v":""},null,null,null,null,null,null,null,null,null,null,{"$f":"IF(R23=\"\",\"\",R23)","v":""},null,{"$f":"IF(T23=\"\",\"\",T23)","v":""},null,{"$f":"IF(V23=\"\",\"\",V23)","v":""},null,{"$f":"IF(X23=\"\",\"\",X23)","v":""},null,{"$f":"IF(Z23=\"\",\"\",Z23)","v":""},null,{"$f":"IF(AB23=\"\",\"\",AB23)","v":""},null,{"$f":"IF(AD23=\"\",\"\",AD23)","v":""},null,{"$f":"IF(AF23=\"\",\"\",AF23)","v":""},null,{"$f":"IF(AH23=\"\",\"\",AH23)","v":""},null,{"$f":"IF(AJ23=\"\",\"\",AJ23)","v":""},null,{"$f":"IF(AL23=\"\",\"\",AL23)","v":""},null,null,{"$f":"IF(AO23=\"\",\"\",AO23)","v":""},null,null,{"$f":"IF(AR23=\"\",\"\",AR23)","v":""},null,null,null,null,{"$f":"IF(AW23=\"\",\"\",AW23)","v":""}]
[]
[]
[]
[null,"前回までの\n請求額",null,null,null,null,{"$f":"IF(G27=\"\",\"\",G27)","v":""},null,null,null,null,null,null,null,null,null,null,{"$f":"IF(R27=\"\",\"\",R27)","v":""},null,{"$f":"IF(T27=\"\",\"\",T27)","v":""},null,{"$f":"IF(V27=\"\",\"\",V27)","v":""},null,{"$f":"IF(X27=\"\",\"\",X27)","v":""},null,{"$f":"IF(Z27=\"\",\"\",Z27)","v":""},null,{"$f":"IF(AB27=\"\",\"\",AB27)","v":""},null,{"$f":"IF(AD27=\"\",\"\",AD27)","v":""},null,{"$f":"IF(AF27=\"\",\"\",AF27)","v":""},null,{"$f":"IF(AH27=\"\",\"\",AH27)","v":""},null,{"$f":"IF(AJ27=\"\",\"\",AJ27)","v":""},null,{"$f":"IF(AL27=\"\",\"\",AL27)","v":""},null,null,{"$f":"IF(AO27=\"\",\"\",AO27)","v":""},null,null,{"$f":"IF(AR27=\"\",\"\",AR27)","v":""},null,null,null,null,{"$f":"IF(AW27=\"\",\"\",AW27)","v":""}]
[]
[]
[]
[null,"今回\n請求額",null,null,{"$f":"IF(E31=\"\",\"\",E31)","v":""},null,{"$f":"IF(G31=\"\",\"\",G31)","v":""},null,null,null,null,null,null,null,null,null,null,{"$f":"IF(R31=\"\",\"\",R31)","v":""},null,{"$f":"IF(T31=\"\",\"\",T31)","v":""},null,{"$f":"IF(V31=\"\",\"\",V31)","v":""},null,{"$f":"IF(X31=\"\",\"\",X31)","v":""},null,{"$f":"IF(Z31=\"\",\"\",Z31)","v":""},null,{"$f":"IF(AB31=\"\",\"\",AB31)","v":""},null,{"$f":"IF(AD31=\"\",\"\",AD31)","v":""},null,{"$f":"IF(AF31=\"\",\"\",AF31)","v":""},null,{"$f":"IF(AH31=\"\",\"\",AH31)","v":""},null,{"$f":"IF(AJ31=\"\",\"\",AJ31)","v":""},null,{"$f":"IF(AL31=\"\",\"\",AL31)","v":""},null,null,{"$f":"IF(AO31=\"\",\"\",AO31)","v":""},null,null,{"$f":"IF(AR31=\"\",\"\",AR31)","v":""},null,null,null,null,{"$f":"IF(AW31=\"\",\"\",AW31)","v":""}]
[]
[]
[]
[null,"差引残高",null,null,null,null,{"$f":"IF(G111=\"\",\"\",G111+G115-G119-G123)","v":""},null,null,null,null,null,null,null,null,null,null,{"$f":"IF(R35=\"\",\"\",R35)","v":""},null,{"$f":"IF(T35=\"\",\"\",T35)","v":""},null,{"$f":"IF(V35=\"\",\"\",V35)","v":""},null,{"$f":"IF(X35=\"\",\"\",X35)","v":""},null,{"$f":"IF(Z35=\"\",\"\",Z35)","v":""},null,{"$f":"IF(AB35=\"\",\"\",AB35)","v":""},null,{"$f":"IF(AD35=\"\",\"\",AD35)","v":""},null,{"$f":"IF(AF35=\"\",\"\",AF35)","v":""},null,{"$f":"IF(AH35=\"\",\"\",AH35)","v":""},null,{"$f":"IF(AJ35=\"\",\"\",AJ35)","v":""},null,{"$f":"IF(AL35=\"\",\"\",AL35)","v":""},null,null,{"$f":"IF(AO35=\"\",\"\",AO35)","v":""},null,null,{"$f":"IF(AR35=\"\",\"\",AR35)","v":""},null,null,null,null,{"$f":"IF(AW35=\"\",\"\",AW35)","v":""}]
[]
[]
[]
[null,null,null,null,null,null,null,null,null,null,null,null,null,null,null,null,null,{"$f":"IF(R39=\"\",\"\",R39)","v":""},null,{"$f":"IF(T39=\"\",\"\",T39)","v":""},null,{"$f":"IF(V39=\"\",\"\",V39)","v":""},null,{"$f":"IF(X39=\"\",\"\",X39)","v":""},null,{"$f":"IF(Z39=\"\",\"\",Z39)","v":""},null,{"$f":"IF(AB39=\"\",\"\",AB39)","v":""},null,{"$f":"IF(AD39=\"\",\"\",AD39)","v":""},null,{"$f":"IF(AF39=\"\",\"\",AF39)","v":""},null,{"$f":"IF(AH39=\"\",\"\",AH39)","v":""},null,{"$f":"IF(AJ39=\"\",\"\",AJ39)","v":""},null,{"$f":"IF(AL39=\"\",\"\",AL39)","v":""},null,null,{"$f":"IF(AO39=\"\",\"\",AO39)","v":""},null,null,{"$f":"IF(AR39=\"\",\"\",AR39)","v":""},null,null,null,null,{"$f":"IF(AW39=\"\",\"\",AW39)","v":""}]
[]
[]
[]
[null,null,null,null,null,null,null,null,null,null,null,null,null,null,null,null,null,{"$f":"IF(R43=\"\",\"\",R43)","v":""},null,{"$f":"IF(T43=\"\",\"\",T43)","v":""},null,{"$f":"IF(V43=\"\",\"\",V43)","v":""},null,{"$f":"IF(X43=\"\",\"\",X43)","v":""},null,{"$f":"IF(Z43=\"\",\"\",Z43)","v":""},null,{"$f":"IF(AB43=\"\",\"\",AB43)","v":""},null,{"$f":"IF(AD43=\"\",\"\",AD43)","v":""},null,{"$f":"IF(AF43=\"\",\"\",AF43)","v":""},null,{"$f":"IF(AH43=\"\",\"\",AH43)","v":""},null,{"$f":"IF(AJ43=\"\",\"\",AJ43)","v":""},null,{"$f":"IF(AL43=\"\",\"\",AL43)","v":""},null,null,{"$f":"IF(AO43=\"\",\"\",AO43)","v":""},null,null,{"$f":"IF(AR43=\"\",\"\",AR43)","v":""},null,null,null,null,{"$f":"IF(AW43=\"\",\"\",AW43)","v":""}]
[]
[]
[]
[null,null,null,null,null,null,null,null,null,null,null,null,null,null,null,null,null,{"$f":"IF(R47=\"\",\"\",R47)","v":""},null,{"$f":"IF(T47=\"\",\"\",T47)","v":""},null,{"$f":"IF(V47=\"\",\"\",V47)","v":""},null,{"$f":"IF(X47=\"\",\"\",X47)","v":""},null,{"$f":"IF(Z47=\"\",\"\",Z47)","v":""},null,{"$f":"IF(AB47=\"\",\"\",AB47)","v":""},null,{"$f":"IF(AD47=\"\",\"\",AD47)","v":""},null,{"$f":"IF(AF47=\"\",\"\",AF47)","v":""},null,{"$f":"IF(AH47=\"\",\"\",AH47)","v":""},null,{"$f":"IF(AJ47=\"\",\"\",AJ47)","v":""},null,{"$f":"IF(AL47=\"\",\"\",AL47)","v":""},null,null,{"$f":"IF(AO47=\"\",\"\",AO47)","v":""},null,null,{"$f":"IF(AR47=\"\",\"\",AR47)","v":""},null,null,null,null,{"$f":"IF(AW47=\"\",\"\",AW47)","v":""}]
[]
[]
[]
[null,null,null,null,null,null,null,null,null,null,null,null,null,null,null,null,null,{"$f":"IF(R51=\"\",\"\",R51)","v":""},null,{"$f":"IF(T51=\"\",\"\",T51)","v":""},null,{"$f":"IF(V51=\"\",\"\",V51)","v":""},null,{"$f":"IF(X51=\"\",\"\",X51)","v":""},null,{"$f":"IF(Z51=\"\",\"\",Z51)","v":""},null,{"$f":"IF(AB51=\"\",\"\",AB51)","v":""},null,{"$f":"IF(AD51=\"\",\"\",AD51)","v":""},null,{"$f":"IF(AF51=\"\",\"\",AF51)","v":""},null,{"$f":"IF(AH51=\"\",\"\",AH51)","v":""},null,{"$f":"IF(AJ51=\"\",\"\",AJ51)","v":""},null,{"$f":"IF(AL51=\"\",\"\",AL51)","v":""},null,null,{"$f":"IF(AO51=\"\",\"\",AO51)","v":""},null,null,{"$f":"IF(AR51=\"\",\"\",AR51)","v":""},null,null,null,null,{"$f":"IF(AW51=\"\",\"\",AW51)","v":""}]
[]
[]
[]
[null,null,null,null,null,null,null,null,null,null,null,null,null,null,null,null,null,{"$f":"IF(R55=\"\",\"\",R55)","v":""},null,{"$f":"IF(T55=\"\",\"\",T55)","v":""},null,{"$f":"IF(V55=\"\",\"\",V55)","v":""},null,{"$f":"IF(X55=\"\",\"\",X55)","v":""},null,{"$f":"IF(Z55=\"\",\"\",Z55)","v":""},null,{"$f":"IF(AB55=\"\",\"\",AB55)","v":""},null,{"$f":"IF(AD55=\"\",\"\",AD55)","v":""},null,{"$f":"IF(AF55=\"\",\"\",AF55)","v":""},null,{"$f":"IF(AH55=\"\",\"\",AH55)","v":""},null,{"$f":"IF(AJ55=\"\",\"\",AJ55)","v":""},null,{"$f":"IF(AL55=\"\",\"\",AL55)","v":""},null,null,{"$f":"IF(AO55=\"\",\"\",AO55)","v":""},null,null,{"$f":"IF(AR55=\"\",\"\",AR55)","v":""},null,null,null,null,{"$f":"IF(AW55=\"\",\"\",AW55)","v":""}]
[]
[]
[]
[null,null,null,null,null,null,null,null,null,null,null,null,null,null,null,null,null,{"$f":"IF(R59=\"\",\"\",R59)","v":""},null,{"$f":"IF(T59=\"\",\"\",T59)","v":""},null,{"$f":"IF(V59=\"\",\"\",V59)","v":""},null,{"$f":"IF(X59=\"\",\"\",X59)","v":""},null,{"$f":"IF(Z59=\"\",\"\",Z59)","v":""},null,{"$f":"IF(AB59=\"\",\"\",AB59)","v":""},null,{"$f":"IF(AD59=\"\",\"\",AD59)","v":""},null,{"$f":"IF(AF59=\"\",\"\",AF59)","v":""},null,{"$f":"IF(AH59=\"\",\"\",AH59)","v":""},null,{"$f":"IF(AJ59=\"\",\"\",AJ59)","v":""},null,{"$f":"IF(AL59=\"\",\"\",AL59)","v":""},null,null,{"$f":"IF(AO59=\"\",\"\",AO59)","v":""},null,null,{"$f":"IF(AR59=\"\",\"\",AR59)","v":""},null,null,null,null,{"$f":"IF(AW59=\"\",\"\",AW59)","v":""}]
[]
[]
[]
[null,null,null,null,null,null,null,null,null,null,null,null,null,null,null,null,null,{"$f":"IF(R63=\"\",\"\",R63)","v":""},null,{"$f":"IF(T63=\"\",\"\",T63)","v":""},null,{"$f":"IF(V63=\"\",\"\",V63)","v":""},null,{"$f":"IF(X63=\"\",\"\",X63)","v":""},null,{"$f":"IF(Z63=\"\",\"\",Z63)","v":""},null,{"$f":"IF(AB63=\"\",\"\",AB63)","v":""},null,{"$f":"IF(AD63=\"\",\"\",AD63)","v":""},null,{"$f":"IF(AF63=\"\",\"\",AF63)","v":""},null,{"$f":"IF(AH63=\"\",\"\",AH63)","v":""},null,{"$f":"IF(AJ63=\"\",\"\",AJ63)","v":""},null,{"$f":"IF(AL63=\"\",\"\",AL63)","v":""},null,null,{"$f":"IF(AO63=\"\",\"\",AO63)","v":""},null,null,{"$f":"IF(AR63=\"\",\"\",AR63)","v":""},null,null,null,null,{"$f":"IF(AW63=\"\",\"\",AW63)","v":""}]
[]
[]
[]
[null,null,null,null,null,null,null,null,null,null,null,null,null,null,null,null,null,{"$f":"IF(R67=\"\",\"\",R67)","v":""},null,{"$f":"IF(T67=\"\",\"\",T67)","v":""},null,{"$f":"IF(V67=\"\",\"\",V67)","v":""},null,{"$f":"IF(X67=\"\",\"\",X67)","v":""},null,{"$f":"IF(Z67=\"\",\"\",Z67)","v":""},null,{"$f":"IF(AB67=\"\",\"\",AB67)","v":""},null,{"$f":"IF(AD67=\"\",\"\",AD67)","v":""},null,{"$f":"IF(AF67=\"\",\"\",AF67)","v":""},null,{"$f":"IF(AH67=\"\",\"\",AH67)","v":""},null,{"$f":"IF(AJ67=\"\",\"\",AJ67)","v":""},null,{"$f":"IF(AL67=\"\",\"\",AL67)","v":""},null,null,{"$f":"IF(AO67=\"\",\"\",AO67)","v":""},null,null,{"$f":"IF(AR67=\"\",\"\",AR67)","v":""},null,null,null,null,{"$f":"IF(AW67=\"\",\"\",AW67)","v":""}]
[]
[]
[]
[null,null,null,null,null,null,null,null,null,null,null,null,null,null,null,null,null,{"$f":"IF(R71=\"\",\"\",R71)","v":""},null,{"$f":"IF(T71=\"\",\"\",T71)","v":""},null,{"$f":"IF(V71=\"\",\"\",V71)","v":""},null,{"$f":"IF(X71=\"\",\"\",X71)","v":""},null,{"$f":"IF(Z71=\"\",\"\",Z71)","v":""},null,{"$f":"IF(AB71=\"\",\"\",AB71)","v":""},null,{"$f":"IF(AD71=\"\",\"\",AD71)","v":""},null,{"$f":"IF(AF71=\"\",\"\",AF71)","v":""},null,{"$f":"IF(AH71=\"\",\"\",AH71)","v":""},null,{"$f":"IF(AJ71=\"\",\"\",AJ71)","v":""},null,{"$f":"IF(AL71=\"\",\"\",AL71)","v":""},null,null,{"$f":"IF(AO71=\"\",\"\",AO71)","v":""},null,null,{"$f":"IF(AR71=\"\",\"\",AR71)","v":""},null,null,null,null,{"$f":"IF(AW71=\"\",\"\",AW71)","v":""}]
[]
[]
[]
[null,null,null,null,null,null,null,null,null,null,null,null,null,null,null,null,null,{"$f":"IF(R75=\"\",\"\",R75)","v":""},null,{"$f":"IF(T75=\"\",\"\",T75)","v":""},null,{"$f":"IF(V75=\"\",\"\",V75)","v":""},null,{"$f":"IF(X75=\"\",\"\",X75)","v":""},null,{"$f":"IF(Z75=\"\",\"\",Z75)","v":""},null,{"$f":"IF(AB75=\"\",\"\",AB75)","v":""},null,{"$f":"IF(AD75=\"\",\"\",AD75)","v":""},null,{"$f":"IF(AF75=\"\",\"\",AF75)","v":""},null,{"$f":"IF(AH75=\"\",\"\",AH75)","v":""},null,{"$f":"IF(AJ75=\"\",\"\",AJ75)","v":""},null,{"$f":"IF(AL75=\"\",\"\",AL75)","v":""},null,null,{"$f":"IF(AO75=\"\",\"\",AO75)","v":""},null,null,{"$f":"IF(AR75=\"\",\"\",AR75)","v":""},null,null,null,null,{"$f":"IF(AW75=\"\",\"\",AW75)","v":""}]
[]
[]
[]
[null,null,null,null,null,null,null,null,null,null,null,null,null,null,null,null,null,{"$f":"IF(R79=\"\",\"\",R79)","v":""},null,{"$f":"IF(T79=\"\",\"\",T79)","v":""},null,{"$f":"IF(V79=\"\",\"\",V79)","v":""},null,{"$f":"IF(X79=\"\",\"\",X79)","v":""},null,{"$f":"IF(Z79=\"\",\"\",Z79)","v":""},null,{"$f":"IF(AB79=\"\",\"\",AB79)","v":""},null,{"$f":"IF(AD79=\"\",\"\",AD79)","v":""},null,{"$f":"IF(AF79=\"\",\"\",AF79)","v":""},null,{"$f":"IF(AH79=\"\",\"\",AH79)","v":""},null,{"$f":"IF(AJ79=\"\",\"\",AJ79)","v":""},null,{"$f":"IF(AL79=\"\",\"\",AL79)","v":""},null,null,{"$f":"IF(AO79=\"\",\"\",AO79)","v":""},null,null,{"$f":"IF(AR79=\"\",\"\",AR79)","v":""},null,null,null,null,{"$f":"IF(AW79=\"\",\"\",AW79)","v":""}]
[]
[]
[]
[null,null,null,null,null,null,null,null,null,null,null,null,null,null,null,null,null,null,null,null,null,null,null,null,null,null,null,null,null,null,null,null,null,null,null,null,null,"値引き等",null,null,null,null,null,null,null,null,null,null,{"$f":"IF(AW83=\"\",\"\",AW83)","v":""}]
[]
[]
[]
[]
[null,null,null,null,null,null,null,null,null,null,null,null,null,null,null,null,null,null,null,null,null,null,null,null,null,null,null,null,null,null,null,null,null,null,null,null,null,{"$f":"\"合計(\" & IF(税処理=2,\"税込\",\"税抜\")&\")\"","v":"合計(税抜)"},null,null,null,null,null,null,null,null,null,null,{"$f":"IF(AW88=\"\",\"\",AW88)","v":""}]
[]
[]
[]
[]
[]
[null,null,null,null,null,null,null,null,null,null,null,null,null,null,null,null,null,null,null,"請求明細書 (貴社控)"]
[null,"株 式 会 社 種 村 建 設",null,null,null,null,null,null,null,null,null,null,"御中"]
[null,null,null,null,null,null,null,null,null,null,null,null,null,null,null,null,null,null,null,null,null,null,null,null,null,null,null,null,null,null,null,null,null,null,null,null,null,null,null,null,null,"請求年月日",null,null,null,null,{"$f":"IF(AU96=\"\",\"\",AU96)","v":23},null,null,{"$f":"IF(AX96=\"\",\"\",AX96)","v":5},null,null,{"$f":"IF(BA96=\"\",\"\",BA96)","v":31}]
[]
[]
[]
[]
[null,"工事番号",null,null,null,null,{"$f":"IF(G101=\"\",\"\",G101)","v":""},null,null,null,null,null,"工事名",null,null,null,{"$f":"IF(Q101=\"\",\"\",Q101)","v":""},null,null,null,null,null,null,null,null,null,null,null,null,null,null,null,null,null,null,null,null,"業者名",null,null,null,{"$f":"IF(AP101=\"\",\"\",AP101)","v":"例：㈱種村建設"}]
[]
[]
[]
[]
[]
[null,"注文番号",null,null,null,null,{"$f":"IF(G107=\"\",\"\",G107)","v":""},null,null,null,null,null,null,null,null,null,null,"月　日",null,null,null,"摘要･品名",null,null,null,null,null,null,null,null,null,null,null,null,null,null,null,"数 量",null,null,"単位",null,null,"単価",null,null,null,null,{"$f":"\"金額(\" & IF(税処理=2,\"税込\",\"税抜\")&\")\"","v":"金額(税抜)"}]
[]
[]
[]
[null,"契約金額",null,null,null,null,{"$f":"IF(G111=\"\",\"\",G111)","v":""},null,null,null,null,null,null,null,null,null,null,{"$f":"IF(R111=\"\",\"\",R111)","v":""},null,{"$f":"IF(T111=\"\",\"\",T111)","v":""},null,{"$f":"IF(V111=\"\",\"\",V111)","v":""},null,{"$f":"IF(X111=\"\",\"\",X111)","v":""},null,{"$f":"IF(Z111=\"\",\"\",Z111)","v":""},null,{"$f":"IF(AB111=\"\",\"\",AB111)","v":""},null,{"$f":"IF(AD111=\"\",\"\",AD111)","v":""},null,{"$f":"IF(AF111=\"\",\"\",AF111)","v":""},null,{"$f":"IF(AH111=\"\",\"\",AH111)","v":""},null,{"$f":"IF(AJ111=\"\",\"\",AJ111)","v":""},null,{"$f":"IF(AL111=\"\",\"\",AL111)","v":""},null,null,{"$f":"IF(AO111=\"\",\"\",AO111)","v":""},null,null,{"$f":"IF(AR111=\"\",\"\",AR111)","v":""},null,null,null,null,{"$f":"IF(AW111=\"\",\"\",AW111)","v":""}]
[]
[]
[]
[null,"増減額",null,null,null,null,{"$f":"IF(G115=\"\",\"\",G115)","v":""},null,null,null,null,null,null,null,null,null,null,{"$f":"IF(R115=\"\",\"\",R115)","v":""},null,{"$f":"IF(T115=\"\",\"\",T115)","v":""},null,{"$f":"IF(V115=\"\",\"\",V115)","v":""},null,{"$f":"IF(X115=\"\",\"\",X115)","v":""},null,{"$f":"IF(Z115=\"\",\"\",Z115)","v":""},null,{"$f":"IF(AB115=\"\",\"\",AB115)","v":""},null,{"$f":"IF(AD115=\"\",\"\",AD115)","v":""},null,{"$f":"IF(AF115=\"\",\"\",AF115)","v":""},null,{"$f":"IF(AH115=\"\",\"\",AH115)","v":""},null,{"$f":"IF(AJ115=\"\",\"\",AJ115)","v":""},null,{"$f":"IF(AL115=\"\",\"\",AL115)","v":""},null,null,{"$f":"IF(AO115=\"\",\"\",AO115)","v":""},null,null,{"$f":"IF(AR115=\"\",\"\",AR115)","v":""},null,null,null,null,{"$f":"IF(AW115=\"\",\"\",AW115)","v":""}]
[]
[]
[]
[null,"前回までの\n請求額",null,null,null,null,{"$f":"IF(G119=\"\",\"\",G119)","v":""},null,null,null,null,null,null,null,null,null,null,{"$f":"IF(R119=\"\",\"\",R119)","v":""},null,{"$f":"IF(T119=\"\",\"\",T119)","v":""},null,{"$f":"IF(V119=\"\",\"\",V119)","v":""},null,{"$f":"IF(X119=\"\",\"\",X119)","v":""},null,{"$f":"IF(Z119=\"\",\"\",Z119)","v":""},null,{"$f":"IF(AB119=\"\",\"\",AB119)","v":""},null,{"$f":"IF(AD119=\"\",\"\",AD119)","v":""},null,{"$f":"IF(AF119=\"\",\"\",AF119)","v":""},null,{"$f":"IF(AH119=\"\",\"\",AH119)","v":""},null,{"$f":"IF(AJ119=\"\",\"\",AJ119)","v":""},null,{"$f":"IF(AL119=\"\",\"\",AL119)","v":""},null,null,{"$f":"IF(AO119=\"\",\"\",AO119)","v":""},null,null,{"$f":"IF(AR119=\"\",\"\",AR119)","v":""},null,null,null,null,{"$f":"IF(AW119=\"\",\"\",AW119)","v":""}]
[]
[]
[]
[null,"今回\n請求額",null,null,{"$f":"IF(E31=\"\",\"\",E31)","v":""},null,{"$f":"IF(G123=\"\",\"\",G123)","v":""},null,null,null,null,null,null,null,null,null,null,{"$f":"IF(R123=\"\",\"\",R123)","v":""},null,{"$f":"IF(T123=\"\",\"\",T123)","v":""},null,{"$f":"IF(V123=\"\",\"\",V123)","v":""},null,{"$f":"IF(X123=\"\",\"\",X123)","v":""},null,{"$f":"IF(Z123=\"\",\"\",Z123)","v":""},null,{"$f":"IF(AB123=\"\",\"\",AB123)","v":""},null,{"$f":"IF(AD123=\"\",\"\",AD123)","v":""},null,{"$f":"IF(AF123=\"\",\"\",AF123)","v":""},null,{"$f":"IF(AH123=\"\",\"\",AH123)","v":""},null,{"$f":"IF(AJ123=\"\",\"\",AJ123)","v":""},null,{"$f":"IF(AL123=\"\",\"\",AL123)","v":""},null,null,{"$f":"IF(AO123=\"\",\"\",AO123)","v":""},null,null,{"$f":"IF(AR123=\"\",\"\",AR123)","v":""},null,null,null,null,{"$f":"IF(AW123=\"\",\"\",AW123)","v":""}]
[]
[]
[]
[null,"差引残高",null,null,null,null,{"$f":"IF(G203=\"\",\"\",G203+G207-G211-G215)","v":""},null,null,null,null,null,null,null,null,null,null,{"$f":"IF(R127=\"\",\"\",R127)","v":""},null,{"$f":"IF(T127=\"\",\"\",T127)","v":""},null,{"$f":"IF(V127=\"\",\"\",V127)","v":""},null,{"$f":"IF(X127=\"\",\"\",X127)","v":""},null,{"$f":"IF(Z127=\"\",\"\",Z127)","v":""},null,{"$f":"IF(AB127=\"\",\"\",AB127)","v":""},null,{"$f":"IF(AD127=\"\",\"\",AD127)","v":""},null,{"$f":"IF(AF127=\"\",\"\",AF127)","v":""},null,{"$f":"IF(AH127=\"\",\"\",AH127)","v":""},null,{"$f":"IF(AJ127=\"\",\"\",AJ127)","v":""},null,{"$f":"IF(AL127=\"\",\"\",AL127)","v":""},null,null,{"$f":"IF(AO127=\"\",\"\",AO127)","v":""},null,null,{"$f":"IF(AR127=\"\",\"\",AR127)","v":""},null,null,null,null,{"$f":"IF(AW127=\"\",\"\",AW127)","v":""}]
[]
[]
[]
[null,null,null,null,null,null,null,null,null,null,null,null,null,null,null,null,null,{"$f":"IF(R131=\"\",\"\",R131)","v":""},null,{"$f":"IF(T131=\"\",\"\",T131)","v":""},null,{"$f":"IF(V131=\"\",\"\",V131)","v":""},null,{"$f":"IF(X131=\"\",\"\",X131)","v":""},null,{"$f":"IF(Z131=\"\",\"\",Z131)","v":""},null,{"$f":"IF(AB131=\"\",\"\",AB131)","v":""},null,{"$f":"IF(AD131=\"\",\"\",AD131)","v":""},null,{"$f":"IF(AF131=\"\",\"\",AF131)","v":""},null,{"$f":"IF(AH131=\"\",\"\",AH131)","v":""},null,{"$f":"IF(AJ131=\"\",\"\",AJ131)","v":""},null,{"$f":"IF(AL131=\"\",\"\",AL131)","v":""},null,null,{"$f":"IF(AO131=\"\",\"\",AO131)","v":""},null,null,{"$f":"IF(AR131=\"\",\"\",AR131)","v":""},null,null,null,null,{"$f":"IF(AW131=\"\",\"\",AW131)","v":""}]
[]
[]
[]
[null,null,null,null,null,null,null,null,null,null,null,null,null,null,null,null,null,{"$f":"IF(R135=\"\",\"\",R135)","v":""},null,{"$f":"IF(T135=\"\",\"\",T135)","v":""},null,{"$f":"IF(V135=\"\",\"\",V135)","v":""},null,{"$f":"IF(X135=\"\",\"\",X135)","v":""},null,{"$f":"IF(Z135=\"\",\"\",Z135)","v":""},null,{"$f":"IF(AB135=\"\",\"\",AB135)","v":""},null,{"$f":"IF(AD135=\"\",\"\",AD135)","v":""},null,{"$f":"IF(AF135=\"\",\"\",AF135)","v":""},null,{"$f":"IF(AH135=\"\",\"\",AH135)","v":""},null,{"$f":"IF(AJ135=\"\",\"\",AJ135)","v":""},null,{"$f":"IF(AL135=\"\",\"\",AL135)","v":""},null,null,{"$f":"IF(AO135=\"\",\"\",AO135)","v":""},null,null,{"$f":"IF(AR135=\"\",\"\",AR135)","v":""},null,null,null,null,{"$f":"IF(AW135=\"\",\"\",AW135)","v":""}]
[]
[]
[]
[null,null,null,null,null,null,null,null,null,null,null,null,null,null,null,null,null,{"$f":"IF(R139=\"\",\"\",R139)","v":""},null,{"$f":"IF(T139=\"\",\"\",T139)","v":""},null,{"$f":"IF(V139=\"\",\"\",V139)","v":""},null,{"$f":"IF(X139=\"\",\"\",X139)","v":""},null,{"$f":"IF(Z139=\"\",\"\",Z139)","v":""},null,{"$f":"IF(AB139=\"\",\"\",AB139)","v":""},null,{"$f":"IF(AD139=\"\",\"\",AD139)","v":""},null,{"$f":"IF(AF139=\"\",\"\",AF139)","v":""},null,{"$f":"IF(AH139=\"\",\"\",AH139)","v":""},null,{"$f":"IF(AJ139=\"\",\"\",AJ139)","v":""},null,{"$f":"IF(AL139=\"\",\"\",AL139)","v":""},null,null,{"$f":"IF(AO139=\"\",\"\",AO139)","v":""},null,null,{"$f":"IF(AR139=\"\",\"\",AR139)","v":""},null,null,null,null,{"$f":"IF(AW139=\"\",\"\",AW139)","v":""}]
[]
[]
[]
[null,null,null,null,null,null,null,null,null,null,null,null,null,null,null,null,null,{"$f":"IF(R143=\"\",\"\",R143)","v":""},null,{"$f":"IF(T143=\"\",\"\",T143)","v":""},null,{"$f":"IF(V143=\"\",\"\",V143)","v":""},null,{"$f":"IF(X143=\"\",\"\",X143)","v":""},null,{"$f":"IF(Z143=\"\",\"\",Z143)","v":""},null,{"$f":"IF(AB143=\"\",\"\",AB143)","v":""},null,{"$f":"IF(AD143=\"\",\"\",AD143)","v":""},null,{"$f":"IF(AF143=\"\",\"\",AF143)","v":""},null,{"$f":"IF(AH143=\"\",\"\",AH143)","v":""},null,{"$f":"IF(AJ143=\"\",\"\",AJ143)","v":""},null,{"$f":"IF(AL143=\"\",\"\",AL143)","v":""},null,null,{"$f":"IF(AO143=\"\",\"\",AO143)","v":""},null,null,{"$f":"IF(AR143=\"\",\"\",AR143)","v":""},null,null,null,null,{"$f":"IF(AW143=\"\",\"\",AW143)","v":""}]
[]
[]
[]
[null,null,null,null,null,null,null,null,null,null,null,null,null,null,null,null,null,{"$f":"IF(R147=\"\",\"\",R147)","v":""},null,{"$f":"IF(T147=\"\",\"\",T147)","v":""},null,{"$f":"IF(V147=\"\",\"\",V147)","v":""},null,{"$f":"IF(X147=\"\",\"\",X147)","v":""},null,{"$f":"IF(Z147=\"\",\"\",Z147)","v":""},null,{"$f":"IF(AB147=\"\",\"\",AB147)","v":""},null,{"$f":"IF(AD147=\"\",\"\",AD147)","v":""},null,{"$f":"IF(AF147=\"\",\"\",AF147)","v":""},null,{"$f":"IF(AH147=\"\",\"\",AH147)","v":""},null,{"$f":"IF(AJ147=\"\",\"\",AJ147)","v":""},null,{"$f":"IF(AL147=\"\",\"\",AL147)","v":""},null,null,{"$f":"IF(AO147=\"\",\"\",AO147)","v":""},null,null,{"$f":"IF(AR147=\"\",\"\",AR147)","v":""},null,null,null,null,{"$f":"IF(AW147=\"\",\"\",AW147)","v":""}]
[]
[]
[]
[null,null,null,null,null,null,null,null,null,null,null,null,null,null,null,null,null,{"$f":"IF(R151=\"\",\"\",R151)","v":""},null,{"$f":"IF(T151=\"\",\"\",T151)","v":""},null,{"$f":"IF(V151=\"\",\"\",V151)","v":""},null,{"$f":"IF(X151=\"\",\"\",X151)","v":""},null,{"$f":"IF(Z151=\"\",\"\",Z151)","v":""},null,{"$f":"IF(AB151=\"\",\"\",AB151)","v":""},null,{"$f":"IF(AD151=\"\",\"\",AD151)","v":""},null,{"$f":"IF(AF151=\"\",\"\",AF151)","v":""},null,{"$f":"IF(AH151=\"\",\"\",AH151)","v":""},null,{"$f":"IF(AJ151=\"\",\"\",AJ151)","v":""},null,{"$f":"IF(AL151=\"\",\"\",AL151)","v":""},null,null,{"$f":"IF(AO151=\"\",\"\",AO151)","v":""},null,null,{"$f":"IF(AR151=\"\",\"\",AR151)","v":""},null,null,null,null,{"$f":"IF(AW151=\"\",\"\",AW151)","v":""}]
[]
[]
[]
[null,null,null,null,null,null,null,null,null,null,null,null,null,null,null,null,null,{"$f":"IF(R155=\"\",\"\",R155)","v":""},null,{"$f":"IF(T155=\"\",\"\",T155)","v":""},null,{"$f":"IF(V155=\"\",\"\",V155)","v":""},null,{"$f":"IF(X155=\"\",\"\",X155)","v":""},null,{"$f":"IF(Z155=\"\",\"\",Z155)","v":""},null,{"$f":"IF(AB155=\"\",\"\",AB155)","v":""},null,{"$f":"IF(AD155=\"\",\"\",AD155)","v":""},null,{"$f":"IF(AF155=\"\",\"\",AF155)","v":""},null,{"$f":"IF(AH155=\"\",\"\",AH155)","v":""},null,{"$f":"IF(AJ155=\"\",\"\",AJ155)","v":""},null,{"$f":"IF(AL155=\"\",\"\",AL155)","v":""},null,null,{"$f":"IF(AO155=\"\",\"\",AO155)","v":""},null,null,{"$f":"IF(AR155=\"\",\"\",AR155)","v":""},null,null,null,null,{"$f":"IF(AW155=\"\",\"\",AW155)","v":""}]
[]
[]
[]
[null,null,null,null,null,null,null,null,null,null,null,null,null,null,null,null,null,{"$f":"IF(R159=\"\",\"\",R159)","v":""},null,{"$f":"IF(T159=\"\",\"\",T159)","v":""},null,{"$f":"IF(V159=\"\",\"\",V159)","v":""},null,{"$f":"IF(X159=\"\",\"\",X159)","v":""},null,{"$f":"IF(Z159=\"\",\"\",Z159)","v":""},null,{"$f":"IF(AB159=\"\",\"\",AB159)","v":""},null,{"$f":"IF(AD159=\"\",\"\",AD159)","v":""},null,{"$f":"IF(AF159=\"\",\"\",AF159)","v":""},null,{"$f":"IF(AH159=\"\",\"\",AH159)","v":""},null,{"$f":"IF(AJ159=\"\",\"\",AJ159)","v":""},null,{"$f":"IF(AL159=\"\",\"\",AL159)","v":""},null,null,{"$f":"IF(AO159=\"\",\"\",AO159)","v":""},null,null,{"$f":"IF(AR159=\"\",\"\",AR159)","v":""},null,null,null,null,{"$f":"IF(AW159=\"\",\"\",AW159)","v":""}]
[]
[]
[]
[null,null,null,null,null,null,null,null,null,null,null,null,null,null,null,null,null,{"$f":"IF(R163=\"\",\"\",R163)","v":""},null,{"$f":"IF(T163=\"\",\"\",T163)","v":""},null,{"$f":"IF(V163=\"\",\"\",V163)","v":""},null,{"$f":"IF(X163=\"\",\"\",X163)","v":""},null,{"$f":"IF(Z163=\"\",\"\",Z163)","v":""},null,{"$f":"IF(AB163=\"\",\"\",AB163)","v":""},null,{"$f":"IF(AD163=\"\",\"\",AD163)","v":""},null,{"$f":"IF(AF163=\"\",\"\",AF163)","v":""},null,{"$f":"IF(AH163=\"\",\"\",AH163)","v":""},null,{"$f":"IF(AJ163=\"\",\"\",AJ163)","v":""},null,{"$f":"IF(AL163=\"\",\"\",AL163)","v":""},null,null,{"$f":"IF(AO163=\"\",\"\",AO163)","v":""},null,null,{"$f":"IF(AR163=\"\",\"\",AR163)","v":""},null,null,null,null,{"$f":"IF(AW163=\"\",\"\",AW163)","v":""}]
[]
[]
[]
[null,null,null,null,null,null,null,null,null,null,null,null,null,null,null,null,null,{"$f":"IF(R167=\"\",\"\",R167)","v":""},null,{"$f":"IF(T167=\"\",\"\",T167)","v":""},null,{"$f":"IF(V167=\"\",\"\",V167)","v":""},null,{"$f":"IF(X167=\"\",\"\",X167)","v":""},null,{"$f":"IF(Z167=\"\",\"\",Z167)","v":""},null,{"$f":"IF(AB167=\"\",\"\",AB167)","v":""},null,{"$f":"IF(AD167=\"\",\"\",AD167)","v":""},null,{"$f":"IF(AF167=\"\",\"\",AF167)","v":""},null,{"$f":"IF(AH167=\"\",\"\",AH167)","v":""},null,{"$f":"IF(AJ167=\"\",\"\",AJ167)","v":""},null,{"$f":"IF(AL167=\"\",\"\",AL167)","v":""},null,null,{"$f":"IF(AO167=\"\",\"\",AO167)","v":""},null,null,{"$f":"IF(AR167=\"\",\"\",AR167)","v":""},null,null,null,null,{"$f":"IF(AW167=\"\",\"\",AW167)","v":""}]
[]
[]
[]
[null,null,null,null,null,null,null,null,null,null,null,null,null,null,null,null,null,{"$f":"IF(R171=\"\",\"\",R171)","v":""},null,{"$f":"IF(T171=\"\",\"\",T171)","v":""},null,{"$f":"IF(V171=\"\",\"\",V171)","v":""},null,{"$f":"IF(X171=\"\",\"\",X171)","v":""},null,{"$f":"IF(Z171=\"\",\"\",Z171)","v":""},null,{"$f":"IF(AB171=\"\",\"\",AB171)","v":""},null,{"$f":"IF(AD171=\"\",\"\",AD171)","v":""},null,{"$f":"IF(AF171=\"\",\"\",AF171)","v":""},null,{"$f":"IF(AH171=\"\",\"\",AH171)","v":""},null,{"$f":"IF(AJ171=\"\",\"\",AJ171)","v":""},null,{"$f":"IF(AL171=\"\",\"\",AL171)","v":""},null,null,{"$f":"IF(AO171=\"\",\"\",AO171)","v":""},null,null,{"$f":"IF(AR171=\"\",\"\",AR171)","v":""},null,null,null,null,{"$f":"IF(AW171=\"\",\"\",AW171)","v":""}]
[]
[]
[]
[null,null,null,null,null,null,null,null,null,null,null,null,null,null,null,null,null,null,null,null,null,null,null,null,null,null,null,null,null,null,null,null,null,null,null,null,null,"値引き等",null,null,null,null,null,null,null,null,null,null,{"$f":"IF(AW175=\"\",\"\",AW175)","v":""}]
[]
[]
[]
[]
[null,null,null,null,null,null,null,null,null,null,null,null,null,null,null,null,null,null,null,null,null,null,null,null,null,null,null,null,null,null,null,null,null,null,null,null,null,{"$f":"\"合計(\" & IF(税処理=2,\"税込\",\"税抜\")&\")\"","v":"合計(税抜)"},null,null,null,null,null,null,null,null,null,null,{"$f":"IF(AW180=\"\",\"\",AW180)","v":""}]